Workbook
Name apr: OFFSET(Data!$I$3,,,COUNTA(Data!$A:$A)-2)
Name aug: OFFSET(Data!$M$3,,,COUNTA(Data!$A:$A)-2)
Name dates: OFFSET(Diagrams!$F$9,,,COUNTIF(Data!$B:$B,Diagrams!$A$2),12)
Name dec: OFFSET(Data!$Q$3,,,COUNTA(Data!$A:$A)-2)
Name feb: OFFSET(Data!$G$3,,,COUNTA(Data!$A:$A)-2)
Name jan: OFFSET(Data!$F$3,,,COUNTA(Data!$A:$A)-2)
Name jul: OFFSET(Data!$L$3,,,COUNTA(Data!$A:$A)-2)
Name jun: OFFSET(Data!$K$3,,,COUNTA(Data!$A:$A)-2)
Name labels: OFFSET(Diagrams!$C$9,,,COUNTIF(Data!$B:$B,Diagrams!$A$2),1)
Name mar: OFFSET(Data!$H$3,,,COUNTA(Data!$A:$A)-2)
Name may: OFFSET(Data!$J$3,,,COUNTA(Data!$A:$A)-2)
Name met: OFFSET(Data!$E$3,,,COUNTA(Data!$A:$A)-2)
Name nextjan: OFFSET(Data!$R$3,,,COUNTA(Data!$A:$A)-2)
Name nov: OFFSET(Data!$P$3,,,COUNTA(Data!$A:$A)-2)
Name oct: OFFSET(Data!$O$3,,,COUNTA(Data!$A:$A)-2)
Name sep: OFFSET(Data!$N$3,,,COUNTA(Data!$A:$A)-2)
Name target: OFFSET(Data!$D$3,,,COUNTA(Data!$A:$A)-2)

Sheet Data
A1: Table1 | F1: Monthly update
A2: BU | B2: Project | C2: Milestone Name / short description | D2: Initial Target | E2: Completion date | F2: 41275 | G2: 41306 | H2: 41334 | I2: 41365 | J2: 41395 | K2: 41426 | L2: 41456 | M2: 41487 | N2: 41518 | O2: 41548 | P2: 41579 | Q2: 41609 | R2: 41640 | S2: 41671
A3: BU1 | B3: Project 1 | C3: Milestone 1 | D3: 41304 | E3: =R3 -> 41304 | F3: 41304 | G3: =F3 -> 41304 | H3: =G3 -> 41304 | I3: =H3 -> 41304 | J3: =I3 -> 41304 | K3: =J3 -> 41304 | L3: =K3 -> 41304 | M3: =L3 -> 41304 | N3: =M3 -> 41304 | ... R3: =Q3 -> 41304
A4: BU1 | B4: Project 1 | C4: Milestone 2 | D4: 41394 | E4: =R4 -> 41394 | F4: 41394 | G4: =F4 -> 41394 | H4: =G4 -> 41394 | I4: =H4 -> 41394 | J4: =I4 -> 41394 | K4: =J4 -> 41394 | L4: =K4 -> 41394 | M4: =L4 -> 41394 | N4: =M4 -> 41394 | ... R4: =Q4 -> 41394
A5: BU1 | B5: Project 1 | C5: Milestone 3 | D5: 41394 | E5: =R5 -> 41394 | F5: 41394 | G5: =F5 -> 41394 | H5: =G5 -> 41394 | I5: =H5 -> 41394 | J5: =I5 -> 41394 | K5: =J5 -> 41394 | L5: =K5 -> 41394 | M5: =L5 -> 41394 | N5: =M5 -> 41394 | ... R5: =Q5 -> 41394
A6: BU1 | B6: Project 1 | C6: Milestone 4 | D6: 41455 | E6: =R6 -> 41455 | F6: 41455 | G6: =F6 -> 41455 | H6: =G6 -> 41455 | I6: =H6 -> 41455 | J6: =I6 -> 41455 | K6: =J6 -> 41455 | L6: =K6 -> 41455 | M6: =L6 -> 41455 | N6: =M6 -> 41455 | ... R6: =Q6 -> 41455
A7: BU1 | B7: Project 1 | C7: Milestone 5 | D7: 41608 | E7: =R7 -> 41608 | F7: 41608 | G7: =F7 -> 41608 | H7: =G7 -> 41608 | I7: =H7 -> 41608 | J7: =I7 -> 41608 | K7: =J7 -> 41608 | L7: =K7 -> 41608 | M7: =L7 -> 41608 | N7: =M7 -> 41608 | ... R7: =Q7 -> 41608
A8: BU1 | B8: Project 1 | C8: Milestone 6 | D8: 41639 | E8: =R8 -> 41639 | F8: 41639 | G8: =F8 -> 41639 | H8: =G8 -> 41639 | I8: =H8 -> 41639 | J8: =I8 -> 41639 | K8: =J8 -> 41639 | L8: =K8 -> 41639 | M8: =L8 -> 41639 | N8: =M8 -> 41639 | ... R8: =Q8 -> 41639
A9: BU1 | B9: Project 1 | C9: Milestone 7 | D9: 41639 | E9: =R9 -> 41639 | F9: 41639 | G9: =F9 -> 41639 | H9: =G9 -> 41639 | I9: =H9 -> 41639 | J9: =I9 -> 41639 | K9: =J9 -> 41639 | L9: =K9 -> 41639 | M9: =L9 -> 41639 | N9: =M9 -> 41639 | ... R9: =Q9 -> 41639
A10: BU1 | B10: Project 1 | C10: Milestone 8 | D10: 41425 | E10: =R10 -> 41425 | F10: 41425 | G10: =F10 -> 41425 | H10: =G10 -> 41425 | I10: =H10 -> 41425 | J10: =I10 -> 41425 | K10: =J10 -> 41425 | L10: =K10 -> 41425 | M10: =L10 -> 41425 | N10: =M10 -> 41425 | ... R10: =Q10 -> 41425
A11: BU1 | B11: Project 1 | C11: Milestone 9 | D11: 41547 | E11: =R11 -> 41547 | F11: 41547 | G11: =F11 -> 41547 | H11: =G11 -> 41547 | I11: =H11 -> 41547 | J11: =I11 -> 41547 | K11: =J11 -> 41547 | L11: =K11 -> 41547 | M11: =L11 -> 41547 | N11: =M11 -> 41547 | ... R11: =Q11 -> 41547
A12: BU1 | B12: Project 2 | C12: Milestone 10 | D12: 41365 | E12: =R12 -> 41365 | F12: 41365 | G12: =F12 -> 41365 | H12: =G12 -> 41365 | I12: =H12 -> 41365 | J12: =I12 -> 41365 | K12: =J12 -> 41365 | L12: =K12 -> 41365 | M12: =L12 -> 41365 | N12: =M12 -> 41365 | ... R12: =Q12 -> 41365
A13: BU1 | B13: Project 2 | C13: Milestone 11 | D13: 41365 | E13: =R13 -> 41365 | F13: 41365 | G13: =F13 -> 41365 | H13: =G13 -> 41365 | I13: =H13 -> 41365 | J13: =I13 -> 41365 | K13: =J13 -> 41365 | L13: =K13 -> 41365 | M13: =L13 -> 41365 | N13: =M13 -> 41365 | ... R13: =Q13 -> 41365
A14: BU1 | B14: Project 2 | C14: Milestone 12 | D14: 41456 | E14: =R14 -> 41456 | F14: 41456 | G14: =F14 -> 41456 | H14: =G14 -> 41456 | I14: =H14 -> 41456 | J14: =I14 -> 41456 | K14: =J14 -> 41456 | L14: =K14 -> 41456 | M14: =L14 -> 41456 | N14: =M14 -> 41456 | ... R14: =Q14 -> 41456
... A16: BU1 | B16: Project 2 | C16: Milestone 14 | D16: 41609 | E16: =R16 -> 41609 | F16: 41609 | G16: =F16 -> 41609 | H16: =G16 -> 41609 | I16: =H16 -> 41609 | J16: =I16 -> 41609 | K16: =J16 -> 41609 | L16: =K16 -> 41609 | M16: =L16 -> 41609 | N16: =M16 -> 41609 | ... R16: =Q16 -> 41609
A17: BU1 | B17: Project 3 | C17: Milestone 15 | D17: 41363 | E17: =R17 -> 41394 | F17: 41363 | G17: 41394 | H17: =G17 -> 41394 | I17: =H17 -> 41394 | J17: =I17 -> 41394 | K17: =J17 -> 41394 | L17: =K17 -> 41394 | M17: =L17 -> 41394 | N17: =M17 -> 41394 | O17: =N17 -> 41394 | ... R17: =Q17 -> 41394
A18: BU1 | B18: Project 3 | C18: Milestone 16 | D18: 41394 | E18: =R18 -> 41394 | F18: 41394 | G18: 41394 | H18: 41394 | I18: 41394 | J18: 41394 | K18: 41394 | L18: 41394 | M18: 41394 | N18: 41394 | O18: 41394 | P18: 41394 | Q18: 41394 | R18: =Q18 -> 41394
A19: BU1 | B19: Project 3 | C19: Milestone 17 | D19: 41394 | E19: =R19 -> 41394 | F19: 41394 | G19: 41394 | H19: 41394 | I19: 41394 | J19: 41394 | K19: 41394 | L19: 41394 | M19: 41394 | N19: 41394 | O19: 41394 | P19: 41394 | Q19: 41394 | R19: =Q19 -> 41394
A20: BU1 | B20: Project 3 | C20: Milestone 18 | D20: 41485 | E20: =R20 -> 41485 | F20: 41485 | G20: 41485 | H20: 41485 | I20: 41485 | J20: 41485 | K20: 41485 | L20: 41485 | M20: 41485 | N20: 41485 | O20: 41485 | P20: 41485 | Q20: 41485 | R20: =Q20 -> 41485
A21: BU1 | B21: Project 3 | C21: Milestone 19 | D21: 41485 | E21: =R21+24 -> 41540 | F21: 41485 | G21: 41485 | H21: 41485 | I21: 41485 | J21: 41485 | K21: 41485 | L21: 41485 | M21: 41516 | N21: =M21 -> 41516 | O21: =N21 -> 41516 | P21: =O21 -> 41516 | Q21: =P21 -> 41516 | R21: =Q21 -> 41516
A22: BU1 | B22: Project 3 | C22: Milestone 20 | D22: 41547 | E22: =R22 -> 41547 | F22: 41547 | G22: 41547 | H22: 41547 | I22: 41547 | J22: 41547 | K22: 41547 | L22: 41547 | M22: 41547 | N22: 41547 | O22: 41547 | P22: 41547 | Q22: 41547 | R22: =Q22 -> 41547
A23: BU1 | B23: Project 3 | C23: Milestone 21 | D23: 41639 | E23: =R23 -> 41639 | F23: 41639 | G23: 41639 | H23: 41639 | I23: 41639 | J23: 41639 | K23: 41639 | L23: 41639 | M23: 41639 | N23: 41639 | O23: 41639 | P23: 41639 | Q23: 41639 | R23: =Q23 -> 41639
A24: BU1 | B24: Project 4 | C24: Milestone 22 | D24: 41367 | E24: =R24 -> 31/04/2013 | F24: 31/04/2013 | G24: =F24 -> 31/04/2013 | H24: =G24 -> 31/04/2013 | I24: =H24 -> 31/04/2013 | J24: =I24 -> 31/04/2013 | K24: =J24 -> 31/04/2013 | L24: =K24 -> 31/04/2013 | M24: =L24 -> 31/04/2013 | N24: =M24 -> 31/04/2013 | ... R24: =Q24 -> 31/04/2013
A25: BU1 | B25: Project 4 | C25: Milestone 23 | D25: 41458 | E25: =R25 -> 41486 | F25: 41486 | G25: =F25 -> 41486 | H25: =G25 -> 41486 | I25: =H25 -> 41486 | J25: =I25 -> 41486 | K25: =J25 -> 41486 | L25: =K25 -> 41486 | M25: =L25 -> 41486 | N25: =M25 -> 41486 | ... R25: =Q25 -> 41486
A26: BU1 | B26: Project 4 | C26: Milestone 24 | D26: 41458 | E26: =R26 -> 41485 | F26: 41485 | G26: =F26 -> 41485 | H26: =G26 -> 41485 | I26: =H26 -> 41485 | J26: =I26 -> 41485 | K26: =J26 -> 41485 | L26: =K26 -> 41485 | M26: =L26 -> 41485 | N26: =M26 -> 41485 | ... R26: =Q26 -> 41485
A27: BU1 | B27: Project 4 | C27: Milestone 25 | D27: 41428 | E27: =R27 -> 41455 | F27: 41455 | G27: =F27 -> 41455 | H27: =G27 -> 41455 | I27: =H27 -> 41455 | J27: =I27 -> 41455 | K27: =J27 -> 41455 | L27: =K27 -> 41455 | M27: =L27 -> 41455 | N27: =M27 -> 41455 | ... R27: =Q27 -> 41455
A28: BU2 | B28: Project 5 | C28: Milestone 26 | D28: 41333 | E28: =R28 -> 41333 | F28: 41333 | G28: =F28 -> 41333 | H28: =G28 -> 41333 | I28: =H28 -> 41333 | J28: =I28 -> 41333 | K28: =J28 -> 41333 | L28: =K28 -> 41333 | M28: =L28 -> 41333 | N28: =M28 -> 41333 | ... R28: =Q28 -> 41333
A29: BU2 | B29: Project 5 | C29: Milestone 27 | D29: 41364 | E29: =R29 -> 41364 | F29: 41364 | G29: =F29 -> 41364 | H29: =G29 -> 41364 | I29: =H29 -> 41364 | J29: =I29 -> 41364 | K29: =J29 -> 41364 | L29: =K29 -> 41364 | M29: =L29 -> 41364 | N29: =M29 -> 41364 | ... R29: =Q29 -> 41364
A30: BU2 | B30: Project 5 | C30: Milestone 28 | D30: 41455 | E30: =R30 -> 41455 | F30: 41455 | G30: =F30 -> 41455 | H30: =G30 -> 41455 | I30: =H30 -> 41455 | J30: =I30 -> 41455 | K30: =J30 -> 41455 | L30: =K30 -> 41455 | M30: =L30 -> 41455 | N30: =M30 -> 41455 | ... R30: =Q30 -> 41455
A31: BU2 | B31: Project 5 | C31: Milestone 29 | D31: 41547 | E31: =R31 -> 41547 | F31: 41547 | G31: =F31 -> 41547 | H31: =G31 -> 41547 | I31: =H31 -> 41547 | J31: =I31 -> 41547 | K31: =J31 -> 41547 | L31: =K31 -> 41547 | M31: =L31 -> 41547 | N31: =M31 -> 41547 | ... R31: =Q31 -> 41547
A32: BU2 | B32: Project 5 | C32: Milestone 30 | D32: 41608 | E32: =R32 -> 41608 | F32: 41608 | G32: =F32 -> 41608 | H32: =G32 -> 41608 | I32: =H32 -> 41608 | J32: =I32 -> 41608 | K32: =J32 -> 41608 | L32: =K32 -> 41608 | M32: =L32 -> 41608 | N32: =M32 -> 41608 | ... R32: =Q32 -> 41608
A33: BU2 | B33: Project 6 | C33: Milestone 31 | D33: 41578 | E33: =R33 -> 41524 | F33: 41578 | G33: =F33 -> 41578 | H33: =G33 -> 41578 | I33: =H33 -> 41578 | J33: =I33 -> 41578 | K33: =J33 -> 41578 | L33: =K33 -> 41578 | M33: =L33 -> 41578 | N33: =M33-54 -> 41524 | O33: =N33 -> 41524 | P33: =O33 -> 41524 | Q33: =P33 -> 41524 | R33: =Q33 -> 41524
A34: BU2 | B34: Project 6 | C34: Milestone 32 | D34: 41486 | E34: =R34 -> 41432 | F34: 41486 | G34: =F34 -> 41486 | H34: =G34 -> 41486 | I34: =H34 -> 41486 | J34: =I34 -> 41486 | K34: =J34 -> 41486 | L34: =K34 -> 41486 | M34: =L34 -> 41486 | N34: =M34-54 -> 41432 | O34: =N34 -> 41432 | P34: =O34 -> 41432 | Q34: =P34 -> 41432 | R34: =Q34 -> 41432
A35: BU2 | B35: Project 6 | C35: Milestone 33 | D35: 41628 | E35: =R35 -> 41574 | F35: 41628 | G35: =F35 -> 41628 | H35: =G35 -> 41628 | I35: =H35 -> 41628 | J35: =I35 -> 41628 | K35: =J35 -> 41628 | L35: =K35 -> 41628 | M35: =L35 -> 41628 | N35: =M35-54 -> 41574 | O35: =N35 -> 41574 | P35: =O35 -> 41574 | Q35: =P35 -> 41574 | R35: =Q35 -> 41574
A36: BU2 | B36: Project 6 | C36: Milestone 34 | D36: 41628 | E36: =R36 -> 41574 | F36: 41628 | G36: =F36 -> 41628 | H36: =G36 -> 41628 | I36: =H36 -> 41628 | J36: =I36 -> 41628 | K36: =J36 -> 41628 | L36: =K36 -> 41628 | M36: =L36 -> 41628 | N36: =M36-54 -> 41574 | O36: =N36 -> 41574 | P36: =O36 -> 41574 | Q36: =P36 -> 41574 | R36: =Q36 -> 41574
A37: BU2 | B37: Project 6 | C37: Milestone 35 | D37: 41572 | E37: =R37 -> 41518 | F37: 41572 | G37: =F37 -> 41572 | H37: =G37 -> 41572 | I37: =H37 -> 41572 | J37: =I37 -> 41572 | K37: =J37 -> 41572 | L37: =K37 -> 41572 | M37: =L37 -> 41572 | N37: =M37-54 -> 41518 | O37: =N37 -> 41518 | P37: =O37 -> 41518 | Q37: =P37 -> 41518 | R37: =Q37 -> 41518
A38: BU2 | B38: Project 6 | C38: Milestone 36 | D38: 41364 | E38: =R38 -> 41310 | F38: 41364 | G38: =F38 -> 41364 | H38: =G38 -> 41364 | I38: =H38 -> 41364 | J38: =I38 -> 41364 | K38: =J38 -> 41364 | L38: =K38 -> 41364 | M38: =L38 -> 41364 | N38: =M38-54 -> 41310 | O38: =N38 -> 41310 | P38: =O38 -> 41310 | Q38: =P38 -> 41310 | R38: =Q38 -> 41310
A39: BU2 | B39: Project 6 | C39: Milestone 37 | D39: 41578 | E39: =R39 -> 41524 | F39: 41578 | G39: =F39 -> 41578 | H39: =G39 -> 41578 | I39: =H39 -> 41578 | J39: =I39 -> 41578 | K39: =J39 -> 41578 | L39: =K39 -> 41578 | M39: =L39 -> 41578 | N39: =M39-54 -> 41524 | O39: =N39 -> 41524 | P39: =O39 -> 41524 | Q39: =P39 -> 41524 | R39: =Q39 -> 41524
A40: BU2 | B40: Project 6 | C40: Milestone 38 | D40: 41455 | E40: =R40 -> 41455 | F40: 41455 | G40: =F40 -> 41455 | H40: =G40 -> 41455 | I40: =H40 -> 41455 | J40: =I40 -> 41455 | K40: =J40 -> 41455 | L40: =K40 -> 41455 | M40: =L40 -> 41455 | N40: =M40 -> 41455 | ... R40: =Q40 -> 41455
A41: BU2 | B41: Project 6 | C41: Milestone 39 | D41: 41455 | E41: =R41 -> 41455 | F41: 41455 | G41: =F41 -> 41455 | H41: =G41 -> 41455 | I41: =H41 -> 41455 | J41: =I41 -> 41455 | K41: =J41 -> 41455 | L41: =K41 -> 41455 | M41: =L41 -> 41455 | N41: =M41 -> 41455 | ... R41: =Q41 -> 41455
...

Sheet Milestones
C1: =Data!F2 -> 41275 | D1: =Data!G2 -> 41306 | E1: =Data!H2 -> 41334 | F1: =Data!I2 -> 41365 | G1: =Data!J2 -> 41395 | H1: =Data!K2 -> 41426 | I1: =Data!L2 -> 41456 | J1: =Data!M2 -> 41487 | ... P1: =Data!S2 -> 41671
A2: Initial target | C2: =SUMPRODUCT((target>=C$1)*(target<D$1)) -> 1 | D2: =SUMPRODUCT((target>=D$1)*(target<E$1)) -> 2 | E2: =SUMPRODUCT((target>=E$1)*(target<F$1)) -> 5 | F2: =SUMPRODUCT((target>=F$1)*(target<G$1)) -> 7 | G2: =SUMPRODUCT((target>=G$1)*(target<H$1)) -> 3 | H2: =SUMPRODUCT((target>=H$1)*(target<I$1)) -> 9 | I2: =SUMPRODUCT((target>=I$1)*(target<J$1)) -> 9 | J2: =SUMPRODUCT((target>=J$1)*(target<K$1)) -> 2 | ... O2: =SUMPRODUCT((target>=O$1)*(target<P$1)) -> 0
A3: Target - cmltd | C3: =SUM($C2:C2) -> 1 | D3: =SUM($C2:D2) -> 3 | E3: =SUM($C2:E2) -> 8 | F3: =SUM($C2:F2) -> 15 | G3: =SUM($C2:G2) -> 18 | H3: =SUM($C2:H2) -> 27 | I3: =SUM($C2:I2) -> 36 | J3: =SUM($C2:J2) -> 38 | ... O3: =SUM($C2:O2) -> 54
A4: Current target | C4: =SUMPRODUCT((jan>=C$1)*(jan<D$1)) -> 1 | D4: =SUMPRODUCT((feb>=D$1)*(feb<E$1)) -> 2 | E4: =SUMPRODUCT((mar>=E$1)*(mar<F$1)) -> 4 | F4: =SUMPRODUCT((apr>=F$1)*(apr<G$1)) -> 7 | G4: =SUMPRODUCT((may>=G$1)*(may<H$1)) -> 3 | H4: =SUMPRODUCT((jun>=H$1)*(jun<I$1)) -> 9 | I4: =SUMPRODUCT((jul>=I$1)*(jul<J$1)) -> 9 | J4: =SUMPRODUCT((aug>=J$1)*(aug<K$1)) -> 3 | K4: =SUMPRODUCT((sep>=K$1)*(sep<L$1)) -> 7 | L4: =SUMPRODUCT((oct>=L$1)*(oct<M$1)) -> 2 | M4: =SUMPRODUCT((nov>=M$1)*(nov<N$1)) -> 3 | N4: =SUMPRODUCT((dec>=N$1)*(dec<O$1)) -> 4 | O4: =SUMPRODUCT((jan>=O$1)*(jan<P$1)) -> 0
A5: Updated target - cmltd | C5: =C4 -> 1 | D5: =SUM($C6:C6)+D4 -> 3 | E5: =SUM($C6:D6)+E4 -> 7 | F5: =SUM($C6:E6)+F4 -> 13 | G5: =SUM($C6:F6)+G4 -> 16 | H5: =SUM($C6:G6)+H4 -> 25 | I5: =SUM($C6:H6)+I4 -> 35 | J5: =SUM($C6:I6)+J4 -> 35 | K5: =SUM($C6:J6)+K4 -> 40 | ... O5: =SUM($C6:N6)+O4 -> 51
A6: Met | C6: =SUMPRODUCT((met>=C$1)*(met<D$1)) -> 1 | D6: =SUMPRODUCT((met>=D$1)*(met<E$1)) -> 2 | E6: =SUMPRODUCT((met>=E$1)*(met<F$1)) -> 3 | F6: =SUMPRODUCT((met>=F$1)*(met<G$1)) -> 7 | G6: =SUMPRODUCT((met>=G$1)*(met<H$1)) -> 3 | H6: =SUMPRODUCT((met>=H$1)*(met<I$1)) -> 10 | I6: =SUMPRODUCT((met>=I$1)*(met<J$1)) -> 6 | J6: =SUMPRODUCT((met>=J$1)*(met<K$1)) -> 1 | ... O6: =SUMPRODUCT((met>=O$1)*(met<P$1)) -> 0
A7: Met late | C7: =SUMPRODUCT((met>=C$1)*(met<D$1)*(met>jan)) -> 0 | D7: =SUMPRODUCT((met>=D$1)*(met<E$1)*(met>feb)) -> 0 | E7: =SUMPRODUCT((met>=E$1)*(met<F$1)*(met>mar)) -> 0 | F7: =SUMPRODUCT((met>=F$1)*(met<G$1)*(met>apr)) -> 0 | G7: =SUMPRODUCT((met>=G$1)*(met<H$1)*(met>may)) -> 0 | H7: =SUMPRODUCT((met>=H$1)*(met<I$1)*(met>jun)) -> 0 | I7: =SUMPRODUCT((met>=I$1)*(met<J$1)*(met>jul)) -> 0 | J7: =SUMPRODUCT((met>=J$1)*(met<K$1)*(met>aug)) -> 0 | K7: =SUMPRODUCT((met>=K$1)*(met<L$1)*(met>sep)) -> 1 | L7: =SUMPRODUCT((met>=L$1)*(met<M$1)*(met>oct)) -> 1 | M7: =SUMPRODUCT((met>=M$1)*(met<N$1)*(met>nov)) -> 0 | N7: =SUMPRODUCT((met>=N$1)*(met<O$1)*(met>dec)) -> 0 | O7: =SUMPRODUCT((met>=O$1)*(met<P$1)*(met>nextjan)) -> 0
A8: Late - cmltd | C8: =SUM($C7:C7) -> 0 | D8: =SUM($C7:D7) -> 0 | E8: =SUM($C7:E7) -> 0 | F8: =SUM(C7:F7) -> 0 | G8: =SUM($C7:G7) -> 0 | H8: =SUM($C7:H7) -> 0 | I8: =SUM($C7:I7) -> 0 | J8: =SUM($C7:J7) -> 0 | K8: =SUM($C7:K7) -> 1 | L8: =SUM($C7:L7) -> 2 | M8: =SUM($C7:M7) -> 2 | N8: =SUM($C7:N7) -> 2 | O8: =SUM($C7:O7) -> 2
A9: Met just in time | C9: =SUMPRODUCT((met>=C$1)*(met<D$1)*(met=jan)) -> 1 | D9: =SUMPRODUCT((met>=D$1)*(met<E$1)*(met=feb)) -> 1 | E9: =SUMPRODUCT((met>=E$1)*(met<F$1)*(met=mar)) -> 3 | F9: =SUMPRODUCT((met>=F$1)*(met<G$1)*(met=apr)) -> 7 | G9: =SUMPRODUCT((met>=G$1)*(met<H$1)*(met=may)) -> 3 | H9: =SUMPRODUCT((met>=H$1)*(met<I$1)*(met=jun)) -> 9 | I9: =SUMPRODUCT((met>=I$1)*(met<J$1)*(met=jul)) -> 6 | J9: =SUMPRODUCT((met>=J$1)*(met<K$1)*(met=aug)) -> 1 | K9: =SUMPRODUCT((met>=K$1)*(met<L$1)*(met=sep)) -> 7 | L9: =SUMPRODUCT((met>=L$1)*(met<M$1)*(met=oct)) -> 2 | M9: =SUMPRODUCT((met>=M$1)*(met<N$1)*(met=nov)) -> 3 | N9: =SUMPRODUCT((met>=N$1)*(met<O$1)*(met=dec)) -> 4 | O9: =SUMPRODUCT((met>=O$1)*(met<P$1)*(met=nextjan)) -> 0
A10: In time - cmltd | C10: =SUM($C9:C9) -> 1 | D10: =SUM($C9:D9) -> 2 | E10: =SUM($C9:E9) -> 5 | F10: =SUM($C9:F9) -> 12 | G10: =SUM($C9:G9) -> 15 | H10: =SUM($C9:H9) -> 24 | I10: =SUM($C9:I9) -> 30 | J10: =SUM($C9:J9) -> 31 | ... O10: =SUM($C9:O9) -> 47
A11: Met in advance | C11: =SUMPRODUCT((met>=C$1)*(met<D$1)*(met<jan)) -> 0 | D11: =SUMPRODUCT((met>=D$1)*(met<E$1)*(met<feb)) -> 1 | E11: =SUMPRODUCT((met>=E$1)*(met<F$1)*(met<mar)) -> 0 | F11: =SUMPRODUCT((met>=F$1)*(met<G$1)*(met<apr)) -> 0 | G11: =SUMPRODUCT((met>=G$1)*(met<H$1)*(met<may)) -> 0 | H11: =SUMPRODUCT((met>=H$1)*(met<I$1)*(met<jun)) -> 1 | I11: =SUMPRODUCT((met>=I$1)*(met<J$1)*(met<jul)) -> 0 | J11: =SUMPRODUCT((met>=J$1)*(met<K$1)*(met<aug)) -> 0 | K11: =SUMPRODUCT((met>=K$1)*(met<L$1)*(met<sep)) -> 0 | L11: =SUMPRODUCT((met>=L$1)*(met<M$1)*(met<oct)) -> 0 | M11: =SUMPRODUCT((met>=M$1)*(met<N$1)*(met<nov)) -> 0 | N11: =SUMPRODUCT((met>=N$1)*(met<O$1)*(met<dec)) -> 0 | O11: =SUMPRODUCT((met>=O$1)*(met<P$1)*(met<nextjan)) -> 0
A12: In advance - cmltd | C12: =SUM($C11:C11) -> 0 | D12: =SUM($C11:D11) -> 1 | E12: =SUM($C11:E11) -> 1 | F12: =SUM($C11:F11) -> 1 | G12: =SUM($C11:G11) -> 1 | H12: =SUM($C11:H11) -> 2 | I12: =SUM($C11:I11) -> 2 | J12: =SUM($C11:J11) -> 2 | ... O12: =SUM($C11:O11) -> 2
A13: Late | C13: =SUMPRODUCT((met="")*(target<>"")*(jan<D$1)) -> 0 | D13: =SUMPRODUCT((met="")*(target<>"")*(feb<E$1)) -> 0 | E13: =SUMPRODUCT((met="")*(target<>"")*(mar<F$1)) -> 0 | F13: =SUMPRODUCT((met="")*(target<>"")*(apr<G$1)) -> 0 | G13: =SUMPRODUCT((met="")*(target<>"")*(may<H$1)) -> 0 | H13: =SUMPRODUCT((met="")*(target<>"")*(jun<I$1)) -> 0 | I13: =SUMPRODUCT((met="")*(target<>"")*(jul<J$1)) -> 0 | J13: =SUMPRODUCT((met="")*(target<>"")*(aug<K$1)) -> 0 | K13: =SUMPRODUCT((met="")*(target<>"")*(sep<L$1)) -> 0 | L13: =SUMPRODUCT((met="")*(target<>"")*(oct<M$1)) -> 0 | M13: =SUMPRODUCT((met="")*(target<>"")*(nov<N$1)) -> 0 | N13: =SUMPRODUCT((met="")*(target<>"")*(dec<O$1)) -> 0 | O13: =SUMPRODUCT((met="")*(target<>"")*(nextjan<P$1)) -> 0
A14: Postponed | C14: =SUMPRODUCT((jan>target)*1) -> 6 | D14: =SUMPRODUCT((feb>jan)*1) -> 1 | E14: =SUMPRODUCT((mar>feb)*1) -> 0 | F14: =SUMPRODUCT((apr>mar)*1) -> 0 | G14: =SUMPRODUCT((may>apr)*1) -> 0 | H14: =SUMPRODUCT((jun>may)*1) -> 0 | I14: =SUMPRODUCT((jul>jun)*1) -> 0 | J14: =SUMPRODUCT((aug>jul)*1) -> 1 | K14: =SUMPRODUCT((sep>aug)*1) -> 0 | L14: =SUMPRODUCT((oct>sep)*1) -> 0 | M14: =SUMPRODUCT((nov>oct)*1) -> 0 | N14: =SUMPRODUCT((dec>nov)*1) -> 3 | O14: =SUMPRODUCT((nextjan>dec)*1) -> 0
A15: % on-time vs planned | C15: =SUMPRODUCT((jan<=target)*(target<>""))/$N$3 -> 0.88888889 | D15: =SUMPRODUCT((feb<=target)*(target<>""))/$N$3 -> 0.87037037 | E15: =SUMPRODUCT((mar<=target)*(target<>""))/$N$3 -> 0.87037037 | F15: =SUMPRODUCT((apr<=target)*(target<>""))/$N$3 -> 0.87037037 | G15: =SUMPRODUCT((may<=target)*(target<>""))/$N$3 -> 0.87037037 | H15: =SUMPRODUCT((jun<=target)*(target<>""))/$N$3 -> 0.87037037 | I15: =SUMPRODUCT((jul<=target)*(target<>""))/$N$3 -> 0.87037037 | J15: =SUMPRODUCT((aug<=target)*(target<>""))/$N$3 -> 0.85185185 | K15: =SUMPRODUCT((sep<=target)*(target<>""))/$N$3 -> 0.85185185 | L15: =SUMPRODUCT((oct<=target)*(target<>""))/$N$3 -> 0.85185185 | M15: =SUMPRODUCT((nov<=target)*(target<>""))/$N$3 -> 0.85185185 | N15: =SUMPRODUCT((dec<=target)*(target<>""))/$N$3 -> 0.7962963 | O15: =SUMPRODUCT((nextjan<=target)*(target<>""))/$N$3 -> 0.7962963

Sheet Diagrams
A1: Project | B1: Start | D1: List of projects | E1: Project 1 | F1: Project 2 | G1: Project 3 | H1: Project 4 | I1: Project 5 | J1: Project 6 | K1: Project 7 | L1: Project 8 | M1: Project 9 | N1: Project 10 | O1: Project 11 | P1: Project 12 | Q1: Project 13
A2: Project 5 | B2: =MATCH($A$2,Data!$B:$B,0) -> 28
E6: % on-time vs planned | F6: =SUMPRODUCT((OFFSET(Data!$F$1,Diagrams!$B$2-1,MONTH(F$7)-1,COUNTIF(Data!$B:$B,$A$2),1) <= OFFSET(Data!$D$1,Diagrams!$B$2-1,,COUNTIF(Data!$B:$B,$A$2),1)) * 1 ) /COUNTIF(Data!$B:$B,$A$2) -> 1 | G6: =SUMPRODUCT((OFFSET(Data!$F$1,Diagrams!$B$2-1,MONTH(G$7)-1,COUNTIF(Data!$B:$B,$A$2),1) <= OFFSET(Data!$D$1,Diagrams!$B$2-1,,COUNTIF(Data!$B:$B,$A$2),1)) * 1 ) /COUNTIF(Data!$B:$B,$A$2) -> 1 | H6: =SUMPRODUCT((OFFSET(Data!$F$1,Diagrams!$B$2-1,MONTH(H$7)-1,COUNTIF(Data!$B:$B,$A$2),1) <= OFFSET(Data!$D$1,Diagrams!$B$2-1,,COUNTIF(Data!$B:$B,$A$2),1)) * 1 ) /COUNTIF(Data!$B:$B,$A$2) -> 1 | I6: =SUMPRODUCT((OFFSET(Data!$F$1,Diagrams!$B$2-1,MONTH(I$7)-1,COUNTIF(Data!$B:$B,$A$2),1) <= OFFSET(Data!$D$1,Diagrams!$B$2-1,,COUNTIF(Data!$B:$B,$A$2),1)) * 1 ) /COUNTIF(Data!$B:$B,$A$2) -> 1 | J6: =SUMPRODUCT((OFFSET(Data!$F$1,Diagrams!$B$2-1,MONTH(J$7)-1,COUNTIF(Data!$B:$B,$A$2),1) <= OFFSET(Data!$D$1,Diagrams!$B$2-1,,COUNTIF(Data!$B:$B,$A$2),1)) * 1 ) /COUNTIF(Data!$B:$B,$A$2) -> 1 | K6: =SUMPRODUCT((OFFSET(Data!$F$1,Diagrams!$B$2-1,MONTH(K$7)-1,COUNTIF(Data!$B:$B,$A$2),1) <= OFFSET(Data!$D$1,Diagrams!$B$2-1,,COUNTIF(Data!$B:$B,$A$2),1)) * 1 ) /COUNTIF(Data!$B:$B,$A$2) -> 1 | L6: =SUMPRODUCT((OFFSET(Data!$F$1,Diagrams!$B$2-1,MONTH(L$7)-1,COUNTIF(Data!$B:$B,$A$2),1) <= OFFSET(Data!$D$1,Diagrams!$B$2-1,,COUNTIF(Data!$B:$B,$A$2),1)) * 1 ) /COUNTIF(Data!$B:$B,$A$2) -> 1 | M6: =SUMPRODUCT((OFFSET(Data!$F$1,Diagrams!$B$2-1,MONTH(M$7)-1,COUNTIF(Data!$B:$B,$A$2),1) <= OFFSET(Data!$D$1,Diagrams!$B$2-1,,COUNTIF(Data!$B:$B,$A$2),1)) * 1 ) /COUNTIF(Data!$B:$B,$A$2) -> 1 | ... Q6: =SUMPRODUCT((OFFSET(Data!$F$1,Diagrams!$B$2-1,MONTH(Q$7)-1,COUNTIF(Data!$B:$B,$A$2),1) <= OFFSET(Data!$D$1,Diagrams!$B$2-1,,COUNTIF(Data!$B:$B,$A$2),1)) * 1 ) /COUNTIF(Data!$B:$B,$A$2) -> 1 | R6: =SUMPRODUCT((OFFSET(Data!$F$1,Diagrams!$B$2-1,MONTH(R$7)+12-1,COUNTIF(Data!$B:$B,$A$2),1) <= OFFSET(Data!$D$1,Diagrams!$B$2-1,,COUNTIF(Data!$B:$B,$A$2),1)) * 1 ) /COUNTIF(Data!$B:$B,$A$2) -> 1
A7: =Data!A2 -> BU | B7: =Data!B2 -> Project | C7: =Data!C2 -> Milestone Name / short description | D7: =Data!D2 -> Initial Target | E7: =Data!E2 -> Completion date | F7: =Data!F2 -> 41275 | G7: =Data!G2 -> 41306 | H7: =Data!H2 -> 41334 | ... S7: =Data!S2 -> 41671
A8: C1 | B8: C2 | C8: C3 | D8: C4 | E8: C5 | F8: C6 | G8: C7 | H8: C8 | I8: C9 | J8: C10 | K8: C11 | L8: C12 | M8: C13 | N8: C14 | O8: C15 | P8: C16 | Q8: C17 | R8: C18
A9: =IF(ROW()-ROW($A$8)<=COUNTIF(Data!B:B,$A$2),OFFSET(Data!A$3,Diagrams!$B$2-3,),"") -> BU2 | B9: =IF($A9<>"",OFFSET(Data!B$3,Diagrams!$B$2-3,),"") -> Project 5 | C9: =IF($A9<>"",OFFSET(Data!C$3,Diagrams!$B$2-12+ROW(),),"") -> Milestone 26 | D9: =IF($A9<>"",OFFSET(Data!D$3,Diagrams!$B$2-12+ROW(),),"") -> 41333 | E9: =IF($A9<>"",OFFSET(Data!E$3,Diagrams!$B$2-12+ROW(),),"") -> 41333 | F9: =IF($A9="","",IF(OFFSET(Data!F$3,Diagrams!$B$2-12+ROW(),) > F$7, OFFSET(Data!F$3,Diagrams!$B$2-12+ROW(),), NA())) -> 41333 | G9: =IF($A9="","",IF(OFFSET(Data!G$3,Diagrams!$B$2-12+ROW(),) > G$7, OFFSET(Data!G$3,Diagrams!$B$2-12+ROW(),), NA())) -> 41333 | H9: =IF($A9="","",IF(OFFSET(Data!H$3,Diagrams!$B$2-12+ROW(),) > H$7, OFFSET(Data!H$3,Diagrams!$B$2-12+ROW(),), NA())) -> #N/A | I9: =IF($A9="","",IF(OFFSET(Data!I$3,Diagrams!$B$2-12+ROW(),) > I$7, OFFSET(Data!I$3,Diagrams!$B$2-12+ROW(),), NA())) -> #N/A | J9: =IF($A9="","",IF(OFFSET(Data!J$3,Diagrams!$B$2-12+ROW(),) > J$7, OFFSET(Data!J$3,Diagrams!$B$2-12+ROW(),), NA())) -> #N/A | K9: =IF($A9="","",IF(OFFSET(Data!K$3,Diagrams!$B$2-12+ROW(),) > K$7, OFFSET(Data!K$3,Diagrams!$B$2-12+ROW(),), NA())) -> #N/A | L9: =IF($A9="","",IF(OFFSET(Data!L$3,Diagrams!$B$2-12+ROW(),) > L$7, OFFSET(Data!L$3,Diagrams!$B$2-12+ROW(),), NA())) -> #N/A | M9: =IF($A9="","",IF(OFFSET(Data!M$3,Diagrams!$B$2-12+ROW(),) > M$7, OFFSET(Data!M$3,Diagrams!$B$2-12+ROW(),), NA())) -> #N/A | ... R9: =IF($A9="","",IF(OFFSET(Data!R$3,Diagrams!$B$2-12+ROW(),) > R$7, OFFSET(Data!R$3,Diagrams!$B$2-12+ROW(),), NA())) -> #N/A
A10: =IF(ROW()-ROW($A$8)<=COUNTIF(Data!B:B,$A$2),OFFSET(Data!A$3,Diagrams!$B$2-3,),"") -> BU2 | B10: =IF($A10<>"",OFFSET(Data!B$3,Diagrams!$B$2-3,),"") -> Project 5 | C10: =IF($A10<>"",OFFSET(Data!C$3,Diagrams!$B$2-12+ROW(),),"") -> Milestone 27 | D10: =IF($A10<>"",OFFSET(Data!D$3,Diagrams!$B$2-12+ROW(),),"") -> 41364 | E10: =IF($A10<>"",OFFSET(Data!E$3,Diagrams!$B$2-12+ROW(),),"") -> 41364 | F10: =IF($A10="","",IF(OFFSET(Data!F$3,Diagrams!$B$2-12+ROW(),) > F$7, OFFSET(Data!F$3,Diagrams!$B$2-12+ROW(),), NA())) -> 41364 | G10: =IF($A10="","",IF(OFFSET(Data!G$3,Diagrams!$B$2-12+ROW(),) > G$7, OFFSET(Data!G$3,Diagrams!$B$2-12+ROW(),), NA())) -> 41364 | H10: =IF($A10="","",IF(OFFSET(Data!H$3,Diagrams!$B$2-12+ROW(),) > H$7, OFFSET(Data!H$3,Diagrams!$B$2-12+ROW(),), NA())) -> 41364 | I10: =IF($A10="","",IF(OFFSET(Data!I$3,Diagrams!$B$2-12+ROW(),) > I$7, OFFSET(Data!I$3,Diagrams!$B$2-12+ROW(),), NA())) -> #N/A | J10: =IF($A10="","",IF(OFFSET(Data!J$3,Diagrams!$B$2-12+ROW(),) > J$7, OFFSET(Data!J$3,Diagrams!$B$2-12+ROW(),), NA())) -> #N/A | K10: =IF($A10="","",IF(OFFSET(Data!K$3,Diagrams!$B$2-12+ROW(),) > K$7, OFFSET(Data!K$3,Diagrams!$B$2-12+ROW(),), NA())) -> #N/A | L10: =IF($A10="","",IF(OFFSET(Data!L$3,Diagrams!$B$2-12+ROW(),) > L$7, OFFSET(Data!L$3,Diagrams!$B$2-12+ROW(),), NA())) -> #N/A | M10: =IF($A10="","",IF(OFFSET(Data!M$3,Diagrams!$B$2-12+ROW(),) > M$7, OFFSET(Data!M$3,Diagrams!$B$2-12+ROW(),), NA())) -> #N/A | ... R10: =IF($A10="","",IF(OFFSET(Data!R$3,Diagrams!$B$2-12+ROW(),) > R$7, OFFSET(Data!R$3,Diagrams!$B$2-12+ROW(),), NA())) -> #N/A
A11: =IF(ROW()-ROW($A$8)<=COUNTIF(Data!B:B,$A$2),OFFSET(Data!A$3,Diagrams!$B$2-3,),"") -> BU2 | B11: =IF($A11<>"",OFFSET(Data!B$3,Diagrams!$B$2-3,),"") -> Project 5 | C11: =IF($A11<>"",OFFSET(Data!C$3,Diagrams!$B$2-12+ROW(),),"") -> Milestone 28 | D11: =IF($A11<>"",OFFSET(Data!D$3,Diagrams!$B$2-12+ROW(),),"") -> 41455 | E11: =IF($A11<>"",OFFSET(Data!E$3,Diagrams!$B$2-12+ROW(),),"") -> 41455 | F11: =IF($A11="","",IF(OFFSET(Data!F$3,Diagrams!$B$2-12+ROW(),) > F$7, OFFSET(Data!F$3,Diagrams!$B$2-12+ROW(),), NA())) -> 41455 | G11: =IF($A11="","",IF(OFFSET(Data!G$3,Diagrams!$B$2-12+ROW(),) > G$7, OFFSET(Data!G$3,Diagrams!$B$2-12+ROW(),), NA())) -> 41455 | H11: =IF($A11="","",IF(OFFSET(Data!H$3,Diagrams!$B$2-12+ROW(),) > H$7, OFFSET(Data!H$3,Diagrams!$B$2-12+ROW(),), NA())) -> 41455 | I11: =IF($A11="","",IF(OFFSET(Data!I$3,Diagrams!$B$2-12+ROW(),) > I$7, OFFSET(Data!I$3,Diagrams!$B$2-12+ROW(),), NA())) -> 41455 | J11: =IF($A11="","",IF(OFFSET(Data!J$3,Diagrams!$B$2-12+ROW(),) > J$7, OFFSET(Data!J$3,Diagrams!$B$2-12+ROW(),), NA())) -> 41455 | K11: =IF($A11="","",IF(OFFSET(Data!K$3,Diagrams!$B$2-12+ROW(),) > K$7, OFFSET(Data!K$3,Diagrams!$B$2-12+ROW(),), NA())) -> 41455 | L11: =IF($A11="","",IF(OFFSET(Data!L$3,Diagrams!$B$2-12+ROW(),) > L$7, OFFSET(Data!L$3,Diagrams!$B$2-12+ROW(),), NA())) -> #N/A | M11: =IF($A11="","",IF(OFFSET(Data!M$3,Diagrams!$B$2-12+ROW(),) > M$7, OFFSET(Data!M$3,Diagrams!$B$2-12+ROW(),), NA())) -> #N/A | ... R11: =IF($A11="","",IF(OFFSET(Data!R$3,Diagrams!$B$2-12+ROW(),) > R$7, OFFSET(Data!R$3,Diagrams!$B$2-12+ROW(),), NA())) -> #N/A
A12: =IF(ROW()-ROW($A$8)<=COUNTIF(Data!B:B,$A$2),OFFSET(Data!A$3,Diagrams!$B$2-3,),"") -> BU2 | B12: =IF($A12<>"",OFFSET(Data!B$3,Diagrams!$B$2-3,),"") -> Project 5 | C12: =IF($A12<>"",OFFSET(Data!C$3,Diagrams!$B$2-12+ROW(),),"") -> Milestone 29 | D12: =IF($A12<>"",OFFSET(Data!D$3,Diagrams!$B$2-12+ROW(),),"") -> 41547 | E12: =IF($A12<>"",OFFSET(Data!E$3,Diagrams!$B$2-12+ROW(),),"") -> 41547 | F12: =IF($A12="","",IF(OFFSET(Data!F$3,Diagrams!$B$2-12+ROW(),) > F$7, OFFSET(Data!F$3,Diagrams!$B$2-12+ROW(),), NA())) -> 41547 | G12: =IF($A12="","",IF(OFFSET(Data!G$3,Diagrams!$B$2-12+ROW(),) > G$7, OFFSET(Data!G$3,Diagrams!$B$2-12+ROW(),), NA())) -> 41547 | H12: =IF($A12="","",IF(OFFSET(Data!H$3,Diagrams!$B$2-12+ROW(),) > H$7, OFFSET(Data!H$3,Diagrams!$B$2-12+ROW(),), NA())) -> 41547 | I12: =IF($A12="","",IF(OFFSET(Data!I$3,Diagrams!$B$2-12+ROW(),) > I$7, OFFSET(Data!I$3,Diagrams!$B$2-12+ROW(),), NA())) -> 41547 | J12: =IF($A12="","",IF(OFFSET(Data!J$3,Diagrams!$B$2-12+ROW(),) > J$7, OFFSET(Data!J$3,Diagrams!$B$2-12+ROW(),), NA())) -> 41547 | K12: =IF($A12="","",IF(OFFSET(Data!K$3,Diagrams!$B$2-12+ROW(),) > K$7, OFFSET(Data!K$3,Diagrams!$B$2-12+ROW(),), NA())) -> 41547 | L12: =IF($A12="","",IF(OFFSET(Data!L$3,Diagrams!$B$2-12+ROW(),) > L$7, OFFSET(Data!L$3,Diagrams!$B$2-12+ROW(),), NA())) -> 41547 | M12: =IF($A12="","",IF(OFFSET(Data!M$3,Diagrams!$B$2-12+ROW(),) > M$7, OFFSET(Data!M$3,Diagrams!$B$2-12+ROW(),), NA())) -> 41547 | ... R12: =IF($A12="","",IF(OFFSET(Data!R$3,Diagrams!$B$2-12+ROW(),) > R$7, OFFSET(Data!R$3,Diagrams!$B$2-12+ROW(),), NA())) -> #N/A
A13: =IF(ROW()-ROW($A$8)<=COUNTIF(Data!B:B,$A$2),OFFSET(Data!A$3,Diagrams!$B$2-3,),"") -> BU2 | B13: =IF($A13<>"",OFFSET(Data!B$3,Diagrams!$B$2-3,),"") -> Project 5 | C13: =IF($A13<>"",OFFSET(Data!C$3,Diagrams!$B$2-12+ROW(),),"") -> Milestone 30 | D13: =IF($A13<>"",OFFSET(Data!D$3,Diagrams!$B$2-12+ROW(),),"") -> 41608 | E13: =IF($A13<>"",OFFSET(Data!E$3,Diagrams!$B$2-12+ROW(),),"") -> 41608 | F13: =IF($A13="","",IF(OFFSET(Data!F$3,Diagrams!$B$2-12+ROW(),) > F$7, OFFSET(Data!F$3,Diagrams!$B$2-12+ROW(),), NA())) -> 41608 | G13: =IF($A13="","",IF(OFFSET(Data!G$3,Diagrams!$B$2-12+ROW(),) > G$7, OFFSET(Data!G$3,Diagrams!$B$2-12+ROW(),), NA())) -> 41608 | H13: =IF($A13="","",IF(OFFSET(Data!H$3,Diagrams!$B$2-12+ROW(),) > H$7, OFFSET(Data!H$3,Diagrams!$B$2-12+ROW(),), NA())) -> 41608 | I13: =IF($A13="","",IF(OFFSET(Data!I$3,Diagrams!$B$2-12+ROW(),) > I$7, OFFSET(Data!I$3,Diagrams!$B$2-12+ROW(),), NA())) -> 41608 | J13: =IF($A13="","",IF(OFFSET(Data!J$3,Diagrams!$B$2-12+ROW(),) > J$7, OFFSET(Data!J$3,Diagrams!$B$2-12+ROW(),), NA())) -> 41608 | K13: =IF($A13="","",IF(OFFSET(Data!K$3,Diagrams!$B$2-12+ROW(),) > K$7, OFFSET(Data!K$3,Diagrams!$B$2-12+ROW(),), NA())) -> 41608 | L13: =IF($A13="","",IF(OFFSET(Data!L$3,Diagrams!$B$2-12+ROW(),) > L$7, OFFSET(Data!L$3,Diagrams!$B$2-12+ROW(),), NA())) -> 41608 | M13: =IF($A13="","",IF(OFFSET(Data!M$3,Diagrams!$B$2-12+ROW(),) > M$7, OFFSET(Data!M$3,Diagrams!$B$2-12+ROW(),), NA())) -> 41608 | ... R13: =IF($A13="","",IF(OFFSET(Data!R$3,Diagrams!$B$2-12+ROW(),) > R$7, OFFSET(Data!R$3,Diagrams!$B$2-12+ROW(),), NA())) -> #N/A
A14: =IF(ROW()-ROW($A$8)<=COUNTIF(Data!B:B,$A$2),OFFSET(Data!A$3,Diagrams!$B$2-3,),"") | B14: =IF($A14<>"",OFFSET(Data!B$3,Diagrams!$B$2-3,),"") | C14: =IF($A14<>"",OFFSET(Data!C$3,Diagrams!$B$2-12+ROW(),),"") | D14: =IF($A14<>"",OFFSET(Data!D$3,Diagrams!$B$2-12+ROW(),),"") | E14: =IF($A14<>"",OFFSET(Data!E$3,Diagrams!$B$2-12+ROW(),),"") | F14: =IF($A14="","",IF(OFFSET(Data!F$3,Diagrams!$B$2-12+ROW(),) > F$7, OFFSET(Data!F$3,Diagrams!$B$2-12+ROW(),), NA())) | G14: =IF($A14="","",IF(OFFSET(Data!G$3,Diagrams!$B$2-12+ROW(),) > G$7, OFFSET(Data!G$3,Diagrams!$B$2-12+ROW(),), NA())) | H14: =IF($A14="","",IF(OFFSET(Data!H$3,Diagrams!$B$2-12+ROW(),) > H$7, OFFSET(Data!H$3,Diagrams!$B$2-12+ROW(),), NA())) | I14: =IF($A14="","",IF(OFFSET(Data!I$3,Diagrams!$B$2-12+ROW(),) > I$7, OFFSET(Data!I$3,Diagrams!$B$2-12+ROW(),), NA())) | J14: =IF($A14="","",IF(OFFSET(Data!J$3,Diagrams!$B$2-12+ROW(),) > J$7, OFFSET(Data!J$3,Diagrams!$B$2-12+ROW(),), NA())) | K14: =IF($A14="","",IF(OFFSET(Data!K$3,Diagrams!$B$2-12+ROW(),) > K$7, OFFSET(Data!K$3,Diagrams!$B$2-12+ROW(),), NA())) | L14: =IF($A14="","",IF(OFFSET(Data!L$3,Diagrams!$B$2-12+ROW(),) > L$7, OFFSET(Data!L$3,Diagrams!$B$2-12+ROW(),), NA())) | M14: =IF($A14="","",IF(OFFSET(Data!M$3,Diagrams!$B$2-12+ROW(),) > M$7, OFFSET(Data!M$3,Diagrams!$B$2-12+ROW(),), NA())) | ... R14: =IF($A14="","",IF(OFFSET(Data!R$3,Diagrams!$B$2-12+ROW(),) > R$7, OFFSET(Data!R$3,Diagrams!$B$2-12+ROW(),), NA()))
A15: =IF(ROW()-ROW($A$8)<=COUNTIF(Data!B:B,$A$2),OFFSET(Data!A$3,Diagrams!$B$2-3,),"") | B15: =IF($A15<>"",OFFSET(Data!B$3,Diagrams!$B$2-3,),"") | C15: =IF($A15<>"",OFFSET(Data!C$3,Diagrams!$B$2-12+ROW(),),"") | D15: =IF($A15<>"",OFFSET(Data!D$3,Diagrams!$B$2-12+ROW(),),"") | E15: =IF($A15<>"",OFFSET(Data!E$3,Diagrams!$B$2-12+ROW(),),"") | F15: =IF($A15="","",IF(OFFSET(Data!F$3,Diagrams!$B$2-12+ROW(),) > F$7, OFFSET(Data!F$3,Diagrams!$B$2-12+ROW(),), NA())) | G15: =IF($A15="","",IF(OFFSET(Data!G$3,Diagrams!$B$2-12+ROW(),) > G$7, OFFSET(Data!G$3,Diagrams!$B$2-12+ROW(),), NA())) | H15: =IF($A15="","",IF(OFFSET(Data!H$3,Diagrams!$B$2-12+ROW(),) > H$7, OFFSET(Data!H$3,Diagrams!$B$2-12+ROW(),), NA())) | I15: =IF($A15="","",IF(OFFSET(Data!I$3,Diagrams!$B$2-12+ROW(),) > I$7, OFFSET(Data!I$3,Diagrams!$B$2-12+ROW(),), NA())) | J15: =IF($A15="","",IF(OFFSET(Data!J$3,Diagrams!$B$2-12+ROW(),) > J$7, OFFSET(Data!J$3,Diagrams!$B$2-12+ROW(),), NA())) | K15: =IF($A15="","",IF(OFFSET(Data!K$3,Diagrams!$B$2-12+ROW(),) > K$7, OFFSET(Data!K$3,Diagrams!$B$2-12+ROW(),), NA())) | L15: =IF($A15="","",IF(OFFSET(Data!L$3,Diagrams!$B$2-12+ROW(),) > L$7, OFFSET(Data!L$3,Diagrams!$B$2-12+ROW(),), NA())) | M15: =IF($A15="","",IF(OFFSET(Data!M$3,Diagrams!$B$2-12+ROW(),) > M$7, OFFSET(Data!M$3,Diagrams!$B$2-12+ROW(),), NA())) | ... R15: =IF($A15="","",IF(OFFSET(Data!R$3,Diagrams!$B$2-12+ROW(),) > R$7, OFFSET(Data!R$3,Diagrams!$B$2-12+ROW(),), NA()))
A16: =IF(ROW()-ROW($A$8)<=COUNTIF(Data!B:B,$A$2),OFFSET(Data!A$3,Diagrams!$B$2-3,),"") | B16: =IF($A16<>"",OFFSET(Data!B$3,Diagrams!$B$2-3,),"") | C16: =IF($A16<>"",OFFSET(Data!C$3,Diagrams!$B$2-12+ROW(),),"") | D16: =IF($A16<>"",OFFSET(Data!D$3,Diagrams!$B$2-12+ROW(),),"") | E16: =IF($A16<>"",OFFSET(Data!E$3,Diagrams!$B$2-12+ROW(),),"") | F16: =IF($A16="","",IF(OFFSET(Data!F$3,Diagrams!$B$2-12+ROW(),) > F$7, OFFSET(Data!F$3,Diagrams!$B$2-12+ROW(),), NA())) | G16: =IF($A16="","",IF(OFFSET(Data!G$3,Diagrams!$B$2-12+ROW(),) > G$7, OFFSET(Data!G$3,Diagrams!$B$2-12+ROW(),), NA())) | H16: =IF($A16="","",IF(OFFSET(Data!H$3,Diagrams!$B$2-12+ROW(),) > H$7, OFFSET(Data!H$3,Diagrams!$B$2-12+ROW(),), NA())) | I16: =IF($A16="","",IF(OFFSET(Data!I$3,Diagrams!$B$2-12+ROW(),) > I$7, OFFSET(Data!I$3,Diagrams!$B$2-12+ROW(),), NA())) | J16: =IF($A16="","",IF(OFFSET(Data!J$3,Diagrams!$B$2-12+ROW(),) > J$7, OFFSET(Data!J$3,Diagrams!$B$2-12+ROW(),), NA())) | K16: =IF($A16="","",IF(OFFSET(Data!K$3,Diagrams!$B$2-12+ROW(),) > K$7, OFFSET(Data!K$3,Diagrams!$B$2-12+ROW(),), NA())) | L16: =IF($A16="","",IF(OFFSET(Data!L$3,Diagrams!$B$2-12+ROW(),) > L$7, OFFSET(Data!L$3,Diagrams!$B$2-12+ROW(),), NA())) | M16: =IF($A16="","",IF(OFFSET(Data!M$3,Diagrams!$B$2-12+ROW(),) > M$7, OFFSET(Data!M$3,Diagrams!$B$2-12+ROW(),), NA())) | ... R16: =IF($A16="","",IF(OFFSET(Data!R$3,Diagrams!$B$2-12+ROW(),) > R$7, OFFSET(Data!R$3,Diagrams!$B$2-12+ROW(),), NA()))
A17: =IF(ROW()-ROW($A$8)<=COUNTIF(Data!B:B,$A$2),OFFSET(Data!A$3,Diagrams!$B$2-3,),"") | B17: =IF($A17<>"",OFFSET(Data!B$3,Diagrams!$B$2-3,),"") | C17: =IF($A17<>"",OFFSET(Data!C$3,Diagrams!$B$2-12+ROW(),),"") | D17: =IF($A17<>"",OFFSET(Data!D$3,Diagrams!$B$2-12+ROW(),),"") | E17: =IF($A17<>"",OFFSET(Data!E$3,Diagrams!$B$2-12+ROW(),),"") | F17: =IF($A17="","",IF(OFFSET(Data!F$3,Diagrams!$B$2-12+ROW(),) > F$7, OFFSET(Data!F$3,Diagrams!$B$2-12+ROW(),), NA())) | G17: =IF($A17="","",IF(OFFSET(Data!G$3,Diagrams!$B$2-12+ROW(),) > G$7, OFFSET(Data!G$3,Diagrams!$B$2-12+ROW(),), NA())) | H17: =IF($A17="","",IF(OFFSET(Data!H$3,Diagrams!$B$2-12+ROW(),) > H$7, OFFSET(Data!H$3,Diagrams!$B$2-12+ROW(),), NA())) | I17: =IF($A17="","",IF(OFFSET(Data!I$3,Diagrams!$B$2-12+ROW(),) > I$7, OFFSET(Data!I$3,Diagrams!$B$2-12+ROW(),), NA())) | J17: =IF($A17="","",IF(OFFSET(Data!J$3,Diagrams!$B$2-12+ROW(),) > J$7, OFFSET(Data!J$3,Diagrams!$B$2-12+ROW(),), NA())) | K17: =IF($A17="","",IF(OFFSET(Data!K$3,Diagrams!$B$2-12+ROW(),) > K$7, OFFSET(Data!K$3,Diagrams!$B$2-12+ROW(),), NA())) | L17: =IF($A17="","",IF(OFFSET(Data!L$3,Diagrams!$B$2-12+ROW(),) > L$7, OFFSET(Data!L$3,Diagrams!$B$2-12+ROW(),), NA())) | M17: =IF($A17="","",IF(OFFSET(Data!M$3,Diagrams!$B$2-12+ROW(),) > M$7, OFFSET(Data!M$3,Diagrams!$B$2-12+ROW(),), NA())) | ... R17: =IF($A17="","",IF(OFFSET(Data!R$3,Diagrams!$B$2-12+ROW(),) > R$7, OFFSET(Data!R$3,Diagrams!$B$2-12+ROW(),), NA()))
D25: =OFFSET(Diagrams!$C$9,,,COUNTIF(Data!$B:$B,Diagrams!$A$2),1) -> #VALUE!
