Workbook
Name motifs: 'Tableau de bord'!$V$25:$V$31
Name personnel: #REF!
Name preabs: 'Tableau de bord'!$B$25:$B$26
Name siognants: #REF!
Name soignants: 'Planning 23mars'!$E$7

Sheet Planning 23mars
D1: Semaine du 23/03 AU 27/03
D4: Horaires | E4: LUNDI 23 mars | H4: MARDI 24 mars | K4: MERCREDI 25 mars | N4: JEUDI 26 mars | Q4: VENDREDI 27 mars
E5: UNITES PREVUES | F5: =COUNTBLANK('Tableau de bord'!F24:F56)-33 -> -9 | H5: UNITES PREVUES | I5: =COUNTBLANK('Tableau de bord'!I24:I56)-33 -> -15 | K5: UNITES PREVUES | L5: =COUNTBLANK('Tableau de bord'!L24:L56)-33 -> -10 | N5: UNITES PREVUES | O5: =COUNTBLANK('Tableau de bord'!O24:O56)-33 -> -15 | Q5: UNITES PREVUES | R5: =COUNTBLANK('Tableau de bord'!R24:R56)-33 -> -11
F6: =SUMPRODUCT((F7:F84<>"")/COUNTIF(F7:F84,F7:F84&"")) -> 4 | I6: =SUMPRODUCT((I7:I84<>"")/COUNTIF(I7:I84,I7:I84&"")) -> 0 | L6: =SUMPRODUCT((L7:L84<>"")/COUNTIF(L7:L84,L7:L84&"")) -> 0 | O6: =SUMPRODUCT((O7:O84<>"")/COUNTIF(O7:O84,O7:O84&"")) -> 0 | R6: =SUMPRODUCT((R7:R84<>"")/COUNTIF(R7:R84,R7:R84&"")) -> 0
D7: 9h-10h30 | E7: unité2 | F7: g
D9: 10h30-12h | E9: unité1 | F9: i
D11: 13h30-15h | E11: unité3 | F11: rr
D13: 15h-16-30 | E13: unité4 | F13: p
C16: Début … | D16: 9h-10h30
D17: 10h30-12h
D18: 13h30-15h
D19: 15h-16-30
D21: 9h-10h30
D22: 10h30-12h
D23: 13h30-15h
D24: 15h-16-30
D26: 9h-10h30
D27: 10h30-12h
D28: 13h30-15h
D29: 15h-16-30
D31: 9h-10h30
... D84: 15h-16-30

Sheet Tableau de bord
E2: UNITES
F3: lundi | I3: mardi | L3: mercredi | O3: jeudi | R3: vendredi
E4: CL 1 | F4: unité1 | I4: unité1 | L4: =IF(COUNTIF('Planning 23mars'!K$7:K$81,$E4)=2,"",$E4) -> CL 1 | O4: =IF(COUNTIF('Planning 23mars'!N$7:N$81,$E4)=2,"",$E4) -> CL 1 | R4: =IF(COUNTIF('Planning 23mars'!Q$7:Q$81,$E4)=2,"",$E4) -> CL 1
E5: CL 2 | F5: unité2 | I5: unité2 | L5: =IF(COUNTIF('Planning 23mars'!K$7:K$81,$E5)=2,"",$E5) -> CL 2 | O5: =IF(COUNTIF('Planning 23mars'!N$7:N$81,$E5)=2,"",$E5) -> CL 2 | R5: =IF(COUNTIF('Planning 23mars'!Q$7:Q$81,$E5)=2,"",$E5) -> CL 2
E6: ERASME | F6: unité3 | I6: unité3 | L6: =IF(COUNTIF('Planning 23mars'!K$7:K$81,$E6)=2,"",$E6) -> ERASME | O6: =IF(COUNTIF('Planning 23mars'!N$7:N$81,$E6)=2,"",$E6) -> ERASME | R6: =IF(COUNTIF('Planning 23mars'!Q$7:Q$81,$E6)=2,"",$E6) -> ERASME
E7: F.ROSEAU | F7: unité4 | I7: unité4 | L7: =IF(COUNTIF('Planning 23mars'!K$7:K$81,$E7)=2,"",$E7) -> F.ROSEAU | O7: =IF(COUNTIF('Planning 23mars'!N$7:N$81,$E7)=2,"",$E7) -> F.ROSEAU | R7: =IF(COUNTIF('Planning 23mars'!Q$7:Q$81,$E7)=2,"",$E7) -> F.ROSEAU
E8: GALILEE | F8: unité5 | I8: unité5 | L8: =IF(COUNTIF('Planning 23mars'!K$7:K$81,$E8)=2,"",$E8) -> GALILEE | O8: =IF(COUNTIF('Planning 23mars'!N$7:N$81,$E8)=2,"",$E8) -> GALILEE | R8: =IF(COUNTIF('Planning 23mars'!Q$7:Q$81,$E8)=2,"",$E8) -> GALILEE
E9: HERMES | F9: unité6 | I9: unité6 | L9: =IF(COUNTIF('Planning 23mars'!K$7:K$81,$E9)=2,"",$E9) -> HERMES | O9: =IF(COUNTIF('Planning 23mars'!N$7:N$81,$E9)=2,"",$E9) -> HERMES | R9: =IF(COUNTIF('Planning 23mars'!Q$7:Q$81,$E9)=2,"",$E9) -> HERMES
E10: L.LABBE | F10: unité7 | I10: unité7 | L10: =IF(COUNTIF('Planning 23mars'!K$7:K$81,$E10)=2,"",$E10) -> L.LABBE | O10: =IF(COUNTIF('Planning 23mars'!N$7:N$81,$E10)=2,"",$E10) -> L.LABBE | R10: =IF(COUNTIF('Planning 23mars'!Q$7:Q$81,$E10)=2,"",$E10) -> L.LABBE
E11: MAG 2 | F11: unité8 | I11: unité8 | L11: =IF(COUNTIF('Planning 23mars'!K$7:K$81,$E11)=2,"",$E11) -> MAG 2 | O11: =IF(COUNTIF('Planning 23mars'!N$7:N$81,$E11)=2,"",$E11) -> MAG 2 | R11: =IF(COUNTIF('Planning 23mars'!Q$7:Q$81,$E11)=2,"",$E11) -> MAG 2
E12: MAG 3 | F12: unité9 | I12: unité9 | L12: =IF(COUNTIF('Planning 23mars'!K$7:K$81,$E12)=2,"",$E12) -> MAG 3 | O12: =IF(COUNTIF('Planning 23mars'!N$7:N$81,$E12)=2,"",$E12) -> MAG 3 | R12: =IF(COUNTIF('Planning 23mars'!Q$7:Q$81,$E12)=2,"",$E12) -> MAG 3
E13: ORANGERIE | F13: unité10 | I13: unité10 | L13: =IF(COUNTIF('Planning 23mars'!K$7:K$81,$E13)=2,"",$E13) -> ORANGERIE | O13: =IF(COUNTIF('Planning 23mars'!N$7:N$81,$E13)=2,"",$E13) -> ORANGERIE | R13: =IF(COUNTIF('Planning 23mars'!Q$7:Q$81,$E13)=2,"",$E13) -> ORANGERIE
E14: OSIRIS | F14: unité11 | I14: unité11 | L14: =IF(COUNTIF('Planning 23mars'!K$7:K$81,$E14)=2,"",$E14) -> OSIRIS | O14: =IF(COUNTIF('Planning 23mars'!N$7:N$81,$E14)=2,"",$E14) -> OSIRIS | R14: =IF(COUNTIF('Planning 23mars'!Q$7:Q$81,$E14)=2,"",$E14) -> OSIRIS
E15: P.SIVADON | F15: unité12 | I15: unité12 | L15: =IF(COUNTIF('Planning 23mars'!K$7:K$81,$E15)=2,"",$E15) -> P.SIVADON | O15: =IF(COUNTIF('Planning 23mars'!N$7:N$81,$E15)=2,"",$E15) -> P.SIVADON | R15: =IF(COUNTIF('Planning 23mars'!Q$7:Q$81,$E15)=2,"",$E15) -> P.SIVADON
... E18: ULYSSE | F18: unité15 | I18: unité15 | L18: =IF(COUNTIF('Planning 23mars'!K$7:K$81,$E18)=2,"",$E18) -> ULYSSE | O18: =IF(COUNTIF('Planning 23mars'!N$7:N$81,$E18)=2,"",$E18) -> ULYSSE | R18: =IF(COUNTIF('Planning 23mars'!Q$7:Q$81,$E18)=2,"",$E18) -> ULYSSE
E21: Gestion des absences-présences des soignants / Nombre de patients participants : 23 mars- 27 mars
E23: noms soignants | F23: LUNDI | G23: LUNDI | H23: Motifs Abs | I23: MARDI | J23: MARDI | K23: Motifs Abs | L23: MERCREDI | M23: MERCREDI | N23: Motifs Abs | O23: JEUDI | P23: JEUDI | Q23: Motifs Abs | R23: VENDREDI | S23: VENDREDI | T23: Motifs Abs
D24: 1 | E24: a | F24: =CHOOSE(MATCH(G24,{"présent";"absent"},0),IF(COUNTIF('Planning 23mars'!F$7:F$84,$E24)=4,"saturé",$E24),IF(COUNTIF('Planning 23mars'!F$7:F$84,$E24)=0,"",$E24)) -> a | G24: présent | I24: =CHOOSE(MATCH(J24,{"présent";"absent"},0),IF(COUNTIF('Planning 23mars'!I$7:I$84,$E24)=4,"saturé",$E24),IF(COUNTIF('Planning 23mars'!I$7:I$84,$E24)=0,"",$E24)) -> a | J24: présent | L24: =CHOOSE(MATCH(M24,{"présent";"absent"},0),IF(COUNTIF('Planning 23mars'!L$7:L$84,$E24)=4,"saturé",$E24),IF(COUNTIF('Planning 23mars'!L$7:L$84,$E24)=0,"",$E24)) | M24: absent | N24: NTP | O24: =CHOOSE(MATCH(P24,{"présent";"absent"},0),IF(COUNTIF('Planning 23mars'!O$7:O$84,$E24)=4,"saturé",$E24),IF(COUNTIF('Planning 23mars'!O$7:O$84,$E24)=0,"",$E24)) -> a | P24: présent | R24: =CHOOSE(MATCH(S24,{"présent";"absent"},0),IF(COUNTIF('Planning 23mars'!R$7:R$84,$E24)=4,"saturé",$E24),IF(COUNTIF('Planning 23mars'!R$7:R$84,$E24)=0,"",$E24)) -> a | S24: présent | V24: motifs
B25: présent | D25: 2 | E25: b | F25: =CHOOSE(MATCH(G25,{"présent";"absent"},0),IF(COUNTIF('Planning 23mars'!F$7:F$84,$E25)=4,"saturé",$E25),IF(COUNTIF('Planning 23mars'!F$7:F$84,$E25)=0,"",$E25)) | G25: absent | H25: Eviction M.T | I25: =CHOOSE(MATCH(J25,{"présent";"absent"},0),IF(COUNTIF('Planning 23mars'!I$7:I$84,$E25)=4,"saturé",$E25),IF(COUNTIF('Planning 23mars'!I$7:I$84,$E25)=0,"",$E25)) | J25: absent | K25: Eviction M.T | L25: =CHOOSE(MATCH(M25,{"présent";"absent"},0),IF(COUNTIF('Planning 23mars'!L$7:L$84,$E25)=4,"saturé",$E25),IF(COUNTIF('Planning 23mars'!L$7:L$84,$E25)=0,"",$E25)) | M25: absent | N25: Eviction M.T | O25: =CHOOSE(MATCH(P25,{"présent";"absent"},0),IF(COUNTIF('Planning 23mars'!O$7:O$84,$E25)=4,"saturé",$E25),IF(COUNTIF('Planning 23mars'!O$7:O$84,$E25)=0,"",$E25)) | P25: absent | Q25: Eviction M.T | R25: =CHOOSE(MATCH(S25,{"présent";"absent"},0),IF(COUNTIF('Planning 23mars'!R$7:R$84,$E25)=4,"saturé",$E25),IF(COUNTIF('Planning 23mars'!R$7:R$84,$E25)=0,"",$E25)) | S25: absent | T25: Eviction M.T | V25: A. Maladie
B26: absent | D26: 3 | E26: c | F26: =CHOOSE(MATCH(G26,{"présent";"absent"},0),IF(COUNTIF('Planning 23mars'!F$7:F$84,$E26)=4,"saturé",$E26),IF(COUNTIF('Planning 23mars'!F$7:F$84,$E26)=0,"",$E26)) | G26: absent | H26: NTP | I26: =CHOOSE(MATCH(J26,{"présent";"absent"},0),IF(COUNTIF('Planning 23mars'!I$7:I$84,$E26)=4,"saturé",$E26),IF(COUNTIF('Planning 23mars'!I$7:I$84,$E26)=0,"",$E26)) -> c | J26: présent | L26: =CHOOSE(MATCH(M26,{"présent";"absent"},0),IF(COUNTIF('Planning 23mars'!L$7:L$84,$E26)=4,"saturé",$E26),IF(COUNTIF('Planning 23mars'!L$7:L$84,$E26)=0,"",$E26)) | M26: absent | N26: Non appelé | O26: =CHOOSE(MATCH(P26,{"présent";"absent"},0),IF(COUNTIF('Planning 23mars'!O$7:O$84,$E26)=4,"saturé",$E26),IF(COUNTIF('Planning 23mars'!O$7:O$84,$E26)=0,"",$E26)) -> c | P26: présent | R26: =CHOOSE(MATCH(S26,{"présent";"absent"},0),IF(COUNTIF('Planning 23mars'!R$7:R$84,$E26)=4,"saturé",$E26),IF(COUNTIF('Planning 23mars'!R$7:R$84,$E26)=0,"",$E26)) | S26: absent | T26: NTP | V26: Accident travail
B27: ?? | D27: 4 | E27: d | F27: =CHOOSE(MATCH(G27,{"présent";"absent"},0),IF(COUNTIF('Planning 23mars'!F$7:F$84,$E27)=4,"saturé",$E27),IF(COUNTIF('Planning 23mars'!F$7:F$84,$E27)=0,"",$E27)) | G27: absent | H27: Eviction M.T | I27: =CHOOSE(MATCH(J27,{"présent";"absent"},0),IF(COUNTIF('Planning 23mars'!I$7:I$84,$E27)=4,"saturé",$E27),IF(COUNTIF('Planning 23mars'!I$7:I$84,$E27)=0,"",$E27)) | J27: absent | K27: Eviction M.T | L27: =CHOOSE(MATCH(M27,{"présent";"absent"},0),IF(COUNTIF('Planning 23mars'!L$7:L$84,$E27)=4,"saturé",$E27),IF(COUNTIF('Planning 23mars'!L$7:L$84,$E27)=0,"",$E27)) | M27: absent | N27: Eviction M.T | O27: =CHOOSE(MATCH(P27,{"présent";"absent"},0),IF(COUNTIF('Planning 23mars'!O$7:O$84,$E27)=4,"saturé",$E27),IF(COUNTIF('Planning 23mars'!O$7:O$84,$E27)=0,"",$E27)) | P27: absent | Q27: Eviction M.T | R27: =CHOOSE(MATCH(S27,{"présent";"absent"},0),IF(COUNTIF('Planning 23mars'!R$7:R$84,$E27)=4,"saturé",$E27),IF(COUNTIF('Planning 23mars'!R$7:R$84,$E27)=0,"",$E27)) | S27: absent | T27: Eviction M.T | V27: Autre affect.
D28: 5 | E28: e | F28: =CHOOSE(MATCH(G28,{"présent";"absent"},0),IF(COUNTIF('Planning 23mars'!F$7:F$84,$E28)=4,"saturé",$E28),IF(COUNTIF('Planning 23mars'!F$7:F$84,$E28)=0,"",$E28)) | G28: absent | H28: Autre affect. | I28: =CHOOSE(MATCH(J28,{"présent";"absent"},0),IF(COUNTIF('Planning 23mars'!I$7:I$84,$E28)=4,"saturé",$E28),IF(COUNTIF('Planning 23mars'!I$7:I$84,$E28)=0,"",$E28)) -> e | J28: présent | L28: =CHOOSE(MATCH(M28,{"présent";"absent"},0),IF(COUNTIF('Planning 23mars'!L$7:L$84,$E28)=4,"saturé",$E28),IF(COUNTIF('Planning 23mars'!L$7:L$84,$E28)=0,"",$E28)) -> e | M28: présent | O28: =CHOOSE(MATCH(P28,{"présent";"absent"},0),IF(COUNTIF('Planning 23mars'!O$7:O$84,$E28)=4,"saturé",$E28),IF(COUNTIF('Planning 23mars'!O$7:O$84,$E28)=0,"",$E28)) -> e | P28: présent | R28: =CHOOSE(MATCH(S28,{"présent";"absent"},0),IF(COUNTIF('Planning 23mars'!R$7:R$84,$E28)=4,"saturé",$E28),IF(COUNTIF('Planning 23mars'!R$7:R$84,$E28)=0,"",$E28)) -> e | S28: présent | V28: Congés payés
D29: 6 | E29: f | F29: =CHOOSE(MATCH(G29,{"présent";"absent"},0),IF(COUNTIF('Planning 23mars'!F$7:F$84,$E29)=4,"saturé",$E29),IF(COUNTIF('Planning 23mars'!F$7:F$84,$E29)=0,"",$E29)) | G29: absent | H29: NTP | I29: =CHOOSE(MATCH(J29,{"présent";"absent"},0),IF(COUNTIF('Planning 23mars'!I$7:I$84,$E29)=4,"saturé",$E29),IF(COUNTIF('Planning 23mars'!I$7:I$84,$E29)=0,"",$E29)) -> f | J29: présent | L29: =CHOOSE(MATCH(M29,{"présent";"absent"},0),IF(COUNTIF('Planning 23mars'!L$7:L$84,$E29)=4,"saturé",$E29),IF(COUNTIF('Planning 23mars'!L$7:L$84,$E29)=0,"",$E29)) -> f | M29: présent | O29: =CHOOSE(MATCH(P29,{"présent";"absent"},0),IF(COUNTIF('Planning 23mars'!O$7:O$84,$E29)=4,"saturé",$E29),IF(COUNTIF('Planning 23mars'!O$7:O$84,$E29)=0,"",$E29)) | P29: absent | Q29: NTP | R29: =CHOOSE(MATCH(S29,{"présent";"absent"},0),IF(COUNTIF('Planning 23mars'!R$7:R$84,$E29)=4,"saturé",$E29),IF(COUNTIF('Planning 23mars'!R$7:R$84,$E29)=0,"",$E29)) | S29: absent | T29: NTP | V29: Enf. malade
D30: 7 | E30: g | F30: =CHOOSE(MATCH(G30,{"présent";"absent"},0),IF(COUNTIF('Planning 23mars'!F$7:F$84,$E30)=4,"saturé",$E30),IF(COUNTIF('Planning 23mars'!F$7:F$84,$E30)=0,"",$E30)) -> g | G30: présent | I30: =CHOOSE(MATCH(J30,{"présent";"absent"},0),IF(COUNTIF('Planning 23mars'!I$7:I$84,$E30)=4,"saturé",$E30),IF(COUNTIF('Planning 23mars'!I$7:I$84,$E30)=0,"",$E30)) -> g | J30: présent | K30: Eviction M.T | L30: =CHOOSE(MATCH(M30,{"présent";"absent"},0),IF(COUNTIF('Planning 23mars'!L$7:L$84,$E30)=4,"saturé",$E30),IF(COUNTIF('Planning 23mars'!L$7:L$84,$E30)=0,"",$E30)) | M30: absent | N30: Eviction M.T | O30: =CHOOSE(MATCH(P30,{"présent";"absent"},0),IF(COUNTIF('Planning 23mars'!O$7:O$84,$E30)=4,"saturé",$E30),IF(COUNTIF('Planning 23mars'!O$7:O$84,$E30)=0,"",$E30)) | P30: absent | Q30: Eviction M.T | R30: =CHOOSE(MATCH(S30,{"présent";"absent"},0),IF(COUNTIF('Planning 23mars'!R$7:R$84,$E30)=4,"saturé",$E30),IF(COUNTIF('Planning 23mars'!R$7:R$84,$E30)=0,"",$E30)) | S30: absent | T30: Eviction M.T | V30: Eviction M.T
D31: 8 | E31: h | F31: =CHOOSE(MATCH(G31,{"présent";"absent"},0),IF(COUNTIF('Planning 23mars'!F$7:F$84,$E31)=4,"saturé",$E31),IF(COUNTIF('Planning 23mars'!F$7:F$84,$E31)=0,"",$E31)) | G31: absent | H31: NTP | I31: =CHOOSE(MATCH(J31,{"présent";"absent"},0),IF(COUNTIF('Planning 23mars'!I$7:I$84,$E31)=4,"saturé",$E31),IF(COUNTIF('Planning 23mars'!I$7:I$84,$E31)=0,"",$E31)) -> h | J31: présent | L31: =CHOOSE(MATCH(M31,{"présent";"absent"},0),IF(COUNTIF('Planning 23mars'!L$7:L$84,$E31)=4,"saturé",$E31),IF(COUNTIF('Planning 23mars'!L$7:L$84,$E31)=0,"",$E31)) | M31: absent | N31: NTP | O31: =CHOOSE(MATCH(P31,{"présent";"absent"},0),IF(COUNTIF('Planning 23mars'!O$7:O$84,$E31)=4,"saturé",$E31),IF(COUNTIF('Planning 23mars'!O$7:O$84,$E31)=0,"",$E31)) -> h | P31: présent | R31: =CHOOSE(MATCH(S31,{"présent";"absent"},0),IF(COUNTIF('Planning 23mars'!R$7:R$84,$E31)=4,"saturé",$E31),IF(COUNTIF('Planning 23mars'!R$7:R$84,$E31)=0,"",$E31)) | S31: absent | T31: NTP | V31: Garde enfants
D32: 9 | E32: i | F32: =CHOOSE(MATCH(G32,{"présent";"absent"},0),IF(COUNTIF('Planning 23mars'!F$7:F$84,$E32)=4,"saturé",$E32),IF(COUNTIF('Planning 23mars'!F$7:F$84,$E32)=0,"",$E32)) -> i | G32: présent | I32: =CHOOSE(MATCH(J32,{"présent";"absent"},0),IF(COUNTIF('Planning 23mars'!I$7:I$84,$E32)=4,"saturé",$E32),IF(COUNTIF('Planning 23mars'!I$7:I$84,$E32)=0,"",$E32)) -> i | J32: présent | L32: =CHOOSE(MATCH(M32,{"présent";"absent"},0),IF(COUNTIF('Planning 23mars'!L$7:L$84,$E32)=4,"saturé",$E32),IF(COUNTIF('Planning 23mars'!L$7:L$84,$E32)=0,"",$E32)) -> i | M32: présent | O32: =CHOOSE(MATCH(P32,{"présent";"absent"},0),IF(COUNTIF('Planning 23mars'!O$7:O$84,$E32)=4,"saturé",$E32),IF(COUNTIF('Planning 23mars'!O$7:O$84,$E32)=0,"",$E32)) -> i | P32: présent | R32: =CHOOSE(MATCH(S32,{"présent";"absent"},0),IF(COUNTIF('Planning 23mars'!R$7:R$84,$E32)=4,"saturé",$E32),IF(COUNTIF('Planning 23mars'!R$7:R$84,$E32)=0,"",$E32)) -> i | S32: présent | V32: Non appelé
D33: 10 | E33: j | F33: =CHOOSE(MATCH(G33,{"présent";"absent"},0),IF(COUNTIF('Planning 23mars'!F$7:F$84,$E33)=4,"saturé",$E33),IF(COUNTIF('Planning 23mars'!F$7:F$84,$E33)=0,"",$E33)) | G33: absent | H33: NTP | I33: =CHOOSE(MATCH(J33,{"présent";"absent"},0),IF(COUNTIF('Planning 23mars'!I$7:I$84,$E33)=4,"saturé",$E33),IF(COUNTIF('Planning 23mars'!I$7:I$84,$E33)=0,"",$E33)) -> j | J33: présent | L33: =CHOOSE(MATCH(M33,{"présent";"absent"},0),IF(COUNTIF('Planning 23mars'!L$7:L$84,$E33)=4,"saturé",$E33),IF(COUNTIF('Planning 23mars'!L$7:L$84,$E33)=0,"",$E33)) | M33: absent | N33: NTP | O33: =CHOOSE(MATCH(P33,{"présent";"absent"},0),IF(COUNTIF('Planning 23mars'!O$7:O$84,$E33)=4,"saturé",$E33),IF(COUNTIF('Planning 23mars'!O$7:O$84,$E33)=0,"",$E33)) -> j | P33: présent | R33: =CHOOSE(MATCH(S33,{"présent";"absent"},0),IF(COUNTIF('Planning 23mars'!R$7:R$84,$E33)=4,"saturé",$E33),IF(COUNTIF('Planning 23mars'!R$7:R$84,$E33)=0,"",$E33)) | S33: absent | T33: NTP | V33: NTP
D34: 11 | E34: k | F34: =CHOOSE(MATCH(G34,{"présent";"absent"},0),IF(COUNTIF('Planning 23mars'!F$7:F$84,$E34)=4,"saturé",$E34),IF(COUNTIF('Planning 23mars'!F$7:F$84,$E34)=0,"",$E34)) -> k | G34: présent | I34: =CHOOSE(MATCH(J34,{"présent";"absent"},0),IF(COUNTIF('Planning 23mars'!I$7:I$84,$E34)=4,"saturé",$E34),IF(COUNTIF('Planning 23mars'!I$7:I$84,$E34)=0,"",$E34)) -> k | J34: présent | L34: =CHOOSE(MATCH(M34,{"présent";"absent"},0),IF(COUNTIF('Planning 23mars'!L$7:L$84,$E34)=4,"saturé",$E34),IF(COUNTIF('Planning 23mars'!L$7:L$84,$E34)=0,"",$E34)) -> k | M34: présent | O34: =CHOOSE(MATCH(P34,{"présent";"absent"},0),IF(COUNTIF('Planning 23mars'!O$7:O$84,$E34)=4,"saturé",$E34),IF(COUNTIF('Planning 23mars'!O$7:O$84,$E34)=0,"",$E34)) -> k | P34: présent | R34: =CHOOSE(MATCH(S34,{"présent";"absent"},0),IF(COUNTIF('Planning 23mars'!R$7:R$84,$E34)=4,"saturé",$E34),IF(COUNTIF('Planning 23mars'!R$7:R$84,$E34)=0,"",$E34)) -> k | S34: présent | V34: R.T.T
D35: 12 | E35: l | F35: =CHOOSE(MATCH(G35,{"présent";"absent"},0),IF(COUNTIF('Planning 23mars'!F$7:F$84,$E35)=4,"saturé",$E35),IF(COUNTIF('Planning 23mars'!F$7:F$84,$E35)=0,"",$E35)) | G35: absent | H35: Garde enfants | I35: =CHOOSE(MATCH(J35,{"présent";"absent"},0),IF(COUNTIF('Planning 23mars'!I$7:I$84,$E35)=4,"saturé",$E35),IF(COUNTIF('Planning 23mars'!I$7:I$84,$E35)=0,"",$E35)) | J35: absent | K35: Garde enfants | L35: =CHOOSE(MATCH(M35,{"présent";"absent"},0),IF(COUNTIF('Planning 23mars'!L$7:L$84,$E35)=4,"saturé",$E35),IF(COUNTIF('Planning 23mars'!L$7:L$84,$E35)=0,"",$E35)) | M35: absent | N35: Garde enfants | O35: =CHOOSE(MATCH(P35,{"présent";"absent"},0),IF(COUNTIF('Planning 23mars'!O$7:O$84,$E35)=4,"saturé",$E35),IF(COUNTIF('Planning 23mars'!O$7:O$84,$E35)=0,"",$E35)) | P35: absent | Q35: Garde enfants | R35: =CHOOSE(MATCH(S35,{"présent";"absent"},0),IF(COUNTIF('Planning 23mars'!R$7:R$84,$E35)=4,"saturé",$E35),IF(COUNTIF('Planning 23mars'!R$7:R$84,$E35)=0,"",$E35)) | S35: absent | T35: Garde enfants | V35: Sans nouvelle
D36: 13 | E36: m | F36: =CHOOSE(MATCH(G36,{"présent";"absent"},0),IF(COUNTIF('Planning 23mars'!F$7:F$84,$E36)=4,"saturé",$E36),IF(COUNTIF('Planning 23mars'!F$7:F$84,$E36)=0,"",$E36)) -> m | G36: présent | I36: =CHOOSE(MATCH(J36,{"présent";"absent"},0),IF(COUNTIF('Planning 23mars'!I$7:I$84,$E36)=4,"saturé",$E36),IF(COUNTIF('Planning 23mars'!I$7:I$84,$E36)=0,"",$E36)) -> m | J36: présent | L36: =CHOOSE(MATCH(M36,{"présent";"absent"},0),IF(COUNTIF('Planning 23mars'!L$7:L$84,$E36)=4,"saturé",$E36),IF(COUNTIF('Planning 23mars'!L$7:L$84,$E36)=0,"",$E36)) -> m | M36: présent | O36: =CHOOSE(MATCH(P36,{"présent";"absent"},0),IF(COUNTIF('Planning 23mars'!O$7:O$84,$E36)=4,"saturé",$E36),IF(COUNTIF('Planning 23mars'!O$7:O$84,$E36)=0,"",$E36)) -> m | P36: présent | R36: =CHOOSE(MATCH(S36,{"présent";"absent"},0),IF(COUNTIF('Planning 23mars'!R$7:R$84,$E36)=4,"saturé",$E36),IF(COUNTIF('Planning 23mars'!R$7:R$84,$E36)=0,"",$E36)) -> m | S36: présent
D37: 14 | E37: n | F37: =CHOOSE(MATCH(G37,{"présent";"absent"},0),IF(COUNTIF('Planning 23mars'!F$7:F$84,$E37)=4,"saturé",$E37),IF(COUNTIF('Planning 23mars'!F$7:F$84,$E37)=0,"",$E37)) | G37: absent | H37: Eviction M.T | I37: =CHOOSE(MATCH(J37,{"présent";"absent"},0),IF(COUNTIF('Planning 23mars'!I$7:I$84,$E37)=4,"saturé",$E37),IF(COUNTIF('Planning 23mars'!I$7:I$84,$E37)=0,"",$E37)) | J37: absent | K37: NTP | L37: =CHOOSE(MATCH(M37,{"présent";"absent"},0),IF(COUNTIF('Planning 23mars'!L$7:L$84,$E37)=4,"saturé",$E37),IF(COUNTIF('Planning 23mars'!L$7:L$84,$E37)=0,"",$E37)) | M37: absent | N37: Eviction M.T | O37: =CHOOSE(MATCH(P37,{"présent";"absent"},0),IF(COUNTIF('Planning 23mars'!O$7:O$84,$E37)=4,"saturé",$E37),IF(COUNTIF('Planning 23mars'!O$7:O$84,$E37)=0,"",$E37)) | P37: absent | Q37: Eviction M.T | R37: =CHOOSE(MATCH(S37,{"présent";"absent"},0),IF(COUNTIF('Planning 23mars'!R$7:R$84,$E37)=4,"saturé",$E37),IF(COUNTIF('Planning 23mars'!R$7:R$84,$E37)=0,"",$E37)) | S37: absent | T37: Eviction M.T
D38: 15 | E38: o | F38: =CHOOSE(MATCH(G38,{"présent";"absent"},0),IF(COUNTIF('Planning 23mars'!F$7:F$84,$E38)=4,"saturé",$E38),IF(COUNTIF('Planning 23mars'!F$7:F$84,$E38)=0,"",$E38)) | G38: absent | H38: Autre affect. | I38: =CHOOSE(MATCH(J38,{"présent";"absent"},0),IF(COUNTIF('Planning 23mars'!I$7:I$84,$E38)=4,"saturé",$E38),IF(COUNTIF('Planning 23mars'!I$7:I$84,$E38)=0,"",$E38)) | J38: absent | K38: Autre affect. | L38: =CHOOSE(MATCH(M38,{"présent";"absent"},0),IF(COUNTIF('Planning 23mars'!L$7:L$84,$E38)=4,"saturé",$E38),IF(COUNTIF('Planning 23mars'!L$7:L$84,$E38)=0,"",$E38)) | M38: absent | N38: Autre affect. | O38: =CHOOSE(MATCH(P38,{"présent";"absent"},0),IF(COUNTIF('Planning 23mars'!O$7:O$84,$E38)=4,"saturé",$E38),IF(COUNTIF('Planning 23mars'!O$7:O$84,$E38)=0,"",$E38)) | P38: absent | Q38: Autre affect. | R38: =CHOOSE(MATCH(S38,{"présent";"absent"},0),IF(COUNTIF('Planning 23mars'!R$7:R$84,$E38)=4,"saturé",$E38),IF(COUNTIF('Planning 23mars'!R$7:R$84,$E38)=0,"",$E38)) | S38: absent | T38: Autre affect.
D39: 16 | E39: p | F39: =CHOOSE(MATCH(G39,{"présent";"absent"},0),IF(COUNTIF('Planning 23mars'!F$7:F$84,$E39)=4,"saturé",$E39),IF(COUNTIF('Planning 23mars'!F$7:F$84,$E39)=0,"",$E39)) -> p | G39: présent | I39: =CHOOSE(MATCH(J39,{"présent";"absent"},0),IF(COUNTIF('Planning 23mars'!I$7:I$84,$E39)=4,"saturé",$E39),IF(COUNTIF('Planning 23mars'!I$7:I$84,$E39)=0,"",$E39)) -> p | J39: présent | L39: =CHOOSE(MATCH(M39,{"présent";"absent"},0),IF(COUNTIF('Planning 23mars'!L$7:L$84,$E39)=4,"saturé",$E39),IF(COUNTIF('Planning 23mars'!L$7:L$84,$E39)=0,"",$E39)) -> p | M39: présent | O39: =CHOOSE(MATCH(P39,{"présent";"absent"},0),IF(COUNTIF('Planning 23mars'!O$7:O$84,$E39)=4,"saturé",$E39),IF(COUNTIF('Planning 23mars'!O$7:O$84,$E39)=0,"",$E39)) -> p | P39: présent | R39: =CHOOSE(MATCH(S39,{"présent";"absent"},0),IF(COUNTIF('Planning 23mars'!R$7:R$84,$E39)=4,"saturé",$E39),IF(COUNTIF('Planning 23mars'!R$7:R$84,$E39)=0,"",$E39)) | S39: absent | T39: NTP
D40: 17 | E40: q | F40: =CHOOSE(MATCH(G40,{"présent";"absent"},0),IF(COUNTIF('Planning 23mars'!F$7:F$84,$E40)=4,"saturé",$E40),IF(COUNTIF('Planning 23mars'!F$7:F$84,$E40)=0,"",$E40)) | G40: absent | H40: NTP | I40: =CHOOSE(MATCH(J40,{"présent";"absent"},0),IF(COUNTIF('Planning 23mars'!I$7:I$84,$E40)=4,"saturé",$E40),IF(COUNTIF('Planning 23mars'!I$7:I$84,$E40)=0,"",$E40)) -> q | J40: présent | L40: =CHOOSE(MATCH(M40,{"présent";"absent"},0),IF(COUNTIF('Planning 23mars'!L$7:L$84,$E40)=4,"saturé",$E40),IF(COUNTIF('Planning 23mars'!L$7:L$84,$E40)=0,"",$E40)) | M40: absent | N40: NTP | O40: =CHOOSE(MATCH(P40,{"présent";"absent"},0),IF(COUNTIF('Planning 23mars'!O$7:O$84,$E40)=4,"saturé",$E40),IF(COUNTIF('Planning 23mars'!O$7:O$84,$E40)=0,"",$E40)) -> q | P40: présent | R40: =CHOOSE(MATCH(S40,{"présent";"absent"},0),IF(COUNTIF('Planning 23mars'!R$7:R$84,$E40)=4,"saturé",$E40),IF(COUNTIF('Planning 23mars'!R$7:R$84,$E40)=0,"",$E40)) | S40: absent | T40: NTP
D41: 18 | E41: r | F41: =CHOOSE(MATCH(G41,{"présent";"absent"},0),IF(COUNTIF('Planning 23mars'!F$7:F$84,$E41)=4,"saturé",$E41),IF(COUNTIF('Planning 23mars'!F$7:F$84,$E41)=0,"",$E41)) | G41: absent | H41: Sans nouvelle | I41: =CHOOSE(MATCH(J41,{"présent";"absent"},0),IF(COUNTIF('Planning 23mars'!I$7:I$84,$E41)=4,"saturé",$E41),IF(COUNTIF('Planning 23mars'!I$7:I$84,$E41)=0,"",$E41)) | J41: absent | K41: Sans nouvelle | L41: =CHOOSE(MATCH(M41,{"présent";"absent"},0),IF(COUNTIF('Planning 23mars'!L$7:L$84,$E41)=4,"saturé",$E41),IF(COUNTIF('Planning 23mars'!L$7:L$84,$E41)=0,"",$E41)) | M41: absent | N41: Sans nouvelle | O41: =CHOOSE(MATCH(P41,{"présent";"absent"},0),IF(COUNTIF('Planning 23mars'!O$7:O$84,$E41)=4,"saturé",$E41),IF(COUNTIF('Planning 23mars'!O$7:O$84,$E41)=0,"",$E41)) | P41: absent | Q41: NTP | R41: =CHOOSE(MATCH(S41,{"présent";"absent"},0),IF(COUNTIF('Planning 23mars'!R$7:R$84,$E41)=4,"saturé",$E41),IF(COUNTIF('Planning 23mars'!R$7:R$84,$E41)=0,"",$E41)) | S41: absent | T41: Sans nouvelle
D42: 19 | E42: s | F42: =CHOOSE(MATCH(G42,{"présent";"absent"},0),IF(COUNTIF('Planning 23mars'!F$7:F$84,$E42)=4,"saturé",$E42),IF(COUNTIF('Planning 23mars'!F$7:F$84,$E42)=0,"",$E42)) | G42: absent | H42: A. Maladie | I42: =CHOOSE(MATCH(J42,{"présent";"absent"},0),IF(COUNTIF('Planning 23mars'!I$7:I$84,$E42)=4,"saturé",$E42),IF(COUNTIF('Planning 23mars'!I$7:I$84,$E42)=0,"",$E42)) | J42: absent | K42: A. Maladie | L42: =CHOOSE(MATCH(M42,{"présent";"absent"},0),IF(COUNTIF('Planning 23mars'!L$7:L$84,$E42)=4,"saturé",$E42),IF(COUNTIF('Planning 23mars'!L$7:L$84,$E42)=0,"",$E42)) | M42: absent | N42: A. Maladie | O42: =CHOOSE(MATCH(P42,{"présent";"absent"},0),IF(COUNTIF('Planning 23mars'!O$7:O$84,$E42)=4,"saturé",$E42),IF(COUNTIF('Planning 23mars'!O$7:O$84,$E42)=0,"",$E42)) -> s | P42: présent | R42: =CHOOSE(MATCH(S42,{"présent";"absent"},0),IF(COUNTIF('Planning 23mars'!R$7:R$84,$E42)=4,"saturé",$E42),IF(COUNTIF('Planning 23mars'!R$7:R$84,$E42)=0,"",$E42)) -> s | S42: présent
D43: 20 | E43: t | F43: =CHOOSE(MATCH(G43,{"présent";"absent"},0),IF(COUNTIF('Planning 23mars'!F$7:F$84,$E43)=4,"saturé",$E43),IF(COUNTIF('Planning 23mars'!F$7:F$84,$E43)=0,"",$E43)) | G43: absent | H43: Eviction M.T | I43: =CHOOSE(MATCH(J43,{"présent";"absent"},0),IF(COUNTIF('Planning 23mars'!I$7:I$84,$E43)=4,"saturé",$E43),IF(COUNTIF('Planning 23mars'!I$7:I$84,$E43)=0,"",$E43)) | J43: absent | K43: Eviction M.T | L43: =CHOOSE(MATCH(M43,{"présent";"absent"},0),IF(COUNTIF('Planning 23mars'!L$7:L$84,$E43)=4,"saturé",$E43),IF(COUNTIF('Planning 23mars'!L$7:L$84,$E43)=0,"",$E43)) | M43: absent | N43: Eviction M.T | O43: =CHOOSE(MATCH(P43,{"présent";"absent"},0),IF(COUNTIF('Planning 23mars'!O$7:O$84,$E43)=4,"saturé",$E43),IF(COUNTIF('Planning 23mars'!O$7:O$84,$E43)=0,"",$E43)) | P43: absent | Q43: Eviction M.T | R43: =CHOOSE(MATCH(S43,{"présent";"absent"},0),IF(COUNTIF('Planning 23mars'!R$7:R$84,$E43)=4,"saturé",$E43),IF(COUNTIF('Planning 23mars'!R$7:R$84,$E43)=0,"",$E43)) | S43: absent | T43: Eviction M.T
D44: 21 | E44: u | F44: =CHOOSE(MATCH(G44,{"présent";"absent"},0),IF(COUNTIF('Planning 23mars'!F$7:F$84,$E44)=4,"saturé",$E44),IF(COUNTIF('Planning 23mars'!F$7:F$84,$E44)=0,"",$E44)) -> u | G44: présent | I44: =CHOOSE(MATCH(J44,{"présent";"absent"},0),IF(COUNTIF('Planning 23mars'!I$7:I$84,$E44)=4,"saturé",$E44),IF(COUNTIF('Planning 23mars'!I$7:I$84,$E44)=0,"",$E44)) -> u | J44: présent | L44: =CHOOSE(MATCH(M44,{"présent";"absent"},0),IF(COUNTIF('Planning 23mars'!L$7:L$84,$E44)=4,"saturé",$E44),IF(COUNTIF('Planning 23mars'!L$7:L$84,$E44)=0,"",$E44)) -> u | M44: présent | O44: =CHOOSE(MATCH(P44,{"présent";"absent"},0),IF(COUNTIF('Planning 23mars'!O$7:O$84,$E44)=4,"saturé",$E44),IF(COUNTIF('Planning 23mars'!O$7:O$84,$E44)=0,"",$E44)) | P44: absent | Q44: NTP | R44: =CHOOSE(MATCH(S44,{"présent";"absent"},0),IF(COUNTIF('Planning 23mars'!R$7:R$84,$E44)=4,"saturé",$E44),IF(COUNTIF('Planning 23mars'!R$7:R$84,$E44)=0,"",$E44)) -> u | S44: présent
D45: 22 | E45: v | F45: =CHOOSE(MATCH(G45,{"présent";"absent"},0),IF(COUNTIF('Planning 23mars'!F$7:F$84,$E45)=4,"saturé",$E45),IF(COUNTIF('Planning 23mars'!F$7:F$84,$E45)=0,"",$E45)) | G45: absent | H45: Eviction M.T | I45: =CHOOSE(MATCH(J45,{"présent";"absent"},0),IF(COUNTIF('Planning 23mars'!I$7:I$84,$E45)=4,"saturé",$E45),IF(COUNTIF('Planning 23mars'!I$7:I$84,$E45)=0,"",$E45)) | J45: absent | K45: Eviction M.T | L45: =CHOOSE(MATCH(M45,{"présent";"absent"},0),IF(COUNTIF('Planning 23mars'!L$7:L$84,$E45)=4,"saturé",$E45),IF(COUNTIF('Planning 23mars'!L$7:L$84,$E45)=0,"",$E45)) | M45: absent | N45: Eviction M.T | O45: =CHOOSE(MATCH(P45,{"présent";"absent"},0),IF(COUNTIF('Planning 23mars'!O$7:O$84,$E45)=4,"saturé",$E45),IF(COUNTIF('Planning 23mars'!O$7:O$84,$E45)=0,"",$E45)) | P45: absent | Q45: Eviction M.T | R45: =CHOOSE(MATCH(S45,{"présent";"absent"},0),IF(COUNTIF('Planning 23mars'!R$7:R$84,$E45)=4,"saturé",$E45),IF(COUNTIF('Planning 23mars'!R$7:R$84,$E45)=0,"",$E45)) | S45: absent | T45: Eviction M.T
D46: 23 | E46: w | F46: =CHOOSE(MATCH(G46,{"présent";"absent"},0),IF(COUNTIF('Planning 23mars'!F$7:F$84,$E46)=4,"saturé",$E46),IF(COUNTIF('Planning 23mars'!F$7:F$84,$E46)=0,"",$E46)) | G46: absent | H46: Eviction M.T | I46: =CHOOSE(MATCH(J46,{"présent";"absent"},0),IF(COUNTIF('Planning 23mars'!I$7:I$84,$E46)=4,"saturé",$E46),IF(COUNTIF('Planning 23mars'!I$7:I$84,$E46)=0,"",$E46)) | J46: absent | K46: Eviction M.T | L46: =CHOOSE(MATCH(M46,{"présent";"absent"},0),IF(COUNTIF('Planning 23mars'!L$7:L$84,$E46)=4,"saturé",$E46),IF(COUNTIF('Planning 23mars'!L$7:L$84,$E46)=0,"",$E46)) | M46: absent | N46: Eviction M.T | O46: =CHOOSE(MATCH(P46,{"présent";"absent"},0),IF(COUNTIF('Planning 23mars'!O$7:O$84,$E46)=4,"saturé",$E46),IF(COUNTIF('Planning 23mars'!O$7:O$84,$E46)=0,"",$E46)) | P46: absent | Q46: Eviction M.T | R46: =CHOOSE(MATCH(S46,{"présent";"absent"},0),IF(COUNTIF('Planning 23mars'!R$7:R$84,$E46)=4,"saturé",$E46),IF(COUNTIF('Planning 23mars'!R$7:R$84,$E46)=0,"",$E46)) | S46: absent | T46: Eviction M.T
...
