Workbook
Name motifs: 'Tableau de bord'!$V$25:$V$31
Name personnel: #REF!
Name preabs: 'Tableau de bord'!$B$25:$B$26
Name siognants: #REF!
Name soignants: 'Planning 23mars'!$E$7

Sheet Planning 23mars
D1: Semaine du 23/03 AU 27/03
D4: Horaires | E4: LUNDI 23 mars | H4: MARDI 24 mars | K4: MERCREDI 25 mars | N4: JEUDI 26 mars | Q4: VENDREDI 27 mars
E5: UNITES PREVUES | F5: =COUNTBLANK('Tableau de bord'!F24:F56)-33 -> -9 | H5: UNITES PREVUES | I5: =COUNTBLANK('Tableau de bord'!I24:I56)-33 -> -15 | K5: UNITES PREVUES | L5: =COUNTBLANK('Tableau de bord'!L24:L56)-33 -> -10 | N5: UNITES PREVUES | O5: =COUNTBLANK('Tableau de bord'!O24:O56)-33 -> -15 | Q5: UNITES PREVUES | R5: =COUNTBLANK('Tableau de bord'!R24:R56)-33 -> -11
F6: =SUMPRODUCT((F7:F84<>"")/COUNTIF(F7:F84,F7:F84&"")) -> 4 | I6: =SUMPRODUCT((I7:I84<>"")/COUNTIF(I7:I84,I7:I84&"")) -> 0 | L6: =SUMPRODUCT((L7:L84<>"")/COUNTIF(L7:L84,L7:L84&"")) -> 0 | O6: =SUMPRODUCT((O7:O84<>"")/COUNTIF(O7:O84,O7:O84&"")) -> 0 | R6: =SUMPRODUCT((R7:R84<>"")/COUNTIF(R7:R84,R7:R84&"")) -> 0
D7: 9h-10h30 | E7: unité2 | F7: g
D9: 10h30-12h | E9: unité1 | F9: i
D11: 13h30-15h | E11: unité3 | F11: rr
D13: 15h-16-30 | E13: unité4 | F13: p
C16: Début … | D16: 9h-10h30
D17: 10h30-12h
D18: 13h30-15h
D19: 15h-16-30
D21: 9h-10h30
D22: 10h30-12h
D23: 13h30-15h
D24: 15h-16-30
D26: 9h-10h30
D27: 10h30-12h
D28: 13h30-15h
D29: 15h-16-30
D31: 9h-10h30
... D84: 15h-16-30

Sheet Tableau de bord
E2: UNITES
F3: lundi | I3: mardi | L3: mercredi | O3: jeudi | R3: vendredi
E4: CL 1 | F4: unité1 | I4: unité1 | L4: =IF(COUNTIF('Planning 23mars'!K$7:K$81,$E4)=2,"",$E4) -> CL 1 | O4: =IF(COUNTIF('Planning 23mars'!N$7:N$81,$E4)=2,"",$E4) -> CL 1 | R4: =IF(COUNTIF('Planning 23mars'!Q$7:Q$81,$E4)=2,"",$E4) -> CL 1
E5: CL 2 | F5: unité2 | I5: unité2 | L5: =IF(COUNTIF('Planning 23mars'!K$7:K$81,$E5)=2,"",$E5) -> CL 2 | O5: =IF(COUNTIF('Planning 23mars'!N$7:N$81,$E5)=2,"",$E5) -> CL 2 | R5: =IF(COUNTIF('Planning 23mars'!Q$7:Q$81,$E5)=2,"",$E5) -> CL 2
E6: ERASME | F6: unité3 | I6: unité3 | L6: =IF(COUNTIF('Planning 23mars'!K$7:K$81,$E6)=2,"",$E6) -> ERASME | O6: =IF(COUNTIF('Planning 23mars'!N$7:N$81,$E6)=2,"",$E6) -> ERASME | R6: =IF(COUNTIF('Planning 23mars'!Q$7:Q$81,$E6)=2,"",$E6) -> ERASME
E7: F.ROSEAU | F7: unité4 | I7: unité4 | L7: =IF(COUNTIF('Planning 23mars'!K$7:K$81,$E7)=2,"",$E7) -> F.ROSEAU | O7: =IF(COUNTIF('Planning 23mars'!N$7:N$81,$E7)=2,"",$E7) -> F.ROSEAU | R7: =IF(COUNTIF('Planning 23mars'!Q$7:Q$81,$E7)=2,"",$E7) -> F.ROSEAU
E8: GALILEE | F8: unité5 | I8: unité5 | L8: =IF(COUNTIF('Planning 23mars'!K$7:K$81,$E8)=2,"",$E8) -> GALILEE | O8: =IF(COUNTIF('Planning 23mars'!N$7:N$81,$E8)=2,"",$E8) -> GALILEE | R8: =IF(COUNTIF('Planning 23mars'!Q$7:Q$81,$E8)=2,"",$E8) -> GALILEE
E9: HERMES | F9: unité6 | I9: unité6 | L9: =IF(COUNTIF('Planning 23mars'!K$7:K$81,$E9)=2,"",$E9) -> HERMES | O9: =IF(COUNTIF('Planning 23mars'!N$7:N$81,$E9)=2,"",$E9) -> HERMES | R9: =IF(COUNTIF('Planning 23mars'!Q$7:Q$81,$E9)=2,"",$E9) -> HERMES
E10: L.LABBE | F10: unité7 | I10: unité7 | L10: =IF(COUNTIF('Planning 23mars'!K$7:K$81,$E10)=2,"",$E10) -> L.LABBE | O10: =IF(COUNTIF('Planning 23mars'!N$7:N$81,$E10)=2,"",$E10) -> L.LABBE | R10: =IF(COUNTIF('Planning 23mars'!Q$7:Q$81,$E10)=2,"",$E10) -> L.LABBE
E11: MAG 2 | F11: unité8 | I11: unité8 | L11: =IF(COUNTIF('Planning 23mars'!K$7:K$81,$E11)=2,"",$E11) -> MAG 2 | O11: =IF(COUNTIF('Planning 23mars'!N$7:N$81,$E11)=2,"",$E11) -> MAG 2 | R11: =IF(COUNTIF('Planning 23mars'!Q$7:Q$81,$E11)=2,"",$E11) -> MAG 2
E12: MAG 3 | F12: unité9 | I12: unité9 | L12: =IF(COUNTIF('Planning 23mars'!K$7:K$81,$E12)=2,"",$E12) -> MAG 3 | O12: =IF(COUNTIF('Planning 23mars'!N$7:N$81,$E12)=2,"",$E12) -> MAG 3 | R12: =IF(COUNTIF('Planning 23mars'!Q$7:Q$81,$E12)=2,"",$E12) -> MAG 3
E13: ORANGERIE | F13: unité10 | I13: unité10 | L13: =IF(COUNTIF('Planning 23mars'!K$7:K$81,$E13)=2,"",$E13) -> ORANGERIE | O13: =IF(COUNTIF('Planning 23mars'!N$7:N$81,$E13)=2,"",$E13) -> ORANGERIE | R13: =IF(COUNTIF('Planning 23mars'!Q$7:Q$81,$E13)=2,"",$E13) -> ORANGERIE
E14: OSIRIS | F14: unité11 | I14: unité11 | L14: =IF(COUNTIF('Planning 23mars'!K$7:K$81,$E14)=2,"",$E14) -> OSIRIS | O14: =IF(COUNTIF('Planning 23mars'!N$7:N$81,$E14)=2,"",$E14) -> OSIRIS | R14: =IF(COUNTIF('Planning 23mars'!Q$7:Q$81,$E14)=2,"",$E14) -> OSIRIS
E15: P.SIVADON | F15: unité12 | I15: unité12 | L15: =IF(COUNTIF('Planning 23mars'!K$7:K$81,$E15)=2,"",$E15) -> P.SIVADON | O15: =IF(COUNTIF('Planning 23mars'!N$7:N$81,$E15)=2,"",$E15) -> P.SIVADON | R15: =IF(COUNTIF('Planning 23mars'!Q$7:Q$81,$E15)=2,"",$E15) -> P.SIVADON
... E18: ULYSSE | F18: unité15 | I18: unité15 | L18: =IF(COUNTIF('Planning 23mars'!K$7:K$81,$E18)=2,"",$E18) -> ULYSSE | O18: =IF(COUNTIF('Planning 23mars'!N$7:N$81,$E18)=2,"",$E18) -> ULYSSE | R18: =IF(COUNTIF('Planning 23mars'!Q$7:Q$81,$E18)=2,"",$E18) -> ULYSSE
E21: Gestion des absences-présences des soignants / Nombre de patients participants : 23 mars- 27 mars
E23: noms soignants | F23: LUNDI | G23: LUNDI | H23: Motifs Abs | I23: MARDI | J23: MARDI | K23: Motifs Abs | L23: MERCREDI | M23: MERCREDI | N23: Motifs Abs | O23: JEUDI | P23: JEUDI | Q23: Motifs Abs | R23: VENDREDI | S23: VENDREDI | T23: Motifs Abs
D24: 1 | E24: a | F24: =CHOOSE(MATCH(G24,{"présent";"absent"},0),IF(COUNTIF('Planning 23mars'!F$7:F$84,$E24)=4,"saturé",$E24),IF(COUNTIF('Planning 23mars'!F$7:F$84,$E24)=0,"",$E24)) -> a | G24: présent | I24: =CHOOSE(MATCH(J24,{"présent";"absent"},0),IF(COUNTIF('Planning 23mars'!I$7:I$84,$E24)=4,"saturé",$E24),IF(COUNTIF('Planning 23mars'!I$7:I$84,$E24)=0,"",$E24)) -> a | J24: présent | L24: =CHOOSE(MATCH(M24,{"présent";"absent"},0),IF(COUNTIF('Planning 23mars'!L$7:L$84,$E24)=4,"saturé",$E24),IF(COUNTIF('Planning 23mars'!L$7:L$84,$E24)=0,"",$E24)) | M24: absent | N24: NTP | O24: =CHOOSE(MATCH(P24,{"présent";"absent"},0),IF(COUNTIF('Planning 23mars'!O$7:O$84,$E24)=4,"saturé",$E24),IF(COUNTIF('Planning 23mars'!O$7:O$84,$E24)=0,"",$E24)) -> a | P24: présent | R24: =CHOOSE(MATCH(S24,{"présent";"absent"},0),IF(COUNTIF('Planning 23mars'!R$7:R$84,$E24)=4,"saturé",$E24),IF(COUNTIF('Planning 23mars'!R$7:R$84,$E24)=0,"",$E24)) -> a | S24: présent | V24: motifs
B25: présent | D25: 2 | E25: b | F25: =CHOOSE(MATCH(G25,{"présent";"absent"},0),IF(COUNTIF('Planning 23mars'!F$7:F$84,$E25)=4,"saturé",$E25),IF(COUNTIF('Planning 23mars'!F$7:F$84,$E25)=0,"",$E25)) | G25: absent | H25: Eviction M.T | I25: =CHOOSE(MATCH(J25,{"présent";"absent"},0),IF(COUNTIF('Planning 23mars'!I$7:I$84,$E25)=4,"saturé",$E25),IF(COUNTIF('Planning 23mars'!I$7:I$84,$E25)=0,"",$E25)) | J25: absent | K25: Eviction M.T | L25: =CHOOSE(MATCH(M25,{"présent";"absent"},0),IF(COUNTIF('Planning 23mars'!L$7:L$84,$E25)=4,"saturé",$E25),IF(COUNTIF('Planning 23mars'!L$7:L$84,$E25)=0,"",$E25)) | M25: absent | N25: Eviction M.T | O25: =CHOOSE(MATCH(P25,{"présent";"absent"},0),IF(COUNTIF('Planning 23mars'!O$7:O$84,$E25)=4,"saturé",$E25),IF(COUNTIF('Planning 23mars'!O$7:O$84,$E25)=0,"",$E25)) | P25: absent | Q25: Eviction M.T | R25: =CHOOSE(MATCH(S25,{"présent";"absent"},0),IF(COUNTIF('Planning 23mars'!R$7:R$84,$E25)=4,"saturé",$E25),IF(COUNTIF('Planning 23mars'!R$7:R$84,$E25)=0,"",$E25)) | S25: absent | T25: Eviction M.T | V25: A. Maladie
B26: absent | D26: 3 | E26: c | F26: =CHOOSE(MATCH(G26,{"présent";"absent"},0),IF(COUNTIF('Planning 23mars'!F$7:F$84,$E26)=4,"saturé",$E26),IF(COUNTIF('Planning 23mars'!F$7:F$84,$E26)=0,"",$E26)) | G26: absent | H26: NTP | I26: =CHOOSE(MATCH(J26,{"présent";"absent"},0),IF(COUNTIF('Planning 23mars'!I$7:I$84,$E26)=4,"saturé",$E26),IF(COUNTIF('Planning 23mars'!I$7:I$84,$E26)=0,"",$E26)) -> c | J26: présent | L26: =CHOOSE(MATCH(M26,{"présent";"absent"},0),IF(COUNTIF('Planning 23mars'!L$7:L$84,$E26)=4,"saturé",$E26),IF(COUNTIF('Planning 23mars'!L$7:L$84,$E26)=0,"",$E26)) | M26: absent | N26: Non appelé | O26: =CHOOSE(MATCH(P26,{"présent";"absent"},0),IF(COUNTIF('Planning 23mars'!O$7:O$84,$E26)=4,"saturé",$E26),IF(COUNTIF('Planning 23mars'!O$7:O$84,$E26)=0,"",$E26)) -> c | P26: présent | R26: =CHOOSE(MATCH(S26,{"présent";"absent"},0),IF(COUNTIF('Planning 23mars'!R$7:R$84,$E26)=4,"saturé",$E26),IF(COUNTIF('Planning 23mars'!R$7:R$84,$E26)=0,"",$E26)) | S26: absent | T26: NTP | V26: Accident travail
B27: ?? | D27: 4 | E27: d | F27: =CHOOSE(MATCH(G27,{"présent";"absent"},0),IF(COUNTIF('Planning 23mars'!F$7:F$84,$E27)=4,"saturé",$E27),IF(COUNTIF('Planning 23mars'!F$7:F$84,$E27)=0,"",$E27)) | G27: absent | H27: Eviction M.T | I27: =CHOOSE(MATCH(J27,{"présent";"absent"},0),IF(COUNTIF('Planning 23mars'!I$7:I$84,$E27)=4,"saturé",$E27),IF(COUNTIF('Planning 23mars'!I$7:I$84,$E27)=0,"",$E27)) | J27: absent | K27: Eviction M.T | L27: =CHOOSE(MATCH(M27,{"présent";"absent"},0),IF(COUNTIF('Planning 23mars'!L$7:L$84,$E27)=4,"saturé",$E27),IF(COUNTIF('Planning 23mars'!L$7:L$84,$E27)=0,"",$E27)) | M27: absent | N27: Eviction M.T | O27: =CHOOSE(MATCH(P27,{"présent";"absent"},0),IF(COUNTIF('Planning 23mars'!O$7:O$84,$E27)=4,"saturé",$E27),IF(COUNTIF('Planning 23mars'!O$7:O$84,$E27)=0,"",$E27)) | P27: absent | Q27: Eviction M.T | R27: =CHOOSE(MATCH(S27,{"présent";"absent"},0),IF(COUNTIF('Planning 23mars'!R$7:R$84,$E27)=4,"saturé",$E27),IF(COUNTIF('Planning 23mars'!R$7:R$84,$E27)=0,"",$E27)) | S27: absent | T27: Eviction M.T | V27: Autre affect.
D28: 5 | E28: e | F28: =CHOOSE(MATCH(G28,{"présent";"absent"},0),IF(COUNTIF('Planning 23mars'!F$7:F$84,$E28)=4,"saturé",$E28),IF(COUNTIF('Planning 23mars'!F$7:F$84,$E28)=0,"",$E28)) | G28: absent | H28: Autre affect. | I28: =CHOOSE(MATCH(J28,{"présent";"absent"},0),IF(COUNTIF('Planning 23mars'!I$7:I$84,$E28)=4,"saturé",$E28),IF(COUNTIF('Planning 23mars'!I$7:I$84,$E28)=0,"",$E28)) -> e | J28: présent | L28: =CHOOSE(MATCH(M28,{"présent";"absent"},0),IF(COUNTIF('Planning 23mars'!L$7:L$84,$E28)=4,"saturé",$E28),IF(COUNTIF('Planning 23mars'!L$7:L$84,$E28)=0,"",$E28)) -> e | M28: présent | O28: =CHOOSE(MATCH(P28,{"présent";"absent"},0),IF(COUNTIF('Planning 23mars'!O$7:O$84,$E28)=4,"saturé",$E28),IF(COUNTIF('Planning 23mars'!O$7:O$84,$E28)=0,"",$E28)) -> e | P28: présent | R28: =CHOOSE(MATCH(S28,{"présent";"absent"},0),IF(COUNTIF('Planning 23mars'!R$7:R$84,$E28)=4,"saturé",$E28),IF(COUNTIF('Planning 23mars'!R$7:R$84,$E28)=0,"",$E28)) -> e | S28: présent | V28: Congés payés
D29: 6 | E29: f | F29: =CHOOSE(MATCH(G29,{"présent";"absent"},0),IF(COUNTIF('Planning 23mars'!F$7:F$84,$E29)=4,"saturé",$E29),IF(COUNTIF('Planning 23mars'!F$7:F$84,$E29)=0,"",$E29)) | G29: absent | H29: NTP | I29: =CHOOSE(MATCH(J29,{"présent";"absent"},0),IF(COUNTIF('Planning 23mars'!I$7:I$84,$E29)=4,"saturé",$E29),IF(COUNTIF('Planning 23mars'!I$7:I$84,$E29)=0,"",$E29)) -> f | J29: présent | L29: =CHOOSE(MATCH(M29,{"présent";"absent"},0),IF(COUNTIF('Planning 23mars'!L$7:L$84,$E29)=4,"saturé",$E29),IF(COUNTIF('Planning 23mars'!L$7:L$84,$E29)=0,"",$E29)) -> f | M29: présent | O29: =CHOOSE(MATCH(P29,{"présent";"absent"},0),IF(COUNTIF('Planning 23mars'!O$7:O$84,$E29)=4,"saturé",$E29),IF(COUNTIF('Planning 23mars'!O$7:O$84,$E29)=0,"",$E29)) | P29: absent | Q29: NTP | R29: =CHOOSE(MATCH(S29,{"présent";"absent"},0),IF(COUNTIF('Planning 23mars'!R$7:R$84,$E29)=4,"saturé",$E29),IF(COUNTIF('Planning 23mars'!R$7:R$84,$E29)=0,"",$E29)) | S29: absent | T29: NTP | V29: Enf. malade
D30: 7 | E30: g | F30: =CHOOSE(MATCH(G30,{"présent";"absent"},0),IF(COUNTIF('Planning 23mars'!F$7:F$84,$E30)=4,"saturé",$E30),IF(COUNTIF('Planning 23mars'!F$7:F$84,$E30)=0,"",$E30)) -> g | G30: présent | I30: =CHOOSE(MATCH(J30,{"présent";"absent"},0),IF(COUNTIF('Planning 23mars'!I$7:I$84,$E30)=4,"saturé",$E30),IF(COUNTIF('Planning 23mars'!I$7:I$84,$E30)=0,"",$E30)) -> g | J30: présent | K30: Eviction M.T | L30: =CHOOSE(MATCH(M30,{"présent";"absent"},0),IF(COUNTIF('Planning 23mars'!L$7:L$84,$E30)=4,"saturé",$E30),IF(COUNTIF('Planning 23mars'!L$7:L$84,$E30)=0,"",$E30)) | M30: absent | N30: Eviction M.T | O30: =CHOOSE(MATCH(P30,{"présent";"absent"},0),IF(COUNTIF('Planning 23mars'!O$7:O$84,$E30)=4,"saturé",$E30),IF(COUNTIF('Planning 23mars'!O$7:O$84,$E30)=0,"",$E30)) | P30: absent | Q30: Eviction M.T | R30: =CHOOSE(MATCH(S30,{"présent";"absent"},0),IF(COUNTIF('Planning 23mars'!R$7:R$84,$E30)=4,"saturé",$E30),IF(COUNTIF('Planning 23mars'!R$7:R$84,$E30)=0,"",$E30)) | S30: absent | T30: Eviction M.T | V30: Eviction M.T
D31: 8 | E31: h | F31: =CHOOSE(MATCH(G31,{"présent";"absent"},0),IF(COUNTIF('Planning 23mars'!F$7:F$84,$E31)=4,"saturé",$E31),IF(COUNTIF('Planning 23mars'!F$7:F$84,$E31)=0,"",$E31)) | G31: absent | H31: NTP | I31: =CHOOSE(MATCH(J31,{"présent";"absent"},0),IF(COUNTIF('Planning 23mars'!I$7:I$84,$E31)=4,"saturé",$E31),IF(COUNTIF('Planning 23mars'!I$7:I$84,$E31)=0,"",$E31)) -> h | J31: présent | L31: =CHOOSE(MATCH(M31,{"présent";"absent"},0),IF(COUNTIF('Planning 23mars'!L$7:L$84,$E31)=4,"saturé",$E31),IF(COUNTIF('Planning 23mars'!L$7:L$84,$E31)=0,"",$E31)) | M31: absent | N31: NTP | O31: =CHOOSE(MATCH(P31,{"présent";"absent"},0),IF(COUNTIF('Planning 23mars'!O$7:O$84,$E31)=4,"saturé",$E31),IF(COUNTIF('Planning 23mars'!O$7:O$84,$E31)=0,"",$E31)) -> h | P31: présent | R31: =CHOOSE(MATCH(S31,{"présent";"absent"},0),IF(COUNTIF('Planning 23mars'!R$7:R$84,$E31)=4,"saturé",$E31),IF(COUNTIF('Planning 23mars'!R$7:R$84,$E31)=0,"",$E31)) | S31: absent | T31: NTP | V31: Garde enfants
D32: 9 | E32: i | F32: =CHOOSE(MATCH(G32,{"présent";"absent"},0),IF(COUNTIF('Planning 23mars'!F$7:F$84,$E32)=4,"saturé",$E32),IF(COUNTIF('Planning 23mars'!F$7:F$84,$E32)=0,"",$E32)) -> i | G32: présent | I32: =CHOOSE(MATCH(J32,{"présent";"absent"},0),IF(COUNTIF('Planning 23mars'!I$7:I$84,$E32)=4,"saturé",$E32),IF(COUNTIF('Planning 23mars'!I$7:I$84,$E32)=0,"",$E32)) -> i | J32: présent | L32: =CHOOSE(MATCH(M32,{"présent";"absent"},0),IF(COUNTIF('Planning 23mars'!L$7:L$84,$E32)=4,"saturé",$E32),IF(COUNTIF('Planning 23mars'!L$7:L$84,$E32)=0,"",$E32)) -> i | M32: présent | O32: =CHOOSE(MATCH(P32,{"présent";"absent"},0),IF(COUNTIF('Planning 23mars'!O$7:O$84,$E32)=4,"saturé",$E32),IF(COUNTIF('Planning 23mars'!O$7:O$84,$E32)=0,"",$E32)) -> i | P32: présent | R32: =CHOOSE(MATCH(S32,{"présent";"absent"},0),IF(COUNTIF('Planning 23mars'!R$7:R$84,$E32)=4,"saturé",$E32),IF(COUNTIF('Planning 23mars'!R$7:R$84,$E32)=0,"",$E32)) -> i | S32: présent | V32: Non appelé
D33: 10 | E33: j | F33: =CHOOSE(MATCH(G33,{"présent";"absent"},0),IF(COUNTIF('Planning 23mars'!F$7:F$84,$E33)=4,"saturé",$E33),IF(COUNTIF('Planning 23mars'!F$7:F$84,$E33)=0,"",$E33)) | G33: absent | H33: NTP | I33: =CHOOSE(MATCH(J33,{"présent";"absent"},0),IF(COUNTIF('Planning 23mars'!I$7:I$84,$E33)=4,"saturé",$E33),IF(COUNTIF('Planning 23mars'!I$7:I$84,$E33)=0,"",$E33)) -> j | J33: présent | L33: =CHOOSE(MATCH(M33,{"présent";"absent"},0),IF(COUNTIF('Planning 23mars'!L$7:L$84,$E33)=4,"saturé",$E33),IF(COUNTIF('Planning 23mars'!L$7:L$84,$E33)=0,"",$E33)) | M33: absent | N33: NTP | O33: =CHOOSE(MATCH(P33,{"présent";"absent"},0),IF(COUNTIF('Planning 23mars'!O$7:O$84,$E33)=4,"saturé",$E33),IF(COUNTIF('Planning 23mars'!O$7:O$84,$E33)=0,"",$E33)) -> j | P33: présent | R33: =CHOOSE(MATCH(S33,{"présent";"absent"},0),IF(COUNTIF('Planning 23mars'!R$7:R$84,$E33)=4,"saturé",$E33),IF(COUNTIF('Planning 23mars'!R$7:R$84,$E33)=0,"",$E33)) | S33: absent | T33: NTP | V33: NTP
D34: 11 | E34: k | F34: =CHOOSE(MATCH(G34,{"présent";"absent"},0),IF(COUNTIF('Planning 23mars'!F$7:F$84,$E34)=4,"saturé",$E34),IF(COUNTIF('Planning 23mars'!F$7:F$84,$E34)=0,"",$E34)) -> k | G34: présent | I34: =CHOOSE(MATCH(J34,{"présent";"absent"},0),IF(COUNTIF('Planning 23mars'!I$7:I$84,$E34)=4,"saturé",$E34),IF(COUNTIF('Planning 23mars'!I$7:I$84,$E34)=0,"",$E34)) -> k | J34: présent | L34: =CHOOSE(MATCH(M34,{"présent";"absent"},0),IF(COUNTIF('Planning 23mars'!L$7:L$84,$E34)=4,"saturé",$E34),IF(COUNTIF('Planning 23mars'!L$7:L$84,$E34)=0,"",$E34)) -> k | M34: présent | O34: =CHOOSE(MATCH(P34,{"présent";"absent"},0),IF(COUNTIF('Planning 23mars'!O$7:O$84,$E34)=4,"saturé",$E34),IF(COUNTIF('Planning 23mars'!O$7:O$84,$E34)=0,"",$E34)) -> k | P34: présent | R34: =CHOOSE(MATCH(S34,{"présent";"absent"},0),IF(COUNTIF('Planning 23mars'!R$7:R$84,$E34)=4,"saturé",$E34),IF(COUNTIF('Planning 23mars'!R$7:R$84,$E34)=0,"",$E34)) -> k | S34: présent | V34: R.T.T
D35: 12 | E35: l | F35: =CHOOSE(MATCH(G35,{"présent";"absent"},0),IF(COUNTIF('Planning 23mars'!F$7:F$84,$E35)=4,"saturé",$E35),IF(COUNTIF('Planning 23mars'!F$7:F$84,$E35)=0,"",$E35)) | G35: absent | H35: Garde enfants | I35: =CHOOSE(MATCH(J35,{"présent";"absent"},0),IF(COUNTIF('Planning 23mars'!I$7:I$84,$E35)=4,"saturé",$E35),IF(COUNTIF('Planning 23mars'!I$7:I$84,$E35)=0,"",$E35)) | J35: absent | K35: Garde enfants | L35: =CHOOSE(MATCH(M35,{"présent";"absent"},0),IF(COUNTIF('Planning 23mars'!L$7:L$84,$E35)=4,"saturé",$E35),IF(COUNTIF('Planning 23mars'!L$7:L$84,$E35)=0,"",$E35)) | M35: absent | N35: Garde enfants | O35: =CHOOSE(MATCH(P35,{"présent";"absent"},0),IF(COUNTIF('Planning 23mars'!O$7:O$84,$E35)=4,"saturé",$E35),IF(COUNTIF('Planning 23mars'!O$7:O$84,$E35)=0,"",$E35)) | P35: absent | Q35: Garde enfants | R35: =CHOOSE(MATCH(S35,{"présent";"absent"},0),IF(COUNTIF('Planning 23mars'!R$7:R$84,$E35)=4,"saturé",$E35),IF(COUNTIF('Planning 23mars'!R$7:R$84,$E35)=0,"",$E35)) | S35: absent | T35: Garde enfants | V35: Sans nouvelle
D36: 13 | E36: m | F36: =CHOOSE(MATCH(G36,{"présent";"absent"},0),IF(COUNTIF('Planning 23mars'!F$7:F$84,$E36)=4,"saturé",$E36),IF(COUNTIF('Planning 23mars'!F$7:F$84,$E36)=0,"",$E36)) -> m | G36: présent | I36: =CHOOSE(MATCH(J36,{"présent";"absent"},0),IF(COUNTIF('Planning 23mars'!I$7:I$84,$E36)=4,"saturé",$E36),IF(COUNTIF('Planning 23mars'!I$7:I$84,$E36)=0,"",$E36)) -> m | J36: présent | L36: =CHOOSE(MATCH(M36,{"présent";"absent"},0),IF(COUNTIF('Planning 23mars'!L$7:L$84,$E36)=4,"saturé",$E36),IF(COUNTIF('Planning 23mars'!L$7:L$84,$E36)=0,"",$E36)) -> m | M36: présent | O36: =CHOOSE(MATCH(P36,{"présent";"absent"},0),IF(COUNTIF('Planning 23mars'!O$7:O$84,$E36)=4,"saturé",$E36),IF(COUNTIF('Planning 23mars'!O$7:O$84,$E36)=0,"",$E36)) -> m | P36: présent | R36: =CHOOSE(MATCH(S36,{"présent";"absent"},0),IF(COUNTIF('Planning 23mars'!R$7:R$84,$E36)=4,"saturé",$E36),IF(COUNTIF('Planning 23mars'!R$7:R$84,$E36)=0,"",$E36)) -> m | S36: présent
D37: 14 | E37: n | F37: =CHOOSE(MATCH(G37,{"présent";"absent"},0),IF(COUNTIF('Planning 23mars'!F$7:F$84,$E37)=4,"saturé",$E37),IF(COUNTIF('Planning 23mars'!F$7:F$84,$E37)=0,"",$E37)) | G37: absent | H37: Eviction M.T | I37: =CHOOSE(MATCH(J37,{"présent";"absent"},0),IF(COUNTIF('Planning 23mars'!I$7:I$84,$E37)=4,"saturé",$E37),IF(COUNTIF('Planning 23mars'!I$7:I$84,$E37)=0,"",$E37)) | J37: absent | K37: NTP | L37: =CHOOSE(MATCH(M37,{"présent";"absent"},0),IF(COUNTIF('Planning 23mars'!L$7:L$84,$E37)=4,"saturé",$E37),IF(COUNTIF('Planning 23mars'!L$7:L$84,$E37)=0,"",$E37)) | M37: absent | N37: Eviction M.T | O37: =CHOOSE(MATCH(P37,{"présent";"absent"},0),IF(COUNTIF('Planning 23mars'!O$7:O$84,$E37)=4,"saturé",$E37),IF(COUNTIF('Planning 23mars'!O$7:O$84,$E37)=0,"",$E37)) | P37: absent | Q37: Eviction M.T | R37: =CHOOSE(MATCH(S37,{"présent";"absent"},0),IF(COUNTIF('Planning 23mars'!R$7:R$84,$E37)=4,"saturé",$E37),IF(COUNTIF('Planning 23mars'!R$7:R$84,$E37)=0,"",$E37)) | S37: absent | T37: Eviction M.T
D38: 15 | E38: o | F38: =CHOOSE(MATCH(G38,{"présent";"absent"},0),IF(COUNTIF('Planning 23mars'!F$7:F$84,$E38)=4,"saturé",$E38),IF(COUNTIF('Planning 23mars'!F$7:F$84,$E38)=0,"",$E38)) | G38: absent | H38: Autre affect. | I38: =CHOOSE(MATCH(J38,{"présent";"absent"},0),IF(COUNTIF('Planning 23mars'!I$7:I$84,$E38)=4,"saturé",$E38),IF(COUNTIF('Planning 23mars'!I$7:I$84,$E38)=0,"",$E38)) | J38: absent | K38: Autre affect. | L38: =CHOOSE(MATCH(M38,{"présent";"absent"},0),IF(COUNTIF('Planning 23mars'!L$7:L$84,$E38)=4,"saturé",$E38),IF(COUNTIF('Planning 23mars'!L$7:L$84,$E38)=0,"",$E38)) | M38: absent | N38: Autre affect. | O38: =CHOOSE(MATCH(P38,{"présent";"absent"},0),IF(COUNTIF('Planning 23mars'!O$7:O$84,$E38)=4,"saturé",$E38),IF(COUNTIF('Planning 23mars'!O$7:O$84,$E38)=0,"",$E38)) | P38: absent | Q38: Autre affect. | R38: =CHOOSE(MATCH(S38,{"présent";"absent"},0),IF(COUNTIF('Planning 23mars'!R$7:R$84,$E38)=4,"saturé",$E38),IF(COUNTIF('Planning 23mars'!R$7:R$84,$E38)=0,"",$E38)) | S38: absent | T38: Autre affect.
D39: 16 | E39: p | F39: =CHOOSE(MATCH(G39,{"présent";"absent"},0),IF(COUNTIF('Planning 23mars'!F$7:F$84,$E39)=4,"saturé",$E39),IF(COUNTIF('Planning 23mars'!F$7:F$84,$E39)=0,"",$E39)) -> p | G39: présent | I39: =CHOOSE(MATCH(J39,{"présent";"absent"},0),IF(COUNTIF('Planning 23mars'!I$7:I$84,$E39)=4,"saturé",$E39),IF(COUNTIF('Planning 23mars'!I$7:I$84,$E39)=0,"",$E39)) -> p | J39: présent | L39: =CHOOSE(MATCH(M39,{"présent";"absent"},0),IF(COUNTIF('Planning 23mars'!L$7:L$84,$E39)=4,"saturé",$E39),IF(COUNTIF('Planning 23mars'!L$7:L$84,$E39)=0,"",$E39)) -> p | M39: présent | O39: =CHOOSE(MATCH(P39,{"présent";"absent"},0),IF(COUNTIF('Planning 23mars'!O$7:O$84,$E39)=4,"saturé",$E39),IF(COUNTIF('Planning 23mars'!O$7:O$84,$E39)=0,"",$E39)) -> p | P39: présent | R39: =CHOOSE(MATCH(S39,{"présent";"absent"},0),IF(COUNTIF('Planning 23mars'!R$7:R$84,$E39)=4,"saturé",$E39),IF(COUNTIF('Planning 23mars'!R$7:R$84,$E39)=0,"",$E39)) | S39: absent | T39: NTP
D40: 17 | E40: q | F40: =CHOOSE(MATCH(G40,{"présent";"absent"},0),IF(COUNTIF('Planning 23mars'!F$7:F$84,$E40)=4,"saturé",$E40),IF(COUNTIF('Planning 23mars'!F$7:F$84,$E40)=0,"",$E40)) | G40: absent | H40: NTP | I40: =CHOOSE(MATCH(J40,{"présent";"absent"},0),IF(COUNTIF('Planning 23mars'!I$7:I$84,$E40)=4,"saturé",$E40),IF(COUNTIF('Planning 23mars'!I$7:I$84,$E40)=0,"",$E40)) -> q | J40: présent | L40: =CHOOSE(MATCH(M40,{"présent";"absent"},0),IF(COUNTIF('Planning 23mars'!L$7:L$84,$E40)=4,"saturé",$E40),IF(COUNTIF('Planning 23mars'!L$7:L$84,$E40)=0,"",$E40)) | M40: absent | N40: NTP | O40: =CHOOSE(MATCH(P40,{"présent";"absent"},0),IF(COUNTIF('Planning 23mars'!O$7:O$84,$E40)=4,"saturé",$E40),IF(COUNTIF('Planning 23mars'!O$7:O$84,$E40)=0,"",$E40)) -> q | P40: présent | R40: =CHOOSE(MATCH(S40,{"présent";"absent"},0),IF(COUNTIF('Planning 23mars'!R$7:R$84,$E40)=4,"saturé",$E40),IF(COUNTIF('Planning 23mars'!R$7:R$84,$E40)=0,"",$E40)) | S40: absent | T40: NTP
D41: 18 | E41: r | F41: =CHOOSE(MATCH(G41,{"présent";"absent"},0),IF(COUNTIF('Planning 23mars'!F$7:F$84,$E41)=4,"saturé",$E41),IF(COUNTIF('Planning 23mars'!F$7:F$84,$E41)=0,"",$E41)) | G41: absent | H41: Sans nouvelle | I41: =CHOOSE(MATCH(J41,{"présent";"absent"},0),IF(COUNTIF('Planning 23mars'!I$7:I$84,$E41)=4,"saturé",$E41),IF(COUNTIF('Planning 23mars'!I$7:I$84,$E41)=0,"",$E41)) | J41: absent | K41: Sans nouvelle | L41: =CHOOSE(MATCH(M41,{"présent";"absent"},0),IF(COUNTIF('Planning 23mars'!L$7:L$84,$E41)=4,"saturé",$E41),IF(COUNTIF('Planning 23mars'!L$7:L$84,$E41)=0,"",$E41)) | M41: absent | N41: Sans nouvelle | O41: =CHOOSE(MATCH(P41,{"présent";"absent"},0),IF(COUNTIF('Planning 23mars'!O$7:O$84,$E41)=4,"saturé",$E41),IF(COUNTIF('Planning 23mars'!O$7:O$84,$E41)=0,"",$E41)) | P41: absent | Q41: NTP | R41: =CHOOSE(MATCH(S41,{"présent";"absent"},0),IF(COUNTIF('Planning 23mars'!R$7:R$84,$E41)=4,"saturé",$E41),IF(COUNTIF('Planning 23mars'!R$7:R$84,$E41)=0,"",$E41)) | S41: absent | T41: Sans nouvelle
D42: 19 | E42: s | F42: =CHOOSE(MATCH(G42,{"présent";"absent"},0),IF(COUNTIF('Planning 23mars'!F$7:F$84,$E42)=4,"saturé",$E42),IF(COUNTIF('Planning 23mars'!F$7:F$84,$E42)=0,"",$E42)) | G42: absent | H42: A. Maladie | I42: =CHOOSE(MATCH(J42,{"présent";"absent"},0),IF(COUNTIF('Planning 23mars'!I$7:I$84,$E42)=4,"saturé",$E42),IF(COUNTIF('Planning 23mars'!I$7:I$84,$E42)=0,"",$E42)) | J42: absent | K42: A. Maladie | L42: =CHOOSE(MATCH(M42,{"présent";"absent"},0),IF(COUNTIF('Planning 23mars'!L$7:L$84,$E42)=4,"saturé",$E42),IF(COUNTIF('Planning 23mars'!L$7:L$84,$E42)=0,"",$E42)) | M42: absent | N42: A. Maladie | O42: =CHOOSE(MATCH(P42,{"présent";"absent"},0),IF(COUNTIF('Planning 23mars'!O$7:O$84,$E42)=4,"saturé",$E42),IF(COUNTIF('Planning 23mars'!O$7:O$84,$E42)=0,"",$E42)) -> s | P42: présent | R42: =CHOOSE(MATCH(S42,{"présent";"absent"},0),IF(COUNTIF('Planning 23mars'!R$7:R$84,$E42)=4,"saturé",$E42),IF(COUNTIF('Planning 23mars'!R$7:R$84,$E42)=0,"",$E42)) -> s | S42: présent
D43: 20 | E43: t | F43: =CHOOSE(MATCH(G43,{"présent";"absent"},0),IF(COUNTIF('Planning 23mars'!F$7:F$84,$E43)=4,"saturé",$E43),IF(COUNTIF('Planning 23mars'!F$7:F$84,$E43)=0,"",$E43)) | G43: absent | H43: Eviction M.T | I43: =CHOOSE(MATCH(J43,{"présent";"absent"},0),IF(COUNTIF('Planning 23mars'!I$7:I$84,$E43)=4,"saturé",$E43),IF(COUNTIF('Planning 23mars'!I$7:I$84,$E43)=0,"",$E43)) | J43: absent | K43: Eviction M.T | L43: =CHOOSE(MATCH(M43,{"présent";"absent"},0),IF(COUNTIF('Planning 23mars'!L$7:L$84,$E43)=4,"saturé",$E43),IF(COUNTIF('Planning 23mars'!L$7:L$84,$E43)=0,"",$E43)) | M43: absent | N43: Eviction M.T | O43: =CHOOSE(MATCH(P43,{"présent";"absent"},0),IF(COUNTIF('Planning 23mars'!O$7:O$84,$E43)=4,"saturé",$E43),IF(COUNTIF('Planning 23mars'!O$7:O$84,$E43)=0,"",$E43)) | P43: absent | Q43: Eviction M.T | R43: =CHOOSE(MATCH(S43,{"présent";"absent"},0),IF(COUNTIF('Planning 23mars'!R$7:R$84,$E43)=4,"saturé",$E43),IF(COUNTIF('Planning 23mars'!R$7:R$84,$E43)=0,"",$E43)) | S43: absent | T43: Eviction M.T
D44: 21 | E44: u | F44: =CHOOSE(MATCH(G44,{"présent";"absent"},0),IF(COUNTIF('Planning 23mars'!F$7:F$84,$E44)=4,"saturé",$E44),IF(COUNTIF('Planning 23mars'!F$7:F$84,$E44)=0,"",$E44)) -> u | G44: présent | I44: =CHOOSE(MATCH(J44,{"présent";"absent"},0),IF(COUNTIF('Planning 23mars'!I$7:I$84,$E44)=4,"saturé",$E44),IF(COUNTIF('Planning 23mars'!I$7:I$84,$E44)=0,"",$E44)) -> u | J44: présent | L44: =CHOOSE(MATCH(M44,{"présent";"absent"},0),IF(COUNTIF('Planning 23mars'!L$7:L$84,$E44)=4,"saturé",$E44),IF(COUNTIF('Planning 23mars'!L$7:L$84,$E44)=0,"",$E44)) -> u | M44: présent | O44: =CHOOSE(MATCH(P44,{"présent";"absent"},0),IF(COUNTIF('Planning 23mars'!O$7:O$84,$E44)=4,"saturé",$E44),IF(COUNTIF('Planning 23mars'!O$7:O$84,$E44)=0,"",$E44)) | P44: absent | Q44: NTP | R44: =CHOOSE(MATCH(S44,{"présent";"absent"},0),IF(COUNTIF('Planning 23mars'!R$7:R$84,$E44)=4,"saturé",$E44),IF(COUNTIF('Planning 23mars'!R$7:R$84,$E44)=0,"",$E44)) -> u | S44: présent
D45: 22 | E45: v | F45: =CHOOSE(MATCH(G45,{"présent";"absent"},0),IF(COUNTIF('Planning 23mars'!F$7:F$84,$E45)=4,"saturé",$E45),IF(COUNTIF('Planning 23mars'!F$7:F$84,$E45)=0,"",$E45)) | G45: absent | H45: Eviction M.T | I45: =CHOOSE(MATCH(J45,{"présent";"absent"},0),IF(COUNTIF('Planning 23mars'!I$7:I$84,$E45)=4,"saturé",$E45),IF(COUNTIF('Planning 23mars'!I$7:I$84,$E45)=0,"",$E45)) | J45: absent | K45: Eviction M.T | L45: =CHOOSE(MATCH(M45,{"présent";"absent"},0),IF(COUNTIF('Planning 23mars'!L$7:L$84,$E45)=4,"saturé",$E45),IF(COUNTIF('Planning 23mars'!L$7:L$84,$E45)=0,"",$E45)) | M45: absent | N45: Eviction M.T | O45: =CHOOSE(MATCH(P45,{"présent";"absent"},0),IF(COUNTIF('Planning 23mars'!O$7:O$84,$E45)=4,"saturé",$E45),IF(COUNTIF('Planning 23mars'!O$7:O$84,$E45)=0,"",$E45)) | P45: absent | Q45: Eviction M.T | R45: =CHOOSE(MATCH(S45,{"présent";"absent"},0),IF(COUNTIF('Planning 23mars'!R$7:R$84,$E45)=4,"saturé",$E45),IF(COUNTIF('Planning 23mars'!R$7:R$84,$E45)=0,"",$E45)) | S45: absent | T45: Eviction M.T
D46: 23 | E46: w | F46: =CHOOSE(MATCH(G46,{"présent";"absent"},0),IF(COUNTIF('Planning 23mars'!F$7:F$84,$E46)=4,"saturé",$E46),IF(COUNTIF('Planning 23mars'!F$7:F$84,$E46)=0,"",$E46)) | G46: absent | H46: Eviction M.T | I46: =CHOOSE(MATCH(J46,{"présent";"absent"},0),IF(COUNTIF('Planning 23mars'!I$7:I$84,$E46)=4,"saturé",$E46),IF(COUNTIF('Planning 23mars'!I$7:I$84,$E46)=0,"",$E46)) | J46: absent | K46: Eviction M.T | L46: =CHOOSE(MATCH(M46,{"présent";"absent"},0),IF(COUNTIF('Planning 23mars'!L$7:L$84,$E46)=4,"saturé",$E46),IF(COUNTIF('Planning 23mars'!L$7:L$84,$E46)=0,"",$E46)) | M46: absent | N46: Eviction M.T | O46: =CHOOSE(MATCH(P46,{"présent";"absent"},0),IF(COUNTIF('Planning 23mars'!O$7:O$84,$E46)=4,"saturé",$E46),IF(COUNTIF('Planning 23mars'!O$7:O$84,$E46)=0,"",$E46)) | P46: absent | Q46: Eviction M.T | R46: =CHOOSE(MATCH(S46,{"présent";"absent"},0),IF(COUNTIF('Planning 23mars'!R$7:R$84,$E46)=4,"saturé",$E46),IF(COUNTIF('Planning 23mars'!R$7:R$84,$E46)=0,"",$E46)) | S46: absent | T46: Eviction M.T
D47: 24 | E47: x | F47: =CHOOSE(MATCH(G47,{"présent";"absent"},0),IF(COUNTIF('Planning 23mars'!F$7:F$84,$E47)=4,"saturé",$E47),IF(COUNTIF('Planning 23mars'!F$7:F$84,$E47)=0,"",$E47)) | G47: absent | H47: Eviction M.T | I47: =CHOOSE(MATCH(J47,{"présent";"absent"},0),IF(COUNTIF('Planning 23mars'!I$7:I$84,$E47)=4,"saturé",$E47),IF(COUNTIF('Planning 23mars'!I$7:I$84,$E47)=0,"",$E47)) | J47: absent | K47: Eviction M.T | L47: =CHOOSE(MATCH(M47,{"présent";"absent"},0),IF(COUNTIF('Planning 23mars'!L$7:L$84,$E47)=4,"saturé",$E47),IF(COUNTIF('Planning 23mars'!L$7:L$84,$E47)=0,"",$E47)) | M47: absent | N47: Eviction M.T | O47: =CHOOSE(MATCH(P47,{"présent";"absent"},0),IF(COUNTIF('Planning 23mars'!O$7:O$84,$E47)=4,"saturé",$E47),IF(COUNTIF('Planning 23mars'!O$7:O$84,$E47)=0,"",$E47)) | P47: absent | Q47: Eviction M.T | R47: =CHOOSE(MATCH(S47,{"présent";"absent"},0),IF(COUNTIF('Planning 23mars'!R$7:R$84,$E47)=4,"saturé",$E47),IF(COUNTIF('Planning 23mars'!R$7:R$84,$E47)=0,"",$E47)) | S47: absent | T47: Eviction M.T
D48: 25 | E48: y | F48: =CHOOSE(MATCH(G48,{"présent";"absent"},0),IF(COUNTIF('Planning 23mars'!F$7:F$84,$E48)=4,"saturé",$E48),IF(COUNTIF('Planning 23mars'!F$7:F$84,$E48)=0,"",$E48)) | G48: absent | H48: A. Maladie | I48: =CHOOSE(MATCH(J48,{"présent";"absent"},0),IF(COUNTIF('Planning 23mars'!I$7:I$84,$E48)=4,"saturé",$E48),IF(COUNTIF('Planning 23mars'!I$7:I$84,$E48)=0,"",$E48)) | J48: absent | K48: A. Maladie | L48: =CHOOSE(MATCH(M48,{"présent";"absent"},0),IF(COUNTIF('Planning 23mars'!L$7:L$84,$E48)=4,"saturé",$E48),IF(COUNTIF('Planning 23mars'!L$7:L$84,$E48)=0,"",$E48)) | M48: absent | N48: A. Maladie | O48: =CHOOSE(MATCH(P48,{"présent";"absent"},0),IF(COUNTIF('Planning 23mars'!O$7:O$84,$E48)=4,"saturé",$E48),IF(COUNTIF('Planning 23mars'!O$7:O$84,$E48)=0,"",$E48)) -> y | P48: présent | R48: =CHOOSE(MATCH(S48,{"présent";"absent"},0),IF(COUNTIF('Planning 23mars'!R$7:R$84,$E48)=4,"saturé",$E48),IF(COUNTIF('Planning 23mars'!R$7:R$84,$E48)=0,"",$E48)) -> y | S48: présent
D49: 26 | E49: z | F49: =CHOOSE(MATCH(G49,{"présent";"absent"},0),IF(COUNTIF('Planning 23mars'!F$7:F$84,$E49)=4,"saturé",$E49),IF(COUNTIF('Planning 23mars'!F$7:F$84,$E49)=0,"",$E49)) -> z | G49: présent | I49: =CHOOSE(MATCH(J49,{"présent";"absent"},0),IF(COUNTIF('Planning 23mars'!I$7:I$84,$E49)=4,"saturé",$E49),IF(COUNTIF('Planning 23mars'!I$7:I$84,$E49)=0,"",$E49)) -> z | J49: présent | L49: =CHOOSE(MATCH(M49,{"présent";"absent"},0),IF(COUNTIF('Planning 23mars'!L$7:L$84,$E49)=4,"saturé",$E49),IF(COUNTIF('Planning 23mars'!L$7:L$84,$E49)=0,"",$E49)) -> z | M49: présent | O49: =CHOOSE(MATCH(P49,{"présent";"absent"},0),IF(COUNTIF('Planning 23mars'!O$7:O$84,$E49)=4,"saturé",$E49),IF(COUNTIF('Planning 23mars'!O$7:O$84,$E49)=0,"",$E49)) -> z | P49: présent | R49: =CHOOSE(MATCH(S49,{"présent";"absent"},0),IF(COUNTIF('Planning 23mars'!R$7:R$84,$E49)=4,"saturé",$E49),IF(COUNTIF('Planning 23mars'!R$7:R$84,$E49)=0,"",$E49)) -> z | S49: présent
D50: 27 | E50: aa | F50: =CHOOSE(MATCH(G50,{"présent";"absent"},0),IF(COUNTIF('Planning 23mars'!F$7:F$84,$E50)=4,"saturé",$E50),IF(COUNTIF('Planning 23mars'!F$7:F$84,$E50)=0,"",$E50)) | G50: absent | H50: Garde enfants | I50: =CHOOSE(MATCH(J50,{"présent";"absent"},0),IF(COUNTIF('Planning 23mars'!I$7:I$84,$E50)=4,"saturé",$E50),IF(COUNTIF('Planning 23mars'!I$7:I$84,$E50)=0,"",$E50)) | J50: absent | K50: Garde enfants | L50: =CHOOSE(MATCH(M50,{"présent";"absent"},0),IF(COUNTIF('Planning 23mars'!L$7:L$84,$E50)=4,"saturé",$E50),IF(COUNTIF('Planning 23mars'!L$7:L$84,$E50)=0,"",$E50)) -> aa | M50: présent | O50: =CHOOSE(MATCH(P50,{"présent";"absent"},0),IF(COUNTIF('Planning 23mars'!O$7:O$84,$E50)=4,"saturé",$E50),IF(COUNTIF('Planning 23mars'!O$7:O$84,$E50)=0,"",$E50)) -> aa | P50: présent | R50: =CHOOSE(MATCH(S50,{"présent";"absent"},0),IF(COUNTIF('Planning 23mars'!R$7:R$84,$E50)=4,"saturé",$E50),IF(COUNTIF('Planning 23mars'!R$7:R$84,$E50)=0,"",$E50)) -> aa | S50: présent
D51: 28 | E51: tt | F51: =CHOOSE(MATCH(G51,{"présent";"absent"},0),IF(COUNTIF('Planning 23mars'!F$7:F$84,$E51)=4,"saturé",$E51),IF(COUNTIF('Planning 23mars'!F$7:F$84,$E51)=0,"",$E51)) | G51: absent | H51: Non appelé | I51: =CHOOSE(MATCH(J51,{"présent";"absent"},0),IF(COUNTIF('Planning 23mars'!I$7:I$84,$E51)=4,"saturé",$E51),IF(COUNTIF('Planning 23mars'!I$7:I$84,$E51)=0,"",$E51)) -> tt | J51: présent | L51: =CHOOSE(MATCH(M51,{"présent";"absent"},0),IF(COUNTIF('Planning 23mars'!L$7:L$84,$E51)=4,"saturé",$E51),IF(COUNTIF('Planning 23mars'!L$7:L$84,$E51)=0,"",$E51)) | M51: absent | N51: NTP | O51: =CHOOSE(MATCH(P51,{"présent";"absent"},0),IF(COUNTIF('Planning 23mars'!O$7:O$84,$E51)=4,"saturé",$E51),IF(COUNTIF('Planning 23mars'!O$7:O$84,$E51)=0,"",$E51)) -> tt | P51: présent | R51: =CHOOSE(MATCH(S51,{"présent";"absent"},0),IF(COUNTIF('Planning 23mars'!R$7:R$84,$E51)=4,"saturé",$E51),IF(COUNTIF('Planning 23mars'!R$7:R$84,$E51)=0,"",$E51)) -> tt | S51: présent
D52: 29 | E52: rr | F52: =CHOOSE(MATCH(G52,{"présent";"absent"},0),IF(COUNTIF('Planning 23mars'!F$7:F$84,$E52)=4,"saturé",$E52),IF(COUNTIF('Planning 23mars'!F$7:F$84,$E52)=0,"",$E52)) -> rr | G52: présent | I52: =CHOOSE(MATCH(J52,{"présent";"absent"},0),IF(COUNTIF('Planning 23mars'!I$7:I$84,$E52)=4,"saturé",$E52),IF(COUNTIF('Planning 23mars'!I$7:I$84,$E52)=0,"",$E52)) | J52: absent | K52: NTP | L52: =CHOOSE(MATCH(M52,{"présent";"absent"},0),IF(COUNTIF('Planning 23mars'!L$7:L$84,$E52)=4,"saturé",$E52),IF(COUNTIF('Planning 23mars'!L$7:L$84,$E52)=0,"",$E52)) -> rr | M52: présent | O52: =CHOOSE(MATCH(P52,{"présent";"absent"},0),IF(COUNTIF('Planning 23mars'!O$7:O$84,$E52)=4,"saturé",$E52),IF(COUNTIF('Planning 23mars'!O$7:O$84,$E52)=0,"",$E52)) | P52: absent | Q52: NTP | R52: =CHOOSE(MATCH(S52,{"présent";"absent"},0),IF(COUNTIF('Planning 23mars'!R$7:R$84,$E52)=4,"saturé",$E52),IF(COUNTIF('Planning 23mars'!R$7:R$84,$E52)=0,"",$E52)) | S52: absent | T52: NTP
D53: 30 | E53: dd | F53: =CHOOSE(MATCH(G53,{"présent";"absent"},0),IF(COUNTIF('Planning 23mars'!F$7:F$84,$E53)=4,"saturé",$E53),IF(COUNTIF('Planning 23mars'!F$7:F$84,$E53)=0,"",$E53)) | G53: absent | H53: Garde enfants | I53: =CHOOSE(MATCH(J53,{"présent";"absent"},0),IF(COUNTIF('Planning 23mars'!I$7:I$84,$E53)=4,"saturé",$E53),IF(COUNTIF('Planning 23mars'!I$7:I$84,$E53)=0,"",$E53)) | J53: absent | K53: Garde enfants | L53: =CHOOSE(MATCH(M53,{"présent";"absent"},0),IF(COUNTIF('Planning 23mars'!L$7:L$84,$E53)=4,"saturé",$E53),IF(COUNTIF('Planning 23mars'!L$7:L$84,$E53)=0,"",$E53)) | M53: absent | N53: Garde enfants | O53: =CHOOSE(MATCH(P53,{"présent";"absent"},0),IF(COUNTIF('Planning 23mars'!O$7:O$84,$E53)=4,"saturé",$E53),IF(COUNTIF('Planning 23mars'!O$7:O$84,$E53)=0,"",$E53)) | P53: absent | Q53: Garde enfants | R53: =CHOOSE(MATCH(S53,{"présent";"absent"},0),IF(COUNTIF('Planning 23mars'!R$7:R$84,$E53)=4,"saturé",$E53),IF(COUNTIF('Planning 23mars'!R$7:R$84,$E53)=0,"",$E53)) | S53: absent | T53: Garde enfants
D54: 31 | E54: ee | F54: =CHOOSE(MATCH(G54,{"présent";"absent"},0),IF(COUNTIF('Planning 23mars'!F$7:F$84,$E54)=4,"saturé",$E54),IF(COUNTIF('Planning 23mars'!F$7:F$84,$E54)=0,"",$E54)) | G54: absent | H54: Eviction M.T | I54: =CHOOSE(MATCH(J54,{"présent";"absent"},0),IF(COUNTIF('Planning 23mars'!I$7:I$84,$E54)=4,"saturé",$E54),IF(COUNTIF('Planning 23mars'!I$7:I$84,$E54)=0,"",$E54)) | J54: absent | K54: Eviction M.T | L54: =CHOOSE(MATCH(M54,{"présent";"absent"},0),IF(COUNTIF('Planning 23mars'!L$7:L$84,$E54)=4,"saturé",$E54),IF(COUNTIF('Planning 23mars'!L$7:L$84,$E54)=0,"",$E54)) | M54: absent | N54: Eviction M.T | O54: =CHOOSE(MATCH(P54,{"présent";"absent"},0),IF(COUNTIF('Planning 23mars'!O$7:O$84,$E54)=4,"saturé",$E54),IF(COUNTIF('Planning 23mars'!O$7:O$84,$E54)=0,"",$E54)) | P54: absent | Q54: Eviction M.T | R54: =CHOOSE(MATCH(S54,{"présent";"absent"},0),IF(COUNTIF('Planning 23mars'!R$7:R$84,$E54)=4,"saturé",$E54),IF(COUNTIF('Planning 23mars'!R$7:R$84,$E54)=0,"",$E54)) | S54: absent | T54: Eviction M.T
D55: 32 | E55: ff | F55: =CHOOSE(MATCH(G55,{"présent";"absent"},0),IF(COUNTIF('Planning 23mars'!F$7:F$84,$E55)=4,"saturé",$E55),IF(COUNTIF('Planning 23mars'!F$7:F$84,$E55)=0,"",$E55)) | G55: absent | H55: Eviction M.T | I55: =CHOOSE(MATCH(J55,{"présent";"absent"},0),IF(COUNTIF('Planning 23mars'!I$7:I$84,$E55)=4,"saturé",$E55),IF(COUNTIF('Planning 23mars'!I$7:I$84,$E55)=0,"",$E55)) | J55: absent | K55: Eviction M.T | L55: =CHOOSE(MATCH(M55,{"présent";"absent"},0),IF(COUNTIF('Planning 23mars'!L$7:L$84,$E55)=4,"saturé",$E55),IF(COUNTIF('Planning 23mars'!L$7:L$84,$E55)=0,"",$E55)) | M55: absent | N55: Eviction M.T | O55: =CHOOSE(MATCH(P55,{"présent";"absent"},0),IF(COUNTIF('Planning 23mars'!O$7:O$84,$E55)=4,"saturé",$E55),IF(COUNTIF('Planning 23mars'!O$7:O$84,$E55)=0,"",$E55)) | P55: absent | Q55: Eviction M.T | R55: =CHOOSE(MATCH(S55,{"présent";"absent"},0),IF(COUNTIF('Planning 23mars'!R$7:R$84,$E55)=4,"saturé",$E55),IF(COUNTIF('Planning 23mars'!R$7:R$84,$E55)=0,"",$E55)) | S55: absent | T55: Eviction M.T
C56: =COUNTA(E24:E56) -> 33 | D56: 33 | E56: gg | F56: =CHOOSE(MATCH(G56,{"présent";"absent"},0),IF(COUNTIF('Planning 23mars'!F$7:F$84,$E56)=4,"saturé",$E56),IF(COUNTIF('Planning 23mars'!F$7:F$84,$E56)=0,"",$E56)) | G56: absent | H56: A. Maladie | I56: =CHOOSE(MATCH(J56,{"présent";"absent"},0),IF(COUNTIF('Planning 23mars'!I$7:I$84,$E56)=4,"saturé",$E56),IF(COUNTIF('Planning 23mars'!I$7:I$84,$E56)=0,"",$E56)) | J56: absent | K56: A. Maladie | L56: =CHOOSE(MATCH(M56,{"présent";"absent"},0),IF(COUNTIF('Planning 23mars'!L$7:L$84,$E56)=4,"saturé",$E56),IF(COUNTIF('Planning 23mars'!L$7:L$84,$E56)=0,"",$E56)) | M56: absent | N56: A. Maladie | O56: =CHOOSE(MATCH(P56,{"présent";"absent"},0),IF(COUNTIF('Planning 23mars'!O$7:O$84,$E56)=4,"saturé",$E56),IF(COUNTIF('Planning 23mars'!O$7:O$84,$E56)=0,"",$E56)) | P56: absent | Q56: A. Maladie | R56: =CHOOSE(MATCH(S56,{"présent";"absent"},0),IF(COUNTIF('Planning 23mars'!R$7:R$84,$E56)=4,"saturé",$E56),IF(COUNTIF('Planning 23mars'!R$7:R$84,$E56)=0,"",$E56)) | S56: absent | T56: A. Maladie
E59: Gestion des absences-présences des soignants / Nombre de patients participants : 23 mars- 27 mars
E61: Nb mobilisés : | G61: ='Planning 23mars'!$F$6 -> 4 | J61: ='Planning 23mars'!$I$6 -> 0 | M61: ='Planning 23mars'!$L$6 -> 0 | P61: ='Planning 23mars'!$O$6 -> 0 | S61: ='Planning 23mars'!$R$6 -> 0
E62: Nb présent : | F62: présent | G62: =COUNTIF(G24:G56,"présent")&"/"&G64 -> 9/33 | I62: =COUNTIF(I24:I48,"présent") -> 0 | J62: =COUNTIF(J24:J56,"présent")&"/"&J64 -> 15/33 | L62: =COUNTIF(L24:L48,"présent") -> 0 | M62: =COUNTIF(M24:M56,"présent")&"/"&M64 -> 10/33 | O62: =COUNTIF(O24:O48,"présent") -> 0 | P62: =COUNTIF(P24:P56,"présent")&"/"&P64 -> 15/33 | R62: =COUNTIF(R24:R48,"présent") -> 0 | S62: =COUNTIF(S24:S56,"présent")&"/"&S64 -> 11/33
E63: Nb Absent : | F63: absent | G63: =COUNTIF(G24:G56,"absent")&"/"&G64 -> 24/33 | I63: =COUNTIF(I24:I48,"absent") -> 0 | J63: =COUNTIF(J24:J56,"absent")&"/"&J64 -> 18/33 | L63: =COUNTIF(L24:L48,"absent") -> 0 | M63: =COUNTIF(M24:M56,"absent")&"/"&M64 -> 23/33 | O63: =COUNTIF(O24:O48,"absent") -> 0 | P63: =COUNTIF(P24:P56,"absent")&"/"&P64 -> 18/33 | R63: =COUNTIF(R24:R48,"absent") -> 0 | S63: =COUNTIF(S24:S56,"absent")&"/"&S64 -> 22/33
E64: total : | G64: =COUNTA($E$24:$E$56) -> 33 | I64: =SUM(I62:I63) -> 0 | J64: =COUNTA($E$24:$E$56) -> 33 | L64: =SUM(L62:L63) -> 0 | M64: =COUNTA($E$24:$E$56) -> 33 | O64: =SUM(O62:O63) -> 0 | P64: =COUNTA($E$24:$E$56) -> 33 | R64: =SUM(R62:R63) -> 0 | S64: =COUNTA($E$24:$E$56) -> 33
E65: % absences : | G65: =COUNTIF(G24:G56,"absent")/G64 -> 0.72727273 | I65: =I63/25 -> 0 | J65: =COUNTIF(J24:J56,"absent")/J64 -> 0.54545455 | L65: =L63/25 -> 0 | M65: =COUNTIF(M24:M56,"absent")/M64 -> 0.6969697 | O65: =O63/25 -> 0 | P65: =COUNTIF(P24:P56,"absent")/P64 -> 0.54545455 | R65: =R63/25 -> 0 | S65: =COUNTIF(S24:S56,"absent")/S64 -> 0.66666667
E67: Motifs absences : | G67: LUNDI | J67: MARDI | M67: MERCREDI | P67: JEUDI | S67: VENDREDI
E68: A. Maladie | G68: =IF(H68<>0,H68/H$79,"") -> 0.125 | H68: =COUNTIF(H$24:H$56, "A. Maladie") -> 3 | J68: =IF(K68<>0,K68/K$79,"") -> 0.15789474 | K68: =COUNTIF(K$24:K$56, "A. Maladie") -> 3 | M68: =IF(N68<>0,N68/N$79,"") -> 0.13043478 | N68: =COUNTIF(N$24:N$56, "A. Maladie") -> 3 | P68: =IF(Q68<>0,Q68/Q$79,"") -> 0.055555556 | Q68: =COUNTIF(Q$24:Q$56, "A. Maladie") -> 1 | S68: =IF(T68<>0,T68/T$79,"") -> 0.045454545 | T68: =COUNTIF(T$24:T$56, "A. Maladie") -> 1
E69: Accident travail | G69: =IF(H69<>0,H69/H$79,"") | H69: =COUNTIF(H$24:H$56, "Accident travail") -> 0 | J69: =IF(K69<>0,K69/K$79,"") | K69: =COUNTIF(K$24:K$56, "Accident travail") -> 0 | M69: =IF(N69<>0,N69/N$79,"") | N69: =COUNTIF(N$24:N$56, "Accident travail") -> 0 | P69: =IF(Q69<>0,Q69/Q$79,"") | Q69: =COUNTIF(Q$24:Q$56, "Accident travail") -> 0 | S69: =IF(T69<>0,T69/T$79,"") | T69: =COUNTIF(T$24:T$56, "Accident travail") -> 0
E70: Autre affect. | G70: =IF(H70<>0,H70/H$79,"") -> 0.083333333 | H70: =COUNTIF(H$24:H$56, "Autre affect.") -> 2 | J70: =IF(K70<>0,K70/K$79,"") -> 0.052631579 | K70: =COUNTIF(K$24:K$56, "Autre affect.") -> 1 | M70: =IF(N70<>0,N70/N$79,"") -> 0.043478261 | N70: =COUNTIF(N$24:N$56, "Autre affect.") -> 1 | P70: =IF(Q70<>0,Q70/Q$79,"") -> 0.055555556 | Q70: =COUNTIF(Q$24:Q$56, "Autre affect.") -> 1 | S70: =IF(T70<>0,T70/T$79,"") -> 0.045454545 | T70: =COUNTIF(T$24:T$56, "Autre affect.") -> 1
E71: Congés payés | G71: =IF(H71<>0,H71/H$79,"") | H71: =COUNTIF(H$24:H$56, "Congés payés") -> 0 | J71: =IF(K71<>0,K71/K$79,"") | K71: =COUNTIF(K$24:K$56, "Congés payés") -> 0 | M71: =IF(N71<>0,N71/N$79,"") | N71: =COUNTIF(N$24:N$56, "Congés payés") -> 0 | P71: =IF(Q71<>0,Q71/Q$79,"") | Q71: =COUNTIF(Q$24:Q$56, "Congés payés") -> 0 | S71: =IF(T71<>0,T71/T$79,"") | T71: =COUNTIF(T$24:T$56, "Congés payés") -> 0
E72: Enf. malade | G72: =IF(H72<>0,H72/H$79,"") | H72: =COUNTIF(H$24:H$56, "Enf. malade") -> 0 | J72: =IF(K72<>0,K72/K$79,"") | K72: =COUNTIF(K$24:K$56, "Enf. malade") -> 0 | M72: =IF(N72<>0,N72/N$79,"") | N72: =COUNTIF(N$24:N$56, "Enf. malade") -> 0 | P72: =IF(Q72<>0,Q72/Q$79,"") | Q72: =COUNTIF(Q$24:Q$56, "Enf. malade") -> 0 | S72: =IF(T72<>0,T72/T$79,"") | T72: =COUNTIF(T$24:T$56, "Enf. malade") -> 0
E73: Eviction M.T | G73: =IF(H73<>0,H73/H$79,"") -> 0.375 | H73: =COUNTIF(H$24:H$56, "Eviction M.T") -> 9 | J73: =IF(K73<>0,K73/K$79,"") -> 0.47368421 | K73: =COUNTIF(K$24:K$56, "Eviction M.T") -> 9 | M73: =IF(N73<>0,N73/N$79,"") -> 0.43478261 | N73: =COUNTIF(N$24:N$56, "Eviction M.T") -> 10 | P73: =IF(Q73<>0,Q73/Q$79,"") -> 0.55555556 | Q73: =COUNTIF(Q$24:Q$56, "Eviction M.T") -> 10 | S73: =IF(T73<>0,T73/T$79,"") -> 0.45454545 | T73: =COUNTIF(T$24:T$56, "Eviction M.T") -> 10
E74: Garde enfants | G74: =IF(H74<>0,H74/H$79,"") -> 0.125 | H74: =COUNTIF(H$24:H$56, "Garde enfants") -> 3 | J74: =IF(K74<>0,K74/K$79,"") -> 0.15789474 | K74: =COUNTIF(K$24:K$56, "Garde enfants") -> 3 | M74: =IF(N74<>0,N74/N$79,"") -> 0.086956522 | N74: =COUNTIF(N$24:N$56, "Garde enfants") -> 2 | P74: =IF(Q74<>0,Q74/Q$79,"") -> 0.11111111 | Q74: =COUNTIF(Q$24:Q$56, "Garde enfants") -> 2 | S74: =IF(T74<>0,T74/T$79,"") -> 0.090909091 | T74: =COUNTIF(T$24:T$56, "Garde enfants") -> 2
E75: Non appelé | G75: =IF(H75<>0,H75/H$79,"") -> 0.041666667 | H75: =COUNTIF(H$24:H$56, "Non appelé") -> 1 | J75: =IF(K75<>0,K75/K$79,"") | K75: =COUNTIF(K$24:K$56, "Non appelé") -> 0 | M75: =IF(N75<>0,N75/N$79,"") -> 0.043478261 | N75: =COUNTIF(N$24:N$56, "Non appelé") -> 1 | P75: =IF(Q75<>0,Q75/Q$79,"") | Q75: =COUNTIF(Q$24:Q$56, "Non appelé") -> 0 | S75: =IF(T75<>0,T75/T$79,"") | T75: =COUNTIF(T$24:T$56, "Non appelé") -> 0
E76: NTP | G76: =IF(H76<>0,H76/H$79,"") -> 0.20833333 | H76: =COUNTIF(H$24:H$56, "NTP") -> 5 | J76: =IF(K76<>0,K76/K$79,"") -> 0.10526316 | K76: =COUNTIF(K$24:K$56, "NTP") -> 2 | M76: =IF(N76<>0,N76/N$79,"") -> 0.2173913 | N76: =COUNTIF(N$24:N$56, "NTP") -> 5 | P76: =IF(Q76<>0,Q76/Q$79,"") -> 0.22222222 | Q76: =COUNTIF(Q$24:Q$56, "NTP") -> 4 | S76: =IF(T76<>0,T76/T$79,"") -> 0.31818182 | T76: =COUNTIF(T$24:T$56, "NTP") -> 7
E77: R.T.T | G77: =IF(H77<>0,H77/H$79,"") | H77: =COUNTIF(H$24:H$56, "R.T.T") -> 0 | J77: =IF(K77<>0,K77/K$79,"") | K77: =COUNTIF(K$24:K$56, "R.T.T") -> 0 | M77: =IF(N77<>0,N77/N$79,"") | N77: =COUNTIF(N$24:N$56, "R.T.T") -> 0 | P77: =IF(Q77<>0,Q77/Q$79,"") | Q77: =COUNTIF(Q$24:Q$56, "R.T.T") -> 0 | S77: =IF(T77<>0,T77/T$79,"") | T77: =COUNTIF(T$24:T$56, "R.T.T") -> 0
E78: Sans nouvelle | G78: =IF(H78<>0,H78/H$79,"") -> 0.041666667 | H78: =COUNTIF(H$24:H$56, "Sans nouvelle") -> 1 | J78: =IF(K78<>0,K78/K$79,"") -> 0.052631579 | K78: =COUNTIF(K$24:K$56, "Sans nouvelle") -> 1 | M78: =IF(N78<>0,N78/N$79,"") -> 0.043478261 | N78: =COUNTIF(N$24:N$56, "Sans nouvelle") -> 1 | P78: =IF(Q78<>0,Q78/Q$79,"") | Q78: =COUNTIF(Q$24:Q$56, "Sans nouvelle") -> 0 | S78: =IF(T78<>0,T78/T$79,"") -> 0.045454545 | T78: =COUNTIF(T$24:T$56, "Sans nouvelle") -> 1
G79: =SUM(G68:G78) -> 1 | H79: =SUM(H68:H78) -> 24 | J79: =SUM(J68:J78) -> 1 | K79: =SUM(K68:K78) -> 19 | M79: =SUM(M68:M78) -> 1 | N79: =SUM(N68:N78) -> 23 | P79: =SUM(P68:P78) -> 1 | Q79: =SUM(Q68:Q78) -> 18 | S79: =SUM(S68:S78) -> 1 | T79: =SUM(T68:T78) -> 22
E81: Patients : | G81: LUNDI | J81: MARDI | M81: MERCREDI | P81: JEUDI | S81: VENDREDI
E82: Prévus : | G82: =G62*12 -> 147576
E83: Participants :
E84: Désistements : | I84: =I82-I83 -> 0 | L84: =L82-L83 -> 0 | O84: =O82-O83 -> 0 | R84: =R82-R83 -> 0
E87: Légendes
E88: Motifs : | G88: Eviction M.T | J88: Eviction suite avis Médecin du Travail
G89: Non appelé | J89: Temps de travail en demi-journée, jour de distanciation …
G90: NTP | J90: Ne travaille pas (cf Octime)
E92: Soignants : | G92: E | J92: Educateur spécialisé
G93: P | J93: Psychomotricien
