Workbook
Name age: Donnees!$B$2:$B$12
Name ANPE: Donnees!#REF!
Name are: Donnees!#REF!
Name ass: Donnees!#REF!
Name changement: Donnees!#REF!
Name charge: Donnees!#REF!
Name commune: Donnees!#REF!
Name contrat: Donnees!#REF!
Name cucs: Donnees!#REF!
Name enfant: Donnees!#REF!
Name entree: Donnees!#REF!
Name Etude: Donnees!#REF!
Name famille: Donnees!$D$1:$D$16
Name formation: Donnees!#REF!
Name JUSTICE: Donnees!#REF!
Name migrant: Donnees!#REF!
Name Niveau: Donnees!#REF!
Name nn: [1]Donnees!$Q$1:$Q$16
Name PAYS: Donnees!#REF!
Name permis: Donnees!#REF!
Name plie: Donnees!#REF!
Name poste: Donnees!#REF!
Name Problematique: Donnees!#REF!
Name quartiers: Donnees!#REF!
Name repartition: Donnees!#REF!
Name restriction: Donnees!#REF!
Name REVENU: Donnees!#REF!
Name revenus: GENERAL!#REF!
Name rmi: Donnees!#REF!
Name sans: Donnees!#REF!
Name secteur: Donnees!#REF!
Name Segment_Commune_de_naissance: #N/A
Name Segment_Enfant_s__à_charge: #N/A
Name Segment_F_H: #N/A
Name Segment_Nb_Enfant_s: #N/A
Name Segment_Situation_familiale: #N/A
Name Segment_Tranche_Âge: #N/A
Name service: Donnees!#REF!
Name Sortie: GENERAL!#REF!
Name th: Donnees!#REF!
Name vehicule: Donnees!#REF!

Sheet Feuil1
B3: Étiquettes de lignes | C3: Nombre de Nom | D3: % Filtrés | E3: % Global
B4: F | C4: 29 | D4: 1 | E4: 0.28431373
B5: - 25 ans | C5: 3 | D5: 0.10344828 | E5: 0.029411765
B6: 25-30 | C6: 1 | D6: 0.034482759 | E6: 0.0098039216
B7: 31-35 | C7: 3 | D7: 0.10344828 | E7: 0.029411765
B8: 36-40 | C8: 5 | D8: 0.17241379 | E8: 0.049019608
B9: 41-45 | C9: 7 | D9: 0.24137931 | E9: 0.068627451
B10: 46-50 | C10: 6 | D10: 0.20689655 | E10: 0.058823529
B11: 51-55 | C11: 3 | D11: 0.10344828 | E11: 0.029411765
B12: 56-60 | C12: 1 | D12: 0.034482759 | E12: 0.0098039216
B13: Total général | C13: 29 | D13: 1 | E13: 0.28431373

Sheet GENERAL
A1: N° | B1: X | C1: Nom | D1: Prénom | E1: F/H | F1: Né le | G1: Commune de naissance | H1: Âge | I1: Tranche Âge | J1: Tranche d'âge | K1: Situation familiale | L1: Nb Enfant(s) | M1: Enfant(s) à charge | N1: % | O1: =COUNTA(A:A)-1 -> 102
A2: 1 | B2: 1 | C2: 1 AL | D2: Bruno | E2: H | F2: 25110 | G2: 37000 | H2: =DATEDIF(F2,Donnees!$C$2,"y") -> 44 | I2: =IF(H2<25,Donnees!$B$2,IF(H2<31,Donnees!$B$3,IF(H2<36,Donnees!$B$4,IF(H2<41,Donnees!$B$5,IF(H2<46,Donnees!$B$6,IF(H2<51,Donnees!$B$7,IF(H2<56,Donnees!$B$8,IF(H2<61,Donnees!$B$9,Donnees!$B$10)))))))) -> 41-45 | K2: Célibataire | L2: 1 | M2: 0 | N2: =1/$O$1 -> 0.0098039216
A3: 2 | B3: 1 | C3: 2 AL | D3: Jean-Michel | E3: H | F3: 23095 | G3: 95160 | H3: =DATEDIF(F3,Donnees!$C$2,"y") -> 50 | I3: =IF(H3<25,Donnees!$B$2,IF(H3<31,Donnees!$B$3,IF(H3<36,Donnees!$B$4,IF(H3<41,Donnees!$B$5,IF(H3<46,Donnees!$B$6,IF(H3<51,Donnees!$B$7,IF(H3<56,Donnees!$B$8,IF(H3<61,Donnees!$B$9,Donnees!$B$10)))))))) -> 46-50 | J3: =IF(H3<25,Donnees!$A$3,IF(H3<46,Donnees!$A$4,IF(H3<51,Donnees!$A$5,IF(H3<56,Donnees!$A$6,IF(H3<60,Donnees!$A$7,Donnees!$A$8))))) -> 46-50 | K3: Marié | L3: 1 | M3: 0 | N3: =1/$O$1 -> 0.0098039216 | Q3: =TODAY() -> 41466
A4: 3 | B4: 1 | C4: 3 AL | D4: Dave | E4: H | F4: 27822 | G4: 58000 | H4: =DATEDIF(F4,Donnees!$C$2,"y") -> 37 | I4: =IF(H4<25,Donnees!$B$2,IF(H4<31,Donnees!$B$3,IF(H4<36,Donnees!$B$4,IF(H4<41,Donnees!$B$5,IF(H4<46,Donnees!$B$6,IF(H4<51,Donnees!$B$7,IF(H4<56,Donnees!$B$8,IF(H4<61,Donnees!$B$9,Donnees!$B$10)))))))) -> 36-40 | K4: Célibataire | L4: 0 | M4: 0 | N4: =1/$O$1 -> 0.0098039216
A5: 4 | B5: 1 | C5: 4 AL | D5: Sébastien | E5: H | F5: 27479 | G5: 58000 | H5: =DATEDIF(F5,Donnees!$C$2,"y") -> 38 | I5: =IF(H5<25,Donnees!$B$2,IF(H5<31,Donnees!$B$3,IF(H5<36,Donnees!$B$4,IF(H5<41,Donnees!$B$5,IF(H5<46,Donnees!$B$6,IF(H5<51,Donnees!$B$7,IF(H5<56,Donnees!$B$8,IF(H5<61,Donnees!$B$9,Donnees!$B$10)))))))) -> 36-40 | K5: Célibataire | L5: 0 | M5: 0 | N5: =1/$O$1 -> 0.0098039216 | Q5: EFFCETIF GENERAL | R5: SOUS-TOTAL
A6: 5 | B6: 1 | C6: 5 AL | D6: Mohcine | E6: H | F6: 30406 | G6: Rabat (Algérie) | H6: =DATEDIF(F6,Donnees!$C$2,"y") -> 30 | I6: =IF(H6<25,Donnees!$B$2,IF(H6<31,Donnees!$B$3,IF(H6<36,Donnees!$B$4,IF(H6<41,Donnees!$B$5,IF(H6<46,Donnees!$B$6,IF(H6<51,Donnees!$B$7,IF(H6<56,Donnees!$B$8,IF(H6<61,Donnees!$B$9,Donnees!$B$10)))))))) -> 25-30 | K6: Divorcé/Séparé | L6: 0 | M6: 0 | N6: =1/$O$1 -> 0.0098039216 | Q6: =SUM(B2:B103) -> 102 | R6: =SUBTOTAL(9,$B$2:$B$105) -> 102
A7: 6 | B7: 1 | C7: 6 AL | D7: Khalid | E7: H | F7: 29849 | G7: 58000 | H7: =DATEDIF(F7,Donnees!$C$2,"y") -> 31 | I7: =IF(H7<25,Donnees!$B$2,IF(H7<31,Donnees!$B$3,IF(H7<36,Donnees!$B$4,IF(H7<41,Donnees!$B$5,IF(H7<46,Donnees!$B$6,IF(H7<51,Donnees!$B$7,IF(H7<56,Donnees!$B$8,IF(H7<61,Donnees!$B$9,Donnees!$B$10)))))))) -> 31-35 | K7: Marié | L7: 2 | M7: 2 | N7: =1/$O$1 -> 0.0098039216 | Q7: =Q6/Q6 -> 1 | R7: =R6/Q6 -> 1
A8: 7 | B8: 1 | C8: 7 AL | D8: Dominique | E8: H | F8: 22269 | G8: 58000 | H8: =DATEDIF(F8,Donnees!$C$2,"y") -> 52 | I8: =IF(H8<25,Donnees!$B$2,IF(H8<31,Donnees!$B$3,IF(H8<36,Donnees!$B$4,IF(H8<41,Donnees!$B$5,IF(H8<46,Donnees!$B$6,IF(H8<51,Donnees!$B$7,IF(H8<56,Donnees!$B$8,IF(H8<61,Donnees!$B$9,Donnees!$B$10)))))))) -> 51-55 | J8: =IF(H8<25,Donnees!$A$3,IF(H8<46,Donnees!$A$4,IF(H8<51,Donnees!$A$5,IF(H8<56,Donnees!$A$6,IF(H8<60,Donnees!$A$7,Donnees!$A$8))))) -> 51-55 | K8: Marié | L8: 2 | M8: 1 | N8: =1/$O$1 -> 0.0098039216 | Q8: HOMME
A9: 8 | B9: 1 | C9: 8 AL | D9: Gaëtan | E9: H | F9: 28721 | G9: 3160 | H9: =DATEDIF(F9,Donnees!$C$2,"y") -> 34 | I9: =IF(H9<25,Donnees!$B$2,IF(H9<31,Donnees!$B$3,IF(H9<36,Donnees!$B$4,IF(H9<41,Donnees!$B$5,IF(H9<46,Donnees!$B$6,IF(H9<51,Donnees!$B$7,IF(H9<56,Donnees!$B$8,IF(H9<61,Donnees!$B$9,Donnees!$B$10)))))))) -> 31-35 | J9: =IF(H9<25,Donnees!$A$3,IF(H9<46,Donnees!$A$4,IF(H9<51,Donnees!$A$5,IF(H9<56,Donnees!$A$6,IF(H9<60,Donnees!$A$7,Donnees!$A$8))))) -> 25-45 | K9: Marié | L9: 2 | M9: 2 | N9: =1/$O$1 -> 0.0098039216 | Q9: =SUMIF(E:E,"h",B:B) -> 73 | R9: =SUMPRODUCT((SUBTOTAL(3,INDIRECT("e"&ROW(E2:E103)))*(E2:E103>="f"))) -> 102
A10: 9 | B10: 1 | C10: 9 AL | D10: Fabrice | E10: H | F10: 28531 | G10: 58300 | H10: =DATEDIF(F10,Donnees!$C$2,"y") -> 35 | I10: =IF(H10<25,Donnees!$B$2,IF(H10<31,Donnees!$B$3,IF(H10<36,Donnees!$B$4,IF(H10<41,Donnees!$B$5,IF(H10<46,Donnees!$B$6,IF(H10<51,Donnees!$B$7,IF(H10<56,Donnees!$B$8,IF(H10<61,Donnees!$B$9,Donnees!$B$10)))))))) -> 31-35 | J10: =IF(H10<25,Donnees!$A$3,IF(H10<46,Donnees!$A$4,IF(H10<51,Donnees!$A$5,IF(H10<56,Donnees!$A$6,IF(H10<60,Donnees!$A$7,Donnees!$A$8))))) -> 25-45 | K10: Vit maritalement | L10: 2 | M10: 2 | N10: =1/$O$1 -> 0.0098039216 | Q10: FEMME
A11: 10 | B11: 1 | C11: 10 AL | D11: Christelle | E11: F | F11: 28050 | G11: 58000 | H11: =DATEDIF(F11,Donnees!$C$2,"y") -> 36 | I11: =IF(H11<25,Donnees!$B$2,IF(H11<31,Donnees!$B$3,IF(H11<36,Donnees!$B$4,IF(H11<41,Donnees!$B$5,IF(H11<46,Donnees!$B$6,IF(H11<51,Donnees!$B$7,IF(H11<56,Donnees!$B$8,IF(H11<61,Donnees!$B$9,Donnees!$B$10)))))))) -> 36-40 | K11: Divorcé/Séparé | L11: 3 | M11: 3 | N11: =1/$O$1 -> 0.0098039216 | Q11: =SUMIF(E:E,"f",B:B) -> 29 | R11: =SUMPRODUCT((SUBTOTAL(3,INDIRECT("e"&ROW(E2:E103)))*(E2:E103<="f"))) -> 29
A12: 11 | B12: 1 | C12: 11 AL | D12: nalusilazo | E12: H | F12: 26877 | G12: Bukavu | H12: =DATEDIF(F12,Donnees!$C$2,"y") -> 39 | I12: =IF(H12<25,Donnees!$B$2,IF(H12<31,Donnees!$B$3,IF(H12<36,Donnees!$B$4,IF(H12<41,Donnees!$B$5,IF(H12<46,Donnees!$B$6,IF(H12<51,Donnees!$B$7,IF(H12<56,Donnees!$B$8,IF(H12<61,Donnees!$B$9,Donnees!$B$10)))))))) -> 36-40 | J12: =IF(H12<25,Donnees!$A$3,IF(H12<46,Donnees!$A$4,IF(H12<51,Donnees!$A$5,IF(H12<56,Donnees!$A$6,IF(H12<60,Donnees!$A$7,Donnees!$A$8))))) -> 25-45 | K12: Marié | L12: 4 | M12: 0 | N12: =1/$O$1 -> 0.0098039216 | Q12: AGE (par tranche)
A13: 12 | B13: 1 | C13: 12 AL | D13: Sylvie | E13: F | F13: 21353 | G13: 78400 | H13: =DATEDIF(F13,Donnees!$C$2,"y") -> 55 | I13: =IF(H13<25,Donnees!$B$2,IF(H13<31,Donnees!$B$3,IF(H13<36,Donnees!$B$4,IF(H13<41,Donnees!$B$5,IF(H13<46,Donnees!$B$6,IF(H13<51,Donnees!$B$7,IF(H13<56,Donnees!$B$8,IF(H13<61,Donnees!$B$9,Donnees!$B$10)))))))) -> 51-55 | J13: =IF(H13<25,Donnees!$A$3,IF(H13<46,Donnees!$A$4,IF(H13<51,Donnees!$A$5,IF(H13<56,Donnees!$A$6,IF(H13<60,Donnees!$A$7,Donnees!$A$8))))) -> 51-55 | K13: Marié | L13: 2 | M13: 2 | N13: =1/$O$1 -> 0.0098039216 | P13: - 25 | Q13: =SUMIF(I:I,Donnees!B2,B:B) -> 8 | R13: =SUMPRODUCT((SUBTOTAL(3,INDIRECT("i"&ROW($I$2:$I$103)))*($I$2:$I$103=Donnees!B2))) -> 8
A14: 13 | B14: 1 | C14: 13 AL | D14: pascal | E14: H | F14: 24472 | G14: 58000 | H14: =DATEDIF(F14,Donnees!$C$2,"y") -> 46 | I14: =IF(H14<25,Donnees!$B$2,IF(H14<31,Donnees!$B$3,IF(H14<36,Donnees!$B$4,IF(H14<41,Donnees!$B$5,IF(H14<46,Donnees!$B$6,IF(H14<51,Donnees!$B$7,IF(H14<56,Donnees!$B$8,IF(H14<61,Donnees!$B$9,Donnees!$B$10)))))))) -> 46-50 | J14: =IF(H14<25,Donnees!$A$3,IF(H14<46,Donnees!$A$4,IF(H14<51,Donnees!$A$5,IF(H14<56,Donnees!$A$6,IF(H14<60,Donnees!$A$7,Donnees!$A$8))))) -> 46-50 | K14: Marié | L14: 3 | M14: 3 | N14: =1/$O$1 -> 0.0098039216 | P14: 25-30 | Q14: =SUMIF(I:I,Donnees!B3,B:B) -> 11 | R14: =SUMPRODUCT((SUBTOTAL(3,INDIRECT("i"&ROW($I$2:$I$103)))*($I$2:$I$103=Donnees!B3))) -> 11
A15: 14 | B15: 1 | C15: 14 AL | D15: Jean-Luc | E15: H | F15: 23447 | G15: 58160 | H15: =DATEDIF(F15,Donnees!$C$2,"y") -> 49 | I15: =IF(H15<25,Donnees!$B$2,IF(H15<31,Donnees!$B$3,IF(H15<36,Donnees!$B$4,IF(H15<41,Donnees!$B$5,IF(H15<46,Donnees!$B$6,IF(H15<51,Donnees!$B$7,IF(H15<56,Donnees!$B$8,IF(H15<61,Donnees!$B$9,Donnees!$B$10)))))))) -> 46-50 | J15: =IF(H15<25,Donnees!$A$3,IF(H15<46,Donnees!$A$4,IF(H15<51,Donnees!$A$5,IF(H15<56,Donnees!$A$6,IF(H15<60,Donnees!$A$7,Donnees!$A$8))))) -> 46-50 | K15: Divorcé/Séparé | L15: 3 | M15: 0 | N15: =1/$O$1 -> 0.0098039216 | P15: 31-35 | Q15: =SUMIF(I:I,Donnees!B4,B:B) -> 15 | R15: =SUMPRODUCT((SUBTOTAL(3,INDIRECT("i"&ROW($I$2:$I$103)))*($I$2:$I$103=Donnees!B4))) -> 15
A16: 15 | B16: 1 | C16: 15 AL | D16: Loïc | E16: H | F16: 30700 | G16: 58400 | H16: =DATEDIF(F16,Donnees!$C$2,"y") -> 29 | I16: =IF(H16<25,Donnees!$B$2,IF(H16<31,Donnees!$B$3,IF(H16<36,Donnees!$B$4,IF(H16<41,Donnees!$B$5,IF(H16<46,Donnees!$B$6,IF(H16<51,Donnees!$B$7,IF(H16<56,Donnees!$B$8,IF(H16<61,Donnees!$B$9,Donnees!$B$10)))))))) -> 25-30 | K16: Célibataire | L16: 0 | M16: 0 | N16: =1/$O$1 -> 0.0098039216 | P16: 36-40 | Q16: =SUMIF(I:I,Donnees!B5,B:B) -> 15 | R16: =SUMPRODUCT((SUBTOTAL(3,INDIRECT("i"&ROW($I$2:$I$103)))*($I$2:$I$103=Donnees!B5))) -> 15
A17: 16 | B17: 1 | C17: 16 AL | D17: Catherine | E17: F | F17: 26406 | G17: 58000 | H17: =DATEDIF(F17,Donnees!$C$2,"y") -> 41 | I17: =IF(H17<25,Donnees!$B$2,IF(H17<31,Donnees!$B$3,IF(H17<36,Donnees!$B$4,IF(H17<41,Donnees!$B$5,IF(H17<46,Donnees!$B$6,IF(H17<51,Donnees!$B$7,IF(H17<56,Donnees!$B$8,IF(H17<61,Donnees!$B$9,Donnees!$B$10)))))))) -> 41-45 | J17: =IF(H17<25,Donnees!$A$3,IF(H17<46,Donnees!$A$4,IF(H17<51,Donnees!$A$5,IF(H17<56,Donnees!$A$6,IF(H17<60,Donnees!$A$7,Donnees!$A$8))))) -> 25-45 | K17: Marié | L17: 2 | M17: 2 | N17: =1/$O$1 -> 0.0098039216 | P17: 41-45 | Q17: =SUMIF(I:I,Donnees!B6,B:B) -> 17 | R17: =SUMPRODUCT((SUBTOTAL(3,INDIRECT("i"&ROW($I$2:$I$103)))*($I$2:$I$103=Donnees!B6))) -> 17
A18: 17 | B18: 1 | C18: 17 AL | D18: Morgan | E18: H | F18: 31747 | G18: 58000 | H18: =DATEDIF(F18,Donnees!$C$2,"y") -> 26 | I18: =IF(H18<25,Donnees!$B$2,IF(H18<31,Donnees!$B$3,IF(H18<36,Donnees!$B$4,IF(H18<41,Donnees!$B$5,IF(H18<46,Donnees!$B$6,IF(H18<51,Donnees!$B$7,IF(H18<56,Donnees!$B$8,IF(H18<61,Donnees!$B$9,Donnees!$B$10)))))))) -> 25-30 | J18: =IF(H18<25,Donnees!$A$3,IF(H18<46,Donnees!$A$4,IF(H18<51,Donnees!$A$5,IF(H18<56,Donnees!$A$6,IF(H18<60,Donnees!$A$7,Donnees!$A$8))))) -> 25-45 | K18: Célibataire | L18: 0 | M18: 0 | N18: =1/$O$1 -> 0.0098039216 | P18: 46-50 | Q18: =SUMIF(I:I,Donnees!B7,B:B) -> 14 | R18: =SUMPRODUCT((SUBTOTAL(3,INDIRECT("i"&ROW($I$2:$I$103)))*($I$2:$I$103=Donnees!B7))) -> 14
A19: 18 | B19: 1 | C19: 18 AL | D19: Joseph | E19: H | F19: 21163 | G19: Cayenne | H19: =DATEDIF(F19,Donnees!$C$2,"y") -> 55 | I19: =IF(H19<25,Donnees!$B$2,IF(H19<31,Donnees!$B$3,IF(H19<36,Donnees!$B$4,IF(H19<41,Donnees!$B$5,IF(H19<46,Donnees!$B$6,IF(H19<51,Donnees!$B$7,IF(H19<56,Donnees!$B$8,IF(H19<61,Donnees!$B$9,Donnees!$B$10)))))))) -> 51-55 | K19: Marié | N19: =1/$O$1 -> 0.0098039216 | P19: 51-55 | Q19: =SUMIF(I:I,Donnees!B8,B:B) -> 12 | R19: =SUMPRODUCT((SUBTOTAL(3,INDIRECT("i"&ROW($I$2:$I$103)))*($I$2:$I$103=Donnees!B8))) -> 12
A20: 19 | B20: 1 | C20: 19 AL | D20: Edouard | E20: H | F20: 32188 | G20: 58000 | H20: =DATEDIF(F20,Donnees!$C$2,"y") -> 25 | I20: =IF(H20<25,Donnees!$B$2,IF(H20<31,Donnees!$B$3,IF(H20<36,Donnees!$B$4,IF(H20<41,Donnees!$B$5,IF(H20<46,Donnees!$B$6,IF(H20<51,Donnees!$B$7,IF(H20<56,Donnees!$B$8,IF(H20<61,Donnees!$B$9,Donnees!$B$10)))))))) -> 25-30 | J20: =IF(H20<25,Donnees!$A$3,IF(H20<46,Donnees!$A$4,IF(H20<51,Donnees!$A$5,IF(H20<56,Donnees!$A$6,IF(H20<60,Donnees!$A$7,Donnees!$A$8))))) -> 25-45 | K20: Vit maritalement | L20: 2 | M20: 2 | N20: =1/$O$1 -> 0.0098039216 | P20: 56-60 | Q20: =SUMIF(I:I,Donnees!B9,B:B) -> 9 | R20: =SUMPRODUCT((SUBTOTAL(3,INDIRECT("i"&ROW($I$2:$I$103)))*($I$2:$I$103=Donnees!B9))) -> 9
A21: 20 | B21: 1 | C21: 20 AL | D21: Barbara | E21: F | F21: 25541 | G21: 58000 | H21: =DATEDIF(F21,Donnees!$C$2,"y") -> 43 | I21: =IF(H21<25,Donnees!$B$2,IF(H21<31,Donnees!$B$3,IF(H21<36,Donnees!$B$4,IF(H21<41,Donnees!$B$5,IF(H21<46,Donnees!$B$6,IF(H21<51,Donnees!$B$7,IF(H21<56,Donnees!$B$8,IF(H21<61,Donnees!$B$9,Donnees!$B$10)))))))) -> 41-45 | K21: Vit maritalement | L21: 1 | M21: 1 | N21: =1/$O$1 -> 0.0098039216 | P21: + 61 | Q21: =SUMIF(I:I,Donnees!B10,B:B) -> 1 | R21: =SUMPRODUCT((SUBTOTAL(3,INDIRECT("i"&ROW($I$2:$I$103)))*($I$2:$I$103=Donnees!B10))) -> 1
A22: 21 | B22: 1 | C22: 21 AL | D22: Fabien | E22: H | F22: 25013 | G22: COMMUNE | H22: =DATEDIF(F22,Donnees!$C$2,"y") -> 45 | I22: =IF(H22<25,Donnees!$B$2,IF(H22<31,Donnees!$B$3,IF(H22<36,Donnees!$B$4,IF(H22<41,Donnees!$B$5,IF(H22<46,Donnees!$B$6,IF(H22<51,Donnees!$B$7,IF(H22<56,Donnees!$B$8,IF(H22<61,Donnees!$B$9,Donnees!$B$10)))))))) -> 41-45 | J22: =IF(H22<25,Donnees!$A$3,IF(H22<46,Donnees!$A$4,IF(H22<51,Donnees!$A$5,IF(H22<56,Donnees!$A$6,IF(H22<60,Donnees!$A$7,Donnees!$A$8))))) -> 25-45 | K22: Marié | L22: 0 | N22: =1/$O$1 -> 0.0098039216 | Q22: SITUATION FAMILIALE
A23: 22 | B23: 1 | C23: 22 AL | D23: Christine | E23: F | F23: 24644 | G23: 58300 | H23: =DATEDIF(F23,Donnees!$C$2,"y") -> 46 | I23: =IF(H23<25,Donnees!$B$2,IF(H23<31,Donnees!$B$3,IF(H23<36,Donnees!$B$4,IF(H23<41,Donnees!$B$5,IF(H23<46,Donnees!$B$6,IF(H23<51,Donnees!$B$7,IF(H23<56,Donnees!$B$8,IF(H23<61,Donnees!$B$9,Donnees!$B$10)))))))) -> 46-50 | K23: Divorcé/Séparé | L23: 1 | M23: 1 | N23: =1/$O$1 -> 0.0098039216 | P23: Marié | Q23: =SUMIF(K:K,Donnees!D2,B:B) -> 31 | R23: =SUMPRODUCT((SUBTOTAL(3,INDIRECT("k"&ROW($K$2:$K$103)))*($K$2:$K$103=Donnees!D2))) -> 31
A24: 23 | B24: 1 | C24: 23 AL | D24: Christian | E24: H | F24: 26250 | G24: 58000 | H24: =DATEDIF(F24,Donnees!$C$2,"y") -> 41 | I24: =IF(H24<25,Donnees!$B$2,IF(H24<31,Donnees!$B$3,IF(H24<36,Donnees!$B$4,IF(H24<41,Donnees!$B$5,IF(H24<46,Donnees!$B$6,IF(H24<51,Donnees!$B$7,IF(H24<56,Donnees!$B$8,IF(H24<61,Donnees!$B$9,Donnees!$B$10)))))))) -> 41-45 | J24: =IF(H24<25,Donnees!$A$3,IF(H24<46,Donnees!$A$4,IF(H24<51,Donnees!$A$5,IF(H24<56,Donnees!$A$6,IF(H24<60,Donnees!$A$7,Donnees!$A$8))))) -> 25-45 | K24: Célibataire | L24: 0 | M24: 0 | N24: =1/$O$1 -> 0.0098039216 | P24: Célibataire | Q24: =SUMIF(K:K,Donnees!D3,B:B) -> 41 | R24: =SUMPRODUCT((SUBTOTAL(3,INDIRECT("k"&ROW($K$2:$K$103)))*($K$2:$K$103=Donnees!D3))) -> 41
A25: 24 | B25: 1 | C25: 24 AL | D25: Franck | E25: H | F25: 24651 | G25: COMMUNE | H25: =DATEDIF(F25,Donnees!$C$2,"y") -> 46 | I25: =IF(H25<25,Donnees!$B$2,IF(H25<31,Donnees!$B$3,IF(H25<36,Donnees!$B$4,IF(H25<41,Donnees!$B$5,IF(H25<46,Donnees!$B$6,IF(H25<51,Donnees!$B$7,IF(H25<56,Donnees!$B$8,IF(H25<61,Donnees!$B$9,Donnees!$B$10)))))))) -> 46-50 | J25: =IF(H25<25,Donnees!$A$3,IF(H25<46,Donnees!$A$4,IF(H25<51,Donnees!$A$5,IF(H25<56,Donnees!$A$6,IF(H25<60,Donnees!$A$7,Donnees!$A$8))))) -> 46-50 | K25: Vit maritalement | L25: 3 | N25: =1/$O$1 -> 0.0098039216 | P25: Divorcé/Séparé | Q25: =SUMIF(K:K,Donnees!D4,B:B) -> 17 | R25: =SUMPRODUCT((SUBTOTAL(3,INDIRECT("k"&ROW($K$2:$K$103)))*($K$2:$K$103=Donnees!D4))) -> 17
A26: 25 | B26: 1 | C26: 25 AL | D26: Béatrice | E26: F | F26: 23456 | G26: COMMUNE | H26: =DATEDIF(F26,Donnees!$C$2,"y") -> 49 | I26: =IF(H26<25,Donnees!$B$2,IF(H26<31,Donnees!$B$3,IF(H26<36,Donnees!$B$4,IF(H26<41,Donnees!$B$5,IF(H26<46,Donnees!$B$6,IF(H26<51,Donnees!$B$7,IF(H26<56,Donnees!$B$8,IF(H26<61,Donnees!$B$9,Donnees!$B$10)))))))) -> 46-50 | J26: =IF(H26<25,Donnees!$A$3,IF(H26<46,Donnees!$A$4,IF(H26<51,Donnees!$A$5,IF(H26<56,Donnees!$A$6,IF(H26<60,Donnees!$A$7,Donnees!$A$8))))) -> 46-50 | K26: Marié | L26: 2 | N26: =1/$O$1 -> 0.0098039216 | P26: Pacsé | Q26: =SUMIF(K:K,Donnees!D5,B:B) -> 0 | R26: =SUMPRODUCT((SUBTOTAL(3,INDIRECT("k"&ROW($K$2:$K$103)))*($K$2:$K$103=Donnees!D5))) -> 0
A27: 26 | B27: 1 | C27: 26 AL | D27: Olivier | E27: H | F27: 24705 | G27: 58000 | H27: =DATEDIF(F27,Donnees!$C$2,"y") -> 45 | I27: =IF(H27<25,Donnees!$B$2,IF(H27<31,Donnees!$B$3,IF(H27<36,Donnees!$B$4,IF(H27<41,Donnees!$B$5,IF(H27<46,Donnees!$B$6,IF(H27<51,Donnees!$B$7,IF(H27<56,Donnees!$B$8,IF(H27<61,Donnees!$B$9,Donnees!$B$10)))))))) -> 41-45 | J27: =IF(H27<25,Donnees!$A$3,IF(H27<46,Donnees!$A$4,IF(H27<51,Donnees!$A$5,IF(H27<56,Donnees!$A$6,IF(H27<60,Donnees!$A$7,Donnees!$A$8))))) -> 25-45 | K27: Vit maritalement | L27: 3 | M27: 3 | N27: =1/$O$1 -> 0.0098039216 | P27: Vit maritalement | Q27: =SUMIF(K:K,Donnees!D6,B:B) -> 13 | R27: =SUMPRODUCT((SUBTOTAL(3,INDIRECT("k"&ROW($K$2:$K$103)))*($K$2:$K$103=Donnees!D6))) -> 13
A28: 27 | B28: 1 | C28: 27 AL | D28: Gérard | E28: H | F28: 20208 | G28: COMMUNE | H28: =DATEDIF(F28,Donnees!$C$2,"y") -> 58 | I28: =IF(H28<25,Donnees!$B$2,IF(H28<31,Donnees!$B$3,IF(H28<36,Donnees!$B$4,IF(H28<41,Donnees!$B$5,IF(H28<46,Donnees!$B$6,IF(H28<51,Donnees!$B$7,IF(H28<56,Donnees!$B$8,IF(H28<61,Donnees!$B$9,Donnees!$B$10)))))))) -> 56-60 | J28: =IF(H28<25,Donnees!$A$3,IF(H28<46,Donnees!$A$4,IF(H28<51,Donnees!$A$5,IF(H28<56,Donnees!$A$6,IF(H28<60,Donnees!$A$7,Donnees!$A$8))))) -> + 55 ans | K28: Divorcé/Séparé | L28: 1 | N28: =1/$O$1 -> 0.0098039216 | P28: Veuf | Q28: =SUMIF(K:K,Donnees!D7,B:B) -> 0 | R28: =SUMPRODUCT((SUBTOTAL(3,INDIRECT("k"&ROW($K$2:$K$103)))*($K$2:$K$103=Donnees!D7))) -> 0
A29: 28 | B29: 1 | C29: 28 AL | D29: Ludovic | E29: H | F29: 28234 | G29: 58000 | H29: =DATEDIF(F29,Donnees!$C$2,"y") -> 36 | I29: =IF(H29<25,Donnees!$B$2,IF(H29<31,Donnees!$B$3,IF(H29<36,Donnees!$B$4,IF(H29<41,Donnees!$B$5,IF(H29<46,Donnees!$B$6,IF(H29<51,Donnees!$B$7,IF(H29<56,Donnees!$B$8,IF(H29<61,Donnees!$B$9,Donnees!$B$10)))))))) -> 36-40 | J29: =IF(H29<25,Donnees!$A$3,IF(H29<46,Donnees!$A$4,IF(H29<51,Donnees!$A$5,IF(H29<56,Donnees!$A$6,IF(H29<60,Donnees!$A$7,Donnees!$A$8))))) -> 25-45 | K29: Célibataire | L29: 1 | M29: 0 | N29: =1/$O$1 -> 0.0098039216 | P29: Inconnu | Q29: =SUMIF(K:K,Donnees!D8,B:B) -> 0 | R29: =SUMPRODUCT((SUBTOTAL(3,INDIRECT("k"&ROW($K$2:$K$103)))*($K$2:$K$103=Donnees!D8))) -> 0
A30: 29 | B30: 1 | C30: 29 AL | D30: Mohamed | E30: H | F30: 32492 | G30: 58000 | H30: =DATEDIF(F30,Donnees!$C$2,"y") -> 24 | I30: =IF(H30<25,Donnees!$B$2,IF(H30<31,Donnees!$B$3,IF(H30<36,Donnees!$B$4,IF(H30<41,Donnees!$B$5,IF(H30<46,Donnees!$B$6,IF(H30<51,Donnees!$B$7,IF(H30<56,Donnees!$B$8,IF(H30<61,Donnees!$B$9,Donnees!$B$10)))))))) -> - 25 ans | K30: Marié | L30: 0 | M30: 0 | N30: =1/$O$1 -> 0.0098039216 | P30: Autre | Q30: =SUMIF(K:K,Donnees!D9,B:B) -> 0 | R30: =SUMPRODUCT((SUBTOTAL(3,INDIRECT("k"&ROW($K$2:$K$103)))*($K$2:$K$103=Donnees!D9))) -> 0
A31: 30 | B31: 1 | C31: 30 AL | D31: Jean-Claude | E31: H | F31: 19867 | G31: COMMUNE | H31: =DATEDIF(F31,Donnees!$C$2,"y") -> 59 | I31: =IF(H31<25,Donnees!$B$2,IF(H31<31,Donnees!$B$3,IF(H31<36,Donnees!$B$4,IF(H31<41,Donnees!$B$5,IF(H31<46,Donnees!$B$6,IF(H31<51,Donnees!$B$7,IF(H31<56,Donnees!$B$8,IF(H31<61,Donnees!$B$9,Donnees!$B$10)))))))) -> 56-60 | J31: =IF(H31<25,Donnees!$A$3,IF(H31<46,Donnees!$A$4,IF(H31<51,Donnees!$A$5,IF(H31<56,Donnees!$A$6,IF(H31<60,Donnees!$A$7,Donnees!$A$8))))) -> + 55 ans | K31: Divorcé/Séparé | L31: 1 | N31: =1/$O$1 -> 0.0098039216
A32: 31 | B32: 1 | C32: 31 AL | D32: Thibaut | E32: H | F32: 30102 | G32: 58000 | H32: =DATEDIF(F32,Donnees!$C$2,"y") -> 31 | I32: =IF(H32<25,Donnees!$B$2,IF(H32<31,Donnees!$B$3,IF(H32<36,Donnees!$B$4,IF(H32<41,Donnees!$B$5,IF(H32<46,Donnees!$B$6,IF(H32<51,Donnees!$B$7,IF(H32<56,Donnees!$B$8,IF(H32<61,Donnees!$B$9,Donnees!$B$10)))))))) -> 31-35 | J32: =IF(H32<25,Donnees!$A$3,IF(H32<46,Donnees!$A$4,IF(H32<51,Donnees!$A$5,IF(H32<56,Donnees!$A$6,IF(H32<60,Donnees!$A$7,Donnees!$A$8))))) -> 25-45 | K32: Célibataire | L32: 0 | M32: 0 | N32: =1/$O$1 -> 0.0098039216
A33: 32 | B33: 1 | C33: 32 AL | D33: Richard | E33: H | F33: 22237 | G33: COMMUNE | H33: =DATEDIF(F33,Donnees!$C$2,"y") -> 52 | I33: =IF(H33<25,Donnees!$B$2,IF(H33<31,Donnees!$B$3,IF(H33<36,Donnees!$B$4,IF(H33<41,Donnees!$B$5,IF(H33<46,Donnees!$B$6,IF(H33<51,Donnees!$B$7,IF(H33<56,Donnees!$B$8,IF(H33<61,Donnees!$B$9,Donnees!$B$10)))))))) -> 51-55 | J33: =IF(H33<25,Donnees!$A$3,IF(H33<46,Donnees!$A$4,IF(H33<51,Donnees!$A$5,IF(H33<56,Donnees!$A$6,IF(H33<60,Donnees!$A$7,Donnees!$A$8))))) -> 51-55 | K33: Marié | L33: 4 | N33: =1/$O$1 -> 0.0098039216
A34: 33 | B34: 1 | C34: 33 AL | D34: Médoune | E34: H | F34: 28221 | G34: Migrant | H34: =DATEDIF(F34,Donnees!$C$2,"y") -> 36 | I34: =IF(H34<25,Donnees!$B$2,IF(H34<31,Donnees!$B$3,IF(H34<36,Donnees!$B$4,IF(H34<41,Donnees!$B$5,IF(H34<46,Donnees!$B$6,IF(H34<51,Donnees!$B$7,IF(H34<56,Donnees!$B$8,IF(H34<61,Donnees!$B$9,Donnees!$B$10)))))))) -> 36-40 | J34: =IF(H34<25,Donnees!$A$3,IF(H34<46,Donnees!$A$4,IF(H34<51,Donnees!$A$5,IF(H34<56,Donnees!$A$6,IF(H34<60,Donnees!$A$7,Donnees!$A$8))))) -> 25-45 | K34: Marié | L34: 2 | M34: 2 | N34: =1/$O$1 -> 0.0098039216
A35: 34 | B35: 1 | C35: 34 AL | D35: Gaël | E35: H | F35: 28871 | G35: 58000 | H35: =DATEDIF(F35,Donnees!$C$2,"y") -> 34 | I35: =IF(H35<25,Donnees!$B$2,IF(H35<31,Donnees!$B$3,IF(H35<36,Donnees!$B$4,IF(H35<41,Donnees!$B$5,IF(H35<46,Donnees!$B$6,IF(H35<51,Donnees!$B$7,IF(H35<56,Donnees!$B$8,IF(H35<61,Donnees!$B$9,Donnees!$B$10)))))))) -> 31-35 | J35: =IF(H35<25,Donnees!$A$3,IF(H35<46,Donnees!$A$4,IF(H35<51,Donnees!$A$5,IF(H35<56,Donnees!$A$6,IF(H35<60,Donnees!$A$7,Donnees!$A$8))))) -> 25-45 | K35: Vit maritalement | L35: 1 | M35: 1 | N35: =1/$O$1 -> 0.0098039216
A36: 35 | B36: 1 | C36: 35 AL | D36: Abdelilah | E36: H | F36: 30768 | G36: 58000 | H36: =DATEDIF(F36,Donnees!$C$2,"y") -> 29 | I36: =IF(H36<25,Donnees!$B$2,IF(H36<31,Donnees!$B$3,IF(H36<36,Donnees!$B$4,IF(H36<41,Donnees!$B$5,IF(H36<46,Donnees!$B$6,IF(H36<51,Donnees!$B$7,IF(H36<56,Donnees!$B$8,IF(H36<61,Donnees!$B$9,Donnees!$B$10)))))))) -> 25-30 | J36: =IF(H36<25,Donnees!$A$3,IF(H36<46,Donnees!$A$4,IF(H36<51,Donnees!$A$5,IF(H36<56,Donnees!$A$6,IF(H36<60,Donnees!$A$7,Donnees!$A$8))))) -> 25-45 | K36: Célibataire | L36: 0 | M36: 0 | N36: =1/$O$1 -> 0.0098039216
A37: 36 | B37: 1 | C37: 36 AL | D37: Youssef | E37: H | F37: 30175 | G37: 05000 | H37: =DATEDIF(F37,Donnees!$C$2,"y") -> 30 | I37: =IF(H37<25,Donnees!$B$2,IF(H37<31,Donnees!$B$3,IF(H37<36,Donnees!$B$4,IF(H37<41,Donnees!$B$5,IF(H37<46,Donnees!$B$6,IF(H37<51,Donnees!$B$7,IF(H37<56,Donnees!$B$8,IF(H37<61,Donnees!$B$9,Donnees!$B$10)))))))) -> 25-30 | K37: Vit maritalement | L37: 3 | M37: 2 | N37: =1/$O$1 -> 0.0098039216
A38: 37 | B38: 1 | C38: 37 AL | D38: Mirriae Gloss | E38: F | F38: 25909 | G38: Haïti | H38: =DATEDIF(F38,Donnees!$C$2,"y") -> 42 | I38: =IF(H38<25,Donnees!$B$2,IF(H38<31,Donnees!$B$3,IF(H38<36,Donnees!$B$4,IF(H38<41,Donnees!$B$5,IF(H38<46,Donnees!$B$6,IF(H38<51,Donnees!$B$7,IF(H38<56,Donnees!$B$8,IF(H38<61,Donnees!$B$9,Donnees!$B$10)))))))) -> 41-45 | K38: Célibataire | L38: 1 | M38: 1 | N38: =1/$O$1 -> 0.0098039216
A39: 38 | B39: 1 | C39: 38 AL | D39: Benyoussef | E39: H | F39: 29914 | G39: 1500 | H39: =DATEDIF(F39,Donnees!$C$2,"y") -> 31 | I39: =IF(H39<25,Donnees!$B$2,IF(H39<31,Donnees!$B$3,IF(H39<36,Donnees!$B$4,IF(H39<41,Donnees!$B$5,IF(H39<46,Donnees!$B$6,IF(H39<51,Donnees!$B$7,IF(H39<56,Donnees!$B$8,IF(H39<61,Donnees!$B$9,Donnees!$B$10)))))))) -> 31-35 | K39: Célibataire | L39: 0 | M39: 0 | N39: =1/$O$1 -> 0.0098039216
A40: 39 | B40: 1 | C40: 39 AL | D40: Rosemonde | E40: F | F40: 23993 | G40: Haïti | H40: =DATEDIF(F40,Donnees!$C$2,"y") -> 47 | I40: =IF(H40<25,Donnees!$B$2,IF(H40<31,Donnees!$B$3,IF(H40<36,Donnees!$B$4,IF(H40<41,Donnees!$B$5,IF(H40<46,Donnees!$B$6,IF(H40<51,Donnees!$B$7,IF(H40<56,Donnees!$B$8,IF(H40<61,Donnees!$B$9,Donnees!$B$10)))))))) -> 46-50 | K40: Célibataire | L40: 3 | M40: 2 | N40: =1/$O$1 -> 0.0098039216
A41: 40 | B41: 1 | C41: 40 AL | D41: Roland | E41: H | F41: 19249 | G41: COMMUNE | H41: =DATEDIF(F41,Donnees!$C$2,"y") -> 60 | I41: =IF(H41<25,Donnees!$B$2,IF(H41<31,Donnees!$B$3,IF(H41<36,Donnees!$B$4,IF(H41<41,Donnees!$B$5,IF(H41<46,Donnees!$B$6,IF(H41<51,Donnees!$B$7,IF(H41<56,Donnees!$B$8,IF(H41<61,Donnees!$B$9,Donnees!$B$10)))))))) -> 56-60 | J41: =IF(H41<25,Donnees!$A$3,IF(H41<46,Donnees!$A$4,IF(H41<51,Donnees!$A$5,IF(H41<56,Donnees!$A$6,IF(H41<60,Donnees!$A$7,Donnees!$A$8))))) -> Retraite | K41: Célibataire | L41: 0 | N41: =1/$O$1 -> 0.0098039216
A42: 41 | B42: 1 | C42: 41 AL | D42: Nourredine | E42: H | F42: 23514 | G42: 59000 | H42: =DATEDIF(F42,Donnees!$C$2,"y") -> 49 | I42: =IF(H42<25,Donnees!$B$2,IF(H42<31,Donnees!$B$3,IF(H42<36,Donnees!$B$4,IF(H42<41,Donnees!$B$5,IF(H42<46,Donnees!$B$6,IF(H42<51,Donnees!$B$7,IF(H42<56,Donnees!$B$8,IF(H42<61,Donnees!$B$9,Donnees!$B$10)))))))) -> 46-50 | J42: =IF(H42<25,Donnees!$A$3,IF(H42<46,Donnees!$A$4,IF(H42<51,Donnees!$A$5,IF(H42<56,Donnees!$A$6,IF(H42<60,Donnees!$A$7,Donnees!$A$8))))) -> 46-50 | K42: Célibataire | L42: 0 | M42: 0 | N42: =1/$O$1 -> 0.0098039216
A43: 42 | B43: 1 | C43: 42 AL | D43: Martial | E43: H | F43: 21321 | G43: COMMUNE | H43: =DATEDIF(F43,Donnees!$C$2,"y") -> 55 | I43: =IF(H43<25,Donnees!$B$2,IF(H43<31,Donnees!$B$3,IF(H43<36,Donnees!$B$4,IF(H43<41,Donnees!$B$5,IF(H43<46,Donnees!$B$6,IF(H43<51,Donnees!$B$7,IF(H43<56,Donnees!$B$8,IF(H43<61,Donnees!$B$9,Donnees!$B$10)))))))) -> 51-55 | J43: =IF(H43<25,Donnees!$A$3,IF(H43<46,Donnees!$A$4,IF(H43<51,Donnees!$A$5,IF(H43<56,Donnees!$A$6,IF(H43<60,Donnees!$A$7,Donnees!$A$8))))) -> 51-55 | K43: Marié | L43: 2 | N43: =1/$O$1 -> 0.0098039216
A44: 43 | B44: 1 | C44: 43 AL | D44: Jean-Luc | E44: H | F44: 20947 | G44: 91100 | H44: =DATEDIF(F44,Donnees!$C$2,"y") -> 56 | I44: =IF(H44<25,Donnees!$B$2,IF(H44<31,Donnees!$B$3,IF(H44<36,Donnees!$B$4,IF(H44<41,Donnees!$B$5,IF(H44<46,Donnees!$B$6,IF(H44<51,Donnees!$B$7,IF(H44<56,Donnees!$B$8,IF(H44<61,Donnees!$B$9,Donnees!$B$10)))))))) -> 56-60 | K44: Célibataire | L44: 1 | M44: 0 | N44: =1/$O$1 -> 0.0098039216
A45: 44 | B45: 1 | C45: 44 AL | D45: Salih | E45: H | F45: 22577 | G45: Algérie | H45: =DATEDIF(F45,Donnees!$C$2,"y") -> 51 | I45: =IF(H45<25,Donnees!$B$2,IF(H45<31,Donnees!$B$3,IF(H45<36,Donnees!$B$4,IF(H45<41,Donnees!$B$5,IF(H45<46,Donnees!$B$6,IF(H45<51,Donnees!$B$7,IF(H45<56,Donnees!$B$8,IF(H45<61,Donnees!$B$9,Donnees!$B$10)))))))) -> 51-55 | K45: Marié | L45: 3 | M45: 3 | N45: =1/$O$1 -> 0.0098039216
A46: 45 | B46: 1 | C46: 45 AL | D46: Toufik | E46: H | F46: 28599 | G46: 37110 | H46: =DATEDIF(F46,Donnees!$C$2,"y") -> 35 | I46: =IF(H46<25,Donnees!$B$2,IF(H46<31,Donnees!$B$3,IF(H46<36,Donnees!$B$4,IF(H46<41,Donnees!$B$5,IF(H46<46,Donnees!$B$6,IF(H46<51,Donnees!$B$7,IF(H46<56,Donnees!$B$8,IF(H46<61,Donnees!$B$9,Donnees!$B$10)))))))) -> 31-35 | K46: Célibataire | L46: 0 | M46: 0 | N46: =1/$O$1 -> 0.0098039216
A47: 46 | B47: 1 | C47: 46 AL | D47: Feten | E47: F | F47: 26568 | G47: 58000 | H47: =DATEDIF(F47,Donnees!$C$2,"y") -> 40 | I47: =IF(H47<25,Donnees!$B$2,IF(H47<31,Donnees!$B$3,IF(H47<36,Donnees!$B$4,IF(H47<41,Donnees!$B$5,IF(H47<46,Donnees!$B$6,IF(H47<51,Donnees!$B$7,IF(H47<56,Donnees!$B$8,IF(H47<61,Donnees!$B$9,Donnees!$B$10)))))))) -> 36-40 | K47: Marié | L47: 3 | M47: 3 | N47: =1/$O$1 -> 0.0098039216
A48: 47 | B48: 1 | C48: 47 AL | D48: Aurèlie | E48: F | F48: 28944 | G48: 58000 | H48: =DATEDIF(F48,Donnees!$C$2,"y") -> 34 | I48: =IF(H48<25,Donnees!$B$2,IF(H48<31,Donnees!$B$3,IF(H48<36,Donnees!$B$4,IF(H48<41,Donnees!$B$5,IF(H48<46,Donnees!$B$6,IF(H48<51,Donnees!$B$7,IF(H48<56,Donnees!$B$8,IF(H48<61,Donnees!$B$9,Donnees!$B$10)))))))) -> 31-35 | J48: =IF(H48<25,Donnees!$A$3,IF(H48<46,Donnees!$A$4,IF(H48<51,Donnees!$A$5,IF(H48<56,Donnees!$A$6,IF(H48<60,Donnees!$A$7,Donnees!$A$8))))) -> 25-45 | K48: Célibataire | L48: 0 | M48: 0 | N48: =1/$O$1 -> 0.0098039216
A49: 48 | B49: 1 | C49: 48 AL | D49: Aurèlie | E49: F | F49: 28944 | G49: 58001 | H49: =DATEDIF(F49,Donnees!$C$2,"y") -> 34 | I49: =IF(H49<25,Donnees!$B$2,IF(H49<31,Donnees!$B$3,IF(H49<36,Donnees!$B$4,IF(H49<41,Donnees!$B$5,IF(H49<46,Donnees!$B$6,IF(H49<51,Donnees!$B$7,IF(H49<56,Donnees!$B$8,IF(H49<61,Donnees!$B$9,Donnees!$B$10)))))))) -> 31-35 | K49: Célibataire | L49: 0 | M49: 0 | N49: =1/$O$1 -> 0.0098039216
A50: 49 | B50: 1 | C50: 49 AL | D50: Joëlle | E50: F | F50: 20290 | G50: 58110 | H50: =DATEDIF(F50,Donnees!$C$2,"y") -> 57 | I50: =IF(H50<25,Donnees!$B$2,IF(H50<31,Donnees!$B$3,IF(H50<36,Donnees!$B$4,IF(H50<41,Donnees!$B$5,IF(H50<46,Donnees!$B$6,IF(H50<51,Donnees!$B$7,IF(H50<56,Donnees!$B$8,IF(H50<61,Donnees!$B$9,Donnees!$B$10)))))))) -> 56-60 | J50: =IF(H50<25,Donnees!$A$3,IF(H50<46,Donnees!$A$4,IF(H50<51,Donnees!$A$5,IF(H50<56,Donnees!$A$6,IF(H50<60,Donnees!$A$7,Donnees!$A$8))))) -> + 55 ans | K50: Divorcé/Séparé | L50: 0 | N50: =1/$O$1 -> 0.0098039216
A51: 50 | B51: 1 | C51: 50 AL | D51: Alexey | E51: H | F51: 31525 | G51: Russie | H51: =DATEDIF(F51,Donnees!$C$2,"y") -> 27 | I51: =IF(H51<25,Donnees!$B$2,IF(H51<31,Donnees!$B$3,IF(H51<36,Donnees!$B$4,IF(H51<41,Donnees!$B$5,IF(H51<46,Donnees!$B$6,IF(H51<51,Donnees!$B$7,IF(H51<56,Donnees!$B$8,IF(H51<61,Donnees!$B$9,Donnees!$B$10)))))))) -> 25-30 | K51: Célibataire | L51: 0 | M51: 0 | N51: =1/$O$1 -> 0.0098039216
A52: 51 | B52: 1 | C52: 51 AL | D52: youri | E52: H | F52: 22302 | G52: Ukraine | H52: =DATEDIF(F52,Donnees!$C$2,"y") -> 52 | I52: =IF(H52<25,Donnees!$B$2,IF(H52<31,Donnees!$B$3,IF(H52<36,Donnees!$B$4,IF(H52<41,Donnees!$B$5,IF(H52<46,Donnees!$B$6,IF(H52<51,Donnees!$B$7,IF(H52<56,Donnees!$B$8,IF(H52<61,Donnees!$B$9,Donnees!$B$10)))))))) -> 51-55 | K52: Marié | L52: 2 | M52: 2 | N52: =1/$O$1 -> 0.0098039216
A53: 52 | B53: 1 | C53: 52 AL | D53: Arnaud | E53: H | F53: 30286 | G53: 58000 | H53: =DATEDIF(F53,Donnees!$C$2,"y") -> 30 | I53: =IF(H53<25,Donnees!$B$2,IF(H53<31,Donnees!$B$3,IF(H53<36,Donnees!$B$4,IF(H53<41,Donnees!$B$5,IF(H53<46,Donnees!$B$6,IF(H53<51,Donnees!$B$7,IF(H53<56,Donnees!$B$8,IF(H53<61,Donnees!$B$9,Donnees!$B$10)))))))) -> 25-30 | J53: =IF(H53<25,Donnees!$A$3,IF(H53<46,Donnees!$A$4,IF(H53<51,Donnees!$A$5,IF(H53<56,Donnees!$A$6,IF(H53<60,Donnees!$A$7,Donnees!$A$8))))) -> 25-45 | K53: Célibataire | L53: 0 | M53: 0 | N53: =1/$O$1 -> 0.0098039216
A54: 53 | B54: 1 | C54: 53 AL | D54: Didier | E54: H | F54: 22322 | G54: COMMUNE | H54: =DATEDIF(F54,Donnees!$C$2,"y") -> 52 | I54: =IF(H54<25,Donnees!$B$2,IF(H54<31,Donnees!$B$3,IF(H54<36,Donnees!$B$4,IF(H54<41,Donnees!$B$5,IF(H54<46,Donnees!$B$6,IF(H54<51,Donnees!$B$7,IF(H54<56,Donnees!$B$8,IF(H54<61,Donnees!$B$9,Donnees!$B$10)))))))) -> 51-55 | J54: =IF(H54<25,Donnees!$A$3,IF(H54<46,Donnees!$A$4,IF(H54<51,Donnees!$A$5,IF(H54<56,Donnees!$A$6,IF(H54<60,Donnees!$A$7,Donnees!$A$8))))) -> 51-55 | K54: Marié | L54: 3 | N54: =1/$O$1 -> 0.0098039216
A55: 54 | B55: 1 | C55: 54 AL | D55: Suzanne | E55: F | F55: 24541 | G55: COMMUNE | H55: =DATEDIF(F55,Donnees!$C$2,"y") -> 46 | I55: =IF(H55<25,Donnees!$B$2,IF(H55<31,Donnees!$B$3,IF(H55<36,Donnees!$B$4,IF(H55<41,Donnees!$B$5,IF(H55<46,Donnees!$B$6,IF(H55<51,Donnees!$B$7,IF(H55<56,Donnees!$B$8,IF(H55<61,Donnees!$B$9,Donnees!$B$10)))))))) -> 46-50 | J55: =IF(H55<25,Donnees!$A$3,IF(H55<46,Donnees!$A$4,IF(H55<51,Donnees!$A$5,IF(H55<56,Donnees!$A$6,IF(H55<60,Donnees!$A$7,Donnees!$A$8))))) -> 46-50 | K55: Divorcé/Séparé | L55: 2 | N55: =1/$O$1 -> 0.0098039216
A56: 55 | B56: 1 | C56: 55 AL | D56: Tracy | E56: F | F56: 28132 | G56: Brazzaville | H56: =DATEDIF(F56,Donnees!$C$2,"y") -> 36 | I56: =IF(H56<25,Donnees!$B$2,IF(H56<31,Donnees!$B$3,IF(H56<36,Donnees!$B$4,IF(H56<41,Donnees!$B$5,IF(H56<46,Donnees!$B$6,IF(H56<51,Donnees!$B$7,IF(H56<56,Donnees!$B$8,IF(H56<61,Donnees!$B$9,Donnees!$B$10)))))))) -> 36-40 | J56: =IF(H56<25,Donnees!$A$3,IF(H56<46,Donnees!$A$4,IF(H56<51,Donnees!$A$5,IF(H56<56,Donnees!$A$6,IF(H56<60,Donnees!$A$7,Donnees!$A$8))))) -> 25-45 | K56: Marié | L56: 5 | M56: 4 | N56: =1/$O$1 -> 0.0098039216
A57: 56 | B57: 1 | C57: 56 AL | D57: Manuel N'Zita | E57: F | F57: 27169 | G57: Migrant | H57: =DATEDIF(F57,Donnees!$C$2,"y") -> 39 | I57: =IF(H57<25,Donnees!$B$2,IF(H57<31,Donnees!$B$3,IF(H57<36,Donnees!$B$4,IF(H57<41,Donnees!$B$5,IF(H57<46,Donnees!$B$6,IF(H57<51,Donnees!$B$7,IF(H57<56,Donnees!$B$8,IF(H57<61,Donnees!$B$9,Donnees!$B$10)))))))) -> 36-40 | J57: =IF(H57<25,Donnees!$A$3,IF(H57<46,Donnees!$A$4,IF(H57<51,Donnees!$A$5,IF(H57<56,Donnees!$A$6,IF(H57<60,Donnees!$A$7,Donnees!$A$8))))) -> 25-45 | K57: Célibataire | L57: 4 | M57: 4 | N57: =1/$O$1 -> 0.0098039216
A58: 57 | B58: 1 | C58: 57 AL | D58: Imer | E58: H | F58: 28812 | G58: Migrant | H58: =DATEDIF(F58,Donnees!$C$2,"y") -> 34 | I58: =IF(H58<25,Donnees!$B$2,IF(H58<31,Donnees!$B$3,IF(H58<36,Donnees!$B$4,IF(H58<41,Donnees!$B$5,IF(H58<46,Donnees!$B$6,IF(H58<51,Donnees!$B$7,IF(H58<56,Donnees!$B$8,IF(H58<61,Donnees!$B$9,Donnees!$B$10)))))))) -> 31-35 | J58: =IF(H58<25,Donnees!$A$3,IF(H58<46,Donnees!$A$4,IF(H58<51,Donnees!$A$5,IF(H58<56,Donnees!$A$6,IF(H58<60,Donnees!$A$7,Donnees!$A$8))))) -> 25-45 | K58: Marié | L58: 4 | M58: 4 | N58: =1/$O$1 -> 0.0098039216
A59: 58 | B59: 1 | C59: 58 AL | D59: Sadik | E59: H | F59: 32597 | G59: 58000 | H59: =DATEDIF(F59,Donnees!$C$2,"y") -> 24 | I59: =IF(H59<25,Donnees!$B$2,IF(H59<31,Donnees!$B$3,IF(H59<36,Donnees!$B$4,IF(H59<41,Donnees!$B$5,IF(H59<46,Donnees!$B$6,IF(H59<51,Donnees!$B$7,IF(H59<56,Donnees!$B$8,IF(H59<61,Donnees!$B$9,Donnees!$B$10)))))))) -> - 25 ans | K59: Célibataire | L59: 0 | M59: 0 | N59: =1/$O$1 -> 0.0098039216
A60: 59 | B60: 1 | C60: 59 AL | D60: Antonny | E60: H | F60: 28365 | G60: 58000 | H60: =DATEDIF(F60,Donnees!$C$2,"y") -> 35 | I60: =IF(H60<25,Donnees!$B$2,IF(H60<31,Donnees!$B$3,IF(H60<36,Donnees!$B$4,IF(H60<41,Donnees!$B$5,IF(H60<46,Donnees!$B$6,IF(H60<51,Donnees!$B$7,IF(H60<56,Donnees!$B$8,IF(H60<61,Donnees!$B$9,Donnees!$B$10)))))))) -> 31-35 | K60: Célibataire | L60: 0 | M60: 0 | N60: =1/$O$1 -> 0.0098039216
A61: 60 | B61: 1 | C61: 60 AL | D61: Michel | E61: H | F61: 20332 | G61: COMMUNE | H61: =DATEDIF(F61,Donnees!$C$2,"y") -> 57 | I61: =IF(H61<25,Donnees!$B$2,IF(H61<31,Donnees!$B$3,IF(H61<36,Donnees!$B$4,IF(H61<41,Donnees!$B$5,IF(H61<46,Donnees!$B$6,IF(H61<51,Donnees!$B$7,IF(H61<56,Donnees!$B$8,IF(H61<61,Donnees!$B$9,Donnees!$B$10)))))))) -> 56-60 | J61: =IF(H61<25,Donnees!$A$3,IF(H61<46,Donnees!$A$4,IF(H61<51,Donnees!$A$5,IF(H61<56,Donnees!$A$6,IF(H61<60,Donnees!$A$7,Donnees!$A$8))))) -> + 55 ans | K61: Divorcé/Séparé | L61: 0 | N61: =1/$O$1 -> 0.0098039216
A62: 61 | B62: 1 | C62: 61 AL | D62: Marie-Thérèse | E62: F | F62: 24097 | G62: COMMUNE | H62: =DATEDIF(F62,Donnees!$C$2,"y") -> 47 | I62: =IF(H62<25,Donnees!$B$2,IF(H62<31,Donnees!$B$3,IF(H62<36,Donnees!$B$4,IF(H62<41,Donnees!$B$5,IF(H62<46,Donnees!$B$6,IF(H62<51,Donnees!$B$7,IF(H62<56,Donnees!$B$8,IF(H62<61,Donnees!$B$9,Donnees!$B$10)))))))) -> 46-50 | J62: =IF(H62<25,Donnees!$A$3,IF(H62<46,Donnees!$A$4,IF(H62<51,Donnees!$A$5,IF(H62<56,Donnees!$A$6,IF(H62<60,Donnees!$A$7,Donnees!$A$8))))) -> 46-50 | K62: Divorcé/Séparé | L62: 0 | N62: =1/$O$1 -> 0.0098039216
A63: 62 | B63: 1 | C63: 62 AL | D63: Jean-François | E63: H | F63: 20532 | G63: 58000 | H63: =DATEDIF(F63,Donnees!$C$2,"y") -> 57 | I63: =IF(H63<25,Donnees!$B$2,IF(H63<31,Donnees!$B$3,IF(H63<36,Donnees!$B$4,IF(H63<41,Donnees!$B$5,IF(H63<46,Donnees!$B$6,IF(H63<51,Donnees!$B$7,IF(H63<56,Donnees!$B$8,IF(H63<61,Donnees!$B$9,Donnees!$B$10)))))))) -> 56-60 | J63: =IF(H63<25,Donnees!$A$3,IF(H63<46,Donnees!$A$4,IF(H63<51,Donnees!$A$5,IF(H63<56,Donnees!$A$6,IF(H63<60,Donnees!$A$7,Donnees!$A$8))))) -> + 55 ans | K63: Divorcé/Séparé | L63: 1 | M63: 0 | N63: =1/$O$1 -> 0.0098039216
A64: 63 | B64: 1 | C64: 63 AL | D64: Jean | E64: H | F64: 20589 | G64: COMMUNE | H64: =DATEDIF(F64,Donnees!$C$2,"y") -> 57 | I64: =IF(H64<25,Donnees!$B$2,IF(H64<31,Donnees!$B$3,IF(H64<36,Donnees!$B$4,IF(H64<41,Donnees!$B$5,IF(H64<46,Donnees!$B$6,IF(H64<51,Donnees!$B$7,IF(H64<56,Donnees!$B$8,IF(H64<61,Donnees!$B$9,Donnees!$B$10)))))))) -> 56-60 | J64: =IF(H64<25,Donnees!$A$3,IF(H64<46,Donnees!$A$4,IF(H64<51,Donnees!$A$5,IF(H64<56,Donnees!$A$6,IF(H64<60,Donnees!$A$7,Donnees!$A$8))))) -> + 55 ans | K64: Marié | L64: 1 | N64: =1/$O$1 -> 0.0098039216
A65: 64 | B65: 1 | C65: 64 AL | D65: Albertina | E65: F | F65: 25387 | G65: 63000 | H65: =DATEDIF(F65,Donnees!$C$2,"y") -> 44 | I65: =IF(H65<25,Donnees!$B$2,IF(H65<31,Donnees!$B$3,IF(H65<36,Donnees!$B$4,IF(H65<41,Donnees!$B$5,IF(H65<46,Donnees!$B$6,IF(H65<51,Donnees!$B$7,IF(H65<56,Donnees!$B$8,IF(H65<61,Donnees!$B$9,Donnees!$B$10)))))))) -> 41-45 | J65: =IF(H65<25,Donnees!$A$3,IF(H65<46,Donnees!$A$4,IF(H65<51,Donnees!$A$5,IF(H65<56,Donnees!$A$6,IF(H65<60,Donnees!$A$7,Donnees!$A$8))))) -> 25-45 | K65: Divorcé/Séparé | L65: 3 | M65: 3 | N65: =1/$O$1 -> 0.0098039216
A66: 65 | B66: 1 | C66: 65 AL | D66: Sandrine | E66: F | F66: 26693 | G66: COMMUNE | H66: =DATEDIF(F66,Donnees!$C$2,"y") -> 40 | I66: =IF(H66<25,Donnees!$B$2,IF(H66<31,Donnees!$B$3,IF(H66<36,Donnees!$B$4,IF(H66<41,Donnees!$B$5,IF(H66<46,Donnees!$B$6,IF(H66<51,Donnees!$B$7,IF(H66<56,Donnees!$B$8,IF(H66<61,Donnees!$B$9,Donnees!$B$10)))))))) -> 36-40 | J66: =IF(H66<25,Donnees!$A$3,IF(H66<46,Donnees!$A$4,IF(H66<51,Donnees!$A$5,IF(H66<56,Donnees!$A$6,IF(H66<60,Donnees!$A$7,Donnees!$A$8))))) -> 25-45 | K66: Marié | L66: 2 | M66: 2 | N66: =1/$O$1 -> 0.0098039216
A67: 66 | B67: 1 | C67: 66 AL | D67: Jean-Paul | E67: H | F67: 19254 | G67: COMMUNE | H67: =DATEDIF(F67,Donnees!$C$2,"y") -> 60 | I67: =IF(H67<25,Donnees!$B$2,IF(H67<31,Donnees!$B$3,IF(H67<36,Donnees!$B$4,IF(H67<41,Donnees!$B$5,IF(H67<46,Donnees!$B$6,IF(H67<51,Donnees!$B$7,IF(H67<56,Donnees!$B$8,IF(H67<61,Donnees!$B$9,Donnees!$B$10)))))))) -> 56-60 | J67: =IF(H67<25,Donnees!$A$3,IF(H67<46,Donnees!$A$4,IF(H67<51,Donnees!$A$5,IF(H67<56,Donnees!$A$6,IF(H67<60,Donnees!$A$7,Donnees!$A$8))))) -> Retraite | K67: Divorcé/Séparé | L67: 0 | N67: =1/$O$1 -> 0.0098039216
A68: 67 | B68: 1 | C68: 67 AL | D68: Annick | E68: F | F68: 30720 | G68: Cayenne | H68: =DATEDIF(F68,Donnees!$C$2,"y") -> 29 | I68: =IF(H68<25,Donnees!$B$2,IF(H68<31,Donnees!$B$3,IF(H68<36,Donnees!$B$4,IF(H68<41,Donnees!$B$5,IF(H68<46,Donnees!$B$6,IF(H68<51,Donnees!$B$7,IF(H68<56,Donnees!$B$8,IF(H68<61,Donnees!$B$9,Donnees!$B$10)))))))) -> 25-30 | J68: =IF(H68<25,Donnees!$A$3,IF(H68<46,Donnees!$A$4,IF(H68<51,Donnees!$A$5,IF(H68<56,Donnees!$A$6,IF(H68<60,Donnees!$A$7,Donnees!$A$8))))) -> 25-45 | K68: Célibataire | L68: 3 | M68: 3 | N68: =1/$O$1 -> 0.0098039216
A69: 68 | B69: 1 | C69: 68 AL | D69: Eric | E69: H | F69: 26443 | G69: 58000 | H69: =DATEDIF(F69,Donnees!$C$2,"y") -> 41 | I69: =IF(H69<25,Donnees!$B$2,IF(H69<31,Donnees!$B$3,IF(H69<36,Donnees!$B$4,IF(H69<41,Donnees!$B$5,IF(H69<46,Donnees!$B$6,IF(H69<51,Donnees!$B$7,IF(H69<56,Donnees!$B$8,IF(H69<61,Donnees!$B$9,Donnees!$B$10)))))))) -> 41-45 | K69: Célibataire | L69: 3 | M69: 0 | N69: =1/$O$1 -> 0.0098039216
A70: 69 | B70: 1 | C70: 69 AL | D70: Régis | E70: H | F70: 26745 | G70: 58300 | H70: =DATEDIF(F70,Donnees!$C$2,"y") -> 40 | I70: =IF(H70<25,Donnees!$B$2,IF(H70<31,Donnees!$B$3,IF(H70<36,Donnees!$B$4,IF(H70<41,Donnees!$B$5,IF(H70<46,Donnees!$B$6,IF(H70<51,Donnees!$B$7,IF(H70<56,Donnees!$B$8,IF(H70<61,Donnees!$B$9,Donnees!$B$10)))))))) -> 36-40 | J70: =IF(H70<25,Donnees!$A$3,IF(H70<46,Donnees!$A$4,IF(H70<51,Donnees!$A$5,IF(H70<56,Donnees!$A$6,IF(H70<60,Donnees!$A$7,Donnees!$A$8))))) -> 25-45 | K70: Célibataire | L70: 0 | N70: =1/$O$1 -> 0.0098039216
A71: 70 | B71: 1 | C71: 70 AL | D71: Bernard | E71: H | F71: 25147 | G71: 75013 | H71: =DATEDIF(F71,Donnees!$C$2,"y") -> 44 | I71: =IF(H71<25,Donnees!$B$2,IF(H71<31,Donnees!$B$3,IF(H71<36,Donnees!$B$4,IF(H71<41,Donnees!$B$5,IF(H71<46,Donnees!$B$6,IF(H71<51,Donnees!$B$7,IF(H71<56,Donnees!$B$8,IF(H71<61,Donnees!$B$9,Donnees!$B$10)))))))) -> 41-45 | K71: Vit maritalement | L71: 0 | M71: 0 | N71: =1/$O$1 -> 0.0098039216
A72: 71 | B72: 1 | C72: 71 AL | D72: Michel | E72: H | F72: 23283 | G72: COMMUNE | H72: =DATEDIF(F72,Donnees!$C$2,"y") -> 49 | I72: =IF(H72<25,Donnees!$B$2,IF(H72<31,Donnees!$B$3,IF(H72<36,Donnees!$B$4,IF(H72<41,Donnees!$B$5,IF(H72<46,Donnees!$B$6,IF(H72<51,Donnees!$B$7,IF(H72<56,Donnees!$B$8,IF(H72<61,Donnees!$B$9,Donnees!$B$10)))))))) -> 46-50 | J72: =IF(H72<25,Donnees!$A$3,IF(H72<46,Donnees!$A$4,IF(H72<51,Donnees!$A$5,IF(H72<56,Donnees!$A$6,IF(H72<60,Donnees!$A$7,Donnees!$A$8))))) -> 46-50 | K72: Divorcé/Séparé | L72: 1 | N72: =1/$O$1 -> 0.0098039216
A73: 72 | B73: 1 | C73: 72 AL | D73: Audrey | E73: F | F73: 32856 | G73: 58000 | H73: =DATEDIF(F73,Donnees!$C$2,"y") -> 23 | I73: =IF(H73<25,Donnees!$B$2,IF(H73<31,Donnees!$B$3,IF(H73<36,Donnees!$B$4,IF(H73<41,Donnees!$B$5,IF(H73<46,Donnees!$B$6,IF(H73<51,Donnees!$B$7,IF(H73<56,Donnees!$B$8,IF(H73<61,Donnees!$B$9,Donnees!$B$10)))))))) -> - 25 ans | J73: =IF(H73<25,Donnees!$A$3,IF(H73<46,Donnees!$A$4,IF(H73<51,Donnees!$A$5,IF(H73<56,Donnees!$A$6,IF(H73<60,Donnees!$A$7,Donnees!$A$8))))) -> - 25 ans | K73: Célibataire | L73: 0 | M73: 0 | N73: =1/$O$1 -> 0.0098039216
A74: 73 | B74: 1 | C74: 73 AL | D74: Audrey | E74: F | F74: 32856 | G74: 58000 | H74: =DATEDIF(F74,Donnees!$C$2,"y") -> 23 | I74: =IF(H74<25,Donnees!$B$2,IF(H74<31,Donnees!$B$3,IF(H74<36,Donnees!$B$4,IF(H74<41,Donnees!$B$5,IF(H74<46,Donnees!$B$6,IF(H74<51,Donnees!$B$7,IF(H74<56,Donnees!$B$8,IF(H74<61,Donnees!$B$9,Donnees!$B$10)))))))) -> - 25 ans | J74: =IF(H74<25,Donnees!$A$3,IF(H74<46,Donnees!$A$4,IF(H74<51,Donnees!$A$5,IF(H74<56,Donnees!$A$6,IF(H74<60,Donnees!$A$7,Donnees!$A$8))))) -> - 25 ans | K74: Célibataire | L74: 0 | M74: 0 | N74: =1/$O$1 -> 0.0098039216
A75: 74 | B75: 1 | C75: 74 AL | D75: Jean-Pierre | E75: H | F75: 21865 | G75: COMMUNE | H75: =DATEDIF(F75,Donnees!$C$2,"y") -> 53 | I75: =IF(H75<25,Donnees!$B$2,IF(H75<31,Donnees!$B$3,IF(H75<36,Donnees!$B$4,IF(H75<41,Donnees!$B$5,IF(H75<46,Donnees!$B$6,IF(H75<51,Donnees!$B$7,IF(H75<56,Donnees!$B$8,IF(H75<61,Donnees!$B$9,Donnees!$B$10)))))))) -> 51-55 | J75: =IF(H75<25,Donnees!$A$3,IF(H75<46,Donnees!$A$4,IF(H75<51,Donnees!$A$5,IF(H75<56,Donnees!$A$6,IF(H75<60,Donnees!$A$7,Donnees!$A$8))))) -> 51-55 | K75: Marié | L75: 2 | N75: =1/$O$1 -> 0.0098039216
A76: 75 | B76: 1 | C76: 75 AL | D76: Abdellaziz | E76: H | F76: 24925 | G76: Algérie | H76: =DATEDIF(F76,Donnees!$C$2,"y") -> 45 | I76: =IF(H76<25,Donnees!$B$2,IF(H76<31,Donnees!$B$3,IF(H76<36,Donnees!$B$4,IF(H76<41,Donnees!$B$5,IF(H76<46,Donnees!$B$6,IF(H76<51,Donnees!$B$7,IF(H76<56,Donnees!$B$8,IF(H76<61,Donnees!$B$9,Donnees!$B$10)))))))) -> 41-45 | K76: Marié | L76: 4 | M76: 4 | N76: =1/$O$1 -> 0.0098039216
A77: 76 | B77: 1 | C77: 76 AL | D77: Agnés | E77: F | F77: 25226 | G77: 58500 | H77: =DATEDIF(F77,Donnees!$C$2,"y") -> 44 | I77: =IF(H77<25,Donnees!$B$2,IF(H77<31,Donnees!$B$3,IF(H77<36,Donnees!$B$4,IF(H77<41,Donnees!$B$5,IF(H77<46,Donnees!$B$6,IF(H77<51,Donnees!$B$7,IF(H77<56,Donnees!$B$8,IF(H77<61,Donnees!$B$9,Donnees!$B$10)))))))) -> 41-45 | K77: Divorcé/Séparé | L77: 2 | M77: 2 | N77: =1/$O$1 -> 0.0098039216
A78: 77 | B78: 1 | C78: 77 AL | D78: Dominique | E78: H | F78: 24935 | G78: 77100 | H78: =DATEDIF(F78,Donnees!$C$2,"y") -> 45 | I78: =IF(H78<25,Donnees!$B$2,IF(H78<31,Donnees!$B$3,IF(H78<36,Donnees!$B$4,IF(H78<41,Donnees!$B$5,IF(H78<46,Donnees!$B$6,IF(H78<51,Donnees!$B$7,IF(H78<56,Donnees!$B$8,IF(H78<61,Donnees!$B$9,Donnees!$B$10)))))))) -> 41-45 | K78: Célibataire | L78: 0 | M78: 0 | N78: =1/$O$1 -> 0.0098039216
A79: 78 | B79: 1 | C79: 78 AL | D79: Azzedine | E79: H | F79: 27349 | G79: Casablanca | H79: =DATEDIF(F79,Donnees!$C$2,"y") -> 38 | I79: =IF(H79<25,Donnees!$B$2,IF(H79<31,Donnees!$B$3,IF(H79<36,Donnees!$B$4,IF(H79<41,Donnees!$B$5,IF(H79<46,Donnees!$B$6,IF(H79<51,Donnees!$B$7,IF(H79<56,Donnees!$B$8,IF(H79<61,Donnees!$B$9,Donnees!$B$10)))))))) -> 36-40 | J79: =IF(H79<25,Donnees!$A$3,IF(H79<46,Donnees!$A$4,IF(H79<51,Donnees!$A$5,IF(H79<56,Donnees!$A$6,IF(H79<60,Donnees!$A$7,Donnees!$A$8))))) -> 25-45 | K79: Marié | L79: 6 | M79: 6 | N79: =1/$O$1 -> 0.0098039216
A80: 79 | B80: 1 | C80: 79 AL | D80: Jimmy | E80: H | F80: 31374 | G80: 93150 | H80: =DATEDIF(F80,Donnees!$C$2,"y") -> 27 | I80: =IF(H80<25,Donnees!$B$2,IF(H80<31,Donnees!$B$3,IF(H80<36,Donnees!$B$4,IF(H80<41,Donnees!$B$5,IF(H80<46,Donnees!$B$6,IF(H80<51,Donnees!$B$7,IF(H80<56,Donnees!$B$8,IF(H80<61,Donnees!$B$9,Donnees!$B$10)))))))) -> 25-30 | J80: =IF(H80<25,Donnees!$A$3,IF(H80<46,Donnees!$A$4,IF(H80<51,Donnees!$A$5,IF(H80<56,Donnees!$A$6,IF(H80<60,Donnees!$A$7,Donnees!$A$8))))) -> 25-45 | K80: Célibataire | L80: 0 | M80: 0 | N80: =1/$O$1 -> 0.0098039216
A81: 80 | B81: 1 | C81: 80 AL | D81: Khaled | E81: H | F81: 29320 | G81: Syrie (Melikya) | H81: =DATEDIF(F81,Donnees!$C$2,"y") -> 33 | I81: =IF(H81<25,Donnees!$B$2,IF(H81<31,Donnees!$B$3,IF(H81<36,Donnees!$B$4,IF(H81<41,Donnees!$B$5,IF(H81<46,Donnees!$B$6,IF(H81<51,Donnees!$B$7,IF(H81<56,Donnees!$B$8,IF(H81<61,Donnees!$B$9,Donnees!$B$10)))))))) -> 31-35 | K81: Célibataire | L81: 0 | M81: 0 | N81: =1/$O$1 -> 0.0098039216
A82: 81 | B82: 1 | C82: 81 AL | D82: Aude | E82: F | F82: 26150 | G82: Fourastier | H82: =DATEDIF(F82,Donnees!$C$2,"y") -> 41 | I82: =IF(H82<25,Donnees!$B$2,IF(H82<31,Donnees!$B$3,IF(H82<36,Donnees!$B$4,IF(H82<41,Donnees!$B$5,IF(H82<46,Donnees!$B$6,IF(H82<51,Donnees!$B$7,IF(H82<56,Donnees!$B$8,IF(H82<61,Donnees!$B$9,Donnees!$B$10)))))))) -> 41-45 | J82: =IF(H82<25,Donnees!$A$3,IF(H82<46,Donnees!$A$4,IF(H82<51,Donnees!$A$5,IF(H82<56,Donnees!$A$6,IF(H82<60,Donnees!$A$7,Donnees!$A$8))))) -> 25-45 | K82: Divorcé/Séparé | L82: 2 | M82: 2 | N82: =1/$O$1 -> 0.0098039216
A83: 82 | B83: 1 | C83: 82 AL | D83: Khalid | E83: H | F83: 33272 | G83: 58000 | H83: =DATEDIF(F83,Donnees!$C$2,"y") -> 22 | I83: =IF(H83<25,Donnees!$B$2,IF(H83<31,Donnees!$B$3,IF(H83<36,Donnees!$B$4,IF(H83<41,Donnees!$B$5,IF(H83<46,Donnees!$B$6,IF(H83<51,Donnees!$B$7,IF(H83<56,Donnees!$B$8,IF(H83<61,Donnees!$B$9,Donnees!$B$10)))))))) -> - 25 ans | K83: Célibataire | L83: 0 | M83: 0 | N83: =1/$O$1 -> 0.0098039216
A84: 83 | B84: 1 | C84: 83 AL | D84: Julien | E84: H | F84: 32549 | G84: 58000 | H84: =DATEDIF(F84,Donnees!$C$2,"y") -> 24 | I84: =IF(H84<25,Donnees!$B$2,IF(H84<31,Donnees!$B$3,IF(H84<36,Donnees!$B$4,IF(H84<41,Donnees!$B$5,IF(H84<46,Donnees!$B$6,IF(H84<51,Donnees!$B$7,IF(H84<56,Donnees!$B$8,IF(H84<61,Donnees!$B$9,Donnees!$B$10)))))))) -> - 25 ans | J84: =IF(H84<25,Donnees!$A$3,IF(H84<46,Donnees!$A$4,IF(H84<51,Donnees!$A$5,IF(H84<56,Donnees!$A$6,IF(H84<60,Donnees!$A$7,Donnees!$A$8))))) -> - 25 ans | K84: Célibataire | L84: 0 | M84: 0 | N84: =1/$O$1 -> 0.0098039216
A85: 84 | B85: 1 | C85: 84 AL | D85: Angélique | E85: F | F85: 29648 | G85: 18000 | H85: =DATEDIF(F85,Donnees!$C$2,"y") -> 32 | I85: =IF(H85<25,Donnees!$B$2,IF(H85<31,Donnees!$B$3,IF(H85<36,Donnees!$B$4,IF(H85<41,Donnees!$B$5,IF(H85<46,Donnees!$B$6,IF(H85<51,Donnees!$B$7,IF(H85<56,Donnees!$B$8,IF(H85<61,Donnees!$B$9,Donnees!$B$10)))))))) -> 31-35 | J85: Célibataire | K85: Célibataire | L85: 1 | M85: 0 | N85: =1/$O$1 -> 0.0098039216
A86: 85 | B86: 1 | C86: 85 AL | D86: Joséphine | E86: F | F86: 24970 | G86: Brazzaville | H86: =DATEDIF(F86,Donnees!$C$2,"y") -> 45 | I86: =IF(H86<25,Donnees!$B$2,IF(H86<31,Donnees!$B$3,IF(H86<36,Donnees!$B$4,IF(H86<41,Donnees!$B$5,IF(H86<46,Donnees!$B$6,IF(H86<51,Donnees!$B$7,IF(H86<56,Donnees!$B$8,IF(H86<61,Donnees!$B$9,Donnees!$B$10)))))))) -> 41-45 | J86: =IF(H86<25,Donnees!$A$3,IF(H86<46,Donnees!$A$4,IF(H86<51,Donnees!$A$5,IF(H86<56,Donnees!$A$6,IF(H86<60,Donnees!$A$7,Donnees!$A$8))))) -> 25-45 | K86: Vit maritalement | L86: 2 | M86: 2 | N86: =1/$O$1 -> 0.0098039216
A87: 86 | B87: 1 | C87: 86 AL | D87: Corinne | E87: F | F87: 22432 | G87: COMMUNE | H87: =DATEDIF(F87,Donnees!$C$2,"y") -> 52 | I87: =IF(H87<25,Donnees!$B$2,IF(H87<31,Donnees!$B$3,IF(H87<36,Donnees!$B$4,IF(H87<41,Donnees!$B$5,IF(H87<46,Donnees!$B$6,IF(H87<51,Donnees!$B$7,IF(H87<56,Donnees!$B$8,IF(H87<61,Donnees!$B$9,Donnees!$B$10)))))))) -> 51-55 | J87: =IF(H87<25,Donnees!$A$3,IF(H87<46,Donnees!$A$4,IF(H87<51,Donnees!$A$5,IF(H87<56,Donnees!$A$6,IF(H87<60,Donnees!$A$7,Donnees!$A$8))))) -> 51-55 | K87: Marié | L87: 2 | N87: =1/$O$1 -> 0.0098039216
A88: 87 | B88: 1 | C88: 87 AL | D88: Brigitte | E88: F | F88: 21648 | G88: 58000 | H88: =DATEDIF(F88,Donnees!$C$2,"y") -> 54 | I88: =IF(H88<25,Donnees!$B$2,IF(H88<31,Donnees!$B$3,IF(H88<36,Donnees!$B$4,IF(H88<41,Donnees!$B$5,IF(H88<46,Donnees!$B$6,IF(H88<51,Donnees!$B$7,IF(H88<56,Donnees!$B$8,IF(H88<61,Donnees!$B$9,Donnees!$B$10)))))))) -> 51-55 | K88: Divorcé/Séparé | L88: 2 | M88: 2 | N88: =1/$O$1 -> 0.0098039216
A89: 88 | B89: 1 | C89: 88 AL | D89: Cédric | E89: H | F89: 27040 | G89: 21200 | H89: =DATEDIF(F89,Donnees!$C$2,"y") -> 39 | I89: =IF(H89<25,Donnees!$B$2,IF(H89<31,Donnees!$B$3,IF(H89<36,Donnees!$B$4,IF(H89<41,Donnees!$B$5,IF(H89<46,Donnees!$B$6,IF(H89<51,Donnees!$B$7,IF(H89<56,Donnees!$B$8,IF(H89<61,Donnees!$B$9,Donnees!$B$10)))))))) -> 36-40 | J89: =IF(H89<25,Donnees!$A$3,IF(H89<46,Donnees!$A$4,IF(H89<51,Donnees!$A$5,IF(H89<56,Donnees!$A$6,IF(H89<60,Donnees!$A$7,Donnees!$A$8))))) -> 25-45 | K89: Vit maritalement | L89: 0 | M89: 0 | N89: =1/$O$1 -> 0.0098039216
A90: 89 | B90: 1 | C90: 89 AL | D90: Ibrahim | E90: H | F90: 18354 | G90: COMMUNE | H90: =DATEDIF(F90,Donnees!$C$2,"y") -> 63 | I90: =IF(H90<25,Donnees!$B$2,IF(H90<31,Donnees!$B$3,IF(H90<36,Donnees!$B$4,IF(H90<41,Donnees!$B$5,IF(H90<46,Donnees!$B$6,IF(H90<51,Donnees!$B$7,IF(H90<56,Donnees!$B$8,IF(H90<61,Donnees!$B$9,Donnees!$B$10)))))))) -> 61 et + | J90: =IF(H90<25,Donnees!$A$3,IF(H90<46,Donnees!$A$4,IF(H90<51,Donnees!$A$5,IF(H90<56,Donnees!$A$6,IF(H90<60,Donnees!$A$7,Donnees!$A$8))))) -> Retraite | K90: Marié | L90: 2 | N90: =1/$O$1 -> 0.0098039216
A91: 90 | B91: 1 | C91: 90 AL | D91: Eric | E91: H | F91: 26692 | G91: 3100 | H91: =DATEDIF(F91,Donnees!$C$2,"y") -> 40 | I91: =IF(H91<25,Donnees!$B$2,IF(H91<31,Donnees!$B$3,IF(H91<36,Donnees!$B$4,IF(H91<41,Donnees!$B$5,IF(H91<46,Donnees!$B$6,IF(H91<51,Donnees!$B$7,IF(H91<56,Donnees!$B$8,IF(H91<61,Donnees!$B$9,Donnees!$B$10)))))))) -> 36-40 | J91: =IF(H91<25,Donnees!$A$3,IF(H91<46,Donnees!$A$4,IF(H91<51,Donnees!$A$5,IF(H91<56,Donnees!$A$6,IF(H91<60,Donnees!$A$7,Donnees!$A$8))))) -> 25-45 | K91: Vit maritalement | L91: 1 | M91: 1 | N91: =1/$O$1 -> 0.0098039216
A92: 91 | B92: 1 | C92: 91 AL | D92: Bruce | E92: H | F92: 27438 | G92: 67000 | H92: =DATEDIF(F92,Donnees!$C$2,"y") -> 38 | I92: =IF(H92<25,Donnees!$B$2,IF(H92<31,Donnees!$B$3,IF(H92<36,Donnees!$B$4,IF(H92<41,Donnees!$B$5,IF(H92<46,Donnees!$B$6,IF(H92<51,Donnees!$B$7,IF(H92<56,Donnees!$B$8,IF(H92<61,Donnees!$B$9,Donnees!$B$10)))))))) -> 36-40 | J92: =IF(H92<25,Donnees!$A$3,IF(H92<46,Donnees!$A$4,IF(H92<51,Donnees!$A$5,IF(H92<56,Donnees!$A$6,IF(H92<60,Donnees!$A$7,Donnees!$A$8))))) -> 25-45 | K92: Célibataire | L92: 0 | M92: 0 | N92: =1/$O$1 -> 0.0098039216
A93: 92 | B93: 1 | C93: 92 AL | D93: Christophe | E93: H | F93: 28560 | G93: 58000 | H93: =DATEDIF(F93,Donnees!$C$2,"y") -> 35 | I93: =IF(H93<25,Donnees!$B$2,IF(H93<31,Donnees!$B$3,IF(H93<36,Donnees!$B$4,IF(H93<41,Donnees!$B$5,IF(H93<46,Donnees!$B$6,IF(H93<51,Donnees!$B$7,IF(H93<56,Donnees!$B$8,IF(H93<61,Donnees!$B$9,Donnees!$B$10)))))))) -> 31-35 | J93: =IF(H93<25,Donnees!$A$3,IF(H93<46,Donnees!$A$4,IF(H93<51,Donnees!$A$5,IF(H93<56,Donnees!$A$6,IF(H93<60,Donnees!$A$7,Donnees!$A$8))))) -> 25-45 | K93: Célibataire | L93: 1 | M93: 0 | N93: =1/$O$1 -> 0.0098039216
A94: 93 | B94: 1 | C94: 93 AL | D94: Marc | E94: H | F94: 30770 | G94: 75019 | H94: =DATEDIF(F94,Donnees!$C$2,"y") -> 29 | I94: =IF(H94<25,Donnees!$B$2,IF(H94<31,Donnees!$B$3,IF(H94<36,Donnees!$B$4,IF(H94<41,Donnees!$B$5,IF(H94<46,Donnees!$B$6,IF(H94<51,Donnees!$B$7,IF(H94<56,Donnees!$B$8,IF(H94<61,Donnees!$B$9,Donnees!$B$10)))))))) -> 25-30 | K94: Célibataire | L94: 0 | M94: 0 | N94: =1/$O$1 -> 0.0098039216
A95: 94 | B95: 1 | C95: 94 AL | D95: Jean-Luc | E95: H | F95: 23768 | G95: 94000 | H95: =DATEDIF(F95,Donnees!$C$2,"y") -> 48 | I95: =IF(H95<25,Donnees!$B$2,IF(H95<31,Donnees!$B$3,IF(H95<36,Donnees!$B$4,IF(H95<41,Donnees!$B$5,IF(H95<46,Donnees!$B$6,IF(H95<51,Donnees!$B$7,IF(H95<56,Donnees!$B$8,IF(H95<61,Donnees!$B$9,Donnees!$B$10)))))))) -> 46-50 | J95: =IF(H95<25,Donnees!$A$3,IF(H95<46,Donnees!$A$4,IF(H95<51,Donnees!$A$5,IF(H95<56,Donnees!$A$6,IF(H95<60,Donnees!$A$7,Donnees!$A$8))))) -> 46-50 | K95: Célibataire | L95: 2 | M95: 0 | N95: =1/$O$1 -> 0.0098039216
A96: 95 | B96: 1 | C96: 95 AL | D96: Bruno | E96: H | F96: 24201 | G96: COMMUNE | H96: =DATEDIF(F96,Donnees!$C$2,"y") -> 47 | I96: =IF(H96<25,Donnees!$B$2,IF(H96<31,Donnees!$B$3,IF(H96<36,Donnees!$B$4,IF(H96<41,Donnees!$B$5,IF(H96<46,Donnees!$B$6,IF(H96<51,Donnees!$B$7,IF(H96<56,Donnees!$B$8,IF(H96<61,Donnees!$B$9,Donnees!$B$10)))))))) -> 46-50 | J96: =IF(H96<25,Donnees!$A$3,IF(H96<46,Donnees!$A$4,IF(H96<51,Donnees!$A$5,IF(H96<56,Donnees!$A$6,IF(H96<60,Donnees!$A$7,Donnees!$A$8))))) -> 46-50 | K96: Vit maritalement | L96: 2 | N96: =1/$O$1 -> 0.0098039216
A97: 96 | B97: 1 | C97: 96 AL | D97: Elodie | E97: F | F97: 32490 | G97: 58000 | H97: =DATEDIF(F97,Donnees!$C$2,"y") -> 24 | I97: =IF(H97<25,Donnees!$B$2,IF(H97<31,Donnees!$B$3,IF(H97<36,Donnees!$B$4,IF(H97<41,Donnees!$B$5,IF(H97<46,Donnees!$B$6,IF(H97<51,Donnees!$B$7,IF(H97<56,Donnees!$B$8,IF(H97<61,Donnees!$B$9,Donnees!$B$10)))))))) -> - 25 ans | K97: Célibataire | L97: 1 | M97: 1 | N97: =1/$O$1 -> 0.0098039216
A98: 97 | B98: 1 | C98: 97 AL | D98: William | E98: H | F98: 24996 | G98: 58300 | H98: =DATEDIF(F98,Donnees!$C$2,"y") -> 45 | I98: =IF(H98<25,Donnees!$B$2,IF(H98<31,Donnees!$B$3,IF(H98<36,Donnees!$B$4,IF(H98<41,Donnees!$B$5,IF(H98<46,Donnees!$B$6,IF(H98<51,Donnees!$B$7,IF(H98<56,Donnees!$B$8,IF(H98<61,Donnees!$B$9,Donnees!$B$10)))))))) -> 41-45 | J98: =IF(H98<25,Donnees!$A$3,IF(H98<46,Donnees!$A$4,IF(H98<51,Donnees!$A$5,IF(H98<56,Donnees!$A$6,IF(H98<60,Donnees!$A$7,Donnees!$A$8))))) -> 25-45 | K98: Vit maritalement | L98: 1 | M98: 1 | N98: =1/$O$1 -> 0.0098039216
A99: 98 | B99: 1 | C99: 98 AL | D99: Ani | E99: F | F99: 23001 | G99: COMMUNE | H99: =DATEDIF(F99,Donnees!$C$2,"y") -> 50 | I99: =IF(H99<25,Donnees!$B$2,IF(H99<31,Donnees!$B$3,IF(H99<36,Donnees!$B$4,IF(H99<41,Donnees!$B$5,IF(H99<46,Donnees!$B$6,IF(H99<51,Donnees!$B$7,IF(H99<56,Donnees!$B$8,IF(H99<61,Donnees!$B$9,Donnees!$B$10)))))))) -> 46-50 | J99: =IF(H99<25,Donnees!$A$3,IF(H99<46,Donnees!$A$4,IF(H99<51,Donnees!$A$5,IF(H99<56,Donnees!$A$6,IF(H99<60,Donnees!$A$7,Donnees!$A$8))))) -> 46-50 | K99: Marié | L99: 1 | M99: 1 | N99: =1/$O$1 -> 0.0098039216
A100: 99 | B100: 1 | C100: 99 AL | D100: Franck | E100: H | F100: 25390 | G100: 18300 | H100: =DATEDIF(F100,Donnees!$C$2,"y") -> 44 | I100: =IF(H100<25,Donnees!$B$2,IF(H100<31,Donnees!$B$3,IF(H100<36,Donnees!$B$4,IF(H100<41,Donnees!$B$5,IF(H100<46,Donnees!$B$6,IF(H100<51,Donnees!$B$7,IF(H100<56,Donnees!$B$8,IF(H100<61,Donnees!$B$9,Donnees!$B$10)))))))) -> 41-45 | J100: =IF(H100<25,Donnees!$A$3,IF(H100<46,Donnees!$A$4,IF(H100<51,Donnees!$A$5,IF(H100<56,Donnees!$A$6,IF(H100<60,Donnees!$A$7,Donnees!$A$8))))) -> 25-45 | K100: Célibataire | L100: 1 | M100: 1 | N100: =1/$O$1 -> 0.0098039216
...

Sheet STATISTIQUES
A1: STATISTIQUES 2011
B3: =GENERAL!Q3 -> 41466
C6: =GENERAL!Q5 -> EFFCETIF GENERAL | D6: =GENERAL!R5 -> SOUS-TOTAL | E6: % | F6: %
C7: =GENERAL!Q6 -> 102 | D7: =GENERAL!R6 -> 102 | E7: =GENERAL!R7 -> 1 | F7: =D7/$D$7 -> 1
C10: =GENERAL!Q8 -> HOMME
C11: =GENERAL!Q9 -> 73 | D11: =GENERAL!R9 -> 102 | E11: =D11/$C$7 -> 1 | F11: =D11/$D$7 -> 1
C12: =GENERAL!Q10 -> FEMME
C13: =GENERAL!Q11 -> 29 | D13: =GENERAL!R11 -> 29 | E13: =D13/$C$7 -> 0.28431373 | F13: =D13/$D$7 -> 0.28431373
C14: =GENERAL!Q12 -> AGE (par tranche)
B15: =GENERAL!P13 -> - 25 | C15: =GENERAL!Q13 -> 8 | D15: =GENERAL!R13 -> 8 | E15: =D15/$C$7 -> 0.078431373 | F15: =D15/$D$7 -> 0.078431373
B16: =GENERAL!P14 -> 25-30 | C16: =GENERAL!Q14 -> 11 | D16: =GENERAL!R14 -> 11 | E16: =D16/$C$7 -> 0.10784314 | F16: =D16/$D$7 -> 0.10784314
B17: =GENERAL!P15 -> 31-35 | C17: =GENERAL!Q15 -> 15 | D17: =GENERAL!R15 -> 15 | E17: =D17/$C$7 -> 0.14705882 | F17: =D17/$D$7 -> 0.14705882
B18: =GENERAL!P16 -> 36-40 | C18: =GENERAL!Q16 -> 15 | D18: =GENERAL!R16 -> 15 | E18: =D18/$C$7 -> 0.14705882 | F18: =D18/$D$7 -> 0.14705882
B19: =GENERAL!P17 -> 41-45 | C19: =GENERAL!Q17 -> 17 | D19: =GENERAL!R17 -> 17 | E19: =D19/$C$7 -> 0.16666667 | F19: =D19/$D$7 -> 0.16666667
B20: =GENERAL!P18 -> 46-50 | C20: =GENERAL!Q18 -> 14 | D20: =GENERAL!R18 -> 14 | E20: =D20/$C$7 -> 0.1372549 | F20: =D20/$D$7 -> 0.1372549
B21: =GENERAL!P19 -> 51-55 | C21: =GENERAL!Q19 -> 12 | D21: =GENERAL!R19 -> 12 | E21: =D21/$C$7 -> 0.11764706 | F21: =D21/$D$7 -> 0.11764706
B22: =GENERAL!P20 -> 56-60 | C22: =GENERAL!Q20 -> 9 | D22: =GENERAL!R20 -> 9 | E22: =D22/$C$7 -> 0.088235294 | F22: =D22/$D$7 -> 0.088235294
B23: =GENERAL!P21 -> + 61 | C23: =GENERAL!Q21 -> 1 | D23: =GENERAL!R21 -> 1 | E23: =D23/$C$7 -> 0.0098039216 | F23: =D23/$D$7 -> 0.0098039216
C24: =GENERAL!Q22 -> SITUATION FAMILIALE
B25: =GENERAL!P23 -> Marié | C25: =GENERAL!Q23 -> 31 | D25: =GENERAL!R23 -> 31 | E25: =D25/$C$7 -> 0.30392157 | F25: =D25/$D$7 -> 0.30392157
B26: =GENERAL!P24 -> Célibataire | C26: =GENERAL!Q24 -> 41 | D26: =GENERAL!R24 -> 41 | E26: =D26/$C$7 -> 0.40196078 | F26: =D26/$D$7 -> 0.40196078
B27: =GENERAL!P25 -> Divorcé/Séparé | C27: =GENERAL!Q25 -> 17 | D27: =GENERAL!R25 -> 17 | E27: =D27/$C$7 -> 0.16666667 | F27: =D27/$D$7 -> 0.16666667
B28: =GENERAL!P26 -> Pacsé | C28: =GENERAL!Q26 -> 0 | D28: =GENERAL!R26 -> 0 | E28: =D28/$C$7 -> 0 | F28: =D28/$D$7 -> 0
B29: =GENERAL!P27 -> Vit maritalement | C29: =GENERAL!Q27 -> 13 | D29: =GENERAL!R27 -> 13 | E29: =D29/$C$7 -> 0.12745098 | F29: =D29/$D$7 -> 0.12745098
B30: =GENERAL!P28 -> Veuf | C30: =GENERAL!Q28 -> 0 | D30: =GENERAL!R28 -> 0 | E30: =D30/$C$7 -> 0 | F30: =D30/$D$7 -> 0
B31: =GENERAL!P29 -> Inconnu | C31: =GENERAL!Q29 -> 0 | D31: =GENERAL!R29 -> 0 | E31: =D31/$C$7 -> 0 | F31: =D31/$D$7 -> 0
B32: =GENERAL!P30 -> Autre | C32: =GENERAL!Q30 -> 0 | D32: =GENERAL!R30 -> 0 | E32: =D32/$C$7 -> 0 | F32: =D32/$D$7 -> 0

Sheet Donnees
A1: TA | B1: ÂGE | C1: Date | D1: SITUATION FAMILIALE
A2: ? | B2: - 25 ans | C2: =NOW() -> 41466.546 | D2: Marié
A3: - 25 ans | B3: 25-30 | D3: Célibataire
A4: 25-45 | B4: 31-35 | C4: 40543 | D4: Divorcé/Séparé
A5: 46-50 | B5: 36-40 | D5: Pacsé
A6: 51-55 | B6: 41-45 | D6: Vit maritalement
A7: + 55 ans | B7: 46-50 | D7: Veuf
A8: Retraite | B8: 51-55 | D8: Inconnu
B9: 56-60 | D9: Autre
B10: 61 et +
