Workbook
Name age: Donnees!$B$2:$B$12
Name ANPE: Donnees!#REF!
Name are: Donnees!#REF!
Name ass: Donnees!#REF!
Name changement: Donnees!#REF!
Name charge: Donnees!#REF!
Name commune: Donnees!#REF!
Name contrat: Donnees!#REF!
Name cucs: Donnees!#REF!
Name enfant: Donnees!#REF!
Name entree: Donnees!#REF!
Name Etude: Donnees!#REF!
Name famille: Donnees!$D$1:$D$16
Name formation: Donnees!#REF!
Name JUSTICE: Donnees!#REF!
Name migrant: Donnees!#REF!
Name Niveau: Donnees!#REF!
Name nn: [1]Donnees!$Q$1:$Q$16
Name PAYS: Donnees!#REF!
Name permis: Donnees!#REF!
Name plie: Donnees!#REF!
Name poste: Donnees!#REF!
Name Problematique: Donnees!#REF!
Name quartiers: Donnees!#REF!
Name repartition: Donnees!#REF!
Name restriction: Donnees!#REF!
Name REVENU: Donnees!#REF!
Name revenus: GENERAL!#REF!
Name rmi: Donnees!#REF!
Name sans: Donnees!#REF!
Name secteur: Donnees!#REF!
Name Segment_Commune_de_naissance: #N/A
Name Segment_Enfant_s__à_charge: #N/A
Name Segment_F_H: #N/A
Name Segment_Nb_Enfant_s: #N/A
Name Segment_Situation_familiale: #N/A
Name Segment_Tranche_Âge: #N/A
Name service: Donnees!#REF!
Name Sortie: GENERAL!#REF!
Name th: Donnees!#REF!
Name vehicule: Donnees!#REF!

Sheet Feuil1
B3: Étiquettes de lignes | C3: Nombre de Nom | D3: % Filtrés | E3: % Global
B4: F | C4: 29 | D4: 1 | E4: 0.28431373
B5: - 25 ans | C5: 3 | D5: 0.10344828 | E5: 0.029411765
B6: 25-30 | C6: 1 | D6: 0.034482759 | E6: 0.0098039216
B7: 31-35 | C7: 3 | D7: 0.10344828 | E7: 0.029411765
B8: 36-40 | C8: 5 | D8: 0.17241379 | E8: 0.049019608
B9: 41-45 | C9: 7 | D9: 0.24137931 | E9: 0.068627451
B10: 46-50 | C10: 6 | D10: 0.20689655 | E10: 0.058823529
B11: 51-55 | C11: 3 | D11: 0.10344828 | E11: 0.029411765
B12: 56-60 | C12: 1 | D12: 0.034482759 | E12: 0.0098039216
B13: Total général | C13: 29 | D13: 1 | E13: 0.28431373

Sheet GENERAL
A1: N° | B1: X | C1: Nom | D1: Prénom | E1: F/H | F1: Né le | G1: Commune de naissance | H1: Âge | I1: Tranche Âge | J1: Tranche d'âge | K1: Situation familiale | L1: Nb Enfant(s) | M1: Enfant(s) à charge | N1: % | O1: =COUNTA(A:A)-1 -> 102
A2: 1 | B2: 1 | C2: 1 AL | D2: Bruno | E2: H | F2: 25110 | G2: 37000 | H2: =DATEDIF(F2,Donnees!$C$2,"y") -> 44 | I2: =IF(H2<25,Donnees!$B$2,IF(H2<31,Donnees!$B$3,IF(H2<36,Donnees!$B$4,IF(H2<41,Donnees!$B$5,IF(H2<46,Donnees!$B$6,IF(H2<51,Donnees!$B$7,IF(H2<56,Donnees!$B$8,IF(H2<61,Donnees!$B$9,Donnees!$B$10)))))))) -> 41-45 | K2: Célibataire | L2: 1 | M2: 0 | N2: =1/$O$1 -> 0.0098039216
A3: 2 | B3: 1 | C3: 2 AL | D3: Jean-Michel | E3: H | F3: 23095 | G3: 95160 | H3: =DATEDIF(F3,Donnees!$C$2,"y") -> 50 | I3: =IF(H3<25,Donnees!$B$2,IF(H3<31,Donnees!$B$3,IF(H3<36,Donnees!$B$4,IF(H3<41,Donnees!$B$5,IF(H3<46,Donnees!$B$6,IF(H3<51,Donnees!$B$7,IF(H3<56,Donnees!$B$8,IF(H3<61,Donnees!$B$9,Donnees!$B$10)))))))) -> 46-50 | J3: =IF(H3<25,Donnees!$A$3,IF(H3<46,Donnees!$A$4,IF(H3<51,Donnees!$A$5,IF(H3<56,Donnees!$A$6,IF(H3<60,Donnees!$A$7,Donnees!$A$8))))) -> 46-50 | K3: Marié | L3: 1 | M3: 0 | N3: =1/$O$1 -> 0.0098039216 | Q3: =TODAY() -> 41466
A4: 3 | B4: 1 | C4: 3 AL | D4: Dave | E4: H | F4: 27822 | G4: 58000 | H4: =DATEDIF(F4,Donnees!$C$2,"y") -> 37 | I4: =IF(H4<25,Donnees!$B$2,IF(H4<31,Donnees!$B$3,IF(H4<36,Donnees!$B$4,IF(H4<41,Donnees!$B$5,IF(H4<46,Donnees!$B$6,IF(H4<51,Donnees!$B$7,IF(H4<56,Donnees!$B$8,IF(H4<61,Donnees!$B$9,Donnees!$B$10)))))))) -> 36-40 | K4: Célibataire | L4: 0 | M4: 0 | N4: =1/$O$1 -> 0.0098039216
A5: 4 | B5: 1 | C5: 4 AL | D5: Sébastien | E5: H | F5: 27479 | G5: 58000 | H5: =DATEDIF(F5,Donnees!$C$2,"y") -> 38 | I5: =IF(H5<25,Donnees!$B$2,IF(H5<31,Donnees!$B$3,IF(H5<36,Donnees!$B$4,IF(H5<41,Donnees!$B$5,IF(H5<46,Donnees!$B$6,IF(H5<51,Donnees!$B$7,IF(H5<56,Donnees!$B$8,IF(H5<61,Donnees!$B$9,Donnees!$B$10)))))))) -> 36-40 | K5: Célibataire | L5: 0 | M5: 0 | N5: =1/$O$1 -> 0.0098039216 | Q5: EFFCETIF GENERAL | R5: SOUS-TOTAL
A6: 5 | B6: 1 | C6: 5 AL | D6: Mohcine | E6: H | F6: 30406 | G6: Rabat (Algérie) | H6: =DATEDIF(F6,Donnees!$C$2,"y") -> 30 | I6: =IF(H6<25,Donnees!$B$2,IF(H6<31,Donnees!$B$3,IF(H6<36,Donnees!$B$4,IF(H6<41,Donnees!$B$5,IF(H6<46,Donnees!$B$6,IF(H6<51,Donnees!$B$7,IF(H6<56,Donnees!$B$8,IF(H6<61,Donnees!$B$9,Donnees!$B$10)))))))) -> 25-30 | K6: Divorcé/Séparé | L6: 0 | M6: 0 | N6: =1/$O$1 -> 0.0098039216 | Q6: =SUM(B2:B103) -> 102 | R6: =SUBTOTAL(9,$B$2:$B$105) -> 102
A7: 6 | B7: 1 | C7: 6 AL | D7: Khalid | E7: H | F7: 29849 | G7: 58000 | H7: =DATEDIF(F7,Donnees!$C$2,"y") -> 31 | I7: =IF(H7<25,Donnees!$B$2,IF(H7<31,Donnees!$B$3,IF(H7<36,Donnees!$B$4,IF(H7<41,Donnees!$B$5,IF(H7<46,Donnees!$B$6,IF(H7<51,Donnees!$B$7,IF(H7<56,Donnees!$B$8,IF(H7<61,Donnees!$B$9,Donnees!$B$10)))))))) -> 31-35 | K7: Marié | L7: 2 | M7: 2 | N7: =1/$O$1 -> 0.0098039216 | Q7: =Q6/Q6 -> 1 | R7: =R6/Q6 -> 1
A8: 7 | B8: 1 | C8: 7 AL | D8: Dominique | E8: H | F8: 22269 | G8: 58000 | H8: =DATEDIF(F8,Donnees!$C$2,"y") -> 52 | I8: =IF(H8<25,Donnees!$B$2,IF(H8<31,Donnees!$B$3,IF(H8<36,Donnees!$B$4,IF(H8<41,Donnees!$B$5,IF(H8<46,Donnees!$B$6,IF(H8<51,Donnees!$B$7,IF(H8<56,Donnees!$B$8,IF(H8<61,Donnees!$B$9,Donnees!$B$10)))))))) -> 51-55 | J8: =IF(H8<25,Donnees!$A$3,IF(H8<46,Donnees!$A$4,IF(H8<51,Donnees!$A$5,IF(H8<56,Donnees!$A$6,IF(H8<60,Donnees!$A$7,Donnees!$A$8))))) -> 51-55 | K8: Marié | L8: 2 | M8: 1 | N8: =1/$O$1 -> 0.0098039216 | Q8: HOMME
A9: 8 | B9: 1 | C9: 8 AL | D9: Gaëtan | E9: H | F9: 28721 | G9: 3160 | H9: =DATEDIF(F9,Donnees!$C$2,"y") -> 34 | I9: =IF(H9<25,Donnees!$B$2,IF(H9<31,Donnees!$B$3,IF(H9<36,Donnees!$B$4,IF(H9<41,Donnees!$B$5,IF(H9<46,Donnees!$B$6,IF(H9<51,Donnees!$B$7,IF(H9<56,Donnees!$B$8,IF(H9<61,Donnees!$B$9,Donnees!$B$10)))))))) -> 31-35 | J9: =IF(H9<25,Donnees!$A$3,IF(H9<46,Donnees!$A$4,IF(H9<51,Donnees!$A$5,IF(H9<56,Donnees!$A$6,IF(H9<60,Donnees!$A$7,Donnees!$A$8))))) -> 25-45 | K9: Marié | L9: 2 | M9: 2 | N9: =1/$O$1 -> 0.0098039216 | Q9: =SUMIF(E:E,"h",B:B) -> 73 | R9: =SUMPRODUCT((SUBTOTAL(3,INDIRECT("e"&ROW(E2:E103)))*(E2:E103>="f"))) -> 102
A10: 9 | B10: 1 | C10: 9 AL | D10: Fabrice | E10: H | F10: 28531 | G10: 58300 | H10: =DATEDIF(F10,Donnees!$C$2,"y") -> 35 | I10: =IF(H10<25,Donnees!$B$2,IF(H10<31,Donnees!$B$3,IF(H10<36,Donnees!$B$4,IF(H10<41,Donnees!$B$5,IF(H10<46,Donnees!$B$6,IF(H10<51,Donnees!$B$7,IF(H10<56,Donnees!$B$8,IF(H10<61,Donnees!$B$9,Donnees!$B$10)))))))) -> 31-35 | J10: =IF(H10<25,Donnees!$A$3,IF(H10<46,Donnees!$A$4,IF(H10<51,Donnees!$A$5,IF(H10<56,Donnees!$A$6,IF(H10<60,Donnees!$A$7,Donnees!$A$8))))) -> 25-45 | K10: Vit maritalement | L10: 2 | M10: 2 | N10: =1/$O$1 -> 0.0098039216 | Q10: FEMME
A11: 10 | B11: 1 | C11: 10 AL | D11: Christelle | E11: F | F11: 28050 | G11: 58000 | H11: =DATEDIF(F11,Donnees!$C$2,"y") -> 36 | I11: =IF(H11<25,Donnees!$B$2,IF(H11<31,Donnees!$B$3,IF(H11<36,Donnees!$B$4,IF(H11<41,Donnees!$B$5,IF(H11<46,Donnees!$B$6,IF(H11<51,Donnees!$B$7,IF(H11<56,Donnees!$B$8,IF(H11<61,Donnees!$B$9,Donnees!$B$10)))))))) -> 36-40 | K11: Divorcé/Séparé | L11: 3 | M11: 3 | N11: =1/$O$1 -> 0.0098039216 | Q11: =SUMIF(E:E,"f",B:B) -> 29 | R11: =SUMPRODUCT((SUBTOTAL(3,INDIRECT("e"&ROW(E2:E103)))*(E2:E103<="f"))) -> 29
A12: 11 | B12: 1 | C12: 11 AL | D12: nalusilazo | E12: H | F12: 26877 | G12: Bukavu | H12: =DATEDIF(F12,Donnees!$C$2,"y") -> 39 | I12: =IF(H12<25,Donnees!$B$2,IF(H12<31,Donnees!$B$3,IF(H12<36,Donnees!$B$4,IF(H12<41,Donnees!$B$5,IF(H12<46,Donnees!$B$6,IF(H12<51,Donnees!$B$7,IF(H12<56,Donnees!$B$8,IF(H12<61,Donnees!$B$9,Donnees!$B$10)))))))) -> 36-40 | J12: =IF(H12<25,Donnees!$A$3,IF(H12<46,Donnees!$A$4,IF(H12<51,Donnees!$A$5,IF(H12<56,Donnees!$A$6,IF(H12<60,Donnees!$A$7,Donnees!$A$8))))) -> 25-45 | K12: Marié | L12: 4 | M12: 0 | N12: =1/$O$1 -> 0.0098039216 | Q12: AGE (par tranche)
A13: 12 | B13: 1 | C13: 12 AL | D13: Sylvie | E13: F | F13: 21353 | G13: 78400 | H13: =DATEDIF(F13,Donnees!$C$2,"y") -> 55 | I13: =IF(H13<25,Donnees!$B$2,IF(H13<31,Donnees!$B$3,IF(H13<36,Donnees!$B$4,IF(H13<41,Donnees!$B$5,IF(H13<46,Donnees!$B$6,IF(H13<51,Donnees!$B$7,IF(H13<56,Donnees!$B$8,IF(H13<61,Donnees!$B$9,Donnees!$B$10)))))))) -> 51-55 | J13: =IF(H13<25,Donnees!$A$3,IF(H13<46,Donnees!$A$4,IF(H13<51,Donnees!$A$5,IF(H13<56,Donnees!$A$6,IF(H13<60,Donnees!$A$7,Donnees!$A$8))))) -> 51-55 | K13: Marié | L13: 2 | M13: 2 | N13: =1/$O$1 -> 0.0098039216 | P13: - 25 | Q13: =SUMIF(I:I,Donnees!B2,B:B) -> 8 | R13: =SUMPRODUCT((SUBTOTAL(3,INDIRECT("i"&ROW($I$2:$I$103)))*($I$2:$I$103=Donnees!B2))) -> 8
A14: 13 | B14: 1 | C14: 13 AL | D14: pascal | E14: H | F14: 24472 | G14: 58000 | H14: =DATEDIF(F14,Donnees!$C$2,"y") -> 46 | I14: =IF(H14<25,Donnees!$B$2,IF(H14<31,Donnees!$B$3,IF(H14<36,Donnees!$B$4,IF(H14<41,Donnees!$B$5,IF(H14<46,Donnees!$B$6,IF(H14<51,Donnees!$B$7,IF(H14<56,Donnees!$B$8,IF(H14<61,Donnees!$B$9,Donnees!$B$10)))))))) -> 46-50 | J14: =IF(H14<25,Donnees!$A$3,IF(H14<46,Donnees!$A$4,IF(H14<51,Donnees!$A$5,IF(H14<56,Donnees!$A$6,IF(H14<60,Donnees!$A$7,Donnees!$A$8))))) -> 46-50 | K14: Marié | L14: 3 | M14: 3 | N14: =1/$O$1 -> 0.0098039216 | P14: 25-30 | Q14: =SUMIF(I:I,Donnees!B3,B:B) -> 11 | R14: =SUMPRODUCT((SUBTOTAL(3,INDIRECT("i"&ROW($I$2:$I$103)))*($I$2:$I$103=Donnees!B3))) -> 11
A15: 14 | B15: 1 | C15: 14 AL | D15: Jean-Luc | E15: H | F15: 23447 | G15: 58160 | H15: =DATEDIF(F15,Donnees!$C$2,"y") -> 49 | I15: =IF(H15<25,Donnees!$B$2,IF(H15<31,Donnees!$B$3,IF(H15<36,Donnees!$B$4,IF(H15<41,Donnees!$B$5,IF(H15<46,Donnees!$B$6,IF(H15<51,Donnees!$B$7,IF(H15<56,Donnees!$B$8,IF(H15<61,Donnees!$B$9,Donnees!$B$10)))))))) -> 46-50 | J15: =IF(H15<25,Donnees!$A$3,IF(H15<46,Donnees!$A$4,IF(H15<51,Donnees!$A$5,IF(H15<56,Donnees!$A$6,IF(H15<60,Donnees!$A$7,Donnees!$A$8))))) -> 46-50 | K15: Divorcé/Séparé | L15: 3 | M15: 0 | N15: =1/$O$1 -> 0.0098039216 | P15: 31-35 | Q15: =SUMIF(I:I,Donnees!B4,B:B) -> 15 | R15: =SUMPRODUCT((SUBTOTAL(3,INDIRECT("i"&ROW($I$2:$I$103)))*($I$2:$I$103=Donnees!B4))) -> 15
A16: 15 | B16: 1 | C16: 15 AL | D16: Loïc | E16: H | F16: 30700 | G16: 58400 | H16: =DATEDIF(F16,Donnees!$C$2,"y") -> 29 | I16: =IF(H16<25,Donnees!$B$2,IF(H16<31,Donnees!$B$3,IF(H16<36,Donnees!$B$4,IF(H16<41,Donnees!$B$5,IF(H16<46,Donnees!$B$6,IF(H16<51,Donnees!$B$7,IF(H16<56,Donnees!$B$8,IF(H16<61,Donnees!$B$9,Donnees!$B$10)))))))) -> 25-30 | K16: Célibataire | L16: 0 | M16: 0 | N16: =1/$O$1 -> 0.0098039216 | P16: 36-40 | Q16: =SUMIF(I:I,Donnees!B5,B:B) -> 15 | R16: =SUMPRODUCT((SUBTOTAL(3,INDIRECT("i"&ROW($I$2:$I$103)))*($I$2:$I$103=Donnees!B5))) -> 15
A17: 16 | B17: 1 | C17: 16 AL | D17: Catherine | E17: F | F17: 26406 | G17: 58000 | H17: =DATEDIF(F17,Donnees!$C$2,"y") -> 41 | I17: =IF(H17<25,Donnees!$B$2,IF(H17<31,Donnees!$B$3,IF(H17<36,Donnees!$B$4,IF(H17<41,Donnees!$B$5,IF(H17<46,Donnees!$B$6,IF(H17<51,Donnees!$B$7,IF(H17<56,Donnees!$B$8,IF(H17<61,Donnees!$B$9,Donnees!$B$10)))))))) -> 41-45 | J17: =IF(H17<25,Donnees!$A$3,IF(H17<46,Donnees!$A$4,IF(H17<51,Donnees!$A$5,IF(H17<56,Donnees!$A$6,IF(H17<60,Donnees!$A$7,Donnees!$A$8))))) -> 25-45 | K17: Marié | L17: 2 | M17: 2 | N17: =1/$O$1 -> 0.0098039216 | P17: 41-45 | Q17: =SUMIF(I:I,Donnees!B6,B:B) -> 17 | R17: =SUMPRODUCT((SUBTOTAL(3,INDIRECT("i"&ROW($I$2:$I$103)))*($I$2:$I$103=Donnees!B6))) -> 17
A18: 17 | B18: 1 | C18: 17 AL | D18: Morgan | E18: H | F18: 31747 | G18: 58000 | H18: =DATEDIF(F18,Donnees!$C$2,"y") -> 26 | I18: =IF(H18<25,Donnees!$B$2,IF(H18<31,Donnees!$B$3,IF(H18<36,Donnees!$B$4,IF(H18<41,Donnees!$B$5,IF(H18<46,Donnees!$B$6,IF(H18<51,Donnees!$B$7,IF(H18<56,Donnees!$B$8,IF(H18<61,Donnees!$B$9,Donnees!$B$10)))))))) -> 25-30 | J18: =IF(H18<25,Donnees!$A$3,IF(H18<46,Donnees!$A$4,IF(H18<51,Donnees!$A$5,IF(H18<56,Donnees!$A$6,IF(H18<60,Donnees!$A$7,Donnees!$A$8))))) -> 25-45 | K18: Célibataire | L18: 0 | M18: 0 | N18: =1/$O$1 -> 0.0098039216 | P18: 46-50 | Q18: =SUMIF(I:I,Donnees!B7,B:B) -> 14 | R18: =SUMPRODUCT((SUBTOTAL(3,INDIRECT("i"&ROW($I$2:$I$103)))*($I$2:$I$103=Donnees!B7))) -> 14
A19: 18 | B19: 1 | C19: 18 AL | D19: Joseph | E19: H | F19: 21163 | G19: Cayenne | H19: =DATEDIF(F19,Donnees!$C$2,"y") -> 55 | I19: =IF(H19<25,Donnees!$B$2,IF(H19<31,Donnees!$B$3,IF(H19<36,Donnees!$B$4,IF(H19<41,Donnees!$B$5,IF(H19<46,Donnees!$B$6,IF(H19<51,Donnees!$B$7,IF(H19<56,Donnees!$B$8,IF(H19<61,Donnees!$B$9,Donnees!$B$10)))))))) -> 51-55 | K19: Marié | N19: =1/$O$1 -> 0.0098039216 | P19: 51-55 | Q19: =SUMIF(I:I,Donnees!B8,B:B) -> 12 | R19: =SUMPRODUCT((SUBTOTAL(3,INDIRECT("i"&ROW($I$2:$I$103)))*($I$2:$I$103=Donnees!B8))) -> 12
A20: 19 | B20: 1 | C20: 19 AL | D20: Edouard | E20: H | F20: 32188 | G20: 58000 | H20: =DATEDIF(F20,Donnees!$C$2,"y") -> 25 | I20: =IF(H20<25,Donnees!$B$2,IF(H20<31,Donnees!$B$3,IF(H20<36,Donnees!$B$4,IF(H20<41,Donnees!$B$5,IF(H20<46,Donnees!$B$6,IF(H20<51,Donnees!$B$7,IF(H20<56,Donnees!$B$8,IF(H20<61,Donnees!$B$9,Donnees!$B$10)))))))) -> 25-30 | J20: =IF(H20<25,Donnees!$A$3,IF(H20<46,Donnees!$A$4,IF(H20<51,Donnees!$A$5,IF(H20<56,Donnees!$A$6,IF(H20<60,Donnees!$A$7,Donnees!$A$8))))) -> 25-45 | K20: Vit maritalement | L20: 2 | M20: 2 | N20: =1/$O$1 -> 0.0098039216 | P20: 56-60 | Q20: =SUMIF(I:I,Donnees!B9,B:B) -> 9 | R20: =SUMPRODUCT((SUBTOTAL(3,INDIRECT("i"&ROW($I$2:$I$103)))*($I$2:$I$103=Donnees!B9))) -> 9
A21: 20 | B21: 1 | C21: 20 AL | D21: Barbara | E21: F | F21: 25541 | G21: 58000 | H21: =DATEDIF(F21,Donnees!$C$2,"y") -> 43 | I21: =IF(H21<25,Donnees!$B$2,IF(H21<31,Donnees!$B$3,IF(H21<36,Donnees!$B$4,IF(H21<41,Donnees!$B$5,IF(H21<46,Donnees!$B$6,IF(H21<51,Donnees!$B$7,IF(H21<56,Donnees!$B$8,IF(H21<61,Donnees!$B$9,Donnees!$B$10)))))))) -> 41-45 | K21: Vit maritalement | L21: 1 | M21: 1 | N21: =1/$O$1 -> 0.0098039216 | P21: + 61 | Q21: =SUMIF(I:I,Donnees!B10,B:B) -> 1 | R21: =SUMPRODUCT((SUBTOTAL(3,INDIRECT("i"&ROW($I$2:$I$103)))*($I$2:$I$103=Donnees!B10))) -> 1
A22: 21 | B22: 1 | C22: 21 AL | D22: Fabien | E22: H | F22: 25013 | G22: COMMUNE | H22: =DATEDIF(F22,Donnees!$C$2,"y") -> 45 | I22: =IF(H22<25,Donnees!$B$2,IF(H22<31,Donnees!$B$3,IF(H22<36,Donnees!$B$4,IF(H22<41,Donnees!$B$5,IF(H22<46,Donnees!$B$6,IF(H22<51,Donnees!$B$7,IF(H22<56,Donnees!$B$8,IF(H22<61,Donnees!$B$9,Donnees!$B$10)))))))) -> 41-45 | J22: =IF(H22<25,Donnees!$A$3,IF(H22<46,Donnees!$A$4,IF(H22<51,Donnees!$A$5,IF(H22<56,Donnees!$A$6,IF(H22<60,Donnees!$A$7,Donnees!$A$8))))) -> 25-45 | K22: Marié | L22: 0 | N22: =1/$O$1 -> 0.0098039216 | Q22: SITUATION FAMILIALE
A23: 22 | B23: 1 | C23: 22 AL | D23: Christine | E23: F | F23: 24644 | G23: 58300 | H23: =DATEDIF(F23,Donnees!$C$2,"y") -> 46 | I23: =IF(H23<25,Donnees!$B$2,IF(H23<31,Donnees!$B$3,IF(H23<36,Donnees!$B$4,IF(H23<41,Donnees!$B$5,IF(H23<46,Donnees!$B$6,IF(H23<51,Donnees!$B$7,IF(H23<56,Donnees!$B$8,IF(H23<61,Donnees!$B$9,Donnees!$B$10)))))))) -> 46-50 | K23: Divorcé/Séparé | L23: 1 | M23: 1 | N23: =1/$O$1 -> 0.0098039216 | P23: Marié | Q23: =SUMIF(K:K,Donnees!D2,B:B) -> 31 | R23: =SUMPRODUCT((SUBTOTAL(3,INDIRECT("k"&ROW($K$2:$K$103)))*($K$2:$K$103=Donnees!D2))) -> 31
A24: 23 | B24: 1 | C24: 23 AL | D24: Christian | E24: H | F24: 26250 | G24: 58000 | H24: =DATEDIF(F24,Donnees!$C$2,"y") -> 41 | I24: =IF(H24<25,Donnees!$B$2,IF(H24<31,Donnees!$B$3,IF(H24<36,Donnees!$B$4,IF(H24<41,Donnees!$B$5,IF(H24<46,Donnees!$B$6,IF(H24<51,Donnees!$B$7,IF(H24<56,Donnees!$B$8,IF(H24<61,Donnees!$B$9,Donnees!$B$10)))))))) -> 41-45 | J24: =IF(H24<25,Donnees!$A$3,IF(H24<46,Donnees!$A$4,IF(H24<51,Donnees!$A$5,IF(H24<56,Donnees!$A$6,IF(H24<60,Donnees!$A$7,Donnees!$A$8))))) -> 25-45 | K24: Célibataire | L24: 0 | M24: 0 | N24: =1/$O$1 -> 0.0098039216 | P24: Célibataire | Q24: =SUMIF(K:K,Donnees!D3,B:B) -> 41 | R24: =SUMPRODUCT((SUBTOTAL(3,INDIRECT("k"&ROW($K$2:$K$103)))*($K$2:$K$103=Donnees!D3))) -> 41
A25: 24 | B25: 1 | C25: 24 AL | D25: Franck | E25: H | F25: 24651 | G25: COMMUNE | H25: =DATEDIF(F25,Donnees!$C$2,"y") -> 46 | I25: =IF(H25<25,Donnees!$B$2,IF(H25<31,Donnees!$B$3,IF(H25<36,Donnees!$B$4,IF(H25<41,Donnees!$B$5,IF(H25<46,Donnees!$B$6,IF(H25<51,Donnees!$B$7,IF(H25<56,Donnees!$B$8,IF(H25<61,Donnees!$B$9,Donnees!$B$10)))))))) -> 46-50 | J25: =IF(H25<25,Donnees!$A$3,IF(H25<46,Donnees!$A$4,IF(H25<51,Donnees!$A$5,IF(H25<56,Donnees!$A$6,IF(H25<60,Donnees!$A$7,Donnees!$A$8))))) -> 46-50 | K25: Vit maritalement | L25: 3 | N25: =1/$O$1 -> 0.0098039216 | P25: Divorcé/Séparé | Q25: =SUMIF(K:K,Donnees!D4,B:B) -> 17 | R25: =SUMPRODUCT((SUBTOTAL(3,INDIRECT("k"&ROW($K$2:$K$103)))*($K$2:$K$103=Donnees!D4))) -> 17
A26: 25 | B26: 1 | C26: 25 AL | D26: Béatrice | E26: F | F26: 23456 | G26: COMMUNE | H26: =DATEDIF(F26,Donnees!$C$2,"y") -> 49 | I26: =IF(H26<25,Donnees!$B$2,IF(H26<31,Donnees!$B$3,IF(H26<36,Donnees!$B$4,IF(H26<41,Donnees!$B$5,IF(H26<46,Donnees!$B$6,IF(H26<51,Donnees!$B$7,IF(H26<56,Donnees!$B$8,IF(H26<61,Donnees!$B$9,Donnees!$B$10)))))))) -> 46-50 | J26: =IF(H26<25,Donnees!$A$3,IF(H26<46,Donnees!$A$4,IF(H26<51,Donnees!$A$5,IF(H26<56,Donnees!$A$6,IF(H26<60,Donnees!$A$7,Donnees!$A$8))))) -> 46-50 | K26: Marié | L26: 2 | N26: =1/$O$1 -> 0.0098039216 | P26: Pacsé | Q26: =SUMIF(K:K,Donnees!D5,B:B) -> 0 | R26: =SUMPRODUCT((SUBTOTAL(3,INDIRECT("k"&ROW($K$2:$K$103)))*($K$2:$K$103=Donnees!D5))) -> 0
A27: 26 | B27: 1 | C27: 26 AL | D27: Olivier | E27: H | F27: 24705 | G27: 58000 | H27: =DATEDIF(F27,Donnees!$C$2,"y") -> 45 | I27: =IF(H27<25,Donnees!$B$2,IF(H27<31,Donnees!$B$3,IF(H27<36,Donnees!$B$4,IF(H27<41,Donnees!$B$5,IF(H27<46,Donnees!$B$6,IF(H27<51,Donnees!$B$7,IF(H27<56,Donnees!$B$8,IF(H27<61,Donnees!$B$9,Donnees!$B$10)))))))) -> 41-45 | J27: =IF(H27<25,Donnees!$A$3,IF(H27<46,Donnees!$A$4,IF(H27<51,Donnees!$A$5,IF(H27<56,Donnees!$A$6,IF(H27<60,Donnees!$A$7,Donnees!$A$8))))) -> 25-45 | K27: Vit maritalement | L27: 3 | M27: 3 | N27: =1/$O$1 -> 0.0098039216 | P27: Vit maritalement | Q27: =SUMIF(K:K,Donnees!D6,B:B) -> 13 | R27: =SUMPRODUCT((SUBTOTAL(3,INDIRECT("k"&ROW($K$2:$K$103)))*($K$2:$K$103=Donnees!D6))) -> 13
A28: 27 | B28: 1 | C28: 27 AL | D28: Gérard | E28: H | F28: 20208 | G28: COMMUNE | H28: =DATEDIF(F28,Donnees!$C$2,"y") -> 58 | I28: =IF(H28<25,Donnees!$B$2,IF(H28<31,Donnees!$B$3,IF(H28<36,Donnees!$B$4,IF(H28<41,Donnees!$B$5,IF(H28<46,Donnees!$B$6,IF(H28<51,Donnees!$B$7,IF(H28<56,Donnees!$B$8,IF(H28<61,Donnees!$B$9,Donnees!$B$10)))))))) -> 56-60 | J28: =IF(H28<25,Donnees!$A$3,IF(H28<46,Donnees!$A$4,IF(H28<51,Donnees!$A$5,IF(H28<56,Donnees!$A$6,IF(H28<60,Donnees!$A$7,Donnees!$A$8))))) -> + 55 ans | K28: Divorcé/Séparé | L28: 1 | N28: =1/$O$1 -> 0.0098039216 | P28: Veuf | Q28: =SUMIF(K:K,Donnees!D7,B:B) -> 0 | R28: =SUMPRODUCT((SUBTOTAL(3,INDIRECT("k"&ROW($K$2:$K$103)))*($K$2:$K$103=Donnees!D7))) -> 0
A29: 28 | B29: 1 | C29: 28 AL | D29: Ludovic | E29: H | F29: 28234 | G29: 58000 | H29: =DATEDIF(F29,Donnees!$C$2,"y") -> 36 | I29: =IF(H29<25,Donnees!$B$2,IF(H29<31,Donnees!$B$3,IF(H29<36,Donnees!$B$4,IF(H29<41,Donnees!$B$5,IF(H29<46,Donnees!$B$6,IF(H29<51,Donnees!$B$7,IF(H29<56,Donnees!$B$8,IF(H29<61,Donnees!$B$9,Donnees!$B$10)))))))) -> 36-40 | J29: =IF(H29<25,Donnees!$A$3,IF(H29<46,Donnees!$A$4,IF(H29<51,Donnees!$A$5,IF(H29<56,Donnees!$A$6,IF(H29<60,Donnees!$A$7,Donnees!$A$8))))) -> 25-45 | K29: Célibataire | L29: 1 | M29: 0 | N29: =1/$O$1 -> 0.0098039216 | P29: Inconnu | Q29: =SUMIF(K:K,Donnees!D8,B:B) -> 0 | R29: =SUMPRODUCT((SUBTOTAL(3,INDIRECT("k"&ROW($K$2:$K$103)))*($K$2:$K$103=Donnees!D8))) -> 0
A30: 29 | B30: 1 | C30: 29 AL | D30: Mohamed | E30: H | F30: 32492 | G30: 58000 | H30: =DATEDIF(F30,Donnees!$C$2,"y") -> 24 | I30: =IF(H30<25,Donnees!$B$2,IF(H30<31,Donnees!$B$3,IF(H30<36,Donnees!$B$4,IF(H30<41,Donnees!$B$5,IF(H30<46,Donnees!$B$6,IF(H30<51,Donnees!$B$7,IF(H30<56,Donnees!$B$8,IF(H30<61,Donnees!$B$9,Donnees!$B$10)))))))) -> - 25 ans | K30: Marié | L30: 0 | M30: 0 | N30: =1/$O$1 -> 0.0098039216 | P30: Autre | Q30: =SUMIF(K:K,Donnees!D9,B:B) -> 0 | R30: =SUMPRODUCT((SUBTOTAL(3,INDIRECT("k"&ROW($K$2:$K$103)))*($K$2:$K$103=Donnees!D9))) -> 0
A31: 30 | B31: 1 | C31: 30 AL | D31: Jean-Claude | E31: H | F31: 19867 | G31: COMMUNE | H31: =DATEDIF(F31,Donnees!$C$2,"y") -> 59 | I31: =IF(H31<25,Donnees!$B$2,IF(H31<31,Donnees!$B$3,IF(H31<36,Donnees!$B$4,IF(H31<41,Donnees!$B$5,IF(H31<46,Donnees!$B$6,IF(H31<51,Donnees!$B$7,IF(H31<56,Donnees!$B$8,IF(H31<61,Donnees!$B$9,Donnees!$B$10)))))))) -> 56-60 | J31: =IF(H31<25,Donnees!$A$3,IF(H31<46,Donnees!$A$4,IF(H31<51,Donnees!$A$5,IF(H31<56,Donnees!$A$6,IF(H31<60,Donnees!$A$7,Donnees!$A$8))))) -> + 55 ans | K31: Divorcé/Séparé | L31: 1 | N31: =1/$O$1 -> 0.0098039216
A32: 31 | B32: 1 | C32: 31 AL | D32: Thibaut | E32: H | F32: 30102 | G32: 58000 | H32: =DATEDIF(F32,Donnees!$C$2,"y") -> 31 | I32: =IF(H32<25,Donnees!$B$2,IF(H32<31,Donnees!$B$3,IF(H32<36,Donnees!$B$4,IF(H32<41,Donnees!$B$5,IF(H32<46,Donnees!$B$6,IF(H32<51,Donnees!$B$7,IF(H32<56,Donnees!$B$8,IF(H32<61,Donnees!$B$9,Donnees!$B$10)))))))) -> 31-35 | J32: =IF(H32<25,Donnees!$A$3,IF(H32<46,Donnees!$A$4,IF(H32<51,Donnees!$A$5,IF(H32<56,Donnees!$A$6,IF(H32<60,Donnees!$A$7,Donnees!$A$8))))) -> 25-45 | K32: Célibataire | L32: 0 | M32: 0 | N32: =1/$O$1 -> 0.0098039216
A33: 32 | B33: 1 | C33: 32 AL | D33: Richard | E33: H | F33: 22237 | G33: COMMUNE | H33: =DATEDIF(F33,Donnees!$C$2,"y") -> 52 | I33: =IF(H33<25,Donnees!$B$2,IF(H33<31,Donnees!$B$3,IF(H33<36,Donnees!$B$4,IF(H33<41,Donnees!$B$5,IF(H33<46,Donnees!$B$6,IF(H33<51,Donnees!$B$7,IF(H33<56,Donnees!$B$8,IF(H33<61,Donnees!$B$9,Donnees!$B$10)))))))) -> 51-55 | J33: =IF(H33<25,Donnees!$A$3,IF(H33<46,Donnees!$A$4,IF(H33<51,Donnees!$A$5,IF(H33<56,Donnees!$A$6,IF(H33<60,Donnees!$A$7,Donnees!$A$8))))) -> 51-55 | K33: Marié | L33: 4 | N33: =1/$O$1 -> 0.0098039216
A34: 33 | B34: 1 | C34: 33 AL | D34: Médoune | E34: H | F34: 28221 | G34: Migrant | H34: =DATEDIF(F34,Donnees!$C$2,"y") -> 36 | I34: =IF(H34<25,Donnees!$B$2,IF(H34<31,Donnees!$B$3,IF(H34<36,Donnees!$B$4,IF(H34<41,Donnees!$B$5,IF(H34<46,Donnees!$B$6,IF(H34<51,Donnees!$B$7,IF(H34<56,Donnees!$B$8,IF(H34<61,Donnees!$B$9,Donnees!$B$10)))))))) -> 36-40 | J34: =IF(H34<25,Donnees!$A$3,IF(H34<46,Donnees!$A$4,IF(H34<51,Donnees!$A$5,IF(H34<56,Donnees!$A$6,IF(H34<60,Donnees!$A$7,Donnees!$A$8))))) -> 25-45 | K34: Marié | L34: 2 | M34: 2 | N34: =1/$O$1 -> 0.0098039216
A35: 34 | B35: 1 | C35: 34 AL | D35: Gaël | E35: H | F35: 28871 | G35: 58000 | H35: =DATEDIF(F35,Donnees!$C$2,"y") -> 34 | I35: =IF(H35<25,Donnees!$B$2,IF(H35<31,Donnees!$B$3,IF(H35<36,Donnees!$B$4,IF(H35<41,Donnees!$B$5,IF(H35<46,Donnees!$B$6,IF(H35<51,Donnees!$B$7,IF(H35<56,Donnees!$B$8,IF(H35<61,Donnees!$B$9,Donnees!$B$10)))))))) -> 31-35 | J35: =IF(H35<25,Donnees!$A$3,IF(H35<46,Donnees!$A$4,IF(H35<51,Donnees!$A$5,IF(H35<56,Donnees!$A$6,IF(H35<60,Donnees!$A$7,Donnees!$A$8))))) -> 25-45 | K35: Vit maritalement | L35: 1 | M35: 1 | N35: =1/$O$1 -> 0.0098039216
A36: 35 | B36: 1 | C36: 35 AL | D36: Abdelilah | E36: H | F36: 30768 | G36: 58000 | H36: =DATEDIF(F36,Donnees!$C$2,"y") -> 29 | I36: =IF(H36<25,Donnees!$B$2,IF(H36<31,Donnees!$B$3,IF(H36<36,Donnees!$B$4,IF(H36<41,Donnees!$B$5,IF(H36<46,Donnees!$B$6,IF(H36<51,Donnees!$B$7,IF(H36<56,Donnees!$B$8,IF(H36<61,Donnees!$B$9,Donnees!$B$10)))))))) -> 25-30 | J36: =IF(H36<25,Donnees!$A$3,IF(H36<46,Donnees!$A$4,IF(H36<51,Donnees!$A$5,IF(H36<56,Donnees!$A$6,IF(H36<60,Donnees!$A$7,Donnees!$A$8))))) -> 25-45 | K36: Célibataire | L36: 0 | M36: 0 | N36: =1/$O$1 -> 0.0098039216
A37: 36 | B37: 1 | C37: 36 AL | D37: Youssef | E37: H | F37: 30175 | G37: 05000 | H37: =DATEDIF(F37,Donnees!$C$2,"y") -> 30 | I37: =IF(H37<25,Donnees!$B$2,IF(H37<31,Donnees!$B$3,IF(H37<36,Donnees!$B$4,IF(H37<41,Donnees!$B$5,IF(H37<46,Donnees!$B$6,IF(H37<51,Donnees!$B$7,IF(H37<56,Donnees!$B$8,IF(H37<61,Donnees!$B$9,Donnees!$B$10)))))))) -> 25-30 | K37: Vit maritalement | L37: 3 | M37: 2 | N37: =1/$O$1 -> 0.0098039216
A38: 37 | B38: 1 | C38: 37 AL | D38: Mirriae Gloss | E38: F | F38: 25909 | G38: Haïti | H38: =DATEDIF(F38,Donnees!$C$2,"y") -> 42 | I38: =IF(H38<25,Donnees!$B$2,IF(H38<31,Donnees!$B$3,IF(H38<36,Donnees!$B$4,IF(H38<41,Donnees!$B$5,IF(H38<46,Donnees!$B$6,IF(H38<51,Donnees!$B$7,IF(H38<56,Donnees!$B$8,IF(H38<61,Donnees!$B$9,Donnees!$B$10)))))))) -> 41-45 | K38: Célibataire | L38: 1 | M38: 1 | N38: =1/$O$1 -> 0.0098039216
A39: 38 | B39: 1 | C39: 38 AL | D39: Benyoussef | E39: H | F39: 29914 | G39: 1500 | H39: =DATEDIF(F39,Donnees!$C$2,"y") -> 31 | I39: =IF(H39<25,Donnees!$B$2,IF(H39<31,Donnees!$B$3,IF(H39<36,Donnees!$B$4,IF(H39<41,Donnees!$B$5,IF(H39<46,Donnees!$B$6,IF(H39<51,Donnees!$B$7,IF(H39<56,Donnees!$B$8,IF(H39<61,Donnees!$B$9,Donnees!$B$10)))))))) -> 31-35 | K39: Célibataire | L39: 0 | M39: 0 | N39: =1/$O$1 -> 0.0098039216
A40: 39 | B40: 1 | C40: 39 AL | D40: Rosemonde | E40: F | F40: 23993 | G40: Haïti | H40: =DATEDIF(F40,Donnees!$C$2,"y") -> 47 | I40: =IF(H40<25,Donnees!$B$2,IF(H40<31,Donnees!$B$3,IF(H40<36,Donnees!$B$4,IF(H40<41,Donnees!$B$5,IF(H40<46,Donnees!$B$6,IF(H40<51,Donnees!$B$7,IF(H40<56,Donnees!$B$8,IF(H40<61,Donnees!$B$9,Donnees!$B$10)))))))) -> 46-50 | K40: Célibataire | L40: 3 | M40: 2 | N40: =1/$O$1 -> 0.0098039216
...

Sheet STATISTIQUES
A1: STATISTIQUES 2011
B3: =GENERAL!Q3 -> 41466
C6: =GENERAL!Q5 -> EFFCETIF GENERAL | D6: =GENERAL!R5 -> SOUS-TOTAL | E6: % | F6: %
C7: =GENERAL!Q6 -> 102 | D7: =GENERAL!R6 -> 102 | E7: =GENERAL!R7 -> 1 | F7: =D7/$D$7 -> 1
C10: =GENERAL!Q8 -> HOMME
C11: =GENERAL!Q9 -> 73 | D11: =GENERAL!R9 -> 102 | E11: =D11/$C$7 -> 1 | F11: =D11/$D$7 -> 1
C12: =GENERAL!Q10 -> FEMME
C13: =GENERAL!Q11 -> 29 | D13: =GENERAL!R11 -> 29 | E13: =D13/$C$7 -> 0.28431373 | F13: =D13/$D$7 -> 0.28431373
C14: =GENERAL!Q12 -> AGE (par tranche)
B15: =GENERAL!P13 -> - 25 | C15: =GENERAL!Q13 -> 8 | D15: =GENERAL!R13 -> 8 | E15: =D15/$C$7 -> 0.078431373 | F15: =D15/$D$7 -> 0.078431373
B16: =GENERAL!P14 -> 25-30 | C16: =GENERAL!Q14 -> 11 | D16: =GENERAL!R14 -> 11 | E16: =D16/$C$7 -> 0.10784314 | F16: =D16/$D$7 -> 0.10784314
B17: =GENERAL!P15 -> 31-35 | C17: =GENERAL!Q15 -> 15 | D17: =GENERAL!R15 -> 15 | E17: =D17/$C$7 -> 0.14705882 | F17: =D17/$D$7 -> 0.14705882
B18: =GENERAL!P16 -> 36-40 | C18: =GENERAL!Q16 -> 15 | D18: =GENERAL!R16 -> 15 | E18: =D18/$C$7 -> 0.14705882 | F18: =D18/$D$7 -> 0.14705882
B19: =GENERAL!P17 -> 41-45 | C19: =GENERAL!Q17 -> 17 | D19: =GENERAL!R17 -> 17 | E19: =D19/$C$7 -> 0.16666667 | F19: =D19/$D$7 -> 0.16666667
B20: =GENERAL!P18 -> 46-50 | C20: =GENERAL!Q18 -> 14 | D20: =GENERAL!R18 -> 14 | E20: =D20/$C$7 -> 0.1372549 | F20: =D20/$D$7 -> 0.1372549
B21: =GENERAL!P19 -> 51-55 | C21: =GENERAL!Q19 -> 12 | D21: =GENERAL!R19 -> 12 | E21: =D21/$C$7 -> 0.11764706 | F21: =D21/$D$7 -> 0.11764706
B22: =GENERAL!P20 -> 56-60 | C22: =GENERAL!Q20 -> 9 | D22: =GENERAL!R20 -> 9 | E22: =D22/$C$7 -> 0.088235294 | F22: =D22/$D$7 -> 0.088235294
B23: =GENERAL!P21 -> + 61 | C23: =GENERAL!Q21 -> 1 | D23: =GENERAL!R21 -> 1 | E23: =D23/$C$7 -> 0.0098039216 | F23: =D23/$D$7 -> 0.0098039216
C24: =GENERAL!Q22 -> SITUATION FAMILIALE
B25: =GENERAL!P23 -> Marié | C25: =GENERAL!Q23 -> 31 | D25: =GENERAL!R23 -> 31 | E25: =D25/$C$7 -> 0.30392157 | F25: =D25/$D$7 -> 0.30392157
B26: =GENERAL!P24 -> Célibataire | C26: =GENERAL!Q24 -> 41 | D26: =GENERAL!R24 -> 41 | E26: =D26/$C$7 -> 0.40196078 | F26: =D26/$D$7 -> 0.40196078
B27: =GENERAL!P25 -> Divorcé/Séparé | C27: =GENERAL!Q25 -> 17 | D27: =GENERAL!R25 -> 17 | E27: =D27/$C$7 -> 0.16666667 | F27: =D27/$D$7 -> 0.16666667
B28: =GENERAL!P26 -> Pacsé | C28: =GENERAL!Q26 -> 0 | D28: =GENERAL!R26 -> 0 | E28: =D28/$C$7 -> 0 | F28: =D28/$D$7 -> 0
B29: =GENERAL!P27 -> Vit maritalement | C29: =GENERAL!Q27 -> 13 | D29: =GENERAL!R27 -> 13 | E29: =D29/$C$7 -> 0.12745098 | F29: =D29/$D$7 -> 0.12745098
B30: =GENERAL!P28 -> Veuf | C30: =GENERAL!Q28 -> 0 | D30: =GENERAL!R28 -> 0 | E30: =D30/$C$7 -> 0 | F30: =D30/$D$7 -> 0
B31: =GENERAL!P29 -> Inconnu | C31: =GENERAL!Q29 -> 0 | D31: =GENERAL!R29 -> 0 | E31: =D31/$C$7 -> 0 | F31: =D31/$D$7 -> 0
B32: =GENERAL!P30 -> Autre | C32: =GENERAL!Q30 -> 0 | D32: =GENERAL!R30 -> 0 | E32: =D32/$C$7 -> 0 | F32: =D32/$D$7 -> 0

Sheet Donnees
A1: TA | B1: ÂGE | C1: Date | D1: SITUATION FAMILIALE
A2: ? | B2: - 25 ans | C2: =NOW() -> 41466.546 | D2: Marié
A3: - 25 ans | B3: 25-30 | D3: Célibataire
A4: 25-45 | B4: 31-35 | C4: 40543 | D4: Divorcé/Séparé
A5: 46-50 | B5: 36-40 | D5: Pacsé
A6: 51-55 | B6: 41-45 | D6: Vit maritalement
A7: + 55 ans | B7: 46-50 | D7: Veuf
A8: Retraite | B8: 51-55 | D8: Inconnu
B9: 56-60 | D9: Autre
B10: 61 et +
