Workbook
Name Elec_jour: 'ELEC - Relevés'!$A$2:$C$83

Sheet ELEC - Relevés
A1: Date | B1: Heure | C1: Index JOUR | D1: Index NUIT | E1: Index TOTAL | H1: interpolation ligne inf | I1: Date | J1: Index JOUR | K1: Index NUIT | L1: Index TOTAL
A2: 40309 | B2: 0.58541667 | C2: 0 | D2: 0 | E2: =C2+D2 -> 0 | H2: =MATCH(I2,A:A,1) -> 2 | I2: 41944 | J2: {=((INDEX(C:C,$H2+1)-INDEX(C:C,$H2))/(INDEX($A:$A,$H2+1)-INDEX($A:$A,$H2)))*($I2-INDEX($A:$A,$H2))+INDEX(C:C,$H2)} -> 4479.4249 | K2: {=((INDEX(D:D,$H2+1)-INDEX(D:D,$H2))/(INDEX($A:$A,$H2+1)-INDEX($A:$A,$H2)))*($I2-INDEX($A:$A,$H2))+INDEX(D:D,$H2)} -> 4178.5533 | L2: {=((INDEX(E:E,$H2+1)-INDEX(E:E,$H2))/(INDEX($A:$A,$H2+1)-INDEX($A:$A,$H2)))*($I2-INDEX($A:$A,$H2))+INDEX(E:E,$H2)} -> 8657.9782
A3: 41961 | B3: 0.66666667 | C3: 4526 | D3: 4222 | E3: =C3+D3 -> 8748 | H3: =MATCH(I3,A:A,1) -> 3 | I3: =EDATE(I2,1) -> 41974 | J3: {=((INDEX(C:C,$H3+1)-INDEX(C:C,$H3))/(INDEX($A:$A,$H3+1)-INDEX($A:$A,$H3)))*($I3-INDEX($A:$A,$H3))+INDEX(C:C,$H3)} -> 4573.5429 | K3: {=((INDEX(D:D,$H3+1)-INDEX(D:D,$H3))/(INDEX($A:$A,$H3+1)-INDEX($A:$A,$H3)))*($I3-INDEX($A:$A,$H3))+INDEX(D:D,$H3)} -> 4265.0857 | L3: {=((INDEX(E:E,$H3+1)-INDEX(E:E,$H3))/(INDEX($A:$A,$H3+1)-INDEX($A:$A,$H3)))*($I3-INDEX($A:$A,$H3))+INDEX(E:E,$H3)} -> 8838.6286
A4: 41996 | B4: 0.66666667 | C4: 4654 | D4: 4338 | E4: =C4+D4 -> 8992 | H4: =MATCH(I4,A:A,1) -> 4 | I4: =EDATE(I3,1) -> 42005 | J4: {=((INDEX(C:C,$H4+1)-INDEX(C:C,$H4))/(INDEX($A:$A,$H4+1)-INDEX($A:$A,$H4)))*($I4-INDEX($A:$A,$H4))+INDEX(C:C,$H4)} -> 4686.5862 | K4: {=((INDEX(D:D,$H4+1)-INDEX(D:D,$H4))/(INDEX($A:$A,$H4+1)-INDEX($A:$A,$H4)))*($I4-INDEX($A:$A,$H4))+INDEX(D:D,$H4)} -> 4378.2414 | L4: {=((INDEX(E:E,$H4+1)-INDEX(E:E,$H4))/(INDEX($A:$A,$H4+1)-INDEX($A:$A,$H4)))*($I4-INDEX($A:$A,$H4))+INDEX(E:E,$H4)} -> 9064.8276
A5: 42083 | B5: 0.86111111 | C5: 4969 | D5: 4727 | E5: =C5+D5 -> 9696 | H5: =MATCH(I5,A:A,1) -> 4 | I5: =EDATE(I4,1) -> 42036 | J5: {=((INDEX(C:C,$H5+1)-INDEX(C:C,$H5))/(INDEX($A:$A,$H5+1)-INDEX($A:$A,$H5)))*($I5-INDEX($A:$A,$H5))+INDEX(C:C,$H5)} -> 4798.8276 | K5: {=((INDEX(D:D,$H5+1)-INDEX(D:D,$H5))/(INDEX($A:$A,$H5+1)-INDEX($A:$A,$H5)))*($I5-INDEX($A:$A,$H5))+INDEX(D:D,$H5)} -> 4516.8506 | L5: {=((INDEX(E:E,$H5+1)-INDEX(E:E,$H5))/(INDEX($A:$A,$H5+1)-INDEX($A:$A,$H5)))*($I5-INDEX($A:$A,$H5))+INDEX(E:E,$H5)} -> 9315.6782
A6: 42086 | B6: 0.41875 | C6: 4971 | D6: 4750 | E6: =C6+D6 -> 9721 | H6: =MATCH(I6,A:A,1) -> 4 | I6: =EDATE(I5,1) -> 42064 | J6: {=((INDEX(C:C,$H6+1)-INDEX(C:C,$H6))/(INDEX($A:$A,$H6+1)-INDEX($A:$A,$H6)))*($I6-INDEX($A:$A,$H6))+INDEX(C:C,$H6)} -> 4900.2069 | K6: {=((INDEX(D:D,$H6+1)-INDEX(D:D,$H6))/(INDEX($A:$A,$H6+1)-INDEX($A:$A,$H6)))*($I6-INDEX($A:$A,$H6))+INDEX(D:D,$H6)} -> 4642.046 | L6: {=((INDEX(E:E,$H6+1)-INDEX(E:E,$H6))/(INDEX($A:$A,$H6+1)-INDEX($A:$A,$H6)))*($I6-INDEX($A:$A,$H6))+INDEX(E:E,$H6)} -> 9542.2529
A7: 42091 | B7: 0.79236111 | C7: 5003 | D7: 4770 | E7: =C7+D7 -> 9773 | H7: =MATCH(I7,A:A,1) -> 7 | I7: =EDATE(I6,1) -> 42095 | J7: {=((INDEX(C:C,$H7+1)-INDEX(C:C,$H7))/(INDEX($A:$A,$H7+1)-INDEX($A:$A,$H7)))*($I7-INDEX($A:$A,$H7))+INDEX(C:C,$H7)} -> 5017.9091 | K7: {=((INDEX(D:D,$H7+1)-INDEX(D:D,$H7))/(INDEX($A:$A,$H7+1)-INDEX($A:$A,$H7)))*($I7-INDEX($A:$A,$H7))+INDEX(D:D,$H7)} -> 4788.5455 | L7: {=((INDEX(E:E,$H7+1)-INDEX(E:E,$H7))/(INDEX($A:$A,$H7+1)-INDEX($A:$A,$H7)))*($I7-INDEX($A:$A,$H7))+INDEX(E:E,$H7)} -> 9806.4545
A8: 42102 | B8: 0.37916667 | C8: 5044 | D8: 4821 | E8: =C8+D8 -> 9865 | H8: =MATCH(I8,A:A,1) -> 9 | I8: =EDATE(I7,1) -> 42125 | J8: {=((INDEX(C:C,$H8+1)-INDEX(C:C,$H8))/(INDEX($A:$A,$H8+1)-INDEX($A:$A,$H8)))*($I8-INDEX($A:$A,$H8))+INDEX(C:C,$H8)} -> 5119.8125 | K8: {=((INDEX(D:D,$H8+1)-INDEX(D:D,$H8))/(INDEX($A:$A,$H8+1)-INDEX($A:$A,$H8)))*($I8-INDEX($A:$A,$H8))+INDEX(D:D,$H8)} -> 4921.25 | L8: {=((INDEX(E:E,$H8+1)-INDEX(E:E,$H8))/(INDEX($A:$A,$H8+1)-INDEX($A:$A,$H8)))*($I8-INDEX($A:$A,$H8))+INDEX(E:E,$H8)} -> 10041.062
A9: 42110 | B9: 0.59930556 | C9: 5072 | D9: 4850 | E9: =C9+D9 -> 9922 | H9: =MATCH(I9,A:A,1) -> 11 | I9: =EDATE(I8,1) -> 42156 | J9: {=((INDEX(C:C,$H9+1)-INDEX(C:C,$H9))/(INDEX($A:$A,$H9+1)-INDEX($A:$A,$H9)))*($I9-INDEX($A:$A,$H9))+INDEX(C:C,$H9)} -> 5203.375 | K9: {=((INDEX(D:D,$H9+1)-INDEX(D:D,$H9))/(INDEX($A:$A,$H9+1)-INDEX($A:$A,$H9)))*($I9-INDEX($A:$A,$H9))+INDEX(D:D,$H9)} -> 5032.9375 | L9: {=((INDEX(E:E,$H9+1)-INDEX(E:E,$H9))/(INDEX($A:$A,$H9+1)-INDEX($A:$A,$H9)))*($I9-INDEX($A:$A,$H9))+INDEX(E:E,$H9)} -> 10236.312
A10: 42126 | B10: 0.82847222 | C10: 5123 | D10: 4926 | E10: =C10+D10 -> 10049 | H10: =MATCH(I10,A:A,1) -> 12 | I10: =EDATE(I9,1) -> 42186 | J10: {=((INDEX(C:C,$H10+1)-INDEX(C:C,$H10))/(INDEX($A:$A,$H10+1)-INDEX($A:$A,$H10)))*($I10-INDEX($A:$A,$H10))+INDEX(C:C,$H10)} -> 5284.2727 | K10: {=((INDEX(D:D,$H10+1)-INDEX(D:D,$H10))/(INDEX($A:$A,$H10+1)-INDEX($A:$A,$H10)))*($I10-INDEX($A:$A,$H10))+INDEX(D:D,$H10)} -> 5145.8182 | L10: {=((INDEX(E:E,$H10+1)-INDEX(E:E,$H10))/(INDEX($A:$A,$H10+1)-INDEX($A:$A,$H10)))*($I10-INDEX($A:$A,$H10))+INDEX(E:E,$H10)} -> 10430.091
A11: 42149 | B11: 0.82569444 | C11: 5185 | D11: 5008 | E11: =C11+D11 -> 10193 | H11: =MATCH(I11,A:A,1) -> 13 | I11: =EDATE(I10,1) -> 42217 | J11: {=((INDEX(C:C,$H11+1)-INDEX(C:C,$H11))/(INDEX($A:$A,$H11+1)-INDEX($A:$A,$H11)))*($I11-INDEX($A:$A,$H11))+INDEX(C:C,$H11)} -> 5379.1818 | K11: {=((INDEX(D:D,$H11+1)-INDEX(D:D,$H11))/(INDEX($A:$A,$H11+1)-INDEX($A:$A,$H11)))*($I11-INDEX($A:$A,$H11))+INDEX(D:D,$H11)} -> 5272.6061 | L11: {=((INDEX(E:E,$H11+1)-INDEX(E:E,$H11))/(INDEX($A:$A,$H11+1)-INDEX($A:$A,$H11)))*($I11-INDEX($A:$A,$H11))+INDEX(E:E,$H11)} -> 10651.788
A12: 42165 | B12: 0.44791667 | C12: 5227 | D12: 5065 | E12: =C12+D12 -> 10292 | H12: =MATCH(I12,A:A,1) -> 14 | I12: =EDATE(I11,1) -> 42248 | J12: {=((INDEX(C:C,$H12+1)-INDEX(C:C,$H12))/(INDEX($A:$A,$H12+1)-INDEX($A:$A,$H12)))*($I12-INDEX($A:$A,$H12))+INDEX(C:C,$H12)} -> 5476.425 | K12: {=((INDEX(D:D,$H12+1)-INDEX(D:D,$H12))/(INDEX($A:$A,$H12+1)-INDEX($A:$A,$H12)))*($I12-INDEX($A:$A,$H12))+INDEX(D:D,$H12)} -> 5399.15 | L12: {=((INDEX(E:E,$H12+1)-INDEX(E:E,$H12))/(INDEX($A:$A,$H12+1)-INDEX($A:$A,$H12)))*($I12-INDEX($A:$A,$H12))+INDEX(E:E,$H12)} -> 10875.575
A13: 42198 | B13: 0.90069444 | C13: 5317 | D13: 5192 | E13: =C13+D13 -> 10509 | H13: =MATCH(I13,A:A,1) -> 15 | I13: =EDATE(I12,1) -> 42278 | J13: {=((INDEX(C:C,$H13+1)-INDEX(C:C,$H13))/(INDEX($A:$A,$H13+1)-INDEX($A:$A,$H13)))*($I13-INDEX($A:$A,$H13))+INDEX(C:C,$H13)} -> 5569.3333 | K13: {=((INDEX(D:D,$H13+1)-INDEX(D:D,$H13))/(INDEX($A:$A,$H13+1)-INDEX($A:$A,$H13)))*($I13-INDEX($A:$A,$H13))+INDEX(D:D,$H13)} -> 5510.5333 | L13: {=((INDEX(E:E,$H13+1)-INDEX(E:E,$H13))/(INDEX($A:$A,$H13+1)-INDEX($A:$A,$H13)))*($I13-INDEX($A:$A,$H13))+INDEX(E:E,$H13)} -> 11079.867
A14: 42231 | B14: 0.63402778 | C14: 5425 | D14: 5332 | E14: =C14+D14 -> 10757 | H14: =MATCH(I14,A:A,1) -> 16 | I14: =EDATE(I13,1) -> 42309 | J14: {=((INDEX(C:C,$H14+1)-INDEX(C:C,$H14))/(INDEX($A:$A,$H14+1)-INDEX($A:$A,$H14)))*($I14-INDEX($A:$A,$H14))+INDEX(C:C,$H14)} -> 5665 | K14: {=((INDEX(D:D,$H14+1)-INDEX(D:D,$H14))/(INDEX($A:$A,$H14+1)-INDEX($A:$A,$H14)))*($I14-INDEX($A:$A,$H14))+INDEX(D:D,$H14)} -> 5621.4 | L14: {=((INDEX(E:E,$H14+1)-INDEX(E:E,$H14))/(INDEX($A:$A,$H14+1)-INDEX($A:$A,$H14)))*($I14-INDEX($A:$A,$H14))+INDEX(E:E,$H14)} -> 11286.4
... A83: 45427 | B83: 0.78611111 | C83: 17043 | D83: 19565 | E83: =C83+D83 -> 36608 | H83: =MATCH(I83,A:A,1) -> 43 | I83: =EDATE(I82,1) -> 44409 | J83: {=((INDEX(C:C,$H83+1)-INDEX(C:C,$H83))/(INDEX($A:$A,$H83+1)-INDEX($A:$A,$H83)))*($I83-INDEX($A:$A,$H83))+INDEX(C:C,$H83)} -> 13197.744 | K83: {=((INDEX(D:D,$H83+1)-INDEX(D:D,$H83))/(INDEX($A:$A,$H83+1)-INDEX($A:$A,$H83)))*($I83-INDEX($A:$A,$H83))+INDEX(D:D,$H83)} -> 14530.047 | L83: {=((INDEX(E:E,$H83+1)-INDEX(E:E,$H83))/(INDEX($A:$A,$H83+1)-INDEX($A:$A,$H83)))*($I83-INDEX($A:$A,$H83))+INDEX(E:E,$H83)} -> 27727.791
E84: =C84+D84 -> 0 | H84: =MATCH(I84,A:A,1) -> 43 | I84: =EDATE(I83,1) -> 44440 | J84: {=((INDEX(C:C,$H84+1)-INDEX(C:C,$H84))/(INDEX($A:$A,$H84+1)-INDEX($A:$A,$H84)))*($I84-INDEX($A:$A,$H84))+INDEX(C:C,$H84)} -> 13296.031 | K84: {=((INDEX(D:D,$H84+1)-INDEX(D:D,$H84))/(INDEX($A:$A,$H84+1)-INDEX($A:$A,$H84)))*($I84-INDEX($A:$A,$H84))+INDEX(D:D,$H84)} -> 14642.752 | L84: {=((INDEX(E:E,$H84+1)-INDEX(E:E,$H84))/(INDEX($A:$A,$H84+1)-INDEX($A:$A,$H84)))*($I84-INDEX($A:$A,$H84))+INDEX(E:E,$H84)} -> 27938.783
E85: =C85+D85 -> 0 | H85: =MATCH(I85,A:A,1) -> 43 | I85: =EDATE(I84,1) -> 44470 | J85: {=((INDEX(C:C,$H85+1)-INDEX(C:C,$H85))/(INDEX($A:$A,$H85+1)-INDEX($A:$A,$H85)))*($I85-INDEX($A:$A,$H85))+INDEX(C:C,$H85)} -> 13391.147 | K85: {=((INDEX(D:D,$H85+1)-INDEX(D:D,$H85))/(INDEX($A:$A,$H85+1)-INDEX($A:$A,$H85)))*($I85-INDEX($A:$A,$H85))+INDEX(D:D,$H85)} -> 14751.822 | L85: {=((INDEX(E:E,$H85+1)-INDEX(E:E,$H85))/(INDEX($A:$A,$H85+1)-INDEX($A:$A,$H85)))*($I85-INDEX($A:$A,$H85))+INDEX(E:E,$H85)} -> 28142.969
E86: =C86+D86 -> 0 | H86: =MATCH(I86,A:A,1) -> 45 | I86: =EDATE(I85,1) -> 44501 | J86: {=((INDEX(C:C,$H86+1)-INDEX(C:C,$H86))/(INDEX($A:$A,$H86+1)-INDEX($A:$A,$H86)))*($I86-INDEX($A:$A,$H86))+INDEX(C:C,$H86)} -> 13496.894 | K86: {=((INDEX(D:D,$H86+1)-INDEX(D:D,$H86))/(INDEX($A:$A,$H86+1)-INDEX($A:$A,$H86)))*($I86-INDEX($A:$A,$H86))+INDEX(D:D,$H86)} -> 14872.447 | L86: {=((INDEX(E:E,$H86+1)-INDEX(E:E,$H86))/(INDEX($A:$A,$H86+1)-INDEX($A:$A,$H86)))*($I86-INDEX($A:$A,$H86))+INDEX(E:E,$H86)} -> 28369.34
E87: =C87+D87 -> 0 | H87: =MATCH(I87,A:A,1) -> 46 | I87: =EDATE(I86,1) -> 44531 | J87: {=((INDEX(C:C,$H87+1)-INDEX(C:C,$H87))/(INDEX($A:$A,$H87+1)-INDEX($A:$A,$H87)))*($I87-INDEX($A:$A,$H87))+INDEX(C:C,$H87)} -> 13603.36 | K87: {=((INDEX(D:D,$H87+1)-INDEX(D:D,$H87))/(INDEX($A:$A,$H87+1)-INDEX($A:$A,$H87)))*($I87-INDEX($A:$A,$H87))+INDEX(D:D,$H87)} -> 15000.84 | L87: {=((INDEX(E:E,$H87+1)-INDEX(E:E,$H87))/(INDEX($A:$A,$H87+1)-INDEX($A:$A,$H87)))*($I87-INDEX($A:$A,$H87))+INDEX(E:E,$H87)} -> 28604.2
E88: =C88+D88 -> 0 | H88: =MATCH(I88,A:A,1) -> 47 | I88: =EDATE(I87,1) -> 44562 | J88: {=((INDEX(C:C,$H88+1)-INDEX(C:C,$H88))/(INDEX($A:$A,$H88+1)-INDEX($A:$A,$H88)))*($I88-INDEX($A:$A,$H88))+INDEX(C:C,$H88)} -> 13744.6 | K88: {=((INDEX(D:D,$H88+1)-INDEX(D:D,$H88))/(INDEX($A:$A,$H88+1)-INDEX($A:$A,$H88)))*($I88-INDEX($A:$A,$H88))+INDEX(D:D,$H88)} -> 15151.257 | L88: {=((INDEX(E:E,$H88+1)-INDEX(E:E,$H88))/(INDEX($A:$A,$H88+1)-INDEX($A:$A,$H88)))*($I88-INDEX($A:$A,$H88))+INDEX(E:E,$H88)} -> 28895.857
E89: =C89+D89 -> 0 | H89: =MATCH(I89,A:A,1) -> 48 | I89: =EDATE(I88,1) -> 44593 | J89: {=((INDEX(C:C,$H89+1)-INDEX(C:C,$H89))/(INDEX($A:$A,$H89+1)-INDEX($A:$A,$H89)))*($I89-INDEX($A:$A,$H89))+INDEX(C:C,$H89)} -> 13874.211 | K89: {=((INDEX(D:D,$H89+1)-INDEX(D:D,$H89))/(INDEX($A:$A,$H89+1)-INDEX($A:$A,$H89)))*($I89-INDEX($A:$A,$H89))+INDEX(D:D,$H89)} -> 15295.526 | L89: {=((INDEX(E:E,$H89+1)-INDEX(E:E,$H89))/(INDEX($A:$A,$H89+1)-INDEX($A:$A,$H89)))*($I89-INDEX($A:$A,$H89))+INDEX(E:E,$H89)} -> 29169.737
E90: =C90+D90 -> 0 | H90: =MATCH(I90,A:A,1) -> 49 | I90: =EDATE(I89,1) -> 44621 | J90: {=((INDEX(C:C,$H90+1)-INDEX(C:C,$H90))/(INDEX($A:$A,$H90+1)-INDEX($A:$A,$H90)))*($I90-INDEX($A:$A,$H90))+INDEX(C:C,$H90)} -> 13994.429 | K90: {=((INDEX(D:D,$H90+1)-INDEX(D:D,$H90))/(INDEX($A:$A,$H90+1)-INDEX($A:$A,$H90)))*($I90-INDEX($A:$A,$H90))+INDEX(D:D,$H90)} -> 15426.286 | L90: {=((INDEX(E:E,$H90+1)-INDEX(E:E,$H90))/(INDEX($A:$A,$H90+1)-INDEX($A:$A,$H90)))*($I90-INDEX($A:$A,$H90))+INDEX(E:E,$H90)} -> 29420.714
E91: =C91+D91 -> 0 | H91: =MATCH(I91,A:A,1) -> 50 | I91: =EDATE(I90,1) -> 44652 | J91: {=((INDEX(C:C,$H91+1)-INDEX(C:C,$H91))/(INDEX($A:$A,$H91+1)-INDEX($A:$A,$H91)))*($I91-INDEX($A:$A,$H91))+INDEX(C:C,$H91)} -> 14125.379 | K91: {=((INDEX(D:D,$H91+1)-INDEX(D:D,$H91))/(INDEX($A:$A,$H91+1)-INDEX($A:$A,$H91)))*($I91-INDEX($A:$A,$H91))+INDEX(D:D,$H91)} -> 15559.172 | L91: {=((INDEX(E:E,$H91+1)-INDEX(E:E,$H91))/(INDEX($A:$A,$H91+1)-INDEX($A:$A,$H91)))*($I91-INDEX($A:$A,$H91))+INDEX(E:E,$H91)} -> 29684.552
E92: =C92+D92 -> 0 | H92: =MATCH(I92,A:A,1) -> 51 | I92: =EDATE(I91,1) -> 44682 | J92: {=((INDEX(C:C,$H92+1)-INDEX(C:C,$H92))/(INDEX($A:$A,$H92+1)-INDEX($A:$A,$H92)))*($I92-INDEX($A:$A,$H92))+INDEX(C:C,$H92)} -> 14226.475 | K92: {=((INDEX(D:D,$H92+1)-INDEX(D:D,$H92))/(INDEX($A:$A,$H92+1)-INDEX($A:$A,$H92)))*($I92-INDEX($A:$A,$H92))+INDEX(D:D,$H92)} -> 15682.034 | L92: {=((INDEX(E:E,$H92+1)-INDEX(E:E,$H92))/(INDEX($A:$A,$H92+1)-INDEX($A:$A,$H92)))*($I92-INDEX($A:$A,$H92))+INDEX(E:E,$H92)} -> 29908.508
E93: =C93+D93 -> 0 | H93: =MATCH(I93,A:A,1) -> 51 | I93: =EDATE(I92,1) -> 44713 | J93: {=((INDEX(C:C,$H93+1)-INDEX(C:C,$H93))/(INDEX($A:$A,$H93+1)-INDEX($A:$A,$H93)))*($I93-INDEX($A:$A,$H93))+INDEX(C:C,$H93)} -> 14325.254 | K93: {=((INDEX(D:D,$H93+1)-INDEX(D:D,$H93))/(INDEX($A:$A,$H93+1)-INDEX($A:$A,$H93)))*($I93-INDEX($A:$A,$H93))+INDEX(D:D,$H93)} -> 15808.661 | L93: {=((INDEX(E:E,$H93+1)-INDEX(E:E,$H93))/(INDEX($A:$A,$H93+1)-INDEX($A:$A,$H93)))*($I93-INDEX($A:$A,$H93))+INDEX(E:E,$H93)} -> 30133.915
E94: =C94+D94 -> 0 | H94: =MATCH(I94,A:A,1) -> 53 | I94: =EDATE(I93,1) -> 44743 | J94: {=((INDEX(C:C,$H94+1)-INDEX(C:C,$H94))/(INDEX($A:$A,$H94+1)-INDEX($A:$A,$H94)))*($I94-INDEX($A:$A,$H94))+INDEX(C:C,$H94)} -> 14427.353 | K94: {=((INDEX(D:D,$H94+1)-INDEX(D:D,$H94))/(INDEX($A:$A,$H94+1)-INDEX($A:$A,$H94)))*($I94-INDEX($A:$A,$H94))+INDEX(D:D,$H94)} -> 15933.912 | L94: {=((INDEX(E:E,$H94+1)-INDEX(E:E,$H94))/(INDEX($A:$A,$H94+1)-INDEX($A:$A,$H94)))*($I94-INDEX($A:$A,$H94))+INDEX(E:E,$H94)} -> 30361.265
E95: =C95+D95 -> 0 | H95: =MATCH(I95,A:A,1) -> 53 | I95: =EDATE(I94,1) -> 44774 | J95: {=((INDEX(C:C,$H95+1)-INDEX(C:C,$H95))/(INDEX($A:$A,$H95+1)-INDEX($A:$A,$H95)))*($I95-INDEX($A:$A,$H95))+INDEX(C:C,$H95)} -> 14522.176 | K95: {=((INDEX(D:D,$H95+1)-INDEX(D:D,$H95))/(INDEX($A:$A,$H95+1)-INDEX($A:$A,$H95)))*($I95-INDEX($A:$A,$H95))+INDEX(D:D,$H95)} -> 16057.456 | L95: {=((INDEX(E:E,$H95+1)-INDEX(E:E,$H95))/(INDEX($A:$A,$H95+1)-INDEX($A:$A,$H95)))*($I95-INDEX($A:$A,$H95))+INDEX(E:E,$H95)} -> 30579.632
... E117: =C117+D117 -> 0 | H117: =MATCH(I117,A:A,1) -> 83 | I117: =EDATE(I116,1) -> 45444 | J117: {=((INDEX(C:C,$H117+1)-INDEX(C:C,$H117))/(INDEX($A:$A,$H117+1)-INDEX($A:$A,$H117)))*($I117-INDEX($A:$A,$H117))+INDEX(C:C,$H117)} -> 17049.378 | K117: {=((INDEX(D:D,$H117+1)-INDEX(D:D,$H117))/(INDEX($A:$A,$H117+1)-INDEX($A:$A,$H117)))*($I117-INDEX($A:$A,$H117))+INDEX(D:D,$H117)} -> 19572.322 | L117: {=((INDEX(E:E,$H117+1)-INDEX(E:E,$H117))/(INDEX($A:$A,$H117+1)-INDEX($A:$A,$H117)))*($I117-INDEX($A:$A,$H117))+INDEX(E:E,$H117)} -> 36621.7
E118: =C118+D118 -> 0
E119: =C119+D119 -> 0
E120: =C120+D120 -> 0
E121: =C121+D121 -> 0
E122: =C122+D122 -> 0
E123: =C123+D123 -> 0
E124: =C124+D124 -> 0
E125: =C125+D125 -> 0
E126: =C126+D126 -> 0
E127: =C127+D127 -> 0
E128: =C128+D128 -> 0
E129: =C129+D129 -> 0
...

Sheet TCD
A3: Étiquettes de lignes | B3: Somme de Index JOUR | C3: Somme de Index NUIT | D3: Somme de Index TOTAL
A4: <01/11/2014
A5: (vide)
A6: 2014 | B6: 9052.9678 | C6: 8443.639 | D6: 17496.607
A7: 2015 | B7: 62850.104 | C7: 60961.118 | D7: 123811.22
A8: 2016 | B8: 76862.834 | C8: 78364.92 | D8: 155227.75
A9: 2017 | B9: 90582.892 | C9: 94851.641 | D9: 185434.53
A10: 2018 | B10: 104591.27 | C10: 111415.07 | D10: 216006.34
A11: 2019 | B11: 120373.82 | C11: 129685.45 | D11: 250059.26
A12: 2020 | B12: 138470.13 | C12: 150929.5 | D12: 289399.63
A13: 2021 | B13: 156421.67 | C13: 172081.82 | D13: 328503.49
A14: 2022 | B14: 172337.48 | C14: 190382.62 | D14: 362720.1
A15: 2023 | B15: 188788.86 | C15: 209588.03 | D15: 398376.89
A16: 2024 | B16: 100832.8 | C16: 114706.59 | D16: 215539.4
A17: janv | B17: 16500.2 | C17: 18563.8 | D17: 35064
... A23: Total général | B23: 1221164.8 | C23: 1321410.4 | D23: 2542575.2

Sheet ELEC - Stats
A1: Electricité JOUR | B1: 2015 | C1: 2016 | D1: 2017 | E1: 2018 | F1: 2019 | G1: 2020 | H1: 2021 | I1: 2022 | J1: 2023 | K1: 2024
A2: Janvier | B2: =IFERROR(INDEX('ELEC - Relevés'!$J:$J,MATCH(DATEVALUE(1&$A2&B$1),'ELEC - Relevés'!$I:$I,0)),"") -> 4686.5862 | C2: =IFERROR(INDEX('ELEC - Relevés'!$J:$J,MATCH(DATEVALUE(1&$A2&C$1),'ELEC - Relevés'!$I:$I,0)),"") -> 5865.0455 | D2: =IFERROR(INDEX('ELEC - Relevés'!$J:$J,MATCH(DATEVALUE(1&$A2&D$1),'ELEC - Relevés'!$I:$I,0)),"") -> 7039.1842 | E2: =IFERROR(INDEX('ELEC - Relevés'!$J:$J,MATCH(DATEVALUE(1&$A2&E$1),'ELEC - Relevés'!$I:$I,0)),"") -> 8168.1622 | F2: =IFERROR(INDEX('ELEC - Relevés'!$J:$J,MATCH(DATEVALUE(1&$A2&F$1),'ELEC - Relevés'!$I:$I,0)),"") -> 9418.381 | G2: =IFERROR(INDEX('ELEC - Relevés'!$J:$J,MATCH(DATEVALUE(1&$A2&G$1),'ELEC - Relevés'!$I:$I,0)),"") -> 10794.917 | H2: =IFERROR(INDEX('ELEC - Relevés'!$J:$J,MATCH(DATEVALUE(1&$A2&H$1),'ELEC - Relevés'!$I:$I,0)),"") -> 12429 | I2: =IFERROR(INDEX('ELEC - Relevés'!$J:$J,MATCH(DATEVALUE(1&$A2&I$1),'ELEC - Relevés'!$I:$I,0)),"") -> 13744.6 | ... K2: =IFERROR(INDEX('ELEC - Relevés'!$J:$J,MATCH(DATEVALUE(1&$A2&K$1),'ELEC - Relevés'!$I:$I,0)),"") -> 16500.2
A3: Février | B3: =IFERROR(INDEX('ELEC - Relevés'!$J:$J,MATCH(DATEVALUE(1&$A3&B$1),'ELEC - Relevés'!$I:$I,0)),"") -> 4798.8276 | C3: =IFERROR(INDEX('ELEC - Relevés'!$J:$J,MATCH(DATEVALUE(1&$A3&C$1),'ELEC - Relevés'!$I:$I,0)),"") -> 5988.6667 | D3: =IFERROR(INDEX('ELEC - Relevés'!$J:$J,MATCH(DATEVALUE(1&$A3&D$1),'ELEC - Relevés'!$I:$I,0)),"") -> 7162.3333 | E3: =IFERROR(INDEX('ELEC - Relevés'!$J:$J,MATCH(DATEVALUE(1&$A3&E$1),'ELEC - Relevés'!$I:$I,0)),"") -> 8299.2444 | F3: =IFERROR(INDEX('ELEC - Relevés'!$J:$J,MATCH(DATEVALUE(1&$A3&F$1),'ELEC - Relevés'!$I:$I,0)),"") -> 9547.6143 | G3: =IFERROR(INDEX('ELEC - Relevés'!$J:$J,MATCH(DATEVALUE(1&$A3&G$1),'ELEC - Relevés'!$I:$I,0)),"") -> 10935.184 | H3: =IFERROR(INDEX('ELEC - Relevés'!$J:$J,MATCH(DATEVALUE(1&$A3&H$1),'ELEC - Relevés'!$I:$I,0)),"") -> 12564.15 | I3: =IFERROR(INDEX('ELEC - Relevés'!$J:$J,MATCH(DATEVALUE(1&$A3&I$1),'ELEC - Relevés'!$I:$I,0)),"") -> 13874.211 | ... K3: =IFERROR(INDEX('ELEC - Relevés'!$J:$J,MATCH(DATEVALUE(1&$A3&K$1),'ELEC - Relevés'!$I:$I,0)),"") -> 16642.913
A4: Mars | B4: =IFERROR(INDEX('ELEC - Relevés'!$J:$J,MATCH(DATEVALUE(1&$A4&B$1),'ELEC - Relevés'!$I:$I,0)),"") -> 4900.2069 | C4: =IFERROR(INDEX('ELEC - Relevés'!$J:$J,MATCH(DATEVALUE(1&$A4&C$1),'ELEC - Relevés'!$I:$I,0)),"") -> 6085.1429 | D4: =IFERROR(INDEX('ELEC - Relevés'!$J:$J,MATCH(DATEVALUE(1&$A4&D$1),'ELEC - Relevés'!$I:$I,0)),"") -> 7261 | E4: =IFERROR(INDEX('ELEC - Relevés'!$J:$J,MATCH(DATEVALUE(1&$A4&E$1),'ELEC - Relevés'!$I:$I,0)),"") -> 8383.8667 | F4: =IFERROR(INDEX('ELEC - Relevés'!$J:$J,MATCH(DATEVALUE(1&$A4&F$1),'ELEC - Relevés'!$I:$I,0)),"") -> 9664.0143 | G4: =IFERROR(INDEX('ELEC - Relevés'!$J:$J,MATCH(DATEVALUE(1&$A4&G$1),'ELEC - Relevés'!$I:$I,0)),"") -> 11063.713 | H4: =IFERROR(INDEX('ELEC - Relevés'!$J:$J,MATCH(DATEVALUE(1&$A4&H$1),'ELEC - Relevés'!$I:$I,0)),"") -> 12667.098 | I4: =IFERROR(INDEX('ELEC - Relevés'!$J:$J,MATCH(DATEVALUE(1&$A4&I$1),'ELEC - Relevés'!$I:$I,0)),"") -> 13994.429 | ... K4: =IFERROR(INDEX('ELEC - Relevés'!$J:$J,MATCH(DATEVALUE(1&$A4&K$1),'ELEC - Relevés'!$I:$I,0)),"") -> 16759.621
A5: Avril | B5: =IFERROR(INDEX('ELEC - Relevés'!$J:$J,MATCH(DATEVALUE(1&$A5&B$1),'ELEC - Relevés'!$I:$I,0)),"") -> 5017.9091 | C5: =IFERROR(INDEX('ELEC - Relevés'!$J:$J,MATCH(DATEVALUE(1&$A5&C$1),'ELEC - Relevés'!$I:$I,0)),"") -> 6182.2222 | D5: =IFERROR(INDEX('ELEC - Relevés'!$J:$J,MATCH(DATEVALUE(1&$A5&D$1),'ELEC - Relevés'!$I:$I,0)),"") -> 7364.5455 | E5: =IFERROR(INDEX('ELEC - Relevés'!$J:$J,MATCH(DATEVALUE(1&$A5&E$1),'ELEC - Relevés'!$I:$I,0)),"") -> 8477.5556 | F5: =IFERROR(INDEX('ELEC - Relevés'!$J:$J,MATCH(DATEVALUE(1&$A5&F$1),'ELEC - Relevés'!$I:$I,0)),"") -> 9781.8037 | G5: =IFERROR(INDEX('ELEC - Relevés'!$J:$J,MATCH(DATEVALUE(1&$A5&G$1),'ELEC - Relevés'!$I:$I,0)),"") -> 11201.106 | H5: =IFERROR(INDEX('ELEC - Relevés'!$J:$J,MATCH(DATEVALUE(1&$A5&H$1),'ELEC - Relevés'!$I:$I,0)),"") -> 12781.075 | I5: =IFERROR(INDEX('ELEC - Relevés'!$J:$J,MATCH(DATEVALUE(1&$A5&I$1),'ELEC - Relevés'!$I:$I,0)),"") -> 14125.379 | ... K5: =IFERROR(INDEX('ELEC - Relevés'!$J:$J,MATCH(DATEVALUE(1&$A5&K$1),'ELEC - Relevés'!$I:$I,0)),"") -> 16884.417
A6: Mai | B6: =IFERROR(INDEX('ELEC - Relevés'!$J:$J,MATCH(DATEVALUE(1&$A6&B$1),'ELEC - Relevés'!$I:$I,0)),"") -> 5119.8125 | C6: =IFERROR(INDEX('ELEC - Relevés'!$J:$J,MATCH(DATEVALUE(1&$A6&C$1),'ELEC - Relevés'!$I:$I,0)),"") -> 6275.5556 | D6: =IFERROR(INDEX('ELEC - Relevés'!$J:$J,MATCH(DATEVALUE(1&$A6&D$1),'ELEC - Relevés'!$I:$I,0)),"") -> 7453.1818 | E6: =IFERROR(INDEX('ELEC - Relevés'!$J:$J,MATCH(DATEVALUE(1&$A6&E$1),'ELEC - Relevés'!$I:$I,0)),"") -> 8568.2222 | F6: =IFERROR(INDEX('ELEC - Relevés'!$J:$J,MATCH(DATEVALUE(1&$A6&F$1),'ELEC - Relevés'!$I:$I,0)),"") -> 9878.8131 | G6: =IFERROR(INDEX('ELEC - Relevés'!$J:$J,MATCH(DATEVALUE(1&$A6&G$1),'ELEC - Relevés'!$I:$I,0)),"") -> 11334.066 | H6: =IFERROR(INDEX('ELEC - Relevés'!$J:$J,MATCH(DATEVALUE(1&$A6&H$1),'ELEC - Relevés'!$I:$I,0)),"") -> 12891.376 | I6: =IFERROR(INDEX('ELEC - Relevés'!$J:$J,MATCH(DATEVALUE(1&$A6&I$1),'ELEC - Relevés'!$I:$I,0)),"") -> 14226.475 | ... K6: =IFERROR(INDEX('ELEC - Relevés'!$J:$J,MATCH(DATEVALUE(1&$A6&K$1),'ELEC - Relevés'!$I:$I,0)),"") -> 16996.273
A7: Juin | B7: =IFERROR(INDEX('ELEC - Relevés'!$J:$J,MATCH(DATEVALUE(1&$A7&B$1),'ELEC - Relevés'!$I:$I,0)),"") -> 5203.375 | C7: =IFERROR(INDEX('ELEC - Relevés'!$J:$J,MATCH(DATEVALUE(1&$A7&C$1),'ELEC - Relevés'!$I:$I,0)),"") -> 6373.4231 | D7: =IFERROR(INDEX('ELEC - Relevés'!$J:$J,MATCH(DATEVALUE(1&$A7&D$1),'ELEC - Relevés'!$I:$I,0)),"") -> 7541.3333 | E7: =IFERROR(INDEX('ELEC - Relevés'!$J:$J,MATCH(DATEVALUE(1&$A7&E$1),'ELEC - Relevés'!$I:$I,0)),"") -> 8661.9111 | F7: =IFERROR(INDEX('ELEC - Relevés'!$J:$J,MATCH(DATEVALUE(1&$A7&F$1),'ELEC - Relevés'!$I:$I,0)),"") -> 9979.0561 | G7: =IFERROR(INDEX('ELEC - Relevés'!$J:$J,MATCH(DATEVALUE(1&$A7&G$1),'ELEC - Relevés'!$I:$I,0)),"") -> 11471.459 | H7: =IFERROR(INDEX('ELEC - Relevés'!$J:$J,MATCH(DATEVALUE(1&$A7&H$1),'ELEC - Relevés'!$I:$I,0)),"") -> 13004.341 | I7: =IFERROR(INDEX('ELEC - Relevés'!$J:$J,MATCH(DATEVALUE(1&$A7&I$1),'ELEC - Relevés'!$I:$I,0)),"") -> 14325.254 | ... K7: =IFERROR(INDEX('ELEC - Relevés'!$J:$J,MATCH(DATEVALUE(1&$A7&K$1),'ELEC - Relevés'!$I:$I,0)),"") -> 17049.378
A8: Juillet | B8: =IFERROR(INDEX('ELEC - Relevés'!$J:$J,MATCH(DATEVALUE(1&$A8&B$1),'ELEC - Relevés'!$I:$I,0)),"") -> 5284.2727 | C8: =IFERROR(INDEX('ELEC - Relevés'!$J:$J,MATCH(DATEVALUE(1&$A8&C$1),'ELEC - Relevés'!$I:$I,0)),"") -> 6464.9153 | D8: =IFERROR(INDEX('ELEC - Relevés'!$J:$J,MATCH(DATEVALUE(1&$A8&D$1),'ELEC - Relevés'!$I:$I,0)),"") -> 7609.3333 | E8: =IFERROR(INDEX('ELEC - Relevés'!$J:$J,MATCH(DATEVALUE(1&$A8&E$1),'ELEC - Relevés'!$I:$I,0)),"") -> 8752.5778 | F8: =IFERROR(INDEX('ELEC - Relevés'!$J:$J,MATCH(DATEVALUE(1&$A8&F$1),'ELEC - Relevés'!$I:$I,0)),"") -> 10076.065 | G8: =IFERROR(INDEX('ELEC - Relevés'!$J:$J,MATCH(DATEVALUE(1&$A8&G$1),'ELEC - Relevés'!$I:$I,0)),"") -> 11604.42 | H8: =IFERROR(INDEX('ELEC - Relevés'!$J:$J,MATCH(DATEVALUE(1&$A8&H$1),'ELEC - Relevés'!$I:$I,0)),"") -> 13099.457 | I8: =IFERROR(INDEX('ELEC - Relevés'!$J:$J,MATCH(DATEVALUE(1&$A8&I$1),'ELEC - Relevés'!$I:$I,0)),"") -> 14427.353 | ... K8: =IFERROR(INDEX('ELEC - Relevés'!$J:$J,MATCH(DATEVALUE(1&$A8&K$1),'ELEC - Relevés'!$I:$I,0)),"")
A9: Août | B9: =IFERROR(INDEX('ELEC - Relevés'!$J:$J,MATCH(DATEVALUE(1&$A9&B$1),'ELEC - Relevés'!$I:$I,0)),"") -> 5379.1818 | C9: =IFERROR(INDEX('ELEC - Relevés'!$J:$J,MATCH(DATEVALUE(1&$A9&C$1),'ELEC - Relevés'!$I:$I,0)),"") -> 6550.5593 | D9: =IFERROR(INDEX('ELEC - Relevés'!$J:$J,MATCH(DATEVALUE(1&$A9&D$1),'ELEC - Relevés'!$I:$I,0)),"") -> 7679.6 | E9: =IFERROR(INDEX('ELEC - Relevés'!$J:$J,MATCH(DATEVALUE(1&$A9&E$1),'ELEC - Relevés'!$I:$I,0)),"") -> 8846.2667 | F9: =IFERROR(INDEX('ELEC - Relevés'!$J:$J,MATCH(DATEVALUE(1&$A9&F$1),'ELEC - Relevés'!$I:$I,0)),"") -> 10181.534 | G9: =IFERROR(INDEX('ELEC - Relevés'!$J:$J,MATCH(DATEVALUE(1&$A9&G$1),'ELEC - Relevés'!$I:$I,0)),"") -> 11741.813 | H9: =IFERROR(INDEX('ELEC - Relevés'!$J:$J,MATCH(DATEVALUE(1&$A9&H$1),'ELEC - Relevés'!$I:$I,0)),"") -> 13197.744 | I9: =IFERROR(INDEX('ELEC - Relevés'!$J:$J,MATCH(DATEVALUE(1&$A9&I$1),'ELEC - Relevés'!$I:$I,0)),"") -> 14522.176 | ... K9: =IFERROR(INDEX('ELEC - Relevés'!$J:$J,MATCH(DATEVALUE(1&$A9&K$1),'ELEC - Relevés'!$I:$I,0)),"")
A10: Septembre | B10: =IFERROR(INDEX('ELEC - Relevés'!$J:$J,MATCH(DATEVALUE(1&$A10&B$1),'ELEC - Relevés'!$I:$I,0)),"") -> 5476.425 | C10: =IFERROR(INDEX('ELEC - Relevés'!$J:$J,MATCH(DATEVALUE(1&$A10&C$1),'ELEC - Relevés'!$I:$I,0)),"") -> 6635.0222 | D10: =IFERROR(INDEX('ELEC - Relevés'!$J:$J,MATCH(DATEVALUE(1&$A10&D$1),'ELEC - Relevés'!$I:$I,0)),"") -> 7749.8667 | E10: =IFERROR(INDEX('ELEC - Relevés'!$J:$J,MATCH(DATEVALUE(1&$A10&E$1),'ELEC - Relevés'!$I:$I,0)),"") -> 8939.9556 | F10: =IFERROR(INDEX('ELEC - Relevés'!$J:$J,MATCH(DATEVALUE(1&$A10&F$1),'ELEC - Relevés'!$I:$I,0)),"") -> 10287.777 | G10: =IFERROR(INDEX('ELEC - Relevés'!$J:$J,MATCH(DATEVALUE(1&$A10&G$1),'ELEC - Relevés'!$I:$I,0)),"") -> 11879.205 | H10: =IFERROR(INDEX('ELEC - Relevés'!$J:$J,MATCH(DATEVALUE(1&$A10&H$1),'ELEC - Relevés'!$I:$I,0)),"") -> 13296.031 | I10: =IFERROR(INDEX('ELEC - Relevés'!$J:$J,MATCH(DATEVALUE(1&$A10&I$1),'ELEC - Relevés'!$I:$I,0)),"") -> 14617 | ... K10: =IFERROR(INDEX('ELEC - Relevés'!$J:$J,MATCH(DATEVALUE(1&$A10&K$1),'ELEC - Relevés'!$I:$I,0)),"")
A11: Octobre | B11: =IFERROR(INDEX('ELEC - Relevés'!$J:$J,MATCH(DATEVALUE(1&$A11&B$1),'ELEC - Relevés'!$I:$I,0)),"") -> 5569.3333 | C11: =IFERROR(INDEX('ELEC - Relevés'!$J:$J,MATCH(DATEVALUE(1&$A11&C$1),'ELEC - Relevés'!$I:$I,0)),"") -> 6716.1081 | D11: =IFERROR(INDEX('ELEC - Relevés'!$J:$J,MATCH(DATEVALUE(1&$A11&D$1),'ELEC - Relevés'!$I:$I,0)),"") -> 7817.8667 | E11: =IFERROR(INDEX('ELEC - Relevés'!$J:$J,MATCH(DATEVALUE(1&$A11&E$1),'ELEC - Relevés'!$I:$I,0)),"") -> 9043.3636 | F11: =IFERROR(INDEX('ELEC - Relevés'!$J:$J,MATCH(DATEVALUE(1&$A11&F$1),'ELEC - Relevés'!$I:$I,0)),"") -> 10390.592 | G11: =IFERROR(INDEX('ELEC - Relevés'!$J:$J,MATCH(DATEVALUE(1&$A11&G$1),'ELEC - Relevés'!$I:$I,0)),"") -> 12012.166 | H11: =IFERROR(INDEX('ELEC - Relevés'!$J:$J,MATCH(DATEVALUE(1&$A11&H$1),'ELEC - Relevés'!$I:$I,0)),"") -> 13391.147 | I11: =IFERROR(INDEX('ELEC - Relevés'!$J:$J,MATCH(DATEVALUE(1&$A11&I$1),'ELEC - Relevés'!$I:$I,0)),"") -> 14708.438 | ... K11: =IFERROR(INDEX('ELEC - Relevés'!$J:$J,MATCH(DATEVALUE(1&$A11&K$1),'ELEC - Relevés'!$I:$I,0)),"")
A12: Novembre | B12: =IFERROR(INDEX('ELEC - Relevés'!$J:$J,MATCH(DATEVALUE(1&$A12&B$1),'ELEC - Relevés'!$I:$I,0)),"") -> 5665 | C12: =IFERROR(INDEX('ELEC - Relevés'!$J:$J,MATCH(DATEVALUE(1&$A12&C$1),'ELEC - Relevés'!$I:$I,0)),"") -> 6812.4595 | D12: =IFERROR(INDEX('ELEC - Relevés'!$J:$J,MATCH(DATEVALUE(1&$A12&D$1),'ELEC - Relevés'!$I:$I,0)),"") -> 7888.1333 | E12: =IFERROR(INDEX('ELEC - Relevés'!$J:$J,MATCH(DATEVALUE(1&$A12&E$1),'ELEC - Relevés'!$I:$I,0)),"") -> 9162.0357 | F12: =IFERROR(INDEX('ELEC - Relevés'!$J:$J,MATCH(DATEVALUE(1&$A12&F$1),'ELEC - Relevés'!$I:$I,0)),"") -> 10515.333 | G12: =IFERROR(INDEX('ELEC - Relevés'!$J:$J,MATCH(DATEVALUE(1&$A12&G$1),'ELEC - Relevés'!$I:$I,0)),"") -> 12149.559 | H12: =IFERROR(INDEX('ELEC - Relevés'!$J:$J,MATCH(DATEVALUE(1&$A12&H$1),'ELEC - Relevés'!$I:$I,0)),"") -> 13496.894 | I12: =IFERROR(INDEX('ELEC - Relevés'!$J:$J,MATCH(DATEVALUE(1&$A12&I$1),'ELEC - Relevés'!$I:$I,0)),"") -> 14823.532 | ... K12: =IFERROR(INDEX('ELEC - Relevés'!$J:$J,MATCH(DATEVALUE(1&$A12&K$1),'ELEC - Relevés'!$I:$I,0)),"")
A13: Décembre | B13: =IFERROR(INDEX('ELEC - Relevés'!$J:$J,MATCH(DATEVALUE(1&$A13&B$1),'ELEC - Relevés'!$I:$I,0)),"") -> 5749.1739 | C13: =IFERROR(INDEX('ELEC - Relevés'!$J:$J,MATCH(DATEVALUE(1&$A13&C$1),'ELEC - Relevés'!$I:$I,0)),"") -> 6913.7143 | D13: =IFERROR(INDEX('ELEC - Relevés'!$J:$J,MATCH(DATEVALUE(1&$A13&D$1),'ELEC - Relevés'!$I:$I,0)),"") -> 8016.5135 | E13: =IFERROR(INDEX('ELEC - Relevés'!$J:$J,MATCH(DATEVALUE(1&$A13&E$1),'ELEC - Relevés'!$I:$I,0)),"") -> 9288.1071 | F13: =IFERROR(INDEX('ELEC - Relevés'!$J:$J,MATCH(DATEVALUE(1&$A13&F$1),'ELEC - Relevés'!$I:$I,0)),"") -> 10652.833 | G13: =IFERROR(INDEX('ELEC - Relevés'!$J:$J,MATCH(DATEVALUE(1&$A13&G$1),'ELEC - Relevés'!$I:$I,0)),"") -> 12282.52 | H13: =IFERROR(INDEX('ELEC - Relevés'!$J:$J,MATCH(DATEVALUE(1&$A13&H$1),'ELEC - Relevés'!$I:$I,0)),"") -> 13603.36 | I13: =IFERROR(INDEX('ELEC - Relevés'!$J:$J,MATCH(DATEVALUE(1&$A13&I$1),'ELEC - Relevés'!$I:$I,0)),"") -> 14948.638 | ... K13: =IFERROR(INDEX('ELEC - Relevés'!$J:$J,MATCH(DATEVALUE(1&$A13&K$1),'ELEC - Relevés'!$I:$I,0)),"")
A14: Total année | B14: =SUM(B2:B13) -> 62850.104 | C14: =SUM(C2:C13) -> 76862.834 | D14: =SUM(D2:D13) -> 90582.892 | E14: =SUM(E2:E13) -> 104591.27 | F14: =SUM(F2:F13) -> 120373.82 | G14: =SUM(G2:G13) -> 138470.13 | H14: =SUM(H2:H13) -> 156421.67 | I14: =SUM(I2:I13) -> 172337.48 | ... K14: =SUM(K2:K13) -> 100832.8
A16: Electricité NUIT | B16: 2015 | C16: 2016 | D16: 2017 | E16: 2018 | F16: 2019 | G16: 2020 | H16: 2021 | I16: 2022 | J16: 2023 | K16: 2024
A17: Janvier
A18: Février
A19: Mars
A20: Avril
A21: Mai
A22: Juin
A23: Juillet
A24: Août
A25: Septembre
A26: Octobre
A27: Novembre
A28: Décembre
A29: Total année | B29: =SUM(B17:B28) -> 0 | C29: =SUM(C17:C28) -> 0 | D29: =SUM(D17:D28) -> 0 | E29: =SUM(E17:E28) -> 0 | F29: =SUM(F17:F28) -> 0 | G29: =SUM(G17:G28) -> 0 | H29: =SUM(H17:H28) -> 0 | I29: =SUM(I17:I28) -> 0 | ... K29: =SUM(K17:K28) -> 0
A31: Electricité TOTAL | B31: 2015 | C31: 2016 | D31: 2017 | E31: 2018 | F31: 2019 | G31: 2020 | H31: 2021 | I31: 2022 | J31: 2023 | K31: 2024
A32: Janvier
A33: Février
A34: Mars
A35: Avril
A36: Mai
A37: Juin
A38: Juillet
A39: Août
A40: Septembre
A41: Octobre
A42: Novembre
...
