Workbook

Sheet Donnees
A1: Code 1 | B1: Code 2 | C1: Resultats à rentrer manuellement et qui sera modifié | F1: Code 1 | G1: Code 2 | H1: Resultats à rentrer manuellement et qui sera modifié
A2: A | B2: 1 | C2: 100 | F2: D | G2: 1 | H2: 700 | L2: 100
A3: B | B3: 1 | C3: 200 | F3: E | G3: 1 | H3: 800 | L3: 200
A4: C | B4: 1 | C4: 300 | L4: 300
A5: A | B5: 2 | C5: 400 | L5: 400
A6: B | B6: 2 | C6: 500 | L6: 500
A7: C | B7: 2 | C7: 600 | L7: 600
A9: Je souhaite modifier les données en les remplaçants par de nouveaux codes et résultats.
A10: Par exemple en mettant D et 1 ou E et 1 (voir feuille Resultats)

Sheet Resultats
A1: Code 1 | B1: Code 2 | C1: Resultats à rentrer manuellement et qui sera modifié | E1: TRUE
A2: B | B2: 1 | C2: {=IF($E$1,C2,IF(ISBLANK(Donnees!$C2),"",INDEX(Donnees!$C$2:$C$100,MATCH(1,(Donnees!$A$2:$A$100=$A2)*(Donnees!$B$2:$B$100=$B2),0),1)))} -> 200
A3: C | B3: 2 | C3: {=IF($E$1,C3,IF(ISBLANK(Donnees!$C3),"",INDEX(Donnees!$C$2:$C$100,MATCH(1,(Donnees!$A$2:$A$100=$A3)*(Donnees!$B$2:$B$100=$B3),0),1)))} -> 600
A4: C | B4: 1 | C4: {=IF($E$1,C4,IF(ISBLANK(Donnees!$C4),"",INDEX(Donnees!$C$2:$C$100,MATCH(1,(Donnees!$A$2:$A$100=$A4)*(Donnees!$B$2:$B$100=$B4),0),1)))} -> 300 | E4: Activer le calcul itératif avec 1
A5: A | B5: 2 | C5: {=IF($E$1,C5,IF(ISBLANK(Donnees!$C5),"",INDEX(Donnees!$C$2:$C$100,MATCH(1,(Donnees!$A$2:$A$100=$A5)*(Donnees!$B$2:$B$100=$B5),0),1)))} -> 400
A6: A | B6: 1 | C6: {=IF($E$1,C6,IF(ISBLANK(Donnees!$C6),"",INDEX(Donnees!$C$2:$C$100,MATCH(1,(Donnees!$A$2:$A$100=$A6)*(Donnees!$B$2:$B$100=$B6),0),1)))} -> 100
A7: B | B7: 2 | C7: {=IF($E$1,C7,IF(ISBLANK(Donnees!$C7),"",INDEX(Donnees!$C$2:$C$100,MATCH(1,(Donnees!$A$2:$A$100=$A7)*(Donnees!$B$2:$B$100=$B7),0),1)))} -> 500
A8: D | B8: 1 | C8: {=IF($E$1,C8,IF(ISBLANK(Donnees!$C8),"",INDEX(Donnees!$C$2:$C$100,MATCH(1,(Donnees!$A$2:$A$100=$A8)*(Donnees!$B$2:$B$100=$B8),0),1)))}
A9: E | B9: 1 | C9: {=IF($E$1,C9,IF(ISBLANK(Donnees!$C9),"",INDEX(Donnees!$C$2:$C$100,MATCH(1,(Donnees!$A$2:$A$100=$A9)*(Donnees!$B$2:$B$100=$B9),0),1)))}
C10: {=IF($E$1,C10,IF(ISBLANK(Donnees!$C10),"",INDEX(Donnees!$C$2:$C$100,MATCH(1,(Donnees!$A$2:$A$100=$A10)*(Donnees!$B$2:$B$100=$B10),0),1)))}
C11: {=IF($E$1,C11,IF(ISBLANK(Donnees!$C11),"",INDEX(Donnees!$C$2:$C$100,MATCH(1,(Donnees!$A$2:$A$100=$A11)*(Donnees!$B$2:$B$100=$B11),0),1)))}
C12: {=IF($E$1,C12,IF(ISBLANK(Donnees!$C12),"",INDEX(Donnees!$C$2:$C$100,MATCH(1,(Donnees!$A$2:$A$100=$A12)*(Donnees!$B$2:$B$100=$B12),0),1)))}
C13: {=IF($E$1,C13,IF(ISBLANK(Donnees!$C13),"",INDEX(Donnees!$C$2:$C$100,MATCH(1,(Donnees!$A$2:$A$100=$A13)*(Donnees!$B$2:$B$100=$B13),0),1)))}
C14: {=IF($E$1,C14,IF(ISBLANK(Donnees!$C14),"",INDEX(Donnees!$C$2:$C$100,MATCH(1,(Donnees!$A$2:$A$100=$A14)*(Donnees!$B$2:$B$100=$B14),0),1)))}
C15: {=IF($E$1,C15,IF(ISBLANK(Donnees!$C15),"",INDEX(Donnees!$C$2:$C$100,MATCH(1,(Donnees!$A$2:$A$100=$A15)*(Donnees!$B$2:$B$100=$B15),0),1)))}
C16: {=IF($E$1,C16,IF(ISBLANK(Donnees!$C16),"",INDEX(Donnees!$C$2:$C$100,MATCH(1,(Donnees!$A$2:$A$100=$A16)*(Donnees!$B$2:$B$100=$B16),0),1)))}
C17: {=IF($E$1,C17,IF(ISBLANK(Donnees!$C17),"",INDEX(Donnees!$C$2:$C$100,MATCH(1,(Donnees!$A$2:$A$100=$A17)*(Donnees!$B$2:$B$100=$B17),0),1)))}
C18: {=IF($E$1,C18,IF(ISBLANK(Donnees!$C18),"",INDEX(Donnees!$C$2:$C$100,MATCH(1,(Donnees!$A$2:$A$100=$A18)*(Donnees!$B$2:$B$100=$B18),0),1)))}
C19: {=IF($E$1,C19,IF(ISBLANK(Donnees!$C19),"",INDEX(Donnees!$C$2:$C$100,MATCH(1,(Donnees!$A$2:$A$100=$A19)*(Donnees!$B$2:$B$100=$B19),0),1)))}
C20: {=IF($E$1,C20,IF(ISBLANK(Donnees!$C20),"",INDEX(Donnees!$C$2:$C$100,MATCH(1,(Donnees!$A$2:$A$100=$A20)*(Donnees!$B$2:$B$100=$B20),0),1)))}
C21: {=IF($E$1,C21,IF(ISBLANK(Donnees!$C21),"",INDEX(Donnees!$C$2:$C$100,MATCH(1,(Donnees!$A$2:$A$100=$A21)*(Donnees!$B$2:$B$100=$B21),0),1)))}
... C100: {=IF($E$1,C100,IF(ISBLANK(Donnees!$C100),"",INDEX(Donnees!$C$2:$C$100,MATCH(1,(Donnees!$A$2:$A$100=$A100)*(Donnees!$B$2:$B$100=$B100),0),1)))}
