Workbook
Name _fin1: #REF!
Name _fin2: #REF!
Name An: #REF!
Name Année: #REF!
Name Base: #REF!
Name CaPrévu: #REF!
Name champ: #REF!
Name datePaiement: #REF!
Name DatesFetesSouhaiter: #REF!
Name DatesMois: #REF!
Name debut_exp: #REF!
Name Début1: #REF!
Name début2: #REF!
Name férié: DÉCEMBRE!$AU$9:$AU$19
Name férié: #REF!
Name fériés: #REF!
Name fin_exp: #REF!
Name HAUTEUR: #REF!
Name JourFete: #REF!
Name longueur: #REF!
Name Maliste: #REF!
Name MoisFete: #REF!
Name prénom: #REF!
Name prévu: #REF!
Name prix: #REF!
Name type1: #REF!
Name type2: #REF!
Name valeur: #REF!

Sheet ANNÉE
A1: 2014
A2: 2015 | B2: 2020 | D2: =SUM(B2+1) -> 2021
A3: 2016
A4: 2017
A5: 2018
A6: 2019
A7: 2020
A8: 2021
A9: 2022
A10: 2023
A11: 2024
A12: 2025
A13: 2026
A14: 2027
... A37: 2050

Sheet DÉCEMBRE
A1: 2020 | B1: =SUM(ANNÉE!B2) -> 2020 | C1: ="PLANNING DES VACANCES DE NOËL "&A1 -> PLANNING DES VACANCES DE NOËL 2020 | AP1: OK | AU1: Pâques
B2: =SUM(ANNÉE!D2) -> 2021
B4: =DATE($B$2,1,1) -> 44197
AU5: =ROUND(DATE(B1,4,MOD(234-11*MOD(B1,19),30))/7,0)*7-6 -> 43933
C6: 1 | D6: 2 | E6: 3 | F6: 4 | G6: 5 | H6: 6 | I6: 7 | J6: 8 | K6: 9 | L6: 10 | M6: 11 | N6: 12 | O6: 13 | P6: 14 | Q6: 15 | R6: =DATE(A1,12,25)-(WEEKDAY(DATE(A1,12,25),2)+1) -> 44184 | S6: =R6+1 -> 44185 | T6: =S6+1 -> 44186 | U6: =T6+1 -> 44187 | V6: =U6+1 -> 44188 | W6: =V6+1 -> 44189 | X6: =W6+1 -> 44190 | Y6: =X6+1 -> 44191 | Z6: =Y6+1 -> 44192 | ... AN6: =AM6+1 -> 44206
C7: =DATE($B$1,12,1) -> 44166 | D7: =SUM(C7+1) -> 44167 | E7: =SUM(D7+1) -> 44168 | F7: =SUM(E7+1) -> 44169 | G7: =SUM(F7+1) -> 44170 | H7: =SUM(G7+1) -> 44171 | I7: =SUM(H7+1) -> 44172 | J7: =SUM(I7+1) -> 44173 | K7: =SUM(J7+1) -> 44174 | ... Q7: =SUM(P7+1) -> 44180 | R7: sam | S7: dim | T7: lun | U7: mar | V7: mer | W7: jeu | X7: ven | Y7: sam | Z7: dim | AA7: lun | AB7: mar | AC7: mer | AD7: jeu | AE7: ven | AF7: sam | AG7: dim | AH7: lun | AI7: mar | AJ7: mer | AK7: jeu | AL7: ven | AM7: sam | AN7: dim
A8: =agznts!A4 -> AA | B8: =DATE($B$1,12,1) -> 44166 | AP8: OK | AU8: Jours fériés | AW8: REPOS
B9: =DATE($B$1,12,1) -> 44166 | AU9: =DATE(B2,1,1) -> 44197
A10: =agznts!A5 -> BB | B10: =DATE($B$1,12,1) -> 44166 | AP10: OK | AU10: =DATE(B1,5,1) -> 43952 | AW10: WE
B11: =DATE($B$1,12,1) -> 44166 | AU11: =DATE(B1,5,8) -> 43959
A12: =agznts!A6 -> CC | B12: =DATE($B$1,12,1) -> 44166 | V12: ? | W12: ? | AU12: =DATE(B1,7,14) -> 44026
B13: =DATE($B$1,12,1) -> 44166 | AU13: =DATE(B1,8,15) -> 44058
A14: =agznts!A7 -> DD | B14: =DATE($B$1,12,1) -> 44166 | S14: =IF(COUNTIF(R14,"*WE*"),"WE","") | T14: =IF(COUNTIF(S14,"*WE*"),"REPOS","") | V14: =IF(COUNTIF(R22,"*WE*"),"REPOS","") | W14: =IF(COUNTIF(R22,"*WE*"),"REPOS","") | Y14: =IF(COUNTIF(R22,"*WE*"),"WE","") | Z14: =IF(COUNTIF(Y14,"*WE*"),"WE","") | AA14: =IF(COUNTIF(Y14,"*WE*"),"REPOS","") | AC14: =IF(COUNTIF(R18,"*WE*"),"REPOS","") -> REPOS | AD14: =IF(COUNTIF(R18,"*WE*"),"REPOS","") -> REPOS | AF14: =IF(COUNTIF(R18,"*WE*"),"WE","") -> WE | AG14: =IF(COUNTIF(AF14,"*WE*"),"WE","") -> WE | AH14: =IF(COUNTIF(AF14,"*WE*"),"REPOS","") -> REPOS | AJ14: =IF(COUNTIF(R14,"*WE*"),"REPOS","") | AK14: =IF(COUNTIF(R14,"*WE*"),"REPOS","") | AM14: =IF(COUNTIF(R14,"*WE*"),"WE","") | AN14: =IF(COUNTIF(AM14,"*WE*"),"WE","") | AU14: =DATE(B1,11,1) -> 44136
B15: =DATE($B$1,12,1) -> 44166 | AH15: =IF(COUNTIF(AF15,"*WE*"),"REPOS","") | AU15: =DATE(B1,11,11) -> 44146
A16: =agznts!A8 -> EE | B16: =DATE($B$1,12,1) -> 44166 | S16: =IF(COUNTIF(R16,"*WE*"),"WE","") | T16: =IF(COUNTIF(S16,"*WE*"),"REPOS","") | V16: =IF(COUNTIF(R24,"*WE*"),"REPOS","") | W16: =IF(COUNTIF(R24,"*WE*"),"REPOS","") | Y16: =IF(COUNTIF(R24,"*WE*"),"WE","") | Z16: =IF(COUNTIF(Y16,"*WE*"),"WE","") | AA16: =IF(COUNTIF(Y16,"*WE*"),"REPOS","") | AC16: =IF(COUNTIF(R20,"*WE*"),"REPOS","") -> REPOS | AD16: =IF(COUNTIF(R20,"*WE*"),"REPOS","") -> REPOS | AF16: =IF(COUNTIF(R20,"*WE*"),"WE","") -> WE | AG16: =IF(COUNTIF(AF16,"*WE*"),"WE","") -> WE | AH16: =IF(COUNTIF(AF16,"*WE*"),"REPOS","") -> REPOS | AJ16: =IF(COUNTIF(R16,"*WE*"),"REPOS","") | AK16: =IF(COUNTIF(R16,"*WE*"),"REPOS","") | AM16: =IF(COUNTIF(R16,"*WE*"),"WE","") | AN16: =IF(COUNTIF(AM16,"*WE*"),"WE","") | AU16: =DATE(B1,12,25) -> 44190
B17: =DATE($B$1,12,1) -> 44166 | S17: =IF(COUNTIF(R17,"*WE*"),"WE","") | T17: =IF(COUNTIF(S17,"*WE*"),"REPOS","") | Z17: =IF(COUNTIF(Y17,"*WE*"),"WE","") | AA17: =IF(COUNTIF(Y17,"*WE*"),"REPOS","") | AG17: =IF(COUNTIF(AF17,"*WE*"),"WE","") | AH17: =IF(COUNTIF(AF17,"*WE*"),"REPOS","") | AN17: =IF(COUNTIF(AM17,"*WE*"),"WE","") | AU17: =AU5+1 -> 43934
A18: =agznts!A9 -> FF | B18: =DATE($B$1,12,1) -> 44166 | R18: WE | S18: =IF(COUNTIF(R18,"*WE*"),"WE","") -> WE | T18: =IF(COUNTIF(S18,"*WE*"),"REPOS","") -> REPOS | V18: =IF(COUNTIF(R14,"*WE*"),"REPOS","") | W18: =IF(COUNTIF(R14,"*WE*"),"REPOS","") | Y18: =IF(COUNTIF(R14,"*WE*"),"WE","") | Z18: =IF(COUNTIF(Y18,"*WE*"),"WE","") | AA18: =IF(COUNTIF(Y18,"*WE*"),"REPOS","") | AC18: =IF(COUNTIF(R22,"*WE*"),"REPOS","") | AD18: =IF(COUNTIF(R22,"*WE*"),"REPOS","") | AF18: =IF(COUNTIF(R22,"*WE*"),"WE","") | AG18: =IF(COUNTIF(AF18,"*WE*"),"WE","") | AH18: =IF(COUNTIF(AF18,"*WE*"),"REPOS","") | AJ18: =IF(COUNTIF(R18,"*WE*"),"REPOS","") -> REPOS | AK18: =IF(COUNTIF(R18,"*WE*"),"REPOS","") -> REPOS | AM18: =IF(COUNTIF(R18,"*WE*"),"WE","") -> WE | AN18: =IF(COUNTIF(AM18,"*WE*"),"WE","") -> WE | AU18: =AU5+39 -> 43972
B19: =DATE($B$1,12,1) -> 44166 | S19: =IF(COUNTIF(R19,"*WE*"),"WE","") | T19: =IF(COUNTIF(S19,"*WE*"),"REPOS","") | Z19: =IF(COUNTIF(Y19,"*WE*"),"WE","") | AA19: =IF(COUNTIF(Y19,"*WE*"),"REPOS","") | AG19: =IF(COUNTIF(AF19,"*WE*"),"WE","") | AH19: =IF(COUNTIF(AF19,"*WE*"),"REPOS","") | AN19: =IF(COUNTIF(AM19,"*WE*"),"WE","") | AU19: =AU5+50 -> 43983
A20: =agznts!A10 -> GG | B20: =DATE($B$1,12,1) -> 44166 | R20: WE | S20: =IF(COUNTIF(R20,"*WE*"),"WE","") -> WE | T20: =IF(COUNTIF(S20,"*WE*"),"REPOS","") -> REPOS | V20: =IF(COUNTIF(R16,"*WE*"),"REPOS","") | W20: =IF(COUNTIF(R16,"*WE*"),"REPOS","") | Y20: =IF(COUNTIF(R16,"*WE*"),"WE","") | Z20: =IF(COUNTIF(Y20,"*WE*"),"WE","") | AA20: =IF(COUNTIF(Y20,"*WE*"),"REPOS","") | AC20: =IF(COUNTIF(R24,"*WE*"),"REPOS","") | AD20: =IF(COUNTIF(R24,"*WE*"),"REPOS","") | AF20: =IF(COUNTIF(R24,"*WE*"),"WE","") | AG20: =IF(COUNTIF(AF20,"*WE*"),"WE","") | AH20: =IF(COUNTIF(AF20,"*WE*"),"REPOS","") | AJ20: =IF(COUNTIF(R20,"*WE*"),"REPOS","") -> REPOS | AK20: =IF(COUNTIF(R20,"*WE*"),"REPOS","") -> REPOS | AM20: =IF(COUNTIF(R20,"*WE*"),"WE","") -> WE | AN20: =IF(COUNTIF(AM20,"*WE*"),"WE","") -> WE
B21: =DATE($B$1,12,1) -> 44166 | S21: =IF(COUNTIF(R21,"*WE*"),"WE","") | T21: =IF(COUNTIF(S21,"*WE*"),"REPOS","") | Z21: =IF(COUNTIF(Y21,"*WE*"),"WE","") | AA21: =IF(COUNTIF(Y21,"*WE*"),"REPOS","") | AG21: =IF(COUNTIF(AF21,"*WE*"),"WE","") | AH21: =IF(COUNTIF(R25,"*WE*"),"REPOS","") | AN21: =IF(COUNTIF(AM21,"*WE*"),"WE","")
A22: =agznts!A11 -> HH | B22: =DATE($B$1,12,1) -> 44166 | S22: =IF(COUNTIF(R22,"*WE*"),"WE","") | T22: =IF(COUNTIF(S22,"*WE*"),"REPOS","") | V22: =IF(COUNTIF(R18,"*WE*"),"REPOS","") -> REPOS | W22: =IF(COUNTIF(R18,"*WE*"),"REPOS","") -> REPOS | Y22: =IF(COUNTIF(R18,"*WE*"),"WE","") -> WE | Z22: =IF(COUNTIF(Y22,"*WE*"),"WE","") -> WE | AA22: =IF(COUNTIF(Y22,"*WE*"),"REPOS","") -> REPOS | AC22: =IF(COUNTIF(R14,"*WE*"),"REPOS","") | AD22: =IF(COUNTIF(R14,"*WE*"),"REPOS","") | AF22: =IF(COUNTIF(R14,"*WE*"),"WE","") | AG22: =IF(COUNTIF(AF22,"*WE*"),"WE","") | AH22: =IF(COUNTIF(AF22,"*WE*"),"REPOS","") | AJ22: =IF(COUNTIF(R22,"*WE*"),"REPOS","") | AK22: =IF(COUNTIF(R22,"*WE*"),"REPOS","") | AM22: =IF(COUNTIF(R22,"*WE*"),"WE","") | AN22: =IF(COUNTIF(AM22,"*WE*"),"WE","")
B23: =DATE($B$1,12,1) -> 44166 | S23: =IF(COUNTIF(R23,"*WE*"),"WE","") | T23: =IF(COUNTIF(S23,"*WE*"),"REPOS","") | Z23: =IF(COUNTIF(Y23,"*WE*"),"WE","") | AA23: =IF(COUNTIF(Y23,"*WE*"),"REPOS","") | AG23: =IF(COUNTIF(AF23,"*WE*"),"WE","") | AH23: =IF(COUNTIF(R27,"*WE*"),"REPOS","") | AN23: =IF(COUNTIF(AM23,"*WE*"),"WE","")
A24: =agznts!A12 -> II | B24: =DATE($B$1,12,1) -> 44166 | S24: =IF(COUNTIF(R24,"*WE*"),"WE","") | T24: =IF(COUNTIF(S24,"*WE*"),"REPOS","") | V24: =IF(COUNTIF(R20,"*WE*"),"REPOS","") -> REPOS | W24: =IF(COUNTIF(R20,"*WE*"),"REPOS","") -> REPOS | Y24: =IF(COUNTIF(R20,"*WE*"),"WE","") -> WE | Z24: =IF(COUNTIF(Y24,"*WE*"),"WE","") -> WE | AA24: =IF(COUNTIF(Y24,"*WE*"),"REPOS","") -> REPOS | AC24: =IF(COUNTIF(R16,"*WE*"),"REPOS","") | AD24: =IF(COUNTIF(R16,"*WE*"),"REPOS","") | AF24: =IF(COUNTIF(R16,"*WE*"),"WE","") | AG24: =IF(COUNTIF(AF24,"*WE*"),"WE","") | AH24: =IF(COUNTIF(AF24,"*WE*"),"REPOS","") | AJ24: =IF(COUNTIF(R24,"*WE*"),"REPOS","") | AK24: =IF(COUNTIF(R24,"*WE*"),"REPOS","") | AM24: =IF(COUNTIF(R24,"*WE*"),"WE","") | AN24: =IF(COUNTIF(AM24,"*WE*"),"WE","")
B25: =DATE($B$1,12,1) -> 44166
A26: =agznts!A13 -> JJ | B26: =DATE($B$1,12,1) -> 44166
B27: =DATE($B$1,12,1) -> 44166
A28: =agznts!A14 -> KK | B28: =DATE($B$1,12,1) -> 44166
B29: =DATE($B$1,12,1) -> 44166
A30: =agznts!A15 -> LL | B30: =DATE($B$1,12,1) -> 44166
B31: =DATE($B$1,12,1) -> 44166
A32: =agznts!A16 -> MM | B32: =DATE($B$1,12,1) -> 44166
B33: =DATE($B$1,12,1) -> 44166
A34: =agznts!A17 -> NN | B34: =DATE($B$1,12,1) -> 44166
B35: =DATE($B$1,12,1) -> 44166
A37: NOTES :
W43: =WEEKDAY(DATE(A1,12,25),2) -> 5

Sheet agznts
A4: AA
A5: BB
A6: CC
A7: DD
A8: EE
A9: FF
A10: GG
A11: HH
A12: II
A13: JJ
A14: KK
A15: LL
... A17: NN
