Workbook

Sheet Services AVANT Rentrée Sept.
A1: SERVICES | B1: A/A-M/C | C1: 0.25 | D1: 0.29166667 | E1: 0.33333333 | F1: 0.375 | G1: 0.41666667 | H1: 0.45833333 | I1: 0.5 | J1: 0.54166667 | K1: 0.58333333 | L1: 0.625 | M1: 0.66666667 | N1: 0.70833333 | O1: 0.75 | P1: 0.79166667 | Q1: 0.83333333 | R1: TTE | S1: AMPL.
A2: [SCOLAIRE] | B2: ERREUR | C2: ERREUR | D2: ERREUR | E2: ERREUR | F2: ERREUR | G2: ERREUR | H2: ERREUR | I2: ERREUR | J2: ERREUR | K2: ERREUR | L2: ERREUR | M2: ERREUR | N2: ERREUR | O2: ERREUR | P2: ERREUR | Q2: ERREUR
A3: > MATIN < | B3: ERREUR
A4: 301A | B4: MATIN | C4: 0.27638889 | I4: 0.53333333 | R4: 0.30694444 | S4: 0.36944444
A5: 301W | B5: MATIN | C5: 0.27638889 | J5: 0.54375 | R5: 0.23819444 | S5: 0.46875
A6: 301S | B6: MATIN | C6: 0.26388889 | J6: 0.55833333
A7: 302A | B7: MATIN | C7: 0.28888889 | K7: 0.59513889
A8: 302W | B8: MATIN | C8: 0.28888889 | K8: 0.59513889
A9: 302S | B9: MATIN | C9: 0.28125 | J9: 0.56180556
A10: 303A | B10: MATIN | C10: 0.27013889 | I10: 0.53541667
A11: 303W | B11: MATIN | C11: 0.27013889 | I11: 0.53888889
A12: 303S | B12: MATIN | C12: 0.27291667 | I12: 0.54027778
A13: 304A | B13: MATIN | C13: 0.27222222 | J13: 0.54652778
A14: 304W | B14: MATIN | C14: 0.27222222 | J14: 0.54652778
A15: 304S | B15: MATIN | C15: 0.27013889 | J15: 0.54166667
A16: 305A | B16: MATIN | C16: 0.25138889 | J16: 0.57291667
A17: 305W | B17: MATIN | C17: 0.25138889 | J17: 0.57291667
A18: 305S | B18: MATIN | C18: 0.27638889 | I18: 0.53055556
A19: 306B | B19: MATIN | C19: 0.27986111 | K19: 0.61666667
A20: 306S | B20: MATIN | C20: 0.27986111 | J20: 0.55833333
A21: 307B | B21: MATIN | C21: 0.28125 | J21: 0.56597222
A22: 307S | B22: MATIN | E22: 0.35555556 | L22: 0.62569444
A23: 308B | B23: MATIN | C23: 0.27291667 | K23: 0.59027778
A24: 308S | B24: MATIN | C24: 0.28055556 | J24: 0.56458333
A25: 309A | B25: MATIN | C25: 0.27986111 | I25: 0.53819444
A26: 309W | B26: MATIN | C26: 0.27986111 | I26: 0.54027778
A27: 309S | B27: MATIN | C27: 0.26458333 | I27: 0.54027778
A28: 310A | B28: MATIN | C28: 0.26736111 | J28: 0.55694444
A29: 310W | B29: MATIN | C29: 0.26736111 | J29: 0.55694444
A30: 364S | B30: MATIN | C30: 0.28541667 | I30: 0.53958333
A31: > VITENVILLE < | B31: ERREUR
A32: 360C | B32: MATIN | C32: 0.27291667 | J32: 0.55902778
A33: 361C | B33: MATIN | C33: 0.26944444 | J33: 0.55902778
A34: 362C | B34: MATIN | C34: 0.27222222 | J34: 0.55902778
A35: 363J | B35: MATIN | C35: 0.29166667 | J35: 0.56666667
A36: > APRES-MIDI < | B36: ERREUR
A37: 321B | B37: APRES-MIDI | J37: 0.55486111 | Q37: 0.84930556
A38: 321S | B38: APRES-MIDI | I38: 0.50694444 | Q38: 0.85
A39: 321D | B39: APRES-MIDI | I39: 0.52083333 | Q39: 0.85208333
A40: 322A | B40: APRES-MIDI | H40: 0.49861111 | P40: 0.8125
A41: 322W | B41: APRES-MIDI | H41: 0.475 | P41: 0.8125
A42: 322S | B42: APRES-MIDI | I42: 0.51666667 | P42: 0.82569444
A43: 323A | B43: APRES-MIDI | I43: 0.51319444 | P43: 0.83194444
A44: 323W | B44: APRES-MIDI | H44: 0.48055556 | P44: 0.83194444
A45: 323S | B45: APRES-MIDI | I45: 0.51666667 | Q45: 0.82708333
A46: 324A | B46: APRES-MIDI | J46: 0.55763889 | Q46: 0.84166667
A47: 324W | B47: APRES-MIDI | J47: 0.55763889 | Q47: 0.84166667
A48: 324S | B48: APRES-MIDI | J48: 0.54444444 | Q48: 0.83819444
A49: 325A | B49: APRES-MIDI | I49: 0.53263889 | Q49: 0.85763889
A50: 325W | B50: APRES-MIDI | I50: 0.53263889 | Q50: 0.85763889
A51: 325S | B51: APRES-MIDI | I51: 0.53125 | Q51: 0.86736111
A52: 326A | B52: APRES-MIDI | H52: 0.48263889 | Q52: 0.85
A53: 326W | B53: APRES-MIDI | I53: 0.52152778 | Q53: 0.85
A54: 326S | B54: APRES-MIDI | I54: 0.53125 | Q54: 0.85347222
A55: 327B | B55: APRES-MIDI | J55: 0.54583333 | P55: 0.80625
A56: 327S | B56: APRES-MIDI | I56: 0.54097222 | P56: 0.80486111
A57: 328A | B57: APRES-MIDI | I57: 0.52222222 | P57: 0.79375
A58: 328W | B58: APRES-MIDI | H58: 0.48263889 | O58: 0.79027778
A59: 328S | B59: APRES-MIDI | I59: 0.52222222 | Q59: 0.85
A60: 329A | B60: APRES-MIDI | I60: 0.52638889 | Q60: 0.85069444
A61: 329W | B61: APRES-MIDI | H61: 0.47986111 | Q61: 0.85069444
A62: 329S | B62: APRES-MIDI | G62: 0.44444444 | O62: 0.77638889
A63: 330A | B63: APRES-MIDI | H63: 0.49097222 | P63: 0.82916667
A64: 330W | B64: APRES-MIDI | H64: 0.49097222 | P64: 0.82916667
A65: 331E | B65: APRES-MIDI | K65: 0.59861111 | Q65: 0.85069444
A66: 331J | B66: APRES-MIDI | K66: 0.59861111 | Q66: 0.85069444
A67: > VITENVILLE < | B67: ERREUR
A68: 370C | B68: APRES-MIDI | I68: 0.52430556 | Q68: 0.85416667
A69: 371C | B69: APRES-MIDI | I69: 0.52430556 | Q69: 0.85277778
A70: 372C | B70: APRES-MIDI | I70: 0.52430556 | Q70: 0.85416667
A71: > A COUPURE < | B71: ERREUR
A72: 341A | B72: COUPURE | C72: 0.29097222 | E72: 0.37291667 | J72: 0.57083333 | O72: 0.78819444
A73: 341W | B73: COUPURE | C73: 0.29097222 | E73: 0.37291667 | J73: 0.57083333 | O73: 0.78819444
A74: 341S | B74: COUPURE | D74: 0.32291667 | H74: 0.48263889 | L74: 0.65486111 | P74: 0.79722222
A75: 342B | B75: COUPURE | C75: 0.28055556 | G75: 0.44791667 | J75: 0.57013889 | N75: 0.74236111
A76: 342S | B76: COUPURE | D76: 0.33125 | G76: 0.44444444 | J76: 0.57777778 | O76: 0.78819444
A77: 343A | B77: COUPURE | C77: 0.26041667 | G77: 0.45347222 | M77: 0.69583333 | O77: 0.78055556
A78: 343W | B78: COUPURE | C78: 0.26041667 | G78: 0.45347222 | M78: 0.69861111 | O78: 0.78055556
A79: 343S | B79: COUPURE | E79: 0.37013889 | H79: 0.48958333 | K79: 0.60208333 | P79: 0.82916667
A80: 344A | B80: COUPURE | C80: 0.27847222 | E80: 0.36111111 | F80: 0.40625 | H80: 0.48958333 | M80: 0.69166667 | Q80: 0.84513889
A81: 344W | B81: COUPURE | C81: 0.27847222 | E81: 0.36111111 | F81: 0.40625 | H81: 0.48958333 | L81: 0.64722222 | Q81: 0.84513889
A82: 345B | B82: COUPURE | C82: 0.27222222 | F82: 0.39097222 | K82: 0.61666667 | P82: 0.82569444
A83: 346E | B83: COUPURE | D83: 0.3 | G83: 0.41875 | M83: 0.68402778 | Q83: 0.85902778
A84: 346J | B84: COUPURE | D84: 0.3 | H84: 0.46388889 | M84: 0.68402778 | Q84: 0.85902778
A85: 347B | B85: COUPURE | C85: 0.26944444 | H85: 0.48402778 | M85: 0.67569444 | P85: 0.82986111
A86: 365S | B86: COUPURE | E86: 0.35833333 | I86: 0.53472222 | K86: 0.61805556 | N86: 0.7375
A87: [AUTRE] | B87: ERREUR | C87: ERREUR | D87: ERREUR | E87: ERREUR | F87: ERREUR | G87: ERREUR | H87: ERREUR | I87: ERREUR | J87: ERREUR | K87: ERREUR | L87: ERREUR | M87: ERREUR | N87: ERREUR | O87: ERREUR | P87: ERREUR | Q87: ERREUR
A88: DISPO
A89: REPOS
A90: FÉRIÉ
A91: CONGÉ
A93: SÉPARATION | B93: SÉPARATION | C93: SÉPARATION | D93: SÉPARATION | E93: SÉPARATION | F93: SÉPARATION | G93: SÉPARATION | H93: SÉPARATION | I93: SÉPARATION | J93: SÉPARATION | K93: SÉPARATION | L93: SÉPARATION | M93: SÉPARATION | N93: SÉPARATION | O93: SÉPARATION | P93: SÉPARATION | Q93: SÉPARATION
A94: [PETITES VACANCES] | B94: ERREUR | C94: ERREUR | D94: ERREUR | E94: ERREUR | F94: ERREUR | G94: ERREUR | H94: ERREUR | I94: ERREUR | J94: ERREUR | K94: ERREUR | L94: ERREUR | M94: ERREUR | N94: ERREUR | O94: ERREUR | P94: ERREUR | Q94: ERREUR
A95: > MATIN <
A96: 7301B | B96: MATIN | C96: 0.26388889 | J96: 0.55833333
A97: 7301S | B97: MATIN | C97: 0.26388889 | J97: 0.55833333
A98: 7302B | B98: MATIN | C98: 0.26458333 | J98: 0.56180556
A99: 7302S | B99: MATIN | C99: 0.28125 | J99: 0.56180556
A100: 7303B | B100: MATIN | C100: 0.27291667 | I100: 0.54027778
A101: 7303S | B101: MATIN | C101: 0.27291667 | I101: 0.54027778
...

Sheet MOIS VIERGE 1
B1: SEMAINES | C1: DATES | D1: SERVICES | E1: M/A-M/C | F1: 0.25 | G1: 0.29166667 | H1: 0.33333333 | I1: 0.375 | J1: 0.41666667 | K1: 0.45833333 | L1: 0.5 | M1: 0.54166667 | N1: 0.58333333 | O1: 0.625 | P1: 0.66666667 | Q1: 0.70833333 | R1: 0.75 | S1: 0.79166667 | T1: 0.83333333 | U1: TTE | V1: AMPL.
A2: OCTOBRE | B2: 0 | C2: 36647 | D2: 301A | E2: =IF($D2="","",VLOOKUP($D2,'Services AVANT Rentrée Sept.'!$A$2:$S$228,COLUMNS($A:B),FALSE)&"") -> MATIN | F2: =IF($D2="","",VLOOKUP($D2,'Services AVANT Rentrée Sept.'!$A$2:$S$228,COLUMN()-3,FALSE)) -> 0.27638889 | G2: =IF($D2="","",VLOOKUP($D2,'Services AVANT Rentrée Sept.'!$A$2:$S$228,COLUMN()-3,FALSE)) -> 0 | H2: =IF($D2="","",VLOOKUP($D2,'Services AVANT Rentrée Sept.'!$A$2:$S$228,COLUMN()-3,FALSE)) -> 0 | I2: =IF($D2="","",VLOOKUP($D2,'Services AVANT Rentrée Sept.'!$A$2:$S$228,COLUMN()-3,FALSE)) -> 0 | J2: =IF($D2="","",VLOOKUP($D2,'Services AVANT Rentrée Sept.'!$A$2:$S$228,COLUMN()-3,FALSE)) -> 0 | K2: =IF($D2="","",VLOOKUP($D2,'Services AVANT Rentrée Sept.'!$A$2:$S$228,COLUMN()-3,FALSE)) -> 0 | L2: =IF($D2="","",VLOOKUP($D2,'Services AVANT Rentrée Sept.'!$A$2:$S$228,COLUMN()-3,FALSE)) -> 0.53333333 | M2: =IF($D2="","",VLOOKUP($D2,'Services AVANT Rentrée Sept.'!$A$2:$S$228,COLUMN()-3,FALSE)) -> 0 | ... V2: =IF($D2="","",VLOOKUP($D2,'Services AVANT Rentrée Sept.'!$A$2:$S$228,COLUMN()-3,FALSE)) -> 0.36944444 | W2: TOTAL TTE
C3: 36648 | D3: 301W | E3: =IF($D3="","",VLOOKUP($D3,'Services AVANT Rentrée Sept.'!$A$2:$S$228,COLUMNS($A:B),FALSE)&"") -> MATIN | F3: =IF($D3="","",VLOOKUP($D3,'Services AVANT Rentrée Sept.'!$A$2:$S$228,COLUMN()-3,FALSE)) -> 0.27638889 | G3: =IF($D3="","",VLOOKUP($D3,'Services AVANT Rentrée Sept.'!$A$2:$S$228,COLUMN()-3,FALSE)) -> 0 | H3: =IF($D3="","",VLOOKUP($D3,'Services AVANT Rentrée Sept.'!$A$2:$S$228,COLUMN()-3,FALSE)) -> 0 | I3: =IF($D3="","",VLOOKUP($D3,'Services AVANT Rentrée Sept.'!$A$2:$S$228,COLUMN()-3,FALSE)) -> 0 | J3: =IF($D3="","",VLOOKUP($D3,'Services AVANT Rentrée Sept.'!$A$2:$S$228,COLUMN()-3,FALSE)) -> 0 | K3: =IF($D3="","",VLOOKUP($D3,'Services AVANT Rentrée Sept.'!$A$2:$S$228,COLUMN()-3,FALSE)) -> 0 | L3: =IF($D3="","",VLOOKUP($D3,'Services AVANT Rentrée Sept.'!$A$2:$S$228,COLUMN()-3,FALSE)) -> 0 | M3: =IF($D3="","",VLOOKUP($D3,'Services AVANT Rentrée Sept.'!$A$2:$S$228,COLUMN()-3,FALSE)) -> 0.54375 | ... V3: =IF($D3="","",VLOOKUP($D3,'Services AVANT Rentrée Sept.'!$A$2:$S$228,COLUMN()-3,FALSE)) -> 0.46875
C4: 36649 | D4: 301W | E4: =IF($D4="","",VLOOKUP($D4,'Services AVANT Rentrée Sept.'!$A$2:$S$228,COLUMNS($A:B),FALSE)&"") -> MATIN | F4: =IF($D4="","",VLOOKUP($D4,'Services AVANT Rentrée Sept.'!$A$2:$S$228,COLUMN()-3,FALSE)) -> 0.27638889 | G4: =IF($D4="","",VLOOKUP($D4,'Services AVANT Rentrée Sept.'!$A$2:$S$228,COLUMN()-3,FALSE)) -> 0 | H4: =IF($D4="","",VLOOKUP($D4,'Services AVANT Rentrée Sept.'!$A$2:$S$228,COLUMN()-3,FALSE)) -> 0 | I4: =IF($D4="","",VLOOKUP($D4,'Services AVANT Rentrée Sept.'!$A$2:$S$228,COLUMN()-3,FALSE)) -> 0 | J4: =IF($D4="","",VLOOKUP($D4,'Services AVANT Rentrée Sept.'!$A$2:$S$228,COLUMN()-3,FALSE)) -> 0 | K4: =IF($D4="","",VLOOKUP($D4,'Services AVANT Rentrée Sept.'!$A$2:$S$228,COLUMN()-3,FALSE)) -> 0 | L4: =IF($D4="","",VLOOKUP($D4,'Services AVANT Rentrée Sept.'!$A$2:$S$228,COLUMN()-3,FALSE)) -> 0 | M4: =IF($D4="","",VLOOKUP($D4,'Services AVANT Rentrée Sept.'!$A$2:$S$228,COLUMN()-3,FALSE)) -> 0.54375 | ... V4: =IF($D4="","",VLOOKUP($D4,'Services AVANT Rentrée Sept.'!$A$2:$S$228,COLUMN()-3,FALSE)) -> 0.46875 | W4: =SUM(U2:U8) -> 0.78333333
C5: 36650 | E5: =IF($D5="","",VLOOKUP($D5,'Services AVANT Rentrée Sept.'!$A$2:$S$228,COLUMNS($A:B),FALSE)&"") | F5: =IF($D5="","",VLOOKUP($D5,'Services AVANT Rentrée Sept.'!$A$2:$S$228,COLUMN()-3,FALSE)) | G5: =IF($D5="","",VLOOKUP($D5,'Services AVANT Rentrée Sept.'!$A$2:$S$228,COLUMN()-3,FALSE)) | H5: =IF($D5="","",VLOOKUP($D5,'Services AVANT Rentrée Sept.'!$A$2:$S$228,COLUMN()-3,FALSE)) | I5: =IF($D5="","",VLOOKUP($D5,'Services AVANT Rentrée Sept.'!$A$2:$S$228,COLUMN()-3,FALSE)) | J5: =IF($D5="","",VLOOKUP($D5,'Services AVANT Rentrée Sept.'!$A$2:$S$228,COLUMN()-3,FALSE)) | K5: =IF($D5="","",VLOOKUP($D5,'Services AVANT Rentrée Sept.'!$A$2:$S$228,COLUMN()-3,FALSE)) | L5: =IF($D5="","",VLOOKUP($D5,'Services AVANT Rentrée Sept.'!$A$2:$S$228,COLUMN()-3,FALSE)) | M5: =IF($D5="","",VLOOKUP($D5,'Services AVANT Rentrée Sept.'!$A$2:$S$228,COLUMN()-3,FALSE)) | ... V5: =IF($D5="","",VLOOKUP($D5,'Services AVANT Rentrée Sept.'!$A$2:$S$228,COLUMN()-3,FALSE))
C6: 36651 | E6: =IF($D6="","",VLOOKUP($D6,'Services AVANT Rentrée Sept.'!$A$2:$S$228,COLUMNS($A:B),FALSE)&"") | F6: =IF($D6="","",VLOOKUP($D6,'Services AVANT Rentrée Sept.'!$A$2:$S$228,COLUMN()-3,FALSE)) | G6: =IF($D6="","",VLOOKUP($D6,'Services AVANT Rentrée Sept.'!$A$2:$S$228,COLUMN()-3,FALSE)) | H6: =IF($D6="","",VLOOKUP($D6,'Services AVANT Rentrée Sept.'!$A$2:$S$228,COLUMN()-3,FALSE)) | I6: =IF($D6="","",VLOOKUP($D6,'Services AVANT Rentrée Sept.'!$A$2:$S$228,COLUMN()-3,FALSE)) | J6: =IF($D6="","",VLOOKUP($D6,'Services AVANT Rentrée Sept.'!$A$2:$S$228,COLUMN()-3,FALSE)) | K6: =IF($D6="","",VLOOKUP($D6,'Services AVANT Rentrée Sept.'!$A$2:$S$228,COLUMN()-3,FALSE)) | L6: =IF($D6="","",VLOOKUP($D6,'Services AVANT Rentrée Sept.'!$A$2:$S$228,COLUMN()-3,FALSE)) | M6: =IF($D6="","",VLOOKUP($D6,'Services AVANT Rentrée Sept.'!$A$2:$S$228,COLUMN()-3,FALSE)) | ... V6: =IF($D6="","",VLOOKUP($D6,'Services AVANT Rentrée Sept.'!$A$2:$S$228,COLUMN()-3,FALSE)) | W6: TOTAL AMPL.
C7: 36652 | E7: =IF($D7="","",VLOOKUP($D7,'Services AVANT Rentrée Sept.'!$A$2:$S$228,COLUMNS($A:B),FALSE)&"") | F7: =IF($D7="","",VLOOKUP($D7,'Services AVANT Rentrée Sept.'!$A$2:$S$228,COLUMN()-3,FALSE)) | G7: =IF($D7="","",VLOOKUP($D7,'Services AVANT Rentrée Sept.'!$A$2:$S$228,COLUMN()-3,FALSE)) | H7: =IF($D7="","",VLOOKUP($D7,'Services AVANT Rentrée Sept.'!$A$2:$S$228,COLUMN()-3,FALSE)) | I7: =IF($D7="","",VLOOKUP($D7,'Services AVANT Rentrée Sept.'!$A$2:$S$228,COLUMN()-3,FALSE)) | J7: =IF($D7="","",VLOOKUP($D7,'Services AVANT Rentrée Sept.'!$A$2:$S$228,COLUMN()-3,FALSE)) | K7: =IF($D7="","",VLOOKUP($D7,'Services AVANT Rentrée Sept.'!$A$2:$S$228,COLUMN()-3,FALSE)) | L7: =IF($D7="","",VLOOKUP($D7,'Services AVANT Rentrée Sept.'!$A$2:$S$228,COLUMN()-3,FALSE)) | M7: =IF($D7="","",VLOOKUP($D7,'Services AVANT Rentrée Sept.'!$A$2:$S$228,COLUMN()-3,FALSE)) | ... V7: =IF($D7="","",VLOOKUP($D7,'Services AVANT Rentrée Sept.'!$A$2:$S$228,COLUMN()-3,FALSE))
C8: 36653 | E8: =IF($D8="","",VLOOKUP($D8,'Services AVANT Rentrée Sept.'!$A$2:$S$228,COLUMNS($A:B),FALSE)&"") | F8: =IF($D8="","",VLOOKUP($D8,'Services AVANT Rentrée Sept.'!$A$2:$S$228,COLUMN()-3,FALSE)) | G8: =IF($D8="","",VLOOKUP($D8,'Services AVANT Rentrée Sept.'!$A$2:$S$228,COLUMN()-3,FALSE)) | H8: =IF($D8="","",VLOOKUP($D8,'Services AVANT Rentrée Sept.'!$A$2:$S$228,COLUMN()-3,FALSE)) | I8: =IF($D8="","",VLOOKUP($D8,'Services AVANT Rentrée Sept.'!$A$2:$S$228,COLUMN()-3,FALSE)) | J8: =IF($D8="","",VLOOKUP($D8,'Services AVANT Rentrée Sept.'!$A$2:$S$228,COLUMN()-3,FALSE)) | K8: =IF($D8="","",VLOOKUP($D8,'Services AVANT Rentrée Sept.'!$A$2:$S$228,COLUMN()-3,FALSE)) | L8: =IF($D8="","",VLOOKUP($D8,'Services AVANT Rentrée Sept.'!$A$2:$S$228,COLUMN()-3,FALSE)) | M8: =IF($D8="","",VLOOKUP($D8,'Services AVANT Rentrée Sept.'!$A$2:$S$228,COLUMN()-3,FALSE)) | ... V8: =IF($D8="","",VLOOKUP($D8,'Services AVANT Rentrée Sept.'!$A$2:$S$228,COLUMN()-3,FALSE)) | W8: =SUM(V2:V8) -> 1.3069444
B9: 0 | E9: =IF($D9="","",VLOOKUP($D9,'Services AVANT Rentrée Sept.'!$A$2:$S$228,COLUMNS($A:B),FALSE)&"") | F9: =IF($D9="","",VLOOKUP($D9,'Services AVANT Rentrée Sept.'!$A$2:$S$228,COLUMNS($A:C),FALSE)&"") | G9: =IF($D9="","",VLOOKUP($D9,'Services AVANT Rentrée Sept.'!$A$2:$S$228,COLUMNS($A:D),FALSE)&"") | H9: =IF($D9="","",VLOOKUP($D9,'Services AVANT Rentrée Sept.'!$A$2:$S$228,COLUMNS($A:E),FALSE)&"") | I9: =IF($D9="","",VLOOKUP($D9,'Services AVANT Rentrée Sept.'!$A$2:$S$228,COLUMNS($A:F),FALSE)&"") | J9: =IF($D9="","",VLOOKUP($D9,'Services AVANT Rentrée Sept.'!$A$2:$S$228,COLUMNS($A:G),FALSE)&"") | K9: =IF($D9="","",VLOOKUP($D9,'Services AVANT Rentrée Sept.'!$A$2:$S$228,COLUMNS($A:H),FALSE)&"") | L9: =IF($D9="","",VLOOKUP($D9,'Services AVANT Rentrée Sept.'!$A$2:$S$228,COLUMNS($A:I),FALSE)&"") | M9: =IF($D9="","",VLOOKUP($D9,'Services AVANT Rentrée Sept.'!$A$2:$S$228,COLUMNS($A:J),FALSE)&"") | N9: =IF($D9="","",VLOOKUP($D9,'Services AVANT Rentrée Sept.'!$A$2:$S$228,COLUMNS($A:K),FALSE)&"") | O9: =IF($D9="","",VLOOKUP($D9,'Services AVANT Rentrée Sept.'!$A$2:$S$228,COLUMNS($A:L),FALSE)&"") | P9: =IF($D9="","",VLOOKUP($D9,'Services AVANT Rentrée Sept.'!$A$2:$S$228,COLUMNS($A:M),FALSE)&"") | Q9: =IF($D9="","",VLOOKUP($D9,'Services AVANT Rentrée Sept.'!$A$2:$S$228,COLUMNS($A:N),FALSE)&"") | R9: =IF($D9="","",VLOOKUP($D9,'Services AVANT Rentrée Sept.'!$A$2:$S$228,COLUMNS($A:O),FALSE)&"") | S9: =IF($D9="","",VLOOKUP($D9,'Services AVANT Rentrée Sept.'!$A$2:$S$228,COLUMNS($A:P),FALSE)&"") | T9: =IF($D9="","",VLOOKUP($D9,'Services AVANT Rentrée Sept.'!$A$2:$S$228,COLUMNS($A:Q),FALSE)&"") | U9: =IF($D9="","",VLOOKUP($D9,'[1]Services APRÉS Rentrée Sept'!$A$2:$R$228,COLUMNS($A:R),FALSE)&"") | W9: TOTAL TTE
E10: =IF($D10="","",VLOOKUP($D10,'Services AVANT Rentrée Sept.'!$A$2:$S$228,COLUMNS($A:B),FALSE)&"") | F10: =IF($D10="","",VLOOKUP($D10,'Services AVANT Rentrée Sept.'!$A$2:$S$228,COLUMNS($A:C),FALSE)&"") | G10: =IF($D10="","",VLOOKUP($D10,'Services AVANT Rentrée Sept.'!$A$2:$S$228,COLUMNS($A:D),FALSE)&"") | H10: =IF($D10="","",VLOOKUP($D10,'Services AVANT Rentrée Sept.'!$A$2:$S$228,COLUMNS($A:E),FALSE)&"") | I10: =IF($D10="","",VLOOKUP($D10,'Services AVANT Rentrée Sept.'!$A$2:$S$228,COLUMNS($A:F),FALSE)&"") | J10: =IF($D10="","",VLOOKUP($D10,'Services AVANT Rentrée Sept.'!$A$2:$S$228,COLUMNS($A:G),FALSE)&"") | K10: =IF($D10="","",VLOOKUP($D10,'Services AVANT Rentrée Sept.'!$A$2:$S$228,COLUMNS($A:H),FALSE)&"") | L10: =IF($D10="","",VLOOKUP($D10,'Services AVANT Rentrée Sept.'!$A$2:$S$228,COLUMNS($A:I),FALSE)&"") | M10: =IF($D10="","",VLOOKUP($D10,'Services AVANT Rentrée Sept.'!$A$2:$S$228,COLUMNS($A:J),FALSE)&"") | N10: =IF($D10="","",VLOOKUP($D10,'Services AVANT Rentrée Sept.'!$A$2:$S$228,COLUMNS($A:K),FALSE)&"") | O10: =IF($D10="","",VLOOKUP($D10,'Services AVANT Rentrée Sept.'!$A$2:$S$228,COLUMNS($A:L),FALSE)&"") | P10: =IF($D10="","",VLOOKUP($D10,'Services AVANT Rentrée Sept.'!$A$2:$S$228,COLUMNS($A:M),FALSE)&"") | Q10: =IF($D10="","",VLOOKUP($D10,'Services AVANT Rentrée Sept.'!$A$2:$S$228,COLUMNS($A:N),FALSE)&"") | R10: =IF($D10="","",VLOOKUP($D10,'Services AVANT Rentrée Sept.'!$A$2:$S$228,COLUMNS($A:O),FALSE)&"") | S10: =IF($D10="","",VLOOKUP($D10,'Services AVANT Rentrée Sept.'!$A$2:$S$228,COLUMNS($A:P),FALSE)&"") | T10: =IF($D10="","",VLOOKUP($D10,'Services AVANT Rentrée Sept.'!$A$2:$S$228,COLUMNS($A:Q),FALSE)&"")
E11: =IF($D11="","",VLOOKUP($D11,'Services AVANT Rentrée Sept.'!$A$2:$S$228,COLUMNS($A:B),FALSE)&"") | F11: =IF($D11="","",VLOOKUP($D11,'Services AVANT Rentrée Sept.'!$A$2:$S$228,COLUMNS($A:C),FALSE)&"") | G11: =IF($D11="","",VLOOKUP($D11,'Services AVANT Rentrée Sept.'!$A$2:$S$228,COLUMNS($A:D),FALSE)&"") | H11: =IF($D11="","",VLOOKUP($D11,'Services AVANT Rentrée Sept.'!$A$2:$S$228,COLUMNS($A:E),FALSE)&"") | I11: =IF($D11="","",VLOOKUP($D11,'Services AVANT Rentrée Sept.'!$A$2:$S$228,COLUMNS($A:F),FALSE)&"") | J11: =IF($D11="","",VLOOKUP($D11,'Services AVANT Rentrée Sept.'!$A$2:$S$228,COLUMNS($A:G),FALSE)&"") | K11: =IF($D11="","",VLOOKUP($D11,'Services AVANT Rentrée Sept.'!$A$2:$S$228,COLUMNS($A:H),FALSE)&"") | L11: =IF($D11="","",VLOOKUP($D11,'Services AVANT Rentrée Sept.'!$A$2:$S$228,COLUMNS($A:I),FALSE)&"") | M11: =IF($D11="","",VLOOKUP($D11,'Services AVANT Rentrée Sept.'!$A$2:$S$228,COLUMNS($A:J),FALSE)&"") | N11: =IF($D11="","",VLOOKUP($D11,'Services AVANT Rentrée Sept.'!$A$2:$S$228,COLUMNS($A:K),FALSE)&"") | O11: =IF($D11="","",VLOOKUP($D11,'Services AVANT Rentrée Sept.'!$A$2:$S$228,COLUMNS($A:L),FALSE)&"") | P11: =IF($D11="","",VLOOKUP($D11,'Services AVANT Rentrée Sept.'!$A$2:$S$228,COLUMNS($A:M),FALSE)&"") | Q11: =IF($D11="","",VLOOKUP($D11,'Services AVANT Rentrée Sept.'!$A$2:$S$228,COLUMNS($A:N),FALSE)&"") | R11: =IF($D11="","",VLOOKUP($D11,'Services AVANT Rentrée Sept.'!$A$2:$S$228,COLUMNS($A:O),FALSE)&"") | S11: =IF($D11="","",VLOOKUP($D11,'Services AVANT Rentrée Sept.'!$A$2:$S$228,COLUMNS($A:P),FALSE)&"") | T11: =IF($D11="","",VLOOKUP($D11,'Services AVANT Rentrée Sept.'!$A$2:$S$228,COLUMNS($A:Q),FALSE)&"") | W11: =SUM(U9:U15) -> 0
E12: =IF($D12="","",VLOOKUP($D12,'Services AVANT Rentrée Sept.'!$A$2:$S$228,COLUMNS($A:B),FALSE)&"") | F12: =IF($D12="","",VLOOKUP($D12,'Services AVANT Rentrée Sept.'!$A$2:$S$228,COLUMNS($A:C),FALSE)&"") | G12: =IF($D12="","",VLOOKUP($D12,'Services AVANT Rentrée Sept.'!$A$2:$S$228,COLUMNS($A:D),FALSE)&"") | H12: =IF($D12="","",VLOOKUP($D12,'Services AVANT Rentrée Sept.'!$A$2:$S$228,COLUMNS($A:E),FALSE)&"") | I12: =IF($D12="","",VLOOKUP($D12,'Services AVANT Rentrée Sept.'!$A$2:$S$228,COLUMNS($A:F),FALSE)&"") | J12: =IF($D12="","",VLOOKUP($D12,'Services AVANT Rentrée Sept.'!$A$2:$R$228,COLUMNS($A:G),FALSE)&"") | K12: =IF($D12="","",VLOOKUP($D12,'Services AVANT Rentrée Sept.'!$A$2:$S$228,COLUMNS($A:H),FALSE)&"") | L12: =IF($D12="","",VLOOKUP($D12,'Services AVANT Rentrée Sept.'!$A$2:$S$228,COLUMNS($A:I),FALSE)&"") | M12: =IF($D12="","",VLOOKUP($D12,'Services AVANT Rentrée Sept.'!$A$2:$S$228,COLUMNS($A:J),FALSE)&"") | N12: =IF($D12="","",VLOOKUP($D12,'Services AVANT Rentrée Sept.'!$A$2:$S$228,COLUMNS($A:K),FALSE)&"") | O12: =IF($D12="","",VLOOKUP($D12,'Services AVANT Rentrée Sept.'!$A$2:$S$228,COLUMNS($A:L),FALSE)&"") | P12: =IF($D12="","",VLOOKUP($D12,'Services AVANT Rentrée Sept.'!$A$2:$S$228,COLUMNS($A:M),FALSE)&"") | Q12: =IF($D12="","",VLOOKUP($D12,'Services AVANT Rentrée Sept.'!$A$2:$S$228,COLUMNS($A:N),FALSE)&"") | R12: =IF($D12="","",VLOOKUP($D12,'Services AVANT Rentrée Sept.'!$A$2:$S$228,COLUMNS($A:O),FALSE)&"") | S12: =IF($D12="","",VLOOKUP($D12,'Services AVANT Rentrée Sept.'!$A$2:$S$228,COLUMNS($A:P),FALSE)&"") | T12: =IF($D12="","",VLOOKUP($D12,'Services AVANT Rentrée Sept.'!$A$2:$S$228,COLUMNS($A:Q),FALSE)&"")
E13: =IF($D13="","",VLOOKUP($D13,'Services AVANT Rentrée Sept.'!$A$2:$S$228,COLUMNS($A:B),FALSE)&"") | F13: =IF($D13="","",VLOOKUP($D13,'Services AVANT Rentrée Sept.'!$A$2:$S$228,COLUMNS($A:C),FALSE)&"") | G13: =IF($D13="","",VLOOKUP($D13,'Services AVANT Rentrée Sept.'!$A$2:$S$228,COLUMNS($A:D),FALSE)&"") | H13: =IF($D13="","",VLOOKUP($D13,'Services AVANT Rentrée Sept.'!$A$2:$S$228,COLUMNS($A:E),FALSE)&"") | I13: =IF($D13="","",VLOOKUP($D13,'Services AVANT Rentrée Sept.'!$A$2:$S$228,COLUMNS($A:F),FALSE)&"") | J13: =IF($D13="","",VLOOKUP($D13,'Services AVANT Rentrée Sept.'!$A$2:$S$228,COLUMNS($A:G),FALSE)&"") | K13: =IF($D13="","",VLOOKUP($D13,'Services AVANT Rentrée Sept.'!$A$2:$S$228,COLUMNS($A:H),FALSE)&"") | L13: =IF($D13="","",VLOOKUP($D13,'Services AVANT Rentrée Sept.'!$A$2:$S$228,COLUMNS($A:I),FALSE)&"") | M13: =IF($D13="","",VLOOKUP($D13,'Services AVANT Rentrée Sept.'!$A$2:$S$228,COLUMNS($A:J),FALSE)&"") | N13: =IF($D13="","",VLOOKUP($D13,'Services AVANT Rentrée Sept.'!$A$2:$S$228,COLUMNS($A:K),FALSE)&"") | O13: =IF($D13="","",VLOOKUP($D13,'Services AVANT Rentrée Sept.'!$A$2:$S$228,COLUMNS($A:L),FALSE)&"") | P13: =IF($D13="","",VLOOKUP($D13,'Services AVANT Rentrée Sept.'!$A$2:$S$228,COLUMNS($A:M),FALSE)&"") | Q13: =IF($D13="","",VLOOKUP($D13,'Services AVANT Rentrée Sept.'!$A$2:$S$228,COLUMNS($A:N),FALSE)&"") | R13: =IF($D13="","",VLOOKUP($D13,'Services AVANT Rentrée Sept.'!$A$2:$S$228,COLUMNS($A:O),FALSE)&"") | S13: =IF($D13="","",VLOOKUP($D13,'Services AVANT Rentrée Sept.'!$A$2:$S$228,COLUMNS($A:P),FALSE)&"") | T13: =IF($D13="","",VLOOKUP($D13,'Services AVANT Rentrée Sept.'!$A$2:$S$228,COLUMNS($A:Q),FALSE)&"") | W13: TOTAL AMPL.
E14: =IF($D14="","",VLOOKUP($D14,'Services AVANT Rentrée Sept.'!$A$2:$S$228,COLUMNS($A:B),FALSE)&"") | F14: =IF($D14="","",VLOOKUP($D14,'Services AVANT Rentrée Sept.'!$A$2:$S$228,COLUMNS($A:C),FALSE)&"") | G14: =IF($D14="","",VLOOKUP($D14,'Services AVANT Rentrée Sept.'!$A$2:$S$228,COLUMNS($A:D),FALSE)&"") | H14: =IF($D14="","",VLOOKUP($D14,'Services AVANT Rentrée Sept.'!$A$2:$S$228,COLUMNS($A:E),FALSE)&"") | I14: =IF($D14="","",VLOOKUP($D14,'Services AVANT Rentrée Sept.'!$A$2:$S$228,COLUMNS($A:F),FALSE)&"") | J14: =IF($D14="","",VLOOKUP($D14,'Services AVANT Rentrée Sept.'!$A$2:$S$228,COLUMNS($A:G),FALSE)&"") | K14: =IF($D14="","",VLOOKUP($D14,'Services AVANT Rentrée Sept.'!$A$2:$S$228,COLUMNS($A:H),FALSE)&"") | L14: =IF($D14="","",VLOOKUP($D14,'Services AVANT Rentrée Sept.'!$A$2:$S$228,COLUMNS($A:I),FALSE)&"") | M14: =IF($D14="","",VLOOKUP($D14,'Services AVANT Rentrée Sept.'!$A$2:$S$228,COLUMNS($A:J),FALSE)&"") | N14: =IF($D14="","",VLOOKUP($D14,'Services AVANT Rentrée Sept.'!$A$2:$S$228,COLUMNS($A:K),FALSE)&"") | O14: =IF($D14="","",VLOOKUP($D14,'Services AVANT Rentrée Sept.'!$A$2:$S$228,COLUMNS($A:L),FALSE)&"") | P14: =IF($D14="","",VLOOKUP($D14,'Services AVANT Rentrée Sept.'!$A$2:$S$228,COLUMNS($A:M),FALSE)&"") | Q14: =IF($D14="","",VLOOKUP($D14,'Services AVANT Rentrée Sept.'!$A$2:$S$228,COLUMNS($A:N),FALSE)&"") | R14: =IF($D14="","",VLOOKUP($D14,'Services AVANT Rentrée Sept.'!$A$2:$S$228,COLUMNS($A:O),FALSE)&"") | S14: =IF($D14="","",VLOOKUP($D14,'Services AVANT Rentrée Sept.'!$A$2:$S$228,COLUMNS($A:P),FALSE)&"") | T14: =IF($D14="","",VLOOKUP($D14,'Services AVANT Rentrée Sept.'!$A$2:$S$228,COLUMNS($A:Q),FALSE)&"")
E15: =IF($D15="","",VLOOKUP($D15,'Services AVANT Rentrée Sept.'!$A$2:$S$228,COLUMNS($A:B),FALSE)&"") | F15: =IF($D15="","",VLOOKUP($D15,'Services AVANT Rentrée Sept.'!$A$2:$S$228,COLUMNS($A:C),FALSE)&"") | G15: =IF($D15="","",VLOOKUP($D15,'Services AVANT Rentrée Sept.'!$A$2:$S$228,COLUMNS($A:D),FALSE)&"") | H15: =IF($D15="","",VLOOKUP($D15,'Services AVANT Rentrée Sept.'!$A$2:$S$228,COLUMNS($A:E),FALSE)&"") | I15: =IF($D15="","",VLOOKUP($D15,'Services AVANT Rentrée Sept.'!$A$2:$S$228,COLUMNS($A:F),FALSE)&"") | J15: =IF($D15="","",VLOOKUP($D15,'Services AVANT Rentrée Sept.'!$A$2:$S$228,COLUMNS($A:G),FALSE)&"") | K15: =IF($D15="","",VLOOKUP($D15,'Services AVANT Rentrée Sept.'!$A$2:$S$228,COLUMNS($A:H),FALSE)&"") | L15: =IF($D15="","",VLOOKUP($D15,'Services AVANT Rentrée Sept.'!$A$2:$S$228,COLUMNS($A:I),FALSE)&"") | M15: =IF($D15="","",VLOOKUP($D15,'Services AVANT Rentrée Sept.'!$A$2:$S$228,COLUMNS($A:J),FALSE)&"") | N15: =IF($D15="","",VLOOKUP($D15,'Services AVANT Rentrée Sept.'!$A$2:$S$228,COLUMNS($A:K),FALSE)&"") | O15: =IF($D15="","",VLOOKUP($D15,'Services AVANT Rentrée Sept.'!$A$2:$S$228,COLUMNS($A:L),FALSE)&"") | P15: =IF($D15="","",VLOOKUP($D15,'Services AVANT Rentrée Sept.'!$A$2:$S$228,COLUMNS($A:M),FALSE)&"") | Q15: =IF($D15="","",VLOOKUP($D15,'Services AVANT Rentrée Sept.'!$A$2:$S$228,COLUMNS($A:N),FALSE)&"") | R15: =IF($D15="","",VLOOKUP($D15,'Services AVANT Rentrée Sept.'!$A$2:$S$228,COLUMNS($A:O),FALSE)&"") | S15: =IF($D15="","",VLOOKUP($D15,'Services AVANT Rentrée Sept.'!$A$2:$S$228,COLUMNS($A:P),FALSE)&"") | T15: =IF($D15="","",VLOOKUP($D15,'Services AVANT Rentrée Sept.'!$A$2:$S$228,COLUMNS($A:Q),FALSE)&"") | W15: =SUM(V9:V15) -> 0
B16: 0 | E16: =IF($D16="","",VLOOKUP($D16,'Services AVANT Rentrée Sept.'!$A$2:$S$228,COLUMNS($A:B),FALSE)&"") | F16: =IF($D16="","",VLOOKUP($D16,'Services AVANT Rentrée Sept.'!$A$2:$S$228,COLUMNS($A:C),FALSE)&"") | G16: =IF($D16="","",VLOOKUP($D16,'Services AVANT Rentrée Sept.'!$A$2:$S$228,COLUMNS($A:D),FALSE)&"") | H16: =IF($D16="","",VLOOKUP($D16,'Services AVANT Rentrée Sept.'!$A$2:$S$228,COLUMNS($A:E),FALSE)&"") | I16: =IF($D16="","",VLOOKUP($D16,'Services AVANT Rentrée Sept.'!$A$2:$S$228,COLUMNS($A:F),FALSE)&"") | J16: =IF($D16="","",VLOOKUP($D16,'Services AVANT Rentrée Sept.'!$A$2:$S$228,COLUMNS($A:G),FALSE)&"") | K16: =IF($D16="","",VLOOKUP($D16,'Services AVANT Rentrée Sept.'!$A$2:$S$228,COLUMNS($A:H),FALSE)&"") | L16: =IF($D16="","",VLOOKUP($D16,'Services AVANT Rentrée Sept.'!$A$2:$S$228,COLUMNS($A:I),FALSE)&"") | M16: =IF($D16="","",VLOOKUP($D16,'Services AVANT Rentrée Sept.'!$A$2:$S$228,COLUMNS($A:J),FALSE)&"") | N16: =IF($D16="","",VLOOKUP($D16,'Services AVANT Rentrée Sept.'!$A$2:$S$228,COLUMNS($A:K),FALSE)&"") | O16: =IF($D16="","",VLOOKUP($D16,'Services AVANT Rentrée Sept.'!$A$2:$S$228,COLUMNS($A:L),FALSE)&"") | P16: =IF($D16="","",VLOOKUP($D16,'Services AVANT Rentrée Sept.'!$A$2:$S$228,COLUMNS($A:M),FALSE)&"") | Q16: =IF($D16="","",VLOOKUP($D16,'Services AVANT Rentrée Sept.'!$A$2:$S$228,COLUMNS($A:N),FALSE)&"") | R16: =IF($D16="","",VLOOKUP($D16,'Services AVANT Rentrée Sept.'!$A$2:$S$228,COLUMNS($A:O),FALSE)&"") | S16: =IF($D16="","",VLOOKUP($D16,'Services AVANT Rentrée Sept.'!$A$2:$S$228,COLUMNS($A:P),FALSE)&"") | T16: =IF($D16="","",VLOOKUP($D16,'Services AVANT Rentrée Sept.'!$A$2:$S$228,COLUMNS($A:Q),FALSE)&"") | U16: =IF($D16="","",VLOOKUP($D16,'[1]Services APRÉS Rentrée Sept'!$A$2:$R$228,COLUMNS($A:R),FALSE)&"") | W16: TOTAL TTE
E17: =IF($D17="","",VLOOKUP($D17,'Services AVANT Rentrée Sept.'!$A$2:$S$228,COLUMNS($A:B),FALSE)&"") | F17: =IF($D17="","",VLOOKUP($D17,'Services AVANT Rentrée Sept.'!$A$2:$S$228,COLUMNS($A:C),FALSE)&"") | G17: =IF($D17="","",VLOOKUP($D17,'Services AVANT Rentrée Sept.'!$A$2:$S$228,COLUMNS($A:D),FALSE)&"") | H17: =IF($D17="","",VLOOKUP($D17,'Services AVANT Rentrée Sept.'!$A$2:$S$228,COLUMNS($A:E),FALSE)&"") | I17: =IF($D17="","",VLOOKUP($D17,'Services AVANT Rentrée Sept.'!$A$2:$S$228,COLUMNS($A:F),FALSE)&"") | J17: =IF($D17="","",VLOOKUP($D17,'Services AVANT Rentrée Sept.'!$A$2:$S$228,COLUMNS($A:G),FALSE)&"") | K17: =IF($D17="","",VLOOKUP($D17,'Services AVANT Rentrée Sept.'!$A$2:$S$228,COLUMNS($A:H),FALSE)&"") | L17: =IF($D17="","",VLOOKUP($D17,'Services AVANT Rentrée Sept.'!$A$2:$S$228,COLUMNS($A:I),FALSE)&"") | M17: =IF($D17="","",VLOOKUP($D17,'Services AVANT Rentrée Sept.'!$A$2:$S$228,COLUMNS($A:J),FALSE)&"") | N17: =IF($D17="","",VLOOKUP($D17,'Services AVANT Rentrée Sept.'!$A$2:$S$228,COLUMNS($A:K),FALSE)&"") | O17: =IF($D17="","",VLOOKUP($D17,'Services AVANT Rentrée Sept.'!$A$2:$S$228,COLUMNS($A:L),FALSE)&"") | P17: =IF($D17="","",VLOOKUP($D17,'Services AVANT Rentrée Sept.'!$A$2:$S$228,COLUMNS($A:M),FALSE)&"") | Q17: =IF($D17="","",VLOOKUP($D17,'Services AVANT Rentrée Sept.'!$A$2:$S$228,COLUMNS($A:N),FALSE)&"") | R17: =IF($D17="","",VLOOKUP($D17,'Services AVANT Rentrée Sept.'!$A$2:$S$228,COLUMNS($A:O),FALSE)&"") | S17: =IF($D17="","",VLOOKUP($D17,'Services AVANT Rentrée Sept.'!$A$2:$S$228,COLUMNS($A:P),FALSE)&"") | T17: =IF($D17="","",VLOOKUP($D17,'Services AVANT Rentrée Sept.'!$A$2:$S$228,COLUMNS($A:Q),FALSE)&"")
E18: =IF($D18="","",VLOOKUP($D18,'Services AVANT Rentrée Sept.'!$A$2:$S$228,COLUMNS($A:B),FALSE)&"") | F18: =IF($D18="","",VLOOKUP($D18,'Services AVANT Rentrée Sept.'!$A$2:$S$228,COLUMNS($A:C),FALSE)&"") | G18: =IF($D18="","",VLOOKUP($D18,'Services AVANT Rentrée Sept.'!$A$2:$S$228,COLUMNS($A:D),FALSE)&"") | H18: =IF($D18="","",VLOOKUP($D18,'Services AVANT Rentrée Sept.'!$A$2:$S$228,COLUMNS($A:E),FALSE)&"") | I18: =IF($D18="","",VLOOKUP($D18,'Services AVANT Rentrée Sept.'!$A$2:$S$228,COLUMNS($A:F),FALSE)&"") | J18: =IF($D18="","",VLOOKUP($D18,'Services AVANT Rentrée Sept.'!$A$2:$S$228,COLUMNS($A:G),FALSE)&"") | K18: =IF($D18="","",VLOOKUP($D18,'Services AVANT Rentrée Sept.'!$A$2:$S$228,COLUMNS($A:H),FALSE)&"") | L18: =IF($D18="","",VLOOKUP($D18,'Services AVANT Rentrée Sept.'!$A$2:$S$228,COLUMNS($A:I),FALSE)&"") | M18: =IF($D18="","",VLOOKUP($D18,'Services AVANT Rentrée Sept.'!$A$2:$S$228,COLUMNS($A:J),FALSE)&"") | N18: =IF($D18="","",VLOOKUP($D18,'Services AVANT Rentrée Sept.'!$A$2:$S$228,COLUMNS($A:K),FALSE)&"") | O18: =IF($D18="","",VLOOKUP($D18,'Services AVANT Rentrée Sept.'!$A$2:$S$228,COLUMNS($A:L),FALSE)&"") | P18: =IF($D18="","",VLOOKUP($D18,'Services AVANT Rentrée Sept.'!$A$2:$S$228,COLUMNS($A:M),FALSE)&"") | Q18: =IF($D18="","",VLOOKUP($D18,'Services AVANT Rentrée Sept.'!$A$2:$S$228,COLUMNS($A:N),FALSE)&"") | R18: =IF($D18="","",VLOOKUP($D18,'Services AVANT Rentrée Sept.'!$A$2:$S$228,COLUMNS($A:O),FALSE)&"") | S18: =IF($D18="","",VLOOKUP($D18,'Services AVANT Rentrée Sept.'!$A$2:$S$228,COLUMNS($A:P),FALSE)&"") | T18: =IF($D18="","",VLOOKUP($D18,'Services AVANT Rentrée Sept.'!$A$2:$S$228,COLUMNS($A:Q),FALSE)&"") | W18: =SUM(U16:U22) -> 0
E19: =IF($D19="","",VLOOKUP($D19,'Services AVANT Rentrée Sept.'!$A$2:$S$228,COLUMNS($A:B),FALSE)&"") | F19: =IF($D19="","",VLOOKUP($D19,'Services AVANT Rentrée Sept.'!$A$2:$S$228,COLUMNS($A:C),FALSE)&"") | G19: =IF($D19="","",VLOOKUP($D19,'Services AVANT Rentrée Sept.'!$A$2:$S$228,COLUMNS($A:D),FALSE)&"") | H19: =IF($D19="","",VLOOKUP($D19,'Services AVANT Rentrée Sept.'!$A$2:$S$228,COLUMNS($A:E),FALSE)&"") | I19: =IF($D19="","",VLOOKUP($D19,'Services AVANT Rentrée Sept.'!$A$2:$S$228,COLUMNS($A:F),FALSE)&"") | J19: =IF($D19="","",VLOOKUP($D19,'Services AVANT Rentrée Sept.'!$A$2:$S$228,COLUMNS($A:G),FALSE)&"") | K19: =IF($D19="","",VLOOKUP($D19,'Services AVANT Rentrée Sept.'!$A$2:$S$228,COLUMNS($A:H),FALSE)&"") | L19: =IF($D19="","",VLOOKUP($D19,'Services AVANT Rentrée Sept.'!$A$2:$S$228,COLUMNS($A:I),FALSE)&"") | M19: =IF($D19="","",VLOOKUP($D19,'Services AVANT Rentrée Sept.'!$A$2:$S$228,COLUMNS($A:J),FALSE)&"") | N19: =IF($D19="","",VLOOKUP($D19,'Services AVANT Rentrée Sept.'!$A$2:$S$228,COLUMNS($A:K),FALSE)&"") | O19: =IF($D19="","",VLOOKUP($D19,'Services AVANT Rentrée Sept.'!$A$2:$S$228,COLUMNS($A:L),FALSE)&"") | P19: =IF($D19="","",VLOOKUP($D19,'Services AVANT Rentrée Sept.'!$A$2:$S$228,COLUMNS($A:M),FALSE)&"") | Q19: =IF($D19="","",VLOOKUP($D19,'Services AVANT Rentrée Sept.'!$A$2:$S$228,COLUMNS($A:N),FALSE)&"") | R19: =IF($D19="","",VLOOKUP($D19,'Services AVANT Rentrée Sept.'!$A$2:$S$228,COLUMNS($A:O),FALSE)&"") | S19: =IF($D19="","",VLOOKUP($D19,'Services AVANT Rentrée Sept.'!$A$2:$S$228,COLUMNS($A:P),FALSE)&"") | T19: =IF($D19="","",VLOOKUP($D19,'Services AVANT Rentrée Sept.'!$A$2:$S$228,COLUMNS($A:Q),FALSE)&"")
E20: =IF($D20="","",VLOOKUP($D20,'Services AVANT Rentrée Sept.'!$A$2:$S$228,COLUMNS($A:B),FALSE)&"") | F20: =IF($D20="","",VLOOKUP($D20,'Services AVANT Rentrée Sept.'!$A$2:$S$228,COLUMNS($A:C),FALSE)&"") | G20: =IF($D20="","",VLOOKUP($D20,'Services AVANT Rentrée Sept.'!$A$2:$S$228,COLUMNS($A:D),FALSE)&"") | H20: =IF($D20="","",VLOOKUP($D20,'Services AVANT Rentrée Sept.'!$A$2:$S$228,COLUMNS($A:E),FALSE)&"") | I20: =IF($D20="","",VLOOKUP($D20,'Services AVANT Rentrée Sept.'!$A$2:$S$228,COLUMNS($A:F),FALSE)&"") | J20: =IF($D20="","",VLOOKUP($D20,'Services AVANT Rentrée Sept.'!$A$2:$S$228,COLUMNS($A:G),FALSE)&"") | K20: =IF($D20="","",VLOOKUP($D20,'Services AVANT Rentrée Sept.'!$A$2:$S$228,COLUMNS($A:H),FALSE)&"") | L20: =IF($D20="","",VLOOKUP($D20,'Services AVANT Rentrée Sept.'!$A$2:$S$228,COLUMNS($A:I),FALSE)&"") | M20: =IF($D20="","",VLOOKUP($D20,'Services AVANT Rentrée Sept.'!$A$2:$S$228,COLUMNS($A:J),FALSE)&"") | N20: =IF($D20="","",VLOOKUP($D20,'Services AVANT Rentrée Sept.'!$A$2:$S$228,COLUMNS($A:K),FALSE)&"") | O20: =IF($D20="","",VLOOKUP($D20,'Services AVANT Rentrée Sept.'!$A$2:$S$228,COLUMNS($A:L),FALSE)&"") | P20: =IF($D20="","",VLOOKUP($D20,'Services AVANT Rentrée Sept.'!$A$2:$S$228,COLUMNS($A:M),FALSE)&"") | Q20: =IF($D20="","",VLOOKUP($D20,'Services AVANT Rentrée Sept.'!$A$2:$S$228,COLUMNS($A:N),FALSE)&"") | R20: =IF($D20="","",VLOOKUP($D20,'Services AVANT Rentrée Sept.'!$A$2:$S$228,COLUMNS($A:O),FALSE)&"") | S20: =IF($D20="","",VLOOKUP($D20,'Services AVANT Rentrée Sept.'!$A$2:$S$228,COLUMNS($A:P),FALSE)&"") | T20: =IF($D20="","",VLOOKUP($D20,'Services AVANT Rentrée Sept.'!$A$2:$S$228,COLUMNS($A:Q),FALSE)&"") | W20: TOTAL AMPL.
E21: =IF($D21="","",VLOOKUP($D21,'Services AVANT Rentrée Sept.'!$A$2:$S$228,COLUMNS($A:B),FALSE)&"") | F21: =IF($D21="","",VLOOKUP($D21,'Services AVANT Rentrée Sept.'!$A$2:$S$228,COLUMNS($A:C),FALSE)&"") | G21: =IF($D21="","",VLOOKUP($D21,'Services AVANT Rentrée Sept.'!$A$2:$S$228,COLUMNS($A:D),FALSE)&"") | H21: =IF($D21="","",VLOOKUP($D21,'Services AVANT Rentrée Sept.'!$A$2:$S$228,COLUMNS($A:E),FALSE)&"") | I21: =IF($D21="","",VLOOKUP($D21,'Services AVANT Rentrée Sept.'!$A$2:$S$228,COLUMNS($A:F),FALSE)&"") | J21: =IF($D21="","",VLOOKUP($D21,'Services AVANT Rentrée Sept.'!$A$2:$S$228,COLUMNS($A:G),FALSE)&"") | K21: =IF($D21="","",VLOOKUP($D21,'Services AVANT Rentrée Sept.'!$A$2:$S$228,COLUMNS($A:H),FALSE)&"") | L21: =IF($D21="","",VLOOKUP($D21,'Services AVANT Rentrée Sept.'!$A$2:$S$228,COLUMNS($A:I),FALSE)&"") | M21: =IF($D21="","",VLOOKUP($D21,'Services AVANT Rentrée Sept.'!$A$2:$S$228,COLUMNS($A:J),FALSE)&"") | N21: =IF($D21="","",VLOOKUP($D21,'Services AVANT Rentrée Sept.'!$A$2:$S$228,COLUMNS($A:K),FALSE)&"") | O21: =IF($D21="","",VLOOKUP($D21,'Services AVANT Rentrée Sept.'!$A$2:$S$228,COLUMNS($A:L),FALSE)&"") | P21: =IF($D21="","",VLOOKUP($D21,'Services AVANT Rentrée Sept.'!$A$2:$S$228,COLUMNS($A:M),FALSE)&"") | Q21: =IF($D21="","",VLOOKUP($D21,'Services AVANT Rentrée Sept.'!$A$2:$S$228,COLUMNS($A:N),FALSE)&"") | R21: =IF($D21="","",VLOOKUP($D21,'Services AVANT Rentrée Sept.'!$A$2:$S$228,COLUMNS($A:O),FALSE)&"") | S21: =IF($D21="","",VLOOKUP($D21,'Services AVANT Rentrée Sept.'!$A$2:$S$228,COLUMNS($A:P),FALSE)&"") | T21: =IF($D21="","",VLOOKUP($D21,'Services AVANT Rentrée Sept.'!$A$2:$S$228,COLUMNS($A:Q),FALSE)&"")
E22: =IF($D22="","",VLOOKUP($D22,'Services AVANT Rentrée Sept.'!$A$2:$S$228,COLUMNS($A:B),FALSE)&"") | F22: =IF($D22="","",VLOOKUP($D22,'Services AVANT Rentrée Sept.'!$A$2:$S$228,COLUMNS($A:C),FALSE)&"") | G22: =IF($D22="","",VLOOKUP($D22,'Services AVANT Rentrée Sept.'!$A$2:$S$228,COLUMNS($A:D),FALSE)&"") | H22: =IF($D22="","",VLOOKUP($D22,'Services AVANT Rentrée Sept.'!$A$2:$S$228,COLUMNS($A:E),FALSE)&"") | I22: =IF($D22="","",VLOOKUP($D22,'Services AVANT Rentrée Sept.'!$A$2:$S$228,COLUMNS($A:F),FALSE)&"") | J22: =IF($D22="","",VLOOKUP($D22,'Services AVANT Rentrée Sept.'!$A$2:$S$228,COLUMNS($A:G),FALSE)&"") | K22: =IF($D22="","",VLOOKUP($D22,'Services AVANT Rentrée Sept.'!$A$2:$S$228,COLUMNS($A:H),FALSE)&"") | L22: =IF($D22="","",VLOOKUP($D22,'Services AVANT Rentrée Sept.'!$A$2:$S$228,COLUMNS($A:I),FALSE)&"") | M22: =IF($D22="","",VLOOKUP($D22,'Services AVANT Rentrée Sept.'!$A$2:$S$228,COLUMNS($A:J),FALSE)&"") | N22: =IF($D22="","",VLOOKUP($D22,'Services AVANT Rentrée Sept.'!$A$2:$S$228,COLUMNS($A:K),FALSE)&"") | O22: =IF($D22="","",VLOOKUP($D22,'Services AVANT Rentrée Sept.'!$A$2:$S$228,COLUMNS($A:L),FALSE)&"") | P22: =IF($D22="","",VLOOKUP($D22,'Services AVANT Rentrée Sept.'!$A$2:$S$228,COLUMNS($A:M),FALSE)&"") | Q22: =IF($D22="","",VLOOKUP($D22,'Services AVANT Rentrée Sept.'!$A$2:$S$228,COLUMNS($A:N),FALSE)&"") | R22: =IF($D22="","",VLOOKUP($D22,'Services AVANT Rentrée Sept.'!$A$2:$S$228,COLUMNS($A:O),FALSE)&"") | S22: =IF($D22="","",VLOOKUP($D22,'Services AVANT Rentrée Sept.'!$A$2:$S$228,COLUMNS($A:P),FALSE)&"") | T22: =IF($D22="","",VLOOKUP($D22,'Services AVANT Rentrée Sept.'!$A$2:$S$228,COLUMNS($A:Q),FALSE)&"") | W22: =SUM(V16:V22) -> 0
B23: 0 | E23: =IF($D23="","",VLOOKUP($D23,'Services AVANT Rentrée Sept.'!$A$2:$S$228,COLUMNS($A:B),FALSE)&"") | F23: =IF($D23="","",VLOOKUP($D23,'Services AVANT Rentrée Sept.'!$A$2:$S$228,COLUMNS($A:C),FALSE)&"") | G23: =IF($D23="","",VLOOKUP($D23,'Services AVANT Rentrée Sept.'!$A$2:$S$228,COLUMNS($A:D),FALSE)&"") | H23: =IF($D23="","",VLOOKUP($D23,'Services AVANT Rentrée Sept.'!$A$2:$S$228,COLUMNS($A:E),FALSE)&"") | I23: =IF($D23="","",VLOOKUP($D23,'Services AVANT Rentrée Sept.'!$A$2:$S$228,COLUMNS($A:F),FALSE)&"") | J23: =IF($D23="","",VLOOKUP($D23,'Services AVANT Rentrée Sept.'!$A$2:$S$228,COLUMNS($A:G),FALSE)&"") | K23: =IF($D23="","",VLOOKUP($D23,'Services AVANT Rentrée Sept.'!$A$2:$S$228,COLUMNS($A:H),FALSE)&"") | L23: =IF($D23="","",VLOOKUP($D23,'Services AVANT Rentrée Sept.'!$A$2:$S$228,COLUMNS($A:I),FALSE)&"") | M23: =IF($D23="","",VLOOKUP($D23,'Services AVANT Rentrée Sept.'!$A$2:$S$228,COLUMNS($A:J),FALSE)&"") | N23: =IF($D23="","",VLOOKUP($D23,'Services AVANT Rentrée Sept.'!$A$2:$S$228,COLUMNS($A:K),FALSE)&"") | O23: =IF($D23="","",VLOOKUP($D23,'Services AVANT Rentrée Sept.'!$A$2:$S$228,COLUMNS($A:L),FALSE)&"") | P23: =IF($D23="","",VLOOKUP($D23,'Services AVANT Rentrée Sept.'!$A$2:$S$228,COLUMNS($A:M),FALSE)&"") | Q23: =IF($D23="","",VLOOKUP($D23,'Services AVANT Rentrée Sept.'!$A$2:$S$228,COLUMNS($A:N),FALSE)&"") | R23: =IF($D23="","",VLOOKUP($D23,'Services AVANT Rentrée Sept.'!$A$2:$S$228,COLUMNS($A:O),FALSE)&"") | S23: =IF($D23="","",VLOOKUP($D23,'Services AVANT Rentrée Sept.'!$A$2:$S$228,COLUMNS($A:P),FALSE)&"") | T23: =IF($D23="","",VLOOKUP($D23,'Services AVANT Rentrée Sept.'!$A$2:$S$228,COLUMNS($A:Q),FALSE)&"") | U23: =IF($D23="","",VLOOKUP($D23,'[1]Services APRÉS Rentrée Sept'!$A$2:$R$228,COLUMNS($A:R),FALSE)&"") | W23: TOTAL TTE
E24: =IF($D24="","",VLOOKUP($D24,'Services AVANT Rentrée Sept.'!$A$2:$S$228,COLUMNS($A:B),FALSE)&"") | F24: =IF($D24="","",VLOOKUP($D24,'Services AVANT Rentrée Sept.'!$A$2:$S$228,COLUMNS($A:C),FALSE)&"") | G24: =IF($D24="","",VLOOKUP($D24,'Services AVANT Rentrée Sept.'!$A$2:$S$228,COLUMNS($A:D),FALSE)&"") | H24: =IF($D24="","",VLOOKUP($D24,'Services AVANT Rentrée Sept.'!$A$2:$S$228,COLUMNS($A:E),FALSE)&"") | I24: =IF($D24="","",VLOOKUP($D24,'Services AVANT Rentrée Sept.'!$A$2:$S$228,COLUMNS($A:F),FALSE)&"") | J24: =IF($D24="","",VLOOKUP($D24,'Services AVANT Rentrée Sept.'!$A$2:$S$228,COLUMNS($A:G),FALSE)&"") | K24: =IF($D24="","",VLOOKUP($D24,'Services AVANT Rentrée Sept.'!$A$2:$S$228,COLUMNS($A:H),FALSE)&"") | L24: =IF($D24="","",VLOOKUP($D24,'Services AVANT Rentrée Sept.'!$A$2:$S$228,COLUMNS($A:I),FALSE)&"") | M24: =IF($D24="","",VLOOKUP($D24,'Services AVANT Rentrée Sept.'!$A$2:$S$228,COLUMNS($A:J),FALSE)&"") | N24: =IF($D24="","",VLOOKUP($D24,'Services AVANT Rentrée Sept.'!$A$2:$S$228,COLUMNS($A:K),FALSE)&"") | O24: =IF($D24="","",VLOOKUP($D24,'Services AVANT Rentrée Sept.'!$A$2:$S$228,COLUMNS($A:L),FALSE)&"") | P24: =IF($D24="","",VLOOKUP($D24,'Services AVANT Rentrée Sept.'!$A$2:$S$228,COLUMNS($A:M),FALSE)&"") | Q24: =IF($D24="","",VLOOKUP($D24,'Services AVANT Rentrée Sept.'!$A$2:$S$228,COLUMNS($A:N),FALSE)&"") | R24: =IF($D24="","",VLOOKUP($D24,'Services AVANT Rentrée Sept.'!$A$2:$S$228,COLUMNS($A:O),FALSE)&"") | S24: =IF($D24="","",VLOOKUP($D24,'Services AVANT Rentrée Sept.'!$A$2:$S$228,COLUMNS($A:P),FALSE)&"") | T24: =IF($D24="","",VLOOKUP($D24,'Services AVANT Rentrée Sept.'!$A$2:$S$228,COLUMNS($A:Q),FALSE)&"")
E25: =IF($D25="","",VLOOKUP($D25,'Services AVANT Rentrée Sept.'!$A$2:$S$228,COLUMNS($A:B),FALSE)&"") | F25: =IF($D25="","",VLOOKUP($D25,'Services AVANT Rentrée Sept.'!$A$2:$S$228,COLUMNS($A:C),FALSE)&"") | G25: =IF($D25="","",VLOOKUP($D25,'Services AVANT Rentrée Sept.'!$A$2:$S$228,COLUMNS($A:D),FALSE)&"") | H25: =IF($D25="","",VLOOKUP($D25,'Services AVANT Rentrée Sept.'!$A$2:$S$228,COLUMNS($A:E),FALSE)&"") | I25: =IF($D25="","",VLOOKUP($D25,'Services AVANT Rentrée Sept.'!$A$2:$S$228,COLUMNS($A:F),FALSE)&"") | J25: =IF($D25="","",VLOOKUP($D25,'Services AVANT Rentrée Sept.'!$A$2:$S$228,COLUMNS($A:G),FALSE)&"") | K25: =IF($D25="","",VLOOKUP($D25,'Services AVANT Rentrée Sept.'!$A$2:$S$228,COLUMNS($A:H),FALSE)&"") | L25: =IF($D25="","",VLOOKUP($D25,'Services AVANT Rentrée Sept.'!$A$2:$S$228,COLUMNS($A:I),FALSE)&"") | M25: =IF($D25="","",VLOOKUP($D25,'Services AVANT Rentrée Sept.'!$A$2:$S$228,COLUMNS($A:J),FALSE)&"") | N25: =IF($D25="","",VLOOKUP($D25,'Services AVANT Rentrée Sept.'!$A$2:$S$228,COLUMNS($A:K),FALSE)&"") | O25: =IF($D25="","",VLOOKUP($D25,'Services AVANT Rentrée Sept.'!$A$2:$S$228,COLUMNS($A:L),FALSE)&"") | P25: =IF($D25="","",VLOOKUP($D25,'Services AVANT Rentrée Sept.'!$A$2:$S$228,COLUMNS($A:M),FALSE)&"") | Q25: =IF($D25="","",VLOOKUP($D25,'Services AVANT Rentrée Sept.'!$A$2:$S$228,COLUMNS($A:N),FALSE)&"") | R25: =IF($D25="","",VLOOKUP($D25,'Services AVANT Rentrée Sept.'!$A$2:$S$228,COLUMNS($A:O),FALSE)&"") | S25: =IF($D25="","",VLOOKUP($D25,'Services AVANT Rentrée Sept.'!$A$2:$S$228,COLUMNS($A:P),FALSE)&"") | T25: =IF($D25="","",VLOOKUP($D25,'Services AVANT Rentrée Sept.'!$A$2:$S$228,COLUMNS($A:Q),FALSE)&"") | W25: =SUM(U23:U29) -> 0
E26: =IF($D26="","",VLOOKUP($D26,'Services AVANT Rentrée Sept.'!$A$2:$S$228,COLUMNS($A:B),FALSE)&"") | F26: =IF($D26="","",VLOOKUP($D26,'Services AVANT Rentrée Sept.'!$A$2:$S$228,COLUMNS($A:C),FALSE)&"") | G26: =IF($D26="","",VLOOKUP($D26,'Services AVANT Rentrée Sept.'!$A$2:$S$228,COLUMNS($A:D),FALSE)&"") | H26: =IF($D26="","",VLOOKUP($D26,'Services AVANT Rentrée Sept.'!$A$2:$S$228,COLUMNS($A:E),FALSE)&"") | I26: =IF($D26="","",VLOOKUP($D26,'Services AVANT Rentrée Sept.'!$A$2:$S$228,COLUMNS($A:F),FALSE)&"") | J26: =IF($D26="","",VLOOKUP($D26,'Services AVANT Rentrée Sept.'!$A$2:$S$228,COLUMNS($A:G),FALSE)&"") | K26: =IF($D26="","",VLOOKUP($D26,'Services AVANT Rentrée Sept.'!$A$2:$S$228,COLUMNS($A:H),FALSE)&"") | L26: =IF($D26="","",VLOOKUP($D26,'Services AVANT Rentrée Sept.'!$A$2:$S$228,COLUMNS($A:I),FALSE)&"") | M26: =IF($D26="","",VLOOKUP($D26,'Services AVANT Rentrée Sept.'!$A$2:$S$228,COLUMNS($A:J),FALSE)&"") | N26: =IF($D26="","",VLOOKUP($D26,'Services AVANT Rentrée Sept.'!$A$2:$S$228,COLUMNS($A:K),FALSE)&"") | O26: =IF($D26="","",VLOOKUP($D26,'Services AVANT Rentrée Sept.'!$A$2:$S$228,COLUMNS($A:L),FALSE)&"") | P26: =IF($D26="","",VLOOKUP($D26,'Services AVANT Rentrée Sept.'!$A$2:$S$228,COLUMNS($A:M),FALSE)&"") | Q26: =IF($D26="","",VLOOKUP($D26,'Services AVANT Rentrée Sept.'!$A$2:$S$228,COLUMNS($A:N),FALSE)&"") | R26: =IF($D26="","",VLOOKUP($D26,'Services AVANT Rentrée Sept.'!$A$2:$S$228,COLUMNS($A:O),FALSE)&"") | S26: =IF($D26="","",VLOOKUP($D26,'Services AVANT Rentrée Sept.'!$A$2:$S$228,COLUMNS($A:P),FALSE)&"") | T26: =IF($D26="","",VLOOKUP($D26,'Services AVANT Rentrée Sept.'!$A$2:$S$228,COLUMNS($A:Q),FALSE)&"")
E27: =IF($D27="","",VLOOKUP($D27,'Services AVANT Rentrée Sept.'!$A$2:$S$228,COLUMNS($A:B),FALSE)&"") | F27: =IF($D27="","",VLOOKUP($D27,'Services AVANT Rentrée Sept.'!$A$2:$S$228,COLUMNS($A:C),FALSE)&"") | G27: =IF($D27="","",VLOOKUP($D27,'Services AVANT Rentrée Sept.'!$A$2:$S$228,COLUMNS($A:D),FALSE)&"") | H27: =IF($D27="","",VLOOKUP($D27,'Services AVANT Rentrée Sept.'!$A$2:$S$228,COLUMNS($A:E),FALSE)&"") | I27: =IF($D27="","",VLOOKUP($D27,'Services AVANT Rentrée Sept.'!$A$2:$S$228,COLUMNS($A:F),FALSE)&"") | J27: =IF($D27="","",VLOOKUP($D27,'Services AVANT Rentrée Sept.'!$A$2:$S$228,COLUMNS($A:G),FALSE)&"") | K27: =IF($D27="","",VLOOKUP($D27,'Services AVANT Rentrée Sept.'!$A$2:$S$228,COLUMNS($A:H),FALSE)&"") | L27: =IF($D27="","",VLOOKUP($D27,'Services AVANT Rentrée Sept.'!$A$2:$S$228,COLUMNS($A:I),FALSE)&"") | M27: =IF($D27="","",VLOOKUP($D27,'Services AVANT Rentrée Sept.'!$A$2:$S$228,COLUMNS($A:J),FALSE)&"") | N27: =IF($D27="","",VLOOKUP($D27,'Services AVANT Rentrée Sept.'!$A$2:$S$228,COLUMNS($A:K),FALSE)&"") | O27: =IF($D27="","",VLOOKUP($D27,'Services AVANT Rentrée Sept.'!$A$2:$S$228,COLUMNS($A:L),FALSE)&"") | P27: =IF($D27="","",VLOOKUP($D27,'Services AVANT Rentrée Sept.'!$A$2:$S$228,COLUMNS($A:M),FALSE)&"") | Q27: =IF($D27="","",VLOOKUP($D27,'Services AVANT Rentrée Sept.'!$A$2:$S$228,COLUMNS($A:N),FALSE)&"") | R27: =IF($D27="","",VLOOKUP($D27,'Services AVANT Rentrée Sept.'!$A$2:$S$228,COLUMNS($A:O),FALSE)&"") | S27: =IF($D27="","",VLOOKUP($D27,'Services AVANT Rentrée Sept.'!$A$2:$S$228,COLUMNS($A:P),FALSE)&"") | T27: =IF($D27="","",VLOOKUP($D27,'Services AVANT Rentrée Sept.'!$A$2:$S$228,COLUMNS($A:Q),FALSE)&"") | W27: TOTAL AMPL.
E28: =IF($D28="","",VLOOKUP($D28,'Services AVANT Rentrée Sept.'!$A$2:$S$228,COLUMNS($A:B),FALSE)&"") | F28: =IF($D28="","",VLOOKUP($D28,'Services AVANT Rentrée Sept.'!$A$2:$S$228,COLUMNS($A:C),FALSE)&"") | G28: =IF($D28="","",VLOOKUP($D28,'Services AVANT Rentrée Sept.'!$A$2:$S$228,COLUMNS($A:D),FALSE)&"") | H28: =IF($D28="","",VLOOKUP($D28,'Services AVANT Rentrée Sept.'!$A$2:$S$228,COLUMNS($A:E),FALSE)&"") | I28: =IF($D28="","",VLOOKUP($D28,'Services AVANT Rentrée Sept.'!$A$2:$S$228,COLUMNS($A:F),FALSE)&"") | J28: =IF($D28="","",VLOOKUP($D28,'Services AVANT Rentrée Sept.'!$A$2:$S$228,COLUMNS($A:G),FALSE)&"") | K28: =IF($D28="","",VLOOKUP($D28,'Services AVANT Rentrée Sept.'!$A$2:$S$228,COLUMNS($A:H),FALSE)&"") | L28: =IF($D28="","",VLOOKUP($D28,'Services AVANT Rentrée Sept.'!$A$2:$S$228,COLUMNS($A:I),FALSE)&"") | M28: =IF($D28="","",VLOOKUP($D28,'Services AVANT Rentrée Sept.'!$A$2:$S$228,COLUMNS($A:J),FALSE)&"") | N28: =IF($D28="","",VLOOKUP($D28,'Services AVANT Rentrée Sept.'!$A$2:$S$228,COLUMNS($A:K),FALSE)&"") | O28: =IF($D28="","",VLOOKUP($D28,'Services AVANT Rentrée Sept.'!$A$2:$S$228,COLUMNS($A:L),FALSE)&"") | P28: =IF($D28="","",VLOOKUP($D28,'Services AVANT Rentrée Sept.'!$A$2:$S$228,COLUMNS($A:M),FALSE)&"") | Q28: =IF($D28="","",VLOOKUP($D28,'Services AVANT Rentrée Sept.'!$A$2:$S$228,COLUMNS($A:N),FALSE)&"") | R28: =IF($D28="","",VLOOKUP($D28,'Services AVANT Rentrée Sept.'!$A$2:$S$228,COLUMNS($A:O),FALSE)&"") | S28: =IF($D28="","",VLOOKUP($D28,'Services AVANT Rentrée Sept.'!$A$2:$S$228,COLUMNS($A:P),FALSE)&"") | T28: =IF($D28="","",VLOOKUP($D28,'Services AVANT Rentrée Sept.'!$A$2:$S$228,COLUMNS($A:Q),FALSE)&"")
E29: =IF($D29="","",VLOOKUP($D29,'Services AVANT Rentrée Sept.'!$A$2:$S$228,COLUMNS($A:B),FALSE)&"") | F29: =IF($D29="","",VLOOKUP($D29,'Services AVANT Rentrée Sept.'!$A$2:$S$228,COLUMNS($A:C),FALSE)&"") | G29: =IF($D29="","",VLOOKUP($D29,'Services AVANT Rentrée Sept.'!$A$2:$S$228,COLUMNS($A:D),FALSE)&"") | H29: =IF($D29="","",VLOOKUP($D29,'Services AVANT Rentrée Sept.'!$A$2:$S$228,COLUMNS($A:E),FALSE)&"") | I29: =IF($D29="","",VLOOKUP($D29,'Services AVANT Rentrée Sept.'!$A$2:$S$228,COLUMNS($A:F),FALSE)&"") | J29: =IF($D29="","",VLOOKUP($D29,'Services AVANT Rentrée Sept.'!$A$2:$S$228,COLUMNS($A:G),FALSE)&"") | K29: =IF($D29="","",VLOOKUP($D29,'Services AVANT Rentrée Sept.'!$A$2:$S$228,COLUMNS($A:H),FALSE)&"") | L29: =IF($D29="","",VLOOKUP($D29,'Services AVANT Rentrée Sept.'!$A$2:$S$228,COLUMNS($A:I),FALSE)&"") | M29: =IF($D29="","",VLOOKUP($D29,'Services AVANT Rentrée Sept.'!$A$2:$S$228,COLUMNS($A:J),FALSE)&"") | N29: =IF($D29="","",VLOOKUP($D29,'Services AVANT Rentrée Sept.'!$A$2:$S$228,COLUMNS($A:K),FALSE)&"") | O29: =IF($D29="","",VLOOKUP($D29,'Services AVANT Rentrée Sept.'!$A$2:$S$228,COLUMNS($A:L),FALSE)&"") | P29: =IF($D29="","",VLOOKUP($D29,'Services AVANT Rentrée Sept.'!$A$2:$S$228,COLUMNS($A:M),FALSE)&"") | Q29: =IF($D29="","",VLOOKUP($D29,'Services AVANT Rentrée Sept.'!$A$2:$S$228,COLUMNS($A:N),FALSE)&"") | R29: =IF($D29="","",VLOOKUP($D29,'Services AVANT Rentrée Sept.'!$A$2:$S$228,COLUMNS($A:O),FALSE)&"") | S29: =IF($D29="","",VLOOKUP($D29,'Services AVANT Rentrée Sept.'!$A$2:$S$228,COLUMNS($A:P),FALSE)&"") | T29: =IF($D29="","",VLOOKUP($D29,'Services AVANT Rentrée Sept.'!$A$2:$S$228,COLUMNS($A:Q),FALSE)&"") | W29: =SUM(V23:V29) -> 0
B30: 0 | E30: =IF($D30="","",VLOOKUP($D30,'Services AVANT Rentrée Sept.'!$A$2:$S$228,COLUMNS($A:B),FALSE)&"") | F30: =IF($D30="","",VLOOKUP($D30,'Services AVANT Rentrée Sept.'!$A$2:$S$228,COLUMNS($A:C),FALSE)&"") | G30: =IF($D30="","",VLOOKUP($D30,'Services AVANT Rentrée Sept.'!$A$2:$S$228,COLUMNS($A:D),FALSE)&"") | H30: =IF($D30="","",VLOOKUP($D30,'Services AVANT Rentrée Sept.'!$A$2:$S$228,COLUMNS($A:E),FALSE)&"") | I30: =IF($D30="","",VLOOKUP($D30,'Services AVANT Rentrée Sept.'!$A$2:$S$228,COLUMNS($A:F),FALSE)&"") | J30: =IF($D30="","",VLOOKUP($D30,'Services AVANT Rentrée Sept.'!$A$2:$S$228,COLUMNS($A:G),FALSE)&"") | K30: =IF($D30="","",VLOOKUP($D30,'Services AVANT Rentrée Sept.'!$A$2:$S$228,COLUMNS($A:H),FALSE)&"") | L30: =IF($D30="","",VLOOKUP($D30,'Services AVANT Rentrée Sept.'!$A$2:$S$228,COLUMNS($A:I),FALSE)&"") | M30: =IF($D30="","",VLOOKUP($D30,'Services AVANT Rentrée Sept.'!$A$2:$S$228,COLUMNS($A:J),FALSE)&"") | N30: =IF($D30="","",VLOOKUP($D30,'Services AVANT Rentrée Sept.'!$A$2:$S$228,COLUMNS($A:K),FALSE)&"") | O30: =IF($D30="","",VLOOKUP($D30,'Services AVANT Rentrée Sept.'!$A$2:$S$228,COLUMNS($A:L),FALSE)&"") | P30: =IF($D30="","",VLOOKUP($D30,'Services AVANT Rentrée Sept.'!$A$2:$S$228,COLUMNS($A:M),FALSE)&"") | Q30: =IF($D30="","",VLOOKUP($D30,'Services AVANT Rentrée Sept.'!$A$2:$S$228,COLUMNS($A:N),FALSE)&"") | R30: =IF($D30="","",VLOOKUP($D30,'Services AVANT Rentrée Sept.'!$A$2:$S$228,COLUMNS($A:O),FALSE)&"") | S30: =IF($D30="","",VLOOKUP($D30,'Services AVANT Rentrée Sept.'!$A$2:$S$228,COLUMNS($A:P),FALSE)&"") | T30: =IF($D30="","",VLOOKUP($D30,'Services AVANT Rentrée Sept.'!$A$2:$S$228,COLUMNS($A:Q),FALSE)&"")
E31: =IF($D31="","",VLOOKUP($D31,'Services AVANT Rentrée Sept.'!$A$2:$S$228,COLUMNS($A:B),FALSE)&"") | F31: =IF($D31="","",VLOOKUP($D31,'Services AVANT Rentrée Sept.'!$A$2:$S$228,COLUMNS($A:C),FALSE)&"") | G31: =IF($D31="","",VLOOKUP($D31,'Services AVANT Rentrée Sept.'!$A$2:$S$228,COLUMNS($A:D),FALSE)&"") | H31: =IF($D31="","",VLOOKUP($D31,'Services AVANT Rentrée Sept.'!$A$2:$S$228,COLUMNS($A:E),FALSE)&"") | I31: =IF($D31="","",VLOOKUP($D31,'Services AVANT Rentrée Sept.'!$A$2:$S$228,COLUMNS($A:F),FALSE)&"") | J31: =IF($D31="","",VLOOKUP($D31,'Services AVANT Rentrée Sept.'!$A$2:$S$228,COLUMNS($A:G),FALSE)&"") | K31: =IF($D31="","",VLOOKUP($D31,'Services AVANT Rentrée Sept.'!$A$2:$S$228,COLUMNS($A:H),FALSE)&"") | L31: =IF($D31="","",VLOOKUP($D31,'Services AVANT Rentrée Sept.'!$A$2:$S$228,COLUMNS($A:I),FALSE)&"") | M31: =IF($D31="","",VLOOKUP($D31,'Services AVANT Rentrée Sept.'!$A$2:$S$228,COLUMNS($A:J),FALSE)&"") | N31: =IF($D31="","",VLOOKUP($D31,'Services AVANT Rentrée Sept.'!$A$2:$S$228,COLUMNS($A:K),FALSE)&"") | O31: =IF($D31="","",VLOOKUP($D31,'Services AVANT Rentrée Sept.'!$A$2:$S$228,COLUMNS($A:L),FALSE)&"") | P31: =IF($D31="","",VLOOKUP($D31,'Services AVANT Rentrée Sept.'!$A$2:$S$228,COLUMNS($A:M),FALSE)&"") | Q31: =IF($D31="","",VLOOKUP($D31,'Services AVANT Rentrée Sept.'!$A$2:$S$228,COLUMNS($A:N),FALSE)&"") | R31: =IF($D31="","",VLOOKUP($D31,'Services AVANT Rentrée Sept.'!$A$2:$S$228,COLUMNS($A:O),FALSE)&"") | S31: =IF($D31="","",VLOOKUP($D31,'Services AVANT Rentrée Sept.'!$A$2:$S$228,COLUMNS($A:P),FALSE)&"") | T31: =IF($D31="","",VLOOKUP($D31,'Services AVANT Rentrée Sept.'!$A$2:$S$228,COLUMNS($A:Q),FALSE)&"")
C33: TOTAL MATINS : | D33: =COUNTIF($D$2:$E$32,"MATIN") -> 3 | E33: TOTAL APRES-MIDI : | G33: =COUNTIF($D$2:$E$32,"APRES-MIDI") -> 0 | H33: TOTAL COUPURE : | J33: =COUNTIF($D$2:$E$32,"COUPURE") -> 0
C35: TOTAL REPOS : | D35: =COUNTIF($D$2:$E$32,"REPOS") -> 0 | E35: TOTAL DISPO : | G35: =COUNTIF($D$2:$E$32,"DISPO") -> 0 | H35: TOTAL CONGÉ : | J35: =COUNTIF($D$2:$E$32,"CONGÉ") -> 0 | K35: TOTAL FÉRIÉ : | M35: =COUNTIF($D$2:$E$32,"FÉRIÉ") -> 0
