Workbook

Sheet Services AVANT Rentrée Sept.
A1: SERVICES | B1: A/A-M/C | C1: 0.25 | D1: 0.29166667 | E1: 0.33333333 | F1: 0.375 | G1: 0.41666667 | H1: 0.45833333 | I1: 0.5 | J1: 0.54166667 | K1: 0.58333333 | L1: 0.625 | M1: 0.66666667 | N1: 0.70833333 | O1: 0.75 | P1: 0.79166667 | Q1: 0.83333333 | R1: TTE | S1: AMPL.
A2: [SCOLAIRE] | B2: ERREUR | C2: ERREUR | D2: ERREUR | E2: ERREUR | F2: ERREUR | G2: ERREUR | H2: ERREUR | I2: ERREUR | J2: ERREUR | K2: ERREUR | L2: ERREUR | M2: ERREUR | N2: ERREUR | O2: ERREUR | P2: ERREUR | Q2: ERREUR
A3: > MATIN < | B3: ERREUR
A4: 301A | B4: MATIN | C4: 0.27638889 | I4: 0.53333333 | R4: 0.30694444 | S4: 0.36944444
A5: 301W | B5: MATIN | C5: 0.27638889 | J5: 0.54375 | R5: 0.23819444 | S5: 0.46875
A6: 301S | B6: MATIN | C6: 0.26388889 | J6: 0.55833333
A7: 302A | B7: MATIN | C7: 0.28888889 | K7: 0.59513889
A8: 302W | B8: MATIN | C8: 0.28888889 | K8: 0.59513889
A9: 302S | B9: MATIN | C9: 0.28125 | J9: 0.56180556
A10: 303A | B10: MATIN | C10: 0.27013889 | I10: 0.53541667
A11: 303W | B11: MATIN | C11: 0.27013889 | I11: 0.53888889
A12: 303S | B12: MATIN | C12: 0.27291667 | I12: 0.54027778
A13: 304A | B13: MATIN | C13: 0.27222222 | J13: 0.54652778
A14: 304W | B14: MATIN | C14: 0.27222222 | J14: 0.54652778
A15: 304S | B15: MATIN | C15: 0.27013889 | J15: 0.54166667
A16: 305A | B16: MATIN | C16: 0.25138889 | J16: 0.57291667
A17: 305W | B17: MATIN | C17: 0.25138889 | J17: 0.57291667
A18: 305S | B18: MATIN | C18: 0.27638889 | I18: 0.53055556
A19: 306B | B19: MATIN | C19: 0.27986111 | K19: 0.61666667
A20: 306S | B20: MATIN | C20: 0.27986111 | J20: 0.55833333
A21: 307B | B21: MATIN | C21: 0.28125 | J21: 0.56597222
A22: 307S | B22: MATIN | E22: 0.35555556 | L22: 0.62569444
A23: 308B | B23: MATIN | C23: 0.27291667 | K23: 0.59027778
A24: 308S | B24: MATIN | C24: 0.28055556 | J24: 0.56458333
A25: 309A | B25: MATIN | C25: 0.27986111 | I25: 0.53819444
A26: 309W | B26: MATIN | C26: 0.27986111 | I26: 0.54027778
A27: 309S | B27: MATIN | C27: 0.26458333 | I27: 0.54027778
A28: 310A | B28: MATIN | C28: 0.26736111 | J28: 0.55694444
A29: 310W | B29: MATIN | C29: 0.26736111 | J29: 0.55694444
A30: 364S | B30: MATIN | C30: 0.28541667 | I30: 0.53958333
A31: > VITENVILLE < | B31: ERREUR
A32: 360C | B32: MATIN | C32: 0.27291667 | J32: 0.55902778
A33: 361C | B33: MATIN | C33: 0.26944444 | J33: 0.55902778
A34: 362C | B34: MATIN | C34: 0.27222222 | J34: 0.55902778
A35: 363J | B35: MATIN | C35: 0.29166667 | J35: 0.56666667
A36: > APRES-MIDI < | B36: ERREUR
A37: 321B | B37: APRES-MIDI | J37: 0.55486111 | Q37: 0.84930556
A38: 321S | B38: APRES-MIDI | I38: 0.50694444 | Q38: 0.85
A39: 321D | B39: APRES-MIDI | I39: 0.52083333 | Q39: 0.85208333
A40: 322A | B40: APRES-MIDI | H40: 0.49861111 | P40: 0.8125
...

Sheet MOIS VIERGE 1
B1: SEMAINES | C1: DATES | D1: SERVICES | E1: M/A-M/C | F1: 0.25 | G1: 0.29166667 | H1: 0.33333333 | I1: 0.375 | J1: 0.41666667 | K1: 0.45833333 | L1: 0.5 | M1: 0.54166667 | N1: 0.58333333 | O1: 0.625 | P1: 0.66666667 | Q1: 0.70833333 | R1: 0.75 | S1: 0.79166667 | T1: 0.83333333 | U1: TTE | V1: AMPL.
A2: OCTOBRE | B2: 0 | C2: 36647 | D2: 301A | E2: =IF($D2="","",VLOOKUP($D2,'Services AVANT Rentrée Sept.'!$A$2:$S$228,COLUMNS($A:B),FALSE)&"") -> MATIN | F2: =IF($D2="","",VLOOKUP($D2,'Services AVANT Rentrée Sept.'!$A$2:$S$228,COLUMN()-3,FALSE)) -> 0.27638889 | G2: =IF($D2="","",VLOOKUP($D2,'Services AVANT Rentrée Sept.'!$A$2:$S$228,COLUMN()-3,FALSE)) -> 0 | H2: =IF($D2="","",VLOOKUP($D2,'Services AVANT Rentrée Sept.'!$A$2:$S$228,COLUMN()-3,FALSE)) -> 0 | I2: =IF($D2="","",VLOOKUP($D2,'Services AVANT Rentrée Sept.'!$A$2:$S$228,COLUMN()-3,FALSE)) -> 0 | J2: =IF($D2="","",VLOOKUP($D2,'Services AVANT Rentrée Sept.'!$A$2:$S$228,COLUMN()-3,FALSE)) -> 0 | K2: =IF($D2="","",VLOOKUP($D2,'Services AVANT Rentrée Sept.'!$A$2:$S$228,COLUMN()-3,FALSE)) -> 0 | L2: =IF($D2="","",VLOOKUP($D2,'Services AVANT Rentrée Sept.'!$A$2:$S$228,COLUMN()-3,FALSE)) -> 0.53333333 | M2: =IF($D2="","",VLOOKUP($D2,'Services AVANT Rentrée Sept.'!$A$2:$S$228,COLUMN()-3,FALSE)) -> 0 | ... V2: =IF($D2="","",VLOOKUP($D2,'Services AVANT Rentrée Sept.'!$A$2:$S$228,COLUMN()-3,FALSE)) -> 0.36944444 | W2: TOTAL TTE
C3: 36648 | D3: 301W | E3: =IF($D3="","",VLOOKUP($D3,'Services AVANT Rentrée Sept.'!$A$2:$S$228,COLUMNS($A:B),FALSE)&"") -> MATIN | F3: =IF($D3="","",VLOOKUP($D3,'Services AVANT Rentrée Sept.'!$A$2:$S$228,COLUMN()-3,FALSE)) -> 0.27638889 | G3: =IF($D3="","",VLOOKUP($D3,'Services AVANT Rentrée Sept.'!$A$2:$S$228,COLUMN()-3,FALSE)) -> 0 | H3: =IF($D3="","",VLOOKUP($D3,'Services AVANT Rentrée Sept.'!$A$2:$S$228,COLUMN()-3,FALSE)) -> 0 | I3: =IF($D3="","",VLOOKUP($D3,'Services AVANT Rentrée Sept.'!$A$2:$S$228,COLUMN()-3,FALSE)) -> 0 | J3: =IF($D3="","",VLOOKUP($D3,'Services AVANT Rentrée Sept.'!$A$2:$S$228,COLUMN()-3,FALSE)) -> 0 | K3: =IF($D3="","",VLOOKUP($D3,'Services AVANT Rentrée Sept.'!$A$2:$S$228,COLUMN()-3,FALSE)) -> 0 | L3: =IF($D3="","",VLOOKUP($D3,'Services AVANT Rentrée Sept.'!$A$2:$S$228,COLUMN()-3,FALSE)) -> 0 | M3: =IF($D3="","",VLOOKUP($D3,'Services AVANT Rentrée Sept.'!$A$2:$S$228,COLUMN()-3,FALSE)) -> 0.54375 | ... V3: =IF($D3="","",VLOOKUP($D3,'Services AVANT Rentrée Sept.'!$A$2:$S$228,COLUMN()-3,FALSE)) -> 0.46875
C4: 36649 | D4: 301W | E4: =IF($D4="","",VLOOKUP($D4,'Services AVANT Rentrée Sept.'!$A$2:$S$228,COLUMNS($A:B),FALSE)&"") -> MATIN | F4: =IF($D4="","",VLOOKUP($D4,'Services AVANT Rentrée Sept.'!$A$2:$S$228,COLUMN()-3,FALSE)) -> 0.27638889 | G4: =IF($D4="","",VLOOKUP($D4,'Services AVANT Rentrée Sept.'!$A$2:$S$228,COLUMN()-3,FALSE)) -> 0 | H4: =IF($D4="","",VLOOKUP($D4,'Services AVANT Rentrée Sept.'!$A$2:$S$228,COLUMN()-3,FALSE)) -> 0 | I4: =IF($D4="","",VLOOKUP($D4,'Services AVANT Rentrée Sept.'!$A$2:$S$228,COLUMN()-3,FALSE)) -> 0 | J4: =IF($D4="","",VLOOKUP($D4,'Services AVANT Rentrée Sept.'!$A$2:$S$228,COLUMN()-3,FALSE)) -> 0 | K4: =IF($D4="","",VLOOKUP($D4,'Services AVANT Rentrée Sept.'!$A$2:$S$228,COLUMN()-3,FALSE)) -> 0 | L4: =IF($D4="","",VLOOKUP($D4,'Services AVANT Rentrée Sept.'!$A$2:$S$228,COLUMN()-3,FALSE)) -> 0 | M4: =IF($D4="","",VLOOKUP($D4,'Services AVANT Rentrée Sept.'!$A$2:$S$228,COLUMN()-3,FALSE)) -> 0.54375 | ... V4: =IF($D4="","",VLOOKUP($D4,'Services AVANT Rentrée Sept.'!$A$2:$S$228,COLUMN()-3,FALSE)) -> 0.46875 | W4: =SUM(U2:U8) -> 0.78333333
C5: 36650 | E5: =IF($D5="","",VLOOKUP($D5,'Services AVANT Rentrée Sept.'!$A$2:$S$228,COLUMNS($A:B),FALSE)&"") | F5: =IF($D5="","",VLOOKUP($D5,'Services AVANT Rentrée Sept.'!$A$2:$S$228,COLUMN()-3,FALSE)) | G5: =IF($D5="","",VLOOKUP($D5,'Services AVANT Rentrée Sept.'!$A$2:$S$228,COLUMN()-3,FALSE)) | H5: =IF($D5="","",VLOOKUP($D5,'Services AVANT Rentrée Sept.'!$A$2:$S$228,COLUMN()-3,FALSE)) | I5: =IF($D5="","",VLOOKUP($D5,'Services AVANT Rentrée Sept.'!$A$2:$S$228,COLUMN()-3,FALSE)) | J5: =IF($D5="","",VLOOKUP($D5,'Services AVANT Rentrée Sept.'!$A$2:$S$228,COLUMN()-3,FALSE)) | K5: =IF($D5="","",VLOOKUP($D5,'Services AVANT Rentrée Sept.'!$A$2:$S$228,COLUMN()-3,FALSE)) | L5: =IF($D5="","",VLOOKUP($D5,'Services AVANT Rentrée Sept.'!$A$2:$S$228,COLUMN()-3,FALSE)) | M5: =IF($D5="","",VLOOKUP($D5,'Services AVANT Rentrée Sept.'!$A$2:$S$228,COLUMN()-3,FALSE)) | ... V5: =IF($D5="","",VLOOKUP($D5,'Services AVANT Rentrée Sept.'!$A$2:$S$228,COLUMN()-3,FALSE))
C6: 36651 | E6: =IF($D6="","",VLOOKUP($D6,'Services AVANT Rentrée Sept.'!$A$2:$S$228,COLUMNS($A:B),FALSE)&"") | F6: =IF($D6="","",VLOOKUP($D6,'Services AVANT Rentrée Sept.'!$A$2:$S$228,COLUMN()-3,FALSE)) | G6: =IF($D6="","",VLOOKUP($D6,'Services AVANT Rentrée Sept.'!$A$2:$S$228,COLUMN()-3,FALSE)) | H6: =IF($D6="","",VLOOKUP($D6,'Services AVANT Rentrée Sept.'!$A$2:$S$228,COLUMN()-3,FALSE)) | I6: =IF($D6="","",VLOOKUP($D6,'Services AVANT Rentrée Sept.'!$A$2:$S$228,COLUMN()-3,FALSE)) | J6: =IF($D6="","",VLOOKUP($D6,'Services AVANT Rentrée Sept.'!$A$2:$S$228,COLUMN()-3,FALSE)) | K6: =IF($D6="","",VLOOKUP($D6,'Services AVANT Rentrée Sept.'!$A$2:$S$228,COLUMN()-3,FALSE)) | L6: =IF($D6="","",VLOOKUP($D6,'Services AVANT Rentrée Sept.'!$A$2:$S$228,COLUMN()-3,FALSE)) | M6: =IF($D6="","",VLOOKUP($D6,'Services AVANT Rentrée Sept.'!$A$2:$S$228,COLUMN()-3,FALSE)) | ... V6: =IF($D6="","",VLOOKUP($D6,'Services AVANT Rentrée Sept.'!$A$2:$S$228,COLUMN()-3,FALSE)) | W6: TOTAL AMPL.
C7: 36652 | E7: =IF($D7="","",VLOOKUP($D7,'Services AVANT Rentrée Sept.'!$A$2:$S$228,COLUMNS($A:B),FALSE)&"") | F7: =IF($D7="","",VLOOKUP($D7,'Services AVANT Rentrée Sept.'!$A$2:$S$228,COLUMN()-3,FALSE)) | G7: =IF($D7="","",VLOOKUP($D7,'Services AVANT Rentrée Sept.'!$A$2:$S$228,COLUMN()-3,FALSE)) | H7: =IF($D7="","",VLOOKUP($D7,'Services AVANT Rentrée Sept.'!$A$2:$S$228,COLUMN()-3,FALSE)) | I7: =IF($D7="","",VLOOKUP($D7,'Services AVANT Rentrée Sept.'!$A$2:$S$228,COLUMN()-3,FALSE)) | J7: =IF($D7="","",VLOOKUP($D7,'Services AVANT Rentrée Sept.'!$A$2:$S$228,COLUMN()-3,FALSE)) | K7: =IF($D7="","",VLOOKUP($D7,'Services AVANT Rentrée Sept.'!$A$2:$S$228,COLUMN()-3,FALSE)) | L7: =IF($D7="","",VLOOKUP($D7,'Services AVANT Rentrée Sept.'!$A$2:$S$228,COLUMN()-3,FALSE)) | M7: =IF($D7="","",VLOOKUP($D7,'Services AVANT Rentrée Sept.'!$A$2:$S$228,COLUMN()-3,FALSE)) | ... V7: =IF($D7="","",VLOOKUP($D7,'Services AVANT Rentrée Sept.'!$A$2:$S$228,COLUMN()-3,FALSE))
C8: 36653 | E8: =IF($D8="","",VLOOKUP($D8,'Services AVANT Rentrée Sept.'!$A$2:$S$228,COLUMNS($A:B),FALSE)&"") | F8: =IF($D8="","",VLOOKUP($D8,'Services AVANT Rentrée Sept.'!$A$2:$S$228,COLUMN()-3,FALSE)) | G8: =IF($D8="","",VLOOKUP($D8,'Services AVANT Rentrée Sept.'!$A$2:$S$228,COLUMN()-3,FALSE)) | H8: =IF($D8="","",VLOOKUP($D8,'Services AVANT Rentrée Sept.'!$A$2:$S$228,COLUMN()-3,FALSE)) | I8: =IF($D8="","",VLOOKUP($D8,'Services AVANT Rentrée Sept.'!$A$2:$S$228,COLUMN()-3,FALSE)) | J8: =IF($D8="","",VLOOKUP($D8,'Services AVANT Rentrée Sept.'!$A$2:$S$228,COLUMN()-3,FALSE)) | K8: =IF($D8="","",VLOOKUP($D8,'Services AVANT Rentrée Sept.'!$A$2:$S$228,COLUMN()-3,FALSE)) | L8: =IF($D8="","",VLOOKUP($D8,'Services AVANT Rentrée Sept.'!$A$2:$S$228,COLUMN()-3,FALSE)) | M8: =IF($D8="","",VLOOKUP($D8,'Services AVANT Rentrée Sept.'!$A$2:$S$228,COLUMN()-3,FALSE)) | ... V8: =IF($D8="","",VLOOKUP($D8,'Services AVANT Rentrée Sept.'!$A$2:$S$228,COLUMN()-3,FALSE)) | W8: =SUM(V2:V8) -> 1.3069444
B9: 0 | E9: =IF($D9="","",VLOOKUP($D9,'Services AVANT Rentrée Sept.'!$A$2:$S$228,COLUMNS($A:B),FALSE)&"") | F9: =IF($D9="","",VLOOKUP($D9,'Services AVANT Rentrée Sept.'!$A$2:$S$228,COLUMNS($A:C),FALSE)&"") | G9: =IF($D9="","",VLOOKUP($D9,'Services AVANT Rentrée Sept.'!$A$2:$S$228,COLUMNS($A:D),FALSE)&"") | H9: =IF($D9="","",VLOOKUP($D9,'Services AVANT Rentrée Sept.'!$A$2:$S$228,COLUMNS($A:E),FALSE)&"") | I9: =IF($D9="","",VLOOKUP($D9,'Services AVANT Rentrée Sept.'!$A$2:$S$228,COLUMNS($A:F),FALSE)&"") | J9: =IF($D9="","",VLOOKUP($D9,'Services AVANT Rentrée Sept.'!$A$2:$S$228,COLUMNS($A:G),FALSE)&"") | K9: =IF($D9="","",VLOOKUP($D9,'Services AVANT Rentrée Sept.'!$A$2:$S$228,COLUMNS($A:H),FALSE)&"") | L9: =IF($D9="","",VLOOKUP($D9,'Services AVANT Rentrée Sept.'!$A$2:$S$228,COLUMNS($A:I),FALSE)&"") | M9: =IF($D9="","",VLOOKUP($D9,'Services AVANT Rentrée Sept.'!$A$2:$S$228,COLUMNS($A:J),FALSE)&"") | N9: =IF($D9="","",VLOOKUP($D9,'Services AVANT Rentrée Sept.'!$A$2:$S$228,COLUMNS($A:K),FALSE)&"") | O9: =IF($D9="","",VLOOKUP($D9,'Services AVANT Rentrée Sept.'!$A$2:$S$228,COLUMNS($A:L),FALSE)&"") | P9: =IF($D9="","",VLOOKUP($D9,'Services AVANT Rentrée Sept.'!$A$2:$S$228,COLUMNS($A:M),FALSE)&"") | Q9: =IF($D9="","",VLOOKUP($D9,'Services AVANT Rentrée Sept.'!$A$2:$S$228,COLUMNS($A:N),FALSE)&"") | R9: =IF($D9="","",VLOOKUP($D9,'Services AVANT Rentrée Sept.'!$A$2:$S$228,COLUMNS($A:O),FALSE)&"") | S9: =IF($D9="","",VLOOKUP($D9,'Services AVANT Rentrée Sept.'!$A$2:$S$228,COLUMNS($A:P),FALSE)&"") | T9: =IF($D9="","",VLOOKUP($D9,'Services AVANT Rentrée Sept.'!$A$2:$S$228,COLUMNS($A:Q),FALSE)&"") | U9: =IF($D9="","",VLOOKUP($D9,'[1]Services APRÉS Rentrée Sept'!$A$2:$R$228,COLUMNS($A:R),FALSE)&"") | W9: TOTAL TTE
E10: =IF($D10="","",VLOOKUP($D10,'Services AVANT Rentrée Sept.'!$A$2:$S$228,COLUMNS($A:B),FALSE)&"") | F10: =IF($D10="","",VLOOKUP($D10,'Services AVANT Rentrée Sept.'!$A$2:$S$228,COLUMNS($A:C),FALSE)&"") | G10: =IF($D10="","",VLOOKUP($D10,'Services AVANT Rentrée Sept.'!$A$2:$S$228,COLUMNS($A:D),FALSE)&"") | H10: =IF($D10="","",VLOOKUP($D10,'Services AVANT Rentrée Sept.'!$A$2:$S$228,COLUMNS($A:E),FALSE)&"") | I10: =IF($D10="","",VLOOKUP($D10,'Services AVANT Rentrée Sept.'!$A$2:$S$228,COLUMNS($A:F),FALSE)&"") | J10: =IF($D10="","",VLOOKUP($D10,'Services AVANT Rentrée Sept.'!$A$2:$S$228,COLUMNS($A:G),FALSE)&"") | K10: =IF($D10="","",VLOOKUP($D10,'Services AVANT Rentrée Sept.'!$A$2:$S$228,COLUMNS($A:H),FALSE)&"") | L10: =IF($D10="","",VLOOKUP($D10,'Services AVANT Rentrée Sept.'!$A$2:$S$228,COLUMNS($A:I),FALSE)&"") | M10: =IF($D10="","",VLOOKUP($D10,'Services AVANT Rentrée Sept.'!$A$2:$S$228,COLUMNS($A:J),FALSE)&"") | N10: =IF($D10="","",VLOOKUP($D10,'Services AVANT Rentrée Sept.'!$A$2:$S$228,COLUMNS($A:K),FALSE)&"") | O10: =IF($D10="","",VLOOKUP($D10,'Services AVANT Rentrée Sept.'!$A$2:$S$228,COLUMNS($A:L),FALSE)&"") | P10: =IF($D10="","",VLOOKUP($D10,'Services AVANT Rentrée Sept.'!$A$2:$S$228,COLUMNS($A:M),FALSE)&"") | Q10: =IF($D10="","",VLOOKUP($D10,'Services AVANT Rentrée Sept.'!$A$2:$S$228,COLUMNS($A:N),FALSE)&"") | R10: =IF($D10="","",VLOOKUP($D10,'Services AVANT Rentrée Sept.'!$A$2:$S$228,COLUMNS($A:O),FALSE)&"") | S10: =IF($D10="","",VLOOKUP($D10,'Services AVANT Rentrée Sept.'!$A$2:$S$228,COLUMNS($A:P),FALSE)&"") | T10: =IF($D10="","",VLOOKUP($D10,'Services AVANT Rentrée Sept.'!$A$2:$S$228,COLUMNS($A:Q),FALSE)&"")
E11: =IF($D11="","",VLOOKUP($D11,'Services AVANT Rentrée Sept.'!$A$2:$S$228,COLUMNS($A:B),FALSE)&"") | F11: =IF($D11="","",VLOOKUP($D11,'Services AVANT Rentrée Sept.'!$A$2:$S$228,COLUMNS($A:C),FALSE)&"") | G11: =IF($D11="","",VLOOKUP($D11,'Services AVANT Rentrée Sept.'!$A$2:$S$228,COLUMNS($A:D),FALSE)&"") | H11: =IF($D11="","",VLOOKUP($D11,'Services AVANT Rentrée Sept.'!$A$2:$S$228,COLUMNS($A:E),FALSE)&"") | I11: =IF($D11="","",VLOOKUP($D11,'Services AVANT Rentrée Sept.'!$A$2:$S$228,COLUMNS($A:F),FALSE)&"") | J11: =IF($D11="","",VLOOKUP($D11,'Services AVANT Rentrée Sept.'!$A$2:$S$228,COLUMNS($A:G),FALSE)&"") | K11: =IF($D11="","",VLOOKUP($D11,'Services AVANT Rentrée Sept.'!$A$2:$S$228,COLUMNS($A:H),FALSE)&"") | L11: =IF($D11="","",VLOOKUP($D11,'Services AVANT Rentrée Sept.'!$A$2:$S$228,COLUMNS($A:I),FALSE)&"") | M11: =IF($D11="","",VLOOKUP($D11,'Services AVANT Rentrée Sept.'!$A$2:$S$228,COLUMNS($A:J),FALSE)&"") | N11: =IF($D11="","",VLOOKUP($D11,'Services AVANT Rentrée Sept.'!$A$2:$S$228,COLUMNS($A:K),FALSE)&"") | O11: =IF($D11="","",VLOOKUP($D11,'Services AVANT Rentrée Sept.'!$A$2:$S$228,COLUMNS($A:L),FALSE)&"") | P11: =IF($D11="","",VLOOKUP($D11,'Services AVANT Rentrée Sept.'!$A$2:$S$228,COLUMNS($A:M),FALSE)&"") | Q11: =IF($D11="","",VLOOKUP($D11,'Services AVANT Rentrée Sept.'!$A$2:$S$228,COLUMNS($A:N),FALSE)&"") | R11: =IF($D11="","",VLOOKUP($D11,'Services AVANT Rentrée Sept.'!$A$2:$S$228,COLUMNS($A:O),FALSE)&"") | S11: =IF($D11="","",VLOOKUP($D11,'Services AVANT Rentrée Sept.'!$A$2:$S$228,COLUMNS($A:P),FALSE)&"") | T11: =IF($D11="","",VLOOKUP($D11,'Services AVANT Rentrée Sept.'!$A$2:$S$228,COLUMNS($A:Q),FALSE)&"") | W11: =SUM(U9:U15) -> 0
E12: =IF($D12="","",VLOOKUP($D12,'Services AVANT Rentrée Sept.'!$A$2:$S$228,COLUMNS($A:B),FALSE)&"") | F12: =IF($D12="","",VLOOKUP($D12,'Services AVANT Rentrée Sept.'!$A$2:$S$228,COLUMNS($A:C),FALSE)&"") | G12: =IF($D12="","",VLOOKUP($D12,'Services AVANT Rentrée Sept.'!$A$2:$S$228,COLUMNS($A:D),FALSE)&"") | H12: =IF($D12="","",VLOOKUP($D12,'Services AVANT Rentrée Sept.'!$A$2:$S$228,COLUMNS($A:E),FALSE)&"") | I12: =IF($D12="","",VLOOKUP($D12,'Services AVANT Rentrée Sept.'!$A$2:$S$228,COLUMNS($A:F),FALSE)&"") | J12: =IF($D12="","",VLOOKUP($D12,'Services AVANT Rentrée Sept.'!$A$2:$R$228,COLUMNS($A:G),FALSE)&"") | K12: =IF($D12="","",VLOOKUP($D12,'Services AVANT Rentrée Sept.'!$A$2:$S$228,COLUMNS($A:H),FALSE)&"") | L12: =IF($D12="","",VLOOKUP($D12,'Services AVANT Rentrée Sept.'!$A$2:$S$228,COLUMNS($A:I),FALSE)&"") | M12: =IF($D12="","",VLOOKUP($D12,'Services AVANT Rentrée Sept.'!$A$2:$S$228,COLUMNS($A:J),FALSE)&"") | N12: =IF($D12="","",VLOOKUP($D12,'Services AVANT Rentrée Sept.'!$A$2:$S$228,COLUMNS($A:K),FALSE)&"") | O12: =IF($D12="","",VLOOKUP($D12,'Services AVANT Rentrée Sept.'!$A$2:$S$228,COLUMNS($A:L),FALSE)&"") | P12: =IF($D12="","",VLOOKUP($D12,'Services AVANT Rentrée Sept.'!$A$2:$S$228,COLUMNS($A:M),FALSE)&"") | Q12: =IF($D12="","",VLOOKUP($D12,'Services AVANT Rentrée Sept.'!$A$2:$S$228,COLUMNS($A:N),FALSE)&"") | R12: =IF($D12="","",VLOOKUP($D12,'Services AVANT Rentrée Sept.'!$A$2:$S$228,COLUMNS($A:O),FALSE)&"") | S12: =IF($D12="","",VLOOKUP($D12,'Services AVANT Rentrée Sept.'!$A$2:$S$228,COLUMNS($A:P),FALSE)&"") | T12: =IF($D12="","",VLOOKUP($D12,'Services AVANT Rentrée Sept.'!$A$2:$S$228,COLUMNS($A:Q),FALSE)&"")
E13: =IF($D13="","",VLOOKUP($D13,'Services AVANT Rentrée Sept.'!$A$2:$S$228,COLUMNS($A:B),FALSE)&"") | F13: =IF($D13="","",VLOOKUP($D13,'Services AVANT Rentrée Sept.'!$A$2:$S$228,COLUMNS($A:C),FALSE)&"") | G13: =IF($D13="","",VLOOKUP($D13,'Services AVANT Rentrée Sept.'!$A$2:$S$228,COLUMNS($A:D),FALSE)&"") | H13: =IF($D13="","",VLOOKUP($D13,'Services AVANT Rentrée Sept.'!$A$2:$S$228,COLUMNS($A:E),FALSE)&"") | I13: =IF($D13="","",VLOOKUP($D13,'Services AVANT Rentrée Sept.'!$A$2:$S$228,COLUMNS($A:F),FALSE)&"") | J13: =IF($D13="","",VLOOKUP($D13,'Services AVANT Rentrée Sept.'!$A$2:$S$228,COLUMNS($A:G),FALSE)&"") | K13: =IF($D13="","",VLOOKUP($D13,'Services AVANT Rentrée Sept.'!$A$2:$S$228,COLUMNS($A:H),FALSE)&"") | L13: =IF($D13="","",VLOOKUP($D13,'Services AVANT Rentrée Sept.'!$A$2:$S$228,COLUMNS($A:I),FALSE)&"") | M13: =IF($D13="","",VLOOKUP($D13,'Services AVANT Rentrée Sept.'!$A$2:$S$228,COLUMNS($A:J),FALSE)&"") | N13: =IF($D13="","",VLOOKUP($D13,'Services AVANT Rentrée Sept.'!$A$2:$S$228,COLUMNS($A:K),FALSE)&"") | O13: =IF($D13="","",VLOOKUP($D13,'Services AVANT Rentrée Sept.'!$A$2:$S$228,COLUMNS($A:L),FALSE)&"") | P13: =IF($D13="","",VLOOKUP($D13,'Services AVANT Rentrée Sept.'!$A$2:$S$228,COLUMNS($A:M),FALSE)&"") | Q13: =IF($D13="","",VLOOKUP($D13,'Services AVANT Rentrée Sept.'!$A$2:$S$228,COLUMNS($A:N),FALSE)&"") | R13: =IF($D13="","",VLOOKUP($D13,'Services AVANT Rentrée Sept.'!$A$2:$S$228,COLUMNS($A:O),FALSE)&"") | S13: =IF($D13="","",VLOOKUP($D13,'Services AVANT Rentrée Sept.'!$A$2:$S$228,COLUMNS($A:P),FALSE)&"") | T13: =IF($D13="","",VLOOKUP($D13,'Services AVANT Rentrée Sept.'!$A$2:$S$228,COLUMNS($A:Q),FALSE)&"") | W13: TOTAL AMPL.
E14: =IF($D14="","",VLOOKUP($D14,'Services AVANT Rentrée Sept.'!$A$2:$S$228,COLUMNS($A:B),FALSE)&"") | F14: =IF($D14="","",VLOOKUP($D14,'Services AVANT Rentrée Sept.'!$A$2:$S$228,COLUMNS($A:C),FALSE)&"") | G14: =IF($D14="","",VLOOKUP($D14,'Services AVANT Rentrée Sept.'!$A$2:$S$228,COLUMNS($A:D),FALSE)&"") | H14: =IF($D14="","",VLOOKUP($D14,'Services AVANT Rentrée Sept.'!$A$2:$S$228,COLUMNS($A:E),FALSE)&"") | I14: =IF($D14="","",VLOOKUP($D14,'Services AVANT Rentrée Sept.'!$A$2:$S$228,COLUMNS($A:F),FALSE)&"") | J14: =IF($D14="","",VLOOKUP($D14,'Services AVANT Rentrée Sept.'!$A$2:$S$228,COLUMNS($A:G),FALSE)&"") | K14: =IF($D14="","",VLOOKUP($D14,'Services AVANT Rentrée Sept.'!$A$2:$S$228,COLUMNS($A:H),FALSE)&"") | L14: =IF($D14="","",VLOOKUP($D14,'Services AVANT Rentrée Sept.'!$A$2:$S$228,COLUMNS($A:I),FALSE)&"") | M14: =IF($D14="","",VLOOKUP($D14,'Services AVANT Rentrée Sept.'!$A$2:$S$228,COLUMNS($A:J),FALSE)&"") | N14: =IF($D14="","",VLOOKUP($D14,'Services AVANT Rentrée Sept.'!$A$2:$S$228,COLUMNS($A:K),FALSE)&"") | O14: =IF($D14="","",VLOOKUP($D14,'Services AVANT Rentrée Sept.'!$A$2:$S$228,COLUMNS($A:L),FALSE)&"") | P14: =IF($D14="","",VLOOKUP($D14,'Services AVANT Rentrée Sept.'!$A$2:$S$228,COLUMNS($A:M),FALSE)&"") | Q14: =IF($D14="","",VLOOKUP($D14,'Services AVANT Rentrée Sept.'!$A$2:$S$228,COLUMNS($A:N),FALSE)&"") | R14: =IF($D14="","",VLOOKUP($D14,'Services AVANT Rentrée Sept.'!$A$2:$S$228,COLUMNS($A:O),FALSE)&"") | S14: =IF($D14="","",VLOOKUP($D14,'Services AVANT Rentrée Sept.'!$A$2:$S$228,COLUMNS($A:P),FALSE)&"") | T14: =IF($D14="","",VLOOKUP($D14,'Services AVANT Rentrée Sept.'!$A$2:$S$228,COLUMNS($A:Q),FALSE)&"")
E15: =IF($D15="","",VLOOKUP($D15,'Services AVANT Rentrée Sept.'!$A$2:$S$228,COLUMNS($A:B),FALSE)&"") | F15: =IF($D15="","",VLOOKUP($D15,'Services AVANT Rentrée Sept.'!$A$2:$S$228,COLUMNS($A:C),FALSE)&"") | G15: =IF($D15="","",VLOOKUP($D15,'Services AVANT Rentrée Sept.'!$A$2:$S$228,COLUMNS($A:D),FALSE)&"") | H15: =IF($D15="","",VLOOKUP($D15,'Services AVANT Rentrée Sept.'!$A$2:$S$228,COLUMNS($A:E),FALSE)&"") | I15: =IF($D15="","",VLOOKUP($D15,'Services AVANT Rentrée Sept.'!$A$2:$S$228,COLUMNS($A:F),FALSE)&"") | J15: =IF($D15="","",VLOOKUP($D15,'Services AVANT Rentrée Sept.'!$A$2:$S$228,COLUMNS($A:G),FALSE)&"") | K15: =IF($D15="","",VLOOKUP($D15,'Services AVANT Rentrée Sept.'!$A$2:$S$228,COLUMNS($A:H),FALSE)&"") | L15: =IF($D15="","",VLOOKUP($D15,'Services AVANT Rentrée Sept.'!$A$2:$S$228,COLUMNS($A:I),FALSE)&"") | M15: =IF($D15="","",VLOOKUP($D15,'Services AVANT Rentrée Sept.'!$A$2:$S$228,COLUMNS($A:J),FALSE)&"") | N15: =IF($D15="","",VLOOKUP($D15,'Services AVANT Rentrée Sept.'!$A$2:$S$228,COLUMNS($A:K),FALSE)&"") | O15: =IF($D15="","",VLOOKUP($D15,'Services AVANT Rentrée Sept.'!$A$2:$S$228,COLUMNS($A:L),FALSE)&"") | P15: =IF($D15="","",VLOOKUP($D15,'Services AVANT Rentrée Sept.'!$A$2:$S$228,COLUMNS($A:M),FALSE)&"") | Q15: =IF($D15="","",VLOOKUP($D15,'Services AVANT Rentrée Sept.'!$A$2:$S$228,COLUMNS($A:N),FALSE)&"") | R15: =IF($D15="","",VLOOKUP($D15,'Services AVANT Rentrée Sept.'!$A$2:$S$228,COLUMNS($A:O),FALSE)&"") | S15: =IF($D15="","",VLOOKUP($D15,'Services AVANT Rentrée Sept.'!$A$2:$S$228,COLUMNS($A:P),FALSE)&"") | T15: =IF($D15="","",VLOOKUP($D15,'Services AVANT Rentrée Sept.'!$A$2:$S$228,COLUMNS($A:Q),FALSE)&"") | W15: =SUM(V9:V15) -> 0
B16: 0 | E16: =IF($D16="","",VLOOKUP($D16,'Services AVANT Rentrée Sept.'!$A$2:$S$228,COLUMNS($A:B),FALSE)&"") | F16: =IF($D16="","",VLOOKUP($D16,'Services AVANT Rentrée Sept.'!$A$2:$S$228,COLUMNS($A:C),FALSE)&"") | G16: =IF($D16="","",VLOOKUP($D16,'Services AVANT Rentrée Sept.'!$A$2:$S$228,COLUMNS($A:D),FALSE)&"") | H16: =IF($D16="","",VLOOKUP($D16,'Services AVANT Rentrée Sept.'!$A$2:$S$228,COLUMNS($A:E),FALSE)&"") | I16: =IF($D16="","",VLOOKUP($D16,'Services AVANT Rentrée Sept.'!$A$2:$S$228,COLUMNS($A:F),FALSE)&"") | J16: =IF($D16="","",VLOOKUP($D16,'Services AVANT Rentrée Sept.'!$A$2:$S$228,COLUMNS($A:G),FALSE)&"") | K16: =IF($D16="","",VLOOKUP($D16,'Services AVANT Rentrée Sept.'!$A$2:$S$228,COLUMNS($A:H),FALSE)&"") | L16: =IF($D16="","",VLOOKUP($D16,'Services AVANT Rentrée Sept.'!$A$2:$S$228,COLUMNS($A:I),FALSE)&"") | M16: =IF($D16="","",VLOOKUP($D16,'Services AVANT Rentrée Sept.'!$A$2:$S$228,COLUMNS($A:J),FALSE)&"") | N16: =IF($D16="","",VLOOKUP($D16,'Services AVANT Rentrée Sept.'!$A$2:$S$228,COLUMNS($A:K),FALSE)&"") | O16: =IF($D16="","",VLOOKUP($D16,'Services AVANT Rentrée Sept.'!$A$2:$S$228,COLUMNS($A:L),FALSE)&"") | P16: =IF($D16="","",VLOOKUP($D16,'Services AVANT Rentrée Sept.'!$A$2:$S$228,COLUMNS($A:M),FALSE)&"") | Q16: =IF($D16="","",VLOOKUP($D16,'Services AVANT Rentrée Sept.'!$A$2:$S$228,COLUMNS($A:N),FALSE)&"") | R16: =IF($D16="","",VLOOKUP($D16,'Services AVANT Rentrée Sept.'!$A$2:$S$228,COLUMNS($A:O),FALSE)&"") | S16: =IF($D16="","",VLOOKUP($D16,'Services AVANT Rentrée Sept.'!$A$2:$S$228,COLUMNS($A:P),FALSE)&"") | T16: =IF($D16="","",VLOOKUP($D16,'Services AVANT Rentrée Sept.'!$A$2:$S$228,COLUMNS($A:Q),FALSE)&"") | U16: =IF($D16="","",VLOOKUP($D16,'[1]Services APRÉS Rentrée Sept'!$A$2:$R$228,COLUMNS($A:R),FALSE)&"") | W16: TOTAL TTE
E17: =IF($D17="","",VLOOKUP($D17,'Services AVANT Rentrée Sept.'!$A$2:$S$228,COLUMNS($A:B),FALSE)&"") | F17: =IF($D17="","",VLOOKUP($D17,'Services AVANT Rentrée Sept.'!$A$2:$S$228,COLUMNS($A:C),FALSE)&"") | G17: =IF($D17="","",VLOOKUP($D17,'Services AVANT Rentrée Sept.'!$A$2:$S$228,COLUMNS($A:D),FALSE)&"") | H17: =IF($D17="","",VLOOKUP($D17,'Services AVANT Rentrée Sept.'!$A$2:$S$228,COLUMNS($A:E),FALSE)&"") | I17: =IF($D17="","",VLOOKUP($D17,'Services AVANT Rentrée Sept.'!$A$2:$S$228,COLUMNS($A:F),FALSE)&"") | J17: =IF($D17="","",VLOOKUP($D17,'Services AVANT Rentrée Sept.'!$A$2:$S$228,COLUMNS($A:G),FALSE)&"") | K17: =IF($D17="","",VLOOKUP($D17,'Services AVANT Rentrée Sept.'!$A$2:$S$228,COLUMNS($A:H),FALSE)&"") | L17: =IF($D17="","",VLOOKUP($D17,'Services AVANT Rentrée Sept.'!$A$2:$S$228,COLUMNS($A:I),FALSE)&"") | M17: =IF($D17="","",VLOOKUP($D17,'Services AVANT Rentrée Sept.'!$A$2:$S$228,COLUMNS($A:J),FALSE)&"") | N17: =IF($D17="","",VLOOKUP($D17,'Services AVANT Rentrée Sept.'!$A$2:$S$228,COLUMNS($A:K),FALSE)&"") | O17: =IF($D17="","",VLOOKUP($D17,'Services AVANT Rentrée Sept.'!$A$2:$S$228,COLUMNS($A:L),FALSE)&"") | P17: =IF($D17="","",VLOOKUP($D17,'Services AVANT Rentrée Sept.'!$A$2:$S$228,COLUMNS($A:M),FALSE)&"") | Q17: =IF($D17="","",VLOOKUP($D17,'Services AVANT Rentrée Sept.'!$A$2:$S$228,COLUMNS($A:N),FALSE)&"") | R17: =IF($D17="","",VLOOKUP($D17,'Services AVANT Rentrée Sept.'!$A$2:$S$228,COLUMNS($A:O),FALSE)&"") | S17: =IF($D17="","",VLOOKUP($D17,'Services AVANT Rentrée Sept.'!$A$2:$S$228,COLUMNS($A:P),FALSE)&"") | T17: =IF($D17="","",VLOOKUP($D17,'Services AVANT Rentrée Sept.'!$A$2:$S$228,COLUMNS($A:Q),FALSE)&"")
E18: =IF($D18="","",VLOOKUP($D18,'Services AVANT Rentrée Sept.'!$A$2:$S$228,COLUMNS($A:B),FALSE)&"") | F18: =IF($D18="","",VLOOKUP($D18,'Services AVANT Rentrée Sept.'!$A$2:$S$228,COLUMNS($A:C),FALSE)&"") | G18: =IF($D18="","",VLOOKUP($D18,'Services AVANT Rentrée Sept.'!$A$2:$S$228,COLUMNS($A:D),FALSE)&"") | H18: =IF($D18="","",VLOOKUP($D18,'Services AVANT Rentrée Sept.'!$A$2:$S$228,COLUMNS($A:E),FALSE)&"") | I18: =IF($D18="","",VLOOKUP($D18,'Services AVANT Rentrée Sept.'!$A$2:$S$228,COLUMNS($A:F),FALSE)&"") | J18: =IF($D18="","",VLOOKUP($D18,'Services AVANT Rentrée Sept.'!$A$2:$S$228,COLUMNS($A:G),FALSE)&"") | K18: =IF($D18="","",VLOOKUP($D18,'Services AVANT Rentrée Sept.'!$A$2:$S$228,COLUMNS($A:H),FALSE)&"") | L18: =IF($D18="","",VLOOKUP($D18,'Services AVANT Rentrée Sept.'!$A$2:$S$228,COLUMNS($A:I),FALSE)&"") | M18: =IF($D18="","",VLOOKUP($D18,'Services AVANT Rentrée Sept.'!$A$2:$S$228,COLUMNS($A:J),FALSE)&"") | N18: =IF($D18="","",VLOOKUP($D18,'Services AVANT Rentrée Sept.'!$A$2:$S$228,COLUMNS($A:K),FALSE)&"") | O18: =IF($D18="","",VLOOKUP($D18,'Services AVANT Rentrée Sept.'!$A$2:$S$228,COLUMNS($A:L),FALSE)&"") | P18: =IF($D18="","",VLOOKUP($D18,'Services AVANT Rentrée Sept.'!$A$2:$S$228,COLUMNS($A:M),FALSE)&"") | Q18: =IF($D18="","",VLOOKUP($D18,'Services AVANT Rentrée Sept.'!$A$2:$S$228,COLUMNS($A:N),FALSE)&"") | R18: =IF($D18="","",VLOOKUP($D18,'Services AVANT Rentrée Sept.'!$A$2:$S$228,COLUMNS($A:O),FALSE)&"") | S18: =IF($D18="","",VLOOKUP($D18,'Services AVANT Rentrée Sept.'!$A$2:$S$228,COLUMNS($A:P),FALSE)&"") | T18: =IF($D18="","",VLOOKUP($D18,'Services AVANT Rentrée Sept.'!$A$2:$S$228,COLUMNS($A:Q),FALSE)&"") | W18: =SUM(U16:U22) -> 0
E19: =IF($D19="","",VLOOKUP($D19,'Services AVANT Rentrée Sept.'!$A$2:$S$228,COLUMNS($A:B),FALSE)&"") | F19: =IF($D19="","",VLOOKUP($D19,'Services AVANT Rentrée Sept.'!$A$2:$S$228,COLUMNS($A:C),FALSE)&"") | G19: =IF($D19="","",VLOOKUP($D19,'Services AVANT Rentrée Sept.'!$A$2:$S$228,COLUMNS($A:D),FALSE)&"") | H19: =IF($D19="","",VLOOKUP($D19,'Services AVANT Rentrée Sept.'!$A$2:$S$228,COLUMNS($A:E),FALSE)&"") | I19: =IF($D19="","",VLOOKUP($D19,'Services AVANT Rentrée Sept.'!$A$2:$S$228,COLUMNS($A:F),FALSE)&"") | J19: =IF($D19="","",VLOOKUP($D19,'Services AVANT Rentrée Sept.'!$A$2:$S$228,COLUMNS($A:G),FALSE)&"") | K19: =IF($D19="","",VLOOKUP($D19,'Services AVANT Rentrée Sept.'!$A$2:$S$228,COLUMNS($A:H),FALSE)&"") | L19: =IF($D19="","",VLOOKUP($D19,'Services AVANT Rentrée Sept.'!$A$2:$S$228,COLUMNS($A:I),FALSE)&"") | M19: =IF($D19="","",VLOOKUP($D19,'Services AVANT Rentrée Sept.'!$A$2:$S$228,COLUMNS($A:J),FALSE)&"") | N19: =IF($D19="","",VLOOKUP($D19,'Services AVANT Rentrée Sept.'!$A$2:$S$228,COLUMNS($A:K),FALSE)&"") | O19: =IF($D19="","",VLOOKUP($D19,'Services AVANT Rentrée Sept.'!$A$2:$S$228,COLUMNS($A:L),FALSE)&"") | P19: =IF($D19="","",VLOOKUP($D19,'Services AVANT Rentrée Sept.'!$A$2:$S$228,COLUMNS($A:M),FALSE)&"") | Q19: =IF($D19="","",VLOOKUP($D19,'Services AVANT Rentrée Sept.'!$A$2:$S$228,COLUMNS($A:N),FALSE)&"") | R19: =IF($D19="","",VLOOKUP($D19,'Services AVANT Rentrée Sept.'!$A$2:$S$228,COLUMNS($A:O),FALSE)&"") | S19: =IF($D19="","",VLOOKUP($D19,'Services AVANT Rentrée Sept.'!$A$2:$S$228,COLUMNS($A:P),FALSE)&"") | T19: =IF($D19="","",VLOOKUP($D19,'Services AVANT Rentrée Sept.'!$A$2:$S$228,COLUMNS($A:Q),FALSE)&"")
E20: =IF($D20="","",VLOOKUP($D20,'Services AVANT Rentrée Sept.'!$A$2:$S$228,COLUMNS($A:B),FALSE)&"") | F20: =IF($D20="","",VLOOKUP($D20,'Services AVANT Rentrée Sept.'!$A$2:$S$228,COLUMNS($A:C),FALSE)&"") | G20: =IF($D20="","",VLOOKUP($D20,'Services AVANT Rentrée Sept.'!$A$2:$S$228,COLUMNS($A:D),FALSE)&"") | H20: =IF($D20="","",VLOOKUP($D20,'Services AVANT Rentrée Sept.'!$A$2:$S$228,COLUMNS($A:E),FALSE)&"") | I20: =IF($D20="","",VLOOKUP($D20,'Services AVANT Rentrée Sept.'!$A$2:$S$228,COLUMNS($A:F),FALSE)&"") | J20: =IF($D20="","",VLOOKUP($D20,'Services AVANT Rentrée Sept.'!$A$2:$S$228,COLUMNS($A:G),FALSE)&"") | K20: =IF($D20="","",VLOOKUP($D20,'Services AVANT Rentrée Sept.'!$A$2:$S$228,COLUMNS($A:H),FALSE)&"") | L20: =IF($D20="","",VLOOKUP($D20,'Services AVANT Rentrée Sept.'!$A$2:$S$228,COLUMNS($A:I),FALSE)&"") | M20: =IF($D20="","",VLOOKUP($D20,'Services AVANT Rentrée Sept.'!$A$2:$S$228,COLUMNS($A:J),FALSE)&"") | N20: =IF($D20="","",VLOOKUP($D20,'Services AVANT Rentrée Sept.'!$A$2:$S$228,COLUMNS($A:K),FALSE)&"") | O20: =IF($D20="","",VLOOKUP($D20,'Services AVANT Rentrée Sept.'!$A$2:$S$228,COLUMNS($A:L),FALSE)&"") | P20: =IF($D20="","",VLOOKUP($D20,'Services AVANT Rentrée Sept.'!$A$2:$S$228,COLUMNS($A:M),FALSE)&"") | Q20: =IF($D20="","",VLOOKUP($D20,'Services AVANT Rentrée Sept.'!$A$2:$S$228,COLUMNS($A:N),FALSE)&"") | R20: =IF($D20="","",VLOOKUP($D20,'Services AVANT Rentrée Sept.'!$A$2:$S$228,COLUMNS($A:O),FALSE)&"") | S20: =IF($D20="","",VLOOKUP($D20,'Services AVANT Rentrée Sept.'!$A$2:$S$228,COLUMNS($A:P),FALSE)&"") | T20: =IF($D20="","",VLOOKUP($D20,'Services AVANT Rentrée Sept.'!$A$2:$S$228,COLUMNS($A:Q),FALSE)&"") | W20: TOTAL AMPL.
E21: =IF($D21="","",VLOOKUP($D21,'Services AVANT Rentrée Sept.'!$A$2:$S$228,COLUMNS($A:B),FALSE)&"") | F21: =IF($D21="","",VLOOKUP($D21,'Services AVANT Rentrée Sept.'!$A$2:$S$228,COLUMNS($A:C),FALSE)&"") | G21: =IF($D21="","",VLOOKUP($D21,'Services AVANT Rentrée Sept.'!$A$2:$S$228,COLUMNS($A:D),FALSE)&"") | H21: =IF($D21="","",VLOOKUP($D21,'Services AVANT Rentrée Sept.'!$A$2:$S$228,COLUMNS($A:E),FALSE)&"") | I21: =IF($D21="","",VLOOKUP($D21,'Services AVANT Rentrée Sept.'!$A$2:$S$228,COLUMNS($A:F),FALSE)&"") | J21: =IF($D21="","",VLOOKUP($D21,'Services AVANT Rentrée Sept.'!$A$2:$S$228,COLUMNS($A:G),FALSE)&"") | K21: =IF($D21="","",VLOOKUP($D21,'Services AVANT Rentrée Sept.'!$A$2:$S$228,COLUMNS($A:H),FALSE)&"") | L21: =IF($D21="","",VLOOKUP($D21,'Services AVANT Rentrée Sept.'!$A$2:$S$228,COLUMNS($A:I),FALSE)&"") | M21: =IF($D21="","",VLOOKUP($D21,'Services AVANT Rentrée Sept.'!$A$2:$S$228,COLUMNS($A:J),FALSE)&"") | N21: =IF($D21="","",VLOOKUP($D21,'Services AVANT Rentrée Sept.'!$A$2:$S$228,COLUMNS($A:K),FALSE)&"") | O21: =IF($D21="","",VLOOKUP($D21,'Services AVANT Rentrée Sept.'!$A$2:$S$228,COLUMNS($A:L),FALSE)&"") | P21: =IF($D21="","",VLOOKUP($D21,'Services AVANT Rentrée Sept.'!$A$2:$S$228,COLUMNS($A:M),FALSE)&"") | Q21: =IF($D21="","",VLOOKUP($D21,'Services AVANT Rentrée Sept.'!$A$2:$S$228,COLUMNS($A:N),FALSE)&"") | R21: =IF($D21="","",VLOOKUP($D21,'Services AVANT Rentrée Sept.'!$A$2:$S$228,COLUMNS($A:O),FALSE)&"") | S21: =IF($D21="","",VLOOKUP($D21,'Services AVANT Rentrée Sept.'!$A$2:$S$228,COLUMNS($A:P),FALSE)&"") | T21: =IF($D21="","",VLOOKUP($D21,'Services AVANT Rentrée Sept.'!$A$2:$S$228,COLUMNS($A:Q),FALSE)&"")
E22: =IF($D22="","",VLOOKUP($D22,'Services AVANT Rentrée Sept.'!$A$2:$S$228,COLUMNS($A:B),FALSE)&"") | F22: =IF($D22="","",VLOOKUP($D22,'Services AVANT Rentrée Sept.'!$A$2:$S$228,COLUMNS($A:C),FALSE)&"") | G22: =IF($D22="","",VLOOKUP($D22,'Services AVANT Rentrée Sept.'!$A$2:$S$228,COLUMNS($A:D),FALSE)&"") | H22: =IF($D22="","",VLOOKUP($D22,'Services AVANT Rentrée Sept.'!$A$2:$S$228,COLUMNS($A:E),FALSE)&"") | I22: =IF($D22="","",VLOOKUP($D22,'Services AVANT Rentrée Sept.'!$A$2:$S$228,COLUMNS($A:F),FALSE)&"") | J22: =IF($D22="","",VLOOKUP($D22,'Services AVANT Rentrée Sept.'!$A$2:$S$228,COLUMNS($A:G),FALSE)&"") | K22: =IF($D22="","",VLOOKUP($D22,'Services AVANT Rentrée Sept.'!$A$2:$S$228,COLUMNS($A:H),FALSE)&"") | L22: =IF($D22="","",VLOOKUP($D22,'Services AVANT Rentrée Sept.'!$A$2:$S$228,COLUMNS($A:I),FALSE)&"") | M22: =IF($D22="","",VLOOKUP($D22,'Services AVANT Rentrée Sept.'!$A$2:$S$228,COLUMNS($A:J),FALSE)&"") | N22: =IF($D22="","",VLOOKUP($D22,'Services AVANT Rentrée Sept.'!$A$2:$S$228,COLUMNS($A:K),FALSE)&"") | O22: =IF($D22="","",VLOOKUP($D22,'Services AVANT Rentrée Sept.'!$A$2:$S$228,COLUMNS($A:L),FALSE)&"") | P22: =IF($D22="","",VLOOKUP($D22,'Services AVANT Rentrée Sept.'!$A$2:$S$228,COLUMNS($A:M),FALSE)&"") | Q22: =IF($D22="","",VLOOKUP($D22,'Services AVANT Rentrée Sept.'!$A$2:$S$228,COLUMNS($A:N),FALSE)&"") | R22: =IF($D22="","",VLOOKUP($D22,'Services AVANT Rentrée Sept.'!$A$2:$S$228,COLUMNS($A:O),FALSE)&"") | S22: =IF($D22="","",VLOOKUP($D22,'Services AVANT Rentrée Sept.'!$A$2:$S$228,COLUMNS($A:P),FALSE)&"") | T22: =IF($D22="","",VLOOKUP($D22,'Services AVANT Rentrée Sept.'!$A$2:$S$228,COLUMNS($A:Q),FALSE)&"") | W22: =SUM(V16:V22) -> 0
B23: 0 | E23: =IF($D23="","",VLOOKUP($D23,'Services AVANT Rentrée Sept.'!$A$2:$S$228,COLUMNS($A:B),FALSE)&"") | F23: =IF($D23="","",VLOOKUP($D23,'Services AVANT Rentrée Sept.'!$A$2:$S$228,COLUMNS($A:C),FALSE)&"") | G23: =IF($D23="","",VLOOKUP($D23,'Services AVANT Rentrée Sept.'!$A$2:$S$228,COLUMNS($A:D),FALSE)&"") | H23: =IF($D23="","",VLOOKUP($D23,'Services AVANT Rentrée Sept.'!$A$2:$S$228,COLUMNS($A:E),FALSE)&"") | I23: =IF($D23="","",VLOOKUP($D23,'Services AVANT Rentrée Sept.'!$A$2:$S$228,COLUMNS($A:F),FALSE)&"") | J23: =IF($D23="","",VLOOKUP($D23,'Services AVANT Rentrée Sept.'!$A$2:$S$228,COLUMNS($A:G),FALSE)&"") | K23: =IF($D23="","",VLOOKUP($D23,'Services AVANT Rentrée Sept.'!$A$2:$S$228,COLUMNS($A:H),FALSE)&"") | L23: =IF($D23="","",VLOOKUP($D23,'Services AVANT Rentrée Sept.'!$A$2:$S$228,COLUMNS($A:I),FALSE)&"") | M23: =IF($D23="","",VLOOKUP($D23,'Services AVANT Rentrée Sept.'!$A$2:$S$228,COLUMNS($A:J),FALSE)&"") | N23: =IF($D23="","",VLOOKUP($D23,'Services AVANT Rentrée Sept.'!$A$2:$S$228,COLUMNS($A:K),FALSE)&"") | O23: =IF($D23="","",VLOOKUP($D23,'Services AVANT Rentrée Sept.'!$A$2:$S$228,COLUMNS($A:L),FALSE)&"") | P23: =IF($D23="","",VLOOKUP($D23,'Services AVANT Rentrée Sept.'!$A$2:$S$228,COLUMNS($A:M),FALSE)&"") | Q23: =IF($D23="","",VLOOKUP($D23,'Services AVANT Rentrée Sept.'!$A$2:$S$228,COLUMNS($A:N),FALSE)&"") | R23: =IF($D23="","",VLOOKUP($D23,'Services AVANT Rentrée Sept.'!$A$2:$S$228,COLUMNS($A:O),FALSE)&"") | S23: =IF($D23="","",VLOOKUP($D23,'Services AVANT Rentrée Sept.'!$A$2:$S$228,COLUMNS($A:P),FALSE)&"") | T23: =IF($D23="","",VLOOKUP($D23,'Services AVANT Rentrée Sept.'!$A$2:$S$228,COLUMNS($A:Q),FALSE)&"") | U23: =IF($D23="","",VLOOKUP($D23,'[1]Services APRÉS Rentrée Sept'!$A$2:$R$228,COLUMNS($A:R),FALSE)&"") | W23: TOTAL TTE
E24: =IF($D24="","",VLOOKUP($D24,'Services AVANT Rentrée Sept.'!$A$2:$S$228,COLUMNS($A:B),FALSE)&"") | F24: =IF($D24="","",VLOOKUP($D24,'Services AVANT Rentrée Sept.'!$A$2:$S$228,COLUMNS($A:C),FALSE)&"") | G24: =IF($D24="","",VLOOKUP($D24,'Services AVANT Rentrée Sept.'!$A$2:$S$228,COLUMNS($A:D),FALSE)&"") | H24: =IF($D24="","",VLOOKUP($D24,'Services AVANT Rentrée Sept.'!$A$2:$S$228,COLUMNS($A:E),FALSE)&"") | I24: =IF($D24="","",VLOOKUP($D24,'Services AVANT Rentrée Sept.'!$A$2:$S$228,COLUMNS($A:F),FALSE)&"") | J24: =IF($D24="","",VLOOKUP($D24,'Services AVANT Rentrée Sept.'!$A$2:$S$228,COLUMNS($A:G),FALSE)&"") | K24: =IF($D24="","",VLOOKUP($D24,'Services AVANT Rentrée Sept.'!$A$2:$S$228,COLUMNS($A:H),FALSE)&"") | L24: =IF($D24="","",VLOOKUP($D24,'Services AVANT Rentrée Sept.'!$A$2:$S$228,COLUMNS($A:I),FALSE)&"") | M24: =IF($D24="","",VLOOKUP($D24,'Services AVANT Rentrée Sept.'!$A$2:$S$228,COLUMNS($A:J),FALSE)&"") | N24: =IF($D24="","",VLOOKUP($D24,'Services AVANT Rentrée Sept.'!$A$2:$S$228,COLUMNS($A:K),FALSE)&"") | O24: =IF($D24="","",VLOOKUP($D24,'Services AVANT Rentrée Sept.'!$A$2:$S$228,COLUMNS($A:L),FALSE)&"") | P24: =IF($D24="","",VLOOKUP($D24,'Services AVANT Rentrée Sept.'!$A$2:$S$228,COLUMNS($A:M),FALSE)&"") | Q24: =IF($D24="","",VLOOKUP($D24,'Services AVANT Rentrée Sept.'!$A$2:$S$228,COLUMNS($A:N),FALSE)&"") | R24: =IF($D24="","",VLOOKUP($D24,'Services AVANT Rentrée Sept.'!$A$2:$S$228,COLUMNS($A:O),FALSE)&"") | S24: =IF($D24="","",VLOOKUP($D24,'Services AVANT Rentrée Sept.'!$A$2:$S$228,COLUMNS($A:P),FALSE)&"") | T24: =IF($D24="","",VLOOKUP($D24,'Services AVANT Rentrée Sept.'!$A$2:$S$228,COLUMNS($A:Q),FALSE)&"")
E25: =IF($D25="","",VLOOKUP($D25,'Services AVANT Rentrée Sept.'!$A$2:$S$228,COLUMNS($A:B),FALSE)&"") | F25: =IF($D25="","",VLOOKUP($D25,'Services AVANT Rentrée Sept.'!$A$2:$S$228,COLUMNS($A:C),FALSE)&"") | G25: =IF($D25="","",VLOOKUP($D25,'Services AVANT Rentrée Sept.'!$A$2:$S$228,COLUMNS($A:D),FALSE)&"") | H25: =IF($D25="","",VLOOKUP($D25,'Services AVANT Rentrée Sept.'!$A$2:$S$228,COLUMNS($A:E),FALSE)&"") | I25: =IF($D25="","",VLOOKUP($D25,'Services AVANT Rentrée Sept.'!$A$2:$S$228,COLUMNS($A:F),FALSE)&"") | J25: =IF($D25="","",VLOOKUP($D25,'Services AVANT Rentrée Sept.'!$A$2:$S$228,COLUMNS($A:G),FALSE)&"") | K25: =IF($D25="","",VLOOKUP($D25,'Services AVANT Rentrée Sept.'!$A$2:$S$228,COLUMNS($A:H),FALSE)&"") | L25: =IF($D25="","",VLOOKUP($D25,'Services AVANT Rentrée Sept.'!$A$2:$S$228,COLUMNS($A:I),FALSE)&"") | M25: =IF($D25="","",VLOOKUP($D25,'Services AVANT Rentrée Sept.'!$A$2:$S$228,COLUMNS($A:J),FALSE)&"") | N25: =IF($D25="","",VLOOKUP($D25,'Services AVANT Rentrée Sept.'!$A$2:$S$228,COLUMNS($A:K),FALSE)&"") | O25: =IF($D25="","",VLOOKUP($D25,'Services AVANT Rentrée Sept.'!$A$2:$S$228,COLUMNS($A:L),FALSE)&"") | P25: =IF($D25="","",VLOOKUP($D25,'Services AVANT Rentrée Sept.'!$A$2:$S$228,COLUMNS($A:M),FALSE)&"") | Q25: =IF($D25="","",VLOOKUP($D25,'Services AVANT Rentrée Sept.'!$A$2:$S$228,COLUMNS($A:N),FALSE)&"") | R25: =IF($D25="","",VLOOKUP($D25,'Services AVANT Rentrée Sept.'!$A$2:$S$228,COLUMNS($A:O),FALSE)&"") | S25: =IF($D25="","",VLOOKUP($D25,'Services AVANT Rentrée Sept.'!$A$2:$S$228,COLUMNS($A:P),FALSE)&"") | T25: =IF($D25="","",VLOOKUP($D25,'Services AVANT Rentrée Sept.'!$A$2:$S$228,COLUMNS($A:Q),FALSE)&"") | W25: =SUM(U23:U29) -> 0
E26: =IF($D26="","",VLOOKUP($D26,'Services AVANT Rentrée Sept.'!$A$2:$S$228,COLUMNS($A:B),FALSE)&"") | F26: =IF($D26="","",VLOOKUP($D26,'Services AVANT Rentrée Sept.'!$A$2:$S$228,COLUMNS($A:C),FALSE)&"") | G26: =IF($D26="","",VLOOKUP($D26,'Services AVANT Rentrée Sept.'!$A$2:$S$228,COLUMNS($A:D),FALSE)&"") | H26: =IF($D26="","",VLOOKUP($D26,'Services AVANT Rentrée Sept.'!$A$2:$S$228,COLUMNS($A:E),FALSE)&"") | I26: =IF($D26="","",VLOOKUP($D26,'Services AVANT Rentrée Sept.'!$A$2:$S$228,COLUMNS($A:F),FALSE)&"") | J26: =IF($D26="","",VLOOKUP($D26,'Services AVANT Rentrée Sept.'!$A$2:$S$228,COLUMNS($A:G),FALSE)&"") | K26: =IF($D26="","",VLOOKUP($D26,'Services AVANT Rentrée Sept.'!$A$2:$S$228,COLUMNS($A:H),FALSE)&"") | L26: =IF($D26="","",VLOOKUP($D26,'Services AVANT Rentrée Sept.'!$A$2:$S$228,COLUMNS($A:I),FALSE)&"") | M26: =IF($D26="","",VLOOKUP($D26,'Services AVANT Rentrée Sept.'!$A$2:$S$228,COLUMNS($A:J),FALSE)&"") | N26: =IF($D26="","",VLOOKUP($D26,'Services AVANT Rentrée Sept.'!$A$2:$S$228,COLUMNS($A:K),FALSE)&"") | O26: =IF($D26="","",VLOOKUP($D26,'Services AVANT Rentrée Sept.'!$A$2:$S$228,COLUMNS($A:L),FALSE)&"") | P26: =IF($D26="","",VLOOKUP($D26,'Services AVANT Rentrée Sept.'!$A$2:$S$228,COLUMNS($A:M),FALSE)&"") | Q26: =IF($D26="","",VLOOKUP($D26,'Services AVANT Rentrée Sept.'!$A$2:$S$228,COLUMNS($A:N),FALSE)&"") | R26: =IF($D26="","",VLOOKUP($D26,'Services AVANT Rentrée Sept.'!$A$2:$S$228,COLUMNS($A:O),FALSE)&"") | S26: =IF($D26="","",VLOOKUP($D26,'Services AVANT Rentrée Sept.'!$A$2:$S$228,COLUMNS($A:P),FALSE)&"") | T26: =IF($D26="","",VLOOKUP($D26,'Services AVANT Rentrée Sept.'!$A$2:$S$228,COLUMNS($A:Q),FALSE)&"")
E27: =IF($D27="","",VLOOKUP($D27,'Services AVANT Rentrée Sept.'!$A$2:$S$228,COLUMNS($A:B),FALSE)&"") | F27: =IF($D27="","",VLOOKUP($D27,'Services AVANT Rentrée Sept.'!$A$2:$S$228,COLUMNS($A:C),FALSE)&"") | G27: =IF($D27="","",VLOOKUP($D27,'Services AVANT Rentrée Sept.'!$A$2:$S$228,COLUMNS($A:D),FALSE)&"") | H27: =IF($D27="","",VLOOKUP($D27,'Services AVANT Rentrée Sept.'!$A$2:$S$228,COLUMNS($A:E),FALSE)&"") | I27: =IF($D27="","",VLOOKUP($D27,'Services AVANT Rentrée Sept.'!$A$2:$S$228,COLUMNS($A:F),FALSE)&"") | J27: =IF($D27="","",VLOOKUP($D27,'Services AVANT Rentrée Sept.'!$A$2:$S$228,COLUMNS($A:G),FALSE)&"") | K27: =IF($D27="","",VLOOKUP($D27,'Services AVANT Rentrée Sept.'!$A$2:$S$228,COLUMNS($A:H),FALSE)&"") | L27: =IF($D27="","",VLOOKUP($D27,'Services AVANT Rentrée Sept.'!$A$2:$S$228,COLUMNS($A:I),FALSE)&"") | M27: =IF($D27="","",VLOOKUP($D27,'Services AVANT Rentrée Sept.'!$A$2:$S$228,COLUMNS($A:J),FALSE)&"") | N27: =IF($D27="","",VLOOKUP($D27,'Services AVANT Rentrée Sept.'!$A$2:$S$228,COLUMNS($A:K),FALSE)&"") | O27: =IF($D27="","",VLOOKUP($D27,'Services AVANT Rentrée Sept.'!$A$2:$S$228,COLUMNS($A:L),FALSE)&"") | P27: =IF($D27="","",VLOOKUP($D27,'Services AVANT Rentrée Sept.'!$A$2:$S$228,COLUMNS($A:M),FALSE)&"") | Q27: =IF($D27="","",VLOOKUP($D27,'Services AVANT Rentrée Sept.'!$A$2:$S$228,COLUMNS($A:N),FALSE)&"") | R27: =IF($D27="","",VLOOKUP($D27,'Services AVANT Rentrée Sept.'!$A$2:$S$228,COLUMNS($A:O),FALSE)&"") | S27: =IF($D27="","",VLOOKUP($D27,'Services AVANT Rentrée Sept.'!$A$2:$S$228,COLUMNS($A:P),FALSE)&"") | T27: =IF($D27="","",VLOOKUP($D27,'Services AVANT Rentrée Sept.'!$A$2:$S$228,COLUMNS($A:Q),FALSE)&"") | W27: TOTAL AMPL.
E28: =IF($D28="","",VLOOKUP($D28,'Services AVANT Rentrée Sept.'!$A$2:$S$228,COLUMNS($A:B),FALSE)&"") | F28: =IF($D28="","",VLOOKUP($D28,'Services AVANT Rentrée Sept.'!$A$2:$S$228,COLUMNS($A:C),FALSE)&"") | G28: =IF($D28="","",VLOOKUP($D28,'Services AVANT Rentrée Sept.'!$A$2:$S$228,COLUMNS($A:D),FALSE)&"") | H28: =IF($D28="","",VLOOKUP($D28,'Services AVANT Rentrée Sept.'!$A$2:$S$228,COLUMNS($A:E),FALSE)&"") | I28: =IF($D28="","",VLOOKUP($D28,'Services AVANT Rentrée Sept.'!$A$2:$S$228,COLUMNS($A:F),FALSE)&"") | J28: =IF($D28="","",VLOOKUP($D28,'Services AVANT Rentrée Sept.'!$A$2:$S$228,COLUMNS($A:G),FALSE)&"") | K28: =IF($D28="","",VLOOKUP($D28,'Services AVANT Rentrée Sept.'!$A$2:$S$228,COLUMNS($A:H),FALSE)&"") | L28: =IF($D28="","",VLOOKUP($D28,'Services AVANT Rentrée Sept.'!$A$2:$S$228,COLUMNS($A:I),FALSE)&"") | M28: =IF($D28="","",VLOOKUP($D28,'Services AVANT Rentrée Sept.'!$A$2:$S$228,COLUMNS($A:J),FALSE)&"") | N28: =IF($D28="","",VLOOKUP($D28,'Services AVANT Rentrée Sept.'!$A$2:$S$228,COLUMNS($A:K),FALSE)&"") | O28: =IF($D28="","",VLOOKUP($D28,'Services AVANT Rentrée Sept.'!$A$2:$S$228,COLUMNS($A:L),FALSE)&"") | P28: =IF($D28="","",VLOOKUP($D28,'Services AVANT Rentrée Sept.'!$A$2:$S$228,COLUMNS($A:M),FALSE)&"") | Q28: =IF($D28="","",VLOOKUP($D28,'Services AVANT Rentrée Sept.'!$A$2:$S$228,COLUMNS($A:N),FALSE)&"") | R28: =IF($D28="","",VLOOKUP($D28,'Services AVANT Rentrée Sept.'!$A$2:$S$228,COLUMNS($A:O),FALSE)&"") | S28: =IF($D28="","",VLOOKUP($D28,'Services AVANT Rentrée Sept.'!$A$2:$S$228,COLUMNS($A:P),FALSE)&"") | T28: =IF($D28="","",VLOOKUP($D28,'Services AVANT Rentrée Sept.'!$A$2:$S$228,COLUMNS($A:Q),FALSE)&"")
E29: =IF($D29="","",VLOOKUP($D29,'Services AVANT Rentrée Sept.'!$A$2:$S$228,COLUMNS($A:B),FALSE)&"") | F29: =IF($D29="","",VLOOKUP($D29,'Services AVANT Rentrée Sept.'!$A$2:$S$228,COLUMNS($A:C),FALSE)&"") | G29: =IF($D29="","",VLOOKUP($D29,'Services AVANT Rentrée Sept.'!$A$2:$S$228,COLUMNS($A:D),FALSE)&"") | H29: =IF($D29="","",VLOOKUP($D29,'Services AVANT Rentrée Sept.'!$A$2:$S$228,COLUMNS($A:E),FALSE)&"") | I29: =IF($D29="","",VLOOKUP($D29,'Services AVANT Rentrée Sept.'!$A$2:$S$228,COLUMNS($A:F),FALSE)&"") | J29: =IF($D29="","",VLOOKUP($D29,'Services AVANT Rentrée Sept.'!$A$2:$S$228,COLUMNS($A:G),FALSE)&"") | K29: =IF($D29="","",VLOOKUP($D29,'Services AVANT Rentrée Sept.'!$A$2:$S$228,COLUMNS($A:H),FALSE)&"") | L29: =IF($D29="","",VLOOKUP($D29,'Services AVANT Rentrée Sept.'!$A$2:$S$228,COLUMNS($A:I),FALSE)&"") | M29: =IF($D29="","",VLOOKUP($D29,'Services AVANT Rentrée Sept.'!$A$2:$S$228,COLUMNS($A:J),FALSE)&"") | N29: =IF($D29="","",VLOOKUP($D29,'Services AVANT Rentrée Sept.'!$A$2:$S$228,COLUMNS($A:K),FALSE)&"") | O29: =IF($D29="","",VLOOKUP($D29,'Services AVANT Rentrée Sept.'!$A$2:$S$228,COLUMNS($A:L),FALSE)&"") | P29: =IF($D29="","",VLOOKUP($D29,'Services AVANT Rentrée Sept.'!$A$2:$S$228,COLUMNS($A:M),FALSE)&"") | Q29: =IF($D29="","",VLOOKUP($D29,'Services AVANT Rentrée Sept.'!$A$2:$S$228,COLUMNS($A:N),FALSE)&"") | R29: =IF($D29="","",VLOOKUP($D29,'Services AVANT Rentrée Sept.'!$A$2:$S$228,COLUMNS($A:O),FALSE)&"") | S29: =IF($D29="","",VLOOKUP($D29,'Services AVANT Rentrée Sept.'!$A$2:$S$228,COLUMNS($A:P),FALSE)&"") | T29: =IF($D29="","",VLOOKUP($D29,'Services AVANT Rentrée Sept.'!$A$2:$S$228,COLUMNS($A:Q),FALSE)&"") | W29: =SUM(V23:V29) -> 0
B30: 0 | E30: =IF($D30="","",VLOOKUP($D30,'Services AVANT Rentrée Sept.'!$A$2:$S$228,COLUMNS($A:B),FALSE)&"") | F30: =IF($D30="","",VLOOKUP($D30,'Services AVANT Rentrée Sept.'!$A$2:$S$228,COLUMNS($A:C),FALSE)&"") | G30: =IF($D30="","",VLOOKUP($D30,'Services AVANT Rentrée Sept.'!$A$2:$S$228,COLUMNS($A:D),FALSE)&"") | H30: =IF($D30="","",VLOOKUP($D30,'Services AVANT Rentrée Sept.'!$A$2:$S$228,COLUMNS($A:E),FALSE)&"") | I30: =IF($D30="","",VLOOKUP($D30,'Services AVANT Rentrée Sept.'!$A$2:$S$228,COLUMNS($A:F),FALSE)&"") | J30: =IF($D30="","",VLOOKUP($D30,'Services AVANT Rentrée Sept.'!$A$2:$S$228,COLUMNS($A:G),FALSE)&"") | K30: =IF($D30="","",VLOOKUP($D30,'Services AVANT Rentrée Sept.'!$A$2:$S$228,COLUMNS($A:H),FALSE)&"") | L30: =IF($D30="","",VLOOKUP($D30,'Services AVANT Rentrée Sept.'!$A$2:$S$228,COLUMNS($A:I),FALSE)&"") | M30: =IF($D30="","",VLOOKUP($D30,'Services AVANT Rentrée Sept.'!$A$2:$S$228,COLUMNS($A:J),FALSE)&"") | N30: =IF($D30="","",VLOOKUP($D30,'Services AVANT Rentrée Sept.'!$A$2:$S$228,COLUMNS($A:K),FALSE)&"") | O30: =IF($D30="","",VLOOKUP($D30,'Services AVANT Rentrée Sept.'!$A$2:$S$228,COLUMNS($A:L),FALSE)&"") | P30: =IF($D30="","",VLOOKUP($D30,'Services AVANT Rentrée Sept.'!$A$2:$S$228,COLUMNS($A:M),FALSE)&"") | Q30: =IF($D30="","",VLOOKUP($D30,'Services AVANT Rentrée Sept.'!$A$2:$S$228,COLUMNS($A:N),FALSE)&"") | R30: =IF($D30="","",VLOOKUP($D30,'Services AVANT Rentrée Sept.'!$A$2:$S$228,COLUMNS($A:O),FALSE)&"") | S30: =IF($D30="","",VLOOKUP($D30,'Services AVANT Rentrée Sept.'!$A$2:$S$228,COLUMNS($A:P),FALSE)&"") | T30: =IF($D30="","",VLOOKUP($D30,'Services AVANT Rentrée Sept.'!$A$2:$S$228,COLUMNS($A:Q),FALSE)&"")
E31: =IF($D31="","",VLOOKUP($D31,'Services AVANT Rentrée Sept.'!$A$2:$S$228,COLUMNS($A:B),FALSE)&"") | F31: =IF($D31="","",VLOOKUP($D31,'Services AVANT Rentrée Sept.'!$A$2:$S$228,COLUMNS($A:C),FALSE)&"") | G31: =IF($D31="","",VLOOKUP($D31,'Services AVANT Rentrée Sept.'!$A$2:$S$228,COLUMNS($A:D),FALSE)&"") | H31: =IF($D31="","",VLOOKUP($D31,'Services AVANT Rentrée Sept.'!$A$2:$S$228,COLUMNS($A:E),FALSE)&"") | I31: =IF($D31="","",VLOOKUP($D31,'Services AVANT Rentrée Sept.'!$A$2:$S$228,COLUMNS($A:F),FALSE)&"") | J31: =IF($D31="","",VLOOKUP($D31,'Services AVANT Rentrée Sept.'!$A$2:$S$228,COLUMNS($A:G),FALSE)&"") | K31: =IF($D31="","",VLOOKUP($D31,'Services AVANT Rentrée Sept.'!$A$2:$S$228,COLUMNS($A:H),FALSE)&"") | L31: =IF($D31="","",VLOOKUP($D31,'Services AVANT Rentrée Sept.'!$A$2:$S$228,COLUMNS($A:I),FALSE)&"") | M31: =IF($D31="","",VLOOKUP($D31,'Services AVANT Rentrée Sept.'!$A$2:$S$228,COLUMNS($A:J),FALSE)&"") | N31: =IF($D31="","",VLOOKUP($D31,'Services AVANT Rentrée Sept.'!$A$2:$S$228,COLUMNS($A:K),FALSE)&"") | O31: =IF($D31="","",VLOOKUP($D31,'Services AVANT Rentrée Sept.'!$A$2:$S$228,COLUMNS($A:L),FALSE)&"") | P31: =IF($D31="","",VLOOKUP($D31,'Services AVANT Rentrée Sept.'!$A$2:$S$228,COLUMNS($A:M),FALSE)&"") | Q31: =IF($D31="","",VLOOKUP($D31,'Services AVANT Rentrée Sept.'!$A$2:$S$228,COLUMNS($A:N),FALSE)&"") | R31: =IF($D31="","",VLOOKUP($D31,'Services AVANT Rentrée Sept.'!$A$2:$S$228,COLUMNS($A:O),FALSE)&"") | S31: =IF($D31="","",VLOOKUP($D31,'Services AVANT Rentrée Sept.'!$A$2:$S$228,COLUMNS($A:P),FALSE)&"") | T31: =IF($D31="","",VLOOKUP($D31,'Services AVANT Rentrée Sept.'!$A$2:$S$228,COLUMNS($A:Q),FALSE)&"")
C33: TOTAL MATINS : | D33: =COUNTIF($D$2:$E$32,"MATIN") -> 3 | E33: TOTAL APRES-MIDI : | G33: =COUNTIF($D$2:$E$32,"APRES-MIDI") -> 0 | H33: TOTAL COUPURE : | J33: =COUNTIF($D$2:$E$32,"COUPURE") -> 0
C35: TOTAL REPOS : | D35: =COUNTIF($D$2:$E$32,"REPOS") -> 0 | E35: TOTAL DISPO : | G35: =COUNTIF($D$2:$E$32,"DISPO") -> 0 | H35: TOTAL CONGÉ : | J35: =COUNTIF($D$2:$E$32,"CONGÉ") -> 0 | K35: TOTAL FÉRIÉ : | M35: =COUNTIF($D$2:$E$32,"FÉRIÉ") -> 0
