Workbook
Name Segment_Années: #N/A
Name Segment_Type_de_produit: #N/A

Sheet Entrée des lots et devenir 
A1: Origine | B1: Code du lot | C1: Code génétique | D1: Date de départ du lot | E1: Nombre d'œufs | F1: Nombre de truitelles | G1: Taux de survie Moyen | H1: Devenir | I1: Objectif de vente (Kg)
A2: Vivier | B2: 91.3.08.18 | C2: Femelle | D2: Aout 18 | E2: 80000 | G2: 0.7 | H2: P | I2: 0.26
A3: Alpes | B3: 31.2.07.16 | C3: Autres | D3: 42552 | F3: 120000 | G3: 0.95 | H3: TG | I3: 2.8
B14: Remarques :
B15: un lot peut être distribué en 2 produit. Exemple : en G et en P

Sheet déclenchement des ventes
A1: Affectation des ventes | B1: Répartition | C1: Proportion
A2: P | B2: code lot + 11 mois | C2: 0.2
B3: code lot + 12 mois | C3: 0.35
B4: code lot + 13 mois | C4: 0.35
B5: code lot + 14 mois | C5: 0.1
A6: G | B6: code lot + 15 mois | C6: 0.3 | F6: peut être variable
B7: code lot + 16 mois | C7: 0.3
B8: code lot + 17 mois | C8: 0.2
B9: code lot + 18 mois | C9: 0.2
A10: TG | B10: code lot + 23 mois | C10: Celon
B11: code lot + 24 mois | C11: 0.3
B12: code lot + 25 mois | C12: 0.3
B13: code lot + 26 mois | C13: 0.2

Sheet code produit vente 
A1: Code produit et objectif de vente | D1: https://forum.excel-pratique.com/viewtopic.php?f=2&t=139777&p=857703#p857703
A2: P (portion) | B2: 0.26
A3: G (filet) | B3: 1.2 | E3: peut être variable
A4: TG (très grosse) | B4: 2.8

Sheet Planning des ventes 
A1: Code produit | B1: Type de produit | C1: Mois de Vente | D1: Proportion | E1: Vente en Tonnes
A2: 91.3.08.18 | B2: P | C2: 43282 | D2: 20 | E2: =('Entrée des lots et devenir '!$E$2*'Entrée des lots et devenir '!$G$2)*'Entrée des lots et devenir '!$I$2*D2/100/1000 -> 2.912 | H2: 2018 | I2: Janvier | J2: Février | K2: Mars | L2: Avril | M2: Mai | N2: Juin | O2: Juillet | P2: Août | Q2: Septembre | R2: Octobre | S2: Novembre | T2: Décembre | U2: Total | V2: Total Annuel
A3: 91.3.08.18 | B3: P | C3: 43313 | D3: 35 | E3: =('Entrée des lots et devenir '!$E$2*'Entrée des lots et devenir '!$G$2)*'Entrée des lots et devenir '!$I$2*D3/100/1000 -> 5.096 | H3: P | O3: =E2 -> 2.912 | P3: =E3 -> 5.096 | Q3: =E4 -> 5.096 | R3: =E5 -> 1.456 | U3: =SUM(I3:T3) -> 14.56 | V3: =U3+U4+U5 -> 333.76
A4: 91.3.08.18 | B4: P | C4: 43344 | D4: 35 | E4: =('Entrée des lots et devenir '!$E$2*'Entrée des lots et devenir '!$G$2)*'Entrée des lots et devenir '!$I$2*D4/100/1000 -> 5.096 | H4: G | U4: =SUM(I4:T4) -> 0
A5: 91.3.08.18 | B5: P | C5: 43374 | D5: 10 | E5: =('Entrée des lots et devenir '!$E$2*'Entrée des lots et devenir '!$G$2)*'Entrée des lots et devenir '!$I$2*D5/100/1000 -> 1.456 | H5: TG | N5: =E6 -> 63.84 | O5: =E7 -> 95.76 | P5: =E8 -> 95.76 | Q5: =E9 -> 63.84 | U5: =SUM(I5:T5) -> 319.2
A6: 31.2.07.16 | B6: TG | C6: 43252 | D6: 0.2 | E6: ='Entrée des lots et devenir '!$F$3*'Entrée des lots et devenir '!$G$3*'Entrée des lots et devenir '!$I$3/1000*'Planning des ventes '!D6 -> 63.84 | H6: 2019 | U6: =SUM(I6:T6) -> 0
A7: 31.2.07.16 | B7: TG | C7: 43282 | D7: 0.3 | E7: ='Entrée des lots et devenir '!$F$3*'Entrée des lots et devenir '!$G$3*'Entrée des lots et devenir '!$I$3/1000*'Planning des ventes '!D7 -> 95.76 | H7: P | U7: =SUM(I7:T7) -> 0
A8: 31.2.07.16 | B8: TG | C8: 43313 | D8: 0.3 | E8: ='Entrée des lots et devenir '!$F$3*'Entrée des lots et devenir '!$G$3*'Entrée des lots et devenir '!$I$3/1000*'Planning des ventes '!D8 -> 95.76 | H8: G | U8: =SUM(I8:T8) -> 0
A9: 31.2.07.16 | B9: TG | C9: 43344 | D9: 0.2 | E9: ='Entrée des lots et devenir '!$F$3*'Entrée des lots et devenir '!$G$3*'Entrée des lots et devenir '!$I$3/1000*'Planning des ventes '!D9 -> 63.84 | H9: TG | U9: =SUM(I9:T9) -> 0
A10: 91.3.08.18 | B10: P | C10: 43647 | D10: 20 | E10: =('Entrée des lots et devenir '!$E$2*'Entrée des lots et devenir '!$G$2)*'Entrée des lots et devenir '!$I$2*D10/100/1000 -> 2.912
A11: 91.3.08.18 | B11: P | C11: 43678 | D11: 35 | E11: =('Entrée des lots et devenir '!$E$2*'Entrée des lots et devenir '!$G$2)*'Entrée des lots et devenir '!$I$2*D11/100/1000 -> 5.096 | H11: Somme de Vente en Tonnes | I11: Vente
A12: 91.3.08.18 | B12: P | C12: 43709 | D12: 35 | E12: =('Entrée des lots et devenir '!$E$2*'Entrée des lots et devenir '!$G$2)*'Entrée des lots et devenir '!$I$2*D12/100/1000 -> 5.096 | H12: Étiquettes de lignes | I12: juin | J12: juil | K12: août | L12: sept | M12: oct | N12: Total général
H13: 2018 | I13: 63.84 | J13: 98.672 | K13: 100.856 | L13: 68.936 | M13: 1.456 | N13: 333.76
H14: P | J14: 2.912 | K14: 5.096 | L14: 5.096 | M14: 1.456 | N14: 14.56
H15: TG | I15: 63.84 | J15: 95.76 | K15: 95.76 | L15: 63.84 | N15: 319.2
H16: 2019 | J16: 2.912 | K16: 5.096 | L16: 5.096 | N16: 13.104
H17: P | J17: 2.912 | K17: 5.096 | L17: 5.096 | N17: 13.104
H18: Total général | I18: 63.84 | J18: 101.584 | K18: 105.952 | L18: 74.032 | M18: 1.456 | N18: 346.864
