Workbook

Sheet TABLEAU
C3: LIBELLE | D3: CODE MOTS CLES A RENSEIGNER | F3: à copier-collage spécial valeur en C
C4: FRAIS/OUV CREDOC IMPORT DOSSIER | D4: =SUMPRODUCT(ISNUMBER(SEARCH(KEYWORD!$C$3:$E$7,C4))*KEYWORD!$B$3:$B$7) -> 4 | F4: =C4&" " -> FRAIS/OUV CREDOC IMPORT DOSSIER
C5: FRAIS/OUV CREDOC IMPORT DOSSIER | D5: =SUMPRODUCT(ISNUMBER(SEARCH(KEYWORD!$C$3:$E$7,C5))*KEYWORD!$B$3:$B$7) -> 4 | F5: =C5&" " -> FRAIS/OUV CREDOC IMPORT DOSSIER
C6: FRAIS/OUV CREDOC IMPORT DOSSIER | D6: =SUMPRODUCT(ISNUMBER(SEARCH(KEYWORD!$C$3:$E$7,C6))*KEYWORD!$B$3:$B$7) -> 4 | F6: =C6&" " -> FRAIS/OUV CREDOC IMPORT DOSSIER
C7: VIR FAVEUR | D7: =SUMPRODUCT(ISNUMBER(SEARCH(KEYWORD!$C$3:$E$7,C7))*KEYWORD!$B$3:$B$7) -> 0 | F7: =C7&" " -> VIR FAVEUR
C8: FRAIS/DOMICILIAT IMPORT MONTANT | D8: =SUMPRODUCT(ISNUMBER(SEARCH(KEYWORD!$C$3:$E$7,C8))*KEYWORD!$B$3:$B$7) -> 0 | F8: =C8&" " -> FRAIS/DOMICILIAT IMPORT MONTANT
C9: RET CHQ 3 | D9: =SUMPRODUCT(ISNUMBER(SEARCH(KEYWORD!$C$3:$E$7,C9))*KEYWORD!$B$3:$B$7) -> 1 | F9: =C9&" " -> RET CHQ 3
C10: FRAIS DE FORCAGE | D10: =SUMPRODUCT(ISNUMBER(SEARCH(KEYWORD!$C$3:$E$7,C10))*KEYWORD!$B$3:$B$7) -> 4 | F10: =C10&" " -> FRAIS DE FORCAGE
C11: RET CHQ 4 | D11: =SUMPRODUCT(ISNUMBER(SEARCH(KEYWORD!$C$3:$E$7,C11))*KEYWORD!$B$3:$B$7) -> 1 | F11: =C11&" " -> RET CHQ 4
C12: FRAIS DE FORCAGE | D12: =SUMPRODUCT(ISNUMBER(SEARCH(KEYWORD!$C$3:$E$7,C12))*KEYWORD!$B$3:$B$7) -> 4 | F12: =C12&" " -> FRAIS DE FORCAGE
C13: FRAIS/DOMICILIAT IMPORT MONTANT | D13: =SUMPRODUCT(ISNUMBER(SEARCH(KEYWORD!$C$3:$E$7,C13))*KEYWORD!$B$3:$B$7) -> 0 | F13: =C13&" " -> FRAIS/DOMICILIAT IMPORT MONTANT
C14: FRAIS/DOMICILIAT IMPORT MONTANT | D14: =SUMPRODUCT(ISNUMBER(SEARCH(KEYWORD!$C$3:$E$7,C14))*KEYWORD!$B$3:$B$7) -> 0 | F14: =C14&" " -> FRAIS/DOMICILIAT IMPORT MONTANT
C15: FRAIS/ESCPTE EFFET | D15: =SUMPRODUCT(ISNUMBER(SEARCH(KEYWORD!$C$3:$E$7,C15))*KEYWORD!$B$3:$B$7) -> 2 | F15: =C15&" " -> FRAIS/ESCPTE EFFET
... C34: FRAIS TRANSFERT NATIONAL | D34: =SUMPRODUCT(ISNUMBER(SEARCH(KEYWORD!$C$3:$E$7,C34))*KEYWORD!$B$3:$B$7) -> 3 | F34: =C34&" " -> FRAIS TRANSFERT NATIONAL

Sheet KEYWORD
B2: CODE | C2: KEYWORD 1 | D2: KEYWORD 2 | E2: KEYWORD 3 | G2: à copier-collage spécial valeur en C
B3: 1 | C3: CHQ | D3: CHEQ | E3: CHEQUE | G3: =C3&" " -> CHQ | H3: =D3&" " -> CHEQ | I3: =E3&" " -> CHEQUE
B4: 2 | C4: EFF | D4: EFFET | G4: =C4&" " -> EFF | H4: =D4&" " -> EFFET | I4: =E4&" "
B5: 3 | C5: TRF | D5: TRANSFERT | G5: =C5&" " -> TRF | H5: =D5&" " -> TRANSFERT | I5: =E5&" "
B6: 4 | C6: CREDOC | D6: FORCAGE | E6: DOMI | G6: =C6&" " -> CREDOC | H6: =D6&" " -> FORCAGE | I6: =E6&" " -> DOMI
B7: 5 | C7: AGIOS | G7: =C7&" " -> AGIOS | H7: =D7&" " | I7: =E7&" "
F14: chaque keyword devra être recherché dans "LIBELLE" sous "TABLEAU"
F15: Chaque fois que l'un ou l'autre des mots clés est trouvé
F16: le CODE de la ligne correspondant au mot clé devra être renseigné dans la colonne CODE sous "TABLEAU"
F18: Exemple : les mots clés CHQ, CHEQ, CHEQUE trouvés dans LIBELLE sous TABLEAU auront pour code "1" ainsi de suite
