Workbook

Sheet Calendrier
B1: 2015 | C1: 2015 | D1: 2015 | E1: 2015 | F1: 2015 | G1: 2015 | H1: 2016 | I1: 2016 | J1: 2016 | K1: 2016 | L1: 2016 | M1: 2016 | N1: 2016 | O1: 2016 | P1: 2016 | Q1: 2016 | R1: 2016 | S1: 2016
B2: 7 | C2: 8 | D2: 9 | E2: 10 | F2: 11 | G2: 12 | H2: 1 | I2: 2 | J2: 3 | K2: 4 | L2: 5 | M2: 6 | N2: 7 | O2: 8 | P2: 9 | Q2: 10 | R2: 11 | S2: 12
A3: 1 | B3: 1507S1 | C3: 1507S5 | D3: 1509S1 | E3: 1510S1 | F3: 1510S5 | G3: 1512S1 | H3: 1512S5 | I3: 1602S1 | J3: 1603S1 | K3: 1603S5 | L3: 1604S4 | M3: 1606S1 | N3: 1606S5 | O3: 1608S1 | P3: 1608S5 | Q3: 1609S4 | R3: 1611S1 | S3: 1611S5
A4: 2 | B4: 1507S1 | C4: 1507S5 | D4: 1509S1 | E4: 1510S1 | F4: 1511S1 | G4: 1512S1 | H4: 1512S5 | I4: 1602S1 | J4: 1603S1 | K4: 1603S5 | L4: 1605S1 | M4: 1606S1 | N4: 1606S5 | O4: 1608S1 | P4: 1608S5 | Q4: 1609S4 | R4: 1611S1 | S4: 1611S5
A5: 3 | B5: 1507S1 | C5: 1508S1 | D5: 1509S1 | E5: 1510S1 | F5: 1511S1 | G5: 1512S1 | H5: 1512S5 | I5: 1602S1 | J5: 1603S1 | K5: 1603S5 | L5: 1605S1 | M5: 1606S1 | N5: 1606S5 | O5: 1608S1 | P5: 1608S5 | Q5: 1610S1 | R5: 1611S1 | S5: 1611S5
A6: 4 | B6: 1507S1 | C6: 1508S1 | D6: 1509S1 | E6: 1510S1 | F6: 1511S1 | G6: 1512S1 | H6: 1601S1 | I6: 1602S1 | J6: 1603S1 | K6: 1604S1 | L6: 1605S1 | M6: 1606S1 | N6: 1607S1 | O6: 1608S1 | P6: 1608S5 | Q6: 1610S1 | R6: 1611S1 | S6: 1611S5
A7: 5 | B7: 1507S1 | C7: 1508S1 | D7: 1509S1 | E7: 1510S2 | F7: 1511S1 | G7: 1512S1 | H7: 1601S1 | I7: 1602S1 | J7: 1603S1 | K7: 1604S1 | L7: 1605S1 | M7: 1606S1 | N7: 1607S1 | O7: 1608S1 | P7: 1609S1 | Q7: 1610S1 | R7: 1611S1 | S7: 1612S1
A8: 6 | B8: 1507S2 | C8: 1508S1 | D8: 1509S1 | E8: 1510S2 | F8: 1511S1 | G8: 1512S1 | H8: 1601S1 | I8: 1602S1 | J8: 1603S1 | K8: 1604S1 | L8: 1605S1 | M8: 1606S2 | N8: 1607S1 | O8: 1608S1 | P8: 1609S1 | Q8: 1610S1 | R8: 1611S1 | S8: 1612S1
A9: 7 | B9: 1507S2 | C9: 1508S1 | D9: 1509S2 | E9: 1510S2 | F9: 1511S1 | G9: 1512S2 | H9: 1601S1 | I9: 1602S1 | J9: 1603S2 | K9: 1604S1 | L9: 1605S1 | M9: 1606S2 | N9: 1607S1 | O9: 1608S1 | P9: 1609S1 | Q9: 1610S1 | R9: 1611S2 | S9: 1612S1
A10: 8 | B10: 1507S2 | C10: 1508S1 | D10: 1509S2 | E10: 1510S2 | F10: 1511S1 | G10: 1512S2 | H10: 1601S1 | I10: 1602S2 | J10: 1603S2 | K10: 1604S1 | L10: 1605S1 | M10: 1606S2 | N10: 1607S1 | O10: 1608S2 | P10: 1609S1 | Q10: 1610S1 | R10: 1611S2 | S10: 1612S1
A11: 9 | B11: 1507S2 | C11: 1508S1 | D11: 1509S2 | E11: 1510S2 | F11: 1511S2 | G11: 1512S2 | H11: 1601S1 | I11: 1602S2 | J11: 1603S2 | K11: 1604S1 | L11: 1605S2 | M11: 1606S2 | N11: 1607S1 | O11: 1608S2 | P11: 1609S1 | Q11: 1610S1 | R11: 1611S2 | S11: 1612S1
A12: 10 | B12: 1507S2 | C12: 1508S2 | D12: 1509S2 | E12: 1510S2 | F12: 1511S2 | G12: 1512S2 | H12: 1601S1 | I12: 1602S2 | J12: 1603S2 | K12: 1604S1 | L12: 1605S2 | M12: 1606S2 | N12: 1607S1 | O12: 1608S2 | P12: 1609S1 | Q12: 1610S2 | R12: 1611S2 | S12: 1612S1
A13: 11 | B13: 1507S2 | C13: 1508S2 | D13: 1509S2 | E13: 1510S2 | F13: 1511S2 | G13: 1512S2 | H13: 1601S2 | I13: 1602S2 | J13: 1603S2 | K13: 1604S2 | L13: 1605S2 | M13: 1606S2 | N13: 1607S2 | O13: 1608S2 | P13: 1609S1 | Q13: 1610S2 | R13: 1611S2 | S13: 1612S1
A14: 12 | B14: 1507S2 | C14: 1508S2 | D14: 1509S2 | E14: 1510S3 | F14: 1511S2 | G14: 1512S2 | H14: 1601S2 | I14: 1602S2 | J14: 1603S2 | K14: 1604S2 | L14: 1605S2 | M14: 1606S2 | N14: 1607S2 | O14: 1608S2 | P14: 1609S2 | Q14: 1610S2 | R14: 1611S2 | S14: 1612S2
... A31: 29 | B31: 1507S5 | C31: 1508S4 | D31: 1510S1 | E31: 1510S5 | F31: 1511S4 | G31: 1512S5 | H31: 1601S4 | I31: 1603S1 | J31: 1603S5 | K31: 1604S4 | L31: 1605S4 | M31: 1606S5 | N31: 1607S4 | O31: 1608S5 | P31: 1609S4 | Q31: 1610S4 | R31: 1611S5 | S31: 1612S4
A32: 30 | B32: 1507S5 | C32: 1508S4 | D32: 1510S1 | E32: 1510S5 | F32: 1512S1 | G32: 1512S5 | H32: 1601S4 | J32: 1603S5 | K32: 1604S4 | L32: 1606S1 | M32: 1606S5 | N32: 1607S4 | O32: 1608S5 | P32: 1609S4 | Q32: 1610S4 | R32: 1611S5 | S32: 1612S4
A33: 31 | B33: 1507S5 | C33: 1509S1 | E33: 1510S5 | F33: 1512S1 | G33: 1512S5 | H33: 1601S4 | J33: 1603S5 | L33: 1606S1 | N33: 1607S4 | O33: 1608S5 | Q33: 1611S1 | S33: 1612S4

Sheet BDD opportunité
A1: S creation | B1: nombre opp | C1: POTENTIALID | D1: Date d’échéance | E1: Nom de l’Opportunité | F1: Statut | G1: Type | H1: Nom du Compte | I1: Nom | J1: Heure de création | K1: Marge Brands | L1: Marge Brands Total | M1: Secteur d’activité | N1: Heure de modification de l’étape | O1: Statut (Historique des étapes) | P1: prospect | Q1: semaine modif | R1: jrs créa | S1: mois créa | T1: an créa | U1: jr modif | V1: mois modif | W1: an modif
A2: =INDEX(Calendrier!$A$1:$S$33,R2+2,IF(T2=2015,S2-5,IF(T2=2016,S2+7))) -> 1507S1 | B2: 1 | C2: 1 | D2: 24/07/2015 | F2: Closed Lost | G2: offre 1 | J2: 02/07/2015 12:40 | K2: 0 | L2: 2000 | M2: Type 1 | N2: 42187.528 | O2: Negotiation/Review | P2: non prospect | Q2: =INDEX(Calendrier!$A$1:$S$33,U2+2,IF(W2=2015,V2-5,IF(W2=2016,V2+7))) -> 1507S1 | R2: =DAY(J2) -> 2 | S2: =MONTH(J2) -> 7 | T2: =YEAR(J2) -> 2015 | U2: =DAY(N2) -> 2 | V2: =MONTH(N2) -> 7 | W2: =YEAR(N2) -> 2015
A3: =INDEX(Calendrier!$A$1:$S$33,R3+2,IF(T3=2015,S3-5,IF(T3=2016,S3+7))) -> 1507S1 | B3: 1 | C3: 2 | D3: 25/09/2015 | F3: Closed Lost | G3: offre 1 var | J3: 02/07/2015 12:55 | K3: 0 | L3: 3000 | M3: Type 1 | N3: 02/07/2015 12:55 | O3: Negotiation/Review | P3: non prospect | Q3: =INDEX(Calendrier!$A$1:$S$33,U3+2,IF(W3=2015,V3-5,IF(W3=2016,V3+7))) -> 1507S1 | R3: =DAY(J3) -> 2 | S3: =MONTH(J3) -> 7 | T3: =YEAR(J3) -> 2015 | U3: =DAY(N3) -> 2 | V3: =MONTH(N3) -> 7 | W3: =YEAR(N3) -> 2015
A4: =INDEX(Calendrier!$A$1:$S$33,R4+2,IF(T4=2015,S4-5,IF(T4=2016,S4+7))) -> 1507S2 | B4: 1 | C4: 3 | D4: 31/07/2015 | F4: Closed Lost | G4: offre 1 | J4: 09/07/2015 17:17 | K4: 0 | L4: 75000 | M4: Type 2 | N4: 09/07/2015 17:17 | O4: Proposal/Price Quote | P4: non prospect | Q4: =INDEX(Calendrier!$A$1:$S$33,U4+2,IF(W4=2015,V4-5,IF(W4=2016,V4+7))) -> 1507S2 | R4: =DAY(J4) -> 9 | S4: =MONTH(J4) -> 7 | T4: =YEAR(J4) -> 2015 | U4: =DAY(N4) -> 9 | V4: =MONTH(N4) -> 7 | W4: =YEAR(N4) -> 2015
A5: =INDEX(Calendrier!$A$1:$S$33,R5+2,IF(T5=2015,S5-5,IF(T5=2016,S5+7))) -> 1507S2 | B5: 1 | C5: 4 | D5: 10/07/2015 | F5: Closed Won | G5: offre 2 | J5: 10/07/2015 16:54 | K5: 5400 | L5: 5400 | M5: Type 3 | N5: 10/07/2015 16:54 | O5: Closed Won | P5: non prospect | Q5: =INDEX(Calendrier!$A$1:$S$33,U5+2,IF(W5=2015,V5-5,IF(W5=2016,V5+7))) -> 1507S2 | R5: =DAY(J5) -> 10 | S5: =MONTH(J5) -> 7 | T5: =YEAR(J5) -> 2015 | U5: =DAY(N5) -> 10 | V5: =MONTH(N5) -> 7 | W5: =YEAR(N5) -> 2015
A6: =INDEX(Calendrier!$A$1:$S$33,R6+2,IF(T6=2015,S6-5,IF(T6=2016,S6+7))) -> 1507S2 | B6: 1 | C6: 5 | D6: 26/09/2016 | F6: Closed Lost | G6: offre 1 | J6: 10/07/2015 13:32 | K6: 0 | L6: 35000 | M6: Type 4 | N6: 10/07/2015 13:32 | O6: Proposal/Price Quote | P6: non prospect | Q6: =INDEX(Calendrier!$A$1:$S$33,U6+2,IF(W6=2015,V6-5,IF(W6=2016,V6+7))) -> 1507S2 | R6: =DAY(J6) -> 10 | S6: =MONTH(J6) -> 7 | T6: =YEAR(J6) -> 2015 | U6: =DAY(N6) -> 10 | V6: =MONTH(N6) -> 7 | W6: =YEAR(N6) -> 2015
A7: =INDEX(Calendrier!$A$1:$S$33,R7+2,IF(T7=2015,S7-5,IF(T7=2016,S7+7))) -> 1507S2 | B7: 1 | C7: 6 | D7: 31/07/2015 | F7: Closed Lost | G7: offre 1 | J7: 09/07/2015 17:17 | K7: 0 | L7: 75000 | M7: Type 2 | N7: 22/07/2015 15:53 | O7: Closed Lost | P7: non prospect | Q7: =INDEX(Calendrier!$A$1:$S$33,U7+2,IF(W7=2015,V7-5,IF(W7=2016,V7+7))) -> 1507S4 | R7: =DAY(J7) -> 9 | S7: =MONTH(J7) -> 7 | T7: =YEAR(J7) -> 2015 | U7: =DAY(N7) -> 22 | V7: =MONTH(N7) -> 7 | W7: =YEAR(N7) -> 2015
A8: =INDEX(Calendrier!$A$1:$S$33,R8+2,IF(T8=2015,S8-5,IF(T8=2016,S8+7))) -> 1507S4 | B8: 1 | C8: 7 | D8: 25/09/2015 | F8: Closed Won | G8: offre 3 | J8: 24/07/2015 12:06 | K8: 5000 | L8: 5000 | M8: Type 5 | N8: 24/07/2015 12:06 | O8: Negotiation/Review | P8: non prospect | Q8: =INDEX(Calendrier!$A$1:$S$33,U8+2,IF(W8=2015,V8-5,IF(W8=2016,V8+7))) -> 1507S4 | R8: =DAY(J8) -> 24 | S8: =MONTH(J8) -> 7 | T8: =YEAR(J8) -> 2015 | U8: =DAY(N8) -> 24 | V8: =MONTH(N8) -> 7 | W8: =YEAR(N8) -> 2015
A9: =INDEX(Calendrier!$A$1:$S$33,R9+2,IF(T9=2015,S9-5,IF(T9=2016,S9+7))) -> 1507S4 | B9: 1 | C9: 8 | D9: 05/11/2015 | F9: Closed Won | G9: offre 1 var | J9: 22/07/2015 15:52 | K9: 2546 | L9: 2546 | M9: Type 1 | N9: 22/07/2015 15:52 | O9: Needs Analysis | P9: non prospect | Q9: =INDEX(Calendrier!$A$1:$S$33,U9+2,IF(W9=2015,V9-5,IF(W9=2016,V9+7))) -> 1507S4 | R9: =DAY(J9) -> 22 | S9: =MONTH(J9) -> 7 | T9: =YEAR(J9) -> 2015 | U9: =DAY(N9) -> 22 | V9: =MONTH(N9) -> 7 | W9: =YEAR(N9) -> 2015
A10: =INDEX(Calendrier!$A$1:$S$33,R10+2,IF(T10=2015,S10-5,IF(T10=2016,S10+7))) -> 1507S4 | B10: 1 | C10: 9 | D10: 30/10/2015 | F10: Closed Lost | G10: offre 1 var | J10: 22/07/2015 17:56 | K10: 0 | L10: 2400 | M10: Type 1 | N10: 22/07/2015 17:56 | O10: Needs Analysis | P10: non prospect | Q10: =INDEX(Calendrier!$A$1:$S$33,U10+2,IF(W10=2015,V10-5,IF(W10=2016,V10+7))) -> 1507S4 | R10: =DAY(J10) -> 22 | S10: =MONTH(J10) -> 7 | T10: =YEAR(J10) -> 2015 | U10: =DAY(N10) -> 22 | V10: =MONTH(N10) -> 7 | W10: =YEAR(N10) -> 2015
A11: =INDEX(Calendrier!$A$1:$S$33,R11+2,IF(T11=2015,S11-5,IF(T11=2016,S11+7))) -> 1507S4 | B11: 1 | C11: 10 | D11: 25/09/2015 | F11: Closed Lost | G11: offre 1 | J11: 24/07/2015 11:12 | K11: 0 | L11: 21500 | M11: Type 6 | N11: 24/07/2015 11:12 | O11: Negotiation/Review | P11: non prospect | Q11: =INDEX(Calendrier!$A$1:$S$33,U11+2,IF(W11=2015,V11-5,IF(W11=2016,V11+7))) -> 1507S4 | R11: =DAY(J11) -> 24 | S11: =MONTH(J11) -> 7 | T11: =YEAR(J11) -> 2015 | U11: =DAY(N11) -> 24 | V11: =MONTH(N11) -> 7 | W11: =YEAR(N11) -> 2015
A12: =INDEX(Calendrier!$A$1:$S$33,R12+2,IF(T12=2015,S12-5,IF(T12=2016,S12+7))) -> 1507S1 | B12: 1 | C12: 11 | D12: 24/07/2015 | F12: Closed Lost | G12: offre 1 | J12: 02/07/2015 12:40 | K12: 0 | L12: 2000 | M12: Type 1 | N12: 29/07/2015 12:24 | O12: Closed Won | P12: non prospect | Q12: =INDEX(Calendrier!$A$1:$S$33,U12+2,IF(W12=2015,V12-5,IF(W12=2016,V12+7))) -> 1507S5 | R12: =DAY(J12) -> 2 | S12: =MONTH(J12) -> 7 | T12: =YEAR(J12) -> 2015 | U12: =DAY(N12) -> 29 | V12: =MONTH(N12) -> 7 | W12: =YEAR(N12) -> 2015
A13: =INDEX(Calendrier!$A$1:$S$33,R13+2,IF(T13=2015,S13-5,IF(T13=2016,S13+7))) -> 1507S4 | B13: 1 | C13: 12 | D13: 30/10/2015 | F13: Closed Lost | G13: offre 1 var | J13: 22/07/2015 17:56 | K13: 0 | L13: 2400 | M13: Type 1 | N13: 29/07/2015 12:04 | O13: Proposal/Price Quote | P13: non prospect | Q13: =INDEX(Calendrier!$A$1:$S$33,U13+2,IF(W13=2015,V13-5,IF(W13=2016,V13+7))) -> 1507S5 | R13: =DAY(J13) -> 22 | S13: =MONTH(J13) -> 7 | T13: =YEAR(J13) -> 2015 | U13: =DAY(N13) -> 29 | V13: =MONTH(N13) -> 7 | W13: =YEAR(N13) -> 2015
A14: =INDEX(Calendrier!$A$1:$S$33,R14+2,IF(T14=2015,S14-5,IF(T14=2016,S14+7))) -> 1507S5 | B14: 1 | C14: 13 | D14: 30/06/2016 | F14: Closed Lost | G14: offre 1 | J14: 29/07/2015 13:53 | K14: 0 | L14: 25000 | M14: Type 2 | N14: 29/07/2015 13:53 | O14: Negotiation/Review | P14: non prospect | Q14: =INDEX(Calendrier!$A$1:$S$33,U14+2,IF(W14=2015,V14-5,IF(W14=2016,V14+7))) -> 1507S5 | R14: =DAY(J14) -> 29 | S14: =MONTH(J14) -> 7 | T14: =YEAR(J14) -> 2015 | U14: =DAY(N14) -> 29 | V14: =MONTH(N14) -> 7 | W14: =YEAR(N14) -> 2015
... A35: =INDEX(Calendrier!$A$1:$S$33,R35+2,IF(T35=2015,S35-5,IF(T35=2016,S35+7))) -> 1509S2 | B35: 1 | C35: 34 | D35: 16/10/2015 | F35: Closed Won | G35: offre 1 | J35: 10/09/2015 19:21 | K35: 42500 | L35: 42500 | M35: Type 5 | N35: 10/09/2015 19:21 | O35: Proposal/Price Quote | P35: non prospect | Q35: =INDEX(Calendrier!$A$1:$S$33,U35+2,IF(W35=2015,V35-5,IF(W35=2016,V35+7))) -> 1509S2 | R35: =DAY(J35) -> 10 | S35: =MONTH(J35) -> 9 | T35: =YEAR(J35) -> 2015 | U35: =DAY(N35) -> 10 | V35: =MONTH(N35) -> 9 | W35: =YEAR(N35) -> 2015
A36: =INDEX(Calendrier!$A$1:$S$33,R36+2,IF(T36=2015,S36-5,IF(T36=2016,S36+7))) -> 1509S2 | B36: 1 | C36: 35 | D36: 09/10/2015 | F36: Closed Won | G36: offre 1 var | J36: 08/09/2015 22:11 | K36: 0 | M36: Type 1 | N36: 08/09/2015 22:11 | O36: Value Proposition | P36: non prospect | Q36: =INDEX(Calendrier!$A$1:$S$33,U36+2,IF(W36=2015,V36-5,IF(W36=2016,V36+7))) -> 1509S2 | R36: =DAY(J36) -> 8 | S36: =MONTH(J36) -> 9 | T36: =YEAR(J36) -> 2015 | U36: =DAY(N36) -> 8 | V36: =MONTH(N36) -> 9 | W36: =YEAR(N36) -> 2015
A37: =INDEX(Calendrier!$A$1:$S$33,R37+2,IF(T37=2015,S37-5,IF(T37=2016,S37+7))) -> 1509S2 | B37: 1 | C37: 36 | D37: 31/05/2016 | F37: Closed Lost | G37: offre 1 | J37: 08/09/2015 10:58 | K37: 0 | L37: 40000 | M37: Type 4 | N37: 08/09/2015 10:58 | O37: Negotiation/Review | P37: non prospect | Q37: =INDEX(Calendrier!$A$1:$S$33,U37+2,IF(W37=2015,V37-5,IF(W37=2016,V37+7))) -> 1509S2 | R37: =DAY(J37) -> 8 | S37: =MONTH(J37) -> 9 | T37: =YEAR(J37) -> 2015 | U37: =DAY(N37) -> 8 | V37: =MONTH(N37) -> 9 | W37: =YEAR(N37) -> 2015
A38: =INDEX(Calendrier!$A$1:$S$33,R38+2,IF(T38=2015,S38-5,IF(T38=2016,S38+7))) -> 1509S2 | B38: 1 | C38: 37 | D38: 18/09/2015 | F38: Closed Won | G38: offre 4 | J38: 11/09/2015 19:22 | M38: Type 9 | N38: 11/09/2015 19:22 | O38: Negotiation/Review | P38: non prospect | Q38: =INDEX(Calendrier!$A$1:$S$33,U38+2,IF(W38=2015,V38-5,IF(W38=2016,V38+7))) -> 1509S2 | R38: =DAY(J38) -> 11 | S38: =MONTH(J38) -> 9 | T38: =YEAR(J38) -> 2015 | U38: =DAY(N38) -> 11 | V38: =MONTH(N38) -> 9 | W38: =YEAR(N38) -> 2015
A39: =INDEX(Calendrier!$A$1:$S$33,R39+2,IF(T39=2015,S39-5,IF(T39=2016,S39+7))) -> 1509S2 | B39: 1 | C39: 38 | D39: 27/11/2015 | F39: Closed Lost | G39: offre 4 | J39: 07/09/2015 15:49 | M39: Type 3 | N39: 07/09/2015 15:49 | O39: Qualification | P39: non prospect | Q39: =INDEX(Calendrier!$A$1:$S$33,U39+2,IF(W39=2015,V39-5,IF(W39=2016,V39+7))) -> 1509S2 | R39: =DAY(J39) -> 7 | S39: =MONTH(J39) -> 9 | T39: =YEAR(J39) -> 2015 | U39: =DAY(N39) -> 7 | V39: =MONTH(N39) -> 9 | W39: =YEAR(N39) -> 2015
A40: =INDEX(Calendrier!$A$1:$S$33,R40+2,IF(T40=2015,S40-5,IF(T40=2016,S40+7))) -> 1509S2 | B40: 1 | C40: 39 | D40: 09/10/2015 | F40: Closed Won | G40: offre 1 var | J40: 08/09/2015 22:11 | K40: 0 | M40: Type 1 | N40: 14/09/2015 17:23 | O40: Proposal/Price Quote | P40: non prospect | Q40: =INDEX(Calendrier!$A$1:$S$33,U40+2,IF(W40=2015,V40-5,IF(W40=2016,V40+7))) -> 1509S3 | R40: =DAY(J40) -> 8 | S40: =MONTH(J40) -> 9 | T40: =YEAR(J40) -> 2015 | U40: =DAY(N40) -> 14 | V40: =MONTH(N40) -> 9 | W40: =YEAR(N40) -> 2015
A41: =INDEX(Calendrier!$A$1:$S$33,R41+2,IF(T41=2015,S41-5,IF(T41=2016,S41+7))) -> 1509S2 | B41: 1 | C41: 40 | D41: 18/09/2015 | F41: Closed Won | G41: offre 4 | J41: 11/09/2015 19:22 | M41: Type 9 | N41: 14/09/2015 11:08 | O41: Closed Won | P41: non prospect | Q41: =INDEX(Calendrier!$A$1:$S$33,U41+2,IF(W41=2015,V41-5,IF(W41=2016,V41+7))) -> 1509S3 | R41: =DAY(J41) -> 11 | S41: =MONTH(J41) -> 9 | T41: =YEAR(J41) -> 2015 | U41: =DAY(N41) -> 14 | V41: =MONTH(N41) -> 9 | W41: =YEAR(N41) -> 2015
A42: =INDEX(Calendrier!$A$1:$S$33,R42+2,IF(T42=2015,S42-5,IF(T42=2016,S42+7))) -> 1509S3 | B42: 1 | C42: 41 | D42: 14/07/2016 | F42: Closed Lost | G42: offre 1 | J42: 14/09/2015 17:26 | K42: 0 | L42: 15000 | M42: Type 3 | N42: 14/09/2015 17:26 | O42: Negotiation/Review | P42: non prospect | Q42: =INDEX(Calendrier!$A$1:$S$33,U42+2,IF(W42=2015,V42-5,IF(W42=2016,V42+7))) -> 1509S3 | R42: =DAY(J42) -> 14 | S42: =MONTH(J42) -> 9 | T42: =YEAR(J42) -> 2015 | U42: =DAY(N42) -> 14 | V42: =MONTH(N42) -> 9 | W42: =YEAR(N42) -> 2015
A43: =INDEX(Calendrier!$A$1:$S$33,R43+2,IF(T43=2015,S43-5,IF(T43=2016,S43+7))) -> 1509S3 | B43: 1 | C43: 42 | D43: 02/10/2015 | F43: Closed Won | G43: offre 1 var | J43: 14/09/2015 17:22 | K43: 13000 | L43: 13000 | M43: Type 1 | N43: 14/09/2015 17:22 | O43: Negotiation/Review | P43: non prospect | Q43: =INDEX(Calendrier!$A$1:$S$33,U43+2,IF(W43=2015,V43-5,IF(W43=2016,V43+7))) -> 1509S3 | R43: =DAY(J43) -> 14 | S43: =MONTH(J43) -> 9 | T43: =YEAR(J43) -> 2015 | U43: =DAY(N43) -> 14 | V43: =MONTH(N43) -> 9 | W43: =YEAR(N43) -> 2015
A44: =INDEX(Calendrier!$A$1:$S$33,R44+2,IF(T44=2015,S44-5,IF(T44=2016,S44+7))) -> 1507S4 | B44: 1 | C44: 43 | D44: 25/09/2015 | F44: Closed Won | G44: offre 3 | J44: 24/07/2015 12:06 | K44: 5000 | L44: 5000 | M44: Type 5 | N44: 21/09/2015 11:39 | O44: Closed Won | P44: non prospect | Q44: =INDEX(Calendrier!$A$1:$S$33,U44+2,IF(W44=2015,V44-5,IF(W44=2016,V44+7))) -> 1509S4 | R44: =DAY(J44) -> 24 | S44: =MONTH(J44) -> 7 | T44: =YEAR(J44) -> 2015 | U44: =DAY(N44) -> 21 | V44: =MONTH(N44) -> 9 | W44: =YEAR(N44) -> 2015
A45: =INDEX(Calendrier!$A$1:$S$33,R45+2,IF(T45=2015,S45-5,IF(T45=2016,S45+7))) -> 1507S4 | B45: 1 | C45: 44 | D45: 25/09/2015 | F45: Closed Lost | G45: offre 1 | J45: 24/07/2015 11:12 | K45: 0 | L45: 21500 | M45: Type 6 | N45: 21/09/2015 15:11 | O45: Closed Lost | P45: non prospect | Q45: =INDEX(Calendrier!$A$1:$S$33,U45+2,IF(W45=2015,V45-5,IF(W45=2016,V45+7))) -> 1509S4 | R45: =DAY(J45) -> 24 | S45: =MONTH(J45) -> 7 | T45: =YEAR(J45) -> 2015 | U45: =DAY(N45) -> 21 | V45: =MONTH(N45) -> 9 | W45: =YEAR(N45) -> 2015
A46: =INDEX(Calendrier!$A$1:$S$33,R46+2,IF(T46=2015,S46-5,IF(T46=2016,S46+7))) -> 1507S5 | B46: 1 | C46: 45 | D46: 18/09/2015 | F46: Closed Lost | G46: offre 3 | J46: 29/07/2015 11:55 | K46: 0 | L46: 18000 | M46: Type 8 | N46: 21/09/2015 15:06 | O46: Closed Lost | P46: non prospect | Q46: =INDEX(Calendrier!$A$1:$S$33,U46+2,IF(W46=2015,V46-5,IF(W46=2016,V46+7))) -> 1509S4 | R46: =DAY(J46) -> 29 | S46: =MONTH(J46) -> 7 | T46: =YEAR(J46) -> 2015 | U46: =DAY(N46) -> 21 | V46: =MONTH(N46) -> 9 | W46: =YEAR(N46) -> 2015
A47: =INDEX(Calendrier!$A$1:$S$33,R47+2,IF(T47=2015,S47-5,IF(T47=2016,S47+7))) -> 1507S1 | B47: 1 | C47: 46 | D47: 24/07/2015 | F47: Closed Lost | G47: offre 1 | J47: 02/07/2015 12:40 | K47: 0 | L47: 2000 | M47: Type 1 | N47: 29/09/2015 12:10 | O47: Closed Lost | P47: non prospect | Q47: =INDEX(Calendrier!$A$1:$S$33,U47+2,IF(W47=2015,V47-5,IF(W47=2016,V47+7))) -> 1510S1 | R47: =DAY(J47) -> 2 | S47: =MONTH(J47) -> 7 | T47: =YEAR(J47) -> 2015 | U47: =DAY(N47) -> 29 | V47: =MONTH(N47) -> 9 | W47: =YEAR(N47) -> 2015
A48: =INDEX(Calendrier!$A$1:$S$33,R48+2,IF(T48=2015,S48-5,IF(T48=2016,S48+7))) -> 1507S1 | B48: 1 | C48: 47 | D48: 25/09/2015 | F48: Closed Lost | G48: offre 1 var | J48: 02/07/2015 12:55 | K48: 0 | L48: 3000 | M48: Type 1 | N48: 29/09/2015 12:10 | O48: Closed Lost | P48: non prospect | Q48: =INDEX(Calendrier!$A$1:$S$33,U48+2,IF(W48=2015,V48-5,IF(W48=2016,V48+7))) -> 1510S1 | R48: =DAY(J48) -> 2 | S48: =MONTH(J48) -> 7 | T48: =YEAR(J48) -> 2015 | U48: =DAY(N48) -> 29 | V48: =MONTH(N48) -> 9 | W48: =YEAR(N48) -> 2015
A49: =INDEX(Calendrier!$A$1:$S$33,R49+2,IF(T49=2015,S49-5,IF(T49=2016,S49+7))) -> 1510S1 | B49: 1 | C49: 48 | D49: 02/10/2015 | F49: Closed Won | G49: offre 1 var | J49: 29/09/2015 12:11 | K49: 2500 | L49: 2500 | M49: Type 1 | N49: 29/09/2015 12:11 | O49: Negotiation/Review | P49: non prospect | Q49: =INDEX(Calendrier!$A$1:$S$33,U49+2,IF(W49=2015,V49-5,IF(W49=2016,V49+7))) -> 1510S1 | R49: =DAY(J49) -> 29 | S49: =MONTH(J49) -> 9 | T49: =YEAR(J49) -> 2015 | U49: =DAY(N49) -> 29 | V49: =MONTH(N49) -> 9 | W49: =YEAR(N49) -> 2015
A50: =INDEX(Calendrier!$A$1:$S$33,R50+2,IF(T50=2015,S50-5,IF(T50=2016,S50+7))) -> 1510S1 | B50: 1 | C50: 49 | D50: 02/10/2015 | F50: Closed Won | G50: offre 1 var | J50: 29/09/2015 12:11 | K50: 2500 | L50: 2500 | M50: Type 1 | N50: 02/10/2015 15:14 | O50: Closed Won | P50: non prospect | Q50: =INDEX(Calendrier!$A$1:$S$33,U50+2,IF(W50=2015,V50-5,IF(W50=2016,V50+7))) -> 1510S1 | R50: =DAY(J50) -> 29 | S50: =MONTH(J50) -> 9 | T50: =YEAR(J50) -> 2015 | U50: =DAY(N50) -> 2 | V50: =MONTH(N50) -> 10 | W50: =YEAR(N50) -> 2015
A51: =INDEX(Calendrier!$A$1:$S$33,R51+2,IF(T51=2015,S51-5,IF(T51=2016,S51+7))) -> 1510S1 | B51: 1 | C51: 50 | D51: 30/10/2015 | F51: Closed Won | G51: offre 1 | J51: 29/09/2015 11:59 | K51: 15000 | L51: 15000 | M51: Type 5 | N51: 29/09/2015 11:59 | O51: Negotiation/Review | P51: non prospect | Q51: =INDEX(Calendrier!$A$1:$S$33,U51+2,IF(W51=2015,V51-5,IF(W51=2016,V51+7))) -> 1510S1 | R51: =DAY(J51) -> 29 | S51: =MONTH(J51) -> 9 | T51: =YEAR(J51) -> 2015 | U51: =DAY(N51) -> 29 | V51: =MONTH(N51) -> 9 | W51: =YEAR(N51) -> 2015
A52: =INDEX(Calendrier!$A$1:$S$33,R52+2,IF(T52=2015,S52-5,IF(T52=2016,S52+7))) -> 1509S1 | B52: 1 | C52: 51 | D52: 09/10/2015 | F52: Closed Won | G52: offre 1 var | J52: 04/09/2015 18:48 | K52: 1900 | L52: 1900 | M52: Type 7 | N52: 05/10/2015 13:23 | O52: Closed Won | P52: non prospect | Q52: =INDEX(Calendrier!$A$1:$S$33,U52+2,IF(W52=2015,V52-5,IF(W52=2016,V52+7))) -> 1510S2 | R52: =DAY(J52) -> 4 | S52: =MONTH(J52) -> 9 | T52: =YEAR(J52) -> 2015 | U52: =DAY(N52) -> 5 | V52: =MONTH(N52) -> 10 | W52: =YEAR(N52) -> 2015
A53: =INDEX(Calendrier!$A$1:$S$33,R53+2,IF(T53=2015,S53-5,IF(T53=2016,S53+7))) -> 1509S2 | B53: 1 | C53: 52 | D53: 09/10/2015 | F53: Closed Won | G53: offre 1 var | J53: 08/09/2015 22:11 | K53: 0 | M53: Type 1 | N53: 05/10/2015 13:24 | O53: Closed Won | P53: non prospect | Q53: =INDEX(Calendrier!$A$1:$S$33,U53+2,IF(W53=2015,V53-5,IF(W53=2016,V53+7))) -> 1510S2 | R53: =DAY(J53) -> 8 | S53: =MONTH(J53) -> 9 | T53: =YEAR(J53) -> 2015 | U53: =DAY(N53) -> 5 | V53: =MONTH(N53) -> 10 | W53: =YEAR(N53) -> 2015
A54: =INDEX(Calendrier!$A$1:$S$33,R54+2,IF(T54=2015,S54-5,IF(T54=2016,S54+7))) -> 1509S3 | B54: 1 | C54: 53 | D54: 14/07/2016 | F54: Closed Lost | G54: offre 1 | J54: 14/09/2015 17:26 | K54: 0 | L54: 15000 | M54: Type 3 | N54: 08/10/2015 09:54 | O54: Value Proposition | P54: non prospect | Q54: =INDEX(Calendrier!$A$1:$S$33,U54+2,IF(W54=2015,V54-5,IF(W54=2016,V54+7))) -> 1510S2 | R54: =DAY(J54) -> 14 | S54: =MONTH(J54) -> 9 | T54: =YEAR(J54) -> 2015 | U54: =DAY(N54) -> 8 | V54: =MONTH(N54) -> 10 | W54: =YEAR(N54) -> 2015
A55: =INDEX(Calendrier!$A$1:$S$33,R55+2,IF(T55=2015,S55-5,IF(T55=2016,S55+7))) -> 1509S3 | B55: 1 | C55: 54 | D55: 02/10/2015 | F55: Closed Won | G55: offre 1 var | J55: 14/09/2015 17:22 | K55: 13000 | L55: 13000 | M55: Type 1 | N55: 05/10/2015 13:04 | O55: Closed Won | P55: non prospect | Q55: =INDEX(Calendrier!$A$1:$S$33,U55+2,IF(W55=2015,V55-5,IF(W55=2016,V55+7))) -> 1510S2 | R55: =DAY(J55) -> 14 | S55: =MONTH(J55) -> 9 | T55: =YEAR(J55) -> 2015 | U55: =DAY(N55) -> 5 | V55: =MONTH(N55) -> 10 | W55: =YEAR(N55) -> 2015
A56: =INDEX(Calendrier!$A$1:$S$33,R56+2,IF(T56=2015,S56-5,IF(T56=2016,S56+7))) -> 1510S2 | B56: 1 | C56: 55 | D56: 05/04/2016 | F56: Closed Lost | G56: offre 1 | J56: 07/10/2015 18:40 | K56: 0 | L56: 25000 | M56: Type 4 | N56: 07/10/2015 18:40 | O56: Proposal/Price Quote | P56: non prospect | Q56: =INDEX(Calendrier!$A$1:$S$33,U56+2,IF(W56=2015,V56-5,IF(W56=2016,V56+7))) -> 1510S2 | R56: =DAY(J56) -> 7 | S56: =MONTH(J56) -> 10 | T56: =YEAR(J56) -> 2015 | U56: =DAY(N56) -> 7 | V56: =MONTH(N56) -> 10 | W56: =YEAR(N56) -> 2015
A57: =INDEX(Calendrier!$A$1:$S$33,R57+2,IF(T57=2015,S57-5,IF(T57=2016,S57+7))) -> 1509S2 | B57: 1 | C57: 56 | D57: 16/10/2015 | F57: Closed Won | G57: offre 1 | J57: 10/09/2015 19:21 | K57: 42500 | L57: 42500 | M57: Type 5 | N57: 14/10/2015 16:44 | O57: Closed Won | P57: non prospect | Q57: =INDEX(Calendrier!$A$1:$S$33,U57+2,IF(W57=2015,V57-5,IF(W57=2016,V57+7))) -> 1510S3 | R57: =DAY(J57) -> 10 | S57: =MONTH(J57) -> 9 | T57: =YEAR(J57) -> 2015 | U57: =DAY(N57) -> 14 | V57: =MONTH(N57) -> 10 | W57: =YEAR(N57) -> 2015
A58: =INDEX(Calendrier!$A$1:$S$33,R58+2,IF(T58=2015,S58-5,IF(T58=2016,S58+7))) -> 1510S1 | B58: 1 | C58: 57 | D58: 30/10/2015 | F58: Closed Won | G58: offre 1 | J58: 29/09/2015 11:59 | K58: 15000 | L58: 15000 | M58: Type 5 | N58: 15/10/2015 13:04 | O58: Closed Won | P58: non prospect | Q58: =INDEX(Calendrier!$A$1:$S$33,U58+2,IF(W58=2015,V58-5,IF(W58=2016,V58+7))) -> 1510S3 | R58: =DAY(J58) -> 29 | S58: =MONTH(J58) -> 9 | T58: =YEAR(J58) -> 2015 | U58: =DAY(N58) -> 15 | V58: =MONTH(N58) -> 10 | W58: =YEAR(N58) -> 2015
A59: =INDEX(Calendrier!$A$1:$S$33,R59+2,IF(T59=2015,S59-5,IF(T59=2016,S59+7))) -> 1510S3 | B59: 1 | C59: 58 | D59: 13/11/2015 | F59: Closed Won | G59: offre 1 | J59: 14/10/2015 19:00 | K59: 20000 | L59: 20000 | M59: Type 5 | N59: 14/10/2015 19:00 | O59: Negotiation/Review | P59: non prospect | Q59: =INDEX(Calendrier!$A$1:$S$33,U59+2,IF(W59=2015,V59-5,IF(W59=2016,V59+7))) -> 1510S3 | R59: =DAY(J59) -> 14 | S59: =MONTH(J59) -> 10 | T59: =YEAR(J59) -> 2015 | U59: =DAY(N59) -> 14 | V59: =MONTH(N59) -> 10 | W59: =YEAR(N59) -> 2015
A60: =INDEX(Calendrier!$A$1:$S$33,R60+2,IF(T60=2015,S60-5,IF(T60=2016,S60+7))) -> 1510S4 | B60: 1 | C60: 59 | D60: 28/12/2015 | F60: Closed Lost | G60: offre 1 | J60: 23/10/2015 11:20 | K60: 0 | L60: 3400 | M60: Type 3 | N60: 23/10/2015 11:20 | O60: Value Proposition | P60: non prospect | Q60: =INDEX(Calendrier!$A$1:$S$33,U60+2,IF(W60=2015,V60-5,IF(W60=2016,V60+7))) -> 1510S4 | R60: =DAY(J60) -> 23 | S60: =MONTH(J60) -> 10 | T60: =YEAR(J60) -> 2015 | U60: =DAY(N60) -> 23 | V60: =MONTH(N60) -> 10 | W60: =YEAR(N60) -> 2015
A61: =INDEX(Calendrier!$A$1:$S$33,R61+2,IF(T61=2015,S61-5,IF(T61=2016,S61+7))) -> 1510S4 | B61: 1 | C61: 60 | D61: 20/11/2015 | F61: Closed Lost | G61: offre 1 var | J61: 22/10/2015 18:14 | K61: 0 | L61: 2500 | M61: Type 1 | N61: 22/10/2015 18:14 | O61: Negotiation/Review | P61: non prospect | Q61: =INDEX(Calendrier!$A$1:$S$33,U61+2,IF(W61=2015,V61-5,IF(W61=2016,V61+7))) -> 1510S4 | R61: =DAY(J61) -> 22 | S61: =MONTH(J61) -> 10 | T61: =YEAR(J61) -> 2015 | U61: =DAY(N61) -> 22 | V61: =MONTH(N61) -> 10 | W61: =YEAR(N61) -> 2015
A62: =INDEX(Calendrier!$A$1:$S$33,R62+2,IF(T62=2015,S62-5,IF(T62=2016,S62+7))) -> 1510S4 | B62: 1 | C62: 61 | D62: 27/05/2016 | F62: Closed Lost | G62: offre 1 var | J62: 23/10/2015 11:00 | K62: 0 | L62: 5000 | M62: Type 1 | N62: 23/10/2015 11:00 | O62: Negotiation/Review | P62: non prospect | Q62: =INDEX(Calendrier!$A$1:$S$33,U62+2,IF(W62=2015,V62-5,IF(W62=2016,V62+7))) -> 1510S4 | R62: =DAY(J62) -> 23 | S62: =MONTH(J62) -> 10 | T62: =YEAR(J62) -> 2015 | U62: =DAY(N62) -> 23 | V62: =MONTH(N62) -> 10 | W62: =YEAR(N62) -> 2015
A63: =INDEX(Calendrier!$A$1:$S$33,R63+2,IF(T63=2015,S63-5,IF(T63=2016,S63+7))) -> 1510S4 | B63: 1 | C63: 62 | D63: 04/12/2015 | F63: Closed Lost | G63: offre 1 var | J63: 21/10/2015 15:50 | K63: 0 | L63: 2000 | M63: Type 7 | N63: 21/10/2015 15:50 | O63: Proposal/Price Quote | P63: non prospect | Q63: =INDEX(Calendrier!$A$1:$S$33,U63+2,IF(W63=2015,V63-5,IF(W63=2016,V63+7))) -> 1510S4 | R63: =DAY(J63) -> 21 | S63: =MONTH(J63) -> 10 | T63: =YEAR(J63) -> 2015 | U63: =DAY(N63) -> 21 | V63: =MONTH(N63) -> 10 | W63: =YEAR(N63) -> 2015
A64: =INDEX(Calendrier!$A$1:$S$33,R64+2,IF(T64=2015,S64-5,IF(T64=2016,S64+7))) -> 1510S4 | B64: 1 | C64: 63 | D64: 28/12/2015 | F64: Closed Lost | G64: offre 1 | J64: 23/10/2015 11:39 | K64: 0 | L64: 12750 | M64: Type 6 | N64: 23/10/2015 11:39 | O64: Qualification | P64: non prospect | Q64: =INDEX(Calendrier!$A$1:$S$33,U64+2,IF(W64=2015,V64-5,IF(W64=2016,V64+7))) -> 1510S4 | R64: =DAY(J64) -> 23 | S64: =MONTH(J64) -> 10 | T64: =YEAR(J64) -> 2015 | U64: =DAY(N64) -> 23 | V64: =MONTH(N64) -> 10 | W64: =YEAR(N64) -> 2015
A65: =INDEX(Calendrier!$A$1:$S$33,R65+2,IF(T65=2015,S65-5,IF(T65=2016,S65+7))) -> 1510S4 | B65: 1 | C65: 64 | D65: 30/10/2015 | F65: Closed Won | G65: offre 1 | J65: 21/10/2015 17:46 | K65: 2500 | L65: 2500 | M65: Type 7 | N65: 21/10/2015 17:46 | O65: Negotiation/Review | P65: non prospect | Q65: =INDEX(Calendrier!$A$1:$S$33,U65+2,IF(W65=2015,V65-5,IF(W65=2016,V65+7))) -> 1510S4 | R65: =DAY(J65) -> 21 | S65: =MONTH(J65) -> 10 | T65: =YEAR(J65) -> 2015 | U65: =DAY(N65) -> 21 | V65: =MONTH(N65) -> 10 | W65: =YEAR(N65) -> 2015
... A76: =INDEX(Calendrier!$A$1:$S$33,R76+2,IF(T76=2015,S76-5,IF(T76=2016,S76+7))) -> 1511S1 | B76: 1 | C76: 75 | D76: 09/01/2015 | F76: Closed Won | G76: offre 1 | J76: 06/11/2015 02:15 | K76: 40000 | L76: 40000 | M76: Type 3 | N76: 06/11/2015 02:15 | O76: Closed Won | P76: non prospect | Q76: =INDEX(Calendrier!$A$1:$S$33,U76+2,IF(W76=2015,V76-5,IF(W76=2016,V76+7))) -> 1511S1 | R76: =DAY(J76) -> 6 | S76: =MONTH(J76) -> 11 | T76: =YEAR(J76) -> 2015 | U76: =DAY(N76) -> 6 | V76: =MONTH(N76) -> 11 | W76: =YEAR(N76) -> 2015
A77: =INDEX(Calendrier!$A$1:$S$33,R77+2,IF(T77=2015,S77-5,IF(T77=2016,S77+7))) -> 1511S1 | B77: 1 | C77: 76 | D77: 07/02/2014 | F77: Closed Won | G77: offre 1 | J77: 06/11/2015 02:17 | K77: 125000 | M77: Type 11 | N77: 06/11/2015 02:17 | O77: Closed Won | P77: non prospect | Q77: =INDEX(Calendrier!$A$1:$S$33,U77+2,IF(W77=2015,V77-5,IF(W77=2016,V77+7))) -> 1511S1 | R77: =DAY(J77) -> 6 | S77: =MONTH(J77) -> 11 | T77: =YEAR(J77) -> 2015 | U77: =DAY(N77) -> 6 | V77: =MONTH(N77) -> 11 | W77: =YEAR(N77) -> 2015
A78: =INDEX(Calendrier!$A$1:$S$33,R78+2,IF(T78=2015,S78-5,IF(T78=2016,S78+7))) -> 1511S1 | B78: 1 | C78: 77 | D78: 06/11/2015 | F78: Closed Won | G78: offre 1 | J78: 06/11/2015 01:46 | K78: 2500 | L78: 2500 | M78: Type 1 | N78: 06/11/2015 01:46 | O78: Closed Won | P78: non prospect | Q78: =INDEX(Calendrier!$A$1:$S$33,U78+2,IF(W78=2015,V78-5,IF(W78=2016,V78+7))) -> 1511S1 | R78: =DAY(J78) -> 6 | S78: =MONTH(J78) -> 11 | T78: =YEAR(J78) -> 2015 | U78: =DAY(N78) -> 6 | V78: =MONTH(N78) -> 11 | W78: =YEAR(N78) -> 2015
A79: =INDEX(Calendrier!$A$1:$S$33,R79+2,IF(T79=2015,S79-5,IF(T79=2016,S79+7))) -> 1508S3 | B79: 1 | C79: 78 | D79: 30/11/2015 | F79: Closed Lost | G79: offre 1 | J79: 21/08/2015 13:11 | K79: 0 | L79: 15000 | M79: Type 6 | N79: 09/11/2015 16:18 | O79: Closed Lost | P79: non prospect | Q79: =INDEX(Calendrier!$A$1:$S$33,U79+2,IF(W79=2015,V79-5,IF(W79=2016,V79+7))) -> 1511S2 | R79: =DAY(J79) -> 21 | S79: =MONTH(J79) -> 8 | T79: =YEAR(J79) -> 2015 | U79: =DAY(N79) -> 9 | V79: =MONTH(N79) -> 11 | W79: =YEAR(N79) -> 2015
A80: =INDEX(Calendrier!$A$1:$S$33,R80+2,IF(T80=2015,S80-5,IF(T80=2016,S80+7))) -> 1511S2 | B80: 1 | C80: 79 | D80: 04/12/2015 | F80: Closed Won | G80: offre 1 | J80: 09/11/2015 18:11 | K80: 2000 | L80: 2000 | M80: Type 1 | N80: 09/11/2015 18:11 | O80: Qualification | P80: non prospect | Q80: =INDEX(Calendrier!$A$1:$S$33,U80+2,IF(W80=2015,V80-5,IF(W80=2016,V80+7))) -> 1511S2 | R80: =DAY(J80) -> 9 | S80: =MONTH(J80) -> 11 | T80: =YEAR(J80) -> 2015 | U80: =DAY(N80) -> 9 | V80: =MONTH(N80) -> 11 | W80: =YEAR(N80) -> 2015
A81: =INDEX(Calendrier!$A$1:$S$33,R81+2,IF(T81=2015,S81-5,IF(T81=2016,S81+7))) -> 1509S1 | B81: 1 | C81: 80 | D81: 11/12/2015 | F81: Closed Lost | G81: offre 1 | J81: 02/09/2015 11:35 | K81: 0 | L81: 25000 | M81: Type 5 | N81: 20/11/2015 13:05 | O81: Closed Lost | P81: non prospect | Q81: =INDEX(Calendrier!$A$1:$S$33,U81+2,IF(W81=2015,V81-5,IF(W81=2016,V81+7))) -> 1511S3 | R81: =DAY(J81) -> 2 | S81: =MONTH(J81) -> 9 | T81: =YEAR(J81) -> 2015 | U81: =DAY(N81) -> 20 | V81: =MONTH(N81) -> 11 | W81: =YEAR(N81) -> 2015
A82: =INDEX(Calendrier!$A$1:$S$33,R82+2,IF(T82=2015,S82-5,IF(T82=2016,S82+7))) -> 1510S3 | B82: 1 | C82: 81 | D82: 13/11/2015 | F82: Closed Won | G82: offre 1 | J82: 14/10/2015 19:00 | K82: 20000 | L82: 20000 | M82: Type 5 | N82: 16/11/2015 15:45 | O82: Closed Won | P82: non prospect | Q82: =INDEX(Calendrier!$A$1:$S$33,U82+2,IF(W82=2015,V82-5,IF(W82=2016,V82+7))) -> 1511S3 | R82: =DAY(J82) -> 14 | S82: =MONTH(J82) -> 10 | T82: =YEAR(J82) -> 2015 | U82: =DAY(N82) -> 16 | V82: =MONTH(N82) -> 11 | W82: =YEAR(N82) -> 2015
A83: =INDEX(Calendrier!$A$1:$S$33,R83+2,IF(T83=2015,S83-5,IF(T83=2016,S83+7))) -> 1510S4 | B83: 1 | C83: 82 | D83: 28/12/2015 | F83: Closed Lost | G83: offre 1 | J83: 23/10/2015 11:20 | K83: 0 | L83: 3400 | M83: Type 3 | N83: 19/11/2015 18:17 | O83: Needs Analysis | P83: non prospect | Q83: =INDEX(Calendrier!$A$1:$S$33,U83+2,IF(W83=2015,V83-5,IF(W83=2016,V83+7))) -> 1511S3 | R83: =DAY(J83) -> 23 | S83: =MONTH(J83) -> 10 | T83: =YEAR(J83) -> 2015 | U83: =DAY(N83) -> 19 | V83: =MONTH(N83) -> 11 | W83: =YEAR(N83) -> 2015
A84: =INDEX(Calendrier!$A$1:$S$33,R84+2,IF(T84=2015,S84-5,IF(T84=2016,S84+7))) -> 1510S4 | B84: 1 | C84: 83 | D84: 20/11/2015 | F84: Closed Lost | G84: offre 1 var | J84: 22/10/2015 18:14 | K84: 0 | L84: 2500 | M84: Type 1 | N84: 20/11/2015 10:44 | O84: Closed Lost | P84: non prospect | Q84: =INDEX(Calendrier!$A$1:$S$33,U84+2,IF(W84=2015,V84-5,IF(W84=2016,V84+7))) -> 1511S3 | R84: =DAY(J84) -> 22 | S84: =MONTH(J84) -> 10 | T84: =YEAR(J84) -> 2015 | U84: =DAY(N84) -> 20 | V84: =MONTH(N84) -> 11 | W84: =YEAR(N84) -> 2015
A85: =INDEX(Calendrier!$A$1:$S$33,R85+2,IF(T85=2015,S85-5,IF(T85=2016,S85+7))) -> 1510S5 | B85: 1 | C85: 84 | D85: 27/05/2016 | F85: Closed Lost | G85: offre 1 var | J85: 26/10/2015 16:32 | K85: 0 | L85: 5000 | M85: Type 3 | N85: 20/11/2015 13:04 | O85: Closed Lost | P85: non prospect | Q85: =INDEX(Calendrier!$A$1:$S$33,U85+2,IF(W85=2015,V85-5,IF(W85=2016,V85+7))) -> 1511S3 | R85: =DAY(J85) -> 26 | S85: =MONTH(J85) -> 10 | T85: =YEAR(J85) -> 2015 | U85: =DAY(N85) -> 20 | V85: =MONTH(N85) -> 11 | W85: =YEAR(N85) -> 2015
A86: =INDEX(Calendrier!$A$1:$S$33,R86+2,IF(T86=2015,S86-5,IF(T86=2016,S86+7))) -> 1510S5 | B86: 1 | C86: 85 | D86: 27/05/2016 | F86: Closed Lost | G86: offre 1 var | J86: 26/10/2015 16:32 | K86: 0 | L86: 5000 | M86: Type 3 | N86: 20/11/2015 13:05 | O86: Negotiation/Review | P86: non prospect | Q86: =INDEX(Calendrier!$A$1:$S$33,U86+2,IF(W86=2015,V86-5,IF(W86=2016,V86+7))) -> 1511S3 | R86: =DAY(J86) -> 26 | S86: =MONTH(J86) -> 10 | T86: =YEAR(J86) -> 2015 | U86: =DAY(N86) -> 20 | V86: =MONTH(N86) -> 11 | W86: =YEAR(N86) -> 2015
A87: =INDEX(Calendrier!$A$1:$S$33,R87+2,IF(T87=2015,S87-5,IF(T87=2016,S87+7))) -> 1511S3 | B87: 1 | C87: 86 | D87: 20/11/2015 | F87: Closed Won | G87: offre 1 | J87: 16/11/2015 18:34 | K87: 2000 | L87: 2000 | M87: Type 1 | N87: 16/11/2015 18:34 | O87: Negotiation/Review | P87: non prospect | Q87: =INDEX(Calendrier!$A$1:$S$33,U87+2,IF(W87=2015,V87-5,IF(W87=2016,V87+7))) -> 1511S3 | R87: =DAY(J87) -> 16 | S87: =MONTH(J87) -> 11 | T87: =YEAR(J87) -> 2015 | U87: =DAY(N87) -> 16 | V87: =MONTH(N87) -> 11 | W87: =YEAR(N87) -> 2015
A88: =INDEX(Calendrier!$A$1:$S$33,R88+2,IF(T88=2015,S88-5,IF(T88=2016,S88+7))) -> 1511S3 | B88: 1 | C88: 87 | D88: 20/11/2015 | F88: Closed Won | G88: offre 1 | J88: 16/11/2015 18:34 | K88: 2000 | L88: 2000 | M88: Type 1 | N88: 20/11/2015 15:15 | O88: Closed Won | P88: non prospect | Q88: =INDEX(Calendrier!$A$1:$S$33,U88+2,IF(W88=2015,V88-5,IF(W88=2016,V88+7))) -> 1511S3 | R88: =DAY(J88) -> 16 | S88: =MONTH(J88) -> 11 | T88: =YEAR(J88) -> 2015 | U88: =DAY(N88) -> 20 | V88: =MONTH(N88) -> 11 | W88: =YEAR(N88) -> 2015
A89: =INDEX(Calendrier!$A$1:$S$33,R89+2,IF(T89=2015,S89-5,IF(T89=2016,S89+7))) -> 1511S3 | B89: 1 | C89: 88 | D89: 31/05/2016 | F89: Closed Lost | G89: offre 3 | J89: 16/11/2015 10:52 | K89: 0 | L89: 13000 | M89: Type 4 | N89: 16/11/2015 10:52 | O89: Proposal/Price Quote | P89: non prospect | Q89: =INDEX(Calendrier!$A$1:$S$33,U89+2,IF(W89=2015,V89-5,IF(W89=2016,V89+7))) -> 1511S3 | R89: =DAY(J89) -> 16 | S89: =MONTH(J89) -> 11 | T89: =YEAR(J89) -> 2015 | U89: =DAY(N89) -> 16 | V89: =MONTH(N89) -> 11 | W89: =YEAR(N89) -> 2015
... A92: =INDEX(Calendrier!$A$1:$S$33,R92+2,IF(T92=2015,S92-5,IF(T92=2016,S92+7))) -> 1509S1 | B92: 1 | C92: 91 | D92: 31/12/2016 | F92: Value Proposition | G92: offre 1 var | J92: 03/09/2015 12:43 | K92: 450 | L92: 4500 | M92: Type 3 | N92: 24/11/2015 10:34 | O92: Negotiation/Review | P92: non prospect | Q92: =INDEX(Calendrier!$A$1:$S$33,U92+2,IF(W92=2015,V92-5,IF(W92=2016,V92+7))) -> 1511S4 | R92: =DAY(J92) -> 3 | S92: =MONTH(J92) -> 9 | T92: =YEAR(J92) -> 2015 | U92: =DAY(N92) -> 24 | V92: =MONTH(N92) -> 11 | W92: =YEAR(N92) -> 2015
A93: =INDEX(Calendrier!$A$1:$S$33,R93+2,IF(T93=2015,S93-5,IF(T93=2016,S93+7))) -> 1509S2 | B93: 1 | C93: 92 | D93: 27/11/2015 | F93: Closed Lost | G93: offre 4 | J93: 07/09/2015 15:49 | M93: Type 3 | N93: 24/11/2015 10:35 | O93: Closed Lost | P93: non prospect | Q93: =INDEX(Calendrier!$A$1:$S$33,U93+2,IF(W93=2015,V93-5,IF(W93=2016,V93+7))) -> 1511S4 | R93: =DAY(J93) -> 7 | S93: =MONTH(J93) -> 9 | T93: =YEAR(J93) -> 2015 | U93: =DAY(N93) -> 24 | V93: =MONTH(N93) -> 11 | W93: =YEAR(N93) -> 2015
A94: =INDEX(Calendrier!$A$1:$S$33,R94+2,IF(T94=2015,S94-5,IF(T94=2016,S94+7))) -> 1510S4 | B94: 1 | C94: 93 | D94: 28/12/2015 | F94: Closed Lost | G94: offre 1 | J94: 23/10/2015 11:20 | K94: 0 | L94: 3400 | M94: Type 3 | N94: 26/11/2015 18:02 | O94: Closed Lost | P94: non prospect | Q94: =INDEX(Calendrier!$A$1:$S$33,U94+2,IF(W94=2015,V94-5,IF(W94=2016,V94+7))) -> 1511S4 | R94: =DAY(J94) -> 23 | S94: =MONTH(J94) -> 10 | T94: =YEAR(J94) -> 2015 | U94: =DAY(N94) -> 26 | V94: =MONTH(N94) -> 11 | W94: =YEAR(N94) -> 2015
A95: =INDEX(Calendrier!$A$1:$S$33,R95+2,IF(T95=2015,S95-5,IF(T95=2016,S95+7))) -> 1510S4 | B95: 1 | C95: 94 | D95: 28/12/2015 | F95: Closed Lost | G95: offre 1 | J95: 23/10/2015 11:39 | K95: 0 | L95: 12750 | M95: Type 6 | N95: 26/11/2015 18:02 | O95: Closed Lost | P95: non prospect | Q95: =INDEX(Calendrier!$A$1:$S$33,U95+2,IF(W95=2015,V95-5,IF(W95=2016,V95+7))) -> 1511S4 | R95: =DAY(J95) -> 23 | S95: =MONTH(J95) -> 10 | T95: =YEAR(J95) -> 2015 | U95: =DAY(N95) -> 26 | V95: =MONTH(N95) -> 11 | W95: =YEAR(N95) -> 2015
A96: =INDEX(Calendrier!$A$1:$S$33,R96+2,IF(T96=2015,S96-5,IF(T96=2016,S96+7))) -> 1510S5 | B96: 1 | C96: 95 | D96: 06/11/2015 | F96: Closed Lost | G96: offre 1 | J96: 29/10/2015 18:58 | K96: 0 | L96: 1750 | M96: Type 1 | N96: 24/11/2015 15:15 | O96: Closed Lost | P96: non prospect | Q96: =INDEX(Calendrier!$A$1:$S$33,U96+2,IF(W96=2015,V96-5,IF(W96=2016,V96+7))) -> 1511S4 | R96: =DAY(J96) -> 29 | S96: =MONTH(J96) -> 10 | T96: =YEAR(J96) -> 2015 | U96: =DAY(N96) -> 24 | V96: =MONTH(N96) -> 11 | W96: =YEAR(N96) -> 2015
A97: =INDEX(Calendrier!$A$1:$S$33,R97+2,IF(T97=2015,S97-5,IF(T97=2016,S97+7))) -> 1511S1 | B97: 1 | C97: 96 | D97: 11/12/2015 | F97: Closed Lost | G97: offre 1 var | J97: 03/11/2015 13:46 | K97: 0 | L97: 2000 | M97: Type 7 | N97: 24/11/2015 10:36 | O97: Negotiation/Review | P97: non prospect | Q97: =INDEX(Calendrier!$A$1:$S$33,U97+2,IF(W97=2015,V97-5,IF(W97=2016,V97+7))) -> 1511S4 | R97: =DAY(J97) -> 3 | S97: =MONTH(J97) -> 11 | T97: =YEAR(J97) -> 2015 | U97: =DAY(N97) -> 24 | V97: =MONTH(N97) -> 11 | W97: =YEAR(N97) -> 2015
A98: =INDEX(Calendrier!$A$1:$S$33,R98+2,IF(T98=2015,S98-5,IF(T98=2016,S98+7))) -> 1511S1 | B98: 1 | C98: 97 | D98: 11/12/2015 | F98: Closed Lost | G98: offre 1 var | J98: 03/11/2015 13:46 | K98: 0 | L98: 2000 | M98: Type 7 | N98: 26/11/2015 16:57 | O98: Closed Won | P98: non prospect | Q98: =INDEX(Calendrier!$A$1:$S$33,U98+2,IF(W98=2015,V98-5,IF(W98=2016,V98+7))) -> 1511S4 | R98: =DAY(J98) -> 3 | S98: =MONTH(J98) -> 11 | T98: =YEAR(J98) -> 2015 | U98: =DAY(N98) -> 26 | V98: =MONTH(N98) -> 11 | W98: =YEAR(N98) -> 2015
A99: =INDEX(Calendrier!$A$1:$S$33,R99+2,IF(T99=2015,S99-5,IF(T99=2016,S99+7))) -> 1511S4 | B99: 1 | C99: 98 | D99: 30/06/2016 | F99: Closed Lost | G99: offre 3 | J99: 26/11/2015 16:08 | K99: 0 | L99: 10000 | M99: Type 4 | N99: 26/11/2015 16:08 | O99: Negotiation/Review | P99: non prospect | Q99: =INDEX(Calendrier!$A$1:$S$33,U99+2,IF(W99=2015,V99-5,IF(W99=2016,V99+7))) -> 1511S4 | R99: =DAY(J99) -> 26 | S99: =MONTH(J99) -> 11 | T99: =YEAR(J99) -> 2015 | U99: =DAY(N99) -> 26 | V99: =MONTH(N99) -> 11 | W99: =YEAR(N99) -> 2015
A100: =INDEX(Calendrier!$A$1:$S$33,R100+2,IF(T100=2015,S100-5,IF(T100=2016,S100+7))) -> 1511S4 | B100: 1 | C100: 99 | D100: 24/12/2015 | F100: Closed Won | G100: offre 1 var | J100: 26/11/2015 16:17 | K100: 5000 | L100: 5000 | M100: Type 3 | N100: 26/11/2015 16:17 | O100: Closed Won | P100: non prospect | Q100: =INDEX(Calendrier!$A$1:$S$33,U100+2,IF(W100=2015,V100-5,IF(W100=2016,V100+7))) -> 1511S4 | R100: =DAY(J100) -> 26 | S100: =MONTH(J100) -> 11 | T100: =YEAR(J100) -> 2015 | U100: =DAY(N100) -> 26 | V100: =MONTH(N100) -> 11 | W100: =YEAR(N100) -> 2015
A101: =INDEX(Calendrier!$A$1:$S$33,R101+2,IF(T101=2015,S101-5,IF(T101=2016,S101+7))) -> 1511S4 | B101: 1 | C101: 100 | D101: 24/12/2015 | F101: Closed Won | G101: offre 1 var | J101: 26/11/2015 16:17 | K101: 5000 | L101: 5000 | M101: Type 3 | N101: 26/11/2015 16:58 | O101: Negotiation/Review | P101: non prospect | Q101: =INDEX(Calendrier!$A$1:$S$33,U101+2,IF(W101=2015,V101-5,IF(W101=2016,V101+7))) -> 1511S4 | R101: =DAY(J101) -> 26 | S101: =MONTH(J101) -> 11 | T101: =YEAR(J101) -> 2015 | U101: =DAY(N101) -> 26 | V101: =MONTH(N101) -> 11 | W101: =YEAR(N101) -> 2015
A102: =INDEX(Calendrier!$A$1:$S$33,R102+2,IF(T102=2015,S102-5,IF(T102=2016,S102+7))) -> 1511S4 | B102: 1 | C102: 101 | D102: 18/12/2015 | F102: Closed Won | G102: offre 1 var | J102: 26/11/2015 16:18 | K102: 800 | L102: 800 | M102: Type 3 | N102: 26/11/2015 16:18 | O102: Closed Won | P102: non prospect | Q102: =INDEX(Calendrier!$A$1:$S$33,U102+2,IF(W102=2015,V102-5,IF(W102=2016,V102+7))) -> 1511S4 | R102: =DAY(J102) -> 26 | S102: =MONTH(J102) -> 11 | T102: =YEAR(J102) -> 2015 | U102: =DAY(N102) -> 26 | V102: =MONTH(N102) -> 11 | W102: =YEAR(N102) -> 2015
A103: =INDEX(Calendrier!$A$1:$S$33,R103+2,IF(T103=2015,S103-5,IF(T103=2016,S103+7))) -> 1511S4 | B103: 1 | C103: 102 | D103: 18/12/2015 | F103: Closed Won | G103: offre 1 var | J103: 26/11/2015 16:18 | K103: 800 | L103: 800 | M103: Type 3 | N103: 26/11/2015 16:58 | O103: Negotiation/Review | P103: non prospect | Q103: =INDEX(Calendrier!$A$1:$S$33,U103+2,IF(W103=2015,V103-5,IF(W103=2016,V103+7))) -> 1511S4 | R103: =DAY(J103) -> 26 | S103: =MONTH(J103) -> 11 | T103: =YEAR(J103) -> 2015 | U103: =DAY(N103) -> 26 | V103: =MONTH(N103) -> 11 | W103: =YEAR(N103) -> 2015
A104: =INDEX(Calendrier!$A$1:$S$33,R104+2,IF(T104=2015,S104-5,IF(T104=2016,S104+7))) -> 1511S4 | B104: 1 | C104: 103 | D104: 04/01/2016 | F104: Closed Lost | G104: offre 1 | J104: 26/11/2015 18:15 | K104: 0 | L104: 3200 | M104: Type 7 | N104: 26/11/2015 18:15 | O104: Proposal/Price Quote | P104: non prospect | Q104: =INDEX(Calendrier!$A$1:$S$33,U104+2,IF(W104=2015,V104-5,IF(W104=2016,V104+7))) -> 1511S4 | R104: =DAY(J104) -> 26 | S104: =MONTH(J104) -> 11 | T104: =YEAR(J104) -> 2015 | U104: =DAY(N104) -> 26 | V104: =MONTH(N104) -> 11 | W104: =YEAR(N104) -> 2015
A105: =INDEX(Calendrier!$A$1:$S$33,R105+2,IF(T105=2015,S105-5,IF(T105=2016,S105+7))) -> 1510S4 | B105: 1 | C105: 104 | D105: 04/12/2015 | F105: Closed Lost | G105: offre 1 var | J105: 21/10/2015 15:50 | K105: 0 | L105: 2000 | M105: Type 7 | N105: 02/12/2015 17:08 | O105: Closed Lost | P105: non prospect | Q105: =INDEX(Calendrier!$A$1:$S$33,U105+2,IF(W105=2015,V105-5,IF(W105=2016,V105+7))) -> 1512S1 | R105: =DAY(J105) -> 21 | S105: =MONTH(J105) -> 10 | T105: =YEAR(J105) -> 2015 | U105: =DAY(N105) -> 2 | V105: =MONTH(N105) -> 12 | W105: =YEAR(N105) -> 2015
... A138: =INDEX(Calendrier!$A$1:$S$33,R138+2,IF(T138=2015,S138-5,IF(T138=2016,S138+7))) -> 1512S1 | B138: 1 | C138: 137 | D138: 04/02/2016 | F138: Closed Won | G138: offre 1 | J138: 30/11/2015 11:55 | K138: 2500 | L138: 2500 | M138: Type 1 | N138: 08/01/2016 10:37 | O138: Negotiation/Review | P138: non prospect | Q138: =INDEX(Calendrier!$A$1:$S$33,U138+2,IF(W138=2015,V138-5,IF(W138=2016,V138+7))) -> 1601S1 | R138: =DAY(J138) -> 30 | S138: =MONTH(J138) -> 11 | T138: =YEAR(J138) -> 2015 | U138: =DAY(N138) -> 8 | V138: =MONTH(N138) -> 1 | W138: =YEAR(N138) -> 2016
A139: =INDEX(Calendrier!$A$1:$S$33,R139+2,IF(T139=2015,S139-5,IF(T139=2016,S139+7))) -> 1601S1 | B139: 1 | C139: 138 | D139: 19/02/2016 | F139: Closed Lost | G139: offre 1 | J139: 05/01/2016 19:11 | K139: 0 | M139: Type 1 | N139: 05/01/2016 19:11 | O139: Value Proposition | P139: non prospect | Q139: =INDEX(Calendrier!$A$1:$S$33,U139+2,IF(W139=2015,V139-5,IF(W139=2016,V139+7))) -> 1601S1 | R139: =DAY(J139) -> 5 | S139: =MONTH(J139) -> 1 | T139: =YEAR(J139) -> 2016 | U139: =DAY(N139) -> 5 | V139: =MONTH(N139) -> 1 | W139: =YEAR(N139) -> 2016
A140: =INDEX(Calendrier!$A$1:$S$33,R140+2,IF(T140=2015,S140-5,IF(T140=2016,S140+7))) -> 1601S1 | B140: 1 | C140: 139 | D140: 19/02/2016 | F140: Closed Lost | G140: offre 1 | J140: 05/01/2016 19:13 | K140: 0 | M140: Type 1 | N140: 05/01/2016 19:13 | O140: Value Proposition | P140: non prospect | Q140: =INDEX(Calendrier!$A$1:$S$33,U140+2,IF(W140=2015,V140-5,IF(W140=2016,V140+7))) -> 1601S1 | R140: =DAY(J140) -> 5 | S140: =MONTH(J140) -> 1 | T140: =YEAR(J140) -> 2016 | U140: =DAY(N140) -> 5 | V140: =MONTH(N140) -> 1 | W140: =YEAR(N140) -> 2016
A141: =INDEX(Calendrier!$A$1:$S$33,R141+2,IF(T141=2015,S141-5,IF(T141=2016,S141+7))) -> 1601S1 | B141: 1 | C141: 140 | D141: 19/02/2016 | F141: Closed Lost | G141: offre 1 | J141: 05/01/2016 19:11 | K141: 0 | L141: 15000 | M141: Type 1 | N141: 05/01/2016 19:11 | O141: Value Proposition | P141: non prospect | Q141: =INDEX(Calendrier!$A$1:$S$33,U141+2,IF(W141=2015,V141-5,IF(W141=2016,V141+7))) -> 1601S1 | R141: =DAY(J141) -> 5 | S141: =MONTH(J141) -> 1 | T141: =YEAR(J141) -> 2016 | U141: =DAY(N141) -> 5 | V141: =MONTH(N141) -> 1 | W141: =YEAR(N141) -> 2016
A142: =INDEX(Calendrier!$A$1:$S$33,R142+2,IF(T142=2015,S142-5,IF(T142=2016,S142+7))) -> 1601S1 | B142: 1 | C142: 141 | D142: 24/06/2016 | F142: Closed Lost | G142: offre 1 | J142: 06/01/2016 12:24 | K142: 0 | L142: 25000 | M142: Type 3 | N142: 06/01/2016 12:24 | O142: Needs Analysis | P142: non prospect | Q142: =INDEX(Calendrier!$A$1:$S$33,U142+2,IF(W142=2015,V142-5,IF(W142=2016,V142+7))) -> 1601S1 | R142: =DAY(J142) -> 6 | S142: =MONTH(J142) -> 1 | T142: =YEAR(J142) -> 2016 | U142: =DAY(N142) -> 6 | V142: =MONTH(N142) -> 1 | W142: =YEAR(N142) -> 2016
A143: =INDEX(Calendrier!$A$1:$S$33,R143+2,IF(T143=2015,S143-5,IF(T143=2016,S143+7))) -> 1601S1 | B143: 1 | C143: 142 | D143: 05/09/2016 | F143: Closed Lost | G143: offre 1 | J143: 08/01/2016 12:02 | K143: 0 | L143: 35000 | M143: Type 7 | N143: 08/01/2016 12:02 | O143: Value Proposition | P143: non prospect | Q143: =INDEX(Calendrier!$A$1:$S$33,U143+2,IF(W143=2015,V143-5,IF(W143=2016,V143+7))) -> 1601S1 | R143: =DAY(J143) -> 8 | S143: =MONTH(J143) -> 1 | T143: =YEAR(J143) -> 2016 | U143: =DAY(N143) -> 8 | V143: =MONTH(N143) -> 1 | W143: =YEAR(N143) -> 2016
A144: =INDEX(Calendrier!$A$1:$S$33,R144+2,IF(T144=2015,S144-5,IF(T144=2016,S144+7))) -> 1512S4 | B144: 1 | C144: 143 | D144: 08/01/2016 | F144: Closed Lost | G144: offre 1 | J144: 23/12/2015 11:08 | K144: 0 | L144: 2000 | M144: Type 1 | N144: 11/01/2016 12:34 | O144: Closed Lost | P144: non prospect | Q144: =INDEX(Calendrier!$A$1:$S$33,U144+2,IF(W144=2015,V144-5,IF(W144=2016,V144+7))) -> 1601S2 | R144: =DAY(J144) -> 23 | S144: =MONTH(J144) -> 12 | T144: =YEAR(J144) -> 2015 | U144: =DAY(N144) -> 11 | V144: =MONTH(N144) -> 1 | W144: =YEAR(N144) -> 2016
A145: =INDEX(Calendrier!$A$1:$S$33,R145+2,IF(T145=2015,S145-5,IF(T145=2016,S145+7))) -> 1601S2 | B145: 1 | C145: 144 | D145: 15/01/2016 | F145: Closed Won | G145: offre 1 var | J145: 15/01/2016 17:48 | K145: 2500 | L145: 2500 | M145: Type 1 | N145: 15/01/2016 17:48 | O145: Closed Won | P145: non prospect | Q145: =INDEX(Calendrier!$A$1:$S$33,U145+2,IF(W145=2015,V145-5,IF(W145=2016,V145+7))) -> 1601S2 | R145: =DAY(J145) -> 15 | S145: =MONTH(J145) -> 1 | T145: =YEAR(J145) -> 2016 | U145: =DAY(N145) -> 15 | V145: =MONTH(N145) -> 1 | W145: =YEAR(N145) -> 2016
A146: =INDEX(Calendrier!$A$1:$S$33,R146+2,IF(T146=2015,S146-5,IF(T146=2016,S146+7))) -> 1601S2 | B146: 1 | C146: 145 | D146: 15/01/2016 | F146: Closed Won | G146: offre 1 var | J146: 15/01/2016 17:47 | K146: 2500 | L146: 2500 | M146: Type 1 | N146: 15/01/2016 17:47 | O146: Closed Won | P146: non prospect | Q146: =INDEX(Calendrier!$A$1:$S$33,U146+2,IF(W146=2015,V146-5,IF(W146=2016,V146+7))) -> 1601S2 | R146: =DAY(J146) -> 15 | S146: =MONTH(J146) -> 1 | T146: =YEAR(J146) -> 2016 | U146: =DAY(N146) -> 15 | V146: =MONTH(N146) -> 1 | W146: =YEAR(N146) -> 2016
A147: =INDEX(Calendrier!$A$1:$S$33,R147+2,IF(T147=2015,S147-5,IF(T147=2016,S147+7))) -> 1601S2 | B147: 1 | C147: 146 | D147: 22/01/2016 | F147: Closed Won | G147: offre 1 var | J147: 13/01/2016 12:57 | K147: 0 | L147: 0 | M147: Type 3 | N147: 13/01/2016 12:57 | O147: Negotiation/Review | P147: non prospect | Q147: =INDEX(Calendrier!$A$1:$S$33,U147+2,IF(W147=2015,V147-5,IF(W147=2016,V147+7))) -> 1601S2 | R147: =DAY(J147) -> 13 | S147: =MONTH(J147) -> 1 | T147: =YEAR(J147) -> 2016 | U147: =DAY(N147) -> 13 | V147: =MONTH(N147) -> 1 | W147: =YEAR(N147) -> 2016
A148: =INDEX(Calendrier!$A$1:$S$33,R148+2,IF(T148=2015,S148-5,IF(T148=2016,S148+7))) -> 1601S2 | B148: 1 | C148: 147 | D148: 30/10/2015 | F148: Closed Won | G148: offre 1 | J148: 11/01/2016 17:13 | M148: Type 13 | N148: 11/01/2016 17:13 | O148: Closed Won | P148: non prospect | Q148: =INDEX(Calendrier!$A$1:$S$33,U148+2,IF(W148=2015,V148-5,IF(W148=2016,V148+7))) -> 1601S2 | R148: =DAY(J148) -> 11 | S148: =MONTH(J148) -> 1 | T148: =YEAR(J148) -> 2016 | U148: =DAY(N148) -> 11 | V148: =MONTH(N148) -> 1 | W148: =YEAR(N148) -> 2016
A149: =INDEX(Calendrier!$A$1:$S$33,R149+2,IF(T149=2015,S149-5,IF(T149=2016,S149+7))) -> 1601S2 | B149: 1 | C149: 148 | D149: 30/10/2015 | F149: Closed Won | G149: offre 1 | J149: 11/01/2016 17:16 | M149: Type 14 | N149: 11/01/2016 17:16 | O149: Closed Won | P149: non prospect | Q149: =INDEX(Calendrier!$A$1:$S$33,U149+2,IF(W149=2015,V149-5,IF(W149=2016,V149+7))) -> 1601S2 | R149: =DAY(J149) -> 11 | S149: =MONTH(J149) -> 1 | T149: =YEAR(J149) -> 2016 | U149: =DAY(N149) -> 11 | V149: =MONTH(N149) -> 1 | W149: =YEAR(N149) -> 2016
A150: =INDEX(Calendrier!$A$1:$S$33,R150+2,IF(T150=2015,S150-5,IF(T150=2016,S150+7))) -> 1601S2 | B150: 1 | C150: 149 | D150: 14/01/2016 | F150: Closed Won | G150: offre 1 var | J150: 13/01/2016 18:29 | K150: 7500 | L150: 7500 | M150: Type 1 | N150: 13/01/2016 18:29 | O150: Value Proposition | P150: non prospect | Q150: =INDEX(Calendrier!$A$1:$S$33,U150+2,IF(W150=2015,V150-5,IF(W150=2016,V150+7))) -> 1601S2 | R150: =DAY(J150) -> 13 | S150: =MONTH(J150) -> 1 | T150: =YEAR(J150) -> 2016 | U150: =DAY(N150) -> 13 | V150: =MONTH(N150) -> 1 | W150: =YEAR(N150) -> 2016
A151: =INDEX(Calendrier!$A$1:$S$33,R151+2,IF(T151=2015,S151-5,IF(T151=2016,S151+7))) -> 1601S2 | B151: 1 | C151: 150 | D151: 14/01/2016 | F151: Closed Won | G151: offre 1 var | J151: 13/01/2016 18:29 | K151: 7500 | L151: 7500 | M151: Type 1 | N151: 14/01/2016 19:47 | O151: Closed Won | P151: non prospect | Q151: =INDEX(Calendrier!$A$1:$S$33,U151+2,IF(W151=2015,V151-5,IF(W151=2016,V151+7))) -> 1601S2 | R151: =DAY(J151) -> 13 | S151: =MONTH(J151) -> 1 | T151: =YEAR(J151) -> 2016 | U151: =DAY(N151) -> 14 | V151: =MONTH(N151) -> 1 | W151: =YEAR(N151) -> 2016
A152: =INDEX(Calendrier!$A$1:$S$33,R152+2,IF(T152=2015,S152-5,IF(T152=2016,S152+7))) -> 1512S4 | B152: 1 | C152: 151 | D152: 18/01/2016 | F152: Closed Won | G152: offre 1 | J152: 21/12/2015 15:03 | K152: 5000 | L152: 5000 | M152: Type 1 | N152: 18/01/2016 18:26 | O152: Closed Won | P152: non prospect | Q152: =INDEX(Calendrier!$A$1:$S$33,U152+2,IF(W152=2015,V152-5,IF(W152=2016,V152+7))) -> 1601S3 | R152: =DAY(J152) -> 21 | S152: =MONTH(J152) -> 12 | T152: =YEAR(J152) -> 2015 | U152: =DAY(N152) -> 18 | V152: =MONTH(N152) -> 1 | W152: =YEAR(N152) -> 2016
A153: =INDEX(Calendrier!$A$1:$S$33,R153+2,IF(T153=2015,S153-5,IF(T153=2016,S153+7))) -> 1601S2 | B153: 1 | C153: 152 | D153: 22/01/2016 | F153: Closed Won | G153: offre 1 var | J153: 13/01/2016 12:57 | K153: 0 | L153: 0 | M153: Type 3 | N153: 19/01/2016 12:26 | O153: Closed Won | P153: non prospect | Q153: =INDEX(Calendrier!$A$1:$S$33,U153+2,IF(W153=2015,V153-5,IF(W153=2016,V153+7))) -> 1601S3 | R153: =DAY(J153) -> 13 | S153: =MONTH(J153) -> 1 | T153: =YEAR(J153) -> 2016 | U153: =DAY(N153) -> 19 | V153: =MONTH(N153) -> 1 | W153: =YEAR(N153) -> 2016
A154: =INDEX(Calendrier!$A$1:$S$33,R154+2,IF(T154=2015,S154-5,IF(T154=2016,S154+7))) -> 1601S2 | B154: 1 | C154: 153 | D154: 22/01/2016 | F154: Closed Won | G154: offre 1 var | J154: 13/01/2016 12:57 | K154: 0 | L154: 0 | M154: Type 3 | N154: 19/01/2016 12:27 | O154: Negotiation/Review | P154: non prospect | Q154: =INDEX(Calendrier!$A$1:$S$33,U154+2,IF(W154=2015,V154-5,IF(W154=2016,V154+7))) -> 1601S3 | R154: =DAY(J154) -> 13 | S154: =MONTH(J154) -> 1 | T154: =YEAR(J154) -> 2016 | U154: =DAY(N154) -> 19 | V154: =MONTH(N154) -> 1 | W154: =YEAR(N154) -> 2016
A155: =INDEX(Calendrier!$A$1:$S$33,R155+2,IF(T155=2015,S155-5,IF(T155=2016,S155+7))) -> 1601S2 | B155: 1 | C155: 154 | D155: 22/01/2016 | F155: Closed Won | G155: offre 1 var | J155: 13/01/2016 12:57 | K155: 0 | L155: 0 | M155: Type 3 | N155: 22/01/2016 12:29 | O155: Closed Won | P155: non prospect | Q155: =INDEX(Calendrier!$A$1:$S$33,U155+2,IF(W155=2015,V155-5,IF(W155=2016,V155+7))) -> 1601S3 | R155: =DAY(J155) -> 13 | S155: =MONTH(J155) -> 1 | T155: =YEAR(J155) -> 2016 | U155: =DAY(N155) -> 22 | V155: =MONTH(N155) -> 1 | W155: =YEAR(N155) -> 2016
A156: =INDEX(Calendrier!$A$1:$S$33,R156+2,IF(T156=2015,S156-5,IF(T156=2016,S156+7))) -> 1601S3 | B156: 1 | C156: 155 | D156: 25/01/2016 | F156: Closed Won | G156: offre 1 | J156: 20/01/2016 15:19 | K156: 2500 | L156: 2500 | M156: Type 1 | N156: 20/01/2016 15:19 | O156: Negotiation/Review | P156: non prospect | Q156: =INDEX(Calendrier!$A$1:$S$33,U156+2,IF(W156=2015,V156-5,IF(W156=2016,V156+7))) -> 1601S3 | R156: =DAY(J156) -> 20 | S156: =MONTH(J156) -> 1 | T156: =YEAR(J156) -> 2016 | U156: =DAY(N156) -> 20 | V156: =MONTH(N156) -> 1 | W156: =YEAR(N156) -> 2016
A157: =INDEX(Calendrier!$A$1:$S$33,R157+2,IF(T157=2015,S157-5,IF(T157=2016,S157+7))) -> 1601S3 | B157: 1 | C157: 156 | D157: 29/02/2016 | F157: Closed Lost | G157: offre 3 | J157: 22/01/2016 13:39 | K157: 0 | L157: 2500 | N157: 22/01/2016 13:39 | O157: Negotiation/Review | P157: non prospect | Q157: =INDEX(Calendrier!$A$1:$S$33,U157+2,IF(W157=2015,V157-5,IF(W157=2016,V157+7))) -> 1601S3 | R157: =DAY(J157) -> 22 | S157: =MONTH(J157) -> 1 | T157: =YEAR(J157) -> 2016 | U157: =DAY(N157) -> 22 | V157: =MONTH(N157) -> 1 | W157: =YEAR(N157) -> 2016
A158: =INDEX(Calendrier!$A$1:$S$33,R158+2,IF(T158=2015,S158-5,IF(T158=2016,S158+7))) -> 1601S3 | B158: 1 | C158: 157 | D158: 31/01/2017 | F158: Closed Lost | G158: offre 1 | J158: 22/01/2016 16:34 | K158: 0 | L158: 9000 | M158: Type 1 | N158: 22/01/2016 16:34 | O158: Qualification | P158: non prospect | Q158: =INDEX(Calendrier!$A$1:$S$33,U158+2,IF(W158=2015,V158-5,IF(W158=2016,V158+7))) -> 1601S3 | R158: =DAY(J158) -> 22 | S158: =MONTH(J158) -> 1 | T158: =YEAR(J158) -> 2016 | U158: =DAY(N158) -> 22 | V158: =MONTH(N158) -> 1 | W158: =YEAR(N158) -> 2016
A159: =INDEX(Calendrier!$A$1:$S$33,R159+2,IF(T159=2015,S159-5,IF(T159=2016,S159+7))) -> 1601S3 | B159: 1 | C159: 158 | D159: 01/03/2016 | F159: Closed Lost | G159: offre 1 var | J159: 22/01/2016 13:50 | K159: 0 | L159: 8625 | M159: Type 6 | N159: 22/01/2016 13:50 | O159: Proposal/Price Quote | P159: non prospect | Q159: =INDEX(Calendrier!$A$1:$S$33,U159+2,IF(W159=2015,V159-5,IF(W159=2016,V159+7))) -> 1601S3 | R159: =DAY(J159) -> 22 | S159: =MONTH(J159) -> 1 | T159: =YEAR(J159) -> 2016 | U159: =DAY(N159) -> 22 | V159: =MONTH(N159) -> 1 | W159: =YEAR(N159) -> 2016
A160: =INDEX(Calendrier!$A$1:$S$33,R160+2,IF(T160=2015,S160-5,IF(T160=2016,S160+7))) -> 1601S3 | B160: 1 | C160: 159 | D160: 31/03/2017 | F160: Value Proposition | G160: offre 1 | J160: 22/01/2016 16:32 | K160: 26100 | L160: 261000 | M160: Type 4 | N160: 22/01/2016 16:32 | O160: Qualification | P160: non prospect | Q160: =INDEX(Calendrier!$A$1:$S$33,U160+2,IF(W160=2015,V160-5,IF(W160=2016,V160+7))) -> 1601S3 | R160: =DAY(J160) -> 22 | S160: =MONTH(J160) -> 1 | T160: =YEAR(J160) -> 2016 | U160: =DAY(N160) -> 22 | V160: =MONTH(N160) -> 1 | W160: =YEAR(N160) -> 2016
A161: =INDEX(Calendrier!$A$1:$S$33,R161+2,IF(T161=2015,S161-5,IF(T161=2016,S161+7))) -> 1512S2 | B161: 1 | C161: 160 | D161: 31/03/2016 | F161: Closed Won | G161: offre 1 | J161: 08/12/2015 15:42 | K161: 15000 | L161: 15000 | M161: Type 12 | N161: 29/01/2016 19:02 | O161: Meeting done | P161: non prospect | Q161: =INDEX(Calendrier!$A$1:$S$33,U161+2,IF(W161=2015,V161-5,IF(W161=2016,V161+7))) -> 1601S4 | R161: =DAY(J161) -> 8 | S161: =MONTH(J161) -> 12 | T161: =YEAR(J161) -> 2015 | U161: =DAY(N161) -> 29 | V161: =MONTH(N161) -> 1 | W161: =YEAR(N161) -> 2016
A162: =INDEX(Calendrier!$A$1:$S$33,R162+2,IF(T162=2015,S162-5,IF(T162=2016,S162+7))) -> 1601S3 | B162: 1 | C162: 161 | D162: 25/01/2016 | F162: Closed Won | G162: offre 1 | J162: 20/01/2016 15:19 | K162: 2500 | L162: 2500 | M162: Type 1 | N162: 25/01/2016 11:29 | O162: Closed Won | P162: non prospect | Q162: =INDEX(Calendrier!$A$1:$S$33,U162+2,IF(W162=2015,V162-5,IF(W162=2016,V162+7))) -> 1601S4 | R162: =DAY(J162) -> 20 | S162: =MONTH(J162) -> 1 | T162: =YEAR(J162) -> 2016 | U162: =DAY(N162) -> 25 | V162: =MONTH(N162) -> 1 | W162: =YEAR(N162) -> 2016
A163: =INDEX(Calendrier!$A$1:$S$33,R163+2,IF(T163=2015,S163-5,IF(T163=2016,S163+7))) -> 1601S4 | B163: 1 | C163: 162 | D163: 26/02/2016 | F163: Closed Won | G163: offre 1 | J163: 29/01/2016 18:37 | K163: 1000 | L163: 1000 | M163: Type 1 | N163: 29/01/2016 18:37 | O163: Meeting done | P163: non prospect | Q163: =INDEX(Calendrier!$A$1:$S$33,U163+2,IF(W163=2015,V163-5,IF(W163=2016,V163+7))) -> 1601S4 | R163: =DAY(J163) -> 29 | S163: =MONTH(J163) -> 1 | T163: =YEAR(J163) -> 2016 | U163: =DAY(N163) -> 29 | V163: =MONTH(N163) -> 1 | W163: =YEAR(N163) -> 2016
A164: =INDEX(Calendrier!$A$1:$S$33,R164+2,IF(T164=2015,S164-5,IF(T164=2016,S164+7))) -> 1601S4 | B164: 1 | C164: 163 | D164: 29/04/2016 | F164: Closed Lost | G164: offre 1 | J164: 29/01/2016 18:38 | K164: 500 | L164: 5000 | M164: Type 1 | N164: 29/01/2016 18:38 | O164: Meeting done | P164: non prospect | Q164: =INDEX(Calendrier!$A$1:$S$33,U164+2,IF(W164=2015,V164-5,IF(W164=2016,V164+7))) -> 1601S4 | R164: =DAY(J164) -> 29 | S164: =MONTH(J164) -> 1 | T164: =YEAR(J164) -> 2016 | U164: =DAY(N164) -> 29 | V164: =MONTH(N164) -> 1 | W164: =YEAR(N164) -> 2016
...

Sheet TCD Opportunité
A3: Somme de nombre opp | B3: Étiquettes de colonnes
B4: 1507S1 | C4: Total 1507S1 | D4: 1507S2 | F4: Total 1507S2 | G4: 1507S4 | J4: Total 1507S4 | K4: 1507S5 | N4: Total 1507S5 | O4: 1508S1 | Q4: Total 1508S1 | R4: 1508S2 | T4: Total 1508S2 | U4: 1508S3 | V4: Total 1508S3 | W4: 1508S4 | Y4: Total 1508S4 | Z4: 1509S1 | AD4: Total 1509S1 | AE4: 1509S2 | AJ4: Total 1509S2 | AK4: 1509S3 | AN4: Total 1509S3 | AO4: 1509S4 | AQ4: Total 1509S4 | AR4: 1510S1 | AU4: Total 1510S1 | AV4: 1510S2 | AY4: Total 1510S2 | AZ4: 1510S3 | BB4: Total 1510S3 | BC4: 1510S4 | BH4: Total 1510S4 | BI4: 1510S5 | BK4: Total 1510S5 | BL4: 1511S1 | BN4: Total 1511S1 | BO4: 1511S2 | BQ4: Total 1511S2 | BR4: 1511S3 | BX4: Total 1511S3 | BY4: 1511S4 | CC4: Total 1511S4 | CD4: 1512S1 | CI4: Total 1512S1 | CJ4: 1512S2 | CN4: Total 1512S2 | CO4: 1512S3 | CP4: Total 1512S3 | CQ4: 1512S4 | CW4: Total 1512S4 | CX4: 1601S1 | DC4: Total 1601S1 | DD4: 1601S2 | DH4: Total 1601S2 | DI4: 1601S3 | DM4: Total 1601S3 | DN4: 1601S4 | DR4: Total 1601S4 | DS4: 1602S1 | EB4: Total 1602S1 | EC4: 1602S2 | EH4: Total 1602S2 | EI4: 1602S3 | EP4: Total 1602S3 | EQ4: 1602S4 | EV4: Total 1602S4 | EW4: 1603S1 | FC4: Total 1603S1 | FD4: 1603S2 | FJ4: Total 1603S2 | FK4: 1603S3 | FP4: Total 1603S3 | FQ4: 1603S4 | FY4: Total 1603S4 | FZ4: 1603S5 | GC4: Total 1603S5 | GD4: 1604S1 | GJ4: Total 1604S1 | GK4: 1604S2 | GQ4: Total 1604S2 | GR4: 1604S3 | GX4: Total 1604S3 | GY4: 1604S4 | HE4: Total 1604S4 | HF4: 1605S1 | HL4: Total 1605S1 | HM4: 1605S2 | HR4: Total 1605S2 | HS4: 1605S3 | HY4: Total 1605S3 | HZ4: 1605S4 | IE4: Total 1605S4 | IF4: 1606S1 | IL4: Total 1606S1 | IM4: 1606S2 | IR4: Total 1606S2 | IS4: 1606S3 | IX4: Total 1606S3 | IY4: 1606S4 | IZ4: Total 1606S4 | JA4: 1606S5 | JE4: Total 1606S5 | JF4: 1607S1 | JM4: Total 1607S1 | JN4: 1607S2 | JV4: Total 1607S2 | JW4: 1607S3 | KC4: Total 1607S3 | KD4: 1607S4 | KF4: Total 1607S4 | KG4: 1608S1 | KL4: Total 1608S1 | KM4: 1608S2 | KS4: Total 1608S2 | KT4: 1608S3 | KU4: Total 1608S3 | KV4: 1608S4 | KZ4: Total 1608S4 | LA4: 1608S5 | LG4: Total 1608S5 | LH4: 1609S1 | LN4: Total 1609S1 | LO4: 1609S2 | LU4: Total 1609S2 | LV4: 1609S3 | MC4: Total 1609S3 | MD4: 1609S4 | MG4: Total 1609S4 | MH4: (vide) | MI4: Total (vide) | MJ4: Total général
A5: Étiquettes de lignes | B5: Negotiation/Review | D5: Closed Won | E5: Proposal/Price Quote | G5: Closed Lost | H5: Needs Analysis | I5: Negotiation/Review | K5: Closed Won | L5: Negotiation/Review | M5: Proposal/Price Quote | O5: Closed Lost | P5: Closed Won | R5: Closed Won | S5: Negotiation/Review | U5: Proposal/Price Quote | W5: Closed Won | X5: Negotiation/Review | Z5: Closed Won | AA5: Needs Analysis | AB5: Negotiation/Review | AC5: Proposal/Price Quote | AE5: Closed Won | AF5: Negotiation/Review | AG5: Proposal/Price Quote | AH5: Qualification | AI5: Value Proposition | AK5: Closed Won | AL5: Negotiation/Review | AM5: Proposal/Price Quote | AO5: Closed Lost | AP5: Closed Won | AR5: Closed Lost | AS5: Closed Won | AT5: Negotiation/Review | AV5: Closed Won | AW5: Proposal/Price Quote | AX5: Value Proposition | AZ5: Closed Won | BA5: Negotiation/Review | BC5: Closed Won | BD5: Negotiation/Review | BE5: Proposal/Price Quote | BF5: Qualification | BG5: Value Proposition | BI5: Negotiation/Review | BJ5: Proposal/Price Quote | BL5: Closed Won | BM5: Proposal/Price Quote | BO5: Closed Lost | BP5: Qualification | BR5: Closed Lost | BS5: Closed Won | BT5: Needs Analysis | BU5: Negotiation/Review | BV5: Proposal/Price Quote | BW5: Qualification | BY5: Closed Lost | BZ5: Closed Won | CA5: Negotiation/Review | CB5: Proposal/Price Quote | CD5: Closed Lost | CE5: Closed Won | CF5: Proposal/Price Quote | CG5: Qualification | CH5: Value Proposition | CJ5: Closed Lost | CK5: Needs Analysis | CL5: Negotiation/Review | CM5: Qualification | CO5: Value Proposition | CQ5: Closed Lost | CR5: Closed Won | CS5: Needs Analysis | CT5: Negotiation/Review | CU5: Proposal/Price Quote | CV5: Value Proposition | CX5: Closed Won | CY5: Needs Analysis | CZ5: Negotiation/Review | DA5: Proposal/Price Quote | DB5: Value Proposition | DD5: Closed Lost | DE5: Closed Won | DF5: Negotiation/Review | DG5: Value Proposition | DI5: Closed Won | DJ5: Negotiation/Review | DK5: Proposal/Price Quote | DL5: Qualification | DN5: Closed Won | DO5: Meeting done | DP5: Qualification | DQ5: Value Proposition | DS5: Closed Lost | DT5: Closed Won | DU5: Contacted | DV5: Meeting done | DW5: Needs Analysis | DX5: Negotiation/Review | DY5: Proposal/Price Quote | DZ5: Qualification | EA5: Value Proposition | EC5: Closed Lost | ED5: Contacted | EE5: Needs Analysis | EF5: Proposal/Price Quote | EG5: Value Proposition | EI5: Closed Lost to Competition | EJ5: Closed Won | EK5: Contacted | EL5: Negotiation/Review | EM5: Proposal/Price Quote | EN5: Qualification | EO5: Value Proposition | EQ5: Closed Lost | ER5: Contacted | ES5: Needs Analysis | ET5: Proposal/Price Quote | EU5: Value Proposition | EW5: Closed Lost | EX5: Closed Won | EY5: Meeting done | EZ5: Negotiation/Review | FA5: Proposal/Price Quote | FB5: Value Proposition | FD5: Contacted | FE5: Meeting done | FF5: Negotiation/Review | FG5: Proposal/Price Quote | FH5: Qualification | FI5: Value Proposition | FK5: Closed Lost | FL5: Closed Lost to Competition | FM5: Meeting done | FN5: Negotiation/Review | FO5: Value Proposition | FQ5: Closed Lost | FR5: Closed Won | FS5: Meeting done | FT5: Needs Analysis | FU5: Negotiation/Review | FV5: None | FW5: Proposal/Price Quote | FX5: Value Proposition | FZ5: Closed Won | GA5: Negotiation/Review | GB5: Proposal/Price Quote | GD5: Closed Lost | GE5: Id. Decision Makers | GF5: Meeting done | GG5: Negotiation/Review | GH5: Proposal/Price Quote | GI5: Value Proposition | GK5: Closed Lost | GL5: Closed Won | GM5: Id. Decision Makers | GN5: Needs Analysis | GO5: Proposal/Price Quote | GP5: Value Proposition | GR5: Closed Lost | GS5: Closed Won | GT5: Needs Analysis | GU5: Negotiation/Review | GV5: Qualification | GW5: Value Proposition | GY5: Closed Lost | GZ5: Closed Won | HA5: Meeting done | HB5: Negotiation/Review | HC5: Proposal/Price Quote | HD5: Value Proposition | HF5: Closed Lost | HG5: Closed Lost to Competition | HH5: Closed Won | HI5: Contacted | HJ5: Proposal/Price Quote | HK5: Value Proposition | HM5: Closed Lost | HN5: Closed Lost to Competition | HO5: Closed Won | HP5: Proposal/Price Quote | HQ5: Value Proposition | HS5: Closed Lost | HT5: Closed Won | HU5: Contacted | HV5: Negotiation/Review | HW5: None | HX5: Proposal/Price Quote | HZ5: Closed Lost | IA5: Closed Won | IB5: Negotiation/Review | IC5: Proposal/Price Quote | ID5: Value Proposition | IF5: Closed Lost | IG5: Closed Won | IH5: Contacted | II5: Negotiation/Review | IJ5: Proposal/Price Quote | IK5: Value Proposition | IM5: Closed Lost | IN5: Closed Won | IO5: Needs Analysis | IP5: Negotiation/Review | IQ5: Proposal/Price Quote | IS5: Closed Lost | IT5: Closed Won | IU5: Contacted | IV5: Negotiation/Review | IW5: Value Proposition | IY5: Proposal/Price Quote | JA5: Closed Lost | JB5: Meeting done | JC5: Negotiation/Review | JD5: Value Proposition | JF5: Closed Lost | JG5: Closed Won | JH5: IO pre-approved | JI5: Meeting done | JJ5: Negotiation/Review | JK5: Proposal/Price Quote | JL5: Value Proposition | JN5: Closed Lost | JO5: Closed Lost to Competition | JP5: Contacted | JQ5: IO pre-approved | JR5: Meeting done | JS5: Negotiation/Review | JT5: Proposal/Price Quote | JU5: Value Proposition | JW5: Closed Lost | JX5: Closed Won | JY5: Contacted | JZ5: Meeting done | KA5: Negotiation/Review | KB5: Proposal/Price Quote | KD5: Closed Lost | KE5: Contacted | KG5: Closed Lost | KH5: Closed Won | KI5: Negotiation/Review | KJ5: Proposal/Price Quote | KK5: Value Proposition | KM5: Closed Won | KN5: IO pre-approved | KO5: Meeting done | KP5: Negotiation/Review | KQ5: Proposal/Price Quote | KR5: Value Proposition | KT5: Negotiation/Review | KV5: Closed Lost | KW5: Closed Lost to Competition | KX5: Negotiation/Review | KY5: Proposal/Price Quote | LA5: Closed Lost | LB5: Closed Lost to Competition | LC5: Closed Won | LD5: Negotiation/Review | LE5: Proposal/Price Quote | LF5: Value Proposition | LH5: Closed Lost | LI5: Contacted | LJ5: Meeting done | LK5: Negotiation/Review | LL5: Proposal/Price Quote | LM5: Value Proposition | LO5: Closed Lost | LP5: Closed Won | LQ5: Contacted | LR5: Meeting done | LS5: Proposal/Price Quote | LT5: Value Proposition | LV5: Closed Lost | LW5: Contacted | LX5: IO pre-approved | LY5: Meeting done | LZ5: Negotiation/Review | MA5: Proposal/Price Quote | MB5: Value Proposition | MD5: Closed Lost | ME5: Negotiation/Review | MF5: Value Proposition | MH5: (vide)
A6: non prospect | B6: 2 | C6: 2 | D6: 1 | E6: 2 | F6: 3 | G6: 1 | H6: 2 | I6: 2 | J6: 5 | K6: 1 | L6: 5 | M6: 1 | N6: 7 | O6: 1 | P6: 1 | Q6: 2 | R6: 1 | S6: 2 | T6: 3 | U6: 1 | V6: 1 | W6: 1 | X6: 1 | Y6: 2 | Z6: 3 | AA6: 1 | AB6: 1 | AC6: 2 | AD6: 7 | AE6: 1 | AF6: 2 | AG6: 1 | AH6: 1 | AI6: 1 | AJ6: 6 | AK6: 1 | AL6: 2 | AM6: 1 | AN6: 4 | AO6: 2 | AP6: 1 | AQ6: 3 | AR6: 2 | AS6: 1 | AT6: 2 | AU6: 5 | AV6: 3 | AW6: 1 | AX6: 1 | AY6: 5 | AZ6: 2 | BA6: 1 | BB6: 3 | BC6: 1 | BD6: 3 | BE6: 1 | BF6: 1 | BG6: 1 | BH6: 7 | BI6: 1 | BJ6: 1 | BK6: 2 | BL6: 8 | BM6: 2 | BN6: 10 | BO6: 1 | BP6: 1 | BQ6: 2 | BR6: 3 | BS6: 2 | BT6: 1 | BU6: 2 | BV6: 2 | BW6: 1 | BX6: 11 | BY6: 4 | BZ6: 3 | CA6: 5 | CB6: 1 | CC6: 13 | CD6: 1 | CE6: 3 | CF6: 2 | CG6: 1 | CH6: 1 | CI6: 8 | CJ6: 1 | CK6: 1 | CL6: 1 | CM6: 3 | CN6: 6 | CO6: 1 | CP6: 1 | CQ6: 2 | CR6: 6 | CS6: 2 | CT6: 2 | CU6: 1 | CV6: 1 | CW6: 14 | CX6: 2 | CY6: 1 | CZ6: 2 | DA6: 1 | DB6: 4 | DC6: 10 | DD6: 1 | DE6: 5 | DF6: 1 | DG6: 1 | DH6: 8 | DI6: 3 | DJ6: 3 | DK6: 1 | DL6: 2 | DM6: 9 | DN6: 2 | DO6: 4 | DP6: 3 | DQ6: 3 | DR6: 12 | DS6: 2 | DT6: 4 | DU6: 11 | DV6: 1 | DW6: 2 | DX6: 4 | DY6: 4 | DZ6: 5 | EA6: 6 | EB6: 39 | EC6: 3 | ED6: 3 | EE6: 1 | EF6: 2 | EG6: 5 | EH6: 14 | EI6: 1 | EJ6: 3 | EK6: 1 | EL6: 1 | EM6: 2 | EN6: 1 | EO6: 4 | EP6: 13 | EQ6: 1 | ER6: 1 | ES6: 2 | ET6: 2 | EU6: 2 | EV6: 8 | EW6: 1 | EX6: 3 | EY6: 1 | EZ6: 2 | FA6: 4 | FB6: 1 | FC6: 12 | FD6: 1 | FE6: 2 | FF6: 1 | FG6: 3 | FH6: 1 | FI6: 2 | FJ6: 10 | FK6: 1 | FL6: 1 | FM6: 3 | FN6: 1 | FO6: 1 | FP6: 7 | FQ6: 3 | FR6: 3 | FS6: 1 | FT6: 1 | FU6: 1 | FV6: 1 | FW6: 6 | FX6: 10 | FY6: 26 | FZ6: 1 | GA6: 2 | GB6: 1 | GC6: 4 | GD6: 5 | GE6: 2 | GF6: 2 | GG6: 1 | GH6: 11 | GI6: 4 | GJ6: 25 | GK6: 5 | GL6: 3 | GM6: 1 | GN6: 1 | GO6: 3 | GP6: 1 | GQ6: 14 | GR6: 3 | GS6: 3 | GT6: 1 | GU6: 1 | GV6: 1 | GW6: 3 | GX6: 12 | GY6: 2 | GZ6: 2 | HA6: 1 | HB6: 1 | HC6: 2 | HD6: 2 | HE6: 10 | HF6: 2 | HG6: 1 | HH6: 2 | HI6: 1 | HJ6: 2 | HK6: 2 | HL6: 10 | HM6: 3 | HN6: 1 | HO6: 1 | HP6: 4 | HQ6: 3 | HR6: 12 | HS6: 3 | HT6: 2 | HU6: 1 | HV6: 2 | HW6: 1 | HX6: 3 | HY6: 12 | HZ6: 2 | IA6: 6 | IB6: 4 | IC6: 1 | ID6: 2 | IE6: 15 | IF6: 6 | IG6: 1 | IH6: 1 | II6: 1 | IJ6: 2 | IK6: 1 | IL6: 12 | IM6: 2 | IN6: 1 | IO6: 1 | IP6: 1 | IQ6: 2 | IR6: 7 | IS6: 3 | IT6: 20 | IU6: 1 | IV6: 3 | IW6: 3 | IX6: 30 | IY6: 1 | IZ6: 1 | JA6: 1 | JB6: 1 | JC6: 4 | JD6: 7 | JE6: 13 | JF6: 7 | JG6: 1 | JH6: 2 | JI6: 1 | JJ6: 1 | JK6: 2 | JL6: 3 | JM6: 17 | JN6: 9 | JO6: 1 | JP6: 5 | JQ6: 4 | JR6: 2 | JS6: 4 | JT6: 2 | JU6: 5 | JV6: 32 | JW6: 7 | JX6: 3 | JY6: 3 | JZ6: 6 | KA6: 2 | KB6: 3 | KC6: 24 | KD6: 1 | KE6: 2 | KF6: 3 | KG6: 2 | KH6: 2 | KI6: 5 | KJ6: 2 | KK6: 3 | KL6: 14 | KM6: 1 | KN6: 1 | KO6: 1 | KP6: 1 | KQ6: 6 | KR6: 2 | KS6: 12 | KT6: 1 | KU6: 1 | KV6: 3 | KW6: 1 | KX6: 1 | KY6: 2 | KZ6: 7 | LA6: 2 | LB6: 1 | LC6: 1 | LD6: 1 | LE6: 1 | LF6: 5 | LG6: 11 | LH6: 3 | LI6: 1 | LJ6: 1 | LK6: 1 | LL6: 1 | LM6: 2 | LN6: 9 | LO6: 2 | LP6: 1 | LQ6: 1 | LR6: 2 | LS6: 2 | LT6: 1 | LU6: 9 | LV6: 7 | LW6: 2 | LX6: 1 | LY6: 2 | LZ6: 2 | MA6: 2 | MB6: 2 | MC6: 18 | MD6: 1 | ME6: 1 | MF6: 1 | MG6: 3 | MJ6: 637
A7: offre 1 | B7: 1 | C7: 1 | E7: 2 | F7: 2 | G7: 1 | I7: 1 | J7: 2 | K7: 1 | L7: 3 | N7: 4 | O7: 1 | Q7: 1 | U7: 1 | V7: 1 | W7: 1 | X7: 1 | Y7: 2 | AB7: 1 | AC7: 1 | AD7: 2 | AE7: 1 | AF7: 1 | AG7: 1 | AJ7: 3 | AL7: 1 | AN7: 1 | AO7: 1 | AQ7: 1 | AR7: 1 | AT7: 1 | AU7: 2 | AW7: 1 | AX7: 1 | AY7: 2 | AZ7: 2 | BA7: 1 | BB7: 3 | BC7: 1 | BD7: 1 | BF7: 1 | BG7: 1 | BH7: 4 | BI7: 1 | BK7: 1 | BL7: 5 | BM7: 1 | BN7: 6 | BO7: 1 | BP7: 1 | BQ7: 2 | BR7: 1 | BS7: 2 | BT7: 1 | BU7: 1 | BV7: 1 | BW7: 1 | BX7: 7 | BY7: 3 | CB7: 1 | CC7: 4 | CE7: 1 | CF7: 1 | CG7: 1 | CH7: 1 | CI7: 4 | CM7: 3 | CN7: 3 | CR7: 2 | CS7: 2 | CT7: 1 | CV7: 1 | CW7: 6 | CX7: 2 | CY7: 1 | CZ7: 2 | DA7: 1 | DB7: 4 | DC7: 10 | DD7: 1 | DE7: 2 | DH7: 3 | DI7: 1 | DJ7: 1 | DL7: 2 | DM7: 4 | DN7: 2 | DO7: 4 | DP7: 1 | DQ7: 2 | DR7: 9 | DS7: 2 | DT7: 3 | DU7: 7 | DV7: 1 | DX7: 3 | DY7: 3 | DZ7: 4 | EA7: 4 | EB7: 27 | EC7: 3 | ED7: 2 | EF7: 2 | EG7: 3 | EH7: 10 | EI7: 1 | EN7: 1 | EO7: 3 | EP7: 5 | EQ7: 1 | ER7: 1 | ES7: 1 | ET7: 1 | EU7: 2 | EV7: 6 | EX7: 1 | EY7: 1 | EZ7: 1 | FA7: 2 | FC7: 5 | FE7: 2 | FG7: 2 | FI7: 1 | FJ7: 5 | FL7: 1 | FM7: 2 | FN7: 1 | FO7: 1 | FP7: 5 | FQ7: 2 | FR7: 2 | FT7: 1 | FU7: 1 | FW7: 3 | FX7: 7 | FY7: 16 | FZ7: 1 | GA7: 1 | GC7: 2 | GD7: 3 | GE7: 2 | GG7: 1 | GH7: 9 | GI7: 4 | GJ7: 19 | GK7: 2 | GL7: 1 | GN7: 1 | GO7: 2 | GQ7: 6 | GR7: 1 | GS7: 2 | GT7: 1 | GU7: 1 | GV7: 1 | GW7: 1 | GX7: 7 | GZ7: 1 | HA7: 1 | HC7: 2 | HD7: 2 | HE7: 6 | HF7: 1 | HG7: 1 | HH7: 2 | HJ7: 2 | HK7: 1 | HL7: 7 | HM7: 3 | HP7: 2 | HQ7: 2 | HR7: 7 | HS7: 2 | HT7: 1 | HU7: 1 | HV7: 1 | HX7: 3 | HY7: 8 | HZ7: 2 | IA7: 3 | IB7: 2 | IC7: 1 | ID7: 1 | IE7: 9 | IF7: 4 | IJ7: 1 | IL7: 5 | IM7: 1 | IN7: 1 | IO7: 1 | IP7: 1 | IQ7: 2 | IR7: 6 | IS7: 3 | IT7: 10 | IV7: 2 | IW7: 2 | IX7: 17 | JC7: 3 | JD7: 6 | JE7: 9 | JF7: 6 | JH7: 1 | JI7: 1 | JJ7: 1 | JK7: 1 | JL7: 2 | JM7: 12 | JN7: 6 | JO7: 1 | JP7: 1 | JQ7: 3 | JR7: 1 | JS7: 2 | JT7: 1 | JU7: 2 | JV7: 17 | JW7: 5 | JZ7: 3 | KA7: 2 | KB7: 2 | KC7: 12 | KE7: 1 | KF7: 1 | KG7: 1 | KH7: 1 | KI7: 3 | KJ7: 1 | KK7: 1 | KL7: 7 | KN7: 1 | KP7: 1 | KQ7: 3 | KR7: 1 | KS7: 6 | KT7: 1 | KU7: 1 | KV7: 3 | KW7: 1 | KX7: 1 | KY7: 2 | KZ7: 7 | LA7: 1 | LB7: 1 | LC7: 1 | LF7: 3 | LG7: 6 | LH7: 3 | LK7: 1 | LL7: 1 | LM7: 2 | LN7: 7 | LO7: 2 | LR7: 1 | LS7: 2 | LT7: 1 | LU7: 6 | LV7: 4 | LX7: 1 | LZ7: 2 | MA7: 2 | MB7: 2 | MC7: 11 | MD7: 1 | ME7: 1 | MG7: 2 | MJ7: 372
LH8: 1 | LN8: 1 | LO8: 1 | LU8: 1 | LV8: 1 | MC8: 1 | MJ8: 3
A9: 1609S1 | LH9: 1 | LN9: 1 | LO9: 1 | LU9: 1 | LV9: 1 | MC9: 1 | MJ9: 3
A10: Type 1 | B10: 1 | C10: 1 | K10: 1 | N10: 1 | AR10: 1 | AU10: 1 | BI10: 1 | BK10: 1 | BL10: 3 | BM10: 1 | BN10: 4 | BP10: 1 | BQ10: 1 | BS10: 1 | BU10: 1 | BV10: 1 | BX10: 3 | BY10: 1 | CC10: 1 | CE10: 1 | CF10: 1 | CH10: 1 | CI10: 3 | CS10: 1 | CT10: 1 | CV10: 1 | CW10: 3 | CZ10: 1 | DB10: 3 | DC10: 4 | DD10: 1 | DH10: 1 | DI10: 1 | DJ10: 1 | DL10: 1 | DM10: 3 | DN10: 2 | DO10: 3 | DP10: 1 | DQ10: 1 | DR10: 7 | DT10: 2 | DY10: 1 | DZ10: 3 | EA10: 1 | EB10: 7 | EC10: 3 | ED10: 1 | EH10: 4 | EO10: 1 | EP10: 1 | EQ10: 1 | ET10: 1 | EU10: 1 | EV10: 3 | FO10: 1 | FP10: 1 | FR10: 1 | FX10: 2 | FY10: 3 | GE10: 1 | GH10: 6 | GI10: 1 | GJ10: 8 | GS10: 2 | GU10: 1 | GX10: 3 | GZ10: 1 | HE10: 1 | HF10: 1 | HL10: 1 | HT10: 1 | HV10: 1 | HX10: 1 | HY10: 3 | IA10: 2 | IB10: 2 | IC10: 1 | ID10: 1 | IE10: 6 | IF10: 1 | IL10: 1 | IS10: 3 | IT10: 8 | IV10: 2 | IW10: 2 | IX10: 15 | JD10: 2 | JE10: 2 | JF10: 2 | JH10: 1 | JJ10: 1 | JK10: 1 | JM10: 5 | JN10: 2 | JO10: 1 | JP10: 1 | JQ10: 3 | JS10: 1 | JV10: 8 | KA10: 1 | KB10: 1 | KC10: 2 | KG10: 1 | KH10: 1 | KI10: 2 | KK10: 1 | KL10: 5 | KT10: 1 | KU10: 1 | KV10: 2 | KZ10: 2 | LF10: 1 | LG10: 1 | LH10: 1 | LM10: 1 | LN10: 2 | ME10: 1 | MG10: 1 | MJ10: 120
A11: 1507S1 | B11: 1 | C11: 1 | K11: 1 | N11: 1 | AR11: 1 | AU11: 1 | MJ11: 3
A12: 1510S5 | BI12: 1 | BK12: 1 | BL12: 1 | BN12: 1 | BY12: 1 | CC12: 1 | MJ12: 3
A13: 1511S1 | BL13: 2 | BM13: 1 | BN13: 3 | JD13: 1 | JE13: 1 | JQ13: 1 | JS13: 1 | JV13: 2 | ME13: 1 | MG13: 1 | MJ13: 7
A14: 1511S2 | BP14: 1 | BQ14: 1 | CE14: 1 | CI14: 1 | MJ14: 2
A15: 1511S3 | BS15: 1 | BU15: 1 | BV15: 1 | BX15: 3 | GI15: 1 | GJ15: 1 | JF15: 1 | JM15: 1 | MJ15: 5
A16: 1512S1 | CF16: 1 | CH16: 1 | CI16: 2 | CZ16: 1 | DC16: 1 | DT16: 1 | EB16: 1 | GH16: 1 | GJ16: 1 | IF16: 1 | IL16: 1 | MJ16: 6
A17: 1512S4 | CS17: 1 | CT17: 1 | CV17: 1 | CW17: 3 | DD17: 1 | DH17: 1 | DI17: 1 | DM17: 1 | MJ17: 5
A18: 1601S1 | DB18: 3 | DC18: 3 | EC18: 3 | EH18: 3 | MJ18: 6
A19: 1601S3 | DJ19: 1 | DL19: 1 | DM19: 2 | DN19: 1 | DR19: 1 | GH19: 1 | GJ19: 1 | IC19: 1 | ID19: 1 | IE19: 2 | LM19: 1 | LN19: 1 | MJ19: 7
A20: 1601S4 | DN20: 1 | DO20: 3 | DP20: 1 | DQ20: 1 | DR20: 6 | DT20: 1 | DY20: 1 | EB20: 2 | ET20: 1 | EU20: 1 | EV20: 2 | FO20: 1 | FP20: 1 | FX20: 1 | FY20: 1 | GS20: 1 | GX20: 1 | HF20: 1 | HL20: 1 | JO20: 1 | JV20: 1 | MJ20: 15
A21: 1602S1 | DZ21: 3 | EA21: 1 | EB21: 4 | ED21: 1 | EH21: 1 | FX21: 1 | FY21: 1 | GE21: 1 | GH21: 4 | GJ21: 5 | GS21: 1 | GX21: 1 | JF21: 1 | JM21: 1 | JN21: 2 | JV21: 2 | MJ21: 15
A22: 1602S3 | EO22: 1 | EP22: 1 | EQ22: 1 | EV22: 1 | MJ22: 2
A23: 1603S4 | FR23: 1 | FY23: 1 | MJ23: 1
A24: 1604S3 | GU24: 1 | GX24: 1 | GZ24: 1 | HE24: 1 | MJ24: 2
A25: 1605S3 | HT25: 1 | HV25: 1 | HX25: 1 | HY25: 3 | JD25: 1 | JE25: 1 | MJ25: 4
A26: 1605S4 | IA26: 2 | IB26: 2 | IE26: 4 | MJ26: 4
A27: 1606S3 | IS27: 3 | IT27: 8 | IV27: 2 | IW27: 2 | IX27: 15 | JH27: 1 | JM27: 1 | KH27: 1 | KL27: 1 | MJ27: 17
A28: 1607S1 | JJ28: 1 | JK28: 1 | JM28: 2 | JQ28: 1 | JV28: 1 | KI28: 1 | KL28: 1 | KV28: 1 | KZ28: 1 | MJ28: 5
A29: 1607S2 | JP29: 1 | JQ29: 1 | JV29: 2 | KI29: 1 | KL29: 1 | KV29: 1 | KZ29: 1 | MJ29: 4
A30: 1607S3 | KA30: 1 | KB30: 1 | KC30: 2 | KG30: 1 | KL30: 1 | MJ30: 3
A31: 1608S1 | KK31: 1 | KL31: 1 | MJ31: 1
A32: 1608S3 | KT32: 1 | KU32: 1 | LH32: 1 | LN32: 1 | MJ32: 2
A33: 1608S5 | LF33: 1 | LG33: 1 | MJ33: 1
A34: Type 2 | E34: 1 | F34: 1 | G34: 1 | J34: 1 | L34: 1 | N34: 1 | EA34: 1 | EB34: 1 | EO34: 1 | EP34: 1 | FA34: 1 | FC34: 1 | FN34: 1 | FP34: 1 | FR34: 1 | FY34: 1 | HM34: 1 | HR34: 1 | IF34: 1 | IL34: 1 | MJ34: 10
A35: 1507S2 | E35: 1 | F35: 1 | G35: 1 | J35: 1 | MJ35: 2
A36: 1507S5 | L36: 1 | N36: 1 | EA36: 1 | EB36: 1 | HM36: 1 | HR36: 1 | MJ36: 3
A37: 1602S3 | EO37: 1 | EP37: 1 | FN37: 1 | FP37: 1 | FR37: 1 | FY37: 1 | MJ37: 3
A38: 1603S1 | FA38: 1 | FC38: 1 | IF38: 1 | IL38: 1 | MJ38: 2
A39: Type 3 | AL39: 1 | AN39: 1 | AX39: 1 | AY39: 1 | BG39: 1 | BH39: 1 | BL39: 1 | BN39: 1 | BT39: 1 | BX39: 1 | BY39: 1 | CC39: 1 | CY39: 1 | DA39: 1 | DC39: 2 | DT39: 1 | DU39: 2 | DX39: 1 | EA39: 1 | EB39: 5 | FG39: 1 | FJ39: 1 | FM39: 1 | FP39: 1 | FX39: 1 | FY39: 1 | GA39: 1 | GC39: 1 | GK39: 1 | GQ39: 1 | GT39: 1 | GX39: 1 | HZ39: 1 | IE39: 1 | JD39: 1 | JE39: 1 | JN39: 1 | JV39: 1 | JW39: 1 | JZ39: 1 | KC39: 2 | KJ39: 1 | KL39: 1 | KW39: 1 | KZ39: 1 | MJ39: 26
A40: 1509S3 | AL40: 1 | AN40: 1 | AX40: 1 | AY40: 1 | DA40: 1 | DC40: 1 | JW40: 1 | KC40: 1 | MJ40: 4
A41: 1510S4 | BG41: 1 | BH41: 1 | BT41: 1 | BX41: 1 | BY41: 1 | CC41: 1 | MJ41: 3
A42: 1511S1 | BL42: 1 | BN42: 1 | MJ42: 1
A43: 1601S1 | CY43: 1 | DC43: 1 | DU43: 1 | EB43: 1 | HZ43: 1 | IE43: 1 | MJ43: 3
A44: 1602S1 | DT44: 1 | DU44: 1 | DX44: 1 | EA44: 1 | EB44: 4 | FG44: 1 | FJ44: 1 | GA44: 1 | GC44: 1 | GK44: 1 | GQ44: 1 | JN44: 1 | JV44: 1 | MJ44: 8
A45: 1603S3 | FM45: 1 | FP45: 1 | FX45: 1 | FY45: 1 | MJ45: 2
A46: 1604S3 | GT46: 1 | GX46: 1 | JD46: 1 | JE46: 1 | MJ46: 2
A47: 1607S3 | JZ47: 1 | KC47: 1 | KJ47: 1 | KL47: 1 | KW47: 1 | KZ47: 1 | MJ47: 3
A48: Type 4 | E48: 1 | F48: 1 | AF48: 1 | AJ48: 1 | AW48: 1 | AY48: 1 | CM48: 1 | CN48: 1 | DL48: 1 | DM48: 1 | DS48: 1 | DY48: 1 | DZ48: 1 | EB48: 3 | EG48: 1 | EH48: 1 | FT48: 1 | FY48: 1 | GE48: 1 | GJ48: 1 | GK48: 1 | GQ48: 1 | JD48: 1 | JE48: 1 | JN48: 1 | JS48: 1 | JV48: 2 | KR48: 1 | KS48: 1 | LR48: 1 | LU48: 1 | MB48: 1 | MC48: 1 | MD48: 1 | MG48: 1 | MJ48: 19
A49: 1507S2 | E49: 1 | F49: 1 | KR49: 1 | KS49: 1 | MD49: 1 | MG49: 1 | MJ49: 3
A50: 1509S2 | AF50: 1 | AJ50: 1 | FT50: 1 | FY50: 1 | JD50: 1 | JE50: 1 | JN50: 1 | JV50: 1 | MJ50: 4
A51: 1510S2 | AW51: 1 | AY51: 1 | GK51: 1 | GQ51: 1 | MJ51: 2
A52: 1512S2 | CM52: 1 | CN52: 1 | DS52: 1 | DY52: 1 | EB52: 2 | MJ52: 3
A53: 1601S3 | DL53: 1 | DM53: 1 | EG53: 1 | EH53: 1 | MJ53: 2
A54: 1602S1 | DZ54: 1 | EB54: 1 | GE54: 1 | GJ54: 1 | JS54: 1 | JV54: 1 | MJ54: 3
A55: 1609S2 | LR55: 1 | LU55: 1 | MB55: 1 | MC55: 1 | MJ55: 2
A56: Type 5 | L56: 1 | N56: 1 | O56: 1 | Q56: 1 | AB56: 1 | AD56: 1 | AG56: 1 | AJ56: 1 | AT56: 1 | AU56: 1 | AZ56: 2 | BA56: 1 | BB56: 3 | BR56: 1 | BS56: 1 | BX56: 2 | CM56: 1 | CN56: 1 | DU56: 5 | DY56: 1 | EB56: 6 | EZ56: 1 | FA56: 1 | FC56: 2 | FI56: 1 | FJ56: 1 | FQ56: 2 | FW56: 1 | FY56: 3 | HC56: 1 | HE56: 1 | HH56: 1 | HL56: 1 | HM56: 1 | HR56: 1 | HS56: 1 | HY56: 1 | IF56: 1 | IL56: 1 | IO56: 1 | IR56: 1 | JD56: 1 | JE56: 1 | JN56: 1 | JV56: 1 | JZ56: 1 | KC56: 1 | KI56: 1 | KL56: 1 | KN56: 1 | KS56: 1 | LA56: 1 | LG56: 1 | LK56: 1 | LN56: 1 | MJ56: 36
A57: 1507S5 | L57: 1 | N57: 1 | O57: 1 | Q57: 1 | MJ57: 2
A58: 1509S1 | AB58: 1 | AD58: 1 | BR58: 1 | BX58: 1 | MJ58: 2
A59: 1509S2 | AG59: 1 | AJ59: 1 | AZ59: 1 | BB59: 1 | MJ59: 2
A60: 1510S1 | AT60: 1 | AU60: 1 | AZ60: 1 | BB60: 1 | MJ60: 2
A61: 1510S3 | BA61: 1 | BB61: 1 | BS61: 1 | BX61: 1 | MJ61: 2
A62: 1512S2 | CM62: 1 | CN62: 1 | DY62: 1 | EB62: 1 | EZ62: 1 | FC62: 1 | HH62: 1 | HL62: 1 | MJ62: 4
A63: 1602S1 | DU63: 5 | EB63: 5 | FQ63: 2 | FY63: 2 | HC63: 1 | HE63: 1 | HS63: 1 | HY63: 1 | IO63: 1 | IR63: 1 | JD63: 1 | JE63: 1 | JN63: 1 | JV63: 1 | LA63: 1 | LG63: 1 | MJ63: 13
A64: 1603S1 | FA64: 1 | FC64: 1 | IF64: 1 | IL64: 1 | MJ64: 2
A65: 1603S2 | FI65: 1 | FJ65: 1 | FW65: 1 | FY65: 1 | HM65: 1 | HR65: 1 | MJ65: 3
A66: 1607S3 | JZ66: 1 | KC66: 1 | KI66: 1 | KL66: 1 | KN66: 1 | KS66: 1 | LK66: 1 | LN66: 1 | MJ66: 4
A67: Type 6 | I67: 1 | J67: 1 | U67: 1 | V67: 1 | X67: 1 | Y67: 1 | AO67: 1 | AQ67: 1 | BF67: 1 | BH67: 1 | BO67: 1 | BQ67: 1 | BW67: 1 | BX67: 1 | BY67: 1 | CC67: 1 | CR67: 1 | CW67: 1 | EA67: 1 | EB67: 1 | ED67: 1 | EH67: 1 | FX67: 1 | FY67: 1 | GN67: 1 | GQ67: 1 | JD67: 1 | JE67: 1 | LV67: 1 | MC67: 1 | MJ67: 15
A68: 1507S4 | I68: 1 | J68: 1 | AO68: 1 | AQ68: 1 | MJ68: 2
A69: 1508S3 | U69: 1 | V69: 1 | X69: 1 | Y69: 1 | BO69: 1 | BQ69: 1 | MJ69: 3
A70: 1510S4 | BF70: 1 | BH70: 1 | BY70: 1 | CC70: 1 | MJ70: 2
A71: 1511S3 | BW71: 1 | BX71: 1 | CR71: 1 | CW71: 1 | MJ71: 2
A72: 1602S1 | EA72: 1 | EB72: 1 | ED72: 1 | EH72: 1 | FX72: 1 | FY72: 1 | GN72: 1 | GQ72: 1 | JD72: 1 | JE72: 1 | LV72: 1 | MC72: 1 | MJ72: 6
A73: Type 7 | L73: 1 | N73: 1 | W73: 1 | Y73: 1 | BC73: 1 | BD73: 1 | BH73: 2 | CB73: 1 | CC73: 1 | CR73: 1 | CS73: 1 | CW73: 2 | CX73: 2 | CZ73: 1 | DB73: 1 | DC73: 4 | DQ73: 1 | DR73: 1 | DS73: 1 | EB73: 1 | EF73: 1 | EH73: 1 | ES73: 1 | EU73: 1 | EV73: 2 | FE73: 1 | FJ73: 1 | FW73: 1 | FX73: 1 | FY73: 2 | GD73: 1 | GG73: 1 | GJ73: 2 | HC73: 1 | HE73: 1 | HH73: 1 | HL73: 1 | HM73: 1 | HQ73: 1 | HR73: 2 | IN73: 1 | IQ73: 1 | IR73: 2 | IT73: 2 | IX73: 2 | JL73: 1 | JM73: 1 | JT73: 1 | JV73: 1 | KE73: 1 | KF73: 1 | KP73: 1 | KS73: 1 | KV73: 1 | KZ73: 1 | LH73: 1 | LM73: 1 | LN73: 2 | LT73: 1 | LU73: 1 | MB73: 1 | MC73: 1 | MJ73: 38
A74: 1507S5 | L74: 1 | N74: 1 | W74: 1 | Y74: 1 | MJ74: 2
A75: 1510S4 | BC75: 1 | BD75: 1 | BH75: 2 | MJ75: 2
A76: 1511S4 | CB76: 1 | CC76: 1 | CX76: 2 | CZ76: 1 | DC76: 3 | DS76: 1 | EB76: 1 | MJ76: 5
A77: 1512S4 | CR77: 1 | CS77: 1 | CW77: 2 | MJ77: 2
A78: 1601S1 | DB78: 1 | DC78: 1 | EF78: 1 | EH78: 1 | LH78: 1 | LN78: 1 | MJ78: 3
A79: 1601S4 | DQ79: 1 | DR79: 1 | FW79: 1 | FY79: 1 | MJ79: 2
A80: 1602S4 | ES80: 1 | EU80: 1 | EV80: 2 | GD80: 1 | GG80: 1 | GJ80: 2 | HM80: 1 | HR80: 1 | MJ80: 5
A81: 1603S2 | FE81: 1 | FJ81: 1 | FX81: 1 | FY81: 1 | HC81: 1 | HE81: 1 | HH81: 1 | HL81: 1 | MJ81: 4
A82: 1605S2 | HQ82: 1 | HR82: 1 | IN82: 1 | IQ82: 1 | IR82: 2 | MJ82: 3
A83: 1606S3 | IT83: 2 | IX83: 2 | MJ83: 2
A84: 1607S1 | JL84: 1 | JM84: 1 | JT84: 1 | JV84: 1 | KP84: 1 | KS84: 1 | MJ84: 3
A85: 1607S4 | KE85: 1 | KF85: 1 | KV85: 1 | KZ85: 1 | MJ85: 2
A86: 1609S1 | LM86: 1 | LN86: 1 | LT86: 1 | LU86: 1 | MB86: 1 | MC86: 1 | MJ86: 3
A87: Type 16 | AC87: 1 | AD87: 1 | EX87: 1 | FC87: 1 | JL87: 1 | JM87: 1 | JZ87: 1 | KB87: 1 | KC87: 2 | LF87: 1 | LG87: 1 | LS87: 1 | LU87: 1 | LX87: 1 | LZ87: 1 | MA87: 1 | MC87: 3 | MJ87: 10
A88: 1509S1 | AC88: 1 | AD88: 1 | EX88: 1 | FC88: 1 | MJ88: 2
A89: 1607S1 | JL89: 1 | JM89: 1 | KB89: 1 | KC89: 1 | MJ89: 2
A90: 1607S3 | JZ90: 1 | KC90: 1 | LF90: 1 | LG90: 1 | LX90: 1 | MC90: 1 | MJ90: 3
A91: 1609S2 | LS91: 1 | LU91: 1 | MA91: 1 | MC91: 1 | MJ91: 2
A92: 1609S3 | LZ92: 1 | MC92: 1 | MJ92: 1
A93: Type 20 | AE93: 1 | AJ93: 1 | LO93: 1 | LU93: 1 | LV93: 1 | MC93: 1 | MJ93: 3
A94: 1509S2 | AE94: 1 | AJ94: 1 | MJ94: 1
A95: 1609S2 | LO95: 1 | LU95: 1 | LV95: 1 | MC95: 1 | MJ95: 2
A96: Type 9 | EG96: 1 | EH96: 1 | FU96: 1 | FX96: 1 | FY96: 2 | GH96: 1 | GI96: 2 | GJ96: 3 | GO96: 2 | GQ96: 2 | HK96: 1 | HL96: 1 | HP96: 1 | HQ96: 1 | HR96: 2 | IJ96: 1 | IL96: 1 | IP96: 1 | IQ96: 1 | IR96: 2 | JC96: 2 | JE96: 2 | JF96: 1 | JM96: 1 | JR96: 1 | JU96: 1 | JV96: 2 | KA96: 1 | KC96: 1 | KQ96: 3 | KS96: 3 | KY96: 1 | KZ96: 1 | LB96: 1 | LF96: 1 | LG96: 2 | LL96: 1 | LN96: 1 | LS96: 1 | LU96: 1 | LV96: 1 | MA96: 1 | MC96: 2 | MJ96: 30
A97: 1602S2 | EG97: 1 | EH97: 1 | FU97: 1 | FY97: 1 | KQ97: 1 | KS97: 1 | MJ97: 3
A98: 1603S4 | FX98: 1 | FY98: 1 | GH98: 1 | GJ98: 1 | MJ98: 2
A99: 1604S1 | GI99: 2 | GJ99: 2 | GO99: 2 | GQ99: 2 | IP99: 1 | IR99: 1 | KQ99: 1 | KS99: 1 | MJ99: 6
A100: 1605S1 | HK100: 1 | HL100: 1 | HP100: 1 | HR100: 1 | JC100: 1 | JE100: 1 | LV100: 1 | MC100: 1 | MJ100: 4
A101: 1605S2 | HQ101: 1 | HR101: 1 | JF101: 1 | JM101: 1 | MJ101: 2
A102: 1606S1 | IJ102: 1 | IL102: 1 | MJ102: 1
...

Sheet Feuil4
D2: 1609S1 | E2: 1609S1 | F2: 1609S1 | G2: 1609S1 | H2: 1609S1 | I2: 1609S1 | J2: 1609S1
D3: Closed Lost | E3: Contacted | F3: Meeting done | G3: Negotiation/Review | H3: Proposal/Price Quote | I3: Value Proposition
A4: non prospect | B4: offre1 | C4: type 1 | D4: =GETPIVOTDATA("nombre opp",'TCD Opportunité'!$A$3,"Type",B4,"Secteur d'activité",C4,"Statut (Historique des étapes)",D3,"prospect",A4,"semaine modif",D2) -> #REF! | E4: =GETPIVOTDATA("nombre opp",'TCD Opportunité'!$A$3,"Type","offre 1","Secteur d'activité","Type 1","Statut (Historique des étapes)","Contacted","prospect","non prospect","semaine modif","1609S1") -> #REF! | F4: =GETPIVOTDATA("nombre opp",'TCD Opportunité'!$A$3,"Type","offre 1","Secteur d'activité","Type 1","Statut (Historique des étapes)","Meeting done","prospect","non prospect","semaine modif","1609S1") -> #REF! | I4: =GETPIVOTDATA("nombre opp",'TCD Opportunité'!$A$3,"Type","offre 1","Secteur d’activité","Type 1","Statut (Historique des étapes)","Value Proposition","prospect","non prospect","semaine modif","1609S1") -> 1
H5: toi : | I5: =LIREDONNEESTABCROISDYNAMIQUE("nombre opp";'TCD Opportunité'!$A$3;"Type";"offre 1";"Secteur d'activité";"Type 1";"Statut (Historique des étapes)";"Value Proposition";"prospect";"non prospect";"semaine modif";"1609S1")
H6: moi : | I6: =LIREDONNEESTABCROISDYNAMIQUE("nombre opp";'TCD Opportunité'!$A$3;"Type";"offre 1";"Secteur d’activité";"Type 1";"Statut (Historique des étapes)";"Value Proposition";"prospect";"non prospect";"semaine modif";"1609S1")
I7: =(MID(I5,ROW(1:217),1)=MID(I6,ROW(1:217),1))*ROW(1:217) -> 1
L8: code
H9: toi : | I9: "Secteur d'activité" | K9: =MID(I5,94,1) -> ' | L9: =CODE(K9) -> 39
H10: moi : | I10: "Secteur d’activité" | K10: =MID(I6,94,1) -> ’ | L10: =CODE(K10) -> 146
