Workbook

Sheet Calendrier
B1: 2015 | C1: 2015 | D1: 2015 | E1: 2015 | F1: 2015 | G1: 2015 | H1: 2016 | I1: 2016 | J1: 2016 | K1: 2016 | L1: 2016 | M1: 2016 | N1: 2016 | O1: 2016 | P1: 2016 | Q1: 2016 | R1: 2016 | S1: 2016
B2: 7 | C2: 8 | D2: 9 | E2: 10 | F2: 11 | G2: 12 | H2: 1 | I2: 2 | J2: 3 | K2: 4 | L2: 5 | M2: 6 | N2: 7 | O2: 8 | P2: 9 | Q2: 10 | R2: 11 | S2: 12
A3: 1 | B3: 1507S1 | C3: 1507S5 | D3: 1509S1 | E3: 1510S1 | F3: 1510S5 | G3: 1512S1 | H3: 1512S5 | I3: 1602S1 | J3: 1603S1 | K3: 1603S5 | L3: 1604S4 | M3: 1606S1 | N3: 1606S5 | O3: 1608S1 | P3: 1608S5 | Q3: 1609S4 | R3: 1611S1 | S3: 1611S5
A4: 2 | B4: 1507S1 | C4: 1507S5 | D4: 1509S1 | E4: 1510S1 | F4: 1511S1 | G4: 1512S1 | H4: 1512S5 | I4: 1602S1 | J4: 1603S1 | K4: 1603S5 | L4: 1605S1 | M4: 1606S1 | N4: 1606S5 | O4: 1608S1 | P4: 1608S5 | Q4: 1609S4 | R4: 1611S1 | S4: 1611S5
A5: 3 | B5: 1507S1 | C5: 1508S1 | D5: 1509S1 | E5: 1510S1 | F5: 1511S1 | G5: 1512S1 | H5: 1512S5 | I5: 1602S1 | J5: 1603S1 | K5: 1603S5 | L5: 1605S1 | M5: 1606S1 | N5: 1606S5 | O5: 1608S1 | P5: 1608S5 | Q5: 1610S1 | R5: 1611S1 | S5: 1611S5
A6: 4 | B6: 1507S1 | C6: 1508S1 | D6: 1509S1 | E6: 1510S1 | F6: 1511S1 | G6: 1512S1 | H6: 1601S1 | I6: 1602S1 | J6: 1603S1 | K6: 1604S1 | L6: 1605S1 | M6: 1606S1 | N6: 1607S1 | O6: 1608S1 | P6: 1608S5 | Q6: 1610S1 | R6: 1611S1 | S6: 1611S5
A7: 5 | B7: 1507S1 | C7: 1508S1 | D7: 1509S1 | E7: 1510S2 | F7: 1511S1 | G7: 1512S1 | H7: 1601S1 | I7: 1602S1 | J7: 1603S1 | K7: 1604S1 | L7: 1605S1 | M7: 1606S1 | N7: 1607S1 | O7: 1608S1 | P7: 1609S1 | Q7: 1610S1 | R7: 1611S1 | S7: 1612S1
A8: 6 | B8: 1507S2 | C8: 1508S1 | D8: 1509S1 | E8: 1510S2 | F8: 1511S1 | G8: 1512S1 | H8: 1601S1 | I8: 1602S1 | J8: 1603S1 | K8: 1604S1 | L8: 1605S1 | M8: 1606S2 | N8: 1607S1 | O8: 1608S1 | P8: 1609S1 | Q8: 1610S1 | R8: 1611S1 | S8: 1612S1
A9: 7 | B9: 1507S2 | C9: 1508S1 | D9: 1509S2 | E9: 1510S2 | F9: 1511S1 | G9: 1512S2 | H9: 1601S1 | I9: 1602S1 | J9: 1603S2 | K9: 1604S1 | L9: 1605S1 | M9: 1606S2 | N9: 1607S1 | O9: 1608S1 | P9: 1609S1 | Q9: 1610S1 | R9: 1611S2 | S9: 1612S1
A10: 8 | B10: 1507S2 | C10: 1508S1 | D10: 1509S2 | E10: 1510S2 | F10: 1511S1 | G10: 1512S2 | H10: 1601S1 | I10: 1602S2 | J10: 1603S2 | K10: 1604S1 | L10: 1605S1 | M10: 1606S2 | N10: 1607S1 | O10: 1608S2 | P10: 1609S1 | Q10: 1610S1 | R10: 1611S2 | S10: 1612S1
A11: 9 | B11: 1507S2 | C11: 1508S1 | D11: 1509S2 | E11: 1510S2 | F11: 1511S2 | G11: 1512S2 | H11: 1601S1 | I11: 1602S2 | J11: 1603S2 | K11: 1604S1 | L11: 1605S2 | M11: 1606S2 | N11: 1607S1 | O11: 1608S2 | P11: 1609S1 | Q11: 1610S1 | R11: 1611S2 | S11: 1612S1
A12: 10 | B12: 1507S2 | C12: 1508S2 | D12: 1509S2 | E12: 1510S2 | F12: 1511S2 | G12: 1512S2 | H12: 1601S1 | I12: 1602S2 | J12: 1603S2 | K12: 1604S1 | L12: 1605S2 | M12: 1606S2 | N12: 1607S1 | O12: 1608S2 | P12: 1609S1 | Q12: 1610S2 | R12: 1611S2 | S12: 1612S1
A13: 11 | B13: 1507S2 | C13: 1508S2 | D13: 1509S2 | E13: 1510S2 | F13: 1511S2 | G13: 1512S2 | H13: 1601S2 | I13: 1602S2 | J13: 1603S2 | K13: 1604S2 | L13: 1605S2 | M13: 1606S2 | N13: 1607S2 | O13: 1608S2 | P13: 1609S1 | Q13: 1610S2 | R13: 1611S2 | S13: 1612S1
A14: 12 | B14: 1507S2 | C14: 1508S2 | D14: 1509S2 | E14: 1510S3 | F14: 1511S2 | G14: 1512S2 | H14: 1601S2 | I14: 1602S2 | J14: 1603S2 | K14: 1604S2 | L14: 1605S2 | M14: 1606S2 | N14: 1607S2 | O14: 1608S2 | P14: 1609S2 | Q14: 1610S2 | R14: 1611S2 | S14: 1612S2
... A31: 29 | B31: 1507S5 | C31: 1508S4 | D31: 1510S1 | E31: 1510S5 | F31: 1511S4 | G31: 1512S5 | H31: 1601S4 | I31: 1603S1 | J31: 1603S5 | K31: 1604S4 | L31: 1605S4 | M31: 1606S5 | N31: 1607S4 | O31: 1608S5 | P31: 1609S4 | Q31: 1610S4 | R31: 1611S5 | S31: 1612S4
A32: 30 | B32: 1507S5 | C32: 1508S4 | D32: 1510S1 | E32: 1510S5 | F32: 1512S1 | G32: 1512S5 | H32: 1601S4 | J32: 1603S5 | K32: 1604S4 | L32: 1606S1 | M32: 1606S5 | N32: 1607S4 | O32: 1608S5 | P32: 1609S4 | Q32: 1610S4 | R32: 1611S5 | S32: 1612S4
A33: 31 | B33: 1507S5 | C33: 1509S1 | E33: 1510S5 | F33: 1512S1 | G33: 1512S5 | H33: 1601S4 | J33: 1603S5 | L33: 1606S1 | N33: 1607S4 | O33: 1608S5 | Q33: 1611S1 | S33: 1612S4

Sheet BDD opportunité
A1: S creation | B1: nombre opp | C1: POTENTIALID | D1: Date d’échéance | E1: Nom de l’Opportunité | F1: Statut | G1: Type | H1: Nom du Compte | I1: Nom | J1: Heure de création | K1: Marge Brands | L1: Marge Brands Total | M1: Secteur d’activité | N1: Heure de modification de l’étape | O1: Statut (Historique des étapes) | P1: prospect | Q1: semaine modif | R1: jrs créa | S1: mois créa | T1: an créa | U1: jr modif | V1: mois modif | W1: an modif
A2: =INDEX(Calendrier!$A$1:$S$33,R2+2,IF(T2=2015,S2-5,IF(T2=2016,S2+7))) -> 1507S1 | B2: 1 | C2: 1 | D2: 24/07/2015 | F2: Closed Lost | G2: offre 1 | J2: 02/07/2015 12:40 | K2: 0 | L2: 2000 | M2: Type 1 | N2: 42187.528 | O2: Negotiation/Review | P2: non prospect | Q2: =INDEX(Calendrier!$A$1:$S$33,U2+2,IF(W2=2015,V2-5,IF(W2=2016,V2+7))) -> 1507S1 | R2: =DAY(J2) -> 2 | S2: =MONTH(J2) -> 7 | T2: =YEAR(J2) -> 2015 | U2: =DAY(N2) -> 2 | V2: =MONTH(N2) -> 7 | W2: =YEAR(N2) -> 2015
A3: =INDEX(Calendrier!$A$1:$S$33,R3+2,IF(T3=2015,S3-5,IF(T3=2016,S3+7))) -> 1507S1 | B3: 1 | C3: 2 | D3: 25/09/2015 | F3: Closed Lost | G3: offre 1 var | J3: 02/07/2015 12:55 | K3: 0 | L3: 3000 | M3: Type 1 | N3: 02/07/2015 12:55 | O3: Negotiation/Review | P3: non prospect | Q3: =INDEX(Calendrier!$A$1:$S$33,U3+2,IF(W3=2015,V3-5,IF(W3=2016,V3+7))) -> 1507S1 | R3: =DAY(J3) -> 2 | S3: =MONTH(J3) -> 7 | T3: =YEAR(J3) -> 2015 | U3: =DAY(N3) -> 2 | V3: =MONTH(N3) -> 7 | W3: =YEAR(N3) -> 2015
A4: =INDEX(Calendrier!$A$1:$S$33,R4+2,IF(T4=2015,S4-5,IF(T4=2016,S4+7))) -> 1507S2 | B4: 1 | C4: 3 | D4: 31/07/2015 | F4: Closed Lost | G4: offre 1 | J4: 09/07/2015 17:17 | K4: 0 | L4: 75000 | M4: Type 2 | N4: 09/07/2015 17:17 | O4: Proposal/Price Quote | P4: non prospect | Q4: =INDEX(Calendrier!$A$1:$S$33,U4+2,IF(W4=2015,V4-5,IF(W4=2016,V4+7))) -> 1507S2 | R4: =DAY(J4) -> 9 | S4: =MONTH(J4) -> 7 | T4: =YEAR(J4) -> 2015 | U4: =DAY(N4) -> 9 | V4: =MONTH(N4) -> 7 | W4: =YEAR(N4) -> 2015
A5: =INDEX(Calendrier!$A$1:$S$33,R5+2,IF(T5=2015,S5-5,IF(T5=2016,S5+7))) -> 1507S2 | B5: 1 | C5: 4 | D5: 10/07/2015 | F5: Closed Won | G5: offre 2 | J5: 10/07/2015 16:54 | K5: 5400 | L5: 5400 | M5: Type 3 | N5: 10/07/2015 16:54 | O5: Closed Won | P5: non prospect | Q5: =INDEX(Calendrier!$A$1:$S$33,U5+2,IF(W5=2015,V5-5,IF(W5=2016,V5+7))) -> 1507S2 | R5: =DAY(J5) -> 10 | S5: =MONTH(J5) -> 7 | T5: =YEAR(J5) -> 2015 | U5: =DAY(N5) -> 10 | V5: =MONTH(N5) -> 7 | W5: =YEAR(N5) -> 2015
A6: =INDEX(Calendrier!$A$1:$S$33,R6+2,IF(T6=2015,S6-5,IF(T6=2016,S6+7))) -> 1507S2 | B6: 1 | C6: 5 | D6: 26/09/2016 | F6: Closed Lost | G6: offre 1 | J6: 10/07/2015 13:32 | K6: 0 | L6: 35000 | M6: Type 4 | N6: 10/07/2015 13:32 | O6: Proposal/Price Quote | P6: non prospect | Q6: =INDEX(Calendrier!$A$1:$S$33,U6+2,IF(W6=2015,V6-5,IF(W6=2016,V6+7))) -> 1507S2 | R6: =DAY(J6) -> 10 | S6: =MONTH(J6) -> 7 | T6: =YEAR(J6) -> 2015 | U6: =DAY(N6) -> 10 | V6: =MONTH(N6) -> 7 | W6: =YEAR(N6) -> 2015
A7: =INDEX(Calendrier!$A$1:$S$33,R7+2,IF(T7=2015,S7-5,IF(T7=2016,S7+7))) -> 1507S2 | B7: 1 | C7: 6 | D7: 31/07/2015 | F7: Closed Lost | G7: offre 1 | J7: 09/07/2015 17:17 | K7: 0 | L7: 75000 | M7: Type 2 | N7: 22/07/2015 15:53 | O7: Closed Lost | P7: non prospect | Q7: =INDEX(Calendrier!$A$1:$S$33,U7+2,IF(W7=2015,V7-5,IF(W7=2016,V7+7))) -> 1507S4 | R7: =DAY(J7) -> 9 | S7: =MONTH(J7) -> 7 | T7: =YEAR(J7) -> 2015 | U7: =DAY(N7) -> 22 | V7: =MONTH(N7) -> 7 | W7: =YEAR(N7) -> 2015
A8: =INDEX(Calendrier!$A$1:$S$33,R8+2,IF(T8=2015,S8-5,IF(T8=2016,S8+7))) -> 1507S4 | B8: 1 | C8: 7 | D8: 25/09/2015 | F8: Closed Won | G8: offre 3 | J8: 24/07/2015 12:06 | K8: 5000 | L8: 5000 | M8: Type 5 | N8: 24/07/2015 12:06 | O8: Negotiation/Review | P8: non prospect | Q8: =INDEX(Calendrier!$A$1:$S$33,U8+2,IF(W8=2015,V8-5,IF(W8=2016,V8+7))) -> 1507S4 | R8: =DAY(J8) -> 24 | S8: =MONTH(J8) -> 7 | T8: =YEAR(J8) -> 2015 | U8: =DAY(N8) -> 24 | V8: =MONTH(N8) -> 7 | W8: =YEAR(N8) -> 2015
A9: =INDEX(Calendrier!$A$1:$S$33,R9+2,IF(T9=2015,S9-5,IF(T9=2016,S9+7))) -> 1507S4 | B9: 1 | C9: 8 | D9: 05/11/2015 | F9: Closed Won | G9: offre 1 var | J9: 22/07/2015 15:52 | K9: 2546 | L9: 2546 | M9: Type 1 | N9: 22/07/2015 15:52 | O9: Needs Analysis | P9: non prospect | Q9: =INDEX(Calendrier!$A$1:$S$33,U9+2,IF(W9=2015,V9-5,IF(W9=2016,V9+7))) -> 1507S4 | R9: =DAY(J9) -> 22 | S9: =MONTH(J9) -> 7 | T9: =YEAR(J9) -> 2015 | U9: =DAY(N9) -> 22 | V9: =MONTH(N9) -> 7 | W9: =YEAR(N9) -> 2015
A10: =INDEX(Calendrier!$A$1:$S$33,R10+2,IF(T10=2015,S10-5,IF(T10=2016,S10+7))) -> 1507S4 | B10: 1 | C10: 9 | D10: 30/10/2015 | F10: Closed Lost | G10: offre 1 var | J10: 22/07/2015 17:56 | K10: 0 | L10: 2400 | M10: Type 1 | N10: 22/07/2015 17:56 | O10: Needs Analysis | P10: non prospect | Q10: =INDEX(Calendrier!$A$1:$S$33,U10+2,IF(W10=2015,V10-5,IF(W10=2016,V10+7))) -> 1507S4 | R10: =DAY(J10) -> 22 | S10: =MONTH(J10) -> 7 | T10: =YEAR(J10) -> 2015 | U10: =DAY(N10) -> 22 | V10: =MONTH(N10) -> 7 | W10: =YEAR(N10) -> 2015
A11: =INDEX(Calendrier!$A$1:$S$33,R11+2,IF(T11=2015,S11-5,IF(T11=2016,S11+7))) -> 1507S4 | B11: 1 | C11: 10 | D11: 25/09/2015 | F11: Closed Lost | G11: offre 1 | J11: 24/07/2015 11:12 | K11: 0 | L11: 21500 | M11: Type 6 | N11: 24/07/2015 11:12 | O11: Negotiation/Review | P11: non prospect | Q11: =INDEX(Calendrier!$A$1:$S$33,U11+2,IF(W11=2015,V11-5,IF(W11=2016,V11+7))) -> 1507S4 | R11: =DAY(J11) -> 24 | S11: =MONTH(J11) -> 7 | T11: =YEAR(J11) -> 2015 | U11: =DAY(N11) -> 24 | V11: =MONTH(N11) -> 7 | W11: =YEAR(N11) -> 2015
A12: =INDEX(Calendrier!$A$1:$S$33,R12+2,IF(T12=2015,S12-5,IF(T12=2016,S12+7))) -> 1507S1 | B12: 1 | C12: 11 | D12: 24/07/2015 | F12: Closed Lost | G12: offre 1 | J12: 02/07/2015 12:40 | K12: 0 | L12: 2000 | M12: Type 1 | N12: 29/07/2015 12:24 | O12: Closed Won | P12: non prospect | Q12: =INDEX(Calendrier!$A$1:$S$33,U12+2,IF(W12=2015,V12-5,IF(W12=2016,V12+7))) -> 1507S5 | R12: =DAY(J12) -> 2 | S12: =MONTH(J12) -> 7 | T12: =YEAR(J12) -> 2015 | U12: =DAY(N12) -> 29 | V12: =MONTH(N12) -> 7 | W12: =YEAR(N12) -> 2015
A13: =INDEX(Calendrier!$A$1:$S$33,R13+2,IF(T13=2015,S13-5,IF(T13=2016,S13+7))) -> 1507S4 | B13: 1 | C13: 12 | D13: 30/10/2015 | F13: Closed Lost | G13: offre 1 var | J13: 22/07/2015 17:56 | K13: 0 | L13: 2400 | M13: Type 1 | N13: 29/07/2015 12:04 | O13: Proposal/Price Quote | P13: non prospect | Q13: =INDEX(Calendrier!$A$1:$S$33,U13+2,IF(W13=2015,V13-5,IF(W13=2016,V13+7))) -> 1507S5 | R13: =DAY(J13) -> 22 | S13: =MONTH(J13) -> 7 | T13: =YEAR(J13) -> 2015 | U13: =DAY(N13) -> 29 | V13: =MONTH(N13) -> 7 | W13: =YEAR(N13) -> 2015
A14: =INDEX(Calendrier!$A$1:$S$33,R14+2,IF(T14=2015,S14-5,IF(T14=2016,S14+7))) -> 1507S5 | B14: 1 | C14: 13 | D14: 30/06/2016 | F14: Closed Lost | G14: offre 1 | J14: 29/07/2015 13:53 | K14: 0 | L14: 25000 | M14: Type 2 | N14: 29/07/2015 13:53 | O14: Negotiation/Review | P14: non prospect | Q14: =INDEX(Calendrier!$A$1:$S$33,U14+2,IF(W14=2015,V14-5,IF(W14=2016,V14+7))) -> 1507S5 | R14: =DAY(J14) -> 29 | S14: =MONTH(J14) -> 7 | T14: =YEAR(J14) -> 2015 | U14: =DAY(N14) -> 29 | V14: =MONTH(N14) -> 7 | W14: =YEAR(N14) -> 2015
... A35: =INDEX(Calendrier!$A$1:$S$33,R35+2,IF(T35=2015,S35-5,IF(T35=2016,S35+7))) -> 1509S2 | B35: 1 | C35: 34 | D35: 16/10/2015 | F35: Closed Won | G35: offre 1 | J35: 10/09/2015 19:21 | K35: 42500 | L35: 42500 | M35: Type 5 | N35: 10/09/2015 19:21 | O35: Proposal/Price Quote | P35: non prospect | Q35: =INDEX(Calendrier!$A$1:$S$33,U35+2,IF(W35=2015,V35-5,IF(W35=2016,V35+7))) -> 1509S2 | R35: =DAY(J35) -> 10 | S35: =MONTH(J35) -> 9 | T35: =YEAR(J35) -> 2015 | U35: =DAY(N35) -> 10 | V35: =MONTH(N35) -> 9 | W35: =YEAR(N35) -> 2015
A36: =INDEX(Calendrier!$A$1:$S$33,R36+2,IF(T36=2015,S36-5,IF(T36=2016,S36+7))) -> 1509S2 | B36: 1 | C36: 35 | D36: 09/10/2015 | F36: Closed Won | G36: offre 1 var | J36: 08/09/2015 22:11 | K36: 0 | M36: Type 1 | N36: 08/09/2015 22:11 | O36: Value Proposition | P36: non prospect | Q36: =INDEX(Calendrier!$A$1:$S$33,U36+2,IF(W36=2015,V36-5,IF(W36=2016,V36+7))) -> 1509S2 | R36: =DAY(J36) -> 8 | S36: =MONTH(J36) -> 9 | T36: =YEAR(J36) -> 2015 | U36: =DAY(N36) -> 8 | V36: =MONTH(N36) -> 9 | W36: =YEAR(N36) -> 2015
A37: =INDEX(Calendrier!$A$1:$S$33,R37+2,IF(T37=2015,S37-5,IF(T37=2016,S37+7))) -> 1509S2 | B37: 1 | C37: 36 | D37: 31/05/2016 | F37: Closed Lost | G37: offre 1 | J37: 08/09/2015 10:58 | K37: 0 | L37: 40000 | M37: Type 4 | N37: 08/09/2015 10:58 | O37: Negotiation/Review | P37: non prospect | Q37: =INDEX(Calendrier!$A$1:$S$33,U37+2,IF(W37=2015,V37-5,IF(W37=2016,V37+7))) -> 1509S2 | R37: =DAY(J37) -> 8 | S37: =MONTH(J37) -> 9 | T37: =YEAR(J37) -> 2015 | U37: =DAY(N37) -> 8 | V37: =MONTH(N37) -> 9 | W37: =YEAR(N37) -> 2015
A38: =INDEX(Calendrier!$A$1:$S$33,R38+2,IF(T38=2015,S38-5,IF(T38=2016,S38+7))) -> 1509S2 | B38: 1 | C38: 37 | D38: 18/09/2015 | F38: Closed Won | G38: offre 4 | J38: 11/09/2015 19:22 | M38: Type 9 | N38: 11/09/2015 19:22 | O38: Negotiation/Review | P38: non prospect | Q38: =INDEX(Calendrier!$A$1:$S$33,U38+2,IF(W38=2015,V38-5,IF(W38=2016,V38+7))) -> 1509S2 | R38: =DAY(J38) -> 11 | S38: =MONTH(J38) -> 9 | T38: =YEAR(J38) -> 2015 | U38: =DAY(N38) -> 11 | V38: =MONTH(N38) -> 9 | W38: =YEAR(N38) -> 2015
A39: =INDEX(Calendrier!$A$1:$S$33,R39+2,IF(T39=2015,S39-5,IF(T39=2016,S39+7))) -> 1509S2 | B39: 1 | C39: 38 | D39: 27/11/2015 | F39: Closed Lost | G39: offre 4 | J39: 07/09/2015 15:49 | M39: Type 3 | N39: 07/09/2015 15:49 | O39: Qualification | P39: non prospect | Q39: =INDEX(Calendrier!$A$1:$S$33,U39+2,IF(W39=2015,V39-5,IF(W39=2016,V39+7))) -> 1509S2 | R39: =DAY(J39) -> 7 | S39: =MONTH(J39) -> 9 | T39: =YEAR(J39) -> 2015 | U39: =DAY(N39) -> 7 | V39: =MONTH(N39) -> 9 | W39: =YEAR(N39) -> 2015
A40: =INDEX(Calendrier!$A$1:$S$33,R40+2,IF(T40=2015,S40-5,IF(T40=2016,S40+7))) -> 1509S2 | B40: 1 | C40: 39 | D40: 09/10/2015 | F40: Closed Won | G40: offre 1 var | J40: 08/09/2015 22:11 | K40: 0 | M40: Type 1 | N40: 14/09/2015 17:23 | O40: Proposal/Price Quote | P40: non prospect | Q40: =INDEX(Calendrier!$A$1:$S$33,U40+2,IF(W40=2015,V40-5,IF(W40=2016,V40+7))) -> 1509S3 | R40: =DAY(J40) -> 8 | S40: =MONTH(J40) -> 9 | T40: =YEAR(J40) -> 2015 | U40: =DAY(N40) -> 14 | V40: =MONTH(N40) -> 9 | W40: =YEAR(N40) -> 2015
A41: =INDEX(Calendrier!$A$1:$S$33,R41+2,IF(T41=2015,S41-5,IF(T41=2016,S41+7))) -> 1509S2 | B41: 1 | C41: 40 | D41: 18/09/2015 | F41: Closed Won | G41: offre 4 | J41: 11/09/2015 19:22 | M41: Type 9 | N41: 14/09/2015 11:08 | O41: Closed Won | P41: non prospect | Q41: =INDEX(Calendrier!$A$1:$S$33,U41+2,IF(W41=2015,V41-5,IF(W41=2016,V41+7))) -> 1509S3 | R41: =DAY(J41) -> 11 | S41: =MONTH(J41) -> 9 | T41: =YEAR(J41) -> 2015 | U41: =DAY(N41) -> 14 | V41: =MONTH(N41) -> 9 | W41: =YEAR(N41) -> 2015
A42: =INDEX(Calendrier!$A$1:$S$33,R42+2,IF(T42=2015,S42-5,IF(T42=2016,S42+7))) -> 1509S3 | B42: 1 | C42: 41 | D42: 14/07/2016 | F42: Closed Lost | G42: offre 1 | J42: 14/09/2015 17:26 | K42: 0 | L42: 15000 | M42: Type 3 | N42: 14/09/2015 17:26 | O42: Negotiation/Review | P42: non prospect | Q42: =INDEX(Calendrier!$A$1:$S$33,U42+2,IF(W42=2015,V42-5,IF(W42=2016,V42+7))) -> 1509S3 | R42: =DAY(J42) -> 14 | S42: =MONTH(J42) -> 9 | T42: =YEAR(J42) -> 2015 | U42: =DAY(N42) -> 14 | V42: =MONTH(N42) -> 9 | W42: =YEAR(N42) -> 2015
A43: =INDEX(Calendrier!$A$1:$S$33,R43+2,IF(T43=2015,S43-5,IF(T43=2016,S43+7))) -> 1509S3 | B43: 1 | C43: 42 | D43: 02/10/2015 | F43: Closed Won | G43: offre 1 var | J43: 14/09/2015 17:22 | K43: 13000 | L43: 13000 | M43: Type 1 | N43: 14/09/2015 17:22 | O43: Negotiation/Review | P43: non prospect | Q43: =INDEX(Calendrier!$A$1:$S$33,U43+2,IF(W43=2015,V43-5,IF(W43=2016,V43+7))) -> 1509S3 | R43: =DAY(J43) -> 14 | S43: =MONTH(J43) -> 9 | T43: =YEAR(J43) -> 2015 | U43: =DAY(N43) -> 14 | V43: =MONTH(N43) -> 9 | W43: =YEAR(N43) -> 2015
A44: =INDEX(Calendrier!$A$1:$S$33,R44+2,IF(T44=2015,S44-5,IF(T44=2016,S44+7))) -> 1507S4 | B44: 1 | C44: 43 | D44: 25/09/2015 | F44: Closed Won | G44: offre 3 | J44: 24/07/2015 12:06 | K44: 5000 | L44: 5000 | M44: Type 5 | N44: 21/09/2015 11:39 | O44: Closed Won | P44: non prospect | Q44: =INDEX(Calendrier!$A$1:$S$33,U44+2,IF(W44=2015,V44-5,IF(W44=2016,V44+7))) -> 1509S4 | R44: =DAY(J44) -> 24 | S44: =MONTH(J44) -> 7 | T44: =YEAR(J44) -> 2015 | U44: =DAY(N44) -> 21 | V44: =MONTH(N44) -> 9 | W44: =YEAR(N44) -> 2015
A45: =INDEX(Calendrier!$A$1:$S$33,R45+2,IF(T45=2015,S45-5,IF(T45=2016,S45+7))) -> 1507S4 | B45: 1 | C45: 44 | D45: 25/09/2015 | F45: Closed Lost | G45: offre 1 | J45: 24/07/2015 11:12 | K45: 0 | L45: 21500 | M45: Type 6 | N45: 21/09/2015 15:11 | O45: Closed Lost | P45: non prospect | Q45: =INDEX(Calendrier!$A$1:$S$33,U45+2,IF(W45=2015,V45-5,IF(W45=2016,V45+7))) -> 1509S4 | R45: =DAY(J45) -> 24 | S45: =MONTH(J45) -> 7 | T45: =YEAR(J45) -> 2015 | U45: =DAY(N45) -> 21 | V45: =MONTH(N45) -> 9 | W45: =YEAR(N45) -> 2015
A46: =INDEX(Calendrier!$A$1:$S$33,R46+2,IF(T46=2015,S46-5,IF(T46=2016,S46+7))) -> 1507S5 | B46: 1 | C46: 45 | D46: 18/09/2015 | F46: Closed Lost | G46: offre 3 | J46: 29/07/2015 11:55 | K46: 0 | L46: 18000 | M46: Type 8 | N46: 21/09/2015 15:06 | O46: Closed Lost | P46: non prospect | Q46: =INDEX(Calendrier!$A$1:$S$33,U46+2,IF(W46=2015,V46-5,IF(W46=2016,V46+7))) -> 1509S4 | R46: =DAY(J46) -> 29 | S46: =MONTH(J46) -> 7 | T46: =YEAR(J46) -> 2015 | U46: =DAY(N46) -> 21 | V46: =MONTH(N46) -> 9 | W46: =YEAR(N46) -> 2015
A47: =INDEX(Calendrier!$A$1:$S$33,R47+2,IF(T47=2015,S47-5,IF(T47=2016,S47+7))) -> 1507S1 | B47: 1 | C47: 46 | D47: 24/07/2015 | F47: Closed Lost | G47: offre 1 | J47: 02/07/2015 12:40 | K47: 0 | L47: 2000 | M47: Type 1 | N47: 29/09/2015 12:10 | O47: Closed Lost | P47: non prospect | Q47: =INDEX(Calendrier!$A$1:$S$33,U47+2,IF(W47=2015,V47-5,IF(W47=2016,V47+7))) -> 1510S1 | R47: =DAY(J47) -> 2 | S47: =MONTH(J47) -> 7 | T47: =YEAR(J47) -> 2015 | U47: =DAY(N47) -> 29 | V47: =MONTH(N47) -> 9 | W47: =YEAR(N47) -> 2015
A48: =INDEX(Calendrier!$A$1:$S$33,R48+2,IF(T48=2015,S48-5,IF(T48=2016,S48+7))) -> 1507S1 | B48: 1 | C48: 47 | D48: 25/09/2015 | F48: Closed Lost | G48: offre 1 var | J48: 02/07/2015 12:55 | K48: 0 | L48: 3000 | M48: Type 1 | N48: 29/09/2015 12:10 | O48: Closed Lost | P48: non prospect | Q48: =INDEX(Calendrier!$A$1:$S$33,U48+2,IF(W48=2015,V48-5,IF(W48=2016,V48+7))) -> 1510S1 | R48: =DAY(J48) -> 2 | S48: =MONTH(J48) -> 7 | T48: =YEAR(J48) -> 2015 | U48: =DAY(N48) -> 29 | V48: =MONTH(N48) -> 9 | W48: =YEAR(N48) -> 2015
A49: =INDEX(Calendrier!$A$1:$S$33,R49+2,IF(T49=2015,S49-5,IF(T49=2016,S49+7))) -> 1510S1 | B49: 1 | C49: 48 | D49: 02/10/2015 | F49: Closed Won | G49: offre 1 var | J49: 29/09/2015 12:11 | K49: 2500 | L49: 2500 | M49: Type 1 | N49: 29/09/2015 12:11 | O49: Negotiation/Review | P49: non prospect | Q49: =INDEX(Calendrier!$A$1:$S$33,U49+2,IF(W49=2015,V49-5,IF(W49=2016,V49+7))) -> 1510S1 | R49: =DAY(J49) -> 29 | S49: =MONTH(J49) -> 9 | T49: =YEAR(J49) -> 2015 | U49: =DAY(N49) -> 29 | V49: =MONTH(N49) -> 9 | W49: =YEAR(N49) -> 2015
A50: =INDEX(Calendrier!$A$1:$S$33,R50+2,IF(T50=2015,S50-5,IF(T50=2016,S50+7))) -> 1510S1 | B50: 1 | C50: 49 | D50: 02/10/2015 | F50: Closed Won | G50: offre 1 var | J50: 29/09/2015 12:11 | K50: 2500 | L50: 2500 | M50: Type 1 | N50: 02/10/2015 15:14 | O50: Closed Won | P50: non prospect | Q50: =INDEX(Calendrier!$A$1:$S$33,U50+2,IF(W50=2015,V50-5,IF(W50=2016,V50+7))) -> 1510S1 | R50: =DAY(J50) -> 29 | S50: =MONTH(J50) -> 9 | T50: =YEAR(J50) -> 2015 | U50: =DAY(N50) -> 2 | V50: =MONTH(N50) -> 10 | W50: =YEAR(N50) -> 2015
A51: =INDEX(Calendrier!$A$1:$S$33,R51+2,IF(T51=2015,S51-5,IF(T51=2016,S51+7))) -> 1510S1 | B51: 1 | C51: 50 | D51: 30/10/2015 | F51: Closed Won | G51: offre 1 | J51: 29/09/2015 11:59 | K51: 15000 | L51: 15000 | M51: Type 5 | N51: 29/09/2015 11:59 | O51: Negotiation/Review | P51: non prospect | Q51: =INDEX(Calendrier!$A$1:$S$33,U51+2,IF(W51=2015,V51-5,IF(W51=2016,V51+7))) -> 1510S1 | R51: =DAY(J51) -> 29 | S51: =MONTH(J51) -> 9 | T51: =YEAR(J51) -> 2015 | U51: =DAY(N51) -> 29 | V51: =MONTH(N51) -> 9 | W51: =YEAR(N51) -> 2015
A52: =INDEX(Calendrier!$A$1:$S$33,R52+2,IF(T52=2015,S52-5,IF(T52=2016,S52+7))) -> 1509S1 | B52: 1 | C52: 51 | D52: 09/10/2015 | F52: Closed Won | G52: offre 1 var | J52: 04/09/2015 18:48 | K52: 1900 | L52: 1900 | M52: Type 7 | N52: 05/10/2015 13:23 | O52: Closed Won | P52: non prospect | Q52: =INDEX(Calendrier!$A$1:$S$33,U52+2,IF(W52=2015,V52-5,IF(W52=2016,V52+7))) -> 1510S2 | R52: =DAY(J52) -> 4 | S52: =MONTH(J52) -> 9 | T52: =YEAR(J52) -> 2015 | U52: =DAY(N52) -> 5 | V52: =MONTH(N52) -> 10 | W52: =YEAR(N52) -> 2015
A53: =INDEX(Calendrier!$A$1:$S$33,R53+2,IF(T53=2015,S53-5,IF(T53=2016,S53+7))) -> 1509S2 | B53: 1 | C53: 52 | D53: 09/10/2015 | F53: Closed Won | G53: offre 1 var | J53: 08/09/2015 22:11 | K53: 0 | M53: Type 1 | N53: 05/10/2015 13:24 | O53: Closed Won | P53: non prospect | Q53: =INDEX(Calendrier!$A$1:$S$33,U53+2,IF(W53=2015,V53-5,IF(W53=2016,V53+7))) -> 1510S2 | R53: =DAY(J53) -> 8 | S53: =MONTH(J53) -> 9 | T53: =YEAR(J53) -> 2015 | U53: =DAY(N53) -> 5 | V53: =MONTH(N53) -> 10 | W53: =YEAR(N53) -> 2015
A54: =INDEX(Calendrier!$A$1:$S$33,R54+2,IF(T54=2015,S54-5,IF(T54=2016,S54+7))) -> 1509S3 | B54: 1 | C54: 53 | D54: 14/07/2016 | F54: Closed Lost | G54: offre 1 | J54: 14/09/2015 17:26 | K54: 0 | L54: 15000 | M54: Type 3 | N54: 08/10/2015 09:54 | O54: Value Proposition | P54: non prospect | Q54: =INDEX(Calendrier!$A$1:$S$33,U54+2,IF(W54=2015,V54-5,IF(W54=2016,V54+7))) -> 1510S2 | R54: =DAY(J54) -> 14 | S54: =MONTH(J54) -> 9 | T54: =YEAR(J54) -> 2015 | U54: =DAY(N54) -> 8 | V54: =MONTH(N54) -> 10 | W54: =YEAR(N54) -> 2015
A55: =INDEX(Calendrier!$A$1:$S$33,R55+2,IF(T55=2015,S55-5,IF(T55=2016,S55+7))) -> 1509S3 | B55: 1 | C55: 54 | D55: 02/10/2015 | F55: Closed Won | G55: offre 1 var | J55: 14/09/2015 17:22 | K55: 13000 | L55: 13000 | M55: Type 1 | N55: 05/10/2015 13:04 | O55: Closed Won | P55: non prospect | Q55: =INDEX(Calendrier!$A$1:$S$33,U55+2,IF(W55=2015,V55-5,IF(W55=2016,V55+7))) -> 1510S2 | R55: =DAY(J55) -> 14 | S55: =MONTH(J55) -> 9 | T55: =YEAR(J55) -> 2015 | U55: =DAY(N55) -> 5 | V55: =MONTH(N55) -> 10 | W55: =YEAR(N55) -> 2015
A56: =INDEX(Calendrier!$A$1:$S$33,R56+2,IF(T56=2015,S56-5,IF(T56=2016,S56+7))) -> 1510S2 | B56: 1 | C56: 55 | D56: 05/04/2016 | F56: Closed Lost | G56: offre 1 | J56: 07/10/2015 18:40 | K56: 0 | L56: 25000 | M56: Type 4 | N56: 07/10/2015 18:40 | O56: Proposal/Price Quote | P56: non prospect | Q56: =INDEX(Calendrier!$A$1:$S$33,U56+2,IF(W56=2015,V56-5,IF(W56=2016,V56+7))) -> 1510S2 | R56: =DAY(J56) -> 7 | S56: =MONTH(J56) -> 10 | T56: =YEAR(J56) -> 2015 | U56: =DAY(N56) -> 7 | V56: =MONTH(N56) -> 10 | W56: =YEAR(N56) -> 2015
A57: =INDEX(Calendrier!$A$1:$S$33,R57+2,IF(T57=2015,S57-5,IF(T57=2016,S57+7))) -> 1509S2 | B57: 1 | C57: 56 | D57: 16/10/2015 | F57: Closed Won | G57: offre 1 | J57: 10/09/2015 19:21 | K57: 42500 | L57: 42500 | M57: Type 5 | N57: 14/10/2015 16:44 | O57: Closed Won | P57: non prospect | Q57: =INDEX(Calendrier!$A$1:$S$33,U57+2,IF(W57=2015,V57-5,IF(W57=2016,V57+7))) -> 1510S3 | R57: =DAY(J57) -> 10 | S57: =MONTH(J57) -> 9 | T57: =YEAR(J57) -> 2015 | U57: =DAY(N57) -> 14 | V57: =MONTH(N57) -> 10 | W57: =YEAR(N57) -> 2015
A58: =INDEX(Calendrier!$A$1:$S$33,R58+2,IF(T58=2015,S58-5,IF(T58=2016,S58+7))) -> 1510S1 | B58: 1 | C58: 57 | D58: 30/10/2015 | F58: Closed Won | G58: offre 1 | J58: 29/09/2015 11:59 | K58: 15000 | L58: 15000 | M58: Type 5 | N58: 15/10/2015 13:04 | O58: Closed Won | P58: non prospect | Q58: =INDEX(Calendrier!$A$1:$S$33,U58+2,IF(W58=2015,V58-5,IF(W58=2016,V58+7))) -> 1510S3 | R58: =DAY(J58) -> 29 | S58: =MONTH(J58) -> 9 | T58: =YEAR(J58) -> 2015 | U58: =DAY(N58) -> 15 | V58: =MONTH(N58) -> 10 | W58: =YEAR(N58) -> 2015
A59: =INDEX(Calendrier!$A$1:$S$33,R59+2,IF(T59=2015,S59-5,IF(T59=2016,S59+7))) -> 1510S3 | B59: 1 | C59: 58 | D59: 13/11/2015 | F59: Closed Won | G59: offre 1 | J59: 14/10/2015 19:00 | K59: 20000 | L59: 20000 | M59: Type 5 | N59: 14/10/2015 19:00 | O59: Negotiation/Review | P59: non prospect | Q59: =INDEX(Calendrier!$A$1:$S$33,U59+2,IF(W59=2015,V59-5,IF(W59=2016,V59+7))) -> 1510S3 | R59: =DAY(J59) -> 14 | S59: =MONTH(J59) -> 10 | T59: =YEAR(J59) -> 2015 | U59: =DAY(N59) -> 14 | V59: =MONTH(N59) -> 10 | W59: =YEAR(N59) -> 2015
A60: =INDEX(Calendrier!$A$1:$S$33,R60+2,IF(T60=2015,S60-5,IF(T60=2016,S60+7))) -> 1510S4 | B60: 1 | C60: 59 | D60: 28/12/2015 | F60: Closed Lost | G60: offre 1 | J60: 23/10/2015 11:20 | K60: 0 | L60: 3400 | M60: Type 3 | N60: 23/10/2015 11:20 | O60: Value Proposition | P60: non prospect | Q60: =INDEX(Calendrier!$A$1:$S$33,U60+2,IF(W60=2015,V60-5,IF(W60=2016,V60+7))) -> 1510S4 | R60: =DAY(J60) -> 23 | S60: =MONTH(J60) -> 10 | T60: =YEAR(J60) -> 2015 | U60: =DAY(N60) -> 23 | V60: =MONTH(N60) -> 10 | W60: =YEAR(N60) -> 2015
...

Sheet TCD Opportunité
A3: Somme de nombre opp | B3: Étiquettes de colonnes
B4: 1507S1 | C4: Total 1507S1 | D4: 1507S2 | F4: Total 1507S2 | G4: 1507S4 | J4: Total 1507S4 | K4: 1507S5 | N4: Total 1507S5 | O4: 1508S1 | Q4: Total 1508S1 | R4: 1508S2 | T4: Total 1508S2 | U4: 1508S3 | V4: Total 1508S3 | W4: 1508S4 | Y4: Total 1508S4 | Z4: 1509S1 | AD4: Total 1509S1 | AE4: 1509S2 | AJ4: Total 1509S2 | AK4: 1509S3 | AN4: Total 1509S3 | AO4: 1509S4 | AQ4: Total 1509S4 | AR4: 1510S1 | AU4: Total 1510S1 | AV4: 1510S2 | AY4: Total 1510S2 | AZ4: 1510S3 | BB4: Total 1510S3 | BC4: 1510S4 | BH4: Total 1510S4 | BI4: 1510S5 | BK4: Total 1510S5 | BL4: 1511S1 | BN4: Total 1511S1 | BO4: 1511S2 | BQ4: Total 1511S2 | BR4: 1511S3 | BX4: Total 1511S3 | BY4: 1511S4 | CC4: Total 1511S4 | CD4: 1512S1 | CI4: Total 1512S1 | CJ4: 1512S2 | CN4: Total 1512S2 | CO4: 1512S3 | CP4: Total 1512S3 | CQ4: 1512S4 | CW4: Total 1512S4 | CX4: 1601S1 | DC4: Total 1601S1 | DD4: 1601S2 | DH4: Total 1601S2 | DI4: 1601S3 | DM4: Total 1601S3 | DN4: 1601S4 | DR4: Total 1601S4 | DS4: 1602S1 | EB4: Total 1602S1 | EC4: 1602S2 | EH4: Total 1602S2 | EI4: 1602S3 | EP4: Total 1602S3 | EQ4: 1602S4 | EV4: Total 1602S4 | EW4: 1603S1 | FC4: Total 1603S1 | FD4: 1603S2 | FJ4: Total 1603S2 | FK4: 1603S3 | FP4: Total 1603S3 | FQ4: 1603S4 | FY4: Total 1603S4 | FZ4: 1603S5 | GC4: Total 1603S5 | GD4: 1604S1 | GJ4: Total 1604S1 | GK4: 1604S2 | GQ4: Total 1604S2 | GR4: 1604S3 | GX4: Total 1604S3 | GY4: 1604S4 | HE4: Total 1604S4 | HF4: 1605S1 | HL4: Total 1605S1 | HM4: 1605S2 | HR4: Total 1605S2 | HS4: 1605S3 | HY4: Total 1605S3 | HZ4: 1605S4 | IE4: Total 1605S4 | IF4: 1606S1 | IL4: Total 1606S1 | IM4: 1606S2 | IR4: Total 1606S2 | IS4: 1606S3 | IX4: Total 1606S3 | IY4: 1606S4 | IZ4: Total 1606S4 | JA4: 1606S5 | JE4: Total 1606S5 | JF4: 1607S1 | JM4: Total 1607S1 | JN4: 1607S2 | JV4: Total 1607S2 | JW4: 1607S3 | KC4: Total 1607S3 | KD4: 1607S4 | KF4: Total 1607S4 | KG4: 1608S1 | KL4: Total 1608S1 | KM4: 1608S2 | KS4: Total 1608S2 | KT4: 1608S3 | KU4: Total 1608S3 | KV4: 1608S4 | KZ4: Total 1608S4 | LA4: 1608S5 | LG4: Total 1608S5 | LH4: 1609S1 | LN4: Total 1609S1 | LO4: 1609S2 | LU4: Total 1609S2 | LV4: 1609S3 | MC4: Total 1609S3 | MD4: 1609S4 | MG4: Total 1609S4 | MH4: (vide) | MI4: Total (vide) | MJ4: Total général
A5: Étiquettes de lignes | B5: Negotiation/Review | D5: Closed Won | E5: Proposal/Price Quote | G5: Closed Lost | H5: Needs Analysis | I5: Negotiation/Review | K5: Closed Won | L5: Negotiation/Review | M5: Proposal/Price Quote | O5: Closed Lost | P5: Closed Won | R5: Closed Won | S5: Negotiation/Review | U5: Proposal/Price Quote | W5: Closed Won | X5: Negotiation/Review | Z5: Closed Won | AA5: Needs Analysis | AB5: Negotiation/Review | AC5: Proposal/Price Quote | AE5: Closed Won | AF5: Negotiation/Review | AG5: Proposal/Price Quote | AH5: Qualification | AI5: Value Proposition | AK5: Closed Won | AL5: Negotiation/Review | AM5: Proposal/Price Quote | AO5: Closed Lost | AP5: Closed Won | AR5: Closed Lost | AS5: Closed Won | AT5: Negotiation/Review | AV5: Closed Won | AW5: Proposal/Price Quote | AX5: Value Proposition | AZ5: Closed Won | BA5: Negotiation/Review | BC5: Closed Won | BD5: Negotiation/Review | BE5: Proposal/Price Quote | BF5: Qualification | BG5: Value Proposition | BI5: Negotiation/Review | BJ5: Proposal/Price Quote | BL5: Closed Won | BM5: Proposal/Price Quote | BO5: Closed Lost | BP5: Qualification | BR5: Closed Lost | BS5: Closed Won | BT5: Needs Analysis | BU5: Negotiation/Review | BV5: Proposal/Price Quote | BW5: Qualification | BY5: Closed Lost | BZ5: Closed Won | CA5: Negotiation/Review | CB5: Proposal/Price Quote | CD5: Closed Lost | CE5: Closed Won | CF5: Proposal/Price Quote | CG5: Qualification | CH5: Value Proposition | CJ5: Closed Lost | CK5: Needs Analysis | CL5: Negotiation/Review | CM5: Qualification | CO5: Value Proposition | CQ5: Closed Lost | CR5: Closed Won | CS5: Needs Analysis | CT5: Negotiation/Review | CU5: Proposal/Price Quote | CV5: Value Proposition | CX5: Closed Won | CY5: Needs Analysis | CZ5: Negotiation/Review | DA5: Proposal/Price Quote | DB5: Value Proposition | DD5: Closed Lost | DE5: Closed Won | DF5: Negotiation/Review | DG5: Value Proposition | DI5: Closed Won | DJ5: Negotiation/Review | DK5: Proposal/Price Quote | DL5: Qualification | DN5: Closed Won | DO5: Meeting done | DP5: Qualification | DQ5: Value Proposition | DS5: Closed Lost | DT5: Closed Won | DU5: Contacted | DV5: Meeting done | DW5: Needs Analysis | DX5: Negotiation/Review | DY5: Proposal/Price Quote | DZ5: Qualification | EA5: Value Proposition | EC5: Closed Lost | ED5: Contacted | EE5: Needs Analysis | EF5: Proposal/Price Quote | EG5: Value Proposition | EI5: Closed Lost to Competition | EJ5: Closed Won | EK5: Contacted | EL5: Negotiation/Review | EM5: Proposal/Price Quote | EN5: Qualification | EO5: Value Proposition | EQ5: Closed Lost | ER5: Contacted | ES5: Needs Analysis | ET5: Proposal/Price Quote | EU5: Value Proposition | EW5: Closed Lost | EX5: Closed Won | EY5: Meeting done | EZ5: Negotiation/Review | FA5: Proposal/Price Quote | FB5: Value Proposition | FD5: Contacted | FE5: Meeting done | FF5: Negotiation/Review | FG5: Proposal/Price Quote | FH5: Qualification | FI5: Value Proposition | FK5: Closed Lost | FL5: Closed Lost to Competition | FM5: Meeting done | FN5: Negotiation/Review | FO5: Value Proposition | FQ5: Closed Lost | FR5: Closed Won | FS5: Meeting done | FT5: Needs Analysis | FU5: Negotiation/Review | FV5: None | FW5: Proposal/Price Quote | FX5: Value Proposition | FZ5: Closed Won | GA5: Negotiation/Review | GB5: Proposal/Price Quote | GD5: Closed Lost | GE5: Id. Decision Makers | GF5: Meeting done | GG5: Negotiation/Review | GH5: Proposal/Price Quote | GI5: Value Proposition | GK5: Closed Lost | GL5: Closed Won | GM5: Id. Decision Makers | GN5: Needs Analysis | GO5: Proposal/Price Quote | GP5: Value Proposition | GR5: Closed Lost | GS5: Closed Won | GT5: Needs Analysis | GU5: Negotiation/Review | GV5: Qualification | GW5: Value Proposition | GY5: Closed Lost | GZ5: Closed Won | HA5: Meeting done | HB5: Negotiation/Review | HC5: Proposal/Price Quote | HD5: Value Proposition | HF5: Closed Lost | HG5: Closed Lost to Competition | HH5: Closed Won | HI5: Contacted | HJ5: Proposal/Price Quote | HK5: Value Proposition | HM5: Closed Lost | HN5: Closed Lost to Competition | HO5: Closed Won | HP5: Proposal/Price Quote | HQ5: Value Proposition | HS5: Closed Lost | HT5: Closed Won | HU5: Contacted | HV5: Negotiation/Review | HW5: None | HX5: Proposal/Price Quote | HZ5: Closed Lost | IA5: Closed Won | IB5: Negotiation/Review | IC5: Proposal/Price Quote | ID5: Value Proposition | IF5: Closed Lost | IG5: Closed Won | IH5: Contacted | II5: Negotiation/Review | IJ5: Proposal/Price Quote | IK5: Value Proposition | IM5: Closed Lost | IN5: Closed Won | IO5: Needs Analysis | IP5: Negotiation/Review | IQ5: Proposal/Price Quote | IS5: Closed Lost | IT5: Closed Won | IU5: Contacted | IV5: Negotiation/Review | IW5: Value Proposition | IY5: Proposal/Price Quote | JA5: Closed Lost | JB5: Meeting done | JC5: Negotiation/Review | JD5: Value Proposition | JF5: Closed Lost | JG5: Closed Won | JH5: IO pre-approved | JI5: Meeting done | JJ5: Negotiation/Review | JK5: Proposal/Price Quote | JL5: Value Proposition | JN5: Closed Lost | JO5: Closed Lost to Competition | JP5: Contacted | JQ5: IO pre-approved | JR5: Meeting done | JS5: Negotiation/Review | JT5: Proposal/Price Quote | JU5: Value Proposition | JW5: Closed Lost | JX5: Closed Won | JY5: Contacted | JZ5: Meeting done | KA5: Negotiation/Review | KB5: Proposal/Price Quote | KD5: Closed Lost | KE5: Contacted | KG5: Closed Lost | KH5: Closed Won | KI5: Negotiation/Review | KJ5: Proposal/Price Quote | KK5: Value Proposition | KM5: Closed Won | KN5: IO pre-approved | KO5: Meeting done | KP5: Negotiation/Review | KQ5: Proposal/Price Quote | KR5: Value Proposition | KT5: Negotiation/Review | KV5: Closed Lost | KW5: Closed Lost to Competition | KX5: Negotiation/Review | KY5: Proposal/Price Quote | LA5: Closed Lost | LB5: Closed Lost to Competition | LC5: Closed Won | LD5: Negotiation/Review | LE5: Proposal/Price Quote | LF5: Value Proposition | LH5: Closed Lost | LI5: Contacted | LJ5: Meeting done | LK5: Negotiation/Review | LL5: Proposal/Price Quote | LM5: Value Proposition | LO5: Closed Lost | LP5: Closed Won | LQ5: Contacted | LR5: Meeting done | LS5: Proposal/Price Quote | LT5: Value Proposition | LV5: Closed Lost | LW5: Contacted | LX5: IO pre-approved | LY5: Meeting done | LZ5: Negotiation/Review | MA5: Proposal/Price Quote | MB5: Value Proposition | MD5: Closed Lost | ME5: Negotiation/Review | MF5: Value Proposition | MH5: (vide)
A6: non prospect | B6: 2 | C6: 2 | D6: 1 | E6: 2 | F6: 3 | G6: 1 | H6: 2 | I6: 2 | J6: 5 | K6: 1 | L6: 5 | M6: 1 | N6: 7 | O6: 1 | P6: 1 | Q6: 2 | R6: 1 | S6: 2 | T6: 3 | U6: 1 | V6: 1 | W6: 1 | X6: 1 | Y6: 2 | Z6: 3 | AA6: 1 | AB6: 1 | AC6: 2 | AD6: 7 | AE6: 1 | AF6: 2 | AG6: 1 | AH6: 1 | AI6: 1 | AJ6: 6 | AK6: 1 | AL6: 2 | AM6: 1 | AN6: 4 | AO6: 2 | AP6: 1 | AQ6: 3 | AR6: 2 | AS6: 1 | AT6: 2 | AU6: 5 | AV6: 3 | AW6: 1 | AX6: 1 | AY6: 5 | AZ6: 2 | BA6: 1 | BB6: 3 | BC6: 1 | BD6: 3 | BE6: 1 | BF6: 1 | BG6: 1 | BH6: 7 | BI6: 1 | BJ6: 1 | BK6: 2 | BL6: 8 | BM6: 2 | BN6: 10 | BO6: 1 | BP6: 1 | BQ6: 2 | BR6: 3 | BS6: 2 | BT6: 1 | BU6: 2 | BV6: 2 | BW6: 1 | BX6: 11 | BY6: 4 | BZ6: 3 | CA6: 5 | CB6: 1 | CC6: 13 | CD6: 1 | CE6: 3 | CF6: 2 | CG6: 1 | CH6: 1 | CI6: 8 | CJ6: 1 | CK6: 1 | CL6: 1 | CM6: 3 | CN6: 6 | CO6: 1 | CP6: 1 | CQ6: 2 | CR6: 6 | CS6: 2 | CT6: 2 | CU6: 1 | CV6: 1 | CW6: 14 | CX6: 2 | CY6: 1 | CZ6: 2 | DA6: 1 | DB6: 4 | DC6: 10 | DD6: 1 | DE6: 5 | DF6: 1 | DG6: 1 | DH6: 8 | DI6: 3 | DJ6: 3 | DK6: 1 | DL6: 2 | DM6: 9 | DN6: 2 | DO6: 4 | DP6: 3 | DQ6: 3 | DR6: 12 | DS6: 2 | DT6: 4 | DU6: 11 | DV6: 1 | DW6: 2 | DX6: 4 | DY6: 4 | DZ6: 5 | EA6: 6 | EB6: 39 | EC6: 3 | ED6: 3 | EE6: 1 | EF6: 2 | EG6: 5 | EH6: 14 | EI6: 1 | EJ6: 3 | EK6: 1 | EL6: 1 | EM6: 2 | EN6: 1 | EO6: 4 | EP6: 13 | EQ6: 1 | ER6: 1 | ES6: 2 | ET6: 2 | EU6: 2 | EV6: 8 | EW6: 1 | EX6: 3 | EY6: 1 | EZ6: 2 | FA6: 4 | FB6: 1 | FC6: 12 | FD6: 1 | FE6: 2 | FF6: 1 | FG6: 3 | FH6: 1 | FI6: 2 | FJ6: 10 | FK6: 1 | FL6: 1 | FM6: 3 | FN6: 1 | FO6: 1 | FP6: 7 | FQ6: 3 | FR6: 3 | FS6: 1 | FT6: 1 | FU6: 1 | FV6: 1 | FW6: 6 | FX6: 10 | FY6: 26 | FZ6: 1 | GA6: 2 | GB6: 1 | GC6: 4 | GD6: 5 | GE6: 2 | GF6: 2 | GG6: 1 | GH6: 11 | GI6: 4 | GJ6: 25 | GK6: 5 | GL6: 3 | GM6: 1 | GN6: 1 | GO6: 3 | GP6: 1 | GQ6: 14 | GR6: 3 | GS6: 3 | GT6: 1 | GU6: 1 | GV6: 1 | GW6: 3 | GX6: 12 | GY6: 2 | GZ6: 2 | HA6: 1 | HB6: 1 | HC6: 2 | HD6: 2 | HE6: 10 | HF6: 2 | HG6: 1 | HH6: 2 | HI6: 1 | HJ6: 2 | HK6: 2 | HL6: 10 | HM6: 3 | HN6: 1 | HO6: 1 | HP6: 4 | HQ6: 3 | HR6: 12 | HS6: 3 | HT6: 2 | HU6: 1 | HV6: 2 | HW6: 1 | HX6: 3 | HY6: 12 | HZ6: 2 | IA6: 6 | IB6: 4 | IC6: 1 | ID6: 2 | IE6: 15 | IF6: 6 | IG6: 1 | IH6: 1 | II6: 1 | IJ6: 2 | IK6: 1 | IL6: 12 | IM6: 2 | IN6: 1 | IO6: 1 | IP6: 1 | IQ6: 2 | IR6: 7 | IS6: 3 | IT6: 20 | IU6: 1 | IV6: 3 | IW6: 3 | IX6: 30 | IY6: 1 | IZ6: 1 | JA6: 1 | JB6: 1 | JC6: 4 | JD6: 7 | JE6: 13 | JF6: 7 | JG6: 1 | JH6: 2 | JI6: 1 | JJ6: 1 | JK6: 2 | JL6: 3 | JM6: 17 | JN6: 9 | JO6: 1 | JP6: 5 | JQ6: 4 | JR6: 2 | JS6: 4 | JT6: 2 | JU6: 5 | JV6: 32 | JW6: 7 | JX6: 3 | JY6: 3 | JZ6: 6 | KA6: 2 | KB6: 3 | KC6: 24 | KD6: 1 | KE6: 2 | KF6: 3 | KG6: 2 | KH6: 2 | KI6: 5 | KJ6: 2 | KK6: 3 | KL6: 14 | KM6: 1 | KN6: 1 | KO6: 1 | KP6: 1 | KQ6: 6 | KR6: 2 | KS6: 12 | KT6: 1 | KU6: 1 | KV6: 3 | KW6: 1 | KX6: 1 | KY6: 2 | KZ6: 7 | LA6: 2 | LB6: 1 | LC6: 1 | LD6: 1 | LE6: 1 | LF6: 5 | LG6: 11 | LH6: 3 | LI6: 1 | LJ6: 1 | LK6: 1 | LL6: 1 | LM6: 2 | LN6: 9 | LO6: 2 | LP6: 1 | LQ6: 1 | LR6: 2 | LS6: 2 | LT6: 1 | LU6: 9 | LV6: 7 | LW6: 2 | LX6: 1 | LY6: 2 | LZ6: 2 | MA6: 2 | MB6: 2 | MC6: 18 | MD6: 1 | ME6: 1 | MF6: 1 | MG6: 3 | MJ6: 637
A7: offre 1 | B7: 1 | C7: 1 | E7: 2 | F7: 2 | G7: 1 | I7: 1 | J7: 2 | K7: 1 | L7: 3 | N7: 4 | O7: 1 | Q7: 1 | U7: 1 | V7: 1 | W7: 1 | X7: 1 | Y7: 2 | AB7: 1 | AC7: 1 | AD7: 2 | AE7: 1 | AF7: 1 | AG7: 1 | AJ7: 3 | AL7: 1 | AN7: 1 | AO7: 1 | AQ7: 1 | AR7: 1 | AT7: 1 | AU7: 2 | AW7: 1 | AX7: 1 | AY7: 2 | AZ7: 2 | BA7: 1 | BB7: 3 | BC7: 1 | BD7: 1 | BF7: 1 | BG7: 1 | BH7: 4 | BI7: 1 | BK7: 1 | BL7: 5 | BM7: 1 | BN7: 6 | BO7: 1 | BP7: 1 | BQ7: 2 | BR7: 1 | BS7: 2 | BT7: 1 | BU7: 1 | BV7: 1 | BW7: 1 | BX7: 7 | BY7: 3 | CB7: 1 | CC7: 4 | CE7: 1 | CF7: 1 | CG7: 1 | CH7: 1 | CI7: 4 | CM7: 3 | CN7: 3 | CR7: 2 | CS7: 2 | CT7: 1 | CV7: 1 | CW7: 6 | CX7: 2 | CY7: 1 | CZ7: 2 | DA7: 1 | DB7: 4 | DC7: 10 | DD7: 1 | DE7: 2 | DH7: 3 | DI7: 1 | DJ7: 1 | DL7: 2 | DM7: 4 | DN7: 2 | DO7: 4 | DP7: 1 | DQ7: 2 | DR7: 9 | DS7: 2 | DT7: 3 | DU7: 7 | DV7: 1 | DX7: 3 | DY7: 3 | DZ7: 4 | EA7: 4 | EB7: 27 | EC7: 3 | ED7: 2 | EF7: 2 | EG7: 3 | EH7: 10 | EI7: 1 | EN7: 1 | EO7: 3 | EP7: 5 | EQ7: 1 | ER7: 1 | ES7: 1 | ET7: 1 | EU7: 2 | EV7: 6 | EX7: 1 | EY7: 1 | EZ7: 1 | FA7: 2 | FC7: 5 | FE7: 2 | FG7: 2 | FI7: 1 | FJ7: 5 | FL7: 1 | FM7: 2 | FN7: 1 | FO7: 1 | FP7: 5 | FQ7: 2 | FR7: 2 | FT7: 1 | FU7: 1 | FW7: 3 | FX7: 7 | FY7: 16 | FZ7: 1 | GA7: 1 | GC7: 2 | GD7: 3 | GE7: 2 | GG7: 1 | GH7: 9 | GI7: 4 | GJ7: 19 | GK7: 2 | GL7: 1 | GN7: 1 | GO7: 2 | GQ7: 6 | GR7: 1 | GS7: 2 | GT7: 1 | GU7: 1 | GV7: 1 | GW7: 1 | GX7: 7 | GZ7: 1 | HA7: 1 | HC7: 2 | HD7: 2 | HE7: 6 | HF7: 1 | HG7: 1 | HH7: 2 | HJ7: 2 | HK7: 1 | HL7: 7 | HM7: 3 | HP7: 2 | HQ7: 2 | HR7: 7 | HS7: 2 | HT7: 1 | HU7: 1 | HV7: 1 | HX7: 3 | HY7: 8 | HZ7: 2 | IA7: 3 | IB7: 2 | IC7: 1 | ID7: 1 | IE7: 9 | IF7: 4 | IJ7: 1 | IL7: 5 | IM7: 1 | IN7: 1 | IO7: 1 | IP7: 1 | IQ7: 2 | IR7: 6 | IS7: 3 | IT7: 10 | IV7: 2 | IW7: 2 | IX7: 17 | JC7: 3 | JD7: 6 | JE7: 9 | JF7: 6 | JH7: 1 | JI7: 1 | JJ7: 1 | JK7: 1 | JL7: 2 | JM7: 12 | JN7: 6 | JO7: 1 | JP7: 1 | JQ7: 3 | JR7: 1 | JS7: 2 | JT7: 1 | JU7: 2 | JV7: 17 | JW7: 5 | JZ7: 3 | KA7: 2 | KB7: 2 | KC7: 12 | KE7: 1 | KF7: 1 | KG7: 1 | KH7: 1 | KI7: 3 | KJ7: 1 | KK7: 1 | KL7: 7 | KN7: 1 | KP7: 1 | KQ7: 3 | KR7: 1 | KS7: 6 | KT7: 1 | KU7: 1 | KV7: 3 | KW7: 1 | KX7: 1 | KY7: 2 | KZ7: 7 | LA7: 1 | LB7: 1 | LC7: 1 | LF7: 3 | LG7: 6 | LH7: 3 | LK7: 1 | LL7: 1 | LM7: 2 | LN7: 7 | LO7: 2 | LR7: 1 | LS7: 2 | LT7: 1 | LU7: 6 | LV7: 4 | LX7: 1 | LZ7: 2 | MA7: 2 | MB7: 2 | MC7: 11 | MD7: 1 | ME7: 1 | MG7: 2 | MJ7: 372
LH8: 1 | LN8: 1 | LO8: 1 | LU8: 1 | LV8: 1 | MC8: 1 | MJ8: 3
A9: 1609S1 | LH9: 1 | LN9: 1 | LO9: 1 | LU9: 1 | LV9: 1 | MC9: 1 | MJ9: 3
A10: Type 1 | B10: 1 | C10: 1 | K10: 1 | N10: 1 | AR10: 1 | AU10: 1 | BI10: 1 | BK10: 1 | BL10: 3 | BM10: 1 | BN10: 4 | BP10: 1 | BQ10: 1 | BS10: 1 | BU10: 1 | BV10: 1 | BX10: 3 | BY10: 1 | CC10: 1 | CE10: 1 | CF10: 1 | CH10: 1 | CI10: 3 | CS10: 1 | CT10: 1 | CV10: 1 | CW10: 3 | CZ10: 1 | DB10: 3 | DC10: 4 | DD10: 1 | DH10: 1 | DI10: 1 | DJ10: 1 | DL10: 1 | DM10: 3 | DN10: 2 | DO10: 3 | DP10: 1 | DQ10: 1 | DR10: 7 | DT10: 2 | DY10: 1 | DZ10: 3 | EA10: 1 | EB10: 7 | EC10: 3 | ED10: 1 | EH10: 4 | EO10: 1 | EP10: 1 | EQ10: 1 | ET10: 1 | EU10: 1 | EV10: 3 | FO10: 1 | FP10: 1 | FR10: 1 | FX10: 2 | FY10: 3 | GE10: 1 | GH10: 6 | GI10: 1 | GJ10: 8 | GS10: 2 | GU10: 1 | GX10: 3 | GZ10: 1 | HE10: 1 | HF10: 1 | HL10: 1 | HT10: 1 | HV10: 1 | HX10: 1 | HY10: 3 | IA10: 2 | IB10: 2 | IC10: 1 | ID10: 1 | IE10: 6 | IF10: 1 | IL10: 1 | IS10: 3 | IT10: 8 | IV10: 2 | IW10: 2 | IX10: 15 | JD10: 2 | JE10: 2 | JF10: 2 | JH10: 1 | JJ10: 1 | JK10: 1 | JM10: 5 | JN10: 2 | JO10: 1 | JP10: 1 | JQ10: 3 | JS10: 1 | JV10: 8 | KA10: 1 | KB10: 1 | KC10: 2 | KG10: 1 | KH10: 1 | KI10: 2 | KK10: 1 | KL10: 5 | KT10: 1 | KU10: 1 | KV10: 2 | KZ10: 2 | LF10: 1 | LG10: 1 | LH10: 1 | LM10: 1 | LN10: 2 | ME10: 1 | MG10: 1 | MJ10: 120
A11: 1507S1 | B11: 1 | C11: 1 | K11: 1 | N11: 1 | AR11: 1 | AU11: 1 | MJ11: 3
A12: 1510S5 | BI12: 1 | BK12: 1 | BL12: 1 | BN12: 1 | BY12: 1 | CC12: 1 | MJ12: 3
A13: 1511S1 | BL13: 2 | BM13: 1 | BN13: 3 | JD13: 1 | JE13: 1 | JQ13: 1 | JS13: 1 | JV13: 2 | ME13: 1 | MG13: 1 | MJ13: 7
A14: 1511S2 | BP14: 1 | BQ14: 1 | CE14: 1 | CI14: 1 | MJ14: 2
A15: 1511S3 | BS15: 1 | BU15: 1 | BV15: 1 | BX15: 3 | GI15: 1 | GJ15: 1 | JF15: 1 | JM15: 1 | MJ15: 5
A16: 1512S1 | CF16: 1 | CH16: 1 | CI16: 2 | CZ16: 1 | DC16: 1 | DT16: 1 | EB16: 1 | GH16: 1 | GJ16: 1 | IF16: 1 | IL16: 1 | MJ16: 6
A17: 1512S4 | CS17: 1 | CT17: 1 | CV17: 1 | CW17: 3 | DD17: 1 | DH17: 1 | DI17: 1 | DM17: 1 | MJ17: 5
A18: 1601S1 | DB18: 3 | DC18: 3 | EC18: 3 | EH18: 3 | MJ18: 6
A19: 1601S3 | DJ19: 1 | DL19: 1 | DM19: 2 | DN19: 1 | DR19: 1 | GH19: 1 | GJ19: 1 | IC19: 1 | ID19: 1 | IE19: 2 | LM19: 1 | LN19: 1 | MJ19: 7
A20: 1601S4 | DN20: 1 | DO20: 3 | DP20: 1 | DQ20: 1 | DR20: 6 | DT20: 1 | DY20: 1 | EB20: 2 | ET20: 1 | EU20: 1 | EV20: 2 | FO20: 1 | FP20: 1 | FX20: 1 | FY20: 1 | GS20: 1 | GX20: 1 | HF20: 1 | HL20: 1 | JO20: 1 | JV20: 1 | MJ20: 15
A21: 1602S1 | DZ21: 3 | EA21: 1 | EB21: 4 | ED21: 1 | EH21: 1 | FX21: 1 | FY21: 1 | GE21: 1 | GH21: 4 | GJ21: 5 | GS21: 1 | GX21: 1 | JF21: 1 | JM21: 1 | JN21: 2 | JV21: 2 | MJ21: 15
A22: 1602S3 | EO22: 1 | EP22: 1 | EQ22: 1 | EV22: 1 | MJ22: 2
A23: 1603S4 | FR23: 1 | FY23: 1 | MJ23: 1
A24: 1604S3 | GU24: 1 | GX24: 1 | GZ24: 1 | HE24: 1 | MJ24: 2
A25: 1605S3 | HT25: 1 | HV25: 1 | HX25: 1 | HY25: 3 | JD25: 1 | JE25: 1 | MJ25: 4
A26: 1605S4 | IA26: 2 | IB26: 2 | IE26: 4 | MJ26: 4
A27: 1606S3 | IS27: 3 | IT27: 8 | IV27: 2 | IW27: 2 | IX27: 15 | JH27: 1 | JM27: 1 | KH27: 1 | KL27: 1 | MJ27: 17
A28: 1607S1 | JJ28: 1 | JK28: 1 | JM28: 2 | JQ28: 1 | JV28: 1 | KI28: 1 | KL28: 1 | KV28: 1 | KZ28: 1 | MJ28: 5
A29: 1607S2 | JP29: 1 | JQ29: 1 | JV29: 2 | KI29: 1 | KL29: 1 | KV29: 1 | KZ29: 1 | MJ29: 4
A30: 1607S3 | KA30: 1 | KB30: 1 | KC30: 2 | KG30: 1 | KL30: 1 | MJ30: 3
A31: 1608S1 | KK31: 1 | KL31: 1 | MJ31: 1
A32: 1608S3 | KT32: 1 | KU32: 1 | LH32: 1 | LN32: 1 | MJ32: 2
A33: 1608S5 | LF33: 1 | LG33: 1 | MJ33: 1
A34: Type 2 | E34: 1 | F34: 1 | G34: 1 | J34: 1 | L34: 1 | N34: 1 | EA34: 1 | EB34: 1 | EO34: 1 | EP34: 1 | FA34: 1 | FC34: 1 | FN34: 1 | FP34: 1 | FR34: 1 | FY34: 1 | HM34: 1 | HR34: 1 | IF34: 1 | IL34: 1 | MJ34: 10
A35: 1507S2 | E35: 1 | F35: 1 | G35: 1 | J35: 1 | MJ35: 2
A36: 1507S5 | L36: 1 | N36: 1 | EA36: 1 | EB36: 1 | HM36: 1 | HR36: 1 | MJ36: 3
A37: 1602S3 | EO37: 1 | EP37: 1 | FN37: 1 | FP37: 1 | FR37: 1 | FY37: 1 | MJ37: 3
A38: 1603S1 | FA38: 1 | FC38: 1 | IF38: 1 | IL38: 1 | MJ38: 2
A39: Type 3 | AL39: 1 | AN39: 1 | AX39: 1 | AY39: 1 | BG39: 1 | BH39: 1 | BL39: 1 | BN39: 1 | BT39: 1 | BX39: 1 | BY39: 1 | CC39: 1 | CY39: 1 | DA39: 1 | DC39: 2 | DT39: 1 | DU39: 2 | DX39: 1 | EA39: 1 | EB39: 5 | FG39: 1 | FJ39: 1 | FM39: 1 | FP39: 1 | FX39: 1 | FY39: 1 | GA39: 1 | GC39: 1 | GK39: 1 | GQ39: 1 | GT39: 1 | GX39: 1 | HZ39: 1 | IE39: 1 | JD39: 1 | JE39: 1 | JN39: 1 | JV39: 1 | JW39: 1 | JZ39: 1 | KC39: 2 | KJ39: 1 | KL39: 1 | KW39: 1 | KZ39: 1 | MJ39: 26
A40: 1509S3 | AL40: 1 | AN40: 1 | AX40: 1 | AY40: 1 | DA40: 1 | DC40: 1 | JW40: 1 | KC40: 1 | MJ40: 4
A41: 1510S4 | BG41: 1 | BH41: 1 | BT41: 1 | BX41: 1 | BY41: 1 | CC41: 1 | MJ41: 3
A42: 1511S1 | BL42: 1 | BN42: 1 | MJ42: 1
...

Sheet Feuil4
D2: 1609S1 | E2: 1609S1 | F2: 1609S1 | G2: 1609S1 | H2: 1609S1 | I2: 1609S1 | J2: 1609S1
D3: Closed Lost | E3: Contacted | F3: Meeting done | G3: Negotiation/Review | H3: Proposal/Price Quote | I3: Value Proposition
A4: non prospect | B4: offre1 | C4: type 1 | D4: =GETPIVOTDATA("nombre opp",'TCD Opportunité'!$A$3,"Type",B4,"Secteur d'activité",C4,"Statut (Historique des étapes)",D3,"prospect",A4,"semaine modif",D2) -> #REF! | E4: =GETPIVOTDATA("nombre opp",'TCD Opportunité'!$A$3,"Type","offre 1","Secteur d'activité","Type 1","Statut (Historique des étapes)","Contacted","prospect","non prospect","semaine modif","1609S1") -> #REF! | F4: =GETPIVOTDATA("nombre opp",'TCD Opportunité'!$A$3,"Type","offre 1","Secteur d'activité","Type 1","Statut (Historique des étapes)","Meeting done","prospect","non prospect","semaine modif","1609S1") -> #REF! | I4: =GETPIVOTDATA("nombre opp",'TCD Opportunité'!$A$3,"Type","offre 1","Secteur d’activité","Type 1","Statut (Historique des étapes)","Value Proposition","prospect","non prospect","semaine modif","1609S1") -> 1
H5: toi : | I5: =LIREDONNEESTABCROISDYNAMIQUE("nombre opp";'TCD Opportunité'!$A$3;"Type";"offre 1";"Secteur d'activité";"Type 1";"Statut (Historique des étapes)";"Value Proposition";"prospect";"non prospect";"semaine modif";"1609S1")
H6: moi : | I6: =LIREDONNEESTABCROISDYNAMIQUE("nombre opp";'TCD Opportunité'!$A$3;"Type";"offre 1";"Secteur d’activité";"Type 1";"Statut (Historique des étapes)";"Value Proposition";"prospect";"non prospect";"semaine modif";"1609S1")
I7: =(MID(I5,ROW(1:217),1)=MID(I6,ROW(1:217),1))*ROW(1:217) -> 1
L8: code
H9: toi : | I9: "Secteur d'activité" | K9: =MID(I5,94,1) -> ' | L9: =CODE(K9) -> 39
H10: moi : | I10: "Secteur d’activité" | K10: =MID(I6,94,1) -> ’ | L10: =CODE(K10) -> 146
