Workbook
Name Burpeedeepfrogs: 'Base de données'!$G$2:$G$609
Name Burpeefrogs: 'Base de données'!$F$2:$F$609
Name Burpees: 'Base de données'!$D$2:$D$609
Name Burpeesquatjumps: 'Base de données'!$E$2:$E$609
Name Climbers: 'Base de données'!$AO$2:$AO$609
Name Crunches: 'Base de données'!$H$2:$H$609
Name Essai1: 'Compteur FL'!$A$4:$A$9
Name Essai2: 'Compteur FL'!$B$4:$B$9
Name Froggers: 'Base de données'!$AQ$2:$AQ$609
Name HHleglever: 'Base de données'!$J$2:$J$609
Name HHlunges: 'Base de données'!$AI$2:$AI$609
Name HHlungewalk: 'Base de données'!$AL$2:$AL$609
Name HHsquats: 'Base de données'!$AF$2:$AF$609
Name HHstandups: 'Base de données'!$M$2:$M$609
Name Highjumps: 'Base de données'!$AE$2:$AE$609
Name Highknees: 'Base de données'!$AC$2:$AC$609
Name Jackknives: 'Base de données'!$L$2:$L$609
Name Jumpingjacks: 'Base de données'!$AB$2:$AB$609
Name Jumpingpullups: 'Base de données'!$V$2:$V$609
Name Jumps: 'Base de données'!$AD$2:$AD$609
Name KippingHSPushups: 'Base de données'!$T$2:$T$609
Name Kneepushups: 'Base de données'!$P$2:$P$609
Name Lunges: 'Base de données'!$AJ$2:$AJ$609
Name Lungewalk: 'Base de données'!$AM$2:$AM$609
Name Mountainclimbers: 'Base de données'!$AN$2:$AN$609
Name Muscleups: 'Base de données'!$X$2:$X$609
Name OHPushups: 'Base de données'!$R$2:$R$609
Name Pikes: 'Base de données'!$S$2:$S$609
Name Pistols: 'Base de données'!$AH$2:$AH$609
Name Pullups: 'Base de données'!$W$2:$W$609
Name Pushups: 'Base de données'!$Q$2:$Q$609
Name Run: 'Base de données'!$AA$2:$AA$609
Name Situps: 'Base de données'!$I$2:$I$609
Name Splitlunges: 'Base de données'!$AK$2:$AK$609
Name Sprawlfrogs: 'Base de données'!$AP$2:$AP$609
Name Sprawls: 'Base de données'!$C$2:$C$609
Name Sprint: 'Base de données'!$Z$2:$Z$609
Name Squats: 'Base de données'!$AG$2:$AG$609
Name Standupjumps: 'Base de données'!$O$2:$O$609
Name Standups: 'Base de données'!$N$2:$N$609
Name Straightleglever: 'Base de données'!$K$2:$K$609
Name StrictHSPushups: 'Base de données'!$U$2:$U$609
Name Toestobar: 'Base de données'!$Y$2:$Y$609
Name Tour: 'Base de données'!$B$2:$B$609
Name Tours: #REF!
Name TR: 'Base de données'!$AZ$2:$AZ$31
Name WO: 'Base de données'!$AY$2:$AY$111
Name workout: 'Base de données'!$A$2:$A$609

Sheet Compteur FL
C1: Freeleticien depuis | D1: Durée coach | E1: Durée Bonus | F1: Durée Totale | G1: Nombre d'entraînements | H1: % de WO en * | I1: =I3 -> Sprawls | J1: =J3 -> Burpees | K1: =K3 -> Burpee Squat Jump | L1: =L3&" km" -> Burpee Frogs km | M1: =M3&" km" -> Burpee deepfrogs km | N1: =N3 -> Crunches | O1: =O3 -> Situps | P1: =P3 -> HH leg lever | Q1: =Q3 -> Straight Leg Lever | R1: =R3 -> Jackknives | S1: =S3 -> HH standups | T1: =T3 -> Standups | U1: =U3 -> Standup jumps | ... AE1: =AE3 -> Toes to bar | AF1: =AF3&" km" -> Sprint km | AG1: =AG3&" km" -> Run km | AH1: =AH3 -> Jumping Jacks | AI1: =AI3 -> High Knees | AJ1: =AJ3 -> Jumps | AK1: =AK3 -> High Jumps | AL1: =AL3 -> HH squats | AM1: =AM3 -> Squats | AN1: =AN3 -> Pistols | AO1: =AO3 -> HH lunges | ... AR1: =AR3 -> HH lunge walk | AS1: =AS3&" km" -> Lunge walk km | AT1: =AT3 -> Mountain Climbers | AU1: =AU3 -> Climbers | AV1: =AV3 -> Sprawl frogs | AW1: =AW3 -> Froggers | AX1: =AX3 -> empty2 | AY1: =AY3 -> empty3
C2: =DATEDIF(C4,NOW(),"d")&" jours" -> 57 jours | D2: {=SUM(IF(B4:B13="C",D4:D13,0))} -> 0.08525463 | E2: {=SUM(IF(B4:B13="B",D4:D13,0))} -> 0.025833333 | F2: =D2+E2 -> 0.11108796 | G2: =COUNTA(C4:C13) -> 10 | H2: =COUNTIF(H4:H13,"~*")/(G2) -> 1 | I2: =SUMIF(I4:I13,">0") -> 0 | J2: =SUMIF(J4:J13,">0") -> 490 | K2: =SUMIF(K4:K13,">0") -> 0 | L2: =SUMIF(L4:L13,">0") -> 0.24 | M2: =SUMIF(M4:M13,">0") -> 0 | N2: =SUMIF(N4:N13,">0") -> 0 | O2: =SUMIF(O4:O13,">0") -> 450 | P2: =SUMIF(P4:P13,">0") -> 0 | ... AY2: =SUMIF(AY4:AY13,">0") -> 0
A3: Semaine | B3: Coach ou Bonus | C3: Date | D3: Temps (hh:mm:ss) | E3: Volume (1,2 ou 3) | F3: Workout | G3: Tours | H3: * | I3: ='Base de données'!C1 -> Sprawls | J3: ='Base de données'!D1 -> Burpees | K3: ='Base de données'!E1 -> Burpee Squat Jump | L3: ='Base de données'!F1 -> Burpee Frogs | M3: ='Base de données'!G1 -> Burpee deepfrogs | N3: ='Base de données'!H1 -> Crunches | O3: ='Base de données'!I1 -> Situps | P3: ='Base de données'!J1 -> HH leg lever | ... AY3: ='Base de données'!AS1 -> empty3 | AZ3: Remarques
A4: 1 | B4: C | C4: 41940 | D4: 0.022407407 | E4: 1 | F4: Aphrodite STD | G4: complet | H4: * | I4: =IF(F4<>"",INDEX(Sprawls,$BA4)*E4,"--") -> 0 | J4: =IF(F4<>"",INDEX(Burpees,$BA4)*E4,"--") -> 150 | K4: =IF(F4<>"",INDEX(Burpeesquatjumps,$BA4)*E4,"--") -> 0 | L4: {=IF(F4<>"",INDEX(Burpeefrogs,$BA4)*E4,"--")} -> 0 | M4: {=IF(F4<>"",INDEX(Burpeedeepfrogs,$BA4)*E4,"--")} -> 0 | N4: {=IF(F4<>"",INDEX(Crunches,$BA4)*E4,"--")} -> 0 | O4: {=IF(F4<>"",INDEX(Situps,$BA4)*E4,"--")} -> 150 | P4: {=IF(F4<>"",INDEX(HHleglever,$BA4)*E4,"--")} -> 0 | Q4: {=IF(F4<>"",INDEX(Straightleglever,$BA4)*E4,"--")} -> 0 | R4: {=IF(F4<>"",INDEX(Jackknives,$BA4)*E4,"--")} -> 0 | S4: {=IF(F4<>"",INDEX(HHstandups,$BA4)*E4,"--")} -> 0 | T4: {=IF(F4<>"",INDEX(Standups,$BA4)*E4,"--")} -> 0 | U4: {=IF(F4<>"",INDEX(Standupjumps,$BA4)*E4,"--")} -> 0 | V4: {=IF(F4<>"",INDEX(Kneepushups,$BA4)*E4,"--")} -> 0 | W4: {=IF(F4<>"",INDEX(Pushups,$BA4)*E4,"--")} -> 0 | X4: {=IF(F4<>"",INDEX(OHPushups,$BA4)*E4,"--")} -> 0 | Y4: {=IF(F4<>"",INDEX(Pikes,$BA4)*E4,"--")} -> 0 | Z4: {=IF(F4<>"",INDEX(KippingHSPushups,$BA4)*E4,"--")} -> 0 | AA4: {=IF(F4<>"",INDEX(StrictHSPushups,$BA4)*E4,"--")} -> 0 | AB4: {=IF(F4<>"",INDEX(Jumpingpullups,$BA4)*E4,"--")} -> 0 | AC4: {=IF(F4<>"",INDEX(Pullups,$BA4)*E4,"--")} -> 0 | AD4: {=IF(F4<>"",INDEX(Muscleups,$BA4)*E4,"--")} -> 0 | AE4: {=IF(F4<>"",INDEX(Toestobar,$BA4)*E4,"--")} -> 0 | AF4: {=IF(F4<>"",INDEX(Sprint,$BA4)*E4,"--")} -> 0 | AG4: {=IF(F4<>"",INDEX(Run,$BA4)*E4,"--")} -> 0 | AH4: {=IF(F4<>"",INDEX(Jumpingjacks,$BA4)*E4,"--")} -> 0 | AI4: {=IF(F4<>"",INDEX(Highknees,$BA4)*E4,"--")} -> 0 | AJ4: {=IF(F4<>"",INDEX(Jumps,$BA4)*E4,"--")} -> 0 | AK4: {=IF(F4<>"",INDEX(Highjumps,$BA4)*E4,"--")} -> 0 | AL4: {=IF(F4<>"",INDEX(HHsquats,$BA4)*E4,"--")} -> 0 | AM4: {=IF(F4<>"",INDEX(Squats,$BA4)*E4,"--")} -> 150 | AN4: {=IF(F4<>"",INDEX(Pistols,$BA4)*E4,"--")} -> 0 | AO4: {=IF(F4<>"",INDEX(HHlunges,$BA4)*E4,"--")} -> 0 | AP4: {=IF(F4<>"",INDEX(Lunges,$BA4)*E4,"--")} -> 0 | AQ4: {=IF(F4<>"",INDEX(Splitlunges,$BA4)*E4,"--")} -> 0 | AR4: {=IF(F4<>"",INDEX(HHlungewalk,$BA4)*E4,"--")} -> 0 | AS4: {=IF(F4<>"",INDEX(Lungewalk,$BA4)*E4,"--")} -> 0 | AT4: {=IF(F4<>"",INDEX(Mountainclimbers,$BA4)*E4,"--")} -> 0 | AU4: {=IF(F4<>"",INDEX(Climbers,$BA4)*E4,"--")} -> 0 | AV4: {=IF(F4<>"",INDEX(Sprawlfrogs,$BA4)*E4,"--")} -> 0 | AW4: {=IF(F4<>"",INDEX(Froggers,$BA4)*E4,"--")} -> 0 | BA4: {=MATCH(1,(workout=F4)*(Tour=G4),0)} -> 10
A5: 1 | B5: B | C5: 41941 | D5: 0.0036111111 | E5: 1 | F5: Straight Leg Lever | G5: 50 | H5: * | I5: =IF(F5<>"",INDEX(Sprawls,$BA5)*E5,"--") -> 0 | J5: =IF(F5<>"",INDEX(Burpees,$BA5)*E5,"--") -> 0 | K5: =IF(F5<>"",INDEX(Burpeesquatjumps,$BA5)*E5,"--") -> 0 | L5: {=IF(F5<>"",INDEX(Burpeefrogs,$BA5)*E5,"--")} -> 0 | M5: {=IF(F5<>"",INDEX(Burpeedeepfrogs,$BA5)*E5,"--")} -> 0 | N5: {=IF(F5<>"",INDEX(Crunches,$BA5)*E5,"--")} -> 0 | O5: {=IF(F5<>"",INDEX(Situps,$BA5)*E5,"--")} -> 0 | P5: {=IF(F5<>"",INDEX(HHleglever,$BA5)*E5,"--")} -> 0 | Q5: {=IF(F5<>"",INDEX(Straightleglever,$BA5)*E5,"--")} -> 50 | R5: {=IF(F5<>"",INDEX(Jackknives,$BA5)*E5,"--")} -> 0 | S5: {=IF(F5<>"",INDEX(HHstandups,$BA5)*E5,"--")} -> 0 | T5: {=IF(F5<>"",INDEX(Standups,$BA5)*E5,"--")} -> 0 | U5: {=IF(F5<>"",INDEX(Standupjumps,$BA5)*E5,"--")} -> 0 | V5: {=IF(F5<>"",INDEX(Kneepushups,$BA5)*E5,"--")} -> 0 | W5: {=IF(F5<>"",INDEX(Pushups,$BA5)*E5,"--")} -> 0 | X5: {=IF(F5<>"",INDEX(OHPushups,$BA5)*E5,"--")} -> 0 | Y5: {=IF(F5<>"",INDEX(Pikes,$BA5)*E5,"--")} -> 0 | Z5: {=IF(F5<>"",INDEX(KippingHSPushups,$BA5)*E5,"--")} -> 0 | AA5: {=IF(F5<>"",INDEX(StrictHSPushups,$BA5)*E5,"--")} -> 0 | AB5: {=IF(F5<>"",INDEX(Jumpingpullups,$BA5)*E5,"--")} -> 0 | AC5: {=IF(F5<>"",INDEX(Pullups,$BA5)*E5,"--")} -> 0 | AD5: {=IF(F5<>"",INDEX(Muscleups,$BA5)*E5,"--")} -> 0 | AE5: {=IF(F5<>"",INDEX(Toestobar,$BA5)*E5,"--")} -> 0 | AF5: {=IF(F5<>"",INDEX(Sprint,$BA5)*E5,"--")} -> 0 | AG5: {=IF(F5<>"",INDEX(Run,$BA5)*E5,"--")} -> 0 | AH5: {=IF(F5<>"",INDEX(Jumpingjacks,$BA5)*E5,"--")} -> 0 | AI5: {=IF(F5<>"",INDEX(Highknees,$BA5)*E5,"--")} -> 0 | AJ5: {=IF(F5<>"",INDEX(Jumps,$BA5)*E5,"--")} -> 0 | AK5: {=IF(F5<>"",INDEX(Highjumps,$BA5)*E5,"--")} -> 0 | AL5: {=IF(F5<>"",INDEX(HHsquats,$BA5)*E5,"--")} -> 0 | AM5: {=IF(F5<>"",INDEX(Squats,$BA5)*E5,"--")} -> 0 | AN5: {=IF(F5<>"",INDEX(Pistols,$BA5)*E5,"--")} -> 0 | AO5: {=IF(F5<>"",INDEX(HHlunges,$BA5)*E5,"--")} -> 0 | AP5: {=IF(F5<>"",INDEX(Lunges,$BA5)*E5,"--")} -> 0 | AQ5: {=IF(F5<>"",INDEX(Splitlunges,$BA5)*E5,"--")} -> 0 | AR5: {=IF(F5<>"",INDEX(HHlungewalk,$BA5)*E5,"--")} -> 0 | AS5: {=IF(F5<>"",INDEX(Lungewalk,$BA5)*E5,"--")} -> 0 | AT5: {=IF(F5<>"",INDEX(Mountainclimbers,$BA5)*E5,"--")} -> 0 | AU5: {=IF(F5<>"",INDEX(Climbers,$BA5)*E5,"--")} -> 0 | AV5: {=IF(F5<>"",INDEX(Sprawlfrogs,$BA5)*E5,"--")} -> 0 | AW5: {=IF(F5<>"",INDEX(Froggers,$BA5)*E5,"--")} -> 0 | BA5: {=MATCH(1,(workout=F5)*(Tour=G5),0)} -> 278
A6: 1 | B6: C | C6: 41942 | D6: 0.0085763889 | E6: 2 | F6: Metis STD | G6: complet | H6: * | I6: =IF(F6<>"",INDEX(Sprawls,$BA6)*E6,"--") -> 0 | J6: =IF(F6<>"",INDEX(Burpees,$BA6)*E6,"--") -> 90 | K6: =IF(F6<>"",INDEX(Burpeesquatjumps,$BA6)*E6,"--") -> 0 | L6: {=IF(F6<>"",INDEX(Burpeefrogs,$BA6)*E6,"--")} -> 0 | M6: {=IF(F6<>"",INDEX(Burpeedeepfrogs,$BA6)*E6,"--")} -> 0 | N6: {=IF(F6<>"",INDEX(Crunches,$BA6)*E6,"--")} -> 0 | O6: {=IF(F6<>"",INDEX(Situps,$BA6)*E6,"--")} -> 0 | P6: {=IF(F6<>"",INDEX(HHleglever,$BA6)*E6,"--")} -> 0 | Q6: {=IF(F6<>"",INDEX(Straightleglever,$BA6)*E6,"--")} -> 0 | R6: {=IF(F6<>"",INDEX(Jackknives,$BA6)*E6,"--")} -> 0 | S6: {=IF(F6<>"",INDEX(HHstandups,$BA6)*E6,"--")} -> 0 | T6: {=IF(F6<>"",INDEX(Standups,$BA6)*E6,"--")} -> 0 | U6: {=IF(F6<>"",INDEX(Standupjumps,$BA6)*E6,"--")} -> 0 | V6: {=IF(F6<>"",INDEX(Kneepushups,$BA6)*E6,"--")} -> 0 | W6: {=IF(F6<>"",INDEX(Pushups,$BA6)*E6,"--")} -> 0 | X6: {=IF(F6<>"",INDEX(OHPushups,$BA6)*E6,"--")} -> 0 | Y6: {=IF(F6<>"",INDEX(Pikes,$BA6)*E6,"--")} -> 0 | Z6: {=IF(F6<>"",INDEX(KippingHSPushups,$BA6)*E6,"--")} -> 0 | AA6: {=IF(F6<>"",INDEX(StrictHSPushups,$BA6)*E6,"--")} -> 0 | AB6: {=IF(F6<>"",INDEX(Jumpingpullups,$BA6)*E6,"--")} -> 0 | AC6: {=IF(F6<>"",INDEX(Pullups,$BA6)*E6,"--")} -> 0 | AD6: {=IF(F6<>"",INDEX(Muscleups,$BA6)*E6,"--")} -> 0 | AE6: {=IF(F6<>"",INDEX(Toestobar,$BA6)*E6,"--")} -> 0 | AF6: {=IF(F6<>"",INDEX(Sprint,$BA6)*E6,"--")} -> 0 | AG6: {=IF(F6<>"",INDEX(Run,$BA6)*E6,"--")} -> 0 | AH6: {=IF(F6<>"",INDEX(Jumpingjacks,$BA6)*E6,"--")} -> 0 | AI6: {=IF(F6<>"",INDEX(Highknees,$BA6)*E6,"--")} -> 0 | AJ6: {=IF(F6<>"",INDEX(Jumps,$BA6)*E6,"--")} -> 0 | AK6: {=IF(F6<>"",INDEX(Highjumps,$BA6)*E6,"--")} -> 90 | AL6: {=IF(F6<>"",INDEX(HHsquats,$BA6)*E6,"--")} -> 0 | AM6: {=IF(F6<>"",INDEX(Squats,$BA6)*E6,"--")} -> 0 | AN6: {=IF(F6<>"",INDEX(Pistols,$BA6)*E6,"--")} -> 0 | AO6: {=IF(F6<>"",INDEX(HHlunges,$BA6)*E6,"--")} -> 0 | AP6: {=IF(F6<>"",INDEX(Lunges,$BA6)*E6,"--")} -> 0 | AQ6: {=IF(F6<>"",INDEX(Splitlunges,$BA6)*E6,"--")} -> 0 | AR6: {=IF(F6<>"",INDEX(HHlungewalk,$BA6)*E6,"--")} -> 0 | AS6: {=IF(F6<>"",INDEX(Lungewalk,$BA6)*E6,"--")} -> 0 | AT6: {=IF(F6<>"",INDEX(Mountainclimbers,$BA6)*E6,"--")} -> 0 | AU6: {=IF(F6<>"",INDEX(Climbers,$BA6)*E6,"--")} -> 0 | AV6: {=IF(F6<>"",INDEX(Sprawlfrogs,$BA6)*E6,"--")} -> 0 | AW6: {=IF(F6<>"",INDEX(Froggers,$BA6)*E6,"--")} -> 0 | BA6: {=MATCH(1,(workout=F6)*(Tour=G6),0)} -> 153
A7: 2 | B7: C | C7: 41943 | D7: 0.012986111 | E7: 1 | F7: Kentauros STD | G7: complet | H7: * | I7: =IF(F7<>"",INDEX(Sprawls,$BA7)*E7,"--") -> 0 | J7: =IF(F7<>"",INDEX(Burpees,$BA7)*E7,"--") -> 0 | K7: =IF(F7<>"",INDEX(Burpeesquatjumps,$BA7)*E7,"--") -> 0 | L7: {=IF(F7<>"",INDEX(Burpeefrogs,$BA7)*E7,"--")} -> 0.24 | M7: {=IF(F7<>"",INDEX(Burpeedeepfrogs,$BA7)*E7,"--")} -> 0 | N7: {=IF(F7<>"",INDEX(Crunches,$BA7)*E7,"--")} -> 0 | O7: {=IF(F7<>"",INDEX(Situps,$BA7)*E7,"--")} -> 0 | P7: {=IF(F7<>"",INDEX(HHleglever,$BA7)*E7,"--")} -> 0 | Q7: {=IF(F7<>"",INDEX(Straightleglever,$BA7)*E7,"--")} -> 0 | R7: {=IF(F7<>"",INDEX(Jackknives,$BA7)*E7,"--")} -> 0 | S7: {=IF(F7<>"",INDEX(HHstandups,$BA7)*E7,"--")} -> 0 | T7: {=IF(F7<>"",INDEX(Standups,$BA7)*E7,"--")} -> 0 | U7: {=IF(F7<>"",INDEX(Standupjumps,$BA7)*E7,"--")} -> 0 | V7: {=IF(F7<>"",INDEX(Kneepushups,$BA7)*E7,"--")} -> 0 | W7: {=IF(F7<>"",INDEX(Pushups,$BA7)*E7,"--")} -> 0 | X7: {=IF(F7<>"",INDEX(OHPushups,$BA7)*E7,"--")} -> 0 | Y7: {=IF(F7<>"",INDEX(Pikes,$BA7)*E7,"--")} -> 0 | Z7: {=IF(F7<>"",INDEX(KippingHSPushups,$BA7)*E7,"--")} -> 0 | AA7: {=IF(F7<>"",INDEX(StrictHSPushups,$BA7)*E7,"--")} -> 0 | AB7: {=IF(F7<>"",INDEX(Jumpingpullups,$BA7)*E7,"--")} -> 0 | AC7: {=IF(F7<>"",INDEX(Pullups,$BA7)*E7,"--")} -> 0 | AD7: {=IF(F7<>"",INDEX(Muscleups,$BA7)*E7,"--")} -> 0 | AE7: {=IF(F7<>"",INDEX(Toestobar,$BA7)*E7,"--")} -> 0 | AF7: {=IF(F7<>"",INDEX(Sprint,$BA7)*E7,"--")} -> 0 | AG7: {=IF(F7<>"",INDEX(Run,$BA7)*E7,"--")} -> 0 | AH7: {=IF(F7<>"",INDEX(Jumpingjacks,$BA7)*E7,"--")} -> 0 | AI7: {=IF(F7<>"",INDEX(Highknees,$BA7)*E7,"--")} -> 0 | AJ7: {=IF(F7<>"",INDEX(Jumps,$BA7)*E7,"--")} -> 0 | AK7: {=IF(F7<>"",INDEX(Highjumps,$BA7)*E7,"--")} -> 120 | AL7: {=IF(F7<>"",INDEX(HHsquats,$BA7)*E7,"--")} -> 0 | AM7: {=IF(F7<>"",INDEX(Squats,$BA7)*E7,"--")} -> 0 | AN7: {=IF(F7<>"",INDEX(Pistols,$BA7)*E7,"--")} -> 0 | AO7: {=IF(F7<>"",INDEX(HHlunges,$BA7)*E7,"--")} -> 0 | AP7: {=IF(F7<>"",INDEX(Lunges,$BA7)*E7,"--")} -> 0 | AQ7: {=IF(F7<>"",INDEX(Splitlunges,$BA7)*E7,"--")} -> 0 | AR7: {=IF(F7<>"",INDEX(HHlungewalk,$BA7)*E7,"--")} -> 0 | AS7: {=IF(F7<>"",INDEX(Lungewalk,$BA7)*E7,"--")} -> 0.24 | AT7: {=IF(F7<>"",INDEX(Mountainclimbers,$BA7)*E7,"--")} -> 0 | AU7: {=IF(F7<>"",INDEX(Climbers,$BA7)*E7,"--")} -> 0 | AV7: {=IF(F7<>"",INDEX(Sprawlfrogs,$BA7)*E7,"--")} -> 0 | AW7: {=IF(F7<>"",INDEX(Froggers,$BA7)*E7,"--")} -> 0 | BA7: {=MATCH(1,(workout=F7)*(Tour=G7),0)} -> 138
A8: 2 | B8: B | C8: 41944 | D8: 0.0034722222 | E8: 1 | F8: Burpees | G8: 50 | H8: * | I8: =IF(F8<>"",INDEX(Sprawls,$BA8)*E8,"--") -> 0 | J8: =IF(F8<>"",INDEX(Burpees,$BA8)*E8,"--") -> 50 | K8: =IF(F8<>"",INDEX(Burpeesquatjumps,$BA8)*E8,"--") -> 0 | L8: {=IF(F8<>"",INDEX(Burpeefrogs,$BA8)*E8,"--")} -> 0 | M8: {=IF(F8<>"",INDEX(Burpeedeepfrogs,$BA8)*E8,"--")} -> 0 | N8: {=IF(F8<>"",INDEX(Crunches,$BA8)*E8,"--")} -> 0 | O8: {=IF(F8<>"",INDEX(Situps,$BA8)*E8,"--")} -> 0 | P8: {=IF(F8<>"",INDEX(HHleglever,$BA8)*E8,"--")} -> 0 | Q8: {=IF(F8<>"",INDEX(Straightleglever,$BA8)*E8,"--")} -> 0 | R8: {=IF(F8<>"",INDEX(Jackknives,$BA8)*E8,"--")} -> 0 | S8: {=IF(F8<>"",INDEX(HHstandups,$BA8)*E8,"--")} -> 0 | T8: {=IF(F8<>"",INDEX(Standups,$BA8)*E8,"--")} -> 0 | U8: {=IF(F8<>"",INDEX(Standupjumps,$BA8)*E8,"--")} -> 0 | V8: {=IF(F8<>"",INDEX(Kneepushups,$BA8)*E8,"--")} -> 0 | W8: {=IF(F8<>"",INDEX(Pushups,$BA8)*E8,"--")} -> 0 | X8: {=IF(F8<>"",INDEX(OHPushups,$BA8)*E8,"--")} -> 0 | Y8: {=IF(F8<>"",INDEX(Pikes,$BA8)*E8,"--")} -> 0 | Z8: {=IF(F8<>"",INDEX(KippingHSPushups,$BA8)*E8,"--")} -> 0 | AA8: {=IF(F8<>"",INDEX(StrictHSPushups,$BA8)*E8,"--")} -> 0 | AB8: {=IF(F8<>"",INDEX(Jumpingpullups,$BA8)*E8,"--")} -> 0 | AC8: {=IF(F8<>"",INDEX(Pullups,$BA8)*E8,"--")} -> 0 | AD8: {=IF(F8<>"",INDEX(Muscleups,$BA8)*E8,"--")} -> 0 | AE8: {=IF(F8<>"",INDEX(Toestobar,$BA8)*E8,"--")} -> 0 | AF8: {=IF(F8<>"",INDEX(Sprint,$BA8)*E8,"--")} -> 0 | AG8: {=IF(F8<>"",INDEX(Run,$BA8)*E8,"--")} -> 0 | AH8: {=IF(F8<>"",INDEX(Jumpingjacks,$BA8)*E8,"--")} -> 0 | AI8: {=IF(F8<>"",INDEX(Highknees,$BA8)*E8,"--")} -> 0 | AJ8: {=IF(F8<>"",INDEX(Jumps,$BA8)*E8,"--")} -> 0 | AK8: {=IF(F8<>"",INDEX(Highjumps,$BA8)*E8,"--")} -> 0 | AL8: {=IF(F8<>"",INDEX(HHsquats,$BA8)*E8,"--")} -> 0 | AM8: {=IF(F8<>"",INDEX(Squats,$BA8)*E8,"--")} -> 0 | AN8: {=IF(F8<>"",INDEX(Pistols,$BA8)*E8,"--")} -> 0 | AO8: {=IF(F8<>"",INDEX(HHlunges,$BA8)*E8,"--")} -> 0 | AP8: {=IF(F8<>"",INDEX(Lunges,$BA8)*E8,"--")} -> 0 | AQ8: {=IF(F8<>"",INDEX(Splitlunges,$BA8)*E8,"--")} -> 0 | AR8: {=IF(F8<>"",INDEX(HHlungewalk,$BA8)*E8,"--")} -> 0 | AS8: {=IF(F8<>"",INDEX(Lungewalk,$BA8)*E8,"--")} -> 0 | AT8: {=IF(F8<>"",INDEX(Mountainclimbers,$BA8)*E8,"--")} -> 0 | AU8: {=IF(F8<>"",INDEX(Climbers,$BA8)*E8,"--")} -> 0 | AV8: {=IF(F8<>"",INDEX(Sprawlfrogs,$BA8)*E8,"--")} -> 0 | AW8: {=IF(F8<>"",INDEX(Froggers,$BA8)*E8,"--")} -> 0 | BA8: {=MATCH(1,(workout=F8)*(Tour=G8),0)} -> 208
A9: 2 | B9: B | C9: 41944 | D9: 0.0022569444 | E9: 1 | F9: Situps | G9: 100 | H9: * | I9: =IF(F9<>"",INDEX(Sprawls,$BA9)*E9,"--") -> 0 | J9: =IF(F9<>"",INDEX(Burpees,$BA9)*E9,"--") -> 0 | K9: =IF(F9<>"",INDEX(Burpeesquatjumps,$BA9)*E9,"--") -> 0 | L9: {=IF(F9<>"",INDEX(Burpeefrogs,$BA9)*E9,"--")} -> 0 | M9: {=IF(F9<>"",INDEX(Burpeedeepfrogs,$BA9)*E9,"--")} -> 0 | N9: {=IF(F9<>"",INDEX(Crunches,$BA9)*E9,"--")} -> 0 | O9: {=IF(F9<>"",INDEX(Situps,$BA9)*E9,"--")} -> 100 | P9: {=IF(F9<>"",INDEX(HHleglever,$BA9)*E9,"--")} -> 0 | Q9: {=IF(F9<>"",INDEX(Straightleglever,$BA9)*E9,"--")} -> 0 | R9: {=IF(F9<>"",INDEX(Jackknives,$BA9)*E9,"--")} -> 0 | S9: {=IF(F9<>"",INDEX(HHstandups,$BA9)*E9,"--")} -> 0 | T9: {=IF(F9<>"",INDEX(Standups,$BA9)*E9,"--")} -> 0 | U9: {=IF(F9<>"",INDEX(Standupjumps,$BA9)*E9,"--")} -> 0 | V9: {=IF(F9<>"",INDEX(Kneepushups,$BA9)*E9,"--")} -> 0 | W9: {=IF(F9<>"",INDEX(Pushups,$BA9)*E9,"--")} -> 0 | X9: {=IF(F9<>"",INDEX(OHPushups,$BA9)*E9,"--")} -> 0 | Y9: {=IF(F9<>"",INDEX(Pikes,$BA9)*E9,"--")} -> 0 | Z9: {=IF(F9<>"",INDEX(KippingHSPushups,$BA9)*E9,"--")} -> 0 | AA9: {=IF(F9<>"",INDEX(StrictHSPushups,$BA9)*E9,"--")} -> 0 | AB9: {=IF(F9<>"",INDEX(Jumpingpullups,$BA9)*E9,"--")} -> 0 | AC9: {=IF(F9<>"",INDEX(Pullups,$BA9)*E9,"--")} -> 0 | AD9: {=IF(F9<>"",INDEX(Muscleups,$BA9)*E9,"--")} -> 0 | AE9: {=IF(F9<>"",INDEX(Toestobar,$BA9)*E9,"--")} -> 0 | AF9: {=IF(F9<>"",INDEX(Sprint,$BA9)*E9,"--")} -> 0 | AG9: {=IF(F9<>"",INDEX(Run,$BA9)*E9,"--")} -> 0 | AH9: {=IF(F9<>"",INDEX(Jumpingjacks,$BA9)*E9,"--")} -> 0 | AI9: {=IF(F9<>"",INDEX(Highknees,$BA9)*E9,"--")} -> 0 | AJ9: {=IF(F9<>"",INDEX(Jumps,$BA9)*E9,"--")} -> 0 | AK9: {=IF(F9<>"",INDEX(Highjumps,$BA9)*E9,"--")} -> 0 | AL9: {=IF(F9<>"",INDEX(HHsquats,$BA9)*E9,"--")} -> 0 | AM9: {=IF(F9<>"",INDEX(Squats,$BA9)*E9,"--")} -> 0 | AN9: {=IF(F9<>"",INDEX(Pistols,$BA9)*E9,"--")} -> 0 | AO9: {=IF(F9<>"",INDEX(HHlunges,$BA9)*E9,"--")} -> 0 | AP9: {=IF(F9<>"",INDEX(Lunges,$BA9)*E9,"--")} -> 0 | AQ9: {=IF(F9<>"",INDEX(Splitlunges,$BA9)*E9,"--")} -> 0 | AR9: {=IF(F9<>"",INDEX(HHlungewalk,$BA9)*E9,"--")} -> 0 | AS9: {=IF(F9<>"",INDEX(Lungewalk,$BA9)*E9,"--")} -> 0 | AT9: {=IF(F9<>"",INDEX(Mountainclimbers,$BA9)*E9,"--")} -> 0 | AU9: {=IF(F9<>"",INDEX(Climbers,$BA9)*E9,"--")} -> 0 | AV9: {=IF(F9<>"",INDEX(Sprawlfrogs,$BA9)*E9,"--")} -> 0 | AW9: {=IF(F9<>"",INDEX(Froggers,$BA9)*E9,"--")} -> 0 | BA9: {=MATCH(1,(workout=F9)*(Tour=G9),0)} -> 259
A10: 2 | B10: C | C10: 41945 | D10: 0.00625 | E10: 1 | F10: Poseidon STD | G10: complet | H10: * | I10: =IF(F10<>"",INDEX(Sprawls,$BA10)*E10,"--") -> 0 | J10: =IF(F10<>"",INDEX(Burpees,$BA10)*E10,"--") -> 0 | K10: =IF(F10<>"",INDEX(Burpeesquatjumps,$BA10)*E10,"--") -> 0 | L10: {=IF(F10<>"",INDEX(Burpeefrogs,$BA10)*E10,"--")} -> 0 | M10: {=IF(F10<>"",INDEX(Burpeedeepfrogs,$BA10)*E10,"--")} -> 0 | N10: {=IF(F10<>"",INDEX(Crunches,$BA10)*E10,"--")} -> 0 | O10: {=IF(F10<>"",INDEX(Situps,$BA10)*E10,"--")} -> 0 | P10: {=IF(F10<>"",INDEX(HHleglever,$BA10)*E10,"--")} -> 0 | Q10: {=IF(F10<>"",INDEX(Straightleglever,$BA10)*E10,"--")} -> 0 | R10: {=IF(F10<>"",INDEX(Jackknives,$BA10)*E10,"--")} -> 0 | S10: {=IF(F10<>"",INDEX(HHstandups,$BA10)*E10,"--")} -> 0 | T10: {=IF(F10<>"",INDEX(Standups,$BA10)*E10,"--")} -> 0 | U10: {=IF(F10<>"",INDEX(Standupjumps,$BA10)*E10,"--")} -> 0 | V10: {=IF(F10<>"",INDEX(Kneepushups,$BA10)*E10,"--")} -> 0 | W10: {=IF(F10<>"",INDEX(Pushups,$BA10)*E10,"--")} -> 50 | X10: {=IF(F10<>"",INDEX(OHPushups,$BA10)*E10,"--")} -> 0 | Y10: {=IF(F10<>"",INDEX(Pikes,$BA10)*E10,"--")} -> 0 | Z10: {=IF(F10<>"",INDEX(KippingHSPushups,$BA10)*E10,"--")} -> 0 | AA10: {=IF(F10<>"",INDEX(StrictHSPushups,$BA10)*E10,"--")} -> 0 | AB10: {=IF(F10<>"",INDEX(Jumpingpullups,$BA10)*E10,"--")} -> 0 | AC10: {=IF(F10<>"",INDEX(Pullups,$BA10)*E10,"--")} -> 50 | AD10: {=IF(F10<>"",INDEX(Muscleups,$BA10)*E10,"--")} -> 0 | AE10: {=IF(F10<>"",INDEX(Toestobar,$BA10)*E10,"--")} -> 0 | AF10: {=IF(F10<>"",INDEX(Sprint,$BA10)*E10,"--")} -> 0 | AG10: {=IF(F10<>"",INDEX(Run,$BA10)*E10,"--")} -> 0 | AH10: {=IF(F10<>"",INDEX(Jumpingjacks,$BA10)*E10,"--")} -> 0 | AI10: {=IF(F10<>"",INDEX(Highknees,$BA10)*E10,"--")} -> 0 | AJ10: {=IF(F10<>"",INDEX(Jumps,$BA10)*E10,"--")} -> 0 | AK10: {=IF(F10<>"",INDEX(Highjumps,$BA10)*E10,"--")} -> 0 | AL10: {=IF(F10<>"",INDEX(HHsquats,$BA10)*E10,"--")} -> 0 | AM10: {=IF(F10<>"",INDEX(Squats,$BA10)*E10,"--")} -> 0 | AN10: {=IF(F10<>"",INDEX(Pistols,$BA10)*E10,"--")} -> 0 | AO10: {=IF(F10<>"",INDEX(HHlunges,$BA10)*E10,"--")} -> 0 | AP10: {=IF(F10<>"",INDEX(Lunges,$BA10)*E10,"--")} -> 0 | AQ10: {=IF(F10<>"",INDEX(Splitlunges,$BA10)*E10,"--")} -> 0 | AR10: {=IF(F10<>"",INDEX(HHlungewalk,$BA10)*E10,"--")} -> 0 | AS10: {=IF(F10<>"",INDEX(Lungewalk,$BA10)*E10,"--")} -> 0 | AT10: {=IF(F10<>"",INDEX(Mountainclimbers,$BA10)*E10,"--")} -> 0 | AU10: {=IF(F10<>"",INDEX(Climbers,$BA10)*E10,"--")} -> 0 | AV10: {=IF(F10<>"",INDEX(Sprawlfrogs,$BA10)*E10,"--")} -> 0 | AW10: {=IF(F10<>"",INDEX(Froggers,$BA10)*E10,"--")} -> 0 | BA10: {=MATCH(1,(workout=F10)*(Tour=G10),0)} -> 164
A11: 3 | B11: C | C11: 41946 | D11: 0.0071064815 | E11: 1 | F11: Aphrodite STD | G11: 1/5 | H11: * | I11: =IF(F11<>"",INDEX(Sprawls,$BA11)*E11,"--") -> 0 | J11: =IF(F11<>"",INDEX(Burpees,$BA11)*E11,"--") -> 50 | K11: =IF(F11<>"",INDEX(Burpeesquatjumps,$BA11)*E11,"--") -> 0 | L11: {=IF(F11<>"",INDEX(Burpeefrogs,$BA11)*E11,"--")} -> 0 | M11: {=IF(F11<>"",INDEX(Burpeedeepfrogs,$BA11)*E11,"--")} -> 0 | N11: {=IF(F11<>"",INDEX(Crunches,$BA11)*E11,"--")} -> 0 | O11: {=IF(F11<>"",INDEX(Situps,$BA11)*E11,"--")} -> 50 | P11: {=IF(F11<>"",INDEX(HHleglever,$BA11)*E11,"--")} -> 0 | Q11: {=IF(F11<>"",INDEX(Straightleglever,$BA11)*E11,"--")} -> 0 | R11: {=IF(F11<>"",INDEX(Jackknives,$BA11)*E11,"--")} -> 0 | S11: {=IF(F11<>"",INDEX(HHstandups,$BA11)*E11,"--")} -> 0 | T11: {=IF(F11<>"",INDEX(Standups,$BA11)*E11,"--")} -> 0 | U11: {=IF(F11<>"",INDEX(Standupjumps,$BA11)*E11,"--")} -> 0 | V11: {=IF(F11<>"",INDEX(Kneepushups,$BA11)*E11,"--")} -> 0 | W11: {=IF(F11<>"",INDEX(Pushups,$BA11)*E11,"--")} -> 0 | X11: {=IF(F11<>"",INDEX(OHPushups,$BA11)*E11,"--")} -> 0 | Y11: {=IF(F11<>"",INDEX(Pikes,$BA11)*E11,"--")} -> 0 | Z11: {=IF(F11<>"",INDEX(KippingHSPushups,$BA11)*E11,"--")} -> 0 | AA11: {=IF(F11<>"",INDEX(StrictHSPushups,$BA11)*E11,"--")} -> 0 | AB11: {=IF(F11<>"",INDEX(Jumpingpullups,$BA11)*E11,"--")} -> 0 | AC11: {=IF(F11<>"",INDEX(Pullups,$BA11)*E11,"--")} -> 0 | AD11: {=IF(F11<>"",INDEX(Muscleups,$BA11)*E11,"--")} -> 0 | AE11: {=IF(F11<>"",INDEX(Toestobar,$BA11)*E11,"--")} -> 0 | AF11: {=IF(F11<>"",INDEX(Sprint,$BA11)*E11,"--")} -> 0 | AG11: {=IF(F11<>"",INDEX(Run,$BA11)*E11,"--")} -> 0 | AH11: {=IF(F11<>"",INDEX(Jumpingjacks,$BA11)*E11,"--")} -> 0 | AI11: {=IF(F11<>"",INDEX(Highknees,$BA11)*E11,"--")} -> 0 | AJ11: {=IF(F11<>"",INDEX(Jumps,$BA11)*E11,"--")} -> 0 | AK11: {=IF(F11<>"",INDEX(Highjumps,$BA11)*E11,"--")} -> 0 | AL11: {=IF(F11<>"",INDEX(HHsquats,$BA11)*E11,"--")} -> 0 | AM11: {=IF(F11<>"",INDEX(Squats,$BA11)*E11,"--")} -> 50 | AN11: {=IF(F11<>"",INDEX(Pistols,$BA11)*E11,"--")} -> 0 | AO11: {=IF(F11<>"",INDEX(HHlunges,$BA11)*E11,"--")} -> 0 | AP11: {=IF(F11<>"",INDEX(Lunges,$BA11)*E11,"--")} -> 0 | AQ11: {=IF(F11<>"",INDEX(Splitlunges,$BA11)*E11,"--")} -> 0 | AR11: {=IF(F11<>"",INDEX(HHlungewalk,$BA11)*E11,"--")} -> 0 | AS11: {=IF(F11<>"",INDEX(Lungewalk,$BA11)*E11,"--")} -> 0 | AT11: {=IF(F11<>"",INDEX(Mountainclimbers,$BA11)*E11,"--")} -> 0 | AU11: {=IF(F11<>"",INDEX(Climbers,$BA11)*E11,"--")} -> 0 | AV11: {=IF(F11<>"",INDEX(Sprawlfrogs,$BA11)*E11,"--")} -> 0 | AW11: {=IF(F11<>"",INDEX(Froggers,$BA11)*E11,"--")} -> 0 | BA11: {=MATCH(1,(workout=F11)*(Tour=G11),0)} -> 6
A12: 3 | B12: C | C12: 41947 | D12: 0.027928241 | E12: 1 | F12: Dione STD | G12: complet | H12: * | I12: =IF(F12<>"",INDEX(Sprawls,$BA12)*E12,"--") -> 0 | J12: =IF(F12<>"",INDEX(Burpees,$BA12)*E12,"--") -> 150 | K12: =IF(F12<>"",INDEX(Burpeesquatjumps,$BA12)*E12,"--") -> 0 | L12: {=IF(F12<>"",INDEX(Burpeefrogs,$BA12)*E12,"--")} -> 0 | M12: {=IF(F12<>"",INDEX(Burpeedeepfrogs,$BA12)*E12,"--")} -> 0 | N12: {=IF(F12<>"",INDEX(Crunches,$BA12)*E12,"--")} -> 0 | O12: {=IF(F12<>"",INDEX(Situps,$BA12)*E12,"--")} -> 150 | P12: {=IF(F12<>"",INDEX(HHleglever,$BA12)*E12,"--")} -> 0 | Q12: {=IF(F12<>"",INDEX(Straightleglever,$BA12)*E12,"--")} -> 150 | R12: {=IF(F12<>"",INDEX(Jackknives,$BA12)*E12,"--")} -> 0 | S12: {=IF(F12<>"",INDEX(HHstandups,$BA12)*E12,"--")} -> 0 | T12: {=IF(F12<>"",INDEX(Standups,$BA12)*E12,"--")} -> 0 | U12: {=IF(F12<>"",INDEX(Standupjumps,$BA12)*E12,"--")} -> 0 | V12: {=IF(F12<>"",INDEX(Kneepushups,$BA12)*E12,"--")} -> 0 | W12: {=IF(F12<>"",INDEX(Pushups,$BA12)*E12,"--")} -> 0 | X12: {=IF(F12<>"",INDEX(OHPushups,$BA12)*E12,"--")} -> 0 | Y12: {=IF(F12<>"",INDEX(Pikes,$BA12)*E12,"--")} -> 0 | Z12: {=IF(F12<>"",INDEX(KippingHSPushups,$BA12)*E12,"--")} -> 0 | AA12: {=IF(F12<>"",INDEX(StrictHSPushups,$BA12)*E12,"--")} -> 0 | AB12: {=IF(F12<>"",INDEX(Jumpingpullups,$BA12)*E12,"--")} -> 0 | AC12: {=IF(F12<>"",INDEX(Pullups,$BA12)*E12,"--")} -> 0 | AD12: {=IF(F12<>"",INDEX(Muscleups,$BA12)*E12,"--")} -> 0 | AE12: {=IF(F12<>"",INDEX(Toestobar,$BA12)*E12,"--")} -> 0 | AF12: {=IF(F12<>"",INDEX(Sprint,$BA12)*E12,"--")} -> 0 | AG12: {=IF(F12<>"",INDEX(Run,$BA12)*E12,"--")} -> 0 | AH12: {=IF(F12<>"",INDEX(Jumpingjacks,$BA12)*E12,"--")} -> 450 | AI12: {=IF(F12<>"",INDEX(Highknees,$BA12)*E12,"--")} -> 0 | AJ12: {=IF(F12<>"",INDEX(Jumps,$BA12)*E12,"--")} -> 0 | AK12: {=IF(F12<>"",INDEX(Highjumps,$BA12)*E12,"--")} -> 0 | AL12: {=IF(F12<>"",INDEX(HHsquats,$BA12)*E12,"--")} -> 0 | AM12: {=IF(F12<>"",INDEX(Squats,$BA12)*E12,"--")} -> 0 | AN12: {=IF(F12<>"",INDEX(Pistols,$BA12)*E12,"--")} -> 0 | AO12: {=IF(F12<>"",INDEX(HHlunges,$BA12)*E12,"--")} -> 0 | AP12: {=IF(F12<>"",INDEX(Lunges,$BA12)*E12,"--")} -> 0 | AQ12: {=IF(F12<>"",INDEX(Splitlunges,$BA12)*E12,"--")} -> 0 | AR12: {=IF(F12<>"",INDEX(HHlungewalk,$BA12)*E12,"--")} -> 0 | AS12: {=IF(F12<>"",INDEX(Lungewalk,$BA12)*E12,"--")} -> 0 | AT12: {=IF(F12<>"",INDEX(Mountainclimbers,$BA12)*E12,"--")} -> 0 | AU12: {=IF(F12<>"",INDEX(Climbers,$BA12)*E12,"--")} -> 0 | AV12: {=IF(F12<>"",INDEX(Sprawlfrogs,$BA12)*E12,"--")} -> 0 | AW12: {=IF(F12<>"",INDEX(Froggers,$BA12)*E12,"--")} -> 0 | BA12: {=MATCH(1,(workout=F12)*(Tour=G12),0)} -> 51
A13: 4 | B13: B | C13: 41949 | D13: 0.016493056 | E13: 1 | F13: 5k | H13: * | I13: =IF(F13<>"",INDEX(Sprawls,$BA13)*E13,"--") -> 0 | J13: =IF(F13<>"",INDEX(Burpees,$BA13)*E13,"--") -> 0 | K13: =IF(F13<>"",INDEX(Burpeesquatjumps,$BA13)*E13,"--") -> 0 | L13: {=IF(F13<>"",INDEX(Burpeefrogs,$BA13)*E13,"--")} -> 0 | M13: {=IF(F13<>"",INDEX(Burpeedeepfrogs,$BA13)*E13,"--")} -> 0 | N13: {=IF(F13<>"",INDEX(Crunches,$BA13)*E13,"--")} -> 0 | O13: {=IF(F13<>"",INDEX(Situps,$BA13)*E13,"--")} -> 0 | P13: {=IF(F13<>"",INDEX(HHleglever,$BA13)*E13,"--")} -> 0 | Q13: {=IF(F13<>"",INDEX(Straightleglever,$BA13)*E13,"--")} -> 0 | R13: {=IF(F13<>"",INDEX(Jackknives,$BA13)*E13,"--")} -> 0 | S13: {=IF(F13<>"",INDEX(HHstandups,$BA13)*E13,"--")} -> 0 | T13: {=IF(F13<>"",INDEX(Standups,$BA13)*E13,"--")} -> 0 | U13: {=IF(F13<>"",INDEX(Standupjumps,$BA13)*E13,"--")} -> 0 | V13: {=IF(F13<>"",INDEX(Kneepushups,$BA13)*E13,"--")} -> 0 | W13: {=IF(F13<>"",INDEX(Pushups,$BA13)*E13,"--")} -> 0 | X13: {=IF(F13<>"",INDEX(OHPushups,$BA13)*E13,"--")} -> 0 | Y13: {=IF(F13<>"",INDEX(Pikes,$BA13)*E13,"--")} -> 0 | Z13: {=IF(F13<>"",INDEX(KippingHSPushups,$BA13)*E13,"--")} -> 0 | AA13: {=IF(F13<>"",INDEX(StrictHSPushups,$BA13)*E13,"--")} -> 0 | AB13: {=IF(F13<>"",INDEX(Jumpingpullups,$BA13)*E13,"--")} -> 0 | AC13: {=IF(F13<>"",INDEX(Pullups,$BA13)*E13,"--")} -> 0 | AD13: {=IF(F13<>"",INDEX(Muscleups,$BA13)*E13,"--")} -> 0 | AE13: {=IF(F13<>"",INDEX(Toestobar,$BA13)*E13,"--")} -> 0 | AF13: {=IF(F13<>"",INDEX(Sprint,$BA13)*E13,"--")} -> 0 | AG13: {=IF(F13<>"",INDEX(Run,$BA13)*E13,"--")} -> 5 | AH13: {=IF(F13<>"",INDEX(Jumpingjacks,$BA13)*E13,"--")} -> 0 | AI13: {=IF(F13<>"",INDEX(Highknees,$BA13)*E13,"--")} -> 0 | AJ13: {=IF(F13<>"",INDEX(Jumps,$BA13)*E13,"--")} -> 0 | AK13: {=IF(F13<>"",INDEX(Highjumps,$BA13)*E13,"--")} -> 0 | AL13: {=IF(F13<>"",INDEX(HHsquats,$BA13)*E13,"--")} -> 0 | AM13: {=IF(F13<>"",INDEX(Squats,$BA13)*E13,"--")} -> 0 | AN13: {=IF(F13<>"",INDEX(Pistols,$BA13)*E13,"--")} -> 0 | AO13: {=IF(F13<>"",INDEX(HHlunges,$BA13)*E13,"--")} -> 0 | AP13: {=IF(F13<>"",INDEX(Lunges,$BA13)*E13,"--")} -> 0 | AQ13: {=IF(F13<>"",INDEX(Splitlunges,$BA13)*E13,"--")} -> 0 | AR13: {=IF(F13<>"",INDEX(HHlungewalk,$BA13)*E13,"--")} -> 0 | AS13: {=IF(F13<>"",INDEX(Lungewalk,$BA13)*E13,"--")} -> 0 | AT13: {=IF(F13<>"",INDEX(Mountainclimbers,$BA13)*E13,"--")} -> 0 | AU13: {=IF(F13<>"",INDEX(Climbers,$BA13)*E13,"--")} -> 0 | AV13: {=IF(F13<>"",INDEX(Sprawlfrogs,$BA13)*E13,"--")} -> 0 | AW13: {=IF(F13<>"",INDEX(Froggers,$BA13)*E13,"--")} -> 0 | BA13: {=MATCH(1,(workout=F13)*(Tour=G13),0)} -> 602

Sheet Base de données
B1: Tours | C1: Sprawls | D1: Burpees | E1: Burpee Squat Jump | F1: Burpee Frogs | G1: Burpee deepfrogs | H1: Crunches | I1: Situps | J1: HH leg lever | K1: Straight Leg Lever | L1: Jackknives | M1: HH standups | N1: Standups | O1: Standup jumps | P1: Knee pushups | Q1: Pushups | R1: OH Pushups | S1: Pikes | T1: Kipping HS Pushups | U1: Strict HS Pushups | V1: Jumping pullups | W1: Pullups | X1: Muscleups | Y1: Toes to bar | Z1: Sprint | AA1: Run | AB1: Jumping Jacks | AC1: High Knees | AD1: Jumps | AE1: High Jumps | AF1: HH squats | AG1: Squats | AH1: Pistols | AI1: HH lunges | AJ1: Lunges | AK1: Split lunges | AL1: HH lunge walk | AM1: Lunge walk | AN1: Mountain Climbers | AO1: Climbers | AP1: Sprawl frogs | AQ1: Froggers | AR1: empty2 | AS1: empty3 | AT1: empty4 | AU1: empty5 | AV1: empty6 | AW1: empty7 | AX1: empty8
A2: Aphrodite END | B2: 1/5 | AY2: Aphrodite END | AZ2: 1/5
A3: Aphrodite END | B3: 2/5 | AY3: Aphrodite STD | AZ3: 2/5
A4: Aphrodite END | B4: 3/5 | AY4: Aphrodite STG | AZ4: 3/5
A5: Aphrodite END | B5: 4/5 | AY5: Apollon END | AZ5: 4/5
A6: Aphrodite END | B6: complet | AY6: Apollon STD | AZ6: complet
A7: Aphrodite STD | B7: 1/5 | D7: 50 | I7: 50 | AG7: 50 | AY7: Apollon STG | AZ7: 1/3
A8: Aphrodite STD | B8: 2/5 | AY8: Ares END | AZ8: 2/3
A9: Aphrodite STD | B9: 3/5 | AY9: Ares STD | AZ9: 2/10
A10: Aphrodite STD | B10: 4/5 | AY10: Ares STG | AZ10: 4/10
A11: Aphrodite STD | B11: complet | D11: 150 | I11: 150 | AG11: 150 | AY11: Artémis END | AZ11: 6/10
A12: Aphrodite STG | B12: 1/5 | AY12: Artémis STD | AZ12: 8/10
A13: Aphrodite STG | B13: 2/5 | AY13: Artémis STG | AZ13: 1/6
A14: Aphrodite STG | B14: 3/5 | AY14: Atlas END | AZ14: 2/6
A15: Aphrodite STG | B15: 4/5 | AY15: Atlas STD | AZ15: 3/6
A16: Aphrodite STG | B16: complet | E16: 150 | L16: 150 | AH16: 150 | AY16: Atlas STG | AZ16: 4/6
A17: Apollon END | B17: 1/3 | AY17: Dione END | AZ17: 5/6
A18: Apollon END | B18: 2/3 | AY18: Dione STD | AZ18: 1/4
A19: Apollon END | B19: complet | AY19: Dione STG | AZ19: 2/4
A20: Apollon STD | B20: 1/3 | AY20: Gaia END | AZ20: 3/4
A21: Apollon STD | B21: 2/3 | AY21: Gaia STD | AZ21: Max
A22: Apollon STD | B22: complet | D22: 75 | AA22: 2.4 | AG22: 150 | AY22: Gaia STG | AZ22: 10
A23: Apollon STG | B23: 1/3 | AY23: Hades END | AZ23: 25
A24: Apollon STG | B24: 2/3 | AY24: Hades STD | AZ24: 50
A25: Apollon STG | B25: complet | AY25: Hades STG | AZ25: 100
A26: Ares END | B26: 1/5 | AY26: Helios END | AZ26: 250
A27: Ares END | B27: 2/5 | AY27: Helios STD | AZ27: 500
A28: Ares END | B28: 3/5 | AY28: Helios STG | AZ28: 750
A29: Ares END | B29: 4/5 | AY29: Hera END | AZ29: 1000
A30: Ares END | B30: complet | AY30: Hera STD | AZ30: 1500
A31: Ares STD | B31: 1/5 | AY31: Hera STG | AZ31: 2000
A32: Ares STD | B32: 2/5 | AY32: Hyperion END
A33: Ares STD | B33: 3/5 | AY33: Hyperion STD
A34: Ares STD | B34: 4/5 | AY34: Hyperion STG
A35: Ares STD | B35: complet | L35: 35 | W35: 35 | Z35: 0.4 | AY35: Iris END
A36: Ares STG | B36: 1/5 | AY36: Iris STD
A37: Ares STG | B37: 2/5 | AY37: Iris STG
A38: Ares STG | B38: 3/5 | AY38: Kentauros END
A39: Ares STG | B39: 4/5 | AY39: Kentauros STD
A40: Ares STG | B40: complet | AY40: Kentauros STG
A41: Artémis END | B41: complet | AY41: Kronos END
A42: Artémis STD | B42: complet | D42: 100 | Q42: 100 | W42: 50 | AG42: 150 | AY42: Kronos STD
A43: Artémis STG | B43: complet | AY43: Kronos STG
A44: Atlas END | B44: complet | AY44: Metis END
A45: Atlas STD | B45: complet | D45: 50 | K45: 50 | AA45: 2 | AD45: 100 | AG45: 50 | AY45: Metis STD
A46: Atlas STG | B46: complet | AY46: Metis STG
A47: Dione END | B47: 1/3 | AY47: Poseidon END
A48: Dione END | B48: 2/3 | AY48: Poseidon STD
A49: Dione END | B49: complet | AY49: Poseidon STG
A50: Dione STD | B50: 1/3 | AY50: Uranos END
A51: Dione STD | B51: 2/3 | AY51: Uranos STD
A52: Dione STD | B52: complet | D52: 150 | I52: 150 | K52: 150 | AB52: 450 | AY52: Uranos STG
A53: Dione STG | B53: 1/3 | AY53: Venus END
A54: Dione STG | B54: 2/3 | AY54: Venus STD
A55: Dione STG | B55: complet | AY55: Venus STG
A56: Gaia END | B56: 2/10 | AY56: Zeus END
A57: Gaia END | B57: 4/10 | AY57: Zeus STD
A58: Gaia END | B58: 6/10 | AY58: Zeus STG
A59: Gaia END | B59: 8/10 | AY59: Burpee deepfrogs
A60: Gaia END | B60: complet | AY60: Burpee Frogs
A61: Gaia STD | B61: 2/10 | AY61: Burpee Squat Jump
A62: Gaia STD | B62: 4/10 | AY62: Burpees
A63: Gaia STD | B63: 6/10 | AY63: Climbers
A64: Gaia STD | B64: 8/10 | AY64: Crunches
A65: Gaia STD | B65: complet | N65: 100 | AB65: 400 | AD65: 300 | AQ65: 200 | AY65: Froggers
A66: Gaia STG | B66: 2/10 | AY66: HH leg lever
A67: Gaia STG | B67: 4/10 | AY67: HH lunge walk
A68: Gaia STG | B68: 6/10 | AY68: HH lunges
A69: Gaia STG | B69: 8/10 | AY69: HH squats
A70: Gaia STG | B70: complet | AY70: HH standups
A71: Hades END | B71: 1/3 | AY71: High Jumps
A72: Hades END | B72: 2/3 | AY72: High Knees
A73: Hades END | B73: complet | AY73: High Knees
A74: Hades STD | B74: 1/3 | AY74: Jackknives
A75: Hades STD | B75: 2/3 | AY75: Jumping Jacks
A76: Hades STD | B76: complet | D76: 150 | Q76: 45 | W76: 45 | AA76: 0.24 | AY76: Jumping pullups
A77: Hades STG | B77: 1/3 | AY77: Jumps
A78: Hades STG | B78: 2/3 | AY78: Kipping HS Pushups
A79: Hades STG | B79: complet | AY79: Knee pushups
A80: Helios END | B80: complet | AY80: Lunge walk
A81: Helios STD | B81: complet | D81: 200 | I81: 125 | AJ81: 250 | AY81: Lunges
A82: Helios STG | B82: complet | AY82: Mountain Climbers
A83: Hera END | B83: 1/5 | AY83: Muscleups
A84: Hera END | B84: 2/5 | AY84: OH Pushups
A85: Hera END | B85: 3/5 | AY85: Pikes
A86: Hera END | B86: 4/5 | AY86: Pistols
A87: Hera END | B87: complet | AY87: Pullups
A88: Hera STD | B88: 1/5 | AY88: Pushups
A89: Hera STD | B89: 2/5 | AY89: Situps
A90: Hera STD | B90: 3/5 | AY90: Split lunges
A91: Hera STD | B91: 4/5 | AY91: Sprawl frogs
A92: Hera STD | B92: complet | AA92: 2 | AD92: 200 | AY92: Sprawls
A93: Hera STG | B93: 1/5 | AY93: Squats
A94: Hera STG | B94: 2/5 | AY94: Standup jumps
A95: Hera STG | B95: 3/5 | AY95: Standups
A96: Hera STG | B96: 4/5 | AY96: Straight Leg Lever
A97: Hera STG | B97: complet | AY97: Strict HS Pushups
A98: Hyperion END | B98: 1/5 | AY98: Toes to bar
A99: Hyperion END | B99: 2/5 | AY99: 40m
A100: Hyperion END | B100: 3/5 | AY100: 100m
...

Sheet Bilan semaine
E1: Quelques exercices incontournables (voir si les choix sont justifiés)
A2: Semaine | B2: Durée coach | C2: Durée Bonus | D2: Durée totale | E2: Burpees | F2: Burpee frogs | G2: Situps | H2: Straight leglever | I2: Pushups | J2: Pullups | K2: Sprint | L2: Run | M2: Jumps | N2: Squats | O2: Climbers
A3: 1 | B3: {=SUMPRODUCT(('Compteur FL'!$A$4:$A$13=A3)*('Compteur FL'!$B$4:$B$13="C")*('Compteur FL'!$D$4:$D$13))} -> 0.030983796 | C3: {=SUMPRODUCT(('Compteur FL'!$A$4:$A$13=A3)*('Compteur FL'!$B$4:$B$13="B")*('Compteur FL'!$D$4:$D$13))} -> 0.0036111111 | D3: =B3+C3 -> 0.034594907 | E3: {=SUM(IF('Compteur FL'!$A$4:$A$13=A3,'Compteur FL'!$J$4:$J$13,0))} -> 240 | F3: {=SUM(IF('Compteur FL'!$A$4:$A$13=A3,'Compteur FL'!$L$4:$L$13,0))} -> 0 | G3: {=SUM(IF('Compteur FL'!$A$4:$A$13=A3,'Compteur FL'!$O$4:$O$13,0))} -> 150 | H3: {=SUM(IF('Compteur FL'!$A$4:$A$13=A3,'Compteur FL'!$Q$4:$Q$13,0))} -> 50 | I3: {=SUM(IF('Compteur FL'!$A$4:$A$13=A3,'Compteur FL'!$W$4:$W$13,0))} -> 0 | J3: {=SUM(IF('Compteur FL'!$A$4:$A$13=A3,'Compteur FL'!$AC$4:$AC$13,0))} -> 0 | K3: {=SUM(IF('Compteur FL'!$A$4:$A$13=A3,'Compteur FL'!$AF$4:$AF$13,0))} -> 0 | L3: {=SUM(IF('Compteur FL'!$A$4:$A$13=A3,'Compteur FL'!$AG$4:$AG$13,0))} -> 0 | M3: {=SUM(IF('Compteur FL'!$A$4:$A$13=A3,'Compteur FL'!$AJ$4:$AJ$13,0))} -> 0 | N3: {=SUM(IF('Compteur FL'!$A$4:$A$13=A3,'Compteur FL'!$AM$4:$AM$13,0))} -> 150 | O3: {=SUM(IF('Compteur FL'!$A$4:$A$13=A3,'Compteur FL'!$AU$4:$AU$13,0))} -> 0
A4: 2 | B4: {=SUMPRODUCT(('Compteur FL'!$A$4:$A$13=A4)*('Compteur FL'!$B$4:$B$13="C")*('Compteur FL'!$D$4:$D$13))} -> 0.019236111 | C4: {=SUMPRODUCT(('Compteur FL'!$A$4:$A$13=A4)*('Compteur FL'!$B$4:$B$13="B")*('Compteur FL'!$D$4:$D$13))} -> 0.0057291667 | D4: =B4+C4 -> 0.024965278 | E4: {=SUM(IF('Compteur FL'!$A$4:$A$13=A4,'Compteur FL'!$J$4:$J$13,0))} -> 50 | F4: {=SUM(IF('Compteur FL'!$A$4:$A$13=A4,'Compteur FL'!$L$4:$L$13,0))} -> 0.24 | G4: {=SUM(IF('Compteur FL'!$A$4:$A$13=A4,'Compteur FL'!$O$4:$O$13,0))} -> 100 | H4: {=SUM(IF('Compteur FL'!$A$4:$A$13=A4,'Compteur FL'!$Q$4:$Q$13,0))} -> 0 | I4: {=SUM(IF('Compteur FL'!$A$4:$A$13=A4,'Compteur FL'!$W$4:$W$13,0))} -> 50 | J4: {=SUM(IF('Compteur FL'!$A$4:$A$13=A4,'Compteur FL'!$AC$4:$AC$13,0))} -> 50 | K4: {=SUM(IF('Compteur FL'!$A$4:$A$13=A4,'Compteur FL'!$AF$4:$AF$13,0))} -> 0 | L4: {=SUM(IF('Compteur FL'!$A$4:$A$13=A4,'Compteur FL'!$AG$4:$AG$13,0))} -> 0 | M4: {=SUM(IF('Compteur FL'!$A$4:$A$13=A4,'Compteur FL'!$AJ$4:$AJ$13,0))} -> 0 | N4: {=SUM(IF('Compteur FL'!$A$4:$A$13=A4,'Compteur FL'!$AM$4:$AM$13,0))} -> 0 | O4: {=SUM(IF('Compteur FL'!$A$4:$A$13=A4,'Compteur FL'!$AU$4:$AU$13,0))} -> 0
A5: 3 | B5: {=SUMPRODUCT(('Compteur FL'!$A$4:$A$13=A5)*('Compteur FL'!$B$4:$B$13="C")*('Compteur FL'!$D$4:$D$13))} -> 0.035034722 | C5: {=SUMPRODUCT(('Compteur FL'!$A$4:$A$13=A5)*('Compteur FL'!$B$4:$B$13="B")*('Compteur FL'!$D$4:$D$13))} -> 0 | D5: =B5+C5 -> 0.035034722 | E5: {=SUM(IF('Compteur FL'!$A$4:$A$13=A5,'Compteur FL'!$J$4:$J$13,0))} -> 200 | F5: {=SUM(IF('Compteur FL'!$A$4:$A$13=A5,'Compteur FL'!$L$4:$L$13,0))} -> 0 | G5: {=SUM(IF('Compteur FL'!$A$4:$A$13=A5,'Compteur FL'!$O$4:$O$13,0))} -> 200 | H5: {=SUM(IF('Compteur FL'!$A$4:$A$13=A5,'Compteur FL'!$Q$4:$Q$13,0))} -> 150 | I5: {=SUM(IF('Compteur FL'!$A$4:$A$13=A5,'Compteur FL'!$W$4:$W$13,0))} -> 0 | J5: {=SUM(IF('Compteur FL'!$A$4:$A$13=A5,'Compteur FL'!$AC$4:$AC$13,0))} -> 0 | K5: {=SUM(IF('Compteur FL'!$A$4:$A$13=A5,'Compteur FL'!$AF$4:$AF$13,0))} -> 0 | L5: {=SUM(IF('Compteur FL'!$A$4:$A$13=A5,'Compteur FL'!$AG$4:$AG$13,0))} -> 0 | M5: {=SUM(IF('Compteur FL'!$A$4:$A$13=A5,'Compteur FL'!$AJ$4:$AJ$13,0))} -> 0 | N5: {=SUM(IF('Compteur FL'!$A$4:$A$13=A5,'Compteur FL'!$AM$4:$AM$13,0))} -> 50 | O5: {=SUM(IF('Compteur FL'!$A$4:$A$13=A5,'Compteur FL'!$AU$4:$AU$13,0))} -> 0
A6: 4 | B6: {=SUMPRODUCT(('Compteur FL'!$A$4:$A$13=A6)*('Compteur FL'!$B$4:$B$13="C")*('Compteur FL'!$D$4:$D$13))} -> 0 | C6: {=SUMPRODUCT(('Compteur FL'!$A$4:$A$13=A6)*('Compteur FL'!$B$4:$B$13="B")*('Compteur FL'!$D$4:$D$13))} -> 0.016493056 | D6: =B6+C6 -> 0.016493056 | E6: {=SUM(IF('Compteur FL'!$A$4:$A$13=A6,'Compteur FL'!$J$4:$J$13,0))} -> 0 | F6: {=SUM(IF('Compteur FL'!$A$4:$A$13=A6,'Compteur FL'!$L$4:$L$13,0))} -> 0 | G6: {=SUM(IF('Compteur FL'!$A$4:$A$13=A6,'Compteur FL'!$O$4:$O$13,0))} -> 0 | H6: {=SUM(IF('Compteur FL'!$A$4:$A$13=A6,'Compteur FL'!$Q$4:$Q$13,0))} -> 0 | I6: {=SUM(IF('Compteur FL'!$A$4:$A$13=A6,'Compteur FL'!$W$4:$W$13,0))} -> 0 | J6: {=SUM(IF('Compteur FL'!$A$4:$A$13=A6,'Compteur FL'!$AC$4:$AC$13,0))} -> 0 | K6: {=SUM(IF('Compteur FL'!$A$4:$A$13=A6,'Compteur FL'!$AF$4:$AF$13,0))} -> 0 | L6: {=SUM(IF('Compteur FL'!$A$4:$A$13=A6,'Compteur FL'!$AG$4:$AG$13,0))} -> 5 | M6: {=SUM(IF('Compteur FL'!$A$4:$A$13=A6,'Compteur FL'!$AJ$4:$AJ$13,0))} -> 0 | N6: {=SUM(IF('Compteur FL'!$A$4:$A$13=A6,'Compteur FL'!$AM$4:$AM$13,0))} -> 0 | O6: {=SUM(IF('Compteur FL'!$A$4:$A$13=A6,'Compteur FL'!$AU$4:$AU$13,0))} -> 0
A7: 5 | B7: {=SUMPRODUCT(('Compteur FL'!$A$4:$A$13=A7)*('Compteur FL'!$B$4:$B$13="C")*('Compteur FL'!$D$4:$D$13))} -> 0 | C7: {=SUMPRODUCT(('Compteur FL'!$A$4:$A$13=A7)*('Compteur FL'!$B$4:$B$13="B")*('Compteur FL'!$D$4:$D$13))} -> 0 | D7: =B7+C7 -> 0 | E7: {=SUM(IF('Compteur FL'!$A$4:$A$13=A7,'Compteur FL'!$J$4:$J$13,0))} -> 0 | F7: {=SUM(IF('Compteur FL'!$A$4:$A$13=A7,'Compteur FL'!$L$4:$L$13,0))} -> 0 | G7: {=SUM(IF('Compteur FL'!$A$4:$A$13=A7,'Compteur FL'!$O$4:$O$13,0))} -> 0 | H7: {=SUM(IF('Compteur FL'!$A$4:$A$13=A7,'Compteur FL'!$Q$4:$Q$13,0))} -> 0 | I7: {=SUM(IF('Compteur FL'!$A$4:$A$13=A7,'Compteur FL'!$W$4:$W$13,0))} -> 0 | J7: {=SUM(IF('Compteur FL'!$A$4:$A$13=A7,'Compteur FL'!$AC$4:$AC$13,0))} -> 0 | K7: {=SUM(IF('Compteur FL'!$A$4:$A$13=A7,'Compteur FL'!$AF$4:$AF$13,0))} -> 0 | L7: {=SUM(IF('Compteur FL'!$A$4:$A$13=A7,'Compteur FL'!$AG$4:$AG$13,0))} -> 0 | M7: {=SUM(IF('Compteur FL'!$A$4:$A$13=A7,'Compteur FL'!$AJ$4:$AJ$13,0))} -> 0 | N7: {=SUM(IF('Compteur FL'!$A$4:$A$13=A7,'Compteur FL'!$AM$4:$AM$13,0))} -> 0 | O7: {=SUM(IF('Compteur FL'!$A$4:$A$13=A7,'Compteur FL'!$AU$4:$AU$13,0))} -> 0
A8: 6 | B8: {=SUMPRODUCT(('Compteur FL'!$A$4:$A$13=A8)*('Compteur FL'!$B$4:$B$13="C")*('Compteur FL'!$D$4:$D$13))} -> 0 | C8: {=SUMPRODUCT(('Compteur FL'!$A$4:$A$13=A8)*('Compteur FL'!$B$4:$B$13="B")*('Compteur FL'!$D$4:$D$13))} -> 0 | D8: =B8+C8 -> 0 | E8: {=SUM(IF('Compteur FL'!$A$4:$A$13=A8,'Compteur FL'!$J$4:$J$13,0))} -> 0 | F8: {=SUM(IF('Compteur FL'!$A$4:$A$13=A8,'Compteur FL'!$L$4:$L$13,0))} -> 0 | G8: {=SUM(IF('Compteur FL'!$A$4:$A$13=A8,'Compteur FL'!$O$4:$O$13,0))} -> 0 | H8: {=SUM(IF('Compteur FL'!$A$4:$A$13=A8,'Compteur FL'!$Q$4:$Q$13,0))} -> 0 | I8: {=SUM(IF('Compteur FL'!$A$4:$A$13=A8,'Compteur FL'!$W$4:$W$13,0))} -> 0 | J8: {=SUM(IF('Compteur FL'!$A$4:$A$13=A8,'Compteur FL'!$AC$4:$AC$13,0))} -> 0 | K8: {=SUM(IF('Compteur FL'!$A$4:$A$13=A8,'Compteur FL'!$AF$4:$AF$13,0))} -> 0 | L8: {=SUM(IF('Compteur FL'!$A$4:$A$13=A8,'Compteur FL'!$AG$4:$AG$13,0))} -> 0 | M8: {=SUM(IF('Compteur FL'!$A$4:$A$13=A8,'Compteur FL'!$AJ$4:$AJ$13,0))} -> 0 | N8: {=SUM(IF('Compteur FL'!$A$4:$A$13=A8,'Compteur FL'!$AM$4:$AM$13,0))} -> 0 | O8: {=SUM(IF('Compteur FL'!$A$4:$A$13=A8,'Compteur FL'!$AU$4:$AU$13,0))} -> 0
A9: 7 | B9: {=SUMPRODUCT(('Compteur FL'!$A$4:$A$13=A9)*('Compteur FL'!$B$4:$B$13="C")*('Compteur FL'!$D$4:$D$13))} -> 0 | C9: {=SUMPRODUCT(('Compteur FL'!$A$4:$A$13=A9)*('Compteur FL'!$B$4:$B$13="B")*('Compteur FL'!$D$4:$D$13))} -> 0 | D9: =B9+C9 -> 0 | E9: {=SUM(IF('Compteur FL'!$A$4:$A$13=A9,'Compteur FL'!$J$4:$J$13,0))} -> 0 | F9: {=SUM(IF('Compteur FL'!$A$4:$A$13=A9,'Compteur FL'!$L$4:$L$13,0))} -> 0 | G9: {=SUM(IF('Compteur FL'!$A$4:$A$13=A9,'Compteur FL'!$O$4:$O$13,0))} -> 0 | H9: {=SUM(IF('Compteur FL'!$A$4:$A$13=A9,'Compteur FL'!$Q$4:$Q$13,0))} -> 0 | I9: {=SUM(IF('Compteur FL'!$A$4:$A$13=A9,'Compteur FL'!$W$4:$W$13,0))} -> 0 | J9: {=SUM(IF('Compteur FL'!$A$4:$A$13=A9,'Compteur FL'!$AC$4:$AC$13,0))} -> 0 | K9: {=SUM(IF('Compteur FL'!$A$4:$A$13=A9,'Compteur FL'!$AF$4:$AF$13,0))} -> 0 | L9: {=SUM(IF('Compteur FL'!$A$4:$A$13=A9,'Compteur FL'!$AG$4:$AG$13,0))} -> 0 | M9: {=SUM(IF('Compteur FL'!$A$4:$A$13=A9,'Compteur FL'!$AJ$4:$AJ$13,0))} -> 0 | N9: {=SUM(IF('Compteur FL'!$A$4:$A$13=A9,'Compteur FL'!$AM$4:$AM$13,0))} -> 0 | O9: {=SUM(IF('Compteur FL'!$A$4:$A$13=A9,'Compteur FL'!$AU$4:$AU$13,0))} -> 0
A10: 8 | B10: {=SUMPRODUCT(('Compteur FL'!$A$4:$A$13=A10)*('Compteur FL'!$B$4:$B$13="C")*('Compteur FL'!$D$4:$D$13))} -> 0 | C10: {=SUMPRODUCT(('Compteur FL'!$A$4:$A$13=A10)*('Compteur FL'!$B$4:$B$13="B")*('Compteur FL'!$D$4:$D$13))} -> 0 | D10: =B10+C10 -> 0 | E10: {=SUM(IF('Compteur FL'!$A$4:$A$13=A10,'Compteur FL'!$J$4:$J$13,0))} -> 0 | F10: {=SUM(IF('Compteur FL'!$A$4:$A$13=A10,'Compteur FL'!$L$4:$L$13,0))} -> 0 | G10: {=SUM(IF('Compteur FL'!$A$4:$A$13=A10,'Compteur FL'!$O$4:$O$13,0))} -> 0 | H10: {=SUM(IF('Compteur FL'!$A$4:$A$13=A10,'Compteur FL'!$Q$4:$Q$13,0))} -> 0 | I10: {=SUM(IF('Compteur FL'!$A$4:$A$13=A10,'Compteur FL'!$W$4:$W$13,0))} -> 0 | J10: {=SUM(IF('Compteur FL'!$A$4:$A$13=A10,'Compteur FL'!$AC$4:$AC$13,0))} -> 0 | K10: {=SUM(IF('Compteur FL'!$A$4:$A$13=A10,'Compteur FL'!$AF$4:$AF$13,0))} -> 0 | L10: {=SUM(IF('Compteur FL'!$A$4:$A$13=A10,'Compteur FL'!$AG$4:$AG$13,0))} -> 0 | M10: {=SUM(IF('Compteur FL'!$A$4:$A$13=A10,'Compteur FL'!$AJ$4:$AJ$13,0))} -> 0 | N10: {=SUM(IF('Compteur FL'!$A$4:$A$13=A10,'Compteur FL'!$AM$4:$AM$13,0))} -> 0 | O10: {=SUM(IF('Compteur FL'!$A$4:$A$13=A10,'Compteur FL'!$AU$4:$AU$13,0))} -> 0
A11: 9 | B11: {=SUMPRODUCT(('Compteur FL'!$A$4:$A$13=A11)*('Compteur FL'!$B$4:$B$13="C")*('Compteur FL'!$D$4:$D$13))} -> 0 | C11: {=SUMPRODUCT(('Compteur FL'!$A$4:$A$13=A11)*('Compteur FL'!$B$4:$B$13="B")*('Compteur FL'!$D$4:$D$13))} -> 0 | D11: =B11+C11 -> 0 | E11: {=SUM(IF('Compteur FL'!$A$4:$A$13=A11,'Compteur FL'!$J$4:$J$13,0))} -> 0 | F11: {=SUM(IF('Compteur FL'!$A$4:$A$13=A11,'Compteur FL'!$L$4:$L$13,0))} -> 0 | G11: {=SUM(IF('Compteur FL'!$A$4:$A$13=A11,'Compteur FL'!$O$4:$O$13,0))} -> 0 | H11: {=SUM(IF('Compteur FL'!$A$4:$A$13=A11,'Compteur FL'!$Q$4:$Q$13,0))} -> 0 | I11: {=SUM(IF('Compteur FL'!$A$4:$A$13=A11,'Compteur FL'!$W$4:$W$13,0))} -> 0 | J11: {=SUM(IF('Compteur FL'!$A$4:$A$13=A11,'Compteur FL'!$AC$4:$AC$13,0))} -> 0 | K11: {=SUM(IF('Compteur FL'!$A$4:$A$13=A11,'Compteur FL'!$AF$4:$AF$13,0))} -> 0 | L11: {=SUM(IF('Compteur FL'!$A$4:$A$13=A11,'Compteur FL'!$AG$4:$AG$13,0))} -> 0 | M11: {=SUM(IF('Compteur FL'!$A$4:$A$13=A11,'Compteur FL'!$AJ$4:$AJ$13,0))} -> 0 | N11: {=SUM(IF('Compteur FL'!$A$4:$A$13=A11,'Compteur FL'!$AM$4:$AM$13,0))} -> 0 | O11: {=SUM(IF('Compteur FL'!$A$4:$A$13=A11,'Compteur FL'!$AU$4:$AU$13,0))} -> 0
A12: 10 | B12: {=SUMPRODUCT(('Compteur FL'!$A$4:$A$13=A12)*('Compteur FL'!$B$4:$B$13="C")*('Compteur FL'!$D$4:$D$13))} -> 0 | C12: {=SUMPRODUCT(('Compteur FL'!$A$4:$A$13=A12)*('Compteur FL'!$B$4:$B$13="B")*('Compteur FL'!$D$4:$D$13))} -> 0 | D12: =B12+C12 -> 0 | E12: {=SUM(IF('Compteur FL'!$A$4:$A$13=A12,'Compteur FL'!$J$4:$J$13,0))} -> 0 | F12: {=SUM(IF('Compteur FL'!$A$4:$A$13=A12,'Compteur FL'!$L$4:$L$13,0))} -> 0 | G12: {=SUM(IF('Compteur FL'!$A$4:$A$13=A12,'Compteur FL'!$O$4:$O$13,0))} -> 0 | H12: {=SUM(IF('Compteur FL'!$A$4:$A$13=A12,'Compteur FL'!$Q$4:$Q$13,0))} -> 0 | I12: {=SUM(IF('Compteur FL'!$A$4:$A$13=A12,'Compteur FL'!$W$4:$W$13,0))} -> 0 | J12: {=SUM(IF('Compteur FL'!$A$4:$A$13=A12,'Compteur FL'!$AC$4:$AC$13,0))} -> 0 | K12: {=SUM(IF('Compteur FL'!$A$4:$A$13=A12,'Compteur FL'!$AF$4:$AF$13,0))} -> 0 | L12: {=SUM(IF('Compteur FL'!$A$4:$A$13=A12,'Compteur FL'!$AG$4:$AG$13,0))} -> 0 | M12: {=SUM(IF('Compteur FL'!$A$4:$A$13=A12,'Compteur FL'!$AJ$4:$AJ$13,0))} -> 0 | N12: {=SUM(IF('Compteur FL'!$A$4:$A$13=A12,'Compteur FL'!$AM$4:$AM$13,0))} -> 0 | O12: {=SUM(IF('Compteur FL'!$A$4:$A$13=A12,'Compteur FL'!$AU$4:$AU$13,0))} -> 0
A13: 11 | B13: {=SUMPRODUCT(('Compteur FL'!$A$4:$A$13=A13)*('Compteur FL'!$B$4:$B$13="C")*('Compteur FL'!$D$4:$D$13))} -> 0 | C13: {=SUMPRODUCT(('Compteur FL'!$A$4:$A$13=A13)*('Compteur FL'!$B$4:$B$13="B")*('Compteur FL'!$D$4:$D$13))} -> 0 | D13: =B13+C13 -> 0 | E13: {=SUM(IF('Compteur FL'!$A$4:$A$13=A13,'Compteur FL'!$J$4:$J$13,0))} -> 0 | F13: {=SUM(IF('Compteur FL'!$A$4:$A$13=A13,'Compteur FL'!$L$4:$L$13,0))} -> 0 | G13: {=SUM(IF('Compteur FL'!$A$4:$A$13=A13,'Compteur FL'!$O$4:$O$13,0))} -> 0 | H13: {=SUM(IF('Compteur FL'!$A$4:$A$13=A13,'Compteur FL'!$Q$4:$Q$13,0))} -> 0 | I13: {=SUM(IF('Compteur FL'!$A$4:$A$13=A13,'Compteur FL'!$W$4:$W$13,0))} -> 0 | J13: {=SUM(IF('Compteur FL'!$A$4:$A$13=A13,'Compteur FL'!$AC$4:$AC$13,0))} -> 0 | K13: {=SUM(IF('Compteur FL'!$A$4:$A$13=A13,'Compteur FL'!$AF$4:$AF$13,0))} -> 0 | L13: {=SUM(IF('Compteur FL'!$A$4:$A$13=A13,'Compteur FL'!$AG$4:$AG$13,0))} -> 0 | M13: {=SUM(IF('Compteur FL'!$A$4:$A$13=A13,'Compteur FL'!$AJ$4:$AJ$13,0))} -> 0 | N13: {=SUM(IF('Compteur FL'!$A$4:$A$13=A13,'Compteur FL'!$AM$4:$AM$13,0))} -> 0 | O13: {=SUM(IF('Compteur FL'!$A$4:$A$13=A13,'Compteur FL'!$AU$4:$AU$13,0))} -> 0
A14: 12 | B14: {=SUMPRODUCT(('Compteur FL'!$A$4:$A$13=A14)*('Compteur FL'!$B$4:$B$13="C")*('Compteur FL'!$D$4:$D$13))} -> 0 | C14: {=SUMPRODUCT(('Compteur FL'!$A$4:$A$13=A14)*('Compteur FL'!$B$4:$B$13="B")*('Compteur FL'!$D$4:$D$13))} -> 0 | D14: =B14+C14 -> 0 | E14: {=SUM(IF('Compteur FL'!$A$4:$A$13=A14,'Compteur FL'!$J$4:$J$13,0))} -> 0 | F14: {=SUM(IF('Compteur FL'!$A$4:$A$13=A14,'Compteur FL'!$L$4:$L$13,0))} -> 0 | G14: {=SUM(IF('Compteur FL'!$A$4:$A$13=A14,'Compteur FL'!$O$4:$O$13,0))} -> 0 | H14: {=SUM(IF('Compteur FL'!$A$4:$A$13=A14,'Compteur FL'!$Q$4:$Q$13,0))} -> 0 | I14: {=SUM(IF('Compteur FL'!$A$4:$A$13=A14,'Compteur FL'!$W$4:$W$13,0))} -> 0 | J14: {=SUM(IF('Compteur FL'!$A$4:$A$13=A14,'Compteur FL'!$AC$4:$AC$13,0))} -> 0 | K14: {=SUM(IF('Compteur FL'!$A$4:$A$13=A14,'Compteur FL'!$AF$4:$AF$13,0))} -> 0 | L14: {=SUM(IF('Compteur FL'!$A$4:$A$13=A14,'Compteur FL'!$AG$4:$AG$13,0))} -> 0 | M14: {=SUM(IF('Compteur FL'!$A$4:$A$13=A14,'Compteur FL'!$AJ$4:$AJ$13,0))} -> 0 | N14: {=SUM(IF('Compteur FL'!$A$4:$A$13=A14,'Compteur FL'!$AM$4:$AM$13,0))} -> 0 | O14: {=SUM(IF('Compteur FL'!$A$4:$A$13=A14,'Compteur FL'!$AU$4:$AU$13,0))} -> 0
... A54: 52 | B54: {=SUMPRODUCT(('Compteur FL'!$A$4:$A$13=A54)*('Compteur FL'!$B$4:$B$13="C")*('Compteur FL'!$D$4:$D$13))} -> 0 | C54: {=SUMPRODUCT(('Compteur FL'!$A$4:$A$13=A54)*('Compteur FL'!$B$4:$B$13="B")*('Compteur FL'!$D$4:$D$13))} -> 0 | D54: =B54+C54 -> 0 | E54: {=SUM(IF('Compteur FL'!$A$4:$A$13=A54,'Compteur FL'!$J$4:$J$13,0))} -> 0 | F54: {=SUM(IF('Compteur FL'!$A$4:$A$13=A54,'Compteur FL'!$L$4:$L$13,0))} -> 0 | G54: {=SUM(IF('Compteur FL'!$A$4:$A$13=A54,'Compteur FL'!$O$4:$O$13,0))} -> 0 | H54: {=SUM(IF('Compteur FL'!$A$4:$A$13=A54,'Compteur FL'!$Q$4:$Q$13,0))} -> 0 | I54: {=SUM(IF('Compteur FL'!$A$4:$A$13=A54,'Compteur FL'!$W$4:$W$13,0))} -> 0 | J54: {=SUM(IF('Compteur FL'!$A$4:$A$13=A54,'Compteur FL'!$AC$4:$AC$13,0))} -> 0 | K54: {=SUM(IF('Compteur FL'!$A$4:$A$13=A54,'Compteur FL'!$AF$4:$AF$13,0))} -> 0 | L54: {=SUM(IF('Compteur FL'!$A$4:$A$13=A54,'Compteur FL'!$AG$4:$AG$13,0))} -> 0 | M54: {=SUM(IF('Compteur FL'!$A$4:$A$13=A54,'Compteur FL'!$AJ$4:$AJ$13,0))} -> 0 | N54: {=SUM(IF('Compteur FL'!$A$4:$A$13=A54,'Compteur FL'!$AM$4:$AM$13,0))} -> 0 | O54: {=SUM(IF('Compteur FL'!$A$4:$A$13=A54,'Compteur FL'!$AU$4:$AU$13,0))} -> 0
