Workbook

Sheet ACCUEIL
B2: =TODAY() -> 42651
D5: CYCLE DE MENUS RA
B7: DATE | D7: MIDI | G7: SOIR
E9: Plat FROID | H9: Plat FROID
A10: sem | B10: 42651 | C10: Entrée | D10: Duo de choux blanc et rouge | E10: X | F10: Potage | G10: Crème de Céleri
A11: 1 | B11: =B10 -> 42651 | C11: Viande | D11: Rôti de porc | F11: Plat | G11: Quiche Lorraine
B12: =B11 -> 42651 | C12: Féculent | D12: Pommes Dauphine | F12: Garniture | G12: Salade verte | H12: X
B13: =B12 -> 42651 | C13: Légume | D13: Choux de Bruxelles | F13: Garniture 2
B14: =B13 -> 42651 | C14: Fromage | D14: Plateau de Fromages ou laitages | E14: X | F14: Fromage | G14: Plateau de Fromages ou laitages | H14: X
B15: =B14 -> 42651 | C15: Dessert | D15: Fromage blanc au miel | E15: X | F15: Dessert | G15: Mirabelles au sirop | H15: X
A17: sem | B17: =$B$10+1 -> 42652 | C17: Entrée | D17: Salade de lentilles aux oignons rouges | E17: X | F17: Potage | G17: Velouté de Champignons
A18: 1 | B18: =B17 -> 42652 | C18: Viande | D18: Emincé de bœuf au échalotes | F18: Plat | G18: Gratin de poisson
B19: =B18 -> 42652 | C19: Féculent | D19: Pomme de terre | F19: Garniture | G19: Fondu de Poireaux
B20: =B19 -> 42652 | C20: Légume | D20: Carottes | F20: Garniture 2
B21: =B20 -> 42652 | C21: Fromage | D21: Plateau de Fromages ou laitages | E21: X | F21: Fromage | G21: Plateau de Fromages ou laitages | H21: X
B22: =B21 -> 42652 | C22: Dessert | D22: Poire aux amandes grillées | E22: X | F22: Dessert | G22: Flan Pâtissier | H22: X

Sheet T°C SAM
B8: Jour | C8: Midi / Soir | D8: Libellés produits | F8: Préparations froides | P8: Préparations chaudes | AL8: Validation distribution | AR8: Visa opérateur
F9: Heure envoi | K9: T°C | P9: Début de service | AA9: Fin de service
D10: Préparation froide | E10: Préparation chaude | P10: Heure | V10: T°C | AA10: Heure | AG10: T°C
B11: =ACCUEIL!B2 -> 42651 | C11: Midi | D11: =IF(ACCUEIL!$E10="","",IF($B11=ACCUEIL!$B10,ACCUEIL!$D10,IF($B11=ACCUEIL!$B17,ACCUEIL!$D17,""))) -> Duo de choux blanc et rouge | E11: =IF(ACCUEIL!$E10="x","",IF($B11=ACCUEIL!$B10,ACCUEIL!$D10,IF($B11=ACCUEIL!$B17,ACCUEIL!$D17,""))) | F11: 12h00 | P11: 12h00 | AA11: 12h15
B12: =B11 -> 42651 | C12: Midi | D12: =IF(ACCUEIL!$E11="","",IF($B12=ACCUEIL!$B11,ACCUEIL!$D11,IF($B12=ACCUEIL!$B18,ACCUEIL!$D18,""))) | E12: =IF(ACCUEIL!$E11="x","",IF($B12=ACCUEIL!$B11,ACCUEIL!$D11,IF($B12=ACCUEIL!$B18,ACCUEIL!$D18,""))) -> Rôti de porc | F12: 12h20 | P12: 12h20 | AA12: 12h50
B13: =B12 -> 42651 | C13: Midi | D13: =IF(ACCUEIL!$E12="","",IF($B13=ACCUEIL!$B12,ACCUEIL!$D12,IF($B13=ACCUEIL!$B19,ACCUEIL!$D19,""))) | E13: =IF(ACCUEIL!$E12="x","",IF($B13=ACCUEIL!$B12,ACCUEIL!$D12,IF($B13=ACCUEIL!$B19,ACCUEIL!$D19,""))) -> Pommes Dauphine | F13: 12h20 | P13: 12h20 | AA13: 12h50
B14: =B13 -> 42651 | C14: Midi | D14: =IF(ACCUEIL!$E13="","",IF($B14=ACCUEIL!$B13,ACCUEIL!$D13,IF($B14=ACCUEIL!$B20,ACCUEIL!$D20,""))) | E14: =IF(ACCUEIL!$E13="x","",IF($B14=ACCUEIL!$B13,ACCUEIL!$D13,IF($B14=ACCUEIL!$B20,ACCUEIL!$D20,""))) -> Choux de Bruxelles | F14: 12h20 | P14: 12h20 | AA14: 12h50
B15: =B14 -> 42651 | C15: Midi | D15: =IF(ACCUEIL!$E14="","",IF($B15=ACCUEIL!$B14,ACCUEIL!$D14,IF($B15=ACCUEIL!$B21,ACCUEIL!$D21,""))) -> Plateau de Fromages ou laitages | E15: =IF(ACCUEIL!$E14="x","",IF($B15=ACCUEIL!$B14,ACCUEIL!$D14,IF($B15=ACCUEIL!$B21,ACCUEIL!$D21,""))) | F15: 13h00
B16: =B15 -> 42651 | C16: Midi | D16: =IF(ACCUEIL!$E15="","",IF($B16=ACCUEIL!$B15,ACCUEIL!$D15,IF($B16=ACCUEIL!$B22,ACCUEIL!$D22,""))) -> Fromage blanc au miel | E16: =IF(ACCUEIL!$E15="x","",IF($B16=ACCUEIL!$B15,ACCUEIL!$D15,IF($B16=ACCUEIL!$B22,ACCUEIL!$D22,""))) | F16: 13h10 | P16: 13h10 | AA16: 13h25
B18: =B11 -> 42651 | C18: soir | D18: =IF(B11=ACCUEIL!B10,ACCUEIL!G10,IF(B11=ACCUEIL!B17,ACCUEIL!G17,"")) -> Crème de Céleri | F18: 18h10 | P18: 18h10 | AA18: 18h20
B19: =B18 -> 42651 | C19: soir | D19: =IF(B11=ACCUEIL!B10,ACCUEIL!G11,IF(B11=ACCUEIL!B17,ACCUEIL!G18,"")) -> Quiche Lorraine | F19: 18h20 | P19: 18h20 | AA19: 18h40
B20: =B19 -> 42651 | C20: soir | D20: =IF(B11=ACCUEIL!B10,ACCUEIL!G12,IF(B11=ACCUEIL!B17,ACCUEIL!G19,"")) -> Salade verte | F20: 18h20 | P20: 18h20 | AA20: 18h40
B21: =B20 -> 42651 | C21: soir | D21: =IF(B11=ACCUEIL!B10,ACCUEIL!G13,IF(B11=ACCUEIL!B17,ACCUEIL!G20,"")) -> 0 | F21: 18h20 | P21: 18h20 | AA21: 18h40
B22: =B21 -> 42651 | C22: soir | D22: =IF(B11=ACCUEIL!B10,ACCUEIL!G14,IF(B11=ACCUEIL!B17,ACCUEIL!G21,"")) -> Plateau de Fromages ou laitages | F22: 18h40 | P22: 18h40 | AA22: 18h50
B23: =B22 -> 42651 | C23: soir | D23: =IF(B11=ACCUEIL!B10,ACCUEIL!G15,IF(B11=ACCUEIL!B17,ACCUEIL!G22,"")) -> Mirabelles au sirop | F23: 18h50 | P23: 18h50 | AA23: 18h55
