Workbook

Sheet base
A1: Salaire mensuel | C1: Forfait
A2: 40909 | B2: 4200 | C2: 40909 | D2: 977
A3: 41760 | B3: 4300 | C3: 41699 | D3: 987
A21: Suppléments
A23: Nourriture, boissons, argent de poche, vêtements, articles pour bébés, chaussures, linges, consommation d'énergie, nettoyages, entretien de l'appartement et des vêtements, taxes déchets, achat de menus articles courants, frais de santé (sans la franchise : médicaments non remboursés par la caisse maladie d'usage courant), prime LCA, frais de transports (y.c. abonnement demi tarif : transports publics locaux) entretien vélo/vélomoteur, communication à distance (téléphone-timbres), loisirs et formation (concessions radio TV rt téléréseau, sport, journaux, jeux, livres, tabac, cinéma, animaux domestiques, frais d'écolage, fournitures scolaires etc.), soins corporels, équipement personnel, boissons prises à l'extérieur, autres (cadeaux, cotisations) assurance ménage
A24: Primes LCA
A25: Diminution si non-collaboration (-15 %)
A26: Total du forfait :
A27: Frais de logement | H27: 1250
A28: Frais de location ou int. Hyp. Sans amortissement | H28: 127
A29: Charges locatives
A30: Total des frais de logement :
A32: Frais médicaux | B32: (uniquement sur présentation des justificatifs)(art. 11 ACE 2.5.06)
C33: LAMAL | H33: 358
A34: ./. Subvention LAMAL | H34: 237
C35: LCA

Sheet janvier
B1: Budget d'aide matérielle
B2: Mois : | C2: 41640 | D2: Année : | G2: AS :
B3: Bénéficiaire : | G3: No dossier :
B4: Adresse : | F4: Domicile LFA :
F5: Domicile LaSoc :
B6: Etat civil :
B7: Date de naissance :
B8: Commune d'origine :
B9: Canton origine :
B10: Pays :
B11: Nombre de personnes dans le ménage :
B12: Nombre de personnes aidées :
B13: Année de création : | F13: Article :
E14: Perçu/payé par le bénéficiaire | F14: Perçu/payé par le service | G14: Droit selon les normes | H14: Supplément compte sans garantie | J14: Groupe | K14: Compte
B15: Revenus | E15: =VLOOKUP(C2,base!$A:$B,2,TRUE) -> 4200
B22: Suppléments
A29: Besoins fondamentaux | B29: Forfait
B30: Nourriture, boissons, argent de poche, vêtements, articles pour bébés, chaussures, linges, consommation d'énergie, nettoyages, entretien de l'appartement et des vêtements, taxes déchets, achat de menus articles courants, frais de santé (sans la franchise : médicaments non remboursés par la caisse maladie d'usage courant), prime LCA, frais de transports (y.c. abonnement demi tarif : transports publics locaux) entretien vélo/vélomoteur, communication à distance (téléphone-timbres), loisirs et formation (concessions radio TV rt téléréseau, sport, journaux, jeux, livres, tabac, cinéma, animaux domestiques, frais d'écolage, fournitures scolaires etc.), soins corporels, équipement personnel, boissons prises à l'extérieur, autres (cadeaux, cotisations) assurance ménage | F30: =VLOOKUP(C2,base!$C:$D,2,TRUE) -> 977
B31: Primes LCA
B41: Diminution si non-collaboration (-15 %)
B42: Total du forfait :
B43: Frais de logement | F43: =base!H27 -> 1250
B44: Frais de location ou int. Hyp. Sans amortissement | J44: L
B45: Charges locatives | F45: =base!H28 -> 127 | J45: L
B46: Total des frais de logement : | J46: L
B48: Frais médicaux | C48: (uniquement sur présentation des justificatifs)(art. 11 ACE 2.5.06)
D49: LAMAL | F49: =base!H33 -> 358 | J49: PM
B50: ./. Subvention LAMAL | F50: =base!H34 -> 237
D51: LCA | J51: E
D52: Dcpte part. | J52: M
B53: Total des frais médicaux
B55: Prestations circonstancielles
B65: Total des revenus | E65: =E15 -> 4200
B66: Total des charges selon les normes | F66: =SUM(F30:F65) -> 2949
B68: Solde (- = découvert / + = excédent) | F68: =E65-F66 -> 1251
B70: Montant en faveur du bénéficaire :
B74: Solde du compte d'aide matérielle à fin : | F74: =C2-1 -> 41639 | H74: =SUM(F74:G74) -> 41639
B75: Solde du compte d'aide matérielle à fin : | F75: =C2 -> 41640 | H75: =SUM(F75:G75) -> 41640
H76: =SUM(F76:G76) -> 0
B77: Solde du compte sans garantie à fin : | F77: =C2-1 -> 41639 | H77: =SUM(F77:G77) -> 41639
...

Sheet février
B1: Budget d'aide matérielle
B2: Mois : | C2: 41671 | D2: Année : | G2: AS :
B3: Bénéficiaire : | G3: No dossier :
B4: Adresse : | F4: Domicile LFA :
F5: Domicile LaSoc :
B6: Etat civil :
B7: Date de naissance :
B8: Commune d'origine :
B9: Canton origine :
B10: Pays :
B11: Nombre de personnes dans le ménage :
B12: Nombre de personnes aidées :
B13: Année de création : | F13: Article :
E14: Perçu/payé par le bénéficiaire | F14: Perçu/payé par le service | G14: Droit selon les normes | H14: Supplément compte sans garantie | J14: Groupe | K14: Compte
B15: Revenus | E15: =VLOOKUP(C2,base!$A:$B,2,TRUE) -> 4200
B22: Suppléments
A29: Besoins fondamentaux | B29: Forfait
B30: Nourriture, boissons, argent de poche, vêtements, articles pour bébés, chaussures, linges, consommation d'énergie, nettoyages, entretien de l'appartement et des vêtements, taxes déchets, achat de menus articles courants, frais de santé (sans la franchise : médicaments non remboursés par la caisse maladie d'usage courant), prime LCA, frais de transports (y.c. abonnement demi tarif : transports publics locaux) entretien vélo/vélomoteur, communication à distance (téléphone-timbres), loisirs et formation (concessions radio TV rt téléréseau, sport, journaux, jeux, livres, tabac, cinéma, animaux domestiques, frais d'écolage, fournitures scolaires etc.), soins corporels, équipement personnel, boissons prises à l'extérieur, autres (cadeaux, cotisations) assurance ménage | F30: =VLOOKUP(C2,base!$C:$D,2,TRUE) -> 977
B31: Primes LCA
B41: Diminution si non-collaboration (-15 %)
B42: Total du forfait :
B43: Frais de logement | F43: =base!H27 -> 1250
B44: Frais de location ou int. Hyp. Sans amortissement | J44: L
B45: Charges locatives | F45: =base!H28 -> 127 | J45: L
B46: Total des frais de logement : | J46: L
B48: Frais médicaux | C48: (uniquement sur présentation des justificatifs)(art. 11 ACE 2.5.06)
D49: LAMAL | F49: =base!H33 -> 358 | J49: PM
B50: ./. Subvention LAMAL | F50: =base!H34 -> 237
D51: LCA | J51: E
D52: Dcpte part. | J52: M
B53: Total des frais médicaux
B55: Prestations circonstancielles
B65: Total des revenus | E65: =E15 -> 4200
B66: Total des charges selon les normes | F66: =SUM(F30:F65) -> 2949
B68: Solde (- = découvert / + = excédent) | F68: =E65-F66 -> 1251
B70: Montant en faveur du bénéficaire :
B74: Solde du compte d'aide matérielle à fin : | F74: =C2-1 -> 41670 | H74: =SUM(F74:G74) -> 41670
B75: Solde du compte d'aide matérielle à fin : | F75: =C2 -> 41671 | H75: =SUM(F75:G75) -> 41671
H76: =SUM(F76:G76) -> 0
B77: Solde du compte sans garantie à fin : | F77: =C2-1 -> 41670 | H77: =SUM(F77:G77) -> 41670
...

Sheet mars
B1: Budget d'aide matérielle
B2: Mois : | C2: 41699 | D2: Année : | G2: AS :
B3: Bénéficiaire : | G3: No dossier :
B4: Adresse : | F4: Domicile LFA :
F5: Domicile LaSoc :
B6: Etat civil :
B7: Date de naissance :
B8: Commune d'origine :
B9: Canton origine :
B10: Pays :
B11: Nombre de personnes dans le ménage :
B12: Nombre de personnes aidées :
B13: Année de création : | F13: Article :
E14: Perçu/payé par le bénéficiaire | F14: Perçu/payé par le service | G14: Droit selon les normes | H14: Supplément compte sans garantie | J14: Groupe | K14: Compte
B15: Revenus | E15: =VLOOKUP(C2,base!$A:$B,2,TRUE) -> 4200
B22: Suppléments
A29: Besoins fondamentaux | B29: Forfait
B30: Nourriture, boissons, argent de poche, vêtements, articles pour bébés, chaussures, linges, consommation d'énergie, nettoyages, entretien de l'appartement et des vêtements, taxes déchets, achat de menus articles courants, frais de santé (sans la franchise : médicaments non remboursés par la caisse maladie d'usage courant), prime LCA, frais de transports (y.c. abonnement demi tarif : transports publics locaux) entretien vélo/vélomoteur, communication à distance (téléphone-timbres), loisirs et formation (concessions radio TV rt téléréseau, sport, journaux, jeux, livres, tabac, cinéma, animaux domestiques, frais d'écolage, fournitures scolaires etc.), soins corporels, équipement personnel, boissons prises à l'extérieur, autres (cadeaux, cotisations) assurance ménage | F30: =VLOOKUP(C2,base!$C:$D,2,TRUE) -> 987
B31: Primes LCA
B41: Diminution si non-collaboration (-15 %)
B42: Total du forfait :
B43: Frais de logement | F43: =base!H27 -> 1250
B44: Frais de location ou int. Hyp. Sans amortissement | J44: L
B45: Charges locatives | F45: =base!H28 -> 127 | J45: L
B46: Total des frais de logement : | J46: L
B48: Frais médicaux | C48: (uniquement sur présentation des justificatifs)(art. 11 ACE 2.5.06)
D49: LAMAL | F49: =base!H33 -> 358 | J49: PM
B50: ./. Subvention LAMAL | F50: =base!H34 -> 237
D51: LCA | J51: E
D52: Dcpte part. | J52: M
B53: Total des frais médicaux
B55: Prestations circonstancielles
B65: Total des revenus | E65: =E15 -> 4200
B66: Total des charges selon les normes | F66: =SUM(F30:F65) -> 2959
B68: Solde (- = découvert / + = excédent) | F68: =E65-F66 -> 1241
B70: Montant en faveur du bénéficaire :
B74: Solde du compte d'aide matérielle à fin : | F74: =C2-1 -> 41698 | H74: =SUM(F74:G74) -> 41698
B75: Solde du compte d'aide matérielle à fin : | F75: =C2 -> 41699 | H75: =SUM(F75:G75) -> 41699
H76: =SUM(F76:G76) -> 0
B77: Solde du compte sans garantie à fin : | F77: =C2-1 -> 41698 | H77: =SUM(F77:G77) -> 41698
...

Sheet avril
B1: Budget d'aide matérielle
B2: Mois : | C2: 41730 | D2: Année : | G2: AS :
B3: Bénéficiaire : | G3: No dossier :
B4: Adresse : | F4: Domicile LFA :
F5: Domicile LaSoc :
B6: Etat civil :
B7: Date de naissance :
B8: Commune d'origine :
B9: Canton origine :
B10: Pays :
B11: Nombre de personnes dans le ménage :
B12: Nombre de personnes aidées :
B13: Année de création : | F13: Article :
E14: Perçu/payé par le bénéficiaire | F14: Perçu/payé par le service | G14: Droit selon les normes | H14: Supplément compte sans garantie | J14: Groupe | K14: Compte
B15: Revenus | E15: =VLOOKUP(C2,base!$A:$B,2,TRUE) -> 4200
B22: Suppléments
A29: Besoins fondamentaux | B29: Forfait
B30: Nourriture, boissons, argent de poche, vêtements, articles pour bébés, chaussures, linges, consommation d'énergie, nettoyages, entretien de l'appartement et des vêtements, taxes déchets, achat de menus articles courants, frais de santé (sans la franchise : médicaments non remboursés par la caisse maladie d'usage courant), prime LCA, frais de transports (y.c. abonnement demi tarif : transports publics locaux) entretien vélo/vélomoteur, communication à distance (téléphone-timbres), loisirs et formation (concessions radio TV rt téléréseau, sport, journaux, jeux, livres, tabac, cinéma, animaux domestiques, frais d'écolage, fournitures scolaires etc.), soins corporels, équipement personnel, boissons prises à l'extérieur, autres (cadeaux, cotisations) assurance ménage | F30: =VLOOKUP(C2,base!$C:$D,2,TRUE) -> 987
B31: Primes LCA
B41: Diminution si non-collaboration (-15 %)
B42: Total du forfait :
B43: Frais de logement | F43: =base!H27 -> 1250
B44: Frais de location ou int. Hyp. Sans amortissement | J44: L
B45: Charges locatives | F45: =base!H28 -> 127 | J45: L
B46: Total des frais de logement : | J46: L
B48: Frais médicaux | C48: (uniquement sur présentation des justificatifs)(art. 11 ACE 2.5.06)
D49: LAMAL | F49: =base!H33 -> 358 | J49: PM
B50: ./. Subvention LAMAL | F50: =base!H34 -> 237
D51: LCA | J51: E
D52: Dcpte part. | J52: M
B53: Total des frais médicaux
B55: Prestations circonstancielles
B65: Total des revenus | E65: =E15 -> 4200
B66: Total des charges selon les normes | F66: =SUM(F30:F65) -> 2959
B68: Solde (- = découvert / + = excédent) | F68: =E65-F66 -> 1241
B70: Montant en faveur du bénéficaire :
B74: Solde du compte d'aide matérielle à fin : | F74: =C2-1 -> 41729 | H74: =SUM(F74:G74) -> 41729
B75: Solde du compte d'aide matérielle à fin : | F75: =C2 -> 41730 | H75: =SUM(F75:G75) -> 41730
H76: =SUM(F76:G76) -> 0
B77: Solde du compte sans garantie à fin : | F77: =C2-1 -> 41729 | H77: =SUM(F77:G77) -> 41729
...

Sheet mai
B1: Budget d'aide matérielle
B2: Mois : | C2: 41760 | D2: Année : | G2: AS :
B3: Bénéficiaire : | G3: No dossier :
B4: Adresse : | F4: Domicile LFA :
F5: Domicile LaSoc :
B6: Etat civil :
B7: Date de naissance :
B8: Commune d'origine :
B9: Canton origine :
B10: Pays :
B11: Nombre de personnes dans le ménage :
B12: Nombre de personnes aidées :
B13: Année de création : | F13: Article :
E14: Perçu/payé par le bénéficiaire | F14: Perçu/payé par le service | G14: Droit selon les normes | H14: Supplément compte sans garantie | J14: Groupe | K14: Compte
B15: Revenus | E15: =VLOOKUP(C2,base!$A:$B,2,TRUE) -> 4300
B22: Suppléments
A29: Besoins fondamentaux | B29: Forfait
B30: Nourriture, boissons, argent de poche, vêtements, articles pour bébés, chaussures, linges, consommation d'énergie, nettoyages, entretien de l'appartement et des vêtements, taxes déchets, achat de menus articles courants, frais de santé (sans la franchise : médicaments non remboursés par la caisse maladie d'usage courant), prime LCA, frais de transports (y.c. abonnement demi tarif : transports publics locaux) entretien vélo/vélomoteur, communication à distance (téléphone-timbres), loisirs et formation (concessions radio TV rt téléréseau, sport, journaux, jeux, livres, tabac, cinéma, animaux domestiques, frais d'écolage, fournitures scolaires etc.), soins corporels, équipement personnel, boissons prises à l'extérieur, autres (cadeaux, cotisations) assurance ménage | F30: =VLOOKUP(C2,base!$C:$D,2,TRUE) -> 987
B31: Primes LCA
B41: Diminution si non-collaboration (-15 %)
B42: Total du forfait :
B43: Frais de logement | F43: =base!H27 -> 1250
B44: Frais de location ou int. Hyp. Sans amortissement | J44: L
B45: Charges locatives | F45: =base!H28 -> 127 | J45: L
B46: Total des frais de logement : | J46: L
B48: Frais médicaux | C48: (uniquement sur présentation des justificatifs)(art. 11 ACE 2.5.06)
D49: LAMAL | F49: =base!H33 -> 358 | J49: PM
B50: ./. Subvention LAMAL | F50: =base!H34 -> 237
D51: LCA | J51: E
D52: Dcpte part. | J52: M
B53: Total des frais médicaux
B55: Prestations circonstancielles
B65: Total des revenus | E65: =E15 -> 4300
B66: Total des charges selon les normes | F66: =SUM(F30:F65) -> 2959
B68: Solde (- = découvert / + = excédent) | F68: =E65-F66 -> 1341
B70: Montant en faveur du bénéficaire :
B74: Solde du compte d'aide matérielle à fin : | F74: =C2-1 -> 41759 | H74: =SUM(F74:G74) -> 41759
B75: Solde du compte d'aide matérielle à fin : | F75: =C2 -> 41760 | H75: =SUM(F75:G75) -> 41760
H76: =SUM(F76:G76) -> 0
B77: Solde du compte sans garantie à fin : | F77: =C2-1 -> 41759 | H77: =SUM(F77:G77) -> 41759
...

Sheet juin
B1: Budget d'aide matérielle
B2: Mois : | C2: 41791 | D2: Année : | G2: AS :
B3: Bénéficiaire : | G3: No dossier :
B4: Adresse : | F4: Domicile LFA :
F5: Domicile LaSoc :
B6: Etat civil :
B7: Date de naissance :
B8: Commune d'origine :
B9: Canton origine :
B10: Pays :
B11: Nombre de personnes dans le ménage :
B12: Nombre de personnes aidées :
B13: Année de création : | F13: Article :
E14: Perçu/payé par le bénéficiaire | F14: Perçu/payé par le service | G14: Droit selon les normes | H14: Supplément compte sans garantie | J14: Groupe | K14: Compte
B15: Revenus | E15: =VLOOKUP(C2,base!$A:$B,2,TRUE) -> 4300
B22: Suppléments
A29: Besoins fondamentaux | B29: Forfait
B30: Nourriture, boissons, argent de poche, vêtements, articles pour bébés, chaussures, linges, consommation d'énergie, nettoyages, entretien de l'appartement et des vêtements, taxes déchets, achat de menus articles courants, frais de santé (sans la franchise : médicaments non remboursés par la caisse maladie d'usage courant), prime LCA, frais de transports (y.c. abonnement demi tarif : transports publics locaux) entretien vélo/vélomoteur, communication à distance (téléphone-timbres), loisirs et formation (concessions radio TV rt téléréseau, sport, journaux, jeux, livres, tabac, cinéma, animaux domestiques, frais d'écolage, fournitures scolaires etc.), soins corporels, équipement personnel, boissons prises à l'extérieur, autres (cadeaux, cotisations) assurance ménage | F30: =VLOOKUP(C2,base!$C:$D,2,TRUE) -> 987
B31: Primes LCA
B41: Diminution si non-collaboration (-15 %)
B42: Total du forfait :
B43: Frais de logement | F43: =base!H27 -> 1250
B44: Frais de location ou int. Hyp. Sans amortissement | J44: L
B45: Charges locatives | F45: =base!H28 -> 127 | J45: L
B46: Total des frais de logement : | J46: L
B48: Frais médicaux | C48: (uniquement sur présentation des justificatifs)(art. 11 ACE 2.5.06)
D49: LAMAL | F49: =base!H33 -> 358 | J49: PM
B50: ./. Subvention LAMAL | F50: =base!H34 -> 237
D51: LCA | J51: E
D52: Dcpte part. | J52: M
B53: Total des frais médicaux
B55: Prestations circonstancielles
B65: Total des revenus | E65: =E15 -> 4300
B66: Total des charges selon les normes | F66: =SUM(F30:F65) -> 2959
B68: Solde (- = découvert / + = excédent) | F68: =E65-F66 -> 1341
B70: Montant en faveur du bénéficaire :
B74: Solde du compte d'aide matérielle à fin : | F74: =C2-1 -> 41790 | H74: =SUM(F74:G74) -> 41790
B75: Solde du compte d'aide matérielle à fin : | F75: =C2 -> 41791 | H75: =SUM(F75:G75) -> 41791
H76: =SUM(F76:G76) -> 0
B77: Solde du compte sans garantie à fin : | F77: =C2-1 -> 41790 | H77: =SUM(F77:G77) -> 41790
...

Sheet juillet
B1: Budget d'aide matérielle
B2: Mois : | C2: 41821 | D2: Année : | G2: AS :
B3: Bénéficiaire : | G3: No dossier :
B4: Adresse : | F4: Domicile LFA :
F5: Domicile LaSoc :
B6: Etat civil :
B7: Date de naissance :
B8: Commune d'origine :
B9: Canton origine :
B10: Pays :
B11: Nombre de personnes dans le ménage :
B12: Nombre de personnes aidées :
B13: Année de création : | F13: Article :
E14: Perçu/payé par le bénéficiaire | F14: Perçu/payé par le service | G14: Droit selon les normes | H14: Supplément compte sans garantie | J14: Groupe | K14: Compte
B15: Revenus | E15: =VLOOKUP(C2,base!$A:$B,2,TRUE) -> 4300
B22: Suppléments
A29: Besoins fondamentaux | B29: Forfait
B30: Nourriture, boissons, argent de poche, vêtements, articles pour bébés, chaussures, linges, consommation d'énergie, nettoyages, entretien de l'appartement et des vêtements, taxes déchets, achat de menus articles courants, frais de santé (sans la franchise : médicaments non remboursés par la caisse maladie d'usage courant), prime LCA, frais de transports (y.c. abonnement demi tarif : transports publics locaux) entretien vélo/vélomoteur, communication à distance (téléphone-timbres), loisirs et formation (concessions radio TV rt téléréseau, sport, journaux, jeux, livres, tabac, cinéma, animaux domestiques, frais d'écolage, fournitures scolaires etc.), soins corporels, équipement personnel, boissons prises à l'extérieur, autres (cadeaux, cotisations) assurance ménage | F30: =VLOOKUP(C2,base!$C:$D,2,TRUE) -> 987
B31: Primes LCA
B41: Diminution si non-collaboration (-15 %)
B42: Total du forfait :
B43: Frais de logement | F43: =base!H27 -> 1250
B44: Frais de location ou int. Hyp. Sans amortissement | J44: L
B45: Charges locatives | F45: =base!H28 -> 127 | J45: L
B46: Total des frais de logement : | J46: L
B48: Frais médicaux | C48: (uniquement sur présentation des justificatifs)(art. 11 ACE 2.5.06)
D49: LAMAL | F49: =base!H33 -> 358 | J49: PM
B50: ./. Subvention LAMAL | F50: =base!H34 -> 237
D51: LCA | J51: E
D52: Dcpte part. | J52: M
B53: Total des frais médicaux
B55: Prestations circonstancielles
B65: Total des revenus | E65: =E15 -> 4300
B66: Total des charges selon les normes | F66: =SUM(F30:F65) -> 2959
B68: Solde (- = découvert / + = excédent) | F68: =E65-F66 -> 1341
B70: Montant en faveur du bénéficaire :
B74: Solde du compte d'aide matérielle à fin : | F74: =C2-1 -> 41820 | H74: =SUM(F74:G74) -> 41820
B75: Solde du compte d'aide matérielle à fin : | F75: =C2 -> 41821 | H75: =SUM(F75:G75) -> 41821
H76: =SUM(F76:G76) -> 0
B77: Solde du compte sans garantie à fin : | F77: =C2-1 -> 41820 | H77: =SUM(F77:G77) -> 41820
...
