Workbook
Name DATA1: base!$A$2:$A$581
Name DATA2: base!$D$2:$D$581
Name DATA3: base!#REF!
Name DATA4: base!$F$2:$F$581
Name DATA5: base!$C$2:$C$581
Name DATA6: base!$B$2:$B$581
Name DATA7: base!$E$2:$E$581
Name TEST1: base!$A$2:$F$227
Name TEST2: base!$A$228:$F$581
Name TESTHKEY: base!$B$1:$F$1
Name TESTKEYS: base!$A$2:$F$581
Name TESTVKEY: base!$A$1:$F$1

Sheet tcd
A1: Somme de Montant DI
A2: Doc achat | B2: Fourn. | C2: Total
A3: 4101394353 | C3: 2225
A4: 4101704801 | C4: 135.66
A5: 4101770164 | C5: 770
A6: 4102342493 | C6: 1568.22
A7: 4102557603 | C7: -125.85
A8: 4102665353 | C8: 248.29
A9: 4102820448 | C9: 1923.64
A10: 4102971746 | C10: 346.69
A11: 4103002077 | C11: 247.64
A12: 4103017665 | C12: 5419.4
A13: 4103031504 | C13: 5362.56
A14: 4103031511 | C14: 13224.6
... A27: 4103487257 | C27: 130.22
B28: 1000062314 | C28: -186.56
A29: 4103492287 | B29: 1000015747 | C29: -48.44
A30: 4103497165 | B30: 1000064411 | C30: -440
A31: 4103497566 | C31: 298.32
B32: 1000071607 | C32: -696.99
A33: 4103499881 | C33: 4620
B34: 1000062888 | C34: -4950
A35: 4103502543 | B35: 1000062888 | C35: -1350
A36: 4103503842 | B36: 1000010744 | C36: -472.07
A37: 4103516002 | B37: 1000015150 | C37: -321
A38: 4103522001 | C38: 167.48
B39: 1000075459 | C39: -1423.68
A40: 4103535583 | C40: 1368.48
B41: 1000039139 | C41: -1425
A42: 4103540900 | B42: 1000010744 | C42: -106.22
A43: 4103549607 | C43: 3157.22
B44: 1000012712 | C44: -3175
A45: 4103550022 | B45: 1000026420 | C45: -655.82
A46: 4103550041 | B46: 1000026420 | C46: -283.33
A47: 4103552342 | B47: 1000031419 | C47: -759.6
A48: 4103563432 | B48: 1000081876 | C48: -236.03
A49: 4103563451 | B49: 1000081519 | C49: -348.4
A50: 4103564954 | B50: VU398--014 | C50: -129.96
A51: 4103565301 | B51: 1000068010 | C51: -5897.84
A52: 4103570208 | B52: 1000062888 | C52: -2119
...

Sheet base
A1: Type | B1: Date cpt. | C1: Doc achat | D1: Fourn. | E1: Montant DI | F1: Société | G1: fourn2
A2: RE | B2: 41696 | C2: 4620004776 | E2: -57.73 | F2: 0154 | G2: =VLOOKUP(C2,tcd!A:B,2,FALSE) -> 0
A3: RE | B3: 41696 | C3: 4620004776 | E3: -1091.72 | F3: 0154 | G3: =VLOOKUP(C3,tcd!A:B,2,FALSE) -> 0
A4: RE | B4: 41696 | C4: 4620004776 | E4: -231.28 | F4: 0154 | G4: =VLOOKUP(C4,tcd!A:B,2,FALSE) -> 0
A5: RE | B5: 41696 | C5: 4620004776 | E5: -307.09 | F5: 0154 | G5: =VLOOKUP(C5,tcd!A:B,2,FALSE) -> 0
A6: RE | B6: 41989 | C6: 4103944393 | E6: 2525 | F6: 0154 | G6: =VLOOKUP(C6,tcd!A:B,2,FALSE) -> 0
A7: RE | B7: 41989 | C7: 4103944393 | E7: 1562.5 | F7: 0154 | G7: =VLOOKUP(C7,tcd!A:B,2,FALSE) -> 0
A8: RE | B8: 41989 | C8: 4103944393 | E8: 1302.5 | F8: 0154 | G8: =VLOOKUP(C8,tcd!A:B,2,FALSE) -> 0
A9: RE | B9: 41989 | C9: 4103832875 | E9: 20618.95 | F9: 0154 | G9: =VLOOKUP(C9,tcd!A:B,2,FALSE) -> 0
A10: RE | B10: 41829 | C10: 4103487257 | E10: 52.24 | F10: 0154 | G10: =VLOOKUP(C10,tcd!A:B,2,FALSE) -> 0
A11: RE | B11: 41829 | C11: 4103487257 | E11: -24.25 | F11: 0154 | G11: =VLOOKUP(C11,tcd!A:B,2,FALSE) -> 0
A12: RE | B12: 41829 | C12: 4103487257 | E12: 66.23 | F12: 0154 | G12: =VLOOKUP(C12,tcd!A:B,2,FALSE) -> 0
A13: RE | B13: 41829 | C13: 4103487257 | E13: -29.48 | F13: 0154 | G13: =VLOOKUP(C13,tcd!A:B,2,FALSE) -> 0
... A121: RX | B121: 41978 | C121: 4102342493 | E121: 115.92 | F121: 0154 | G121: =VLOOKUP(C121,tcd!A:B,2,FALSE) -> 0
A122: WE | B122: 41729 | C122: 4620008422 | D122: 1000039139 | E122: -590 | F122: 0154 | G122: =VLOOKUP(C122,tcd!A:B,2,FALSE) -> 0
A123: WE | B123: 41782 | C123: 4620008422 | D123: 1000039139 | E123: -9.42 | F123: 0154 | G123: =VLOOKUP(C123,tcd!A:B,2,FALSE) -> 0
A124: WE | B124: 41782 | C124: 4620008422 | D124: 1000039139 | E124: -9.42 | F124: 0154 | G124: =VLOOKUP(C124,tcd!A:B,2,FALSE) -> 0
A125: WE | B125: 41904 | C125: 4620008422 | D125: 1000039139 | E125: -18.84 | F125: 0154 | G125: =VLOOKUP(C125,tcd!A:B,2,FALSE) -> 0
A126: WE | B126: 41913 | C126: 4620008422 | D126: 1000039139 | E126: -18.84 | F126: 0154 | G126: =VLOOKUP(C126,tcd!A:B,2,FALSE) -> 0
A127: WE | B127: 41946 | C127: 4620008422 | D127: 1000039139 | E127: -18.84 | F127: 0154 | G127: =VLOOKUP(C127,tcd!A:B,2,FALSE) -> 0
A128: WE | B128: 41974 | C128: 4620008422 | D128: 1000039139 | E128: -18.84 | F128: 0154 | G128: =VLOOKUP(C128,tcd!A:B,2,FALSE) -> 0
A129: WE | B129: 41974 | C129: 4620008422 | D129: 1000039139 | E129: -65 | F129: 0154 | G129: =VLOOKUP(C129,tcd!A:B,2,FALSE) -> 0
A130: WE | B130: 41974 | C130: 4620008422 | D130: 1000039139 | E130: -40 | F130: 0154 | G130: =VLOOKUP(C130,tcd!A:B,2,FALSE) -> 0
A131: WE | B131: 41990 | C131: 4620005184 | D131: 1000063740 | E131: -2281.05 | F131: 0154 | G131: =VLOOKUP(C131,tcd!A:B,2,FALSE) -> 1000063740
A132: WE | B132: 41990 | C132: 4620005102 | D132: 1000031941 | E132: -1500.46 | F132: 0154 | G132: =VLOOKUP(C132,tcd!A:B,2,FALSE) -> 1000031941
A133: WE | B133: 41990 | C133: 4620005091 | D133: 1000031941 | E133: -88.9 | F133: 0154 | G133: =VLOOKUP(C133,tcd!A:B,2,FALSE) -> 1000031941
... A699: WE | B699: 41274 | C699: 4101394353 | D699: 1000016793 | E699: -4005 | F699: 0154 | G699: =VLOOKUP(C699,tcd!A:B,2,FALSE) -> 0
