Workbook
Name a: #REF!
Name CONTRAT: #REF!
Name POSITIONS: #REF!
Name POSTES: #REF!

Sheet S1
A3: Semaine n° | I3: TOTAL HEURES HEBDO | J3: HRS < 35 OU HRS ENTRE 35 ET 39 H | K3: HEURES > 39 H A PAYER AU MOIS
B4: Hres | C4: Hres | D4: Hres | E4: Hres | F4: Hres | G4: Hres | H4: Hres
A5: Monsieur X | B5: 10 | C5: 9 | D5: 7 | E5: 7 | F5: 7 | I5: =SUM(B5:H5) -> 40 | J5: =IF(I5>35/24,MIN(I5-35)) -> 5 | K5: =IF(I5>39,I5-39,0) -> 1
A6: Monsieur Y | B6: 9 | C6: 5 | G6: 10 | H6: 10 | I6: 32 | J6: =IF(I6>35/24,MIN(I6-35)) -> -3 | K6: 0
A7: Monsieur Z | C7: 11 | D7: 9.5 | E7: 9.5 | F7: 7 | I7: 38 | J7: =IF(I7>35/24,MIN(I7-35)) -> 3 | K7: 0

Sheet S2
M2: Compteur
A3: Semaine n° | I3: TOTAL HEURES HEBDO | J3: HRS < 35 OU HRS ENTRE 35 ET 39 H | K3: HEURES > 39 H A PAYER AU MOIS | M3: REPORT mois précédent | N3: Compteur en cours | O3: Total HS> 39
B4: Hres | C4: Hres | D4: Hres | E4: Hres | F4: Hres | G4: Hres | H4: Hres
A5: Monsieur X | B5: 5 | C5: 9 | D5: 7 | E5: 7 | F5: 7 | I5: =SUM(B5:H5) -> 35 | J5: =IF(I5>35/24,MIN(I5-35)) -> 0 | K5: =IF(I5>39,I5-39,0) -> 0 | M5: ='S1'!J5 -> 5 | N5: =M5-J5 -> 5 | O5: ='S1'!K5+K5 -> 1
A6: Monsieur Y | B6: 9 | C6: 5 | G6: 10 | H6: 10 | I6: =SUM(B6:H6) -> 34 | J6: =IF(I6>35/24,MIN(I6-35)) -> -1 | K6: 0 | M6: ='S1'!J6 -> -3 | N6: =M6-J6 -> -2 | O6: ='S1'!K6+K6 -> 0
A7: Monsieur Z | C7: 11 | D7: 9.5 | E7: 9.5 | F7: 7 | I7: =SUM(B7:H7) -> 37 | J7: =IF(I7>35/24,MIN(I7-35)) -> 2 | K7: 0 | M7: ='S1'!J7 -> 3 | N7: =M7-J7 -> 1 | O7: ='S1'!K7+K7 -> 0
