Workbook
Name Conforme: 'Feuille REWORK'!$D:$D
Name NConforme: 'Feuille REWORK'!$E:$E
Name No: 'Feuille REWORK'!$A:$A
Name NoShip: 'Feuille REWORK'!$B:$B
Name QteShip: 'Feuille REWORK'!$C:$C

Sheet Formulaire
A1: Formulaire REWORK
B4: Wo : | D4: 100000000
B6: Lot : | D6: 123456789
B8: Shipper Début : | D8: 1
B10: Shipper Fin : | D10: 6
B12: Qté par Shipper : | D12: 24
B14: Date :

Sheet Feuille REWORK
A1: Feuille de REWORK
A3: WO: | B3: =Formulaire!D4 -> 100000000 | E3: Date :
A4: Lot : | B4: =IF(Formulaire!D6=" "," ",Formulaire!D6) -> 123456789 | E4: Page :
A6: No : | B6: Shipper | C6: Quantité | D6: Quantité | E6: Quantité | F6: Commentaire
C7: par Shipper | D7: Conforme | E7: Non Conforme
A8: =IF(B8>0,1," ") -> 1 | B8: =Formulaire!D8 -> 1 | C8: =Formulaire!D12 -> 24
A9: =IF(B8=Formulaire!D10," ",A8+1) -> 2 | B9: =IF(B8=Formulaire!D10,0,IF(Formulaire!D8<Formulaire!D10,B8+1,B8-1)) -> 2 | C9: =IF(B9=" "," ",Formulaire!D12) -> 24
A10: =IF(B9=Formulaire!D10," ",A9+1) -> 3 | B10: =IF(B9=Formulaire!D10,0,IF(Formulaire!D8<Formulaire!D10,B9+1,B9-1)) -> 3 | C10: =IF(B10=" "," ",Formulaire!D12) -> 24
A11: =IF(B10=Formulaire!D10," ",A10+1) -> 4 | B11: =IF(B10=Formulaire!D10,0,IF(Formulaire!D8<Formulaire!D10,B10+1,B10-1)) -> 4 | C11: =IF(B11=" "," ",Formulaire!D12) -> 24
A12: =IF(118=Formulaire!D10," ",A11+1) -> 5 | B12: =IF(B11=Formulaire!D10,0,IF(Formulaire!D8<Formulaire!D10,B11+1,B11-1)) -> 5 | C12: =IF(B12=" "," ",Formulaire!D12) -> 24
A13: =IF(B12=Formulaire!D10," ",A12+1) -> 6 | B13: =IF(B12=Formulaire!D10,0,IF(Formulaire!D8<Formulaire!D10,B12+1,B12-1)) -> 6 | C13: =IF(B13=" "," ",Formulaire!D12) -> 24
A14: =IF(B13=Formulaire!D10," ",A13+1) | B14: =IF(B13=Formulaire!D10," ",IF(Formulaire!D8<Formulaire!D10,B13+1,B13-1)) | C14: =IF(B14=" "," ",Formulaire!D12)
A15: =IF(B14=Formulaire!D10," ",A14+1) -> #VALUE! | B15: =IF(B14=Formulaire!D10," ",IF(Formulaire!D8<Formulaire!D10,B14+1,B14-1)) -> #VALUE! | C15: =IF(B15=" "," ",Formulaire!D12) -> #VALUE!
A21: =IF(B21>0,A19+1," ")
A22: =IF(B22>0,A20+1," ")
A23: =IF(B23>0,A21+1," ")
A24: =IF(B24>0,A22+1," ")
A25: =IF(B25>0,A23+1," ")
A26: =IF(B26>0,A24+1," ")
A27: =IF(B27>0,A25+1," ")
A28: =IF(B28>0,A26+1," ")
A29: =IF(B29>0,A27+1," ")
A30: =IF(B30>0,A28+1," ")
A31: =IF(B31>0,A29+1," ")
A32: =IF(B32>0,A30+1," ")
... A53: =IF(B53>0,A51+1," ")

Sheet Feuil3
