Workbook

Sheet Bilan
B1: 2022/2023
B2: Bilan des jours restants
B3: Nom de l’employé | D3: CP | E3: RTT | F3: Total SAM
B4: C. | C4: Bruno | D4: =$D$20-(COUNTIF('Mai22'!C6:AG6,"CP")+COUNTIF('Mai22'!C6:AG6,"1/2 CP")*0.5)-(COUNTIF(Juin22!C6:AG6,"CP")+COUNTIF(Juin22!C6:AG6,"1/2 CP")*0.5)-(COUNTIF(Juil22!C6:AG6,"CP")+COUNTIF(Juil22!C6:AG6,"1/2 CP")*0.5)-(COUNTIF(Août22!C6:AG6,"CP")+COUNTIF(Août22!C6:AG6,"1/2 CP")*0.5)-(COUNTIF(Sept22!C6:AG6,"CP")+COUNTIF(Sept22!C6:AG6,"1/2 CP")*0.5)-(COUNTIF('Oct22'!C6:AG6,"CP")+COUNTIF('Oct22'!C6:AG6,"1/2 CP")*0.5)-(COUNTIF('Nov22'!C6:AH6,"CP")+COUNTIF('Nov22'!C6:AH6,"1/2 CP")*0.5)-(COUNTIF(Déc22!C6:AG6,"CP")+COUNTIF(Déc22!C6:AG6,"1/2 CP")*0.5)-(COUNTIF(Janv23!C6:AG6,"CP")+COUNTIF(Janv23!C6:AG6,"1/2 CP")*0.5)-(COUNTIF(Fév23!C6:AG6,"CP")+COUNTIF(Fév23!C6:AG6,"1/2 CP")*0.5)-(COUNTIF(Mars23!C6:AG6,"CP")+COUNTIF(Mars23!C6:AG6,"1/2 CP")*0.5)-(COUNTIF(Avril23!C6:AG6,"CP")+COUNTIF(Avril23!C6:AG6,"1/2 CP")*0.5) -> 19 | E4: =$D$19-(COUNTIF(Avril22!C6:AF6,"RTT")+COUNTIF(Avril22!C6:AF6,"1/2 RTT")*0.5)-(COUNTIF('Mai22'!C6:AF6,"RTT")+COUNTIF('Mai22'!C6:AF6,"1/2 RTT")*0.5)-(COUNTIF(Juin22!C6:AF6,"RTT")+COUNTIF(Juin22!C6:AF6,"1/2 RTT")*0.5)-(COUNTIF(Juil22!C6:AF6,"RTT")+COUNTIF(Juil22!C6:AF6,"1/2 RTT")*0.5)-(COUNTIF(Août22!C6:AF6,"RTT")+COUNTIF(Août22!C6:AF6,"1/2 RTT")*0.5)-(COUNTIF(Sept22!C6:AF6,"RTT")+COUNTIF(Sept22!C6:AF6,"1/2 RTT")*0.5)-(COUNTIF('Oct22'!C6:AF6,"RTT")+COUNTIF('Oct22'!C6:AF6,"1/2 RTT")*0.5)-(COUNTIF('Nov22'!C6:AF6,"RTT")+COUNTIF('Nov22'!C6:AF6,"1/2 RTT")*0.5)-(COUNTIF(Déc22!C6:AF6,"RTT")+COUNTIF(Déc22!C6:AF6,"1/2 RTT")*0.5)-(COUNTIF(Janv23!C6:AF6,"RTT")+COUNTIF(Janv23!C6:AF6,"1/2 RTT")*0.5)-(COUNTIF(Fév23!C6:AF6,"RTT")+COUNTIF(Fév23!C6:AF6,"1/2 RTT")*0.5)-(COUNTIF(Mars23!C6:AF6,"RTT")+COUNTIF(Mars23!C6:AF6,"1/2 RTT")*0.5) -> 12 | F4: ='Mai22'!AH6+Juin22!AH6+Juil22!AH6+Août22!AH6+Sept22!AH6+'Oct22'!AH6+'Nov22'!AH6+Déc22!AH6+Janv23!AH6+Fév23!AH6+Mars23!AH6+Avril23!AH6 -> 6
B5: C. | C5: Alain | D5: =$D$20-(COUNTIF('Mai22'!C7:AG7,"CP")+COUNTIF('Mai22'!C7:AG7,"1/2 CP")*0.5)-(COUNTIF(Juin22!C7:AG7,"CP")+COUNTIF(Juin22!C7:AG7,"1/2 CP")*0.5)-(COUNTIF(Juil22!C7:AG7,"CP")+COUNTIF(Juil22!C7:AG7,"1/2 CP")*0.5)-(COUNTIF(Août22!C7:AG7,"CP")+COUNTIF(Août22!C7:AG7,"1/2 CP")*0.5)-(COUNTIF(Sept22!C7:AG7,"CP")+COUNTIF(Sept22!C7:AG7,"1/2 CP")*0.5)-(COUNTIF('Oct22'!C7:AG7,"CP")+COUNTIF('Oct22'!C7:AG7,"1/2 CP")*0.5)-(COUNTIF('Nov22'!C7:AH7,"CP")+COUNTIF('Nov22'!C7:AH7,"1/2 CP")*0.5)-(COUNTIF(Déc22!C7:AG7,"CP")+COUNTIF(Déc22!C7:AG7,"1/2 CP")*0.5)-(COUNTIF(Janv23!C7:AG7,"CP")+COUNTIF(Janv23!C7:AG7,"1/2 CP")*0.5)-(COUNTIF(Fév23!C7:AG7,"CP")+COUNTIF(Fév23!C7:AG7,"1/2 CP")*0.5)-(COUNTIF(Mars23!C7:AG7,"CP")+COUNTIF(Mars23!C7:AG7,"1/2 CP")*0.5)-(COUNTIF(Avril23!C7:AG7,"CP")+COUNTIF(Avril23!C7:AG7,"1/2 CP")*0.5) -> 25 | E5: =$D$19-(COUNTIF(Avril22!C7:AF7,"RTT")+COUNTIF(Avril22!C7:AF7,"1/2 RTT")*0.5) -> 12 | F5: ='Mai22'!AH7+Juin22!AH7+Juil22!AH7+Août22!AH7+Sept22!AH7+'Oct22'!AH7+'Nov22'!AH7+Déc22!AH7+Janv23!AH7+Fév23!AH7+Mars23!AH7+Avril23!AH7 -> 0
B6: D. | C6: Chrystelle | D6: =$D$20-(COUNTIF('Mai22'!C8:AG8,"CP")+COUNTIF('Mai22'!C8:AG8,"1/2 CP")*0.5)-(COUNTIF(Juin22!C8:AG8,"CP")+COUNTIF(Juin22!C8:AG8,"1/2 CP")*0.5)-(COUNTIF(Juil22!C8:AG8,"CP")+COUNTIF(Juil22!C8:AG8,"1/2 CP")*0.5)-(COUNTIF(Août22!C8:AG8,"CP")+COUNTIF(Août22!C8:AG8,"1/2 CP")*0.5)-(COUNTIF(Sept22!C8:AG8,"CP")+COUNTIF(Sept22!C8:AG8,"1/2 CP")*0.5)-(COUNTIF('Oct22'!C8:AG8,"CP")+COUNTIF('Oct22'!C8:AG8,"1/2 CP")*0.5)-(COUNTIF('Nov22'!C8:AH8,"CP")+COUNTIF('Nov22'!C8:AH8,"1/2 CP")*0.5)-(COUNTIF(Déc22!C8:AG8,"CP")+COUNTIF(Déc22!C8:AG8,"1/2 CP")*0.5)-(COUNTIF(Janv23!C8:AG8,"CP")+COUNTIF(Janv23!C8:AG8,"1/2 CP")*0.5)-(COUNTIF(Fév23!C8:AG8,"CP")+COUNTIF(Fév23!C8:AG8,"1/2 CP")*0.5)-(COUNTIF(Mars23!C8:AG8,"CP")+COUNTIF(Mars23!C8:AG8,"1/2 CP")*0.5)-(COUNTIF(Avril23!C8:AG8,"CP")+COUNTIF(Avril23!C8:AG8,"1/2 CP")*0.5) -> 25 | E6: =$D$19-(COUNTIF(Avril22!C8:AF8,"RTT")+COUNTIF(Avril22!C8:AF8,"1/2 RTT")*0.5) -> 12 | F6: ='Mai22'!AH8+Juin22!AH8+Juil22!AH8+Août22!AH8+Sept22!AH8+'Oct22'!AH8+'Nov22'!AH8+Déc22!AH8+Janv23!AH8+Fév23!AH8+Mars23!AH8+Avril23!AH8 -> 0
B7: G. | C7: Romain | D7: =$D$20-(COUNTIF('Mai22'!C9:AG9,"CP")+COUNTIF('Mai22'!C9:AG9,"1/2 CP")*0.5)-(COUNTIF(Juin22!C9:AG9,"CP")+COUNTIF(Juin22!C9:AG9,"1/2 CP")*0.5)-(COUNTIF(Juil22!C9:AG9,"CP")+COUNTIF(Juil22!C9:AG9,"1/2 CP")*0.5)-(COUNTIF(Août22!C9:AG9,"CP")+COUNTIF(Août22!C9:AG9,"1/2 CP")*0.5)-(COUNTIF(Sept22!C9:AG9,"CP")+COUNTIF(Sept22!C9:AG9,"1/2 CP")*0.5)-(COUNTIF('Oct22'!C9:AG9,"CP")+COUNTIF('Oct22'!C9:AG9,"1/2 CP")*0.5)-(COUNTIF('Nov22'!C9:AH9,"CP")+COUNTIF('Nov22'!C9:AH9,"1/2 CP")*0.5)-(COUNTIF(Déc22!C9:AG9,"CP")+COUNTIF(Déc22!C9:AG9,"1/2 CP")*0.5)-(COUNTIF(Janv23!C9:AG9,"CP")+COUNTIF(Janv23!C9:AG9,"1/2 CP")*0.5)-(COUNTIF(Fév23!C9:AG9,"CP")+COUNTIF(Fév23!C9:AG9,"1/2 CP")*0.5)-(COUNTIF(Mars23!C9:AG9,"CP")+COUNTIF(Mars23!C9:AG9,"1/2 CP")*0.5)-(COUNTIF(Avril23!C9:AG9,"CP")+COUNTIF(Avril23!C9:AG9,"1/2 CP")*0.5) -> 25 | E7: =$D$19-(COUNTIF(Avril22!C9:AF9,"RTT")+COUNTIF(Avril22!C9:AF9,"1/2 RTT")*0.5) -> 12 | F7: ='Mai22'!AH9+Juin22!AH9+Juil22!AH9+Août22!AH9+Sept22!AH9+'Oct22'!AH9+'Nov22'!AH9+Déc22!AH9+Janv23!AH9+Fév23!AH9+Mars23!AH9+Avril23!AH9 -> 0
B8: G. | C8: Mickaël | D8: =$D$20-(COUNTIF('Mai22'!C10:AG10,"CP")+COUNTIF('Mai22'!C10:AG10,"1/2 CP")*0.5)-(COUNTIF(Juin22!C10:AG10,"CP")+COUNTIF(Juin22!C10:AG10,"1/2 CP")*0.5)-(COUNTIF(Juil22!C10:AG10,"CP")+COUNTIF(Juil22!C10:AG10,"1/2 CP")*0.5)-(COUNTIF(Août22!C10:AG10,"CP")+COUNTIF(Août22!C10:AG10,"1/2 CP")*0.5)-(COUNTIF(Sept22!C10:AG10,"CP")+COUNTIF(Sept22!C10:AG10,"1/2 CP")*0.5)-(COUNTIF('Oct22'!C10:AG10,"CP")+COUNTIF('Oct22'!C10:AG10,"1/2 CP")*0.5)-(COUNTIF('Nov22'!C10:AH10,"CP")+COUNTIF('Nov22'!C10:AH10,"1/2 CP")*0.5)-(COUNTIF(Déc22!C10:AG10,"CP")+COUNTIF(Déc22!C10:AG10,"1/2 CP")*0.5)-(COUNTIF(Janv23!C10:AG10,"CP")+COUNTIF(Janv23!C10:AG10,"1/2 CP")*0.5)-(COUNTIF(Fév23!C10:AG10,"CP")+COUNTIF(Fév23!C10:AG10,"1/2 CP")*0.5)-(COUNTIF(Mars23!C10:AG10,"CP")+COUNTIF(Mars23!C10:AG10,"1/2 CP")*0.5)-(COUNTIF(Avril23!C10:AG10,"CP")+COUNTIF(Avril23!C10:AG10,"1/2 CP")*0.5) -> 25 | E8: =$D$19-(COUNTIF(Avril22!C10:AF10,"RTT")+COUNTIF(Avril22!C10:AF10,"1/2 RTT")*0.5) -> 12 | F8: ='Mai22'!AH10+Juin22!AH10+Juil22!AH10+Août22!AH10+Sept22!AH10+'Oct22'!AH10+'Nov22'!AH10+Déc22!AH10+Janv23!AH10+Fév23!AH10+Mars23!AH10+Avril23!AH10 -> 0
B9: G. | C9: Daniel | D9: =$D$20-(COUNTIF('Mai22'!C11:AG11,"CP")+COUNTIF('Mai22'!C11:AG11,"1/2 CP")*0.5)-(COUNTIF(Juin22!C11:AG11,"CP")+COUNTIF(Juin22!C11:AG11,"1/2 CP")*0.5)-(COUNTIF(Juil22!C11:AG11,"CP")+COUNTIF(Juil22!C11:AG11,"1/2 CP")*0.5)-(COUNTIF(Août22!C11:AG11,"CP")+COUNTIF(Août22!C11:AG11,"1/2 CP")*0.5)-(COUNTIF(Sept22!C11:AG11,"CP")+COUNTIF(Sept22!C11:AG11,"1/2 CP")*0.5)-(COUNTIF('Oct22'!C11:AG11,"CP")+COUNTIF('Oct22'!C11:AG11,"1/2 CP")*0.5)-(COUNTIF('Nov22'!C11:AH11,"CP")+COUNTIF('Nov22'!C11:AH11,"1/2 CP")*0.5)-(COUNTIF(Déc22!C11:AG11,"CP")+COUNTIF(Déc22!C11:AG11,"1/2 CP")*0.5)-(COUNTIF(Janv23!C11:AG11,"CP")+COUNTIF(Janv23!C11:AG11,"1/2 CP")*0.5)-(COUNTIF(Fév23!C11:AG11,"CP")+COUNTIF(Fév23!C11:AG11,"1/2 CP")*0.5)-(COUNTIF(Mars23!C11:AG11,"CP")+COUNTIF(Mars23!C11:AG11,"1/2 CP")*0.5)-(COUNTIF(Avril23!C11:AG11,"CP")+COUNTIF(Avril23!C11:AG11,"1/2 CP")*0.5) -> 25 | E9: =$D$19-(COUNTIF(Avril22!C11:AF11,"RTT")+COUNTIF(Avril22!C11:AF11,"1/2 RTT")*0.5) -> 12 | F9: ='Mai22'!AH11+Juin22!AH11+Juil22!AH11+Août22!AH11+Sept22!AH11+'Oct22'!AH11+'Nov22'!AH11+Déc22!AH11+Janv23!AH11+Fév23!AH11+Mars23!AH11+Avril23!AH11 -> 0
B10: L. | C10: Simon | D10: =$D$20-(COUNTIF('Mai22'!C12:AG12,"CP")+COUNTIF('Mai22'!C12:AG12,"1/2 CP")*0.5)-(COUNTIF(Juin22!C12:AG12,"CP")+COUNTIF(Juin22!C12:AG12,"1/2 CP")*0.5)-(COUNTIF(Juil22!C12:AG12,"CP")+COUNTIF(Juil22!C12:AG12,"1/2 CP")*0.5)-(COUNTIF(Août22!C12:AG12,"CP")+COUNTIF(Août22!C12:AG12,"1/2 CP")*0.5)-(COUNTIF(Sept22!C12:AG12,"CP")+COUNTIF(Sept22!C12:AG12,"1/2 CP")*0.5)-(COUNTIF('Oct22'!C12:AG12,"CP")+COUNTIF('Oct22'!C12:AG12,"1/2 CP")*0.5)-(COUNTIF('Nov22'!C12:AH12,"CP")+COUNTIF('Nov22'!C12:AH12,"1/2 CP")*0.5)-(COUNTIF(Déc22!C12:AG12,"CP")+COUNTIF(Déc22!C12:AG12,"1/2 CP")*0.5)-(COUNTIF(Janv23!C12:AG12,"CP")+COUNTIF(Janv23!C12:AG12,"1/2 CP")*0.5)-(COUNTIF(Fév23!C12:AG12,"CP")+COUNTIF(Fév23!C12:AG12,"1/2 CP")*0.5)-(COUNTIF(Mars23!C12:AG12,"CP")+COUNTIF(Mars23!C12:AG12,"1/2 CP")*0.5)-(COUNTIF(Avril23!C12:AG12,"CP")+COUNTIF(Avril23!C12:AG12,"1/2 CP")*0.5) -> 25 | E10: =$D$19-(COUNTIF(Avril22!C12:AF12,"RTT")+COUNTIF(Avril22!C12:AF12,"1/2 RTT")*0.5) -> 12 | F10: ='Mai22'!AH12+Juin22!AH12+Juil22!AH12+Août22!AH12+Sept22!AH12+'Oct22'!AH12+'Nov22'!AH12+Déc22!AH12+Janv23!AH12+Fév23!AH12+Mars23!AH12+Avril23!AH12 -> 0
B11: L. | C11: Corentin | D11: =$D$20-(COUNTIF('Mai22'!C13:AG13,"CP")+COUNTIF('Mai22'!C13:AG13,"1/2 CP")*0.5)-(COUNTIF(Juin22!C13:AG13,"CP")+COUNTIF(Juin22!C13:AG13,"1/2 CP")*0.5)-(COUNTIF(Juil22!C13:AG13,"CP")+COUNTIF(Juil22!C13:AG13,"1/2 CP")*0.5)-(COUNTIF(Août22!C13:AG13,"CP")+COUNTIF(Août22!C13:AG13,"1/2 CP")*0.5)-(COUNTIF(Sept22!C13:AG13,"CP")+COUNTIF(Sept22!C13:AG13,"1/2 CP")*0.5)-(COUNTIF('Oct22'!C13:AG13,"CP")+COUNTIF('Oct22'!C13:AG13,"1/2 CP")*0.5)-(COUNTIF('Nov22'!C13:AH13,"CP")+COUNTIF('Nov22'!C13:AH13,"1/2 CP")*0.5)-(COUNTIF(Déc22!C13:AG13,"CP")+COUNTIF(Déc22!C13:AG13,"1/2 CP")*0.5)-(COUNTIF(Janv23!C13:AG13,"CP")+COUNTIF(Janv23!C13:AG13,"1/2 CP")*0.5)-(COUNTIF(Fév23!C13:AG13,"CP")+COUNTIF(Fév23!C13:AG13,"1/2 CP")*0.5)-(COUNTIF(Mars23!C13:AG13,"CP")+COUNTIF(Mars23!C13:AG13,"1/2 CP")*0.5)-(COUNTIF(Avril23!C13:AG13,"CP")+COUNTIF(Avril23!C13:AG13,"1/2 CP")*0.5) -> 25 | E11: =$D$19-(COUNTIF(Avril22!C13:AF13,"RTT")+COUNTIF(Avril22!C13:AF13,"1/2 RTT")*0.5) -> 12 | F11: ='Mai22'!AH13+Juin22!AH13+Juil22!AH13+Août22!AH13+Sept22!AH13+'Oct22'!AH13+'Nov22'!AH13+Déc22!AH13+Janv23!AH13+Fév23!AH13+Mars23!AH13+Avril23!AH13 -> 0
B12: M. | C12: Frédéric | D12: =$D$20-(COUNTIF('Mai22'!C14:AG14,"CP")+COUNTIF('Mai22'!C14:AG14,"1/2 CP")*0.5)-(COUNTIF(Juin22!C14:AG14,"CP")+COUNTIF(Juin22!C14:AG14,"1/2 CP")*0.5)-(COUNTIF(Juil22!C14:AG14,"CP")+COUNTIF(Juil22!C14:AG14,"1/2 CP")*0.5)-(COUNTIF(Août22!C14:AG14,"CP")+COUNTIF(Août22!C14:AG14,"1/2 CP")*0.5)-(COUNTIF(Sept22!C14:AG14,"CP")+COUNTIF(Sept22!C14:AG14,"1/2 CP")*0.5)-(COUNTIF('Oct22'!C14:AG14,"CP")+COUNTIF('Oct22'!C14:AG14,"1/2 CP")*0.5)-(COUNTIF('Nov22'!C14:AH14,"CP")+COUNTIF('Nov22'!C14:AH14,"1/2 CP")*0.5)-(COUNTIF(Déc22!C14:AG14,"CP")+COUNTIF(Déc22!C14:AG14,"1/2 CP")*0.5)-(COUNTIF(Janv23!C14:AG14,"CP")+COUNTIF(Janv23!C14:AG14,"1/2 CP")*0.5)-(COUNTIF(Fév23!C14:AG14,"CP")+COUNTIF(Fév23!C14:AG14,"1/2 CP")*0.5)-(COUNTIF(Mars23!C14:AG14,"CP")+COUNTIF(Mars23!C14:AG14,"1/2 CP")*0.5)-(COUNTIF(Avril23!C14:AG14,"CP")+COUNTIF(Avril23!C14:AG14,"1/2 CP")*0.5) -> 25 | E12: =$D$19-(COUNTIF(Avril22!C14:AF14,"RTT")+COUNTIF(Avril22!C14:AF14,"1/2 RTT")*0.5) -> 12 | F12: ='Mai22'!AH14+Juin22!AH14+Juil22!AH14+Août22!AH14+Sept22!AH14+'Oct22'!AH14+'Nov22'!AH14+Déc22!AH14+Janv23!AH14+Fév23!AH14+Mars23!AH14+Avril23!AH14 -> 0
B13: O. | C13: Christophe | D13: =$D$20-(COUNTIF('Mai22'!C15:AG15,"CP")+COUNTIF('Mai22'!C15:AG15,"1/2 CP")*0.5)-(COUNTIF(Juin22!C15:AG15,"CP")+COUNTIF(Juin22!C15:AG15,"1/2 CP")*0.5)-(COUNTIF(Juil22!C15:AG15,"CP")+COUNTIF(Juil22!C15:AG15,"1/2 CP")*0.5)-(COUNTIF(Août22!C15:AG15,"CP")+COUNTIF(Août22!C15:AG15,"1/2 CP")*0.5)-(COUNTIF(Sept22!C15:AG15,"CP")+COUNTIF(Sept22!C15:AG15,"1/2 CP")*0.5)-(COUNTIF('Oct22'!C15:AG15,"CP")+COUNTIF('Oct22'!C15:AG15,"1/2 CP")*0.5)-(COUNTIF('Nov22'!C15:AH15,"CP")+COUNTIF('Nov22'!C15:AH15,"1/2 CP")*0.5)-(COUNTIF(Déc22!C15:AG15,"CP")+COUNTIF(Déc22!C15:AG15,"1/2 CP")*0.5)-(COUNTIF(Janv23!C15:AG15,"CP")+COUNTIF(Janv23!C15:AG15,"1/2 CP")*0.5)-(COUNTIF(Fév23!C15:AG15,"CP")+COUNTIF(Fév23!C15:AG15,"1/2 CP")*0.5)-(COUNTIF(Mars23!C15:AG15,"CP")+COUNTIF(Mars23!C15:AG15,"1/2 CP")*0.5)-(COUNTIF(Avril23!C15:AG15,"CP")+COUNTIF(Avril23!C15:AG15,"1/2 CP")*0.5) -> 25 | E13: =$D$19-(COUNTIF(Avril22!C15:AF15,"RTT")+COUNTIF(Avril22!C15:AF15,"1/2 RTT")*0.5) -> 12 | F13: ='Mai22'!AH15+Juin22!AH15+Juil22!AH15+Août22!AH15+Sept22!AH15+'Oct22'!AH15+'Nov22'!AH15+Déc22!AH15+Janv23!AH15+Fév23!AH15+Mars23!AH15+Avril23!AH15 -> 0
B14: S. | C14: Julien | D14: =$D$20-(COUNTIF('Mai22'!C16:AG16,"CP")+COUNTIF('Mai22'!C16:AG16,"1/2 CP")*0.5)-(COUNTIF(Juin22!C16:AG16,"CP")+COUNTIF(Juin22!C16:AG16,"1/2 CP")*0.5)-(COUNTIF(Juil22!C16:AG16,"CP")+COUNTIF(Juil22!C16:AG16,"1/2 CP")*0.5)-(COUNTIF(Août22!C16:AG16,"CP")+COUNTIF(Août22!C16:AG16,"1/2 CP")*0.5)-(COUNTIF(Sept22!C16:AG16,"CP")+COUNTIF(Sept22!C16:AG16,"1/2 CP")*0.5)-(COUNTIF('Oct22'!C16:AG16,"CP")+COUNTIF('Oct22'!C16:AG16,"1/2 CP")*0.5)-(COUNTIF('Nov22'!C16:AH16,"CP")+COUNTIF('Nov22'!C16:AH16,"1/2 CP")*0.5)-(COUNTIF(Déc22!C16:AG16,"CP")+COUNTIF(Déc22!C16:AG16,"1/2 CP")*0.5)-(COUNTIF(Janv23!C16:AG16,"CP")+COUNTIF(Janv23!C16:AG16,"1/2 CP")*0.5)-(COUNTIF(Fév23!C16:AG16,"CP")+COUNTIF(Fév23!C16:AG16,"1/2 CP")*0.5)-(COUNTIF(Mars23!C16:AG16,"CP")+COUNTIF(Mars23!C16:AG16,"1/2 CP")*0.5)-(COUNTIF(Avril23!C16:AG16,"CP")+COUNTIF(Avril23!C16:AG16,"1/2 CP")*0.5) -> 25 | E14: =$D$19-(COUNTIF(Avril22!C16:AF16,"RTT")+COUNTIF(Avril22!C16:AF16,"1/2 RTT")*0.5) -> 12 | F14: ='Mai22'!AH16+Juin22!AH16+Juil22!AH16+Août22!AH16+Sept22!AH16+'Oct22'!AH16+'Nov22'!AH16+Déc22!AH16+Janv23!AH16+Fév23!AH16+Mars23!AH16+Avril23!AH16 -> 0
B15: T. | C15: David | D15: =$D$20-(COUNTIF('Mai22'!C17:AG17,"CP")+COUNTIF('Mai22'!C17:AG17,"1/2 CP")*0.5)-(COUNTIF(Juin22!C17:AG17,"CP")+COUNTIF(Juin22!C17:AG17,"1/2 CP")*0.5)-(COUNTIF(Juil22!C17:AG17,"CP")+COUNTIF(Juil22!C17:AG17,"1/2 CP")*0.5)-(COUNTIF(Août22!C17:AG17,"CP")+COUNTIF(Août22!C17:AG17,"1/2 CP")*0.5)-(COUNTIF(Sept22!C17:AG17,"CP")+COUNTIF(Sept22!C17:AG17,"1/2 CP")*0.5)-(COUNTIF('Oct22'!C17:AG17,"CP")+COUNTIF('Oct22'!C17:AG17,"1/2 CP")*0.5)-(COUNTIF('Nov22'!C17:AH17,"CP")+COUNTIF('Nov22'!C17:AH17,"1/2 CP")*0.5)-(COUNTIF(Déc22!C17:AG17,"CP")+COUNTIF(Déc22!C17:AG17,"1/2 CP")*0.5)-(COUNTIF(Janv23!C17:AG17,"CP")+COUNTIF(Janv23!C17:AG17,"1/2 CP")*0.5)-(COUNTIF(Fév23!C17:AG17,"CP")+COUNTIF(Fév23!C17:AG17,"1/2 CP")*0.5)-(COUNTIF(Mars23!C17:AG17,"CP")+COUNTIF(Mars23!C17:AG17,"1/2 CP")*0.5)-(COUNTIF(Avril23!C17:AG17,"CP")+COUNTIF(Avril23!C17:AG17,"1/2 CP")*0.5) -> 25 | E15: =$D$19-(COUNTIF(Avril22!C17:AF17,"RTT")+COUNTIF(Avril22!C17:AF17,"1/2 RTT")*0.5) -> 12 | F15: ='Mai22'!AH17+Juin22!AH17+Juil22!AH17+Août22!AH17+Sept22!AH17+'Oct22'!AH17+'Nov22'!AH17+Déc22!AH17+Janv23!AH17+Fév23!AH17+Mars23!AH17+Avril23!AH17 -> 0
B19: Attribués | C19: RTT | D19: 12
C20: CP | D20: 25
C21: Samedi | D21: 5
B23: RTT du 1er Avril au 31 Mars
B24: CP du 1er Mai au 30 Avril
B26: 1 semaine posée décompte 1 Samedi
B27: Lundi au Jeudi seulement 4j de retirés
B28: 1 Vendredi donc 1 samedi de décompté
B29: 1 Vendredi Jours Fériés donc 1 samedi de décompté
B31: Jours de fractionnement
B32: Accordés uniquement si CP pris entre 1er Mai et 31 Octobre
B33: Moins de 2 semaines consécutives | G33: 0 jour
B34: Entre 16 jours ouvrés et 18 jours ouvrés | G34: 1 jour
B35: 2 semaines consécutives (10 jours ouvrés) | G35: 2 jours
B36: 15 jours ouvrés | G36: 2 jours
B37: > 3 semaines et 2 jours | G37: 0 jour

Sheet Avril22
C1: =B3&COUNTIF(Feuil1!$C:$C,C$4) -> 0 | D1: =C3&COUNTIF(Feuil1!$C:$C,D$4) -> V0 | E1: =D3&COUNTIF(Feuil1!$C:$C,E$4) -> S0 | F1: =E3&COUNTIF(Feuil1!$C:$C,F$4) -> D0 | G1: =F3&COUNTIF(Feuil1!$C:$C,G$4) -> L0 | H1: =G3&COUNTIF(Feuil1!$C:$C,H$4) -> M0 | I1: =H3&COUNTIF(Feuil1!$C:$C,I$4) -> ME0 | J1: =I3&COUNTIF(Feuil1!$C:$C,J$4) -> J0 | ... AF1: =AE3&COUNTIF(Feuil1!$C:$C,AF$4) -> V0
A2: 44652 | C2: Dates d’absence | AH2: SAM
C3: V | D3: S | E3: D | F3: L | G3: M | H3: ME | I3: J | J3: V | K3: S | L3: D | M3: L | N3: M | O3: ME | P3: J | Q3: V | R3: S | S3: D | T3: L | U3: M | V3: ME | W3: J | X3: V | Y3: S | Z3: D | AA3: L | AB3: M | AC3: ME | AD3: J | AE3: V | AF3: S
C4: 44652 | D4: 44653 | E4: 44654 | F4: 44655 | G4: 44656 | H4: 44657 | I4: 44658 | J4: 44659 | K4: 44660 | L4: 44661 | M4: 44662 | N4: 44663 | O4: 44664 | P4: 44665 | Q4: 44666 | R4: 44667 | S4: 44668 | T4: 44669 | U4: 44670 | V4: 44671 | W4: 44672 | X4: 44673 | Y4: 44674 | Z4: 44675 | AA4: 44676 | AB4: 44677 | AC4: 44678 | AD4: 44679 | AE4: 44680 | AF4: 44681
A5: Nom de l’employé | C5: 1 | D5: 2 | E5: 3 | F5: 4 | G5: 5 | H5: 6 | I5: 7 | J5: 8 | K5: 9 | L5: 10 | M5: 11 | N5: 12 | O5: 13 | P5: 14 | Q5: 15 | R5: 16 | S5: 17 | T5: 18 | U5: 19 | V5: 20 | W5: 21 | X5: 22 | Y5: 23 | Z5: 24 | AA5: 25 | AB5: 26 | AC5: 27 | AD5: 28 | AE5: 29 | AF5: 30
A6: =Bilan!B4 -> C. | B6: =Bilan!C4 -> Bruno | AH6: =COUNTIFS($C6:$AF6,"CP",$C$3:$AF$3,"V") + COUNTIFS($C6:$AF6,"CP",$D$1:$AG$1,"J1") -> 0
A7: =Bilan!B5 -> C. | B7: =Bilan!C5 -> Alain | AH7: =COUNTIFS($C7:$AF7,"CP",$C$3:$AF$3,"V") + COUNTIFS($C7:$AF7,"CP",$D$1:$AG$1,"J1") -> 0
A8: =Bilan!B6 -> D. | B8: =Bilan!C6 -> Chrystelle | AH8: =COUNTIFS($C8:$AF8,"CP",$C$3:$AF$3,"V") + COUNTIFS($C8:$AF8,"CP",$D$1:$AG$1,"J1") -> 0
A9: =Bilan!B7 -> G. | B9: =Bilan!C7 -> Romain | AH9: =COUNTIFS($C9:$AF9,"CP",$C$3:$AF$3,"V") + COUNTIFS($C9:$AF9,"CP",$D$1:$AG$1,"J1") -> 0
A10: =Bilan!B8 -> G. | B10: =Bilan!C8 -> Mickaël | AH10: =COUNTIFS($C10:$AF10,"CP",$C$3:$AF$3,"V") + COUNTIFS($C10:$AF10,"CP",$D$1:$AG$1,"J1") -> 0
A11: =Bilan!B9 -> G. | B11: =Bilan!C9 -> Daniel | AH11: =COUNTIFS($C11:$AF11,"CP",$C$3:$AF$3,"V") + COUNTIFS($C11:$AF11,"CP",$D$1:$AG$1,"J1") -> 0
A12: =Bilan!B10 -> L. | B12: =Bilan!C10 -> Simon | AH12: =COUNTIFS($C12:$AF12,"CP",$C$3:$AF$3,"V") + COUNTIFS($C12:$AF12,"CP",$D$1:$AG$1,"J1") -> 0
A13: =Bilan!B11 -> L. | B13: =Bilan!C11 -> Corentin | AH13: =COUNTIFS($C13:$AF13,"CP",$C$3:$AF$3,"V") + COUNTIFS($C13:$AF13,"CP",$D$1:$AG$1,"J1") -> 0
A14: =Bilan!B12 -> M. | B14: =Bilan!C12 -> Frédéric | AH14: =COUNTIFS($C14:$AF14,"CP",$C$3:$AF$3,"V") + COUNTIFS($C14:$AF14,"CP",$D$1:$AG$1,"J1") -> 0
A15: =Bilan!B13 -> O. | B15: =Bilan!C13 -> Christophe | AH15: =COUNTIFS($C15:$AF15,"CP",$C$3:$AF$3,"V") + COUNTIFS($C15:$AF15,"CP",$D$1:$AG$1,"J1") -> 0
A16: =Bilan!B14 -> S. | B16: =Bilan!C14 -> Julien | AH16: =COUNTIFS($C16:$AF16,"CP",$C$3:$AF$3,"V") + COUNTIFS($C16:$AF16,"CP",$D$1:$AG$1,"J1") -> 0
A17: =Bilan!B15 -> T. | B17: =Bilan!C15 -> David | AH17: =COUNTIFS($C17:$AF17,"CP",$C$3:$AF$3,"V") + COUNTIFS($C17:$AF17,"CP",$D$1:$AG$1,"J1") -> 0
A18: =Bilan!B16 -> 0 | B18: =Bilan!C16 -> 0 | AH18: =COUNTIFS($C18:$AF18,"CP",$C$3:$AF$3,"V") + COUNTIFS($C18:$AF18,"CP",$D$1:$AG$1,"J1") -> 0
U22: =COUNTIF(Feuil1!$C$1:$C$31,U$4) -> 0 | V22: =COUNTIF(Feuil1!$C$1:$C$31,V$4) -> 0

Sheet Mai22
C1: =B3&COUNTIF(Feuil1!$C:$C,C$4) -> 1 | D1: =C3&COUNTIF(Feuil1!$C:$C,D$4) -> D0 | E1: =D3&COUNTIF(Feuil1!$C:$C,E$4) -> L0 | F1: =E3&COUNTIF(Feuil1!$C:$C,F$4) -> M0 | G1: =F3&COUNTIF(Feuil1!$C:$C,G$4) -> ME0 | H1: =G3&COUNTIF(Feuil1!$C:$C,H$4) -> J0 | I1: =H3&COUNTIF(Feuil1!$C:$C,I$4) -> V0 | J1: =I3&COUNTIF(Feuil1!$C:$C,J$4) -> S1 | ... AG1: =AF3&COUNTIF(Feuil1!$C:$C,AG$4) -> L0
A2: 44682 | C2: Dates d’absence | AH2: SAM
C3: D | D3: L | E3: M | F3: ME | G3: J | H3: V | I3: S | J3: D | K3: L | L3: M | M3: ME | N3: J | O3: V | P3: S | Q3: D | R3: L | S3: M | T3: ME | U3: J | V3: V | W3: S | X3: D | Y3: L | Z3: M | AA3: ME | AB3: J | AC3: V | AD3: S | AE3: D | AF3: L | AG3: M
C4: 44682 | D4: 44683 | E4: 44684 | F4: 44685 | G4: 44686 | H4: 44687 | I4: 44688 | J4: 44689 | K4: 44690 | L4: 44691 | M4: 44692 | N4: 44693 | O4: 44694 | P4: 44695 | Q4: 44696 | R4: 44697 | S4: 44698 | T4: 44699 | U4: 44700 | V4: 44701 | W4: 44702 | X4: 44703 | Y4: 44704 | Z4: 44705 | AA4: 44706 | AB4: 44707 | AC4: 44708 | AD4: 44709 | AE4: 44710 | AF4: 44711 | AG4: 44712
A5: Nom de l’employé | C5: 1 | D5: 2 | E5: 3 | F5: 4 | G5: 5 | H5: 6 | I5: 7 | J5: 8 | K5: 9 | L5: 10 | M5: 11 | N5: 12 | O5: 13 | P5: 14 | Q5: 15 | R5: 16 | S5: 17 | T5: 18 | U5: 19 | V5: 20 | W5: 21 | X5: 22 | Y5: 23 | Z5: 24 | AA5: 25 | AB5: 26 | AC5: 27 | AD5: 28 | AE5: 29 | AF5: 30 | AG5: 31
A6: =Bilan!B4 -> C. | B6: =Bilan!C4 -> Bruno | H6: CP | O6: CP | V6: CP | AC6: CP | AH6: =COUNTIFS($C6:$AF6,"CP",$C$3:$AF$3,"V") + COUNTIFS($C6:$AF6,"CP",$D$1:$AG$1,"J1") -> 4
A7: =Bilan!B5 -> C. | B7: =Bilan!C5 -> Alain | AH7: =COUNTIFS($C7:$AF7,"CP",$C$3:$AF$3,"V") + COUNTIFS($C7:$AF7,"CP",$D$1:$AG$1,"J1") -> 0
A8: =Bilan!B6 -> D. | B8: =Bilan!C6 -> Chrystelle | AH8: =COUNTIFS($C8:$AF8,"CP",$C$3:$AF$3,"V") + COUNTIFS($C8:$AF8,"CP",$D$1:$AG$1,"J1") -> 0
A9: =Bilan!B7 -> G. | B9: =Bilan!C7 -> Romain | AH9: =COUNTIFS($C9:$AF9,"CP",$C$3:$AF$3,"V") + COUNTIFS($C9:$AF9,"CP",$D$1:$AG$1,"J1") -> 0
A10: =Bilan!B8 -> G. | B10: =Bilan!C8 -> Mickaël | AH10: =COUNTIFS($C10:$AF10,"CP",$C$3:$AF$3,"V") + COUNTIFS($C10:$AF10,"CP",$D$1:$AG$1,"J1") -> 0
A11: =Bilan!B9 -> G. | B11: =Bilan!C9 -> Daniel | AH11: =COUNTIFS($C11:$AF11,"CP",$C$3:$AF$3,"V") + COUNTIFS($C11:$AF11,"CP",$D$1:$AG$1,"J1") -> 0
A12: =Bilan!B10 -> L. | B12: =Bilan!C10 -> Simon | AH12: =COUNTIFS($C12:$AF12,"CP",$C$3:$AF$3,"V") + COUNTIFS($C12:$AF12,"CP",$D$1:$AG$1,"J1") -> 0
A13: =Bilan!B11 -> L. | B13: =Bilan!C11 -> Corentin | AH13: =COUNTIFS($C13:$AF13,"CP",$C$3:$AF$3,"V") + COUNTIFS($C13:$AF13,"CP",$D$1:$AG$1,"J1") -> 0
A14: =Bilan!B12 -> M. | B14: =Bilan!C12 -> Frédéric | AH14: =COUNTIFS($C14:$AF14,"CP",$C$3:$AF$3,"V") + COUNTIFS($C14:$AF14,"CP",$D$1:$AG$1,"J1") -> 0
A15: =Bilan!B13 -> O. | B15: =Bilan!C13 -> Christophe | AH15: =COUNTIFS($C15:$AF15,"CP",$C$3:$AF$3,"V") + COUNTIFS($C15:$AF15,"CP",$D$1:$AG$1,"J1") -> 0
A16: =Bilan!B14 -> S. | B16: =Bilan!C14 -> Julien | AH16: =COUNTIFS($C16:$AF16,"CP",$C$3:$AF$3,"V") + COUNTIFS($C16:$AF16,"CP",$D$1:$AG$1,"J1") -> 0
A17: =Bilan!B15 -> T. | B17: =Bilan!C15 -> David | AH17: =COUNTIFS($C17:$AF17,"CP",$C$3:$AF$3,"V") + COUNTIFS($C17:$AF17,"CP",$D$1:$AG$1,"J1") -> 0
A18: =Bilan!B16 -> 0 | B18: =Bilan!C16 -> 0 | AH18: =COUNTIFS($C18:$AF18,"CP",$C$3:$AF$3,"V") + COUNTIFS($C18:$AF18,"CP",$D$1:$AG$1,"J1") -> 0
K22: =COUNTIF(Feuil1!$C$1:$C$31,K$4) -> 0

Sheet Juin22
C1: =B3&COUNTIF(Feuil1!$C:$C,C$4) -> 0 | D1: =C3&COUNTIF(Feuil1!$C:$C,D$4) -> ME0 | E1: =D3&COUNTIF(Feuil1!$C:$C,E$4) -> J0 | F1: =E3&COUNTIF(Feuil1!$C:$C,F$4) -> V0 | G1: =F3&COUNTIF(Feuil1!$C:$C,G$4) -> S0 | H1: =G3&COUNTIF(Feuil1!$C:$C,H$4) -> D1 | I1: =H3&COUNTIF(Feuil1!$C:$C,I$4) -> L0 | J1: =I3&COUNTIF(Feuil1!$C:$C,J$4) -> M0 | ... AG1: =AF3&COUNTIF(Feuil1!$C:$C,AG$4) -> J0
A2: 44713 | C2: Dates d’absence | AH2: SAM
C3: ME | D3: J | E3: V | F3: S | G3: D | H3: L | I3: M | J3: ME | K3: J | L3: V | M3: S | N3: D | O3: L | P3: M | Q3: ME | R3: J | S3: V | T3: S | U3: D | V3: L | W3: M | X3: ME | Y3: J | Z3: V | AA3: S | AB3: D | AC3: L | AD3: M | AE3: ME | AF3: J
C4: 44713 | D4: 44714 | E4: 44715 | F4: 44716 | G4: 44717 | H4: 44718 | I4: 44719 | J4: 44720 | K4: 44721 | L4: 44722 | M4: 44723 | N4: 44724 | O4: 44725 | P4: 44726 | Q4: 44727 | R4: 44728 | S4: 44729 | T4: 44730 | U4: 44731 | V4: 44732 | W4: 44733 | X4: 44734 | Y4: 44735 | Z4: 44736 | AA4: 44737 | AB4: 44738 | AC4: 44739 | AD4: 44740 | AE4: 44741 | AF4: 44742
A5: Nom de l’employé | C5: 1 | D5: 2 | E5: 3 | F5: 4 | G5: 5 | H5: 6 | I5: 7 | J5: 8 | K5: 9 | L5: 10 | M5: 11 | N5: 12 | O5: 13 | P5: 14 | Q5: 15 | R5: 16 | S5: 17 | T5: 18 | U5: 19 | V5: 20 | W5: 21 | X5: 22 | Y5: 23 | Z5: 24 | AA5: 25 | AB5: 26 | AC5: 27 | AD5: 28 | AE5: 29 | AF5: 30
A6: =Bilan!B4 -> C. | B6: =Bilan!C4 -> Bruno | E6: CP | L6: CP | AH6: =COUNTIFS($C6:$AF6,"CP",$C$3:$AF$3,"V") + COUNTIFS($C6:$AF6,"CP",$D$1:$AG$1,"J1") -> 2
A7: =Bilan!B5 -> C. | B7: =Bilan!C5 -> Alain | AH7: =COUNTIFS($C7:$AF7,"CP",$C$3:$AF$3,"V") + COUNTIFS($C7:$AF7,"CP",$D$1:$AG$1,"J1") -> 0
A8: =Bilan!B6 -> D. | B8: =Bilan!C6 -> Chrystelle | AH8: =COUNTIFS($C8:$AF8,"CP",$C$3:$AF$3,"V") + COUNTIFS($C8:$AF8,"CP",$D$1:$AG$1,"J1") -> 0
A9: =Bilan!B7 -> G. | B9: =Bilan!C7 -> Romain | AH9: =COUNTIFS($C9:$AF9,"CP",$C$3:$AF$3,"V") + COUNTIFS($C9:$AF9,"CP",$D$1:$AG$1,"J1") -> 0
A10: =Bilan!B8 -> G. | B10: =Bilan!C8 -> Mickaël | AH10: =COUNTIFS($C10:$AF10,"CP",$C$3:$AF$3,"V") + COUNTIFS($C10:$AF10,"CP",$D$1:$AG$1,"J1") -> 0
A11: =Bilan!B9 -> G. | B11: =Bilan!C9 -> Daniel | AH11: =COUNTIFS($C11:$AF11,"CP",$C$3:$AF$3,"V") + COUNTIFS($C11:$AF11,"CP",$D$1:$AG$1,"J1") -> 0
A12: =Bilan!B10 -> L. | B12: =Bilan!C10 -> Simon | AH12: =COUNTIFS($C12:$AF12,"CP",$C$3:$AF$3,"V") + COUNTIFS($C12:$AF12,"CP",$D$1:$AG$1,"J1") -> 0
A13: =Bilan!B11 -> L. | B13: =Bilan!C11 -> Corentin | AH13: =COUNTIFS($C13:$AF13,"CP",$C$3:$AF$3,"V") + COUNTIFS($C13:$AF13,"CP",$D$1:$AG$1,"J1") -> 0
A14: =Bilan!B12 -> M. | B14: =Bilan!C12 -> Frédéric | AH14: =COUNTIFS($C14:$AF14,"CP",$C$3:$AF$3,"V") + COUNTIFS($C14:$AF14,"CP",$D$1:$AG$1,"J1") -> 0
A15: =Bilan!B13 -> O. | B15: =Bilan!C13 -> Christophe | AH15: =COUNTIFS($C15:$AF15,"CP",$C$3:$AF$3,"V") + COUNTIFS($C15:$AF15,"CP",$D$1:$AG$1,"J1") -> 0
A16: =Bilan!B14 -> S. | B16: =Bilan!C14 -> Julien | AH16: =COUNTIFS($C16:$AF16,"CP",$C$3:$AF$3,"V") + COUNTIFS($C16:$AF16,"CP",$D$1:$AG$1,"J1") -> 0
A17: =Bilan!B15 -> T. | B17: =Bilan!C15 -> David | AH17: =COUNTIFS($C17:$AF17,"CP",$C$3:$AF$3,"V") + COUNTIFS($C17:$AF17,"CP",$D$1:$AG$1,"J1") -> 0
A18: =Bilan!B16 -> 0 | B18: =Bilan!C16 -> 0 | AH18: =COUNTIFS($C18:$AF18,"CP",$C$3:$AF$3,"V") + COUNTIFS($C18:$AF18,"CP",$D$1:$AG$1,"J1") -> 0

Sheet Juil22
C1: =B3&COUNTIF(Feuil1!$C:$C,C$4) -> 0 | D1: =C3&COUNTIF(Feuil1!$C:$C,D$4) -> V0 | E1: =D3&COUNTIF(Feuil1!$C:$C,E$4) -> S0 | F1: =E3&COUNTIF(Feuil1!$C:$C,F$4) -> D0 | G1: =F3&COUNTIF(Feuil1!$C:$C,G$4) -> L0 | H1: =G3&COUNTIF(Feuil1!$C:$C,H$4) -> M0 | I1: =H3&COUNTIF(Feuil1!$C:$C,I$4) -> ME0 | J1: =I3&COUNTIF(Feuil1!$C:$C,J$4) -> J0 | ... AG1: =AF3&COUNTIF(Feuil1!$C:$C,AG$4) -> S0
A2: 44743 | C2: Dates d’absence | AH2: SAM
C3: V | D3: S | E3: D | F3: L | G3: M | H3: ME | I3: J | J3: V | K3: S | L3: D | M3: L | N3: M | O3: ME | P3: J | Q3: V | R3: S | S3: D | T3: L | U3: M | V3: ME | W3: J | X3: V | Y3: S | Z3: D | AA3: L | AB3: M | AC3: ME | AD3: J | AE3: V | AF3: S | AG3: D
C4: 44743 | D4: 44744 | E4: 44745 | F4: 44746 | G4: 44747 | H4: 44748 | I4: 44749 | J4: 44750 | K4: 44751 | L4: 44752 | M4: 44753 | N4: 44754 | O4: 44755 | P4: 44756 | Q4: 44757 | R4: 44758 | S4: 44759 | T4: 44760 | U4: 44761 | V4: 44762 | W4: 44763 | X4: 44764 | Y4: 44765 | Z4: 44766 | AA4: 44767 | AB4: 44768 | AC4: 44769 | AD4: 44770 | AE4: 44771 | AF4: 44772 | AG4: 44773
A5: Nom de l’employé | C5: 1 | D5: 2 | E5: 3 | F5: 4 | G5: 5 | H5: 6 | I5: 7 | J5: 8 | K5: 9 | L5: 10 | M5: 11 | N5: 12 | O5: 13 | P5: 14 | Q5: 15 | R5: 16 | S5: 17 | T5: 18 | U5: 19 | V5: 20 | W5: 21 | X5: 22 | Y5: 23 | Z5: 24 | AA5: 25 | AB5: 26 | AC5: 27 | AD5: 28 | AE5: 29 | AF5: 30 | AG5: 31
A6: =Bilan!B4 -> C. | B6: =Bilan!C4 -> Bruno | AH6: =COUNTIFS($C6:$AF6,"CP",$C$3:$AF$3,"V") + COUNTIFS($C6:$AF6,"CP",$D$1:$AG$1,"J1") -> 0
A7: =Bilan!B5 -> C. | B7: =Bilan!C5 -> Alain | AH7: =COUNTIFS($C7:$AF7,"CP",$C$3:$AF$3,"V") + COUNTIFS($C7:$AF7,"CP",$D$1:$AG$1,"J1") -> 0
A8: =Bilan!B6 -> D. | B8: =Bilan!C6 -> Chrystelle | AH8: =COUNTIFS($C8:$AF8,"CP",$C$3:$AF$3,"V") + COUNTIFS($C8:$AF8,"CP",$D$1:$AG$1,"J1") -> 0
A9: =Bilan!B7 -> G. | B9: =Bilan!C7 -> Romain | AH9: =COUNTIFS($C9:$AF9,"CP",$C$3:$AF$3,"V") + COUNTIFS($C9:$AF9,"CP",$D$1:$AG$1,"J1") -> 0
A10: =Bilan!B8 -> G. | B10: =Bilan!C8 -> Mickaël | AH10: =COUNTIFS($C10:$AF10,"CP",$C$3:$AF$3,"V") + COUNTIFS($C10:$AF10,"CP",$D$1:$AG$1,"J1") -> 0
A11: =Bilan!B9 -> G. | B11: =Bilan!C9 -> Daniel | AH11: =COUNTIFS($C11:$AF11,"CP",$C$3:$AF$3,"V") + COUNTIFS($C11:$AF11,"CP",$D$1:$AG$1,"J1") -> 0
A12: =Bilan!B10 -> L. | B12: =Bilan!C10 -> Simon | AH12: =COUNTIFS($C12:$AF12,"CP",$C$3:$AF$3,"V") + COUNTIFS($C12:$AF12,"CP",$D$1:$AG$1,"J1") -> 0
A13: =Bilan!B11 -> L. | B13: =Bilan!C11 -> Corentin | AH13: =COUNTIFS($C13:$AF13,"CP",$C$3:$AF$3,"V") + COUNTIFS($C13:$AF13,"CP",$D$1:$AG$1,"J1") -> 0
A14: =Bilan!B12 -> M. | B14: =Bilan!C12 -> Frédéric | AH14: =COUNTIFS($C14:$AF14,"CP",$C$3:$AF$3,"V") + COUNTIFS($C14:$AF14,"CP",$D$1:$AG$1,"J1") -> 0
A15: =Bilan!B13 -> O. | B15: =Bilan!C13 -> Christophe | AH15: =COUNTIFS($C15:$AF15,"CP",$C$3:$AF$3,"V") + COUNTIFS($C15:$AF15,"CP",$D$1:$AG$1,"J1") -> 0
A16: =Bilan!B14 -> S. | B16: =Bilan!C14 -> Julien | AH16: =COUNTIFS($C16:$AF16,"CP",$C$3:$AF$3,"V") + COUNTIFS($C16:$AF16,"CP",$D$1:$AG$1,"J1") -> 0
A17: =Bilan!B15 -> T. | B17: =Bilan!C15 -> David | AH17: =COUNTIFS($C17:$AF17,"CP",$C$3:$AF$3,"V") + COUNTIFS($C17:$AF17,"CP",$D$1:$AG$1,"J1") -> 0
A18: =Bilan!B16 -> 0 | B18: =Bilan!C16 -> 0 | AH18: =COUNTIFS($C18:$AF18,"CP",$C$3:$AF$3,"V") + COUNTIFS($C18:$AF18,"CP",$D$1:$AG$1,"J1") -> 0

Sheet Août22
C1: =B3&COUNTIF(Feuil1!$C:$C,C$4) -> 0 | D1: =C3&COUNTIF(Feuil1!$C:$C,D$4) -> L0 | E1: =D3&COUNTIF(Feuil1!$C:$C,E$4) -> M0 | F1: =E3&COUNTIF(Feuil1!$C:$C,F$4) -> ME0 | G1: =F3&COUNTIF(Feuil1!$C:$C,G$4) -> J0 | H1: =G3&COUNTIF(Feuil1!$C:$C,H$4) -> V0 | I1: =H3&COUNTIF(Feuil1!$C:$C,I$4) -> S0 | J1: =I3&COUNTIF(Feuil1!$C:$C,J$4) -> D0 | ... AG1: =AF3&COUNTIF(Feuil1!$C:$C,AG$4) -> M0
A2: 44774 | C2: Dates d’absence | AH2: SAM
C3: L | D3: M | E3: ME | F3: J | G3: V | H3: S | I3: D | J3: L | K3: M | L3: ME | M3: J | N3: V | O3: S | P3: D | Q3: L | R3: M | S3: ME | T3: J | U3: V | V3: S | W3: D | X3: L | Y3: M | Z3: ME | AA3: J | AB3: V | AC3: S | AD3: D | AE3: L | AF3: M | AG3: ME
C4: 44774 | D4: 44775 | E4: 44776 | F4: 44777 | G4: 44778 | H4: 44779 | I4: 44780 | J4: 44781 | K4: 44782 | L4: 44783 | M4: 44784 | N4: 44785 | O4: 44786 | P4: 44787 | Q4: 44788 | R4: 44789 | S4: 44790 | T4: 44791 | U4: 44792 | V4: 44793 | W4: 44794 | X4: 44795 | Y4: 44796 | Z4: 44797 | AA4: 44798 | AB4: 44799 | AC4: 44800 | AD4: 44801 | AE4: 44802 | AF4: 44803 | AG4: 44804
A5: Nom de l’employé | C5: 1 | D5: 2 | E5: 3 | F5: 4 | G5: 5 | H5: 6 | I5: 7 | J5: 8 | K5: 9 | L5: 10 | M5: 11 | N5: 12 | O5: 13 | P5: 14 | Q5: 15 | R5: 16 | S5: 17 | T5: 18 | U5: 19 | V5: 20 | W5: 21 | X5: 22 | Y5: 23 | Z5: 24 | AA5: 25 | AB5: 26 | AC5: 27 | AD5: 28 | AE5: 29 | AF5: 30 | AG5: 31
A6: =Bilan!B4 -> C. | B6: =Bilan!C4 -> Bruno | AH6: =COUNTIFS($C6:$AF6,"CP",$C$3:$AF$3,"V") + COUNTIFS($C6:$AF6,"CP",$D$1:$AG$1,"J1") -> 0
A7: =Bilan!B5 -> C. | B7: =Bilan!C5 -> Alain | AH7: =COUNTIFS($C7:$AF7,"CP",$C$3:$AF$3,"V") + COUNTIFS($C7:$AF7,"CP",$D$1:$AG$1,"J1") -> 0
A8: =Bilan!B6 -> D. | B8: =Bilan!C6 -> Chrystelle | AH8: =COUNTIFS($C8:$AF8,"CP",$C$3:$AF$3,"V") + COUNTIFS($C8:$AF8,"CP",$D$1:$AG$1,"J1") -> 0
A9: =Bilan!B7 -> G. | B9: =Bilan!C7 -> Romain | AH9: =COUNTIFS($C9:$AF9,"CP",$C$3:$AF$3,"V") + COUNTIFS($C9:$AF9,"CP",$D$1:$AG$1,"J1") -> 0
A10: =Bilan!B8 -> G. | B10: =Bilan!C8 -> Mickaël | AH10: =COUNTIFS($C10:$AF10,"CP",$C$3:$AF$3,"V") + COUNTIFS($C10:$AF10,"CP",$D$1:$AG$1,"J1") -> 0
A11: =Bilan!B9 -> G. | B11: =Bilan!C9 -> Daniel | AH11: =COUNTIFS($C11:$AF11,"CP",$C$3:$AF$3,"V") + COUNTIFS($C11:$AF11,"CP",$D$1:$AG$1,"J1") -> 0
A12: =Bilan!B10 -> L. | B12: =Bilan!C10 -> Simon | AH12: =COUNTIFS($C12:$AF12,"CP",$C$3:$AF$3,"V") + COUNTIFS($C12:$AF12,"CP",$D$1:$AG$1,"J1") -> 0
A13: =Bilan!B11 -> L. | B13: =Bilan!C11 -> Corentin | AH13: =COUNTIFS($C13:$AF13,"CP",$C$3:$AF$3,"V") + COUNTIFS($C13:$AF13,"CP",$D$1:$AG$1,"J1") -> 0
A14: =Bilan!B12 -> M. | B14: =Bilan!C12 -> Frédéric | AH14: =COUNTIFS($C14:$AF14,"CP",$C$3:$AF$3,"V") + COUNTIFS($C14:$AF14,"CP",$D$1:$AG$1,"J1") -> 0
A15: =Bilan!B13 -> O. | B15: =Bilan!C13 -> Christophe | AH15: =COUNTIFS($C15:$AF15,"CP",$C$3:$AF$3,"V") + COUNTIFS($C15:$AF15,"CP",$D$1:$AG$1,"J1") -> 0
A16: =Bilan!B14 -> S. | B16: =Bilan!C14 -> Julien | AH16: =COUNTIFS($C16:$AF16,"CP",$C$3:$AF$3,"V") + COUNTIFS($C16:$AF16,"CP",$D$1:$AG$1,"J1") -> 0
A17: =Bilan!B15 -> T. | B17: =Bilan!C15 -> David | AH17: =COUNTIFS($C17:$AF17,"CP",$C$3:$AF$3,"V") + COUNTIFS($C17:$AF17,"CP",$D$1:$AG$1,"J1") -> 0
A18: =Bilan!B16 -> 0 | B18: =Bilan!C16 -> 0 | AH18: =COUNTIFS($C18:$AF18,"CP",$C$3:$AF$3,"V") + COUNTIFS($C18:$AF18,"CP",$D$1:$AG$1,"J1") -> 0

Sheet Sept22
C1: =B3&COUNTIF(Feuil1!$C:$C,C$4) -> 0 | D1: =C3&COUNTIF(Feuil1!$C:$C,D$4) -> J0 | E1: =D3&COUNTIF(Feuil1!$C:$C,E$4) -> V0 | F1: =E3&COUNTIF(Feuil1!$C:$C,F$4) -> S0 | G1: =F3&COUNTIF(Feuil1!$C:$C,G$4) -> D0 | H1: =G3&COUNTIF(Feuil1!$C:$C,H$4) -> L0 | I1: =H3&COUNTIF(Feuil1!$C:$C,I$4) -> M0 | J1: =I3&COUNTIF(Feuil1!$C:$C,J$4) -> ME0 | ... AG1: =AF3&COUNTIF(Feuil1!$C:$C,AG$4) -> V0
A2: 44805 | C2: Dates d’absence | AH2: SAM
C3: J | D3: V | E3: S | F3: D | G3: L | H3: M | I3: ME | J3: J | K3: V | L3: S | M3: D | N3: L | O3: M | P3: ME | Q3: J | R3: V | S3: S | T3: D | U3: L | V3: M | W3: ME | X3: J | Y3: V | Z3: S | AA3: D | AB3: L | AC3: M | AD3: ME | AE3: J | AF3: V
C4: 44805 | D4: 44806 | E4: 44807 | F4: 44808 | G4: 44809 | H4: 44810 | I4: 44811 | J4: 44812 | K4: 44813 | L4: 44814 | M4: 44815 | N4: 44816 | O4: 44817 | P4: 44818 | Q4: 44819 | R4: 44820 | S4: 44821 | T4: 44822 | U4: 44823 | V4: 44824 | W4: 44825 | X4: 44826 | Y4: 44827 | Z4: 44828 | AA4: 44829 | AB4: 44830 | AC4: 44831 | AD4: 44832 | AE4: 44833 | AF4: 44834
A5: Nom de l’employé | C5: 1 | D5: 2 | E5: 3 | F5: 4 | G5: 5 | H5: 6 | I5: 7 | J5: 8 | K5: 9 | L5: 10 | M5: 11 | N5: 12 | O5: 13 | P5: 14 | Q5: 15 | R5: 16 | S5: 17 | T5: 18 | U5: 19 | V5: 20 | W5: 21 | X5: 22 | Y5: 23 | Z5: 24 | AA5: 25 | AB5: 26 | AC5: 27 | AD5: 28 | AE5: 29 | AF5: 30
A6: =Bilan!B4 -> C. | B6: =Bilan!C4 -> Bruno | AH6: =COUNTIFS($C6:$AF6,"CP",$C$3:$AF$3,"V") + COUNTIFS($C6:$AF6,"CP",$D$1:$AG$1,"J1") -> 0
A7: =Bilan!B5 -> C. | B7: =Bilan!C5 -> Alain | AH7: =COUNTIFS($C7:$AF7,"CP",$C$3:$AF$3,"V") + COUNTIFS($C7:$AF7,"CP",$D$1:$AG$1,"J1") -> 0
A8: =Bilan!B6 -> D. | B8: =Bilan!C6 -> Chrystelle | AH8: =COUNTIFS($C8:$AF8,"CP",$C$3:$AF$3,"V") + COUNTIFS($C8:$AF8,"CP",$D$1:$AG$1,"J1") -> 0
A9: =Bilan!B7 -> G. | B9: =Bilan!C7 -> Romain | AH9: =COUNTIFS($C9:$AF9,"CP",$C$3:$AF$3,"V") + COUNTIFS($C9:$AF9,"CP",$D$1:$AG$1,"J1") -> 0
A10: =Bilan!B8 -> G. | B10: =Bilan!C8 -> Mickaël | AH10: =COUNTIFS($C10:$AF10,"CP",$C$3:$AF$3,"V") + COUNTIFS($C10:$AF10,"CP",$D$1:$AG$1,"J1") -> 0
A11: =Bilan!B9 -> G. | B11: =Bilan!C9 -> Daniel | AH11: =COUNTIFS($C11:$AF11,"CP",$C$3:$AF$3,"V") + COUNTIFS($C11:$AF11,"CP",$D$1:$AG$1,"J1") -> 0
A12: =Bilan!B10 -> L. | B12: =Bilan!C10 -> Simon | AH12: =COUNTIFS($C12:$AF12,"CP",$C$3:$AF$3,"V") + COUNTIFS($C12:$AF12,"CP",$D$1:$AG$1,"J1") -> 0
A13: =Bilan!B11 -> L. | B13: =Bilan!C11 -> Corentin | AH13: =COUNTIFS($C13:$AF13,"CP",$C$3:$AF$3,"V") + COUNTIFS($C13:$AF13,"CP",$D$1:$AG$1,"J1") -> 0
A14: =Bilan!B12 -> M. | B14: =Bilan!C12 -> Frédéric | AH14: =COUNTIFS($C14:$AF14,"CP",$C$3:$AF$3,"V") + COUNTIFS($C14:$AF14,"CP",$D$1:$AG$1,"J1") -> 0
A15: =Bilan!B13 -> O. | B15: =Bilan!C13 -> Christophe | AH15: =COUNTIFS($C15:$AF15,"CP",$C$3:$AF$3,"V") + COUNTIFS($C15:$AF15,"CP",$D$1:$AG$1,"J1") -> 0
A16: =Bilan!B14 -> S. | B16: =Bilan!C14 -> Julien | AH16: =COUNTIFS($C16:$AF16,"CP",$C$3:$AF$3,"V") + COUNTIFS($C16:$AF16,"CP",$D$1:$AG$1,"J1") -> 0
A17: =Bilan!B15 -> T. | B17: =Bilan!C15 -> David | AH17: =COUNTIFS($C17:$AF17,"CP",$C$3:$AF$3,"V") + COUNTIFS($C17:$AF17,"CP",$D$1:$AG$1,"J1") -> 0
A18: =Bilan!B16 -> 0 | B18: =Bilan!C16 -> 0 | AH18: =COUNTIFS($C18:$AF18,"CP",$C$3:$AF$3,"V") + COUNTIFS($C18:$AF18,"CP",$D$1:$AG$1,"J1") -> 0

Sheet Oct22
C1: =B3&COUNTIF(Feuil1!$C:$C,C$4) -> 0 | D1: =C3&COUNTIF(Feuil1!$C:$C,D$4) -> S0 | E1: =D3&COUNTIF(Feuil1!$C:$C,E$4) -> D0 | F1: =E3&COUNTIF(Feuil1!$C:$C,F$4) -> L0 | G1: =F3&COUNTIF(Feuil1!$C:$C,G$4) -> M0 | H1: =G3&COUNTIF(Feuil1!$C:$C,H$4) -> ME0 | I1: =H3&COUNTIF(Feuil1!$C:$C,I$4) -> J0 | J1: =I3&COUNTIF(Feuil1!$C:$C,J$4) -> V0 | ... AG1: =AF3&COUNTIF(Feuil1!$C:$C,AG$4) -> D0
A2: 44835 | C2: Dates d’absence | AH2: SAM
C3: S | D3: D | E3: L | F3: M | G3: ME | H3: J | I3: V | J3: S | K3: D | L3: L | M3: M | N3: ME | O3: J | P3: V | Q3: S | R3: D | S3: L | T3: M | U3: ME | V3: J | W3: V | X3: S | Y3: D | Z3: L | AA3: M | AB3: ME | AC3: J | AD3: V | AE3: S | AF3: D | AG3: L
C4: 44835 | D4: 44836 | E4: 44837 | F4: 44838 | G4: 44839 | H4: 44840 | I4: 44841 | J4: 44842 | K4: 44843 | L4: 44844 | M4: 44845 | N4: 44846 | O4: 44847 | P4: 44848 | Q4: 44849 | R4: 44850 | S4: 44851 | T4: 44852 | U4: 44853 | V4: 44854 | W4: 44855 | X4: 44856 | Y4: 44857 | Z4: 44858 | AA4: 44859 | AB4: 44860 | AC4: 44861 | AD4: 44862 | AE4: 44863 | AF4: 44864 | AG4: 44865
A5: Nom de l’employé | C5: 1 | D5: 2 | E5: 3 | F5: 4 | G5: 5 | H5: 6 | I5: 7 | J5: 8 | K5: 9 | L5: 10 | M5: 11 | N5: 12 | O5: 13 | P5: 14 | Q5: 15 | R5: 16 | S5: 17 | T5: 18 | U5: 19 | V5: 20 | W5: 21 | X5: 22 | Y5: 23 | Z5: 24 | AA5: 25 | AB5: 26 | AC5: 27 | AD5: 28 | AE5: 29 | AF5: 30 | AG5: 31
A6: =Bilan!B4 -> C. | B6: =Bilan!C4 -> Bruno | AH6: =COUNTIFS($C6:$AF6,"CP",$C$3:$AF$3,"V") + COUNTIFS($C6:$AF6,"CP",$D$1:$AG$1,"J1") -> 0
A7: =Bilan!B5 -> C. | B7: =Bilan!C5 -> Alain | AH7: =COUNTIFS($C7:$AF7,"CP",$C$3:$AF$3,"V") + COUNTIFS($C7:$AF7,"CP",$D$1:$AG$1,"J1") -> 0
A8: =Bilan!B6 -> D. | B8: =Bilan!C6 -> Chrystelle | AH8: =COUNTIFS($C8:$AF8,"CP",$C$3:$AF$3,"V") + COUNTIFS($C8:$AF8,"CP",$D$1:$AG$1,"J1") -> 0
A9: =Bilan!B7 -> G. | B9: =Bilan!C7 -> Romain | AH9: =COUNTIFS($C9:$AF9,"CP",$C$3:$AF$3,"V") + COUNTIFS($C9:$AF9,"CP",$D$1:$AG$1,"J1") -> 0
A10: =Bilan!B8 -> G. | B10: =Bilan!C8 -> Mickaël | AH10: =COUNTIFS($C10:$AF10,"CP",$C$3:$AF$3,"V") + COUNTIFS($C10:$AF10,"CP",$D$1:$AG$1,"J1") -> 0
A11: =Bilan!B9 -> G. | B11: =Bilan!C9 -> Daniel | AH11: =COUNTIFS($C11:$AF11,"CP",$C$3:$AF$3,"V") + COUNTIFS($C11:$AF11,"CP",$D$1:$AG$1,"J1") -> 0
A12: =Bilan!B10 -> L. | B12: =Bilan!C10 -> Simon | AH12: =COUNTIFS($C12:$AF12,"CP",$C$3:$AF$3,"V") + COUNTIFS($C12:$AF12,"CP",$D$1:$AG$1,"J1") -> 0
A13: =Bilan!B11 -> L. | B13: =Bilan!C11 -> Corentin | AH13: =COUNTIFS($C13:$AF13,"CP",$C$3:$AF$3,"V") + COUNTIFS($C13:$AF13,"CP",$D$1:$AG$1,"J1") -> 0
A14: =Bilan!B12 -> M. | B14: =Bilan!C12 -> Frédéric | AH14: =COUNTIFS($C14:$AF14,"CP",$C$3:$AF$3,"V") + COUNTIFS($C14:$AF14,"CP",$D$1:$AG$1,"J1") -> 0
A15: =Bilan!B13 -> O. | B15: =Bilan!C13 -> Christophe | AH15: =COUNTIFS($C15:$AF15,"CP",$C$3:$AF$3,"V") + COUNTIFS($C15:$AF15,"CP",$D$1:$AG$1,"J1") -> 0
A16: =Bilan!B14 -> S. | B16: =Bilan!C14 -> Julien | AH16: =COUNTIFS($C16:$AF16,"CP",$C$3:$AF$3,"V") + COUNTIFS($C16:$AF16,"CP",$D$1:$AG$1,"J1") -> 0
A17: =Bilan!B15 -> T. | B17: =Bilan!C15 -> David | AH17: =COUNTIFS($C17:$AF17,"CP",$C$3:$AF$3,"V") + COUNTIFS($C17:$AF17,"CP",$D$1:$AG$1,"J1") -> 0
A18: =Bilan!B16 -> 0 | B18: =Bilan!C16 -> 0 | AH18: =COUNTIFS($C18:$AF18,"CP",$C$3:$AF$3,"V") + COUNTIFS($C18:$AF18,"CP",$D$1:$AG$1,"J1") -> 0

Sheet Nov22
C1: =B3&COUNTIF(Feuil1!$C:$C,C$4) -> 1 | D1: =C3&COUNTIF(Feuil1!$C:$C,D$4) -> M0 | E1: =D3&COUNTIF(Feuil1!$C:$C,E$4) -> ME0 | F1: =E3&COUNTIF(Feuil1!$C:$C,F$4) -> J0 | G1: =F3&COUNTIF(Feuil1!$C:$C,G$4) -> V0 | H1: =G3&COUNTIF(Feuil1!$C:$C,H$4) -> S0 | I1: =H3&COUNTIF(Feuil1!$C:$C,I$4) -> D0 | J1: =I3&COUNTIF(Feuil1!$C:$C,J$4) -> L0 | ... AG1: =AF3&COUNTIF(Feuil1!$C:$C,AG$4) -> ME0
A2: 44866 | C2: Dates d’absence | AH2: SAM
C3: M | D3: ME | E3: J | F3: V | G3: S | H3: D | I3: L | J3: M | K3: ME | L3: J | M3: V | N3: S | O3: D | P3: L | Q3: M | R3: ME | S3: J | T3: V | U3: S | V3: D | W3: L | X3: M | Y3: ME | Z3: J | AA3: V | AB3: S | AC3: D | AD3: L | AE3: M | AF3: ME
C4: 44866 | D4: 44867 | E4: 44868 | F4: 44869 | G4: 44870 | H4: 44871 | I4: 44872 | J4: 44873 | K4: 44874 | L4: 44875 | M4: 44876 | N4: 44877 | O4: 44878 | P4: 44879 | Q4: 44880 | R4: 44881 | S4: 44882 | T4: 44883 | U4: 44884 | V4: 44885 | W4: 44886 | X4: 44887 | Y4: 44888 | Z4: 44889 | AA4: 44890 | AB4: 44891 | AC4: 44892 | AD4: 44893 | AE4: 44894 | AF4: 44895
A5: Nom de l’employé | C5: 1 | D5: 2 | E5: 3 | F5: 4 | G5: 5 | H5: 6 | I5: 7 | J5: 8 | K5: 9 | L5: 10 | M5: 11 | N5: 12 | O5: 13 | P5: 14 | Q5: 15 | R5: 16 | S5: 17 | T5: 18 | U5: 19 | V5: 20 | W5: 21 | X5: 22 | Y5: 23 | Z5: 24 | AA5: 25 | AB5: 26 | AC5: 27 | AD5: 28 | AE5: 29 | AF5: 30
A6: =Bilan!B4 -> C. | B6: =Bilan!C4 -> Bruno | AH6: =COUNTIFS($C6:$AF6,"CP",$C$3:$AF$3,"V") + COUNTIFS($C6:$AF6,"CP",$D$1:$AG$1,"J1") -> 0
A7: =Bilan!B5 -> C. | B7: =Bilan!C5 -> Alain | AH7: =COUNTIFS($C7:$AF7,"CP",$C$3:$AF$3,"V") + COUNTIFS($C7:$AF7,"CP",$D$1:$AG$1,"J1") -> 0
A8: =Bilan!B6 -> D. | B8: =Bilan!C6 -> Chrystelle | AH8: =COUNTIFS($C8:$AF8,"CP",$C$3:$AF$3,"V") + COUNTIFS($C8:$AF8,"CP",$D$1:$AG$1,"J1") -> 0
A9: =Bilan!B7 -> G. | B9: =Bilan!C7 -> Romain | AH9: =COUNTIFS($C9:$AF9,"CP",$C$3:$AF$3,"V") + COUNTIFS($C9:$AF9,"CP",$D$1:$AG$1,"J1") -> 0
A10: =Bilan!B8 -> G. | B10: =Bilan!C8 -> Mickaël | AH10: =COUNTIFS($C10:$AF10,"CP",$C$3:$AF$3,"V") + COUNTIFS($C10:$AF10,"CP",$D$1:$AG$1,"J1") -> 0
A11: =Bilan!B9 -> G. | B11: =Bilan!C9 -> Daniel | AH11: =COUNTIFS($C11:$AF11,"CP",$C$3:$AF$3,"V") + COUNTIFS($C11:$AF11,"CP",$D$1:$AG$1,"J1") -> 0
A12: =Bilan!B10 -> L. | B12: =Bilan!C10 -> Simon | AH12: =COUNTIFS($C12:$AF12,"CP",$C$3:$AF$3,"V") + COUNTIFS($C12:$AF12,"CP",$D$1:$AG$1,"J1") -> 0
A13: =Bilan!B11 -> L. | B13: =Bilan!C11 -> Corentin | AH13: =COUNTIFS($C13:$AF13,"CP",$C$3:$AF$3,"V") + COUNTIFS($C13:$AF13,"CP",$D$1:$AG$1,"J1") -> 0
A14: =Bilan!B12 -> M. | B14: =Bilan!C12 -> Frédéric | AH14: =COUNTIFS($C14:$AF14,"CP",$C$3:$AF$3,"V") + COUNTIFS($C14:$AF14,"CP",$D$1:$AG$1,"J1") -> 0
A15: =Bilan!B13 -> O. | B15: =Bilan!C13 -> Christophe | AH15: =COUNTIFS($C15:$AF15,"CP",$C$3:$AF$3,"V") + COUNTIFS($C15:$AF15,"CP",$D$1:$AG$1,"J1") -> 0
A16: =Bilan!B14 -> S. | B16: =Bilan!C14 -> Julien | AH16: =COUNTIFS($C16:$AF16,"CP",$C$3:$AF$3,"V") + COUNTIFS($C16:$AF16,"CP",$D$1:$AG$1,"J1") -> 0
A17: =Bilan!B15 -> T. | B17: =Bilan!C15 -> David | AH17: =COUNTIFS($C17:$AF17,"CP",$C$3:$AF$3,"V") + COUNTIFS($C17:$AF17,"CP",$D$1:$AG$1,"J1") -> 0
A18: =Bilan!B16 -> 0 | B18: =Bilan!C16 -> 0 | AH18: =COUNTIFS($C18:$AF18,"CP",$C$3:$AF$3,"V") + COUNTIFS($C18:$AF18,"CP",$D$1:$AG$1,"J1") -> 0

Sheet Déc22
C1: =B3&COUNTIF(Feuil1!$C:$C,C$4) -> 0 | D1: =C3&COUNTIF(Feuil1!$C:$C,D$4) -> J0 | E1: =D3&COUNTIF(Feuil1!$C:$C,E$4) -> V0 | F1: =E3&COUNTIF(Feuil1!$C:$C,F$4) -> S0 | G1: =F3&COUNTIF(Feuil1!$C:$C,G$4) -> D0 | H1: =G3&COUNTIF(Feuil1!$C:$C,H$4) -> L0 | I1: =H3&COUNTIF(Feuil1!$C:$C,I$4) -> M0 | J1: =I3&COUNTIF(Feuil1!$C:$C,J$4) -> ME0 | ... AG1: =AF3&COUNTIF(Feuil1!$C:$C,AG$4) -> V0
A2: 44896 | C2: Dates d’absence | AH2: SAM
C3: J | D3: V | E3: S | F3: D | G3: L | H3: M | I3: ME | J3: J | K3: V | L3: S | M3: D | N3: L | O3: M | P3: ME | Q3: J | R3: V | S3: S | T3: D | U3: L | V3: M | W3: ME | X3: J | Y3: V | Z3: S | AA3: D | AB3: L | AC3: M | AD3: ME | AE3: J | AF3: V | AG3: S
C4: 44896 | D4: 44897 | E4: 44898 | F4: 44899 | G4: 44900 | H4: 44901 | I4: 44902 | J4: 44903 | K4: 44904 | L4: 44905 | M4: 44906 | N4: 44907 | O4: 44908 | P4: 44909 | Q4: 44910 | R4: 44911 | S4: 44912 | T4: 44913 | U4: 44914 | V4: 44915 | W4: 44916 | X4: 44917 | Y4: 44918 | Z4: 44919 | AA4: 44920 | AB4: 44921 | AC4: 44922 | AD4: 44923 | AE4: 44924 | AF4: 44925 | AG4: 44926
A5: Nom de l’employé | C5: 1 | D5: 2 | E5: 3 | F5: 4 | G5: 5 | H5: 6 | I5: 7 | J5: 8 | K5: 9 | L5: 10 | M5: 11 | N5: 12 | O5: 13 | P5: 14 | Q5: 15 | R5: 16 | S5: 17 | T5: 18 | U5: 19 | V5: 20 | W5: 21 | X5: 22 | Y5: 23 | Z5: 24 | AA5: 25 | AB5: 26 | AC5: 27 | AD5: 28 | AE5: 29 | AF5: 30 | AG5: 31
A6: =Bilan!B4 -> C. | B6: =Bilan!C4 -> Bruno | AH6: =COUNTIFS($C6:$AF6,"CP",$C$3:$AF$3,"V") + COUNTIFS($C6:$AF6,"CP",$D$1:$AG$1,"J1") -> 0
A7: =Bilan!B5 -> C. | B7: =Bilan!C5 -> Alain | AH7: =COUNTIFS($C7:$AF7,"CP",$C$3:$AF$3,"V") + COUNTIFS($C7:$AF7,"CP",$D$1:$AG$1,"J1") -> 0
A8: =Bilan!B6 -> D. | B8: =Bilan!C6 -> Chrystelle | AH8: =COUNTIFS($C8:$AF8,"CP",$C$3:$AF$3,"V") + COUNTIFS($C8:$AF8,"CP",$D$1:$AG$1,"J1") -> 0
A9: =Bilan!B7 -> G. | B9: =Bilan!C7 -> Romain | AH9: =COUNTIFS($C9:$AF9,"CP",$C$3:$AF$3,"V") + COUNTIFS($C9:$AF9,"CP",$D$1:$AG$1,"J1") -> 0
A10: =Bilan!B8 -> G. | B10: =Bilan!C8 -> Mickaël | AH10: =COUNTIFS($C10:$AF10,"CP",$C$3:$AF$3,"V") + COUNTIFS($C10:$AF10,"CP",$D$1:$AG$1,"J1") -> 0
A11: =Bilan!B9 -> G. | B11: =Bilan!C9 -> Daniel | AH11: =COUNTIFS($C11:$AF11,"CP",$C$3:$AF$3,"V") + COUNTIFS($C11:$AF11,"CP",$D$1:$AG$1,"J1") -> 0
A12: =Bilan!B10 -> L. | B12: =Bilan!C10 -> Simon | AH12: =COUNTIFS($C12:$AF12,"CP",$C$3:$AF$3,"V") + COUNTIFS($C12:$AF12,"CP",$D$1:$AG$1,"J1") -> 0
A13: =Bilan!B11 -> L. | B13: =Bilan!C11 -> Corentin | AH13: =COUNTIFS($C13:$AF13,"CP",$C$3:$AF$3,"V") + COUNTIFS($C13:$AF13,"CP",$D$1:$AG$1,"J1") -> 0
A14: =Bilan!B12 -> M. | B14: =Bilan!C12 -> Frédéric | AH14: =COUNTIFS($C14:$AF14,"CP",$C$3:$AF$3,"V") + COUNTIFS($C14:$AF14,"CP",$D$1:$AG$1,"J1") -> 0
A15: =Bilan!B13 -> O. | B15: =Bilan!C13 -> Christophe | AH15: =COUNTIFS($C15:$AF15,"CP",$C$3:$AF$3,"V") + COUNTIFS($C15:$AF15,"CP",$D$1:$AG$1,"J1") -> 0
A16: =Bilan!B14 -> S. | B16: =Bilan!C14 -> Julien | AH16: =COUNTIFS($C16:$AF16,"CP",$C$3:$AF$3,"V") + COUNTIFS($C16:$AF16,"CP",$D$1:$AG$1,"J1") -> 0
A17: =Bilan!B15 -> T. | B17: =Bilan!C15 -> David | AH17: =COUNTIFS($C17:$AF17,"CP",$C$3:$AF$3,"V") + COUNTIFS($C17:$AF17,"CP",$D$1:$AG$1,"J1") -> 0
A18: =Bilan!B16 -> 0 | B18: =Bilan!C16 -> 0 | AH18: =COUNTIFS($C18:$AF18,"CP",$C$3:$AF$3,"V") + COUNTIFS($C18:$AF18,"CP",$D$1:$AG$1,"J1") -> 0

Sheet Janv23
C1: =B3&COUNTIF(Feuil1!$C:$C,C$4) -> 1 | D1: =C3&COUNTIF(Feuil1!$C:$C,D$4) -> D0 | E1: =D3&COUNTIF(Feuil1!$C:$C,E$4) -> L0 | F1: =E3&COUNTIF(Feuil1!$C:$C,F$4) -> M0 | G1: =F3&COUNTIF(Feuil1!$C:$C,G$4) -> ME0 | H1: =G3&COUNTIF(Feuil1!$C:$C,H$4) -> J0 | I1: =H3&COUNTIF(Feuil1!$C:$C,I$4) -> V0 | J1: =I3&COUNTIF(Feuil1!$C:$C,J$4) -> S0 | ... AG1: =AF3&COUNTIF(Feuil1!$C:$C,AG$4) -> L0
A2: 44927 | C2: Dates d’absence | AH2: SAM
C3: D | D3: L | E3: M | F3: ME | G3: J | H3: V | I3: S | J3: D | K3: L | L3: M | M3: ME | N3: J | O3: V | P3: S | Q3: D | R3: L | S3: M | T3: ME | U3: J | V3: V | W3: S | X3: D | Y3: L | Z3: M | AA3: ME | AB3: J | AC3: V | AD3: S | AE3: D | AF3: L | AG3: M
C4: 44927 | D4: 44928 | E4: 44929 | F4: 44930 | G4: 44931 | H4: 44932 | I4: 44933 | J4: 44934 | K4: 44935 | L4: 44936 | M4: 44937 | N4: 44938 | O4: 44939 | P4: 44940 | Q4: 44941 | R4: 44942 | S4: 44943 | T4: 44944 | U4: 44945 | V4: 44946 | W4: 44947 | X4: 44948 | Y4: 44949 | Z4: 44950 | AA4: 44951 | AB4: 44952 | AC4: 44953 | AD4: 44954 | AE4: 44955 | AF4: 44956 | AG4: 44957
A5: Nom de l’employé | C5: 1 | D5: 2 | E5: 3 | F5: 4 | G5: 5 | H5: 6 | I5: 7 | J5: 8 | K5: 9 | L5: 10 | M5: 11 | N5: 12 | O5: 13 | P5: 14 | Q5: 15 | R5: 16 | S5: 17 | T5: 18 | U5: 19 | V5: 20 | W5: 21 | X5: 22 | Y5: 23 | Z5: 24 | AA5: 25 | AB5: 26 | AC5: 27 | AD5: 28 | AE5: 29 | AF5: 30 | AG5: 31
A6: =Bilan!B4 -> C. | B6: =Bilan!C4 -> Bruno | AH6: =COUNTIFS($C6:$AF6,"CP",$C$3:$AF$3,"V") + COUNTIFS($C6:$AF6,"CP",$D$1:$AG$1,"J1") -> 0
A7: =Bilan!B5 -> C. | B7: =Bilan!C5 -> Alain | AH7: =COUNTIFS($C7:$AF7,"CP",$C$3:$AF$3,"V") + COUNTIFS($C7:$AF7,"CP",$D$1:$AG$1,"J1") -> 0
A8: =Bilan!B6 -> D. | B8: =Bilan!C6 -> Chrystelle | AH8: =COUNTIFS($C8:$AF8,"CP",$C$3:$AF$3,"V") + COUNTIFS($C8:$AF8,"CP",$D$1:$AG$1,"J1") -> 0
A9: =Bilan!B7 -> G. | B9: =Bilan!C7 -> Romain | AH9: =COUNTIFS($C9:$AF9,"CP",$C$3:$AF$3,"V") + COUNTIFS($C9:$AF9,"CP",$D$1:$AG$1,"J1") -> 0
A10: =Bilan!B8 -> G. | B10: =Bilan!C8 -> Mickaël | AH10: =COUNTIFS($C10:$AF10,"CP",$C$3:$AF$3,"V") + COUNTIFS($C10:$AF10,"CP",$D$1:$AG$1,"J1") -> 0
A11: =Bilan!B9 -> G. | B11: =Bilan!C9 -> Daniel | AH11: =COUNTIFS($C11:$AF11,"CP",$C$3:$AF$3,"V") + COUNTIFS($C11:$AF11,"CP",$D$1:$AG$1,"J1") -> 0
A12: =Bilan!B10 -> L. | B12: =Bilan!C10 -> Simon | AH12: =COUNTIFS($C12:$AF12,"CP",$C$3:$AF$3,"V") + COUNTIFS($C12:$AF12,"CP",$D$1:$AG$1,"J1") -> 0
A13: =Bilan!B11 -> L. | B13: =Bilan!C11 -> Corentin | AH13: =COUNTIFS($C13:$AF13,"CP",$C$3:$AF$3,"V") + COUNTIFS($C13:$AF13,"CP",$D$1:$AG$1,"J1") -> 0
A14: =Bilan!B12 -> M. | B14: =Bilan!C12 -> Frédéric | AH14: =COUNTIFS($C14:$AF14,"CP",$C$3:$AF$3,"V") + COUNTIFS($C14:$AF14,"CP",$D$1:$AG$1,"J1") -> 0
A15: =Bilan!B13 -> O. | B15: =Bilan!C13 -> Christophe | AH15: =COUNTIFS($C15:$AF15,"CP",$C$3:$AF$3,"V") + COUNTIFS($C15:$AF15,"CP",$D$1:$AG$1,"J1") -> 0
A16: =Bilan!B14 -> S. | B16: =Bilan!C14 -> Julien | AH16: =COUNTIFS($C16:$AF16,"CP",$C$3:$AF$3,"V") + COUNTIFS($C16:$AF16,"CP",$D$1:$AG$1,"J1") -> 0
A17: =Bilan!B15 -> T. | B17: =Bilan!C15 -> David | AH17: =COUNTIFS($C17:$AF17,"CP",$C$3:$AF$3,"V") + COUNTIFS($C17:$AF17,"CP",$D$1:$AG$1,"J1") -> 0
A18: =Bilan!B16 -> 0 | B18: =Bilan!C16 -> 0 | AH18: =COUNTIFS($C18:$AF18,"CP",$C$3:$AF$3,"V") + COUNTIFS($C18:$AF18,"CP",$D$1:$AG$1,"J1") -> 0

Sheet Fév23
C1: =B3&COUNTIF(Feuil1!$C:$C,C$4) -> 0 | D1: =C3&COUNTIF(Feuil1!$C:$C,D$4) -> ME0 | E1: =D3&COUNTIF(Feuil1!$C:$C,E$4) -> J0 | F1: =E3&COUNTIF(Feuil1!$C:$C,F$4) -> V0 | G1: =F3&COUNTIF(Feuil1!$C:$C,G$4) -> S0 | H1: =G3&COUNTIF(Feuil1!$C:$C,H$4) -> D0 | I1: =H3&COUNTIF(Feuil1!$C:$C,I$4) -> L0 | J1: =I3&COUNTIF(Feuil1!$C:$C,J$4) -> M0 | ... AG1: =AF3&COUNTIF(Feuil1!$C:$C,AG$4) -> 0
A2: 44958 | C2: Dates d’absence | AH2: SAM
C3: ME | D3: J | E3: V | F3: S | G3: D | H3: L | I3: M | J3: ME | K3: J | L3: V | M3: S | N3: D | O3: L | P3: M | Q3: ME | R3: J | S3: V | T3: S | U3: D | V3: L | W3: M | X3: ME | Y3: J | Z3: V | AA3: S | AB3: D | AC3: L | AD3: M
C4: 44958 | D4: 44959 | E4: 44960 | F4: 44961 | G4: 44962 | H4: 44963 | I4: 44964 | J4: 44965 | K4: 44966 | L4: 44967 | M4: 44968 | N4: 44969 | O4: 44970 | P4: 44971 | Q4: 44972 | R4: 44973 | S4: 44974 | T4: 44975 | U4: 44976 | V4: 44977 | W4: 44978 | X4: 44979 | Y4: 44980 | Z4: 44981 | AA4: 44982 | AB4: 44983 | AC4: 44984 | AD4: 44985
A5: Nom de l’employé | C5: 1 | D5: 2 | E5: 3 | F5: 4 | G5: 5 | H5: 6 | I5: 7 | J5: 8 | K5: 9 | L5: 10 | M5: 11 | N5: 12 | O5: 13 | P5: 14 | Q5: 15 | R5: 16 | S5: 17 | T5: 18 | U5: 19 | V5: 20 | W5: 21 | X5: 22 | Y5: 23 | Z5: 24 | AA5: 25 | AB5: 26 | AC5: 27 | AD5: 28
A6: =Bilan!B4 -> C. | B6: =Bilan!C4 -> Bruno | AH6: =COUNTIFS($C6:$AF6,"CP",$C$3:$AF$3,"V") + COUNTIFS($C6:$AF6,"CP",$D$1:$AG$1,"J1") -> 0
A7: =Bilan!B5 -> C. | B7: =Bilan!C5 -> Alain | AH7: =COUNTIFS($C7:$AF7,"CP",$C$3:$AF$3,"V") + COUNTIFS($C7:$AF7,"CP",$D$1:$AG$1,"J1") -> 0
A8: =Bilan!B6 -> D. | B8: =Bilan!C6 -> Chrystelle | AH8: =COUNTIFS($C8:$AF8,"CP",$C$3:$AF$3,"V") + COUNTIFS($C8:$AF8,"CP",$D$1:$AG$1,"J1") -> 0
A9: =Bilan!B7 -> G. | B9: =Bilan!C7 -> Romain | AH9: =COUNTIFS($C9:$AF9,"CP",$C$3:$AF$3,"V") + COUNTIFS($C9:$AF9,"CP",$D$1:$AG$1,"J1") -> 0
A10: =Bilan!B8 -> G. | B10: =Bilan!C8 -> Mickaël | AH10: =COUNTIFS($C10:$AF10,"CP",$C$3:$AF$3,"V") + COUNTIFS($C10:$AF10,"CP",$D$1:$AG$1,"J1") -> 0
A11: =Bilan!B9 -> G. | B11: =Bilan!C9 -> Daniel | AH11: =COUNTIFS($C11:$AF11,"CP",$C$3:$AF$3,"V") + COUNTIFS($C11:$AF11,"CP",$D$1:$AG$1,"J1") -> 0
A12: =Bilan!B10 -> L. | B12: =Bilan!C10 -> Simon | AH12: =COUNTIFS($C12:$AF12,"CP",$C$3:$AF$3,"V") + COUNTIFS($C12:$AF12,"CP",$D$1:$AG$1,"J1") -> 0
A13: =Bilan!B11 -> L. | B13: =Bilan!C11 -> Corentin | AH13: =COUNTIFS($C13:$AF13,"CP",$C$3:$AF$3,"V") + COUNTIFS($C13:$AF13,"CP",$D$1:$AG$1,"J1") -> 0
A14: =Bilan!B12 -> M. | B14: =Bilan!C12 -> Frédéric | AH14: =COUNTIFS($C14:$AF14,"CP",$C$3:$AF$3,"V") + COUNTIFS($C14:$AF14,"CP",$D$1:$AG$1,"J1") -> 0
A15: =Bilan!B13 -> O. | B15: =Bilan!C13 -> Christophe | AH15: =COUNTIFS($C15:$AF15,"CP",$C$3:$AF$3,"V") + COUNTIFS($C15:$AF15,"CP",$D$1:$AG$1,"J1") -> 0
A16: =Bilan!B14 -> S. | B16: =Bilan!C14 -> Julien | AH16: =COUNTIFS($C16:$AF16,"CP",$C$3:$AF$3,"V") + COUNTIFS($C16:$AF16,"CP",$D$1:$AG$1,"J1") -> 0
A17: =Bilan!B15 -> T. | B17: =Bilan!C15 -> David | AH17: =COUNTIFS($C17:$AF17,"CP",$C$3:$AF$3,"V") + COUNTIFS($C17:$AF17,"CP",$D$1:$AG$1,"J1") -> 0
A18: =Bilan!B16 -> 0 | B18: =Bilan!C16 -> 0 | AH18: =COUNTIFS($C18:$AF18,"CP",$C$3:$AF$3,"V") + COUNTIFS($C18:$AF18,"CP",$D$1:$AG$1,"J1") -> 0

Sheet Mars23
C1: =B3&COUNTIF(Feuil1!$C:$C,C$4) -> 0 | D1: =C3&COUNTIF(Feuil1!$C:$C,D$4) -> ME0 | E1: =D3&COUNTIF(Feuil1!$C:$C,E$4) -> J0 | F1: =E3&COUNTIF(Feuil1!$C:$C,F$4) -> V0 | G1: =F3&COUNTIF(Feuil1!$C:$C,G$4) -> S0 | H1: =G3&COUNTIF(Feuil1!$C:$C,H$4) -> D0 | I1: =H3&COUNTIF(Feuil1!$C:$C,I$4) -> L0 | J1: =I3&COUNTIF(Feuil1!$C:$C,J$4) -> M0 | ... AG1: =AF3&COUNTIF(Feuil1!$C:$C,AG$4) -> J0
A2: 44986 | C2: Dates d’absence | AH2: SAM
C3: ME | D3: J | E3: V | F3: S | G3: D | H3: L | I3: M | J3: ME | K3: J | L3: V | M3: S | N3: D | O3: L | P3: M | Q3: ME | R3: J | S3: V | T3: S | U3: D | V3: L | W3: M | X3: ME | Y3: J | Z3: V | AA3: S | AB3: D | AC3: L | AD3: M | AE3: ME | AF3: J | AG3: V
C4: 44986 | D4: 44987 | E4: 44988 | F4: 44989 | G4: 44990 | H4: 44991 | I4: 44992 | J4: 44993 | K4: 44994 | L4: 44995 | M4: 44996 | N4: 44997 | O4: 44998 | P4: 44999 | Q4: 45000 | R4: 45001 | S4: 45002 | T4: 45003 | U4: 45004 | V4: 45005 | W4: 45006 | X4: 45007 | Y4: 45008 | Z4: 45009 | AA4: 45010 | AB4: 45011 | AC4: 45012 | AD4: 45013 | AE4: 45014 | AF4: 45015 | AG4: 45016
A5: Nom de l’employé | C5: 1 | D5: 2 | E5: 3 | F5: 4 | G5: 5 | H5: 6 | I5: 7 | J5: 8 | K5: 9 | L5: 10 | M5: 11 | N5: 12 | O5: 13 | P5: 14 | Q5: 15 | R5: 16 | S5: 17 | T5: 18 | U5: 19 | V5: 20 | W5: 21 | X5: 22 | Y5: 23 | Z5: 24 | AA5: 25 | AB5: 26 | AC5: 27 | AD5: 28 | AE5: 29 | AF5: 30 | AG5: 31
A6: =Bilan!B4 -> C. | B6: =Bilan!C4 -> Bruno | AH6: =COUNTIFS($C6:$AF6,"CP",$C$3:$AF$3,"V") + COUNTIFS($C6:$AF6,"CP",$D$1:$AG$1,"J1") -> 0
A7: =Bilan!B5 -> C. | B7: =Bilan!C5 -> Alain | AH7: =COUNTIFS($C7:$AF7,"CP",$C$3:$AF$3,"V") + COUNTIFS($C7:$AF7,"CP",$D$1:$AG$1,"J1") -> 0
A8: =Bilan!B6 -> D. | B8: =Bilan!C6 -> Chrystelle | AH8: =COUNTIFS($C8:$AF8,"CP",$C$3:$AF$3,"V") + COUNTIFS($C8:$AF8,"CP",$D$1:$AG$1,"J1") -> 0
A9: =Bilan!B7 -> G. | B9: =Bilan!C7 -> Romain | AH9: =COUNTIFS($C9:$AF9,"CP",$C$3:$AF$3,"V") + COUNTIFS($C9:$AF9,"CP",$D$1:$AG$1,"J1") -> 0
A10: =Bilan!B8 -> G. | B10: =Bilan!C8 -> Mickaël | AH10: =COUNTIFS($C10:$AF10,"CP",$C$3:$AF$3,"V") + COUNTIFS($C10:$AF10,"CP",$D$1:$AG$1,"J1") -> 0
A11: =Bilan!B9 -> G. | B11: =Bilan!C9 -> Daniel | AH11: =COUNTIFS($C11:$AF11,"CP",$C$3:$AF$3,"V") + COUNTIFS($C11:$AF11,"CP",$D$1:$AG$1,"J1") -> 0
A12: =Bilan!B10 -> L. | B12: =Bilan!C10 -> Simon | AH12: =COUNTIFS($C12:$AF12,"CP",$C$3:$AF$3,"V") + COUNTIFS($C12:$AF12,"CP",$D$1:$AG$1,"J1") -> 0
A13: =Bilan!B11 -> L. | B13: =Bilan!C11 -> Corentin | AH13: =COUNTIFS($C13:$AF13,"CP",$C$3:$AF$3,"V") + COUNTIFS($C13:$AF13,"CP",$D$1:$AG$1,"J1") -> 0
A14: =Bilan!B12 -> M. | B14: =Bilan!C12 -> Frédéric | AH14: =COUNTIFS($C14:$AF14,"CP",$C$3:$AF$3,"V") + COUNTIFS($C14:$AF14,"CP",$D$1:$AG$1,"J1") -> 0
A15: =Bilan!B13 -> O. | B15: =Bilan!C13 -> Christophe | AH15: =COUNTIFS($C15:$AF15,"CP",$C$3:$AF$3,"V") + COUNTIFS($C15:$AF15,"CP",$D$1:$AG$1,"J1") -> 0
A16: =Bilan!B14 -> S. | B16: =Bilan!C14 -> Julien | AH16: =COUNTIFS($C16:$AF16,"CP",$C$3:$AF$3,"V") + COUNTIFS($C16:$AF16,"CP",$D$1:$AG$1,"J1") -> 0
A17: =Bilan!B15 -> T. | B17: =Bilan!C15 -> David | AH17: =COUNTIFS($C17:$AF17,"CP",$C$3:$AF$3,"V") + COUNTIFS($C17:$AF17,"CP",$D$1:$AG$1,"J1") -> 0
A18: =Bilan!B16 -> 0 | B18: =Bilan!C16 -> 0 | AH18: =COUNTIFS($C18:$AF18,"CP",$C$3:$AF$3,"V") + COUNTIFS($C18:$AF18,"CP",$D$1:$AG$1,"J1") -> 0

Sheet Avril23
C1: =B3&COUNTIF(Feuil1!$C:$C,C$4) -> 0 | D1: =C3&COUNTIF(Feuil1!$C:$C,D$4) -> S0 | E1: =D3&COUNTIF(Feuil1!$C:$C,E$4) -> D0 | F1: =E3&COUNTIF(Feuil1!$C:$C,F$4) -> L0 | G1: =F3&COUNTIF(Feuil1!$C:$C,G$4) -> M0 | H1: =G3&COUNTIF(Feuil1!$C:$C,H$4) -> ME0 | I1: =H3&COUNTIF(Feuil1!$C:$C,I$4) -> J0 | J1: =I3&COUNTIF(Feuil1!$C:$C,J$4) -> V0 | ... AG1: =AF3&COUNTIF(Feuil1!$C:$C,AG$4) -> D0
A2: 45017 | C2: Dates d’absence | AH2: SAM
C3: S | D3: D | E3: L | F3: M | G3: ME | H3: J | I3: V | J3: S | K3: D | L3: L | M3: M | N3: ME | O3: J | P3: V | Q3: S | R3: D | S3: L | T3: M | U3: ME | V3: J | W3: V | X3: S | Y3: D | Z3: L | AA3: M | AB3: ME | AC3: J | AD3: V | AE3: S | AF3: D
C4: 45017 | D4: 45018 | E4: 45019 | F4: 45020 | G4: 45021 | H4: 45022 | I4: 45023 | J4: 45024 | K4: 45025 | L4: 45026 | M4: 45027 | N4: 45028 | O4: 45029 | P4: 45030 | Q4: 45031 | R4: 45032 | S4: 45033 | T4: 45034 | U4: 45035 | V4: 45036 | W4: 45037 | X4: 45038 | Y4: 45039 | Z4: 45040 | AA4: 45041 | AB4: 45042 | AC4: 45043 | AD4: 45044 | AE4: 45045 | AF4: 45046
A5: Nom de l’employé | C5: 1 | D5: 2 | E5: 3 | F5: 4 | G5: 5 | H5: 6 | I5: 7 | J5: 8 | K5: 9 | L5: 10 | M5: 11 | N5: 12 | O5: 13 | P5: 14 | Q5: 15 | R5: 16 | S5: 17 | T5: 18 | U5: 19 | V5: 20 | W5: 21 | X5: 22 | Y5: 23 | Z5: 24 | AA5: 25 | AB5: 26 | AC5: 27 | AD5: 28 | AE5: 29 | AF5: 30
A6: =Bilan!B4 -> C. | B6: =Bilan!C4 -> Bruno | AH6: =COUNTIFS($C6:$AF6,"CP",$C$3:$AF$3,"V") + COUNTIFS($C6:$AF6,"CP",$D$1:$AG$1,"J1") -> 0
A7: =Bilan!B5 -> C. | B7: =Bilan!C5 -> Alain | AH7: =COUNTIFS($C7:$AF7,"CP",$C$3:$AF$3,"V") + COUNTIFS($C7:$AF7,"CP",$D$1:$AG$1,"J1") -> 0
A8: =Bilan!B6 -> D. | B8: =Bilan!C6 -> Chrystelle | AH8: =COUNTIFS($C8:$AF8,"CP",$C$3:$AF$3,"V") + COUNTIFS($C8:$AF8,"CP",$D$1:$AG$1,"J1") -> 0
A9: =Bilan!B7 -> G. | B9: =Bilan!C7 -> Romain | AH9: =COUNTIFS($C9:$AF9,"CP",$C$3:$AF$3,"V") + COUNTIFS($C9:$AF9,"CP",$D$1:$AG$1,"J1") -> 0
A10: =Bilan!B8 -> G. | B10: =Bilan!C8 -> Mickaël | AH10: =COUNTIFS($C10:$AF10,"CP",$C$3:$AF$3,"V") + COUNTIFS($C10:$AF10,"CP",$D$1:$AG$1,"J1") -> 0
A11: =Bilan!B9 -> G. | B11: =Bilan!C9 -> Daniel | AH11: =COUNTIFS($C11:$AF11,"CP",$C$3:$AF$3,"V") + COUNTIFS($C11:$AF11,"CP",$D$1:$AG$1,"J1") -> 0
A12: =Bilan!B10 -> L. | B12: =Bilan!C10 -> Simon | AH12: =COUNTIFS($C12:$AF12,"CP",$C$3:$AF$3,"V") + COUNTIFS($C12:$AF12,"CP",$D$1:$AG$1,"J1") -> 0
A13: =Bilan!B11 -> L. | B13: =Bilan!C11 -> Corentin | AH13: =COUNTIFS($C13:$AF13,"CP",$C$3:$AF$3,"V") + COUNTIFS($C13:$AF13,"CP",$D$1:$AG$1,"J1") -> 0
A14: =Bilan!B12 -> M. | B14: =Bilan!C12 -> Frédéric | AH14: =COUNTIFS($C14:$AF14,"CP",$C$3:$AF$3,"V") + COUNTIFS($C14:$AF14,"CP",$D$1:$AG$1,"J1") -> 0
A15: =Bilan!B13 -> O. | B15: =Bilan!C13 -> Christophe | AH15: =COUNTIFS($C15:$AF15,"CP",$C$3:$AF$3,"V") + COUNTIFS($C15:$AF15,"CP",$D$1:$AG$1,"J1") -> 0
A16: =Bilan!B14 -> S. | B16: =Bilan!C14 -> Julien | AH16: =COUNTIFS($C16:$AF16,"CP",$C$3:$AF$3,"V") + COUNTIFS($C16:$AF16,"CP",$D$1:$AG$1,"J1") -> 0
A17: =Bilan!B15 -> T. | B17: =Bilan!C15 -> David | AH17: =COUNTIFS($C17:$AF17,"CP",$C$3:$AF$3,"V") + COUNTIFS($C17:$AF17,"CP",$D$1:$AG$1,"J1") -> 0
A18: =Bilan!B16 -> 0 | B18: =Bilan!C16 -> 0 | AH18: =COUNTIFS($C18:$AF18,"CP",$C$3:$AF$3,"V") + COUNTIFS($C18:$AF18,"CP",$D$1:$AG$1,"J1") -> 0

Sheet Feuil1
A2: RTT | B2: samedi | C2: 44562 | D2: Jour de l'An
A3: CP | B3: Lundi | C3: 44669 | D3: Lundi de Pâques
A4: 1/2 RTT | B4: Dimanche | C4: 44682 | D4: Fête du travail
A5: 1/2 CP | B5: Dimanche | C5: 44689 | D5: Fête de la Victoire
B6: Jeudi | C6: 44707 | D6: Ascension
B7: Lundi | C7: 44718 | D7: Lundi de Pentecôte
B8: Jeudi | C8: 44756 | D8: Fête Nationale
B9: Lundi | C9: 44788 | D9: Assomption
B10: Mardi | C10: 44866 | D10: Toussaint
B11: Vendredi | C11: 44876 | D11: Armistice
B12: Dimanche | C12: 44920 | D12: Noël
B13: Dimanche | C13: 44927 | D13: Jour de l'An
B14: Lundi | C14: 45026 | D14: Lundi de Pâques
