Workbook
Name plage_exclusion: OFFSET(ressource!$C$1,,,COUNTA(ressource!$C:$C))

Sheet chiffrage
B3: Tâches | C3: Chiffrage | E3: Frais
C4: Ressources humaines | D4: Quantité heures | E4: Désignation | F4: Coût
A5: Phase 1 : | B5: Tâche 1 | C5: Pierre | D5: 4 | E5: Sous-traitance | F5: 500
B6: Tâche 1 | C6: Paul | D6: 6 | E6: Machine A | F6: 1000
B7: Tâche 2 | C7: Pierre | D7: 3 | E7: Déplacement | F7: 50
B8: Tâche 2 | C8: Jack | D8: 2 | E8: Consommables | F8: 20
B9: Tâche 3 | C9: Paul | D9: 5
C11: Total en heure de la phase | D11: =SUM(D5:D10) -> 20
C12: Équivalence en euros | D12: =D11*25 -> 500 | E12: Équivalence en euros | F12: =SUM(F5:F10) -> 1570
A14: Phase 2 : | B14: Tâche 1 | C14: Pierre | D14: 5 | E14: Documentation | F14: 25
B15: Tâche 2 | C15: Pierre | D15: 4 | E15: Déplacement | F15: 100
B16: Tâche 2 | C16: Jack | D16: 9 | E16: Consommables | F16: 50
B17: Tâche 3 | C17: Paul | D17: 6 | E17: Machine B | F17: 1000
B18: Tâche 3 | C18: Jack | D18: 2
C20: Total en heure de la phase | D20: =SUM(D14:D19) -> 26
C21: Équivalence en euros | D21: =D20*25 -> 650 | E21: Équivalence en euros | F21: =SUM(F14:F19) -> 1175

Sheet suivi
B3: Tâches | C3: Pierre | E3: Paul | G3: Jack | I3: Frais
C4: Prévisionnel | D4: Réel | E4: Prévisionnel | F4: Réel | G4: Prévisionnel | H4: Réel | I4: Prévisionnel | J4: Réel
A5: Phase 1 : | B5: Tâche 1 | C5: =SUMPRODUCT((chiffrage!$C$5:$C$10=suivi!$C$3)*(chiffrage!$B$5:$B$10=suivi!B5),chiffrage!$D$5:$D$10) -> 4 | E5: =SUMPRODUCT((chiffrage!$C$5:$C$10=suivi!$E$3)*(chiffrage!$B$5:$B$10=suivi!B5),chiffrage!$D$5:$D$10) -> 6 | G5: =SUMPRODUCT((chiffrage!$C$5:$C$10=suivi!$G$3)*(chiffrage!$B$5:$B$10=suivi!B5),chiffrage!$D$5:$D$10) -> 0 | I5: {=SUM((chiffrage!$F$5:$F$11)*(chiffrage!$B$5:$B$11=$B5)*(FREQUENCY(IF((chiffrage!$E$5:$E$10)<>TRANSPOSE(plage_exclusion),"",ROW($A$1:$A$6)),ROW($A$1:$A$6))=0))} -> 500
B6: Tâche 2 | C6: =SUMPRODUCT((chiffrage!$C$5:$C$10=suivi!$C$3)*(chiffrage!$B$5:$B$10=suivi!B6),chiffrage!$D$5:$D$10) -> 3 | E6: =SUMPRODUCT((chiffrage!$C$5:$C$10=suivi!$E$3)*(chiffrage!$B$5:$B$10=suivi!B6),chiffrage!$D$5:$D$10) -> 0 | G6: {=IFERROR(INDEX(chiffrage!$D$5:$D$10,MATCH(suivi!$B6&suivi!G$3,chiffrage!$B$5:$B$10&chiffrage!$C$5:$C$10,0)),"")} -> 2 | I6: {=SUM((chiffrage!$F$5:$F$11)*(chiffrage!$B$5:$B$11=$B6)*(FREQUENCY(IF((chiffrage!$E$5:$E$10)<>TRANSPOSE(plage_exclusion),"",ROW($A$1:$A$6)),ROW($A$1:$A$6))=0))} -> 70
B7: Tâche 3 | C7: =SUMPRODUCT((chiffrage!$C$5:$C$10=suivi!$C$3)*(chiffrage!$B$5:$B$10=suivi!B7),chiffrage!$D$5:$D$10) -> 0 | E7: =SUMPRODUCT((chiffrage!$C$5:$C$10=suivi!$E$3)*(chiffrage!$B$5:$B$10=suivi!B7),chiffrage!$D$5:$D$10) -> 5 | G7: 0 | I7: {=SUM((chiffrage!$F$5:$F$11)*(chiffrage!$B$5:$B$11=$B7)*(FREQUENCY(IF((chiffrage!$E$5:$E$10)<>TRANSPOSE(plage_exclusion),"",ROW($A$1:$A$6)),ROW($A$1:$A$6))=0))} -> 0
I8: {=SUM((chiffrage!$F$5:$F$11)*(chiffrage!$B$5:$B$11=$B8)*(FREQUENCY(IF((chiffrage!$E$5:$E$10)<>TRANSPOSE(plage_exclusion),"",ROW($A$1:$A$6)),ROW($A$1:$A$6))=0))} -> 0
I9: {=SUM((chiffrage!$F$5:$F$11)*(chiffrage!$B$5:$B$11=$B9)*(FREQUENCY(IF((chiffrage!$E$5:$E$10)<>TRANSPOSE(plage_exclusion),"",ROW($A$1:$A$6)),ROW($A$1:$A$6))=0))} -> 0
I10: {=SUM((chiffrage!$F$5:$F$11)*(chiffrage!$B$5:$B$11=$B10)*(FREQUENCY(IF((chiffrage!$E$5:$E$10)<>TRANSPOSE(plage_exclusion),"",ROW($A$1:$A$6)),ROW($A$1:$A$6))=0))} -> 0
A12: Phase 2 : | B12: Tâche 1 | C12: =SUMPRODUCT((chiffrage!C14:C19=suivi!$C$3)*(chiffrage!B14:B19=B12),chiffrage!D14:D19) -> 5 | E12: =SUMPRODUCT((chiffrage!C14:C19=suivi!$E$3)*(chiffrage!B14:B19=B12),chiffrage!D14:D19) -> 0 | G12: =SUMPRODUCT((chiffrage!C14:C19=suivi!$G$3)*(chiffrage!B14:B19=B12),chiffrage!D14:D19) -> 0 | I12: {=SUM((chiffrage!$F$14:$F$20)*(chiffrage!$B$14:$B$20=$B12)*(FREQUENCY(IF((chiffrage!$E$14:$E$20)<>TRANSPOSE(plage_exclusion),"",ROW($A$1:$A$6)),ROW($A$1:$A$6))=0))} -> 25
B13: Tâche 2 | C13: =SUMPRODUCT((chiffrage!C15:C20=suivi!$C$3)*(chiffrage!B15:B20=B13),chiffrage!D15:D20) -> 4 | E13: =SUMPRODUCT((chiffrage!C15:C20=suivi!$E$3)*(chiffrage!B15:B20=B13),chiffrage!D15:D20) -> 0 | G13: =SUMPRODUCT((chiffrage!C15:C20=suivi!$G$3)*(chiffrage!B15:B20=B13),chiffrage!D15:D20) -> 9 | I13: {=SUM((chiffrage!$F$14:$F$20)*(chiffrage!$B$14:$B$20=$B13)*(FREQUENCY(IF((chiffrage!$E$14:$E$20)<>TRANSPOSE(plage_exclusion),"",ROW($A$1:$A$6)),ROW($A$1:$A$6))=0))} -> 150
B14: Tâche 3 | C14: =SUMPRODUCT((chiffrage!C16:C21=suivi!$C$3)*(chiffrage!B16:B21=B14),chiffrage!D16:D21) -> 0 | E14: =SUMPRODUCT((chiffrage!C16:C21=suivi!$E$3)*(chiffrage!B16:B21=B14),chiffrage!D16:D21) -> 6 | G14: =SUMPRODUCT((chiffrage!C16:C21=suivi!$G$3)*(chiffrage!B16:B21=B14),chiffrage!D16:D21) -> 2 | I14: {=SUM((chiffrage!$F$14:$F$20)*(chiffrage!$B$14:$B$20=$B14)*(FREQUENCY(IF((chiffrage!$E$14:$E$20)<>TRANSPOSE(plage_exclusion),"",ROW($A$1:$A$6)),ROW($A$1:$A$6))=0))} -> 0
I15: {=SUM((chiffrage!$F$14:$F$20)*(chiffrage!$B$14:$B$20=$B15)*(FREQUENCY(IF((chiffrage!$E$14:$E$20)<>TRANSPOSE(plage_exclusion),"",ROW($A$1:$A$6)),ROW($A$1:$A$6))=0))} -> 0
I16: {=SUM((chiffrage!$F$14:$F$20)*(chiffrage!$B$14:$B$20=$B16)*(FREQUENCY(IF((chiffrage!$E$14:$E$20)<>TRANSPOSE(plage_exclusion),"",ROW($A$1:$A$6)),ROW($A$1:$A$6))=0))} -> 0
I17: {=SUM((chiffrage!$F$14:$F$20)*(chiffrage!$B$14:$B$20=$B17)*(FREQUENCY(IF((chiffrage!$E$14:$E$20)<>TRANSPOSE(plage_exclusion),"",ROW($A$1:$A$6)),ROW($A$1:$A$6))=0))} -> 0
B19: j'utilise la formule =SOMMEPROD((chiffrage!$C$5:$C$10=suivi!$C$3)*(chiffrage!$B$5:$B$10=suivi!B5);chiffrage!$D$5:$D$10) pour récupérer les heures prévisionnelles pour chaque personne pour chaque tâche
B21: je voudrais utiliser le même système pour afficher les frais prévisionnels en utilisant la liste des frais sur l'onglet ressource =SOMMEPROD((chiffrage!$E$5:$E$10=ressource!$A$1:$A$5)*(chiffrage!$B$5:$B$10=suivi!B5);chiffrage!$F$5:$F$10) ne fonctionnant pas je souhaite que si plusieurs frais surgissent pour la même tâche ce soit leur somme qui apparaisse en prévisionnel je souhaite aussi ne pas prendre en compte les lignes de frais Machine A et Machine B

Sheet ressource
A1: Déplacement | C1: Machine A
A2: Documentation | C2: Machine B
A3: Consommables
A4: Sous-traitance
A5: Investissement
A6: Machine A
A7: Machine B
