Workbook
Name critere: OFFSET(Feuil2!$A$1,1,,COUNTA(Feuil2!$A:$A)-1)
Name plage: OFFSET(Feuil1!$A$1,1,,COUNTA(Feuil1!$A:$A)-1)

Sheet Feuil1
A1: Groupe | B1: Individu
A2: 1 | B2: A
A3: 1 | B3: B
A4: 1 | B4: C
A5: 2 | B5: A
A6: 2 | B6: B
A7: 2 | B7: C
A8: 2 | B8: D
A9: 2 | B9: E
A10: 3 | B10: A
A11: 3 | B11: B
A12: 1 | B12: D
A13: 1 | B13: E
... A17: 5 | B17: C

Sheet Feuil2
A1: Groupe | D1: Groupe | E1: Individu
A2: 1 | D2: {=IFERROR(SMALL(IF(COUNTIF(critere,plage),plage),ROW(A1)),"")} -> 1 | E2: {=IFERROR(INDEX(Feuil1!B:B,SMALL(IF(plage=D2,ROW(plage)),COUNTIF($D$2:D2,D2))),"")} -> A
A3: 3 | D3: {=IFERROR(SMALL(IF(COUNTIF(critere,plage),plage),ROW(A2)),"")} -> 1 | E3: {=IFERROR(INDEX(Feuil1!B:B,SMALL(IF(plage=D3,ROW(plage)),COUNTIF($D$2:D3,D3))),"")} -> B
A4: 5 | D4: {=IFERROR(SMALL(IF(COUNTIF(critere,plage),plage),ROW(A3)),"")} -> 1 | E4: {=IFERROR(INDEX(Feuil1!B:B,SMALL(IF(plage=D4,ROW(plage)),COUNTIF($D$2:D4,D4))),"")} -> C
D5: {=IFERROR(SMALL(IF(COUNTIF(critere,plage),plage),ROW(A4)),"")} -> 1 | E5: {=IFERROR(INDEX(Feuil1!B:B,SMALL(IF(plage=D5,ROW(plage)),COUNTIF($D$2:D5,D5))),"")} -> D
D6: {=IFERROR(SMALL(IF(COUNTIF(critere,plage),plage),ROW(A5)),"")} -> 1 | E6: {=IFERROR(INDEX(Feuil1!B:B,SMALL(IF(plage=D6,ROW(plage)),COUNTIF($D$2:D6,D6))),"")} -> E
D7: {=IFERROR(SMALL(IF(COUNTIF(critere,plage),plage),ROW(A6)),"")} -> 3 | E7: {=IFERROR(INDEX(Feuil1!B:B,SMALL(IF(plage=D7,ROW(plage)),COUNTIF($D$2:D7,D7))),"")} -> A
D8: {=IFERROR(SMALL(IF(COUNTIF(critere,plage),plage),ROW(A7)),"")} -> 3 | E8: {=IFERROR(INDEX(Feuil1!B:B,SMALL(IF(plage=D8,ROW(plage)),COUNTIF($D$2:D8,D8))),"")} -> B
D9: {=IFERROR(SMALL(IF(COUNTIF(critere,plage),plage),ROW(A8)),"")} -> 5 | E9: {=IFERROR(INDEX(Feuil1!B:B,SMALL(IF(plage=D9,ROW(plage)),COUNTIF($D$2:D9,D9))),"")} -> A
D10: {=IFERROR(SMALL(IF(COUNTIF(critere,plage),plage),ROW(A9)),"")} -> 5 | E10: {=IFERROR(INDEX(Feuil1!B:B,SMALL(IF(plage=D10,ROW(plage)),COUNTIF($D$2:D10,D10))),"")} -> B
D11: {=IFERROR(SMALL(IF(COUNTIF(critere,plage),plage),ROW(A10)),"")} -> 5 | E11: {=IFERROR(INDEX(Feuil1!B:B,SMALL(IF(plage=D11,ROW(plage)),COUNTIF($D$2:D11,D11))),"")} -> C
D12: {=IFERROR(SMALL(IF(COUNTIF(critere,plage),plage),ROW(A11)),"")} | E12: {=IFERROR(INDEX(Feuil1!B:B,SMALL(IF(plage=D12,ROW(plage)),COUNTIF($D$2:D12,D12))),"")}
D13: {=IFERROR(SMALL(IF(COUNTIF(critere,plage),plage),ROW(A12)),"")} | E13: {=IFERROR(INDEX(Feuil1!B:B,SMALL(IF(plage=D13,ROW(plage)),COUNTIF($D$2:D13,D13))),"")}
D14: {=IFERROR(SMALL(IF(COUNTIF(critere,plage),plage),ROW(A13)),"")} | E14: {=IFERROR(INDEX(Feuil1!B:B,SMALL(IF(plage=D14,ROW(plage)),COUNTIF($D$2:D14,D14))),"")}
D15: {=IFERROR(SMALL(IF(COUNTIF(critere,plage),plage),ROW(A14)),"")} | E15: {=IFERROR(INDEX(Feuil1!B:B,SMALL(IF(plage=D15,ROW(plage)),COUNTIF($D$2:D15,D15))),"")}
D16: {=IFERROR(SMALL(IF(COUNTIF(critere,plage),plage),ROW(A15)),"")} | E16: {=IFERROR(INDEX(Feuil1!B:B,SMALL(IF(plage=D16,ROW(plage)),COUNTIF($D$2:D16,D16))),"")}
... D20: {=IFERROR(SMALL(IF(COUNTIF(critere,plage),plage),ROW(A19)),"")} | E20: {=IFERROR(INDEX(Feuil1!B:B,SMALL(IF(plage=D20,ROW(plage)),COUNTIF($D$2:D20,D20))),"")}
