Workbook
Name FOURNITURE: [1]Données!$O$2:$O$1232
Name Fournitures: [1]Données!$O$2:$O$408
Name listefourni: OFFSET([2]bibfourni!$A$1,0,0,COUNTA([2]bibfourni!$A$1:$A$99),1)
Name listemat: OFFSET([2]bibmat!$A$1,0,0,COUNTA([2]bibmat!$A$1:$A$100),1)
Name listeperso: OFFSET([2]bibpers!$A$1,0,0,COUNTA([2]bibpers!$A$1:$A$10),1)
Name Materiels: [1]Données!$A$2:$A$252
Name MO: [1]Données!$H$2:$H$30
Name TACHES: [1]Données!$V$2:$V$348

Sheet Indicateurs Janvier
D1: JANVIER
A2: Document | B2: Nombre | C2: CSPS | D2: 1 | E2: 2 | F2: 3 | G2: 4 | H2: 5 | I2: 6 | J2: 7 | K2: 8 | L2: 9 | M2: 10 | N2: 11 | O2: 12 | P2: 13 | Q2: 14 | R2: 15 | S2: 16 | T2: 17 | U2: 18 | V2: 19 | W2: 20 | X2: 21 | Y2: 22 | Z2: 23 | AA2: 24 | AB2: 25 | AC2: 26 | AD2: 27 | AE2: 28 | AF2: 29 | AG2: 30 | AH2: 31
B3: =SUM(D3:AH3) -> 1 | AD3: 1
B4: =SUM(D4:AH4) -> 1 | AF4: 1 | AJ4: SYNTHESE | AL4: Prix
B5: =SUM(D5:AH5) -> 1 | AG5: 1 | AJ5: Documents | AK5: Nombres | AL5: PU | AM5: PT
B6: =SUM(D6:AH6) -> 1 | T6: 1 | AJ6: PP Travaux | AK6: =SUMIF($A$3:$A$2197,AJ6,$B$3:$B$2197) -> 0 | AL6: =IF(AJ6="","",VLOOKUP(AJ6,Données!$F$2:$I$25,3,FALSE)) -> #N/A | AM6: =AK6*AL6 -> #N/A
B7: =SUM(D7:AH7) -> 1 | P7: 1 | AJ7: PP Equipentier | AK7: =SUMIF($A$3:$A$2197,AJ7,$B$3:$B$2197) -> 0 | AL7: =IF(AJ7="","",VLOOKUP(AJ7,Données!$F$2:$I$25,3,FALSE)) -> #N/A | AM7: =AK7*AL7 -> #N/A
B8: =SUM(D8:AH8) -> 1 | S8: 1 | AJ8: PP | AK8: =SUMIF($A$3:$A$2197,AJ8,$B$3:$B$2197) -> 0 | AL8: =IF(AJ8="","",VLOOKUP(AJ8,Données!$F$2:$I$25,3,FALSE)) -> #N/A | AM8: =AK8*AL8 -> #N/A
B9: =SUM(D9:AH9) -> 1 | Q9: 1 | AJ9: Forfait CSPS | AK9: =SUMIF($A$3:$A$2197,AJ9,$B$3:$B$2197) -> 0 | AL9: =IF(AJ9="","",VLOOKUP(AJ9,Données!$F$2:$I$25,3,FALSE)) -> #N/A | AM9: =AK9*AL9 -> #N/A
B10: =SUM(D10:AH10) -> 1 | Q10: 1 | AJ10: VIC 3 | AK10: =SUMIF($A$3:$A$2197,AJ10,$B$3:$B$2197) -> 0 | AL10: =IF(AJ10="","",VLOOKUP(AJ10,Données!$F$2:$I$25,3,FALSE)) -> #N/A | AM10: =AK10*AL10 -> #N/A
B11: =SUM(D11:AH11) -> 2 | Z11: 1 | AA11: 1 | AJ11: VIC 4 | AK11: =SUMIF($A$3:$A$2197,AJ11,$B$3:$B$2197) -> 0 | AL11: =IF(AJ11="","",VLOOKUP(AJ11,Données!$F$2:$I$25,3,FALSE)) -> #N/A | AM11: =AK11*AL11 -> #N/A
B12: =SUM(D12:AH12) -> 1 | AE12: 1 | AJ12: Recette Sécu | AK12: =SUMIF($A$3:$A$2197,AJ12,$B$3:$B$2197) -> 0 | AL12: =IF(AJ12="","",VLOOKUP(AJ12,Données!$F$2:$I$25,3,FALSE)) -> #N/A | AM12: =AK12*AL12 -> #N/A
B13: =SUM(D13:AH13) -> 2 | Z13: 1 | AA13: 1 | AJ13: VC | AK13: =SUMIF($A$3:$A$2197,AJ13,$B$3:$B$2197) -> 0 | AL13: =IF(AJ13="","",VLOOKUP(AJ13,Données!$F$2:$I$25,3,FALSE)) -> #N/A | AM13: =AK13*AL13 -> #N/A
B14: =SUM(D14:AH14) -> 1 | AG14: 1 | AJ14: DIES | AK14: =SUMIF($A$3:$A$2197,AJ14,$B$3:$B$2197) -> 0 | AL14: =IF(AJ14="","",VLOOKUP(AJ14,Données!$F$2:$I$25,3,FALSE)) -> #N/A | AM14: =AK14*AL14 -> #N/A
B15: =SUM(D15:AH15) -> 1 | T15: 1 | AJ15: DIUO | AK15: =SUMIF($A$3:$A$2197,AJ15,$B$3:$B$2197) -> 0 | AL15: =IF(AJ15="","",VLOOKUP(AJ15,Données!$F$2:$I$25,3,FALSE)) -> #N/A | AM15: =AK15*AL15 -> #N/A
B16: =SUM(D16:AH16) -> 1 | AH16: 1 | AJ16: PPM | AK16: =SUMIF($A$3:$A$2197,AJ16,$B$3:$B$2197) -> 0 | AL16: =IF(AJ16="","",VLOOKUP(AJ16,Données!$F$2:$I$25,3,FALSE)) -> #N/A | AM16: =AK16*AL16 -> #N/A
B17: =SUM(D17:AH17) -> 1 | R17: 1 | AJ17: Modif DIES | AK17: =SUMIF($A$3:$A$2197,AJ17,$B$3:$B$2197) -> 0 | AL17: =IF(AJ17="","",VLOOKUP(AJ17,Données!$F$2:$I$25,3,FALSE)) -> #N/A | AM17: =AK17*AL17 -> #N/A
B18: =SUM(D18:AH18) -> 1 | Z18: 1 | AJ18: Modif DIUO | AK18: =SUMIF($A$3:$A$2197,AJ18,$B$3:$B$2197) -> 0 | AL18: =IF(AJ18="","",VLOOKUP(AJ18,Données!$F$2:$I$25,3,FALSE)) -> #N/A | AM18: =AK18*AL18 -> #N/A
B19: =SUM(D19:AH19) -> 1 | S19: 1 | AJ19: PGC | AK19: =SUMIF($A$3:$A$2197,AJ19,$B$3:$B$2197) -> 0 | AL19: =IF(AJ19="","",VLOOKUP(AJ19,Données!$F$2:$I$25,3,FALSE)) -> #N/A | AM19: =AK19*AL19 -> #N/A
B20: =SUM(D20:AH20) -> 1 | R20: 1 | AJ20: Avis PPSPS Lot 3 | AK20: =SUMIF($A$3:$A$2197,AJ20,$B$3:$B$2197) -> 0 | AL20: =IF(AJ20="","",VLOOKUP(AJ20,Données!$F$2:$I$25,3,FALSE)) -> #N/A | AM20: =AK20*AL20 -> #N/A
B21: =SUM(D21:AH21) -> 1 | Q21: 1 | AJ21: Avis PPSPS Lot 4 | AK21: =SUMIF($A$3:$A$2197,AJ21,$B$3:$B$2197) -> 0 | AL21: =IF(AJ21="","",VLOOKUP(AJ21,Données!$F$2:$I$25,3,FALSE)) -> #N/A | AM21: =AK21*AL21 -> #N/A
B22: =SUM(D22:AH22) -> 1 | R22: 1 | AJ22: Avis DTI | AK22: =SUMIF($A$3:$A$2197,AJ22,$B$3:$B$2197) -> 0 | AL22: =IF(AJ22="","",VLOOKUP(AJ22,Données!$F$2:$I$25,3,FALSE)) -> #N/A | AM22: =AK22*AL22 -> #N/A
B23: =SUM(D23:AH23) -> 1 | AD23: 1 | AJ23: VT - MIR | AK23: =SUMIF($A$3:$A$2197,AJ23,$B$3:$B$2197) -> 0 | AL23: =IF(AJ23="","",VLOOKUP(AJ23,Données!$F$2:$I$25,3,FALSE)) -> #N/A | AM23: =AK23*AL23 -> #N/A
B24: =SUM(D24:AH24) -> 1 | AG24: 1 | AJ24: VT | AK24: =SUMIF($A$3:$A$2197,AJ24,$B$3:$B$2197) -> 0 | AL24: =IF(AJ24="","",VLOOKUP(AJ24,Données!$F$2:$I$25,3,FALSE)) -> #N/A | AM24: =AK24*AL24 -> #N/A
B25: =SUM(D25:AH25) -> 1 | Q25: 1 | AJ25: DIES Visite | AK25: =SUMIF($A$3:$A$2197,AJ25,$B$3:$B$2197) -> 0 | AL25: =IF(AJ25="","",VLOOKUP(AJ25,Données!$F$2:$I$25,3,FALSE)) -> #N/A | AM25: =AK25*AL25 -> #N/A
B26: =SUM(D26:AH26) -> 1 | AG26: 1 | AK26: =SUMIF($A$3:$A$2197,AJ26,$B$3:$B$2197) -> 0 | AL26: =IF(AJ26="","",VLOOKUP(AJ26,Données!$F$2:$I$25,3,FALSE)) | AM26: =AK26*AL26 -> #VALUE!
B27: =SUM(D27:AH27) -> 1 | AA27: 1 | AK27: =SUMIF($A$3:$A$2197,AJ27,$B$3:$B$2197) -> 0 | AL27: =IF(AJ27="","",VLOOKUP(AJ27,Données!$F$2:$I$25,3,FALSE)) | AM27: =AK27*AL27 -> #VALUE!
B28: =SUM(D28:AH28) -> 1 | AA28: 1 | AK28: =SUMIF($A$3:$A$2197,AJ28,$B$3:$B$2197) -> 0 | AL28: =IF(AJ28="","",VLOOKUP(AJ28,Données!$F$2:$I$25,3,FALSE)) | AM28: =AK28*AL28 -> #VALUE!
B29: =SUM(D29:AH29) -> 1 | AF29: 1 | AK29: =SUMIF($A$3:$A$2197,AJ29,$B$3:$B$2197) -> 0 | AL29: =IF(AJ29="","",VLOOKUP(AJ29,Données!$F$2:$I$25,3,FALSE)) | AM29: =AK29*AL29 -> #VALUE!
B30: =SUM(D30:AH30) -> 1 | AG30: 1 | AL30: TOTAL | AM30: =SUM(AM6:AM29) -> #N/A
B31: =SUM(D31:AH31) -> 1 | AH31: 1
B32: =SUM(D32:AH32) -> 0
B33: =SUM(D33:AH33) -> 0
B34: =SUM(D34:AH34) -> 0
B35: =SUM(D35:AH35) -> 0
B36: =SUM(D36:AH36) -> 0
B37: =SUM(D37:AH37) -> 0
B38: =SUM(D38:AH38) -> 0
B39: =SUM(D39:AH39) -> 0
B40: =SUM(D40:AH40) -> 0
...

Sheet Données
A1: Nom | B1: Code Site | D1: CSPS - Préventeur | F1: Document | G1: Nombre | H1: PU | I1: PT | K1: Chef de projet Orange
I2: =G2*H2 -> 0
I3: =G3*H3 -> 0
I4: =G4*H4 -> 0
I5: =G5*H5 -> 0
I6: =G6*H6 -> 0
I7: =G7*H7 -> 0
I8: =G8*H8 -> 0
I9: =G9*H9 -> 0
I10: =G10*H10 -> 0
I11: =G11*H11 -> 0
I12: =G12*H12 -> 0
I13: =G13*H13 -> 0
... I40: =G40*H40 -> 0
