Workbook

Sheet Feuil1
B4: a | D4: b | F4: c | H4: d | J4: e | L4: f | N4: g | P4: h | R4: j
A5: Date | B5: Nb | C5: Typologie | D5: Nb | E5: Typologie | F5: Nb | G5: Typologie | H5: Nb | I5: Typologie | J5: Nb | K5: Typologie | L5: Nb | M5: Typologie | N5: Nb | O5: Typologie | P5: Nb | Q5: Typologie | R5: Nb | S5: Typologie | U5: Typologie
A6: 40909 | B6: 2 | C6: Absence date | D6: 7 | E6: Incohérence | U6: Manque Mauvais lot
A7: 40910 | B7: 1 | C7: Incohérence | D7: 8 | E7: Absence date | U7: Ref non maîtrisée
A8: 40911 | U8: Absence signature
A9: 40912 | B9: 3 | C9: Absence date | D9: 4 | E9: Absence signature | U9: Absence date
A10: 40913 | U10: Incohérence
A11: 40914 | F11: 2 | G11: Retard | U11: Retard
A12: 40915 | F12: 12 | G12: Absence date | U12: Manque info
A13: 40916 | B13: 5 | C13: Manque Mauvais lot | D13: 4 | E13: Manque Mauvais lot | F13: 3 | G13: Manque Mauvais lot | U13: Problème DLC
A14: 40917 | U14: Manque info température
A15: 40918
A16: 40919
A17: 40920
A18: 40921
A19: 40922
A20: 40923
A21: 40924
A22: 40925
A23: 40926
A24: 40927
A25: 40928
A26: 40929
... A36: 40939

Sheet Feuil2
A2: Typologie | B2: a | C2: b | D2: c | E2: d | F2: e | G2: f | H2: g | I2: h | J2: i | K2: j | L2: k
A3: Manque Mauvais lot | B3: =SUMIF(OFFSET(Feuil1!$C$6:$C$371,,COLUMN(A1)*2-2),Feuil1!$U6,OFFSET(Feuil1!$B$6:$B$371,,COLUMN(A1)*2-2)) -> 5 | C3: =SUMIF(OFFSET(Feuil1!$C$6:$C$371,,COLUMN(B1)*2-2),Feuil1!$U6,OFFSET(Feuil1!$B$6:$B$371,,COLUMN(B1)*2-2)) -> 4 | D3: =SUMIF(OFFSET(Feuil1!$C$6:$C$371,,COLUMN(C1)*2-2),Feuil1!$U6,OFFSET(Feuil1!$B$6:$B$371,,COLUMN(C1)*2-2)) -> 3 | E3: =SUMIF(OFFSET(Feuil1!$C$6:$C$371,,COLUMN(D1)*2-2),Feuil1!$U6,OFFSET(Feuil1!$B$6:$B$371,,COLUMN(D1)*2-2)) -> 0 | F3: =SUMIF(OFFSET(Feuil1!$C$6:$C$371,,COLUMN(E1)*2-2),Feuil1!$U6,OFFSET(Feuil1!$B$6:$B$371,,COLUMN(E1)*2-2)) -> 0 | G3: =SUMIF(OFFSET(Feuil1!$C$6:$C$371,,COLUMN(F1)*2-2),Feuil1!$U6,OFFSET(Feuil1!$B$6:$B$371,,COLUMN(F1)*2-2)) -> 0 | H3: =SUMIF(OFFSET(Feuil1!$C$6:$C$371,,COLUMN(G1)*2-2),Feuil1!$U6,OFFSET(Feuil1!$B$6:$B$371,,COLUMN(G1)*2-2)) -> 0 | I3: =SUMIF(OFFSET(Feuil1!$C$6:$C$371,,COLUMN(H1)*2-2),Feuil1!$U6,OFFSET(Feuil1!$B$6:$B$371,,COLUMN(H1)*2-2)) -> 0 | ... L3: =SUMIF(OFFSET(Feuil1!$C$6:$C$371,,COLUMN(K1)*2-2),Feuil1!$U6,OFFSET(Feuil1!$B$6:$B$371,,COLUMN(K1)*2-2)) -> 0
A4: Ref non maîtrisée | B4: =SUMIF(OFFSET(Feuil1!$C$6:$C$371,,COLUMN(A2)*2-2),Feuil1!$U7,OFFSET(Feuil1!$B$6:$B$371,,COLUMN(A2)*2-2)) -> 0 | C4: =SUMIF(OFFSET(Feuil1!$C$6:$C$371,,COLUMN(B2)*2-2),Feuil1!$U7,OFFSET(Feuil1!$B$6:$B$371,,COLUMN(B2)*2-2)) -> 0 | D4: =SUMIF(OFFSET(Feuil1!$C$6:$C$371,,COLUMN(C2)*2-2),Feuil1!$U7,OFFSET(Feuil1!$B$6:$B$371,,COLUMN(C2)*2-2)) -> 0 | E4: =SUMIF(OFFSET(Feuil1!$C$6:$C$371,,COLUMN(D2)*2-2),Feuil1!$U7,OFFSET(Feuil1!$B$6:$B$371,,COLUMN(D2)*2-2)) -> 0 | F4: =SUMIF(OFFSET(Feuil1!$C$6:$C$371,,COLUMN(E2)*2-2),Feuil1!$U7,OFFSET(Feuil1!$B$6:$B$371,,COLUMN(E2)*2-2)) -> 0 | G4: =SUMIF(OFFSET(Feuil1!$C$6:$C$371,,COLUMN(F2)*2-2),Feuil1!$U7,OFFSET(Feuil1!$B$6:$B$371,,COLUMN(F2)*2-2)) -> 0 | H4: =SUMIF(OFFSET(Feuil1!$C$6:$C$371,,COLUMN(G2)*2-2),Feuil1!$U7,OFFSET(Feuil1!$B$6:$B$371,,COLUMN(G2)*2-2)) -> 0 | I4: =SUMIF(OFFSET(Feuil1!$C$6:$C$371,,COLUMN(H2)*2-2),Feuil1!$U7,OFFSET(Feuil1!$B$6:$B$371,,COLUMN(H2)*2-2)) -> 0 | ... L4: =SUMIF(OFFSET(Feuil1!$C$6:$C$371,,COLUMN(K2)*2-2),Feuil1!$U7,OFFSET(Feuil1!$B$6:$B$371,,COLUMN(K2)*2-2)) -> 0
A5: Absence signature | B5: =SUMIF(OFFSET(Feuil1!$C$6:$C$371,,COLUMN(A3)*2-2),Feuil1!$U8,OFFSET(Feuil1!$B$6:$B$371,,COLUMN(A3)*2-2)) -> 0 | C5: =SUMIF(OFFSET(Feuil1!$C$6:$C$371,,COLUMN(B3)*2-2),Feuil1!$U8,OFFSET(Feuil1!$B$6:$B$371,,COLUMN(B3)*2-2)) -> 4 | D5: =SUMIF(OFFSET(Feuil1!$C$6:$C$371,,COLUMN(C3)*2-2),Feuil1!$U8,OFFSET(Feuil1!$B$6:$B$371,,COLUMN(C3)*2-2)) -> 0 | E5: =SUMIF(OFFSET(Feuil1!$C$6:$C$371,,COLUMN(D3)*2-2),Feuil1!$U8,OFFSET(Feuil1!$B$6:$B$371,,COLUMN(D3)*2-2)) -> 0 | F5: =SUMIF(OFFSET(Feuil1!$C$6:$C$371,,COLUMN(E3)*2-2),Feuil1!$U8,OFFSET(Feuil1!$B$6:$B$371,,COLUMN(E3)*2-2)) -> 0 | G5: =SUMIF(OFFSET(Feuil1!$C$6:$C$371,,COLUMN(F3)*2-2),Feuil1!$U8,OFFSET(Feuil1!$B$6:$B$371,,COLUMN(F3)*2-2)) -> 0 | H5: =SUMIF(OFFSET(Feuil1!$C$6:$C$371,,COLUMN(G3)*2-2),Feuil1!$U8,OFFSET(Feuil1!$B$6:$B$371,,COLUMN(G3)*2-2)) -> 0 | I5: =SUMIF(OFFSET(Feuil1!$C$6:$C$371,,COLUMN(H3)*2-2),Feuil1!$U8,OFFSET(Feuil1!$B$6:$B$371,,COLUMN(H3)*2-2)) -> 0 | ... L5: =SUMIF(OFFSET(Feuil1!$C$6:$C$371,,COLUMN(K3)*2-2),Feuil1!$U8,OFFSET(Feuil1!$B$6:$B$371,,COLUMN(K3)*2-2)) -> 0
A6: Absence date | B6: =SUMIF(OFFSET(Feuil1!$C$6:$C$371,,COLUMN(A4)*2-2),Feuil1!$U9,OFFSET(Feuil1!$B$6:$B$371,,COLUMN(A4)*2-2)) -> 5 | C6: =SUMIF(OFFSET(Feuil1!$C$6:$C$371,,COLUMN(B4)*2-2),Feuil1!$U9,OFFSET(Feuil1!$B$6:$B$371,,COLUMN(B4)*2-2)) -> 8 | D6: =SUMIF(OFFSET(Feuil1!$C$6:$C$371,,COLUMN(C4)*2-2),Feuil1!$U9,OFFSET(Feuil1!$B$6:$B$371,,COLUMN(C4)*2-2)) -> 12 | E6: =SUMIF(OFFSET(Feuil1!$C$6:$C$371,,COLUMN(D4)*2-2),Feuil1!$U9,OFFSET(Feuil1!$B$6:$B$371,,COLUMN(D4)*2-2)) -> 0 | F6: =SUMIF(OFFSET(Feuil1!$C$6:$C$371,,COLUMN(E4)*2-2),Feuil1!$U9,OFFSET(Feuil1!$B$6:$B$371,,COLUMN(E4)*2-2)) -> 0 | G6: =SUMIF(OFFSET(Feuil1!$C$6:$C$371,,COLUMN(F4)*2-2),Feuil1!$U9,OFFSET(Feuil1!$B$6:$B$371,,COLUMN(F4)*2-2)) -> 0 | H6: =SUMIF(OFFSET(Feuil1!$C$6:$C$371,,COLUMN(G4)*2-2),Feuil1!$U9,OFFSET(Feuil1!$B$6:$B$371,,COLUMN(G4)*2-2)) -> 0 | I6: =SUMIF(OFFSET(Feuil1!$C$6:$C$371,,COLUMN(H4)*2-2),Feuil1!$U9,OFFSET(Feuil1!$B$6:$B$371,,COLUMN(H4)*2-2)) -> 0 | ... L6: =SUMIF(OFFSET(Feuil1!$C$6:$C$371,,COLUMN(K4)*2-2),Feuil1!$U9,OFFSET(Feuil1!$B$6:$B$371,,COLUMN(K4)*2-2)) -> 0
A7: Incohérence | B7: =SUMIF(OFFSET(Feuil1!$C$6:$C$371,,COLUMN(A5)*2-2),Feuil1!$U10,OFFSET(Feuil1!$B$6:$B$371,,COLUMN(A5)*2-2)) -> 1 | C7: =SUMIF(OFFSET(Feuil1!$C$6:$C$371,,COLUMN(B5)*2-2),Feuil1!$U10,OFFSET(Feuil1!$B$6:$B$371,,COLUMN(B5)*2-2)) -> 7 | D7: =SUMIF(OFFSET(Feuil1!$C$6:$C$371,,COLUMN(C5)*2-2),Feuil1!$U10,OFFSET(Feuil1!$B$6:$B$371,,COLUMN(C5)*2-2)) -> 0 | E7: =SUMIF(OFFSET(Feuil1!$C$6:$C$371,,COLUMN(D5)*2-2),Feuil1!$U10,OFFSET(Feuil1!$B$6:$B$371,,COLUMN(D5)*2-2)) -> 0 | F7: =SUMIF(OFFSET(Feuil1!$C$6:$C$371,,COLUMN(E5)*2-2),Feuil1!$U10,OFFSET(Feuil1!$B$6:$B$371,,COLUMN(E5)*2-2)) -> 0 | G7: =SUMIF(OFFSET(Feuil1!$C$6:$C$371,,COLUMN(F5)*2-2),Feuil1!$U10,OFFSET(Feuil1!$B$6:$B$371,,COLUMN(F5)*2-2)) -> 0 | H7: =SUMIF(OFFSET(Feuil1!$C$6:$C$371,,COLUMN(G5)*2-2),Feuil1!$U10,OFFSET(Feuil1!$B$6:$B$371,,COLUMN(G5)*2-2)) -> 0 | I7: =SUMIF(OFFSET(Feuil1!$C$6:$C$371,,COLUMN(H5)*2-2),Feuil1!$U10,OFFSET(Feuil1!$B$6:$B$371,,COLUMN(H5)*2-2)) -> 0 | ... L7: =SUMIF(OFFSET(Feuil1!$C$6:$C$371,,COLUMN(K5)*2-2),Feuil1!$U10,OFFSET(Feuil1!$B$6:$B$371,,COLUMN(K5)*2-2)) -> 0
A8: Retard | B8: =SUMIF(OFFSET(Feuil1!$C$6:$C$371,,COLUMN(A6)*2-2),Feuil1!$U11,OFFSET(Feuil1!$B$6:$B$371,,COLUMN(A6)*2-2)) -> 0 | C8: =SUMIF(OFFSET(Feuil1!$C$6:$C$371,,COLUMN(B6)*2-2),Feuil1!$U11,OFFSET(Feuil1!$B$6:$B$371,,COLUMN(B6)*2-2)) -> 0 | D8: =SUMIF(OFFSET(Feuil1!$C$6:$C$371,,COLUMN(C6)*2-2),Feuil1!$U11,OFFSET(Feuil1!$B$6:$B$371,,COLUMN(C6)*2-2)) -> 2 | E8: =SUMIF(OFFSET(Feuil1!$C$6:$C$371,,COLUMN(D6)*2-2),Feuil1!$U11,OFFSET(Feuil1!$B$6:$B$371,,COLUMN(D6)*2-2)) -> 0 | F8: =SUMIF(OFFSET(Feuil1!$C$6:$C$371,,COLUMN(E6)*2-2),Feuil1!$U11,OFFSET(Feuil1!$B$6:$B$371,,COLUMN(E6)*2-2)) -> 0 | G8: =SUMIF(OFFSET(Feuil1!$C$6:$C$371,,COLUMN(F6)*2-2),Feuil1!$U11,OFFSET(Feuil1!$B$6:$B$371,,COLUMN(F6)*2-2)) -> 0 | H8: =SUMIF(OFFSET(Feuil1!$C$6:$C$371,,COLUMN(G6)*2-2),Feuil1!$U11,OFFSET(Feuil1!$B$6:$B$371,,COLUMN(G6)*2-2)) -> 0 | I8: =SUMIF(OFFSET(Feuil1!$C$6:$C$371,,COLUMN(H6)*2-2),Feuil1!$U11,OFFSET(Feuil1!$B$6:$B$371,,COLUMN(H6)*2-2)) -> 0 | ... L8: =SUMIF(OFFSET(Feuil1!$C$6:$C$371,,COLUMN(K6)*2-2),Feuil1!$U11,OFFSET(Feuil1!$B$6:$B$371,,COLUMN(K6)*2-2)) -> 0
A9: Manque info | B9: =SUMIF(OFFSET(Feuil1!$C$6:$C$371,,COLUMN(A7)*2-2),Feuil1!$U12,OFFSET(Feuil1!$B$6:$B$371,,COLUMN(A7)*2-2)) -> 0 | C9: =SUMIF(OFFSET(Feuil1!$C$6:$C$371,,COLUMN(B7)*2-2),Feuil1!$U12,OFFSET(Feuil1!$B$6:$B$371,,COLUMN(B7)*2-2)) -> 0 | D9: =SUMIF(OFFSET(Feuil1!$C$6:$C$371,,COLUMN(C7)*2-2),Feuil1!$U12,OFFSET(Feuil1!$B$6:$B$371,,COLUMN(C7)*2-2)) -> 0 | E9: =SUMIF(OFFSET(Feuil1!$C$6:$C$371,,COLUMN(D7)*2-2),Feuil1!$U12,OFFSET(Feuil1!$B$6:$B$371,,COLUMN(D7)*2-2)) -> 0 | F9: =SUMIF(OFFSET(Feuil1!$C$6:$C$371,,COLUMN(E7)*2-2),Feuil1!$U12,OFFSET(Feuil1!$B$6:$B$371,,COLUMN(E7)*2-2)) -> 0 | G9: =SUMIF(OFFSET(Feuil1!$C$6:$C$371,,COLUMN(F7)*2-2),Feuil1!$U12,OFFSET(Feuil1!$B$6:$B$371,,COLUMN(F7)*2-2)) -> 0 | H9: =SUMIF(OFFSET(Feuil1!$C$6:$C$371,,COLUMN(G7)*2-2),Feuil1!$U12,OFFSET(Feuil1!$B$6:$B$371,,COLUMN(G7)*2-2)) -> 0 | I9: =SUMIF(OFFSET(Feuil1!$C$6:$C$371,,COLUMN(H7)*2-2),Feuil1!$U12,OFFSET(Feuil1!$B$6:$B$371,,COLUMN(H7)*2-2)) -> 0 | ... L9: =SUMIF(OFFSET(Feuil1!$C$6:$C$371,,COLUMN(K7)*2-2),Feuil1!$U12,OFFSET(Feuil1!$B$6:$B$371,,COLUMN(K7)*2-2)) -> 0
A10: Problème DLC | B10: =SUMIF(OFFSET(Feuil1!$C$6:$C$371,,COLUMN(A8)*2-2),Feuil1!$U13,OFFSET(Feuil1!$B$6:$B$371,,COLUMN(A8)*2-2)) -> 0 | C10: =SUMIF(OFFSET(Feuil1!$C$6:$C$371,,COLUMN(B8)*2-2),Feuil1!$U13,OFFSET(Feuil1!$B$6:$B$371,,COLUMN(B8)*2-2)) -> 0 | D10: =SUMIF(OFFSET(Feuil1!$C$6:$C$371,,COLUMN(C8)*2-2),Feuil1!$U13,OFFSET(Feuil1!$B$6:$B$371,,COLUMN(C8)*2-2)) -> 0 | E10: =SUMIF(OFFSET(Feuil1!$C$6:$C$371,,COLUMN(D8)*2-2),Feuil1!$U13,OFFSET(Feuil1!$B$6:$B$371,,COLUMN(D8)*2-2)) -> 0 | F10: =SUMIF(OFFSET(Feuil1!$C$6:$C$371,,COLUMN(E8)*2-2),Feuil1!$U13,OFFSET(Feuil1!$B$6:$B$371,,COLUMN(E8)*2-2)) -> 0 | G10: =SUMIF(OFFSET(Feuil1!$C$6:$C$371,,COLUMN(F8)*2-2),Feuil1!$U13,OFFSET(Feuil1!$B$6:$B$371,,COLUMN(F8)*2-2)) -> 0 | H10: =SUMIF(OFFSET(Feuil1!$C$6:$C$371,,COLUMN(G8)*2-2),Feuil1!$U13,OFFSET(Feuil1!$B$6:$B$371,,COLUMN(G8)*2-2)) -> 0 | I10: =SUMIF(OFFSET(Feuil1!$C$6:$C$371,,COLUMN(H8)*2-2),Feuil1!$U13,OFFSET(Feuil1!$B$6:$B$371,,COLUMN(H8)*2-2)) -> 0 | ... L10: =SUMIF(OFFSET(Feuil1!$C$6:$C$371,,COLUMN(K8)*2-2),Feuil1!$U13,OFFSET(Feuil1!$B$6:$B$371,,COLUMN(K8)*2-2)) -> 0
A11: Manque info température | B11: =SUMIF(OFFSET(Feuil1!$C$6:$C$371,,COLUMN(A9)*2-2),Feuil1!$U14,OFFSET(Feuil1!$B$6:$B$371,,COLUMN(A9)*2-2)) -> 0 | C11: =SUMIF(OFFSET(Feuil1!$C$6:$C$371,,COLUMN(B9)*2-2),Feuil1!$U14,OFFSET(Feuil1!$B$6:$B$371,,COLUMN(B9)*2-2)) -> 0 | D11: =SUMIF(OFFSET(Feuil1!$C$6:$C$371,,COLUMN(C9)*2-2),Feuil1!$U14,OFFSET(Feuil1!$B$6:$B$371,,COLUMN(C9)*2-2)) -> 0 | E11: =SUMIF(OFFSET(Feuil1!$C$6:$C$371,,COLUMN(D9)*2-2),Feuil1!$U14,OFFSET(Feuil1!$B$6:$B$371,,COLUMN(D9)*2-2)) -> 0 | F11: =SUMIF(OFFSET(Feuil1!$C$6:$C$371,,COLUMN(E9)*2-2),Feuil1!$U14,OFFSET(Feuil1!$B$6:$B$371,,COLUMN(E9)*2-2)) -> 0 | G11: =SUMIF(OFFSET(Feuil1!$C$6:$C$371,,COLUMN(F9)*2-2),Feuil1!$U14,OFFSET(Feuil1!$B$6:$B$371,,COLUMN(F9)*2-2)) -> 0 | H11: =SUMIF(OFFSET(Feuil1!$C$6:$C$371,,COLUMN(G9)*2-2),Feuil1!$U14,OFFSET(Feuil1!$B$6:$B$371,,COLUMN(G9)*2-2)) -> 0 | I11: =SUMIF(OFFSET(Feuil1!$C$6:$C$371,,COLUMN(H9)*2-2),Feuil1!$U14,OFFSET(Feuil1!$B$6:$B$371,,COLUMN(H9)*2-2)) -> 0 | ... L11: =SUMIF(OFFSET(Feuil1!$C$6:$C$371,,COLUMN(K9)*2-2),Feuil1!$U14,OFFSET(Feuil1!$B$6:$B$371,,COLUMN(K9)*2-2)) -> 0
