Workbook

Sheet Feuil1
B1: NOM | C1: COMMANDE | D1: DATE | E1: FACTURE FUZION | F1: FACTURE ACOMBA | G1: MONTANT FACTURÉ | H1: MONTANT REÇU | I1: FRAIS ENVOI | J1: FRAIS BANCAIRE | K1: AUTRES FRAIS | L1: TOTAL APRÈS FRAIS | M1: TOTAL À PAYER CRDA | N1: CONDITION PAIEMENT | O1: DATE PAIEMENT RECU | P1: DATE RELANCE 1 | Q1: DATE RELANCE 2 | R1: # CHEQUE | S1: DATE PAYÉ A RTA
A3: =IF(G3=H3,"PAYÉ","NON-PAYÉ") -> PAYÉ | B3: Client 1 | C3: X | D3: 37877 | E3: 00054 | F3: 006797 | G3: 10951.37 | H3: 10951.37 | I3: 0 | J3: 0 | K3: 0 | L3: =H3-SUM(I3:K3) -> 10951.37 | M3: =L3 -> 10951.37 | N3: =VLOOKUP(B3,Feuil2!$A$1:$B$6,2,0) -> NET 30 JOURS | O3: 45913 | R3: 12 | S3: 41621
A4: =IF(G4=H4,"PAYÉ","NON-PAYÉ") -> NON-PAYÉ | B4: Client 2 | C4: X | D4: 11609 | E4: 00034 | F4: 007358 | G4: 488.64 | I4: 57.49 | L4: =H4-SUM(I4:K4) -> -57.49 | M4: =L4 -> -57.49 | N4: =VLOOKUP(B4,Feuil2!$A$1:$B$6,2,0) -> NET 60 JOURS
A5: =IF(G5=H5,"PAYÉ","NON-PAYÉ") -> NON-PAYÉ | B5: Client 2 | C5: X | D5: 47039 | E5: 99963 | F5: 007299 | G5: 862.31 | L5: =H5-SUM(I5:K5) -> 0 | M5: =L5 -> 0 | N5: =VLOOKUP(B5,Feuil2!$A$1:$B$6,2,0) -> NET 60 JOURS
A6: =IF(G6=H6,"PAYÉ","NON-PAYÉ") -> PAYÉ | B6: Client 2 | C6: X | D6: 37116 | E6: 00018 | F6: 006794 | G6: 488.12 | H6: 488.12 | I6: 56.96 | L6: =H6-SUM(I6:K6) -> 431.16 | M6: =L6 -> 431.16 | N6: =VLOOKUP(B6,Feuil2!$A$1:$B$6,2,0) -> NET 60 JOURS | O6: 37116 | R6: 12 | S6: 41621
A7: =IF(G7=H7,"PAYÉ","NON-PAYÉ") -> NON-PAYÉ | B7: Client 3 | C7: X | D7: 38334 | E7: 00087 | F7: 007597 | G7: 5133.63 | I7: 23 | L7: =H7-SUM(I7:K7) -> -23 | M7: =L7 -> -23 | N7: =VLOOKUP(B7,Feuil2!$A$1:$B$6,2,0) -> NET 30 JOURS
A8: =IF(G8=H8,"PAYÉ","NON-PAYÉ") -> NON-PAYÉ | B8: Client 4 | C8: X | D8: 43082 | E8: 00090 | F8: 007721 | G8: 618.95 | I8: 38.33 | L8: =H8-SUM(I8:K8) -> -38.33 | M8: =L8 -> -38.33 | N8: =VLOOKUP(B8,Feuil2!$A$1:$B$6,2,0) -> NET 15 JOURS
A9: =IF(G9=H9,"PAYÉ","NON-PAYÉ") -> NON-PAYÉ | B9: Client 5 | C9: X | D9: 43082 | E9: 00093 | F9: 007719 | G9: 3926.06 | I9: 39.7 | L9: =H9-SUM(I9:K9) -> -39.7 | M9: =L9 -> -39.7 | N9: =VLOOKUP(B9,Feuil2!$A$1:$B$6,2,0) -> NET 15 JOURS
A10: =IF(G10=H10,"PAYÉ","NON-PAYÉ") -> NON-PAYÉ | B10: Client 6 | C10: X | D10: 43417 | E10: 00079 | F10: 007471 | G10: 5214.12 | I10: 40.24 | L10: =H10-SUM(I10:K10) -> -40.24 | M10: =L10 -> -40.24 | N10: =VLOOKUP(B10,Feuil2!$A$1:$B$6,2,0) -> NET 90 JOURS
A11: =IF(G11=H11,"PAYÉ","NON-PAYÉ") -> PAYÉ | B11: Client 6 | C11: X | D11: 40069 | E11: 00060 | F11: 006863 | G11: 5173.88 | H11: 5173.88 | L11: =H11-SUM(I11:K11) -> 5173.88 | M11: =L11 -> 5173.88 | N11: =VLOOKUP(B11,Feuil2!$A$1:$B$6,2,0) -> NET 90 JOURS | O11: 39765 | R11: 12 | S11: 41621
A12: =IF(G12=H12,"PAYÉ","NON-PAYÉ") -> PAYÉ | B12: Client 6 | C12: X | D12: 40707 | F12: 006142 | G12: 1552.16 | H12: 1552.16 | L12: =H12-SUM(I12:K12) -> 1552.16 | M12: =L12 -> 1552.16 | N12: =VLOOKUP(B12,Feuil2!$A$1:$B$6,2,0) -> NET 90 JOURS | O12: 40038 | R12: 12 | S12: 41621

Sheet Feuil2
A1: Client 1 | B1: NET 30 JOURS
A2: Client 2 | B2: NET 60 JOURS
A3: Client 3 | B3: NET 30 JOURS
A4: Client 4 | B4: NET 15 JOURS
A5: Client 5 | B5: NET 15 JOURS
A6: Client 6 | B6: NET 90 JOURS

Sheet Feuil3
