Workbook

Sheet Feuil1
A4: Age | B4: Effectif | C4: Amplitudes | D4: Effectifs rectifiés
A5: [18;25[ | B5: 790 | C5: 7 | D5: =B5/C5 -> 112.85714
A6: [25;35[ | B6: 545 | C6: 10 | D6: =B6/C6 -> 54.5
A7: [35;45[ | B7: 377 | C7: 10 | D7: =B7/C7 -> 37.7
A8: [45;65[ | B8: 606 | C8: 20 | D8: =B8/C8 -> 30.3

Sheet Feuil2
A1: Age | B1: EFFECTIF REC
A2: 18 | B2: =Feuil1!$D$5 -> 112.85714
A3: =A2+1 -> 19 | B3: =Feuil1!$D$5 -> 112.85714
A4: =A3+1 -> 20 | B4: =Feuil1!$D$5 -> 112.85714
A5: =A4+1 -> 21 | B5: =Feuil1!$D$5 -> 112.85714
A6: =A5+1 -> 22 | B6: =Feuil1!$D$5 -> 112.85714
A7: =A6+1 -> 23 | B7: =Feuil1!$D$5 -> 112.85714
A8: =A7+1 -> 24 | B8: =Feuil1!$D$5 -> 112.85714
A9: =A8+1 -> 25 | B9: =Feuil1!$D$6 -> 54.5
A10: =A9+1 -> 26 | B10: =Feuil1!$D$6 -> 54.5
A11: =A10+1 -> 27 | B11: =Feuil1!$D$6 -> 54.5
A12: =A11+1 -> 28 | B12: =Feuil1!$D$6 -> 54.5
A13: =A12+1 -> 29 | B13: =Feuil1!$D$6 -> 54.5
A14: =A13+1 -> 30 | B14: =Feuil1!$D$6 -> 54.5
A15: =A14+1 -> 31 | B15: =Feuil1!$D$6 -> 54.5
A16: =A15+1 -> 32 | B16: =Feuil1!$D$6 -> 54.5
A17: =A16+1 -> 33 | B17: =Feuil1!$D$6 -> 54.5
A18: =A17+1 -> 34 | B18: =Feuil1!$D$6 -> 54.5
A19: =A18+1 -> 35 | B19: =Feuil1!$D$7 -> 37.7
A20: =A19+1 -> 36 | B20: =Feuil1!$D$7 -> 37.7
A21: =A20+1 -> 37 | B21: =Feuil1!$D$7 -> 37.7
A22: =A21+1 -> 38 | B22: =Feuil1!$D$7 -> 37.7
A23: =A22+1 -> 39 | B23: =Feuil1!$D$7 -> 37.7
A24: =A23+1 -> 40 | B24: =Feuil1!$D$7 -> 37.7
A25: =A24+1 -> 41 | B25: =Feuil1!$D$7 -> 37.7
A26: =A25+1 -> 42 | B26: =Feuil1!$D$7 -> 37.7
A27: =A26+1 -> 43 | B27: =Feuil1!$D$7 -> 37.7
A28: =A27+1 -> 44 | B28: =Feuil1!$D$7 -> 37.7
A29: =A28+1 -> 45 | B29: =Feuil1!$D$8 -> 30.3
A30: =A29+1 -> 46 | B30: =Feuil1!$D$8 -> 30.3
A31: =A30+1 -> 47 | B31: =Feuil1!$D$8 -> 30.3
A32: =A31+1 -> 48 | B32: =Feuil1!$D$8 -> 30.3
A33: =A32+1 -> 49 | B33: =Feuil1!$D$8 -> 30.3
A34: =A33+1 -> 50 | B34: =Feuil1!$D$8 -> 30.3
A35: =A34+1 -> 51 | B35: =Feuil1!$D$8 -> 30.3
A36: =A35+1 -> 52 | B36: =Feuil1!$D$8 -> 30.3
A37: =A36+1 -> 53 | B37: =Feuil1!$D$8 -> 30.3
A38: =A37+1 -> 54 | B38: =Feuil1!$D$8 -> 30.3
A39: =A38+1 -> 55 | B39: =Feuil1!$D$8 -> 30.3
A40: =A39+1 -> 56 | B40: =Feuil1!$D$8 -> 30.3
... A48: =A47+1 -> 64 | B48: =Feuil1!$D$8 -> 30.3

Sheet Feuil3
