Workbook

Sheet Version 18.03.2020
AE2: =SUM(AE255:AE820) -> 376 | AF2: =SUM(AF255:AF820) -> 18 | AG2: =SUM(AG255:AG820) -> 126 | AH2: =SUM(AH255:AH820) -> 165 | AI2: =SUM(AI255:AI820) -> 25 | AJ2: =SUM(AJ255:AJ820) -> 23 | AK2: =SUM(AK255:AK820) -> 18 | AL2: =SUM(AL255:AL820) -> 12 | ... AN2: =SUM(AN255:AN820) -> 340
C3: DEMANDEUR | K3: PORTEUR | AE3: =SUM(AE5:AE820) -> 626 | AF3: =SUM(AF5:AF820) -> 32 | AG3: =SUM(AG5:AG820) -> 200 | AH3: =SUM(AH5:AH820) -> 273 | AI3: =SUM(AI5:AI820) -> 41 | AJ3: =SUM(AJ5:AJ820) -> 49 | AK3: =SUM(AK5:AK820) -> 30 | AL3: =SUM(AL5:AL820) -> 19 | ... AN3: =SUM(AN5:AN820) -> 555
A4: N° DOSSIER | B4: DÉPOSÉ LE | C4: GRADE | D4: NOM | E4: PRENOM | F4: NID | G4: CCS | H4: VALIDITÉ | I4: AFFECTATION | J4: ARMÉE | K4: Type porteur | L4: NOM | M4: PRENOM | N4: DATE NAISSANCE | O4: AGE | P4: SIRH OK | Q4: PHOTO OK | R4: STATUT | S4: ACCEPTÉE / REFUSÉE / EN COURS LE | T4: RETOUR PF LE | U4: Acceptée ou refusée | V4: VALIDE JUSQU'AU | W4: N° CARTE | X4: SIGNATURE FP LE | Y4: DOSSIER ARCHIVÉ | Z4: OBS | AA4: CONTACT | AB4: Relance | AC4: Détruit le | AE4: NID <> | AF4: NID <> GSB | AG4: NID <> 3a | AH4: NID <> 4e | AI4: NID <> CNEC | AJ4: NID <> BAM | AK4: NID <> AUTRES | AL4: NID <> AIR | AM4: NID <> MAR | AN4: NID <> TER
B5: 43907 | F5: 1 | I5: 4E | J5: TER | K5: Conjoint(e)/PACS | O5: =TODAY()-N5 -> 44593 | P5: NON | Q5: NON | R5: REFUSÉE | S5: 43920 | Y5: 43920 | AE5: =IF(COUNTIF($F$5:$F5,F5)>1,"0",COUNTIF($F$5:$F5,F5)) -> 1 | AF5: =COUNTIF($I5,"*GSB*")*$AE5 -> 0 | AG5: =COUNTIF($I5,"3a")*$AE5 -> 0 | AH5: =COUNTIF($I5,"4e")*$AE5 -> 1 | AI5: =COUNTIF($I5,"*CNEC*")*$AE5 -> 0 | AJ5: =COUNTIF($I5,"BAM")*$AE5 -> 0 | AK5: =(COUNTIF($I5,"AUTRES")+COUNTIF($I5,"UID")+COUNTIF($I5,"CII")+COUNTIF($I5,"EAE"))*$AE5 -> 0 | AL5: =COUNTIF($J5,"AIR")*$AE5 -> 0 | AM5: =COUNTIF($J5,"MAR")*$AE5 -> 0 | AN5: =COUNTIF($J5,"TER")*$AE5 -> 1
B6: 43914 | F6: 2 | I6: 3a | J6: TER | K6: Conjoint(e)/PACS | O6: =TODAY()-N6 -> 44593 | P6: OUI | Q6: OK | R6: ACCEPTÉE | S6: 44236 | T6: 44256 | U6: ACCEPTÉE | V6: 45760 | X6: 44278 | Y6: 44256 | AB6: 44014 | AE6: =IF(COUNTIF($F$5:$F6,F6)>1,"0",COUNTIF($F$5:$F6,F6)) -> 1 | AF6: =COUNTIF($I6,"*GSB*")*$AE6 -> 0 | AG6: =COUNTIF($I6,"3a")*$AE6 -> 1 | AH6: =COUNTIF($I6,"4e")*$AE6 -> 0 | AI6: =COUNTIF($I6,"*CNEC*")*$AE6 -> 0 | AJ6: =COUNTIF($I6,"BAM")*$AE6 -> 0 | AK6: =(COUNTIF($I6,"AUTRES")+COUNTIF($I6,"UID")+COUNTIF($I6,"CII")+COUNTIF($I6,"EAE"))*$AE6 -> 0 | AL6: =COUNTIF($J6,"AIR")*$AE6 -> 0 | AM6: =COUNTIF($J6,"MAR")*$AE6 -> 0 | AN6: =COUNTIF($J6,"TER")*$AE6 -> 1
B7: 43910 | F7: 3 | I7: 3a | J7: TER | K7: Conjoint(e)/PACS | O7: =TODAY()-N7 -> 44593 | P7: OUI | Q7: OK | R7: ACCEPTÉE | S7: 43920 | T7: 43964 | U7: ACCEPTÉE | V7: 45144 | X7: 43979 | Y7: 43965 | AE7: =IF(COUNTIF($F$5:$F7,F7)>1,"0",COUNTIF($F$5:$F7,F7)) -> 1 | AF7: =COUNTIF($I7,"*GSB*")*$AE7 -> 0 | AG7: =COUNTIF($I7,"3a")*$AE7 -> 1 | AH7: =COUNTIF($I7,"4e")*$AE7 -> 0 | AI7: =COUNTIF($I7,"*CNEC*")*$AE7 -> 0 | AJ7: =COUNTIF($I7,"BAM")*$AE7 -> 0 | AK7: =(COUNTIF($I7,"AUTRES")+COUNTIF($I7,"UID")+COUNTIF($I7,"CII")+COUNTIF($I7,"EAE"))*$AE7 -> 0 | AL7: =COUNTIF($J7,"AIR")*$AE7 -> 0 | AM7: =COUNTIF($J7,"MAR")*$AE7 -> 0 | AN7: =COUNTIF($J7,"TER")*$AE7 -> 1
B8: 43910 | F8: 4 | I8: 3a | J8: TER | K8: Enfant mineur | O8: =TODAY()-N8 -> 44593 | P8: OUI | Q8: OK | R8: ACCEPTÉE | S8: 43920 | T8: 43964 | U8: ACCEPTÉE | V8: 44960 | X8: 43979 | Y8: 43965 | AE8: =IF(COUNTIF($F$5:$F8,F8)>1,"0",COUNTIF($F$5:$F8,F8)) -> 1 | AF8: =COUNTIF($I8,"*GSB*")*$AE8 -> 0 | AG8: =COUNTIF($I8,"3a")*$AE8 -> 1 | AH8: =COUNTIF($I8,"4e")*$AE8 -> 0 | AI8: =COUNTIF($I8,"*CNEC*")*$AE8 -> 0 | AJ8: =COUNTIF($I8,"BAM")*$AE8 -> 0 | AK8: =(COUNTIF($I8,"AUTRES")+COUNTIF($I8,"UID")+COUNTIF($I8,"CII")+COUNTIF($I8,"EAE"))*$AE8 -> 0 | AL8: =COUNTIF($J8,"AIR")*$AE8 -> 0 | AM8: =COUNTIF($J8,"MAR")*$AE8 -> 0 | AN8: =COUNTIF($J8,"TER")*$AE8 -> 1
B9: 43913 | F9: 5 | I9: 4E | J9: TER | K9: Conjoint(e)/PACS | O9: =TODAY()-N9 -> 44593 | P9: OUI | Q9: OK | R9: ACCEPTÉE | S9: 43927 | T9: 43964 | U9: ACCEPTÉE | V9: 44557 | X9: 43969 | Y9: 43965 | AE9: =IF(COUNTIF($F$5:$F9,F9)>1,"0",COUNTIF($F$5:$F9,F9)) -> 1 | AF9: =COUNTIF($I9,"*GSB*")*$AE9 -> 0 | AG9: =COUNTIF($I9,"3a")*$AE9 -> 0 | AH9: =COUNTIF($I9,"4e")*$AE9 -> 1 | AI9: =COUNTIF($I9,"*CNEC*")*$AE9 -> 0 | AJ9: =COUNTIF($I9,"BAM")*$AE9 -> 0 | AK9: =(COUNTIF($I9,"AUTRES")+COUNTIF($I9,"UID")+COUNTIF($I9,"CII")+COUNTIF($I9,"EAE"))*$AE9 -> 0 | AL9: =COUNTIF($J9,"AIR")*$AE9 -> 0 | AM9: =COUNTIF($J9,"MAR")*$AE9 -> 0 | AN9: =COUNTIF($J9,"TER")*$AE9 -> 1
B10: 43913 | F10: 6 | I10: BAM | J10: MAR | K10: Enfant mineur | O10: =TODAY()-N10 -> 44593 | P10: OUI | Q10: OK | R10: ACCEPTÉE | S10: 44314 | T10: 44326 | U10: ACCEPTÉE | V10: 46148 | X10: 44337 | Y10: 44326 | AB10: 44014 | AE10: =IF(COUNTIF($F$5:$F10,F10)>1,"0",COUNTIF($F$5:$F10,F10)) -> 1 | AF10: =COUNTIF($I10,"*GSB*")*$AE10 -> 0 | AG10: =COUNTIF($I10,"3a")*$AE10 -> 0 | AH10: =COUNTIF($I10,"4e")*$AE10 -> 0 | AI10: =COUNTIF($I10,"*CNEC*")*$AE10 -> 0 | AJ10: =COUNTIF($I10,"BAM")*$AE10 -> 1 | AK10: =(COUNTIF($I10,"AUTRES")+COUNTIF($I10,"UID")+COUNTIF($I10,"CII")+COUNTIF($I10,"EAE"))*$AE10 -> 0 | AL10: =COUNTIF($J10,"AIR")*$AE10 -> 0 | AM10: =COUNTIF($J10,"MAR")*$AE10 -> 1 | AN10: =COUNTIF($J10,"TER")*$AE10 -> 0
B11: 43913 | F11: 7 | I11: BAM | J11: MAR | K11: Enfant mineur | O11: =TODAY()-N11 -> 44593 | P11: OUI | Q11: OK | R11: ACCEPTÉE | S11: 44314 | T11: 44326 | U11: ACCEPTÉE | V11: 46094 | X11: 44337 | Y11: 44326 | AB11: 44014 | AE11: =IF(COUNTIF($F$5:$F11,F11)>1,"0",COUNTIF($F$5:$F11,F11)) -> 1 | AF11: =COUNTIF($I11,"*GSB*")*$AE11 -> 0 | AG11: =COUNTIF($I11,"3a")*$AE11 -> 0 | AH11: =COUNTIF($I11,"4e")*$AE11 -> 0 | AI11: =COUNTIF($I11,"*CNEC*")*$AE11 -> 0 | AJ11: =COUNTIF($I11,"BAM")*$AE11 -> 1 | AK11: =(COUNTIF($I11,"AUTRES")+COUNTIF($I11,"UID")+COUNTIF($I11,"CII")+COUNTIF($I11,"EAE"))*$AE11 -> 0 | AL11: =COUNTIF($J11,"AIR")*$AE11 -> 0 | AM11: =COUNTIF($J11,"MAR")*$AE11 -> 1 | AN11: =COUNTIF($J11,"TER")*$AE11 -> 0
B12: 43914 | F12: 8 | I12: 3a | J12: TER | K12: Conjoint(e)/PACS | O12: =TODAY()-N12 -> 44593 | P12: OUI | Q12: OK | R12: ACCEPTÉE | S12: 43938 | T12: 43964 | U12: ACCEPTÉE | V12: 45781 | X12: 43979 | Y12: 43965 | AE12: =IF(COUNTIF($F$5:$F12,F12)>1,"0",COUNTIF($F$5:$F12,F12)) -> 1 | AF12: =COUNTIF($I12,"*GSB*")*$AE12 -> 0 | AG12: =COUNTIF($I12,"3a")*$AE12 -> 1 | AH12: =COUNTIF($I12,"4e")*$AE12 -> 0 | AI12: =COUNTIF($I12,"*CNEC*")*$AE12 -> 0 | AJ12: =COUNTIF($I12,"BAM")*$AE12 -> 0 | AK12: =(COUNTIF($I12,"AUTRES")+COUNTIF($I12,"UID")+COUNTIF($I12,"CII")+COUNTIF($I12,"EAE"))*$AE12 -> 0 | AL12: =COUNTIF($J12,"AIR")*$AE12 -> 0 | AM12: =COUNTIF($J12,"MAR")*$AE12 -> 0 | AN12: =COUNTIF($J12,"TER")*$AE12 -> 1
B13: 43914 | F13: 9 | I13: 3a | J13: TER | K13: Enfant mineur | O13: =TODAY()-N13 -> 44593 | P13: OUI | Q13: OK | R13: ACCEPTÉE | S13: 43938 | T13: 43964 | U13: ACCEPTÉE | V13: 45781 | X13: 43979 | Y13: 43965 | AE13: =IF(COUNTIF($F$5:$F13,F13)>1,"0",COUNTIF($F$5:$F13,F13)) -> 1 | AF13: =COUNTIF($I13,"*GSB*")*$AE13 -> 0 | AG13: =COUNTIF($I13,"3a")*$AE13 -> 1 | AH13: =COUNTIF($I13,"4e")*$AE13 -> 0 | AI13: =COUNTIF($I13,"*CNEC*")*$AE13 -> 0 | AJ13: =COUNTIF($I13,"BAM")*$AE13 -> 0 | AK13: =(COUNTIF($I13,"AUTRES")+COUNTIF($I13,"UID")+COUNTIF($I13,"CII")+COUNTIF($I13,"EAE"))*$AE13 -> 0 | AL13: =COUNTIF($J13,"AIR")*$AE13 -> 0 | AM13: =COUNTIF($J13,"MAR")*$AE13 -> 0 | AN13: =COUNTIF($J13,"TER")*$AE13 -> 1
B14: 43914 | F14: 10 | I14: 3a | J14: TER | K14: Enfant mineur | O14: =TODAY()-N14 -> 44593 | P14: OUI | Q14: OK | R14: ACCEPTÉE | S14: 43938 | T14: 43964 | U14: ACCEPTÉE | V14: 45781 | X14: 43979 | Y14: 43965 | AE14: =IF(COUNTIF($F$5:$F14,F14)>1,"0",COUNTIF($F$5:$F14,F14)) -> 1 | AF14: =COUNTIF($I14,"*GSB*")*$AE14 -> 0 | AG14: =COUNTIF($I14,"3a")*$AE14 -> 1 | AH14: =COUNTIF($I14,"4e")*$AE14 -> 0 | AI14: =COUNTIF($I14,"*CNEC*")*$AE14 -> 0 | AJ14: =COUNTIF($I14,"BAM")*$AE14 -> 0 | AK14: =(COUNTIF($I14,"AUTRES")+COUNTIF($I14,"UID")+COUNTIF($I14,"CII")+COUNTIF($I14,"EAE"))*$AE14 -> 0 | AL14: =COUNTIF($J14,"AIR")*$AE14 -> 0 | AM14: =COUNTIF($J14,"MAR")*$AE14 -> 0 | AN14: =COUNTIF($J14,"TER")*$AE14 -> 1
B15: 43915 | F15: 11 | I15: 3a | J15: TER | K15: Enfant mineur | O15: =TODAY()-N15 -> 44593 | P15: OUI | Q15: OK | R15: ACCEPTÉE | S15: 44236 | T15: 44256 | U15: ACCEPTÉE | V15: 44462 | X15: 44278 | Y15: 44256 | AB15: 44014 | AE15: =IF(COUNTIF($F$5:$F15,F15)>1,"0",COUNTIF($F$5:$F15,F15)) -> 1 | AF15: =COUNTIF($I15,"*GSB*")*$AE15 -> 0 | AG15: =COUNTIF($I15,"3a")*$AE15 -> 1 | AH15: =COUNTIF($I15,"4e")*$AE15 -> 0 | AI15: =COUNTIF($I15,"*CNEC*")*$AE15 -> 0 | AJ15: =COUNTIF($I15,"BAM")*$AE15 -> 0 | AK15: =(COUNTIF($I15,"AUTRES")+COUNTIF($I15,"UID")+COUNTIF($I15,"CII")+COUNTIF($I15,"EAE"))*$AE15 -> 0 | AL15: =COUNTIF($J15,"AIR")*$AE15 -> 0 | AM15: =COUNTIF($J15,"MAR")*$AE15 -> 0 | AN15: =COUNTIF($J15,"TER")*$AE15 -> 1
B16: 43920 | F16: 12 | I16: BAM | J16: MAR | K16: Conjoint(e)/PACS | O16: =TODAY()-N16 -> 44593 | P16: OUI | Q16: OK | R16: ACCEPTÉE | S16: 43923 | T16: 43964 | U16: ACCEPTÉE | V16: 45781 | X16: 43971 | Y16: 43965 | AE16: =IF(COUNTIF($F$5:$F16,F16)>1,"0",COUNTIF($F$5:$F16,F16)) -> 1 | AF16: =COUNTIF($I16,"*GSB*")*$AE16 -> 0 | AG16: =COUNTIF($I16,"3a")*$AE16 -> 0 | AH16: =COUNTIF($I16,"4e")*$AE16 -> 0 | AI16: =COUNTIF($I16,"*CNEC*")*$AE16 -> 0 | AJ16: =COUNTIF($I16,"BAM")*$AE16 -> 1 | AK16: =(COUNTIF($I16,"AUTRES")+COUNTIF($I16,"UID")+COUNTIF($I16,"CII")+COUNTIF($I16,"EAE"))*$AE16 -> 0 | AL16: =COUNTIF($J16,"AIR")*$AE16 -> 0 | AM16: =COUNTIF($J16,"MAR")*$AE16 -> 1 | AN16: =COUNTIF($J16,"TER")*$AE16 -> 0
B17: 43920 | F17: 13 | I17: BAM | J17: MAR | K17: Enfant mineur | O17: =TODAY()-N17 -> 44593 | P17: OUI | Q17: OK | R17: ACCEPTÉE | S17: 43923 | T17: 43964 | U17: ACCEPTÉE | V17: 45781 | X17: 43971 | Y17: 43965 | AE17: =IF(COUNTIF($F$5:$F17,F17)>1,"0",COUNTIF($F$5:$F17,F17)) -> 1 | AF17: =COUNTIF($I17,"*GSB*")*$AE17 -> 0 | AG17: =COUNTIF($I17,"3a")*$AE17 -> 0 | AH17: =COUNTIF($I17,"4e")*$AE17 -> 0 | AI17: =COUNTIF($I17,"*CNEC*")*$AE17 -> 0 | AJ17: =COUNTIF($I17,"BAM")*$AE17 -> 1 | AK17: =(COUNTIF($I17,"AUTRES")+COUNTIF($I17,"UID")+COUNTIF($I17,"CII")+COUNTIF($I17,"EAE"))*$AE17 -> 0 | AL17: =COUNTIF($J17,"AIR")*$AE17 -> 0 | AM17: =COUNTIF($J17,"MAR")*$AE17 -> 1 | AN17: =COUNTIF($J17,"TER")*$AE17 -> 0
B18: 43920 | F18: 14 | I18: BAM | J18: MAR | K18: Enfant mineur | O18: =TODAY()-N18 -> 44593 | P18: OUI | Q18: OK | R18: SANS SUITE | S18: 43922 | Y18: 43922 | AE18: =IF(COUNTIF($F$5:$F18,F18)>1,"0",COUNTIF($F$5:$F18,F18)) -> 1 | AF18: =COUNTIF($I18,"*GSB*")*$AE18 -> 0 | AG18: =COUNTIF($I18,"3a")*$AE18 -> 0 | AH18: =COUNTIF($I18,"4e")*$AE18 -> 0 | AI18: =COUNTIF($I18,"*CNEC*")*$AE18 -> 0 | AJ18: =COUNTIF($I18,"BAM")*$AE18 -> 1 | AK18: =(COUNTIF($I18,"AUTRES")+COUNTIF($I18,"UID")+COUNTIF($I18,"CII")+COUNTIF($I18,"EAE"))*$AE18 -> 0 | AL18: =COUNTIF($J18,"AIR")*$AE18 -> 0 | AM18: =COUNTIF($J18,"MAR")*$AE18 -> 1 | AN18: =COUNTIF($J18,"TER")*$AE18 -> 0
B19: 44333 | F19: 15 | I19: 3a | J19: TER | K19: Conjoint(e)/PACS | O19: =TODAY()-N19 -> 44593 | P19: OUI | Q19: OK | R19: ACCEPTÉE | S19: 44334 | T19: 44347 | U19: ACCEPTÉE | V19: 44685 | X19: 44347 | Y19: 44347 | AE19: =IF(COUNTIF($F$5:$F19,F19)>1,"0",COUNTIF($F$5:$F19,F19)) -> 1 | AF19: =COUNTIF($I19,"*GSB*")*$AE19 -> 0 | AG19: =COUNTIF($I19,"3a")*$AE19 -> 1 | AH19: =COUNTIF($I19,"4e")*$AE19 -> 0 | AI19: =COUNTIF($I19,"*CNEC*")*$AE19 -> 0 | AJ19: =COUNTIF($I19,"BAM")*$AE19 -> 0 | AK19: =(COUNTIF($I19,"AUTRES")+COUNTIF($I19,"UID")+COUNTIF($I19,"CII")+COUNTIF($I19,"EAE"))*$AE19 -> 0 | AL19: =COUNTIF($J19,"AIR")*$AE19 -> 0 | AM19: =COUNTIF($J19,"MAR")*$AE19 -> 0 | AN19: =COUNTIF($J19,"TER")*$AE19 -> 1
B20: 44298 | F20: 16 | I20: 3a | J20: TER | K20: Conjoint(e)/PACS | O20: =TODAY()-N20 -> 44593 | P20: NON | Q20: NON | R20: REFUSÉE | S20: 44298 | Y20: 44298 | AE20: =IF(COUNTIF($F$5:$F20,F20)>1,"0",COUNTIF($F$5:$F20,F20)) -> 1 | AF20: =COUNTIF($I20,"*GSB*")*$AE20 -> 0 | AG20: =COUNTIF($I20,"3a")*$AE20 -> 1 | AH20: =COUNTIF($I20,"4e")*$AE20 -> 0 | AI20: =COUNTIF($I20,"*CNEC*")*$AE20 -> 0 | AJ20: =COUNTIF($I20,"BAM")*$AE20 -> 0 | AK20: =(COUNTIF($I20,"AUTRES")+COUNTIF($I20,"UID")+COUNTIF($I20,"CII")+COUNTIF($I20,"EAE"))*$AE20 -> 0 | AL20: =COUNTIF($J20,"AIR")*$AE20 -> 0 | AM20: =COUNTIF($J20,"MAR")*$AE20 -> 0 | AN20: =COUNTIF($J20,"TER")*$AE20 -> 1
B21: 43922 | F21: 17 | I21: AUTRES | J21: AIR | K21: Enfant mineur | O21: =TODAY()-N21 -> 44593 | P21: OUI | Q21: OK | R21: ACCEPTÉE | S21: 43922 | T21: 43964 | U21: ACCEPTÉE | V21: 44229 | X21: 43985 | Y21: 43965 | AC21: 44327 | AE21: =IF(COUNTIF($F$5:$F21,F21)>1,"0",COUNTIF($F$5:$F21,F21)) -> 1 | AF21: =COUNTIF($I21,"*GSB*")*$AE21 -> 0 | AG21: =COUNTIF($I21,"3a")*$AE21 -> 0 | AH21: =COUNTIF($I21,"4e")*$AE21 -> 0 | AI21: =COUNTIF($I21,"*CNEC*")*$AE21 -> 0 | AJ21: =COUNTIF($I21,"BAM")*$AE21 -> 0 | AK21: =(COUNTIF($I21,"AUTRES")+COUNTIF($I21,"UID")+COUNTIF($I21,"CII")+COUNTIF($I21,"EAE"))*$AE21 -> 1 | AL21: =COUNTIF($J21,"AIR")*$AE21 -> 1 | AM21: =COUNTIF($J21,"MAR")*$AE21 -> 0 | AN21: =COUNTIF($J21,"TER")*$AE21 -> 0
B22: 44295 | F22: 18 | I22: 3a | J22: TER | K22: Enfant mineur | O22: =TODAY()-N22 -> 44593 | P22: OUI | Q22: OK | R22: ACCEPTÉE | S22: 44298 | T22: 44305 | U22: ACCEPTÉE | V22: 45613 | X22: 44315 | Y22: 44305 | AE22: =IF(COUNTIF($F$5:$F22,F22)>1,"0",COUNTIF($F$5:$F22,F22)) -> 1 | AF22: =COUNTIF($I22,"*GSB*")*$AE22 -> 0 | AG22: =COUNTIF($I22,"3a")*$AE22 -> 1 | AH22: =COUNTIF($I22,"4e")*$AE22 -> 0 | AI22: =COUNTIF($I22,"*CNEC*")*$AE22 -> 0 | AJ22: =COUNTIF($I22,"BAM")*$AE22 -> 0 | AK22: =(COUNTIF($I22,"AUTRES")+COUNTIF($I22,"UID")+COUNTIF($I22,"CII")+COUNTIF($I22,"EAE"))*$AE22 -> 0 | AL22: =COUNTIF($J22,"AIR")*$AE22 -> 0 | AM22: =COUNTIF($J22,"MAR")*$AE22 -> 0 | AN22: =COUNTIF($J22,"TER")*$AE22 -> 1
B23: 44295 | F23: 19 | I23: 3a | J23: TER | K23: Enfant mineur | O23: =TODAY()-N23 -> 44593 | P23: OUI | Q23: OK | R23: ACCEPTÉE | S23: 44298 | T23: 44305 | U23: ACCEPTÉE | V23: 45613 | X23: 44315 | Y23: 44305 | AE23: =IF(COUNTIF($F$5:$F23,F23)>1,"0",COUNTIF($F$5:$F23,F23)) -> 1 | AF23: =COUNTIF($I23,"*GSB*")*$AE23 -> 0 | AG23: =COUNTIF($I23,"3a")*$AE23 -> 1 | AH23: =COUNTIF($I23,"4e")*$AE23 -> 0 | AI23: =COUNTIF($I23,"*CNEC*")*$AE23 -> 0 | AJ23: =COUNTIF($I23,"BAM")*$AE23 -> 0 | AK23: =(COUNTIF($I23,"AUTRES")+COUNTIF($I23,"UID")+COUNTIF($I23,"CII")+COUNTIF($I23,"EAE"))*$AE23 -> 0 | AL23: =COUNTIF($J23,"AIR")*$AE23 -> 0 | AM23: =COUNTIF($J23,"MAR")*$AE23 -> 0 | AN23: =COUNTIF($J23,"TER")*$AE23 -> 1
B24: 43923 | F24: 20 | I24: BAM | J24: MAR | K24: Conjoint(e)/PACS | O24: =TODAY()-N24 -> 44593 | P24: OUI | Q24: NON | R24: REFUSÉE | S24: 43927 | Y24: 43927 | AE24: =IF(COUNTIF($F$5:$F24,F24)>1,"0",COUNTIF($F$5:$F24,F24)) -> 1 | AF24: =COUNTIF($I24,"*GSB*")*$AE24 -> 0 | AG24: =COUNTIF($I24,"3a")*$AE24 -> 0 | AH24: =COUNTIF($I24,"4e")*$AE24 -> 0 | AI24: =COUNTIF($I24,"*CNEC*")*$AE24 -> 0 | AJ24: =COUNTIF($I24,"BAM")*$AE24 -> 1 | AK24: =(COUNTIF($I24,"AUTRES")+COUNTIF($I24,"UID")+COUNTIF($I24,"CII")+COUNTIF($I24,"EAE"))*$AE24 -> 0 | AL24: =COUNTIF($J24,"AIR")*$AE24 -> 0 | AM24: =COUNTIF($J24,"MAR")*$AE24 -> 1 | AN24: =COUNTIF($J24,"TER")*$AE24 -> 0
B25: 43923 | F25: 21 | I25: BAM | J25: MAR | K25: Enfant mineur | O25: =TODAY()-N25 -> 44593 | P25: OUI | Q25: NON | R25: REFUSÉE | S25: 43927 | Y25: 43927 | AE25: =IF(COUNTIF($F$5:$F25,F25)>1,"0",COUNTIF($F$5:$F25,F25)) -> 1 | AF25: =COUNTIF($I25,"*GSB*")*$AE25 -> 0 | AG25: =COUNTIF($I25,"3a")*$AE25 -> 0 | AH25: =COUNTIF($I25,"4e")*$AE25 -> 0 | AI25: =COUNTIF($I25,"*CNEC*")*$AE25 -> 0 | AJ25: =COUNTIF($I25,"BAM")*$AE25 -> 1 | AK25: =(COUNTIF($I25,"AUTRES")+COUNTIF($I25,"UID")+COUNTIF($I25,"CII")+COUNTIF($I25,"EAE"))*$AE25 -> 0 | AL25: =COUNTIF($J25,"AIR")*$AE25 -> 0 | AM25: =COUNTIF($J25,"MAR")*$AE25 -> 1 | AN25: =COUNTIF($J25,"TER")*$AE25 -> 0
B26: 43927 | F26: 22 | I26: 3a | J26: TER | K26: Enfant mineur | O26: =TODAY()-N26 -> 44593 | P26: OUI | Q26: OK | R26: ACCEPTÉE | S26: 43969 | T26: 43978 | U26: ACCEPTÉE | V26: 44811 | X26: 44012 | Y26: 43978 | AE26: =IF(COUNTIF($F$5:$F26,F26)>1,"0",COUNTIF($F$5:$F26,F26)) -> 1 | AF26: =COUNTIF($I26,"*GSB*")*$AE26 -> 0 | AG26: =COUNTIF($I26,"3a")*$AE26 -> 1 | AH26: =COUNTIF($I26,"4e")*$AE26 -> 0 | AI26: =COUNTIF($I26,"*CNEC*")*$AE26 -> 0 | AJ26: =COUNTIF($I26,"BAM")*$AE26 -> 0 | AK26: =(COUNTIF($I26,"AUTRES")+COUNTIF($I26,"UID")+COUNTIF($I26,"CII")+COUNTIF($I26,"EAE"))*$AE26 -> 0 | AL26: =COUNTIF($J26,"AIR")*$AE26 -> 0 | AM26: =COUNTIF($J26,"MAR")*$AE26 -> 0 | AN26: =COUNTIF($J26,"TER")*$AE26 -> 1
B27: 43927 | F27: 23 | I27: 3a | J27: TER | K27: Enfant mineur | O27: =TODAY()-N27 -> 44593 | P27: OUI | Q27: OK | R27: ACCEPTÉE | S27: 43969 | T27: 43978 | U27: ACCEPTÉE | V27: 45361 | X27: 44012 | Y27: 43978 | AE27: =IF(COUNTIF($F$5:$F27,F27)>1,"0",COUNTIF($F$5:$F27,F27)) -> 1 | AF27: =COUNTIF($I27,"*GSB*")*$AE27 -> 0 | AG27: =COUNTIF($I27,"3a")*$AE27 -> 1 | AH27: =COUNTIF($I27,"4e")*$AE27 -> 0 | AI27: =COUNTIF($I27,"*CNEC*")*$AE27 -> 0 | AJ27: =COUNTIF($I27,"BAM")*$AE27 -> 0 | AK27: =(COUNTIF($I27,"AUTRES")+COUNTIF($I27,"UID")+COUNTIF($I27,"CII")+COUNTIF($I27,"EAE"))*$AE27 -> 0 | AL27: =COUNTIF($J27,"AIR")*$AE27 -> 0 | AM27: =COUNTIF($J27,"MAR")*$AE27 -> 0 | AN27: =COUNTIF($J27,"TER")*$AE27 -> 1
B28: 43930 | F28: 24 | I28: 3a | J28: TER | K28: Conjoint(e)/PACS | O28: =TODAY()-N28 -> 44593 | P28: OUI | Q28: OK | R28: ACCEPTÉE | S28: 43977 | T28: 43992 | U28: ACCEPTÉE | V28: 45140 | X28: 43994 | Y28: 43992 | AE28: =IF(COUNTIF($F$5:$F28,F28)>1,"0",COUNTIF($F$5:$F28,F28)) -> 1 | AF28: =COUNTIF($I28,"*GSB*")*$AE28 -> 0 | AG28: =COUNTIF($I28,"3a")*$AE28 -> 1 | AH28: =COUNTIF($I28,"4e")*$AE28 -> 0 | AI28: =COUNTIF($I28,"*CNEC*")*$AE28 -> 0 | AJ28: =COUNTIF($I28,"BAM")*$AE28 -> 0 | AK28: =(COUNTIF($I28,"AUTRES")+COUNTIF($I28,"UID")+COUNTIF($I28,"CII")+COUNTIF($I28,"EAE"))*$AE28 -> 0 | AL28: =COUNTIF($J28,"AIR")*$AE28 -> 0 | AM28: =COUNTIF($J28,"MAR")*$AE28 -> 0 | AN28: =COUNTIF($J28,"TER")*$AE28 -> 1
B29: 43930 | F29: 25 | I29: 3a | J29: TER | K29: Enfant mineur | O29: =TODAY()-N29 -> 44593 | P29: OUI | Q29: OK | R29: ACCEPTÉE | S29: 43977 | T29: 43992 | U29: ACCEPTÉE | V29: 45140 | X29: 43994 | Y29: 43992 | AE29: =IF(COUNTIF($F$5:$F29,F29)>1,"0",COUNTIF($F$5:$F29,F29)) -> 1 | AF29: =COUNTIF($I29,"*GSB*")*$AE29 -> 0 | AG29: =COUNTIF($I29,"3a")*$AE29 -> 1 | AH29: =COUNTIF($I29,"4e")*$AE29 -> 0 | AI29: =COUNTIF($I29,"*CNEC*")*$AE29 -> 0 | AJ29: =COUNTIF($I29,"BAM")*$AE29 -> 0 | AK29: =(COUNTIF($I29,"AUTRES")+COUNTIF($I29,"UID")+COUNTIF($I29,"CII")+COUNTIF($I29,"EAE"))*$AE29 -> 0 | AL29: =COUNTIF($J29,"AIR")*$AE29 -> 0 | AM29: =COUNTIF($J29,"MAR")*$AE29 -> 0 | AN29: =COUNTIF($J29,"TER")*$AE29 -> 1
B30: 43930 | F30: 26 | I30: 3a | J30: TER | K30: Enfant mineur | O30: =TODAY()-N30 -> 44593 | P30: OUI | Q30: OK | R30: REFUSÉE | S30: 43977 | Y30: 43977 | AE30: =IF(COUNTIF($F$5:$F30,F30)>1,"0",COUNTIF($F$5:$F30,F30)) -> 1 | AF30: =COUNTIF($I30,"*GSB*")*$AE30 -> 0 | AG30: =COUNTIF($I30,"3a")*$AE30 -> 1 | AH30: =COUNTIF($I30,"4e")*$AE30 -> 0 | AI30: =COUNTIF($I30,"*CNEC*")*$AE30 -> 0 | AJ30: =COUNTIF($I30,"BAM")*$AE30 -> 0 | AK30: =(COUNTIF($I30,"AUTRES")+COUNTIF($I30,"UID")+COUNTIF($I30,"CII")+COUNTIF($I30,"EAE"))*$AE30 -> 0 | AL30: =COUNTIF($J30,"AIR")*$AE30 -> 0 | AM30: =COUNTIF($J30,"MAR")*$AE30 -> 0 | AN30: =COUNTIF($J30,"TER")*$AE30 -> 1
B31: 43935 | F31: 27 | I31: 4E | J31: TER | K31: Conjoint(e)/PACS | O31: =TODAY()-N31 -> 44593 | P31: OUI | Q31: NON | R31: REFUSÉE | S31: 43937 | Y31: 43937 | AE31: =IF(COUNTIF($F$5:$F31,F31)>1,"0",COUNTIF($F$5:$F31,F31)) -> 1 | AF31: =COUNTIF($I31,"*GSB*")*$AE31 -> 0 | AG31: =COUNTIF($I31,"3a")*$AE31 -> 0 | AH31: =COUNTIF($I31,"4e")*$AE31 -> 1 | AI31: =COUNTIF($I31,"*CNEC*")*$AE31 -> 0 | AJ31: =COUNTIF($I31,"BAM")*$AE31 -> 0 | AK31: =(COUNTIF($I31,"AUTRES")+COUNTIF($I31,"UID")+COUNTIF($I31,"CII")+COUNTIF($I31,"EAE"))*$AE31 -> 0 | AL31: =COUNTIF($J31,"AIR")*$AE31 -> 0 | AM31: =COUNTIF($J31,"MAR")*$AE31 -> 0 | AN31: =COUNTIF($J31,"TER")*$AE31 -> 1
B32: 43944 | F32: 28 | I32: 4E | J32: TER | K32: Enfant mineur | O32: =TODAY()-N32 -> 44593 | P32: OUI | Q32: OK | R32: ACCEPTÉE | S32: 43945 | T32: 43964 | U32: ACCEPTÉE | V32: 45099 | X32: 43969 | Y32: 43965 | AE32: =IF(COUNTIF($F$5:$F32,F32)>1,"0",COUNTIF($F$5:$F32,F32)) -> 1 | AF32: =COUNTIF($I32,"*GSB*")*$AE32 -> 0 | AG32: =COUNTIF($I32,"3a")*$AE32 -> 0 | AH32: =COUNTIF($I32,"4e")*$AE32 -> 1 | AI32: =COUNTIF($I32,"*CNEC*")*$AE32 -> 0 | AJ32: =COUNTIF($I32,"BAM")*$AE32 -> 0 | AK32: =(COUNTIF($I32,"AUTRES")+COUNTIF($I32,"UID")+COUNTIF($I32,"CII")+COUNTIF($I32,"EAE"))*$AE32 -> 0 | AL32: =COUNTIF($J32,"AIR")*$AE32 -> 0 | AM32: =COUNTIF($J32,"MAR")*$AE32 -> 0 | AN32: =COUNTIF($J32,"TER")*$AE32 -> 1
B33: 43935 | F33: 29 | I33: 4E | J33: TER | K33: Enfant mineur | O33: =TODAY()-N33 -> 44593 | P33: NON | Q33: NON | R33: REFUSÉE | S33: 43937 | Y33: 43937 | AE33: =IF(COUNTIF($F$5:$F33,F33)>1,"0",COUNTIF($F$5:$F33,F33)) -> 1 | AF33: =COUNTIF($I33,"*GSB*")*$AE33 -> 0 | AG33: =COUNTIF($I33,"3a")*$AE33 -> 0 | AH33: =COUNTIF($I33,"4e")*$AE33 -> 1 | AI33: =COUNTIF($I33,"*CNEC*")*$AE33 -> 0 | AJ33: =COUNTIF($I33,"BAM")*$AE33 -> 0 | AK33: =(COUNTIF($I33,"AUTRES")+COUNTIF($I33,"UID")+COUNTIF($I33,"CII")+COUNTIF($I33,"EAE"))*$AE33 -> 0 | AL33: =COUNTIF($J33,"AIR")*$AE33 -> 0 | AM33: =COUNTIF($J33,"MAR")*$AE33 -> 0 | AN33: =COUNTIF($J33,"TER")*$AE33 -> 1
B34: 43944 | F34: 30 | I34: 3a | J34: TER | K34: Conjoint(e)/PACS | O34: =TODAY()-N34 -> 44593 | P34: OUI | Q34: OK | R34: ACCEPTÉE | S34: 44049 | T34: 44056 | U34: REFUSÉE | Y34: 44056 | AB34: 44014 | AE34: =IF(COUNTIF($F$5:$F34,F34)>1,"0",COUNTIF($F$5:$F34,F34)) -> 1 | AF34: =COUNTIF($I34,"*GSB*")*$AE34 -> 0 | AG34: =COUNTIF($I34,"3a")*$AE34 -> 1 | AH34: =COUNTIF($I34,"4e")*$AE34 -> 0 | AI34: =COUNTIF($I34,"*CNEC*")*$AE34 -> 0 | AJ34: =COUNTIF($I34,"BAM")*$AE34 -> 0 | AK34: =(COUNTIF($I34,"AUTRES")+COUNTIF($I34,"UID")+COUNTIF($I34,"CII")+COUNTIF($I34,"EAE"))*$AE34 -> 0 | AL34: =COUNTIF($J34,"AIR")*$AE34 -> 0 | AM34: =COUNTIF($J34,"MAR")*$AE34 -> 0 | AN34: =COUNTIF($J34,"TER")*$AE34 -> 1
B35: 43938 | F35: 31 | I35: 3a | J35: TER | K35: Conjoint(e)/PACS | O35: =TODAY()-N35 -> 44593 | P35: OUI | Q35: OK | R35: ACCEPTÉE | S35: 43977 | T35: 43992 | U35: ACCEPTÉE | V35: 45626 | X35: 44004 | Y35: 43992 | AE35: =IF(COUNTIF($F$5:$F35,F35)>1,"0",COUNTIF($F$5:$F35,F35)) -> 1 | AF35: =COUNTIF($I35,"*GSB*")*$AE35 -> 0 | AG35: =COUNTIF($I35,"3a")*$AE35 -> 1 | AH35: =COUNTIF($I35,"4e")*$AE35 -> 0 | AI35: =COUNTIF($I35,"*CNEC*")*$AE35 -> 0 | AJ35: =COUNTIF($I35,"BAM")*$AE35 -> 0 | AK35: =(COUNTIF($I35,"AUTRES")+COUNTIF($I35,"UID")+COUNTIF($I35,"CII")+COUNTIF($I35,"EAE"))*$AE35 -> 0 | AL35: =COUNTIF($J35,"AIR")*$AE35 -> 0 | AM35: =COUNTIF($J35,"MAR")*$AE35 -> 0 | AN35: =COUNTIF($J35,"TER")*$AE35 -> 1
B36: 43942 | F36: 32 | I36: BAM | J36: MAR | K36: Conjoint(e)/PACS | O36: =TODAY()-N36 -> 44593 | P36: OUI | Q36: OK | R36: ACCEPTÉE | S36: 43944 | T36: 43964 | U36: ACCEPTÉE | V36: 44225 | X36: 43998 | Y36: 43965 | AE36: =IF(COUNTIF($F$5:$F36,F36)>1,"0",COUNTIF($F$5:$F36,F36)) -> 1 | AF36: =COUNTIF($I36,"*GSB*")*$AE36 -> 0 | AG36: =COUNTIF($I36,"3a")*$AE36 -> 0 | AH36: =COUNTIF($I36,"4e")*$AE36 -> 0 | AI36: =COUNTIF($I36,"*CNEC*")*$AE36 -> 0 | AJ36: =COUNTIF($I36,"BAM")*$AE36 -> 1 | AK36: =(COUNTIF($I36,"AUTRES")+COUNTIF($I36,"UID")+COUNTIF($I36,"CII")+COUNTIF($I36,"EAE"))*$AE36 -> 0 | AL36: =COUNTIF($J36,"AIR")*$AE36 -> 0 | AM36: =COUNTIF($J36,"MAR")*$AE36 -> 1 | AN36: =COUNTIF($J36,"TER")*$AE36 -> 0
B37: 43943 | F37: 33 | I37: 3a | J37: TER | K37: Enfant majeur | O37: =TODAY()-N37 -> 44593 | P37: OUI | Q37: OK | R37: ACCEPTÉE | S37: 43944 | T37: 43964 | U37: ACCEPTÉE | V37: 45760 | X37: 43979 | Y37: 43965 | AE37: =IF(COUNTIF($F$5:$F37,F37)>1,"0",COUNTIF($F$5:$F37,F37)) -> 1 | AF37: =COUNTIF($I37,"*GSB*")*$AE37 -> 0 | AG37: =COUNTIF($I37,"3a")*$AE37 -> 1 | AH37: =COUNTIF($I37,"4e")*$AE37 -> 0 | AI37: =COUNTIF($I37,"*CNEC*")*$AE37 -> 0 | AJ37: =COUNTIF($I37,"BAM")*$AE37 -> 0 | AK37: =(COUNTIF($I37,"AUTRES")+COUNTIF($I37,"UID")+COUNTIF($I37,"CII")+COUNTIF($I37,"EAE"))*$AE37 -> 0 | AL37: =COUNTIF($J37,"AIR")*$AE37 -> 0 | AM37: =COUNTIF($J37,"MAR")*$AE37 -> 0 | AN37: =COUNTIF($J37,"TER")*$AE37 -> 1
B38: 43944 | F38: 34 | I38: 4E | J38: TER | K38: Conjoint(e)/PACS | O38: =TODAY()-N38 -> 44593 | P38: OUI | Q38: OK | R38: ACCEPTÉE | S38: 43944 | T38: 43964 | U38: ACCEPTÉE | V38: 45704 | X38: 43980 | Y38: 43965 | AE38: =IF(COUNTIF($F$5:$F38,F38)>1,"0",COUNTIF($F$5:$F38,F38)) -> 1 | AF38: =COUNTIF($I38,"*GSB*")*$AE38 -> 0 | AG38: =COUNTIF($I38,"3a")*$AE38 -> 0 | AH38: =COUNTIF($I38,"4e")*$AE38 -> 1 | AI38: =COUNTIF($I38,"*CNEC*")*$AE38 -> 0 | AJ38: =COUNTIF($I38,"BAM")*$AE38 -> 0 | AK38: =(COUNTIF($I38,"AUTRES")+COUNTIF($I38,"UID")+COUNTIF($I38,"CII")+COUNTIF($I38,"EAE"))*$AE38 -> 0 | AL38: =COUNTIF($J38,"AIR")*$AE38 -> 0 | AM38: =COUNTIF($J38,"MAR")*$AE38 -> 0 | AN38: =COUNTIF($J38,"TER")*$AE38 -> 1
B39: 43944 | F39: 35 | I39: 4E | J39: TER | K39: Enfant mineur | O39: =TODAY()-N39 -> 44593 | P39: OUI | Q39: OK | R39: ACCEPTÉE | S39: 43944 | T39: 43964 | U39: ACCEPTÉE | V39: 45704 | X39: 43980 | Y39: 43965 | AE39: =IF(COUNTIF($F$5:$F39,F39)>1,"0",COUNTIF($F$5:$F39,F39)) -> 1 | AF39: =COUNTIF($I39,"*GSB*")*$AE39 -> 0 | AG39: =COUNTIF($I39,"3a")*$AE39 -> 0 | AH39: =COUNTIF($I39,"4e")*$AE39 -> 1 | AI39: =COUNTIF($I39,"*CNEC*")*$AE39 -> 0 | AJ39: =COUNTIF($I39,"BAM")*$AE39 -> 0 | AK39: =(COUNTIF($I39,"AUTRES")+COUNTIF($I39,"UID")+COUNTIF($I39,"CII")+COUNTIF($I39,"EAE"))*$AE39 -> 0 | AL39: =COUNTIF($J39,"AIR")*$AE39 -> 0 | AM39: =COUNTIF($J39,"MAR")*$AE39 -> 0 | AN39: =COUNTIF($J39,"TER")*$AE39 -> 1
B40: 43944 | F40: 36 | I40: 4E | J40: TER | K40: Enfant majeur | O40: =TODAY()-N40 -> 44593 | P40: OUI | Q40: OK | R40: ACCEPTÉE | S40: 43944 | T40: 43964 | U40: ACCEPTÉE | V40: 45704 | X40: 43980 | Y40: 43965 | AE40: =IF(COUNTIF($F$5:$F40,F40)>1,"0",COUNTIF($F$5:$F40,F40)) -> 1 | AF40: =COUNTIF($I40,"*GSB*")*$AE40 -> 0 | AG40: =COUNTIF($I40,"3a")*$AE40 -> 0 | AH40: =COUNTIF($I40,"4e")*$AE40 -> 1 | AI40: =COUNTIF($I40,"*CNEC*")*$AE40 -> 0 | AJ40: =COUNTIF($I40,"BAM")*$AE40 -> 0 | AK40: =(COUNTIF($I40,"AUTRES")+COUNTIF($I40,"UID")+COUNTIF($I40,"CII")+COUNTIF($I40,"EAE"))*$AE40 -> 0 | AL40: =COUNTIF($J40,"AIR")*$AE40 -> 0 | AM40: =COUNTIF($J40,"MAR")*$AE40 -> 0 | AN40: =COUNTIF($J40,"TER")*$AE40 -> 1
B41: 43944 | F41: 37 | I41: 3a | J41: TER | K41: Conjoint(e)/PACS | O41: =TODAY()-N41 -> 44593 | P41: OUI | Q41: OK | R41: ACCEPTÉE | S41: 43944 | T41: 43964 | U41: ACCEPTÉE | V41: 45760 | X41: 43979 | Y41: 43965 | AE41: =IF(COUNTIF($F$5:$F41,F41)>1,"0",COUNTIF($F$5:$F41,F41)) -> 1 | AF41: =COUNTIF($I41,"*GSB*")*$AE41 -> 0 | AG41: =COUNTIF($I41,"3a")*$AE41 -> 1 | AH41: =COUNTIF($I41,"4e")*$AE41 -> 0 | AI41: =COUNTIF($I41,"*CNEC*")*$AE41 -> 0 | AJ41: =COUNTIF($I41,"BAM")*$AE41 -> 0 | AK41: =(COUNTIF($I41,"AUTRES")+COUNTIF($I41,"UID")+COUNTIF($I41,"CII")+COUNTIF($I41,"EAE"))*$AE41 -> 0 | AL41: =COUNTIF($J41,"AIR")*$AE41 -> 0 | AM41: =COUNTIF($J41,"MAR")*$AE41 -> 0 | AN41: =COUNTIF($J41,"TER")*$AE41 -> 1
...

Sheet STATS
B1: DEPUIS LE 18.03.2020 | P1: DEPOSES en 2021
C3: GSB | D3: 3a | E3: 4e | F3: CNEC | G3: BAM | H3: AUTRES | I3: AIR | J3: MAR | K3: TER | L3: TOTAL | M3: % | Q3: GSB | R3: 3a | S3: 4e | T3: CNEC | U3: BAM | V3: AUTRES | W3: AIR | X3: MAR | Y3: TER | Z3: TOTAL | AA3: %
B4: DEMANDE | C4: =COUNTIF('Version 18.03.2020'!$I$5:$I820,"*GSB*") -> 32 | D4: =COUNTIF('Version 18.03.2020'!$I$5:$I820,"3a") -> 200 | E4: =COUNTIF('Version 18.03.2020'!$I$5:$I820,"4e") -> 273 | F4: =COUNTIF('Version 18.03.2020'!$I$5:$I820,"*CNEC*") -> 41 | G4: =COUNTIF('Version 18.03.2020'!$I$5:$I820,"BAM") -> 49 | H4: =SUM(COUNTIFS('Version 18.03.2020'!$I$5:$I820,{"AUTRES";"UID";"CII";"*EA*"})) -> 30 | I4: =COUNTIF('Version 18.03.2020'!$J$5:$J820,"AIR") -> 19 | J4: =COUNTIF('Version 18.03.2020'!$J$5:$J820,"MAR") -> 52 | K4: =COUNTIF('Version 18.03.2020'!$J$5:$J820,"TER") -> 555 | L4: =COUNTA('Version 18.03.2020'!$B$5:$B820) -> 626 | M4: =$L$4/$L$4 -> 1 | P4: DEMANDE | Q4: =COUNTIFS('Version 18.03.2020'!B:B,"*2021*",'Version 18.03.2020'!I:I,"*GSB*") -> 0 | R4: =COUNTIF('Version 18.03.2020'!$I$255:$I820,"3a") -> 126 | S4: =COUNTIF('Version 18.03.2020'!$I$255:$I820,"4e") -> 165 | T4: =COUNTIF('Version 18.03.2020'!$I$255:$I820,"*CNEC*") -> 25 | U4: =COUNTIF('Version 18.03.2020'!$I$255:$I820,"BAM") -> 23 | V4: =SUM(COUNTIFS('Version 18.03.2020'!$I$255:$I820,{"AUTRES";"UID";"CII";"*EA*"})) -> 18 | W4: =COUNTIF('Version 18.03.2020'!$J$255:$J820,"AIR") -> 12 | X4: =COUNTIF('Version 18.03.2020'!$J$255:$J820,"MAR") -> 24 | Y4: =COUNTIF('Version 18.03.2020'!$J$255:$J820,"TER") -> 340 | Z4: =COUNTA('Version 18.03.2020'!$A$255:$A820) -> 0 | AA4: =$Z$4/$Z$4 -> #DIV/0!
B5: CLASSÉE SANS SUITE | C5: =COUNTIFS('Version 18.03.2020'!$I$5:$I820,"*GSB*",'Version 18.03.2020'!$R$5:$R820,"SANS SUITE") -> 0 | D5: =COUNTIFS('Version 18.03.2020'!$I$5:$I820,"3a",'Version 18.03.2020'!$R$5:$R820,"SANS SUITE") -> 10 | E5: =COUNTIFS('Version 18.03.2020'!$I$5:$I820,"4e",'Version 18.03.2020'!$R$5:$R820,"SANS SUITE") -> 16 | F5: =COUNTIFS('Version 18.03.2020'!$I$5:$I820,"*CNEC*",'Version 18.03.2020'!$R$5:$R820,"SANS SUITE") -> 0 | G5: =COUNTIFS('Version 18.03.2020'!$I$5:$I820,"BAM",'Version 18.03.2020'!$R$5:$R820,"SANS SUITE") -> 2 | H5: =SUM(COUNTIFS('Version 18.03.2020'!$I$5:$I820,{"AUTRES";"UID";"CII";"*EA*"},'Version 18.03.2020'!$R$5:$R820,"SANS SUITE")) -> 1 | I5: =COUNTIFS('Version 18.03.2020'!$J$5:$J820,"AIR",'Version 18.03.2020'!$R$5:$R820,"SANS SUITE") -> 0 | J5: =COUNTIFS('Version 18.03.2020'!$J$5:$J820,"MAR",'Version 18.03.2020'!$R$5:$R820,"SANS SUITE") -> 3 | K5: =COUNTIFS('Version 18.03.2020'!$J$5:$J820,"TER",'Version 18.03.2020'!$R$5:$R820,"SANS SUITE") -> 26 | L5: =COUNTIF('Version 18.03.2020'!$R$5:$R820,"SANS SUITE") -> 29 | M5: =$L$5/$L$4 -> 0.046325879 | P5: CLASSÉE SANS SUITE | Q5: =COUNTIFS('Version 18.03.2020'!$I$255:$I820,"*GSB*",'Version 18.03.2020'!$R$255:$R820,"SANS SUITE") -> 0 | R5: =COUNTIFS('Version 18.03.2020'!$I$255:$I820,"3a",'Version 18.03.2020'!$R$255:$R820,"SANS SUITE") -> 4 | S5: =COUNTIFS('Version 18.03.2020'!$I$255:$I820,"4e",'Version 18.03.2020'!$R$255:$R820,"SANS SUITE") -> 5 | T5: =COUNTIFS('Version 18.03.2020'!$I$255:$I820,"*CNEC*",'Version 18.03.2020'!$R$255:$R820,"SANS SUITE") -> 0 | U5: =COUNTIFS('Version 18.03.2020'!$I$255:$I820,"BAM",'Version 18.03.2020'!$R$255:$R820,"SANS SUITE") -> 0 | V5: =SUM(COUNTIFS('Version 18.03.2020'!$I$255:$I820,{"AUTRES";"UID";"CII";"*EA*"},'Version 18.03.2020'!$R$255:$R820,"SANS SUITE")) -> 0 | W5: =COUNTIFS('Version 18.03.2020'!$J$255:$J820,"AIR",'Version 18.03.2020'!$R$255:$R820,"SANS SUITE") -> 0 | X5: =COUNTIFS('Version 18.03.2020'!$J$255:$J820,"MAR",'Version 18.03.2020'!$R$255:$R820,"SANS SUITE") -> 0 | Y5: =COUNTIFS('Version 18.03.2020'!$J$255:$J820,"TER",'Version 18.03.2020'!$R$255:$R820,"SANS SUITE") -> 9 | Z5: =COUNTIF('Version 18.03.2020'!$R$255:$R820,"SANS SUITE") -> 9 | AA5: =$Z$5/$Z$4 -> #DIV/0!
B6: ACCEPTÉE GSB | C6: =COUNTIFS('Version 18.03.2020'!$I$5:$I820,"*GSB*",'Version 18.03.2020'!$R$5:$R820,"ACCEPTÉE") -> 29 | D6: =COUNTIFS('Version 18.03.2020'!$I$5:$I820,"3a",'Version 18.03.2020'!$R$5:$R820,"ACCEPTÉE") -> 175 | E6: =COUNTIFS('Version 18.03.2020'!$I$5:$I820,"4e",'Version 18.03.2020'!$R$5:$R820,"ACCEPTÉE") -> 219 | F6: =COUNTIFS('Version 18.03.2020'!$I$5:$I820,"*CNEC*",'Version 18.03.2020'!$R$5:$R820,"ACCEPTÉE") -> 36 | G6: =COUNTIFS('Version 18.03.2020'!$I$5:$I820,"BAM",'Version 18.03.2020'!$R$5:$R820,"ACCEPTÉE") -> 42 | H6: =SUM(COUNTIFS('Version 18.03.2020'!$I$5:$I820,{"AUTRES";"UID";"CII";"*EA*"},'Version 18.03.2020'!$R$5:$R820,"ACCEPTÉE")) -> 28 | I6: =COUNTIFS('Version 18.03.2020'!$J$5:$J820,"AIR",'Version 18.03.2020'!$R$5:$R820,"ACCEPTÉE") -> 19 | J6: =COUNTIFS('Version 18.03.2020'!$J$5:$J820,"MAR",'Version 18.03.2020'!$R$5:$R820,"ACCEPTÉE") -> 44 | K6: =COUNTIFS('Version 18.03.2020'!$J$5:$J820,"TER",'Version 18.03.2020'!$R$5:$R820,"ACCEPTÉE") -> 466 | L6: =COUNTIF('Version 18.03.2020'!$R$5:$R820,"ACCEPTÉE") -> 529 | M6: =$L$6/$L$4 -> 0.84504792 | P6: ACCEPTÉE GSB | Q6: =COUNTIFS('Version 18.03.2020'!$I$255:$I820,"*GSB*",'Version 18.03.2020'!$R$255:$R820,"ACCEPTÉE") -> 16 | R6: =COUNTIFS('Version 18.03.2020'!$I$255:$I820,"3a",'Version 18.03.2020'!$R$255:$R820,"ACCEPTÉE") -> 111 | S6: =COUNTIFS('Version 18.03.2020'!$I$255:$I820,"4e",'Version 18.03.2020'!$R$255:$R820,"ACCEPTÉE") -> 135 | T6: =COUNTIFS('Version 18.03.2020'!$I$255:$I820,"*CNEC*",'Version 18.03.2020'!$R$255:$R820,"ACCEPTÉE") -> 22 | U6: =COUNTIFS('Version 18.03.2020'!$I$255:$I820,"BAM",'Version 18.03.2020'!$R$255:$R820,"ACCEPTÉE") -> 20 | V6: =SUM(COUNTIFS('Version 18.03.2020'!$I$255:$I820,{"AUTRES";"UID";"CII";"*EA*"},'Version 18.03.2020'!$R$255:$R820,"ACCEPTÉE")) -> 17 | W6: =COUNTIFS('Version 18.03.2020'!$J$255:$J820,"AIR",'Version 18.03.2020'!$R$255:$R820,"ACCEPTÉE") -> 12 | X6: =COUNTIFS('Version 18.03.2020'!$J$255:$J820,"MAR",'Version 18.03.2020'!$R$255:$R820,"ACCEPTÉE") -> 21 | Y6: =COUNTIFS('Version 18.03.2020'!$J$255:$J820,"TER",'Version 18.03.2020'!$R$255:$R820,"ACCEPTÉE") -> 288 | Z6: =COUNTIF('Version 18.03.2020'!$R$255:$R820,"ACCEPTÉE") -> 321 | AA6: =$Z$6/$Z$4 -> #DIV/0!
B7: REFUSÉE GSB | C7: =COUNTIFS('Version 18.03.2020'!$I$5:$I820,"*GSB*",'Version 18.03.2020'!$R$5:$R820,"REFUSÉE") -> 3 | D7: =COUNTIFS('Version 18.03.2020'!$I$5:$I820,"3a",'Version 18.03.2020'!$R$5:$R820,"REFUSÉE") -> 7 | E7: =COUNTIFS('Version 18.03.2020'!$I$5:$I820,"4e",'Version 18.03.2020'!$R$5:$R820,"REFUSÉE") -> 27 | F7: =COUNTIFS('Version 18.03.2020'!$I$5:$I820,"*CNEC*",'Version 18.03.2020'!$R$5:$R820,"REFUSÉE") -> 4 | G7: =COUNTIFS('Version 18.03.2020'!$I$5:$I820,"BAM",'Version 18.03.2020'!$R$5:$R820,"REFUSÉE") -> 3 | H7: =SUM(COUNTIFS('Version 18.03.2020'!$I$5:$I820,{"AUTRES";"UID";"CII";"*EA*"},'Version 18.03.2020'!$R$5:$R820,"REFUSÉE")) -> 0 | I7: =COUNTIFS('Version 18.03.2020'!$J$5:$J820,"AIR",'Version 18.03.2020'!$R$5:$R820,"REFUSÉE") -> 0 | J7: =COUNTIFS('Version 18.03.2020'!$J$5:$J820,"MAR",'Version 18.03.2020'!$R$5:$R820,"REFUSÉE") -> 3 | K7: =COUNTIFS('Version 18.03.2020'!$J$5:$J820,"TER",'Version 18.03.2020'!$R$5:$R820,"REFUSÉE") -> 42 | L7: =COUNTIF('Version 18.03.2020'!$R$5:$R820,"REFUSÉE") -> 45 | M7: =$L$7/$L$4 -> 0.071884984 | P7: REFUSÉE GSB | Q7: =COUNTIFS('Version 18.03.2020'!$I$255:$I820,"*GSB*",'Version 18.03.2020'!$R$255:$R820,"REFUSÉE") -> 2 | R7: =COUNTIFS('Version 18.03.2020'!$I$255:$I820,"3a",'Version 18.03.2020'!$R$255:$R820,"REFUSÉE") -> 3 | S7: =COUNTIFS('Version 18.03.2020'!$I$255:$I820,"4e",'Version 18.03.2020'!$R$255:$R820,"REFUSÉE") -> 14 | T7: =COUNTIFS('Version 18.03.2020'!$I$255:$I820,"*CNEC*",'Version 18.03.2020'!$R$255:$R820,"REFUSÉE") -> 2 | U7: =COUNTIFS('Version 18.03.2020'!$I$255:$I820,"BAM",'Version 18.03.2020'!$R$255:$R820,"REFUSÉE") -> 1 | V7: =SUM(COUNTIFS('Version 18.03.2020'!$I$255:$I820,{"AUTRES";"UID";"CII";"*EA*"},'Version 18.03.2020'!$R$255:$R820,"REFUSÉE")) -> 0 | W7: =COUNTIFS('Version 18.03.2020'!$J$255:$J820,"AIR",'Version 18.03.2020'!$R$255:$R820,"REFUSÉE") -> 0 | X7: =COUNTIFS('Version 18.03.2020'!$J$255:$J820,"MAR",'Version 18.03.2020'!$R$255:$R820,"REFUSÉE") -> 1 | Y7: =COUNTIFS('Version 18.03.2020'!$J$255:$J820,"TER",'Version 18.03.2020'!$R$255:$R820,"REFUSÉE") -> 22 | Z7: =COUNTIF('Version 18.03.2020'!$R$255:$R820,"REFUSÉE") -> 23 | AA7: =$Z$7/$Z$4 -> #DIV/0!
B8: ACCEPTÉE PF | C8: =COUNTIFS('Version 18.03.2020'!$I$5:$I820,"*GSB*",'Version 18.03.2020'!$U$5:$U820,"ACCEPTÉE") -> 29 | D8: =COUNTIFS('Version 18.03.2020'!$I$5:$I820,"3a",'Version 18.03.2020'!$U$5:$U820,"ACCEPTÉE") -> 167 | E8: =COUNTIFS('Version 18.03.2020'!$I$5:$I820,"4e",'Version 18.03.2020'!$U$5:$U820,"ACCEPTÉE") -> 213 | F8: =COUNTIFS('Version 18.03.2020'!$I$5:$I820,"*CNEC*",'Version 18.03.2020'!$U$5:$U820,"ACCEPTÉE") -> 36 | G8: =COUNTIFS('Version 18.03.2020'!$I$5:$I820,"BAM",'Version 18.03.2020'!$U$5:$U820,"ACCEPTÉE") -> 42 | H8: =SUM(COUNTIFS('Version 18.03.2020'!$I$5:$I820,{"AUTRES";"UID";"CII";"*EA*"},'Version 18.03.2020'!$U$5:$U820,"ACCEPTÉE")) -> 28 | I8: =COUNTIFS('Version 18.03.2020'!$J$5:$J820,"AIR",'Version 18.03.2020'!$U$5:$U820,"ACCEPTÉE") -> 19 | J8: =COUNTIFS('Version 18.03.2020'!$J$5:$J820,"MAR",'Version 18.03.2020'!$U$5:$U820,"ACCEPTÉE") -> 44 | K8: =COUNTIFS('Version 18.03.2020'!$J$5:$J820,"TER",'Version 18.03.2020'!$U$5:$U820,"ACCEPTÉE") -> 452 | L8: =COUNTIF('Version 18.03.2020'!$U$5:$U820,"ACCEPTÉE") -> 515 | M8: =$L$8/$L$4 -> 0.82268371 | N8: =$L$8/$L$6 -> 0.97353497 | P8: ACCEPTÉE PF | Q8: =COUNTIFS('Version 18.03.2020'!$I$255:$I820,"*GSB*",'Version 18.03.2020'!$U$255:$U820,"ACCEPTÉE") -> 16 | R8: =COUNTIFS('Version 18.03.2020'!$I$255:$I820,"3a",'Version 18.03.2020'!$U$255:$U820,"ACCEPTÉE") -> 105 | S8: =COUNTIFS('Version 18.03.2020'!$I$255:$I820,"4e",'Version 18.03.2020'!$U$255:$U820,"ACCEPTÉE") -> 131 | T8: =COUNTIFS('Version 18.03.2020'!$I$255:$I820,"*CNEC*",'Version 18.03.2020'!$U$255:$U820,"ACCEPTÉE") -> 22 | U8: =COUNTIFS('Version 18.03.2020'!$I$255:$I820,"BAM",'Version 18.03.2020'!$U$255:$U820,"ACCEPTÉE") -> 20 | V8: =SUM(COUNTIFS('Version 18.03.2020'!$I$255:$I820,{"AUTRES";"UID";"CII";"*EA*"},'Version 18.03.2020'!$U$255:$U820,"ACCEPTÉE")) -> 17 | W8: =COUNTIFS('Version 18.03.2020'!$J$255:$J820,"AIR",'Version 18.03.2020'!$U$255:$U820,"ACCEPTÉE") -> 12 | X8: =COUNTIFS('Version 18.03.2020'!$J$255:$J820,"MAR",'Version 18.03.2020'!$U$255:$U820,"ACCEPTÉE") -> 21 | Y8: =COUNTIFS('Version 18.03.2020'!$J$255:$J820,"TER",'Version 18.03.2020'!$U$255:$U820,"ACCEPTÉE") -> 278 | Z8: =COUNTIF('Version 18.03.2020'!$U$255:$U820,"ACCEPTÉE") -> 311 | AA8: =$Z$8/$Z$4 -> #DIV/0! | AB8: =$Z$8/$Z$6 -> 0.96884735
B9: REFUSÉE PF | C9: =COUNTIFS('Version 18.03.2020'!$I$5:$I820,"*GSB*",'Version 18.03.2020'!$U$5:$U820,"REFUSÉE") -> 0 | D9: =COUNTIFS('Version 18.03.2020'!$I$5:$I820,"3a",'Version 18.03.2020'!$U$5:$U820,"REFUSÉE") -> 3 | E9: =COUNTIFS('Version 18.03.2020'!$I$5:$I820,"4e",'Version 18.03.2020'!$U$5:$U820,"REFUSÉE") -> 3 | F9: =COUNTIFS('Version 18.03.2020'!$I$5:$I820,"*CNEC*",'Version 18.03.2020'!$U$5:$U820,"REFUSÉE") -> 0 | G9: =COUNTIFS('Version 18.03.2020'!$I$5:$I820,"BAM",'Version 18.03.2020'!$U$5:$U820,"REFUSÉE") -> 0 | H9: =SUM(COUNTIFS('Version 18.03.2020'!$I$5:$I820,{"AUTRES";"UID";"CII";"*EA*"},'Version 18.03.2020'!$U$5:$U820,"REFUSÉE")) -> 0 | I9: =COUNTIFS('Version 18.03.2020'!$J$5:$J820,"AIR",'Version 18.03.2020'!$U$5:$U820,"REFUSÉE") -> 0 | J9: =COUNTIFS('Version 18.03.2020'!$J$5:$J820,"MAR",'Version 18.03.2020'!$U$5:$U820,"REFUSÉE") -> 0 | K9: =COUNTIFS('Version 18.03.2020'!$J$5:$J820,"TER",'Version 18.03.2020'!$U$5:$U820,"REFUSÉE") -> 6 | L9: =COUNTIF('Version 18.03.2020'!$U$5:$U820,"REFUSÉE") -> 6 | M9: =$L$9/$L$4 -> 0.0095846645 | N9: =$L$9/$L$6 -> 0.011342155 | P9: REFUSÉE PF | Q9: =COUNTIFS('Version 18.03.2020'!$I$255:$I820,"*GSB*",'Version 18.03.2020'!$U$255:$U820,"REFUSÉE") -> 0 | R9: =COUNTIFS('Version 18.03.2020'!$I$255:$I820,"3a",'Version 18.03.2020'!$U$255:$U820,"REFUSÉE") -> 1 | S9: =COUNTIFS('Version 18.03.2020'!$I$255:$I820,"4e",'Version 18.03.2020'!$U$255:$U820,"REFUSÉE") -> 1 | T9: =COUNTIFS('Version 18.03.2020'!$I$255:$I820,"*CNEC*",'Version 18.03.2020'!$U$255:$U820,"REFUSÉE") -> 0 | U9: =COUNTIFS('Version 18.03.2020'!$I$255:$I820,"BAM",'Version 18.03.2020'!$U$255:$U820,"REFUSÉE") -> 0 | V9: =SUM(COUNTIFS('Version 18.03.2020'!$I$255:$I820,{"AUTRES";"UID";"CII";"*EA*"},'Version 18.03.2020'!$U$255:$U820,"REFUSÉE")) -> 0 | W9: =COUNTIFS('Version 18.03.2020'!$J$255:$J820,"AIR",'Version 18.03.2020'!$U$255:$U820,"REFUSÉE") -> 0 | X9: =COUNTIFS('Version 18.03.2020'!$J$255:$J820,"MAR",'Version 18.03.2020'!$U$255:$U820,"REFUSÉE") -> 0 | Y9: =COUNTIFS('Version 18.03.2020'!$J$255:$J820,"TER",'Version 18.03.2020'!$U$255:$U820,"REFUSÉE") -> 2 | Z9: =COUNTIF('Version 18.03.2020'!$U$255:$U820,"REFUSÉE") -> 2 | AA9: =$Z$9/$Z$4 -> #DIV/0! | AB9: =$Z$9/$Z$6 -> 0.0062305296
B10: NON TRAITÉE PF | C10: =COUNTIFS('Version 18.03.2020'!$I$5:$I820,"*GSB*",'Version 18.03.2020'!$U$5:$U820,"NON TRAITÉE") -> 0 | D10: =COUNTIFS('Version 18.03.2020'!$I$5:$I820,"3a",'Version 18.03.2020'!$U$5:$U820,"NON TRAITÉE") -> 0 | E10: =COUNTIFS('Version 18.03.2020'!$I$5:$I820,"4e",'Version 18.03.2020'!$U$5:$U820,"NON TRAITÉE") -> 0 | F10: =COUNTIFS('Version 18.03.2020'!$I$5:$I820,"*CNEC*",'Version 18.03.2020'!$U$5:$U820,"NON TRAITÉE") -> 0 | G10: =COUNTIFS('Version 18.03.2020'!$I$5:$I820,"BAM",'Version 18.03.2020'!$U$5:$U820,"NON TRAITÉE") -> 0 | H10: =SUM(COUNTIFS('Version 18.03.2020'!$I$5:$I820,{"AUTRES";"UID";"CII";"*EA*"},'Version 18.03.2020'!$U$5:$U820,"NON TRAITÉE")) -> 0 | I10: =COUNTIFS('Version 18.03.2020'!$J$5:$J820,"AIR",'Version 18.03.2020'!$U$5:$U820,"NON TRAITÉE") -> 0 | J10: =COUNTIFS('Version 18.03.2020'!$J$5:$J820,"MAR",'Version 18.03.2020'!$U$5:$U820,"NON TRAITÉE") -> 0 | K10: =COUNTIFS('Version 18.03.2020'!$J$5:$J820,"TER",'Version 18.03.2020'!$U$5:$U820,"NON TRAITÉE") -> 0 | L10: =COUNTIF('Version 18.03.2020'!$U$5:$U820,"NON TRAITÉE") -> 0 | M10: =$L$10/$L$4 -> 0 | N10: =$L$10/$L$6 -> 0 | P10: NON TRAITÉE PF | Q10: =COUNTIFS('Version 18.03.2020'!$I$255:$I820,"*GSB*",'Version 18.03.2020'!$U$255:$U820,"NON TRAITÉE") -> 0 | R10: =COUNTIFS('Version 18.03.2020'!$I$255:$I820,"3a",'Version 18.03.2020'!$U$255:$U820,"NON TRAITÉE") -> 0 | S10: =COUNTIFS('Version 18.03.2020'!$I$255:$I820,"4e",'Version 18.03.2020'!$U$255:$U820,"NON TRAITÉE") -> 0 | T10: =COUNTIFS('Version 18.03.2020'!$I$255:$I820,"*CNEC*",'Version 18.03.2020'!$U$255:$U820,"NON TRAITÉE") -> 0 | U10: =COUNTIFS('Version 18.03.2020'!$I$255:$I820,"BAM",'Version 18.03.2020'!$U$255:$U820,"NON TRAITÉE") -> 0 | V10: =SUM(COUNTIFS('Version 18.03.2020'!$I$255:$I820,{"AUTRES";"UID";"CII";"*EA*"},'Version 18.03.2020'!$U$255:$U820,"NON TRAITÉE")) -> 0 | W10: =COUNTIFS('Version 18.03.2020'!$J$255:$J820,"AIR",'Version 18.03.2020'!$U$255:$U820,"NON TRAITÉE") -> 0 | X10: =COUNTIFS('Version 18.03.2020'!$J$255:$J820,"MAR",'Version 18.03.2020'!$U$255:$U820,"NON TRAITÉE") -> 0 | Y10: =COUNTIFS('Version 18.03.2020'!$J$255:$J820,"TER",'Version 18.03.2020'!$U$255:$U820,"NON TRAITÉE") -> 0 | Z10: =COUNTIF('Version 18.03.2020'!$U$255:$U820,"NON TRAITÉE") -> 0 | AA10: =$Z$10/$Z$4 -> #DIV/0! | AB10: =$Z$10/$Z$6 -> 0
C12: GSB | D12: 3a | E12: 4e | F12: CNEC | G12: BAM | H12: AUTRES | I12: AIR | J12: MAR | K12: TER | L12: TOTAL | M12: % | Q12: GSB | R12: 3a | S12: 4e | T12: CNEC | U12: BAM | V12: AUTRES | W12: AIR | X12: MAR | Y12: TER | Z12: TOTAL | AA12: %
B13: DEMANDE | C13: =COUNTIF('Version 18.03.2020'!$I$5:$I830,"GSB CCN") -> 0 | D13: =COUNTIF('Version 18.03.2020'!$I$5:$I830,"3a") -> 200 | E13: =COUNTIF('Version 18.03.2020'!$I$5:$I830,"4e") -> 273 | F13: =COUNTIF('Version 18.03.2020'!$I$5:$I830,"*CNEC*") -> 41 | G13: =COUNTIF('Version 18.03.2020'!$I$5:$I830,"BAM") -> 49 | H13: =SUM(COUNTIFS('Version 18.03.2020'!$I$5:$I830,{"AUTRES";"UID";"CII";"*EA*"})) -> 30 | I13: =COUNTIF('Version 18.03.2020'!$J$5:$J830,"AIR") -> 19 | J13: =COUNTIF('Version 18.03.2020'!$J$5:$J830,"MAR") -> 52 | K13: =COUNTIF('Version 18.03.2020'!$J$5:$J830,"TER") -> 555 | L13: =COUNTA('Version 18.03.2020'!$A$5:$A830) -> 0 | M13: =$L$4/$L$4 -> 1 | P13: DEMANDE | Q13: =COUNTIF('Version 18.03.2020'!$I$255:$I830,"GSB CCN") -> 0 | R13: =COUNTIF('Version 18.03.2020'!$I$255:$I830,"3a") -> 126 | S13: =COUNTIF('Version 18.03.2020'!$I$255:$I830,"4e") -> 165 | T13: =COUNTIF('Version 18.03.2020'!$I$255:$I830,"*CNEC*") -> 25 | U13: =COUNTIF('Version 18.03.2020'!$I$255:$I830,"BAM") -> 23 | V13: =SUM(COUNTIFS('Version 18.03.2020'!$I$255:$I830,{"AUTRES";"UID";"CII";"*EA*"})) -> 18 | W13: =COUNTIF('Version 18.03.2020'!$J$255:$J830,"AIR") -> 12 | X13: =COUNTIF('Version 18.03.2020'!$J$255:$J830,"MAR") -> 24 | Y13: =COUNTIF('Version 18.03.2020'!$J$255:$J830,"TER") -> 340 | Z13: =COUNTA('Version 18.03.2020'!$A$255:$A830) -> 0 | AA13: =$Z$4/$Z$4 -> #DIV/0!
B14: Conjoint(e)/PACS | C14: =COUNTIFS('Version 18.03.2020'!$I$5:$I830,"*GSB*",'Version 18.03.2020'!$K$5:$K830,"Conjoint(e)/PACS") -> 9 | D14: =COUNTIFS('Version 18.03.2020'!$I$5:$I830,"3a",'Version 18.03.2020'!$K$5:$K830,"Conjoint(e)/PACS") -> 101 | E14: =COUNTIFS('Version 18.03.2020'!$I$5:$I830,"4e",'Version 18.03.2020'!$K$5:$K830,"Conjoint(e)/PACS") -> 128 | F14: =COUNTIFS('Version 18.03.2020'!$I$5:$I830,"*CNEC*",'Version 18.03.2020'!$K$5:$K830,"Conjoint(e)/PACS") -> 14 | G14: =COUNTIFS('Version 18.03.2020'!$I$5:$I830,"BAM",'Version 18.03.2020'!$K$5:$K830,"Conjoint(e)/PACS") -> 18 | H14: =SUM(COUNTIFS('Version 18.03.2020'!$I$5:$I830,{"AUTRES";"UID";"CII";"*EA*"},'Version 18.03.2020'!$K$5:$K830,"Conjoint(e)/PACS")) -> 11 | I14: =COUNTIFS('Version 18.03.2020'!$J$5:$J830,"AIR",'Version 18.03.2020'!$K$5:$K830,"Conjoint(e)/PACS") -> 8 | J14: =COUNTIFS('Version 18.03.2020'!$J$5:$J830,"MAR",'Version 18.03.2020'!$K$5:$K830,"Conjoint(e)/PACS") -> 19 | K14: =COUNTIFS('Version 18.03.2020'!$J$5:$J830,"TER",'Version 18.03.2020'!$K$5:$K830,"Conjoint(e)/PACS") -> 254 | L14: =COUNTIF('Version 18.03.2020'!$K$5:$K830,"Conjoint(e)/PACS") -> 281 | M14: =L14/L13 -> #DIV/0! | P14: Conjoint(e)/PACS | Q14: =COUNTIFS('Version 18.03.2020'!$I$255:$I830,"*GSB*",'Version 18.03.2020'!$K$255:$K830,"Conjoint(e)/PACS") -> 5 | R14: =COUNTIFS('Version 18.03.2020'!$I$255:$I830,"3a",'Version 18.03.2020'!$K$255:$K830,"Conjoint(e)/PACS") -> 67 | S14: =COUNTIFS('Version 18.03.2020'!$I$255:$I830,"4e",'Version 18.03.2020'!$K$255:$K830,"Conjoint(e)/PACS") -> 70 | T14: =COUNTIFS('Version 18.03.2020'!$I$255:$I830,"*CNEC*",'Version 18.03.2020'!$K$255:$K830,"Conjoint(e)/PACS") -> 10 | U14: =COUNTIFS('Version 18.03.2020'!$I$255:$I830,"BAM",'Version 18.03.2020'!$K$255:$K830,"Conjoint(e)/PACS") -> 11 | V14: =SUM(COUNTIFS('Version 18.03.2020'!$I$255:$I830,{"AUTRES";"UID";"CII";"*EA*"},'Version 18.03.2020'!$K$255:$K830,"Conjoint(e)/PACS")) -> 6 | W14: =COUNTIFS('Version 18.03.2020'!$J$255:$J830,"AIR",'Version 18.03.2020'!$K$255:$K830,"Conjoint(e)/PACS") -> 4 | X14: =COUNTIFS('Version 18.03.2020'!$J$255:$J830,"MAR",'Version 18.03.2020'!$K$255:$K830,"Conjoint(e)/PACS") -> 12 | Y14: =COUNTIFS('Version 18.03.2020'!$J$255:$J830,"TER",'Version 18.03.2020'!$K$255:$K830,"Conjoint(e)/PACS") -> 153 | Z14: =COUNTIF('Version 18.03.2020'!$K$255:$K830,"Conjoint(e)/PACS") -> 169 | AA14: =Z14/Z13 -> #DIV/0!
B15: Enfant mineur | C15: =COUNTIFS('Version 18.03.2020'!$I$5:$I831,"*GSB*",'Version 18.03.2020'!$K$5:$K831,"Enfant mineur") -> 19 | D15: =COUNTIFS('Version 18.03.2020'!$I$5:$I831,"3a",'Version 18.03.2020'!$K$5:$K831,"Enfant mineur") -> 74 | E15: =COUNTIFS('Version 18.03.2020'!$I$5:$I831,"4e",'Version 18.03.2020'!$K$5:$K831,"Enfant mineur") -> 126 | F15: =COUNTIFS('Version 18.03.2020'!$I$5:$I831,"*CNEC*",'Version 18.03.2020'!$K$5:$K831,"Enfant mineur") -> 25 | G15: =COUNTIFS('Version 18.03.2020'!$I$5:$I831,"BAM",'Version 18.03.2020'!$K$5:$K831,"Enfant mineur") -> 28 | H15: =SUM(COUNTIFS('Version 18.03.2020'!$I$5:$I831,{"AUTRES";"UID";"CII";"*EA*"},'Version 18.03.2020'!$K$5:$K831,"Enfant mineur")) -> 17 | I15: =COUNTIFS('Version 18.03.2020'!$J$5:$J831,"AIR",'Version 18.03.2020'!$K$5:$K831,"Enfant mineur") -> 11 | J15: =COUNTIFS('Version 18.03.2020'!$J$5:$J831,"MAR",'Version 18.03.2020'!$K$5:$K831,"Enfant mineur") -> 30 | K15: =COUNTIFS('Version 18.03.2020'!$J$5:$J831,"TER",'Version 18.03.2020'!$K$5:$K831,"Enfant mineur") -> 249 | L15: =COUNTIF('Version 18.03.2020'!$K$5:$K831,"Enfant mineur") -> 290 | M15: =L15/L13 -> #DIV/0! | P15: Enfant mineur | Q15: =COUNTIFS('Version 18.03.2020'!$I$255:$I831,"*GSB*",'Version 18.03.2020'!$K$255:$K831,"Enfant mineur") -> 11 | R15: =COUNTIFS('Version 18.03.2020'!$I$255:$I831,"3a",'Version 18.03.2020'!$K$255:$K831,"Enfant mineur") -> 43 | S15: =COUNTIFS('Version 18.03.2020'!$I$255:$I831,"4e",'Version 18.03.2020'!$K$255:$K831,"Enfant mineur") -> 83 | T15: =COUNTIFS('Version 18.03.2020'!$I$255:$I831,"*CNEC*",'Version 18.03.2020'!$K$255:$K831,"Enfant mineur") -> 13 | U15: =COUNTIFS('Version 18.03.2020'!$I$255:$I831,"BAM",'Version 18.03.2020'!$K$255:$K831,"Enfant mineur") -> 11 | V15: =SUM(COUNTIFS('Version 18.03.2020'!$I$255:$I831,{"AUTRES";"UID";"CII";"*EA*"},'Version 18.03.2020'!$K$255:$K831,"Enfant mineur")) -> 11 | W15: =COUNTIFS('Version 18.03.2020'!$J$255:$J831,"AIR",'Version 18.03.2020'!$K$255:$K831,"Enfant mineur") -> 8 | X15: =COUNTIFS('Version 18.03.2020'!$J$255:$J831,"MAR",'Version 18.03.2020'!$K$255:$K831,"Enfant mineur") -> 11 | Y15: =COUNTIFS('Version 18.03.2020'!$J$255:$J831,"TER",'Version 18.03.2020'!$K$255:$K831,"Enfant mineur") -> 154 | Z15: =COUNTIF('Version 18.03.2020'!$K$255:$K831,"Enfant mineur") -> 173 | AA15: =Z15/Z13 -> #DIV/0!
B16: Enfant majeur | C16: =COUNTIFS('Version 18.03.2020'!$I$5:$I832,"*GSB*",'Version 18.03.2020'!$K$5:$K832,"Enfant majeur") -> 4 | D16: =COUNTIFS('Version 18.03.2020'!$I$5:$I832,"3a",'Version 18.03.2020'!$K$5:$K832,"Enfant majeur") -> 25 | E16: =COUNTIFS('Version 18.03.2020'!$I$5:$I832,"4e",'Version 18.03.2020'!$K$5:$K832,"Enfant majeur") -> 19 | F16: =COUNTIFS('Version 18.03.2020'!$I$5:$I832,"*CNEC*",'Version 18.03.2020'!$K$5:$K832,"Enfant majeur") -> 2 | G16: =COUNTIFS('Version 18.03.2020'!$I$5:$I832,"BAM",'Version 18.03.2020'!$K$5:$K832,"Enfant majeur") -> 2 | H16: =SUM(COUNTIFS('Version 18.03.2020'!$I$5:$I832,{"AUTRES";"UID";"CII";"*EA*"},'Version 18.03.2020'!$K$5:$K832,"Enfant majeur")) -> 2 | I16: =COUNTIFS('Version 18.03.2020'!$J$5:$J832,"AIR",'Version 18.03.2020'!$K$5:$K832,"Enfant majeur") -> 0 | J16: =COUNTIFS('Version 18.03.2020'!$J$5:$J832,"MAR",'Version 18.03.2020'!$K$5:$K832,"Enfant majeur") -> 2 | K16: =COUNTIFS('Version 18.03.2020'!$J$5:$J832,"TER",'Version 18.03.2020'!$K$5:$K832,"Enfant majeur") -> 52 | L16: =COUNTIF('Version 18.03.2020'!$K$5:$K832,"Enfant majeur") -> 54 | M16: =L16/L13 -> #DIV/0! | P16: Enfant majeur | Q16: =COUNTIFS('Version 18.03.2020'!$I$255:$I832,"*GSB*",'Version 18.03.2020'!$K$255:$K832,"Enfant majeur") -> 2 | R16: =COUNTIFS('Version 18.03.2020'!$I$255:$I832,"3a",'Version 18.03.2020'!$K$255:$K832,"Enfant majeur") -> 16 | S16: =COUNTIFS('Version 18.03.2020'!$I$255:$I832,"4e",'Version 18.03.2020'!$K$255:$K832,"Enfant majeur") -> 12 | T16: =COUNTIFS('Version 18.03.2020'!$I$255:$I832,"*CNEC*",'Version 18.03.2020'!$K$255:$K832,"Enfant majeur") -> 2 | U16: =COUNTIFS('Version 18.03.2020'!$I$255:$I832,"BAM",'Version 18.03.2020'!$K$255:$K832,"Enfant majeur") -> 1 | V16: =SUM(COUNTIFS('Version 18.03.2020'!$I$255:$I832,{"AUTRES";"UID";"CII";"*EA*"},'Version 18.03.2020'!$K$255:$K832,"Enfant majeur")) -> 1 | W16: =COUNTIFS('Version 18.03.2020'!$J$255:$J832,"AIR",'Version 18.03.2020'!$K$255:$K832,"Enfant majeur") -> 0 | X16: =COUNTIFS('Version 18.03.2020'!$J$255:$J832,"MAR",'Version 18.03.2020'!$K$255:$K832,"Enfant majeur") -> 1 | Y16: =COUNTIFS('Version 18.03.2020'!$J$255:$J832,"TER",'Version 18.03.2020'!$K$255:$K832,"Enfant majeur") -> 33 | Z16: =COUNTIF('Version 18.03.2020'!$K$255:$K832,"Enfant majeur") -> 34 | AA16: =Z16/Z13 -> #DIV/0!
C18: GSB | D18: 3a | E18: 4e | F18: CNEC | G18: BAM | H18: AUTRES | I18: AIR | J18: MAR | K18: TER | L18: TOTAL | Q18: GSB | R18: 3a | S18: 4e | T18: CNEC | U18: BAM | V18: AUTRES | W18: AIR | X18: MAR | Y18: TER | Z18: TOTAL
B19: Administrés différents | C19: ='Version 18.03.2020'!AF3 -> 32 | D19: ='Version 18.03.2020'!AG3 -> 200 | E19: ='Version 18.03.2020'!AH3 -> 273 | F19: ='Version 18.03.2020'!AI3 -> 41 | G19: ='Version 18.03.2020'!AJ3 -> 49 | H19: ='Version 18.03.2020'!AK3 -> 30 | I19: ='Version 18.03.2020'!AL3 -> 19 | J19: ='Version 18.03.2020'!AM3 -> 52 | K19: ='Version 18.03.2020'!AN3 -> 555 | L19: {=SUM(IF('Version 18.03.2020'!F5:F820<>"",1/COUNTIF('Version 18.03.2020'!F5:F820,'Version 18.03.2020'!F5:F820)))} -> 626 | P19: Administrés différents | Q19: ='Version 18.03.2020'!AF2 -> 18 | R19: ='Version 18.03.2020'!AG2 -> 126 | S19: ='Version 18.03.2020'!AH2 -> 165 | T19: ='Version 18.03.2020'!AI2 -> 25 | U19: ='Version 18.03.2020'!AJ2 -> 23 | V19: ='Version 18.03.2020'!AK2 -> 18 | W19: ='Version 18.03.2020'!AL2 -> 12 | X19: ='Version 18.03.2020'!AM2 -> 24 | Y19: ='Version 18.03.2020'!AN2 -> 340 | Z19: {=SUM(IF('Version 18.03.2020'!F255:F820<>"",1/COUNTIF('Version 18.03.2020'!F255:F820,'Version 18.03.2020'!F255:F820)))} -> 376
B20: % | C20: =C19/$L$19 -> 0.051118211 | D20: =D19/$L$19 -> 0.31948882 | E20: =E19/$L$19 -> 0.43610224 | F20: =F19/$L$19 -> 0.065495208 | G20: =G19/$L$19 -> 0.07827476 | H20: =H19/$L$19 -> 0.047923323 | I20: =I19/$L$19 -> 0.030351438 | J20: =J19/$L$19 -> 0.083067093 | K20: =K19/$L$19 -> 0.88658147 | L20: 1 | P20: % | Q20: =Q19/$Z$19 -> 0.04787234 | R20: =R19/$Z$19 -> 0.33510638 | S20: =S19/$Z$19 -> 0.43882979 | T20: =T19/$Z$19 -> 0.066489362 | U20: =U19/$Z$19 -> 0.061170213 | V20: =V19/$Z$19 -> 0.04787234 | W20: =W19/$Z$19 -> 0.031914894 | X20: =X19/$Z$19 -> 0.063829787 | Y20: =Y19/$Z$19 -> 0.90425532 | Z20: 1
H22: =COUNTIF('Version 18.03.2020'!$I$255:$I820,"*GSB*") -> 18
B67: Étiquettes de lignes | C67: Nombre de NOM
B68: 3a | C68: 52
B69: 4e | C69: 65
B70: AUTRES | C70: 3
B71: BAM | C71: 16
B72: CNEC MTL | C72: 8
B73: EA NBE | C73: 3
B74: GSB CCN | C74: 8
B75: (vide)
B76: Total général | C76: 155
B78: Étiquettes de lignes | C78: Nombre de CCS
B79: Conjoint(e)/PACS | C79: 71
B80: 3a | C80: 24
B81: 4e | C81: 36
B82: BAM | C82: 6
B83: CNEC MTL | C83: 1
B84: EA NBE | C84: 2
B85: GSB CCN | C85: 2
B86: Enfant majeur | C86: 13
B87: 3a | C87: 6
B88: 4e | C88: 4
B89: AUTRES | C89: 1
...
