Workbook

Sheet Version 18.03.2020
AE2: =SUM(AE255:AE820) -> 376 | AF2: =SUM(AF255:AF820) -> 18 | AG2: =SUM(AG255:AG820) -> 126 | AH2: =SUM(AH255:AH820) -> 165 | AI2: =SUM(AI255:AI820) -> 25 | AJ2: =SUM(AJ255:AJ820) -> 23 | AK2: =SUM(AK255:AK820) -> 18 | AL2: =SUM(AL255:AL820) -> 12 | ... AN2: =SUM(AN255:AN820) -> 340
C3: DEMANDEUR | K3: PORTEUR | AE3: =SUM(AE5:AE820) -> 626 | AF3: =SUM(AF5:AF820) -> 32 | AG3: =SUM(AG5:AG820) -> 200 | AH3: =SUM(AH5:AH820) -> 273 | AI3: =SUM(AI5:AI820) -> 41 | AJ3: =SUM(AJ5:AJ820) -> 49 | AK3: =SUM(AK5:AK820) -> 30 | AL3: =SUM(AL5:AL820) -> 19 | ... AN3: =SUM(AN5:AN820) -> 555
A4: N° DOSSIER | B4: DÉPOSÉ LE | C4: GRADE | D4: NOM | E4: PRENOM | F4: NID | G4: CCS | H4: VALIDITÉ | I4: AFFECTATION | J4: ARMÉE | K4: Type porteur | L4: NOM | M4: PRENOM | N4: DATE NAISSANCE | O4: AGE | P4: SIRH OK | Q4: PHOTO OK | R4: STATUT | S4: ACCEPTÉE / REFUSÉE / EN COURS LE | T4: RETOUR PF LE | U4: Acceptée ou refusée | V4: VALIDE JUSQU'AU | W4: N° CARTE | X4: SIGNATURE FP LE | Y4: DOSSIER ARCHIVÉ | Z4: OBS | AA4: CONTACT | AB4: Relance | AC4: Détruit le | AE4: NID <> | AF4: NID <> GSB | AG4: NID <> 3a | AH4: NID <> 4e | AI4: NID <> CNEC | AJ4: NID <> BAM | AK4: NID <> AUTRES | AL4: NID <> AIR | AM4: NID <> MAR | AN4: NID <> TER
B5: 43907 | F5: 1 | I5: 4E | J5: TER | K5: Conjoint(e)/PACS | O5: =TODAY()-N5 -> 44593 | P5: NON | Q5: NON | R5: REFUSÉE | S5: 43920 | Y5: 43920 | AE5: =IF(COUNTIF($F$5:$F5,F5)>1,"0",COUNTIF($F$5:$F5,F5)) -> 1 | AF5: =COUNTIF($I5,"*GSB*")*$AE5 -> 0 | AG5: =COUNTIF($I5,"3a")*$AE5 -> 0 | AH5: =COUNTIF($I5,"4e")*$AE5 -> 1 | AI5: =COUNTIF($I5,"*CNEC*")*$AE5 -> 0 | AJ5: =COUNTIF($I5,"BAM")*$AE5 -> 0 | AK5: =(COUNTIF($I5,"AUTRES")+COUNTIF($I5,"UID")+COUNTIF($I5,"CII")+COUNTIF($I5,"EAE"))*$AE5 -> 0 | AL5: =COUNTIF($J5,"AIR")*$AE5 -> 0 | AM5: =COUNTIF($J5,"MAR")*$AE5 -> 0 | AN5: =COUNTIF($J5,"TER")*$AE5 -> 1
B6: 43914 | F6: 2 | I6: 3a | J6: TER | K6: Conjoint(e)/PACS | O6: =TODAY()-N6 -> 44593 | P6: OUI | Q6: OK | R6: ACCEPTÉE | S6: 44236 | T6: 44256 | U6: ACCEPTÉE | V6: 45760 | X6: 44278 | Y6: 44256 | AB6: 44014 | AE6: =IF(COUNTIF($F$5:$F6,F6)>1,"0",COUNTIF($F$5:$F6,F6)) -> 1 | AF6: =COUNTIF($I6,"*GSB*")*$AE6 -> 0 | AG6: =COUNTIF($I6,"3a")*$AE6 -> 1 | AH6: =COUNTIF($I6,"4e")*$AE6 -> 0 | AI6: =COUNTIF($I6,"*CNEC*")*$AE6 -> 0 | AJ6: =COUNTIF($I6,"BAM")*$AE6 -> 0 | AK6: =(COUNTIF($I6,"AUTRES")+COUNTIF($I6,"UID")+COUNTIF($I6,"CII")+COUNTIF($I6,"EAE"))*$AE6 -> 0 | AL6: =COUNTIF($J6,"AIR")*$AE6 -> 0 | AM6: =COUNTIF($J6,"MAR")*$AE6 -> 0 | AN6: =COUNTIF($J6,"TER")*$AE6 -> 1
B7: 43910 | F7: 3 | I7: 3a | J7: TER | K7: Conjoint(e)/PACS | O7: =TODAY()-N7 -> 44593 | P7: OUI | Q7: OK | R7: ACCEPTÉE | S7: 43920 | T7: 43964 | U7: ACCEPTÉE | V7: 45144 | X7: 43979 | Y7: 43965 | AE7: =IF(COUNTIF($F$5:$F7,F7)>1,"0",COUNTIF($F$5:$F7,F7)) -> 1 | AF7: =COUNTIF($I7,"*GSB*")*$AE7 -> 0 | AG7: =COUNTIF($I7,"3a")*$AE7 -> 1 | AH7: =COUNTIF($I7,"4e")*$AE7 -> 0 | AI7: =COUNTIF($I7,"*CNEC*")*$AE7 -> 0 | AJ7: =COUNTIF($I7,"BAM")*$AE7 -> 0 | AK7: =(COUNTIF($I7,"AUTRES")+COUNTIF($I7,"UID")+COUNTIF($I7,"CII")+COUNTIF($I7,"EAE"))*$AE7 -> 0 | AL7: =COUNTIF($J7,"AIR")*$AE7 -> 0 | AM7: =COUNTIF($J7,"MAR")*$AE7 -> 0 | AN7: =COUNTIF($J7,"TER")*$AE7 -> 1
B8: 43910 | F8: 4 | I8: 3a | J8: TER | K8: Enfant mineur | O8: =TODAY()-N8 -> 44593 | P8: OUI | Q8: OK | R8: ACCEPTÉE | S8: 43920 | T8: 43964 | U8: ACCEPTÉE | V8: 44960 | X8: 43979 | Y8: 43965 | AE8: =IF(COUNTIF($F$5:$F8,F8)>1,"0",COUNTIF($F$5:$F8,F8)) -> 1 | AF8: =COUNTIF($I8,"*GSB*")*$AE8 -> 0 | AG8: =COUNTIF($I8,"3a")*$AE8 -> 1 | AH8: =COUNTIF($I8,"4e")*$AE8 -> 0 | AI8: =COUNTIF($I8,"*CNEC*")*$AE8 -> 0 | AJ8: =COUNTIF($I8,"BAM")*$AE8 -> 0 | AK8: =(COUNTIF($I8,"AUTRES")+COUNTIF($I8,"UID")+COUNTIF($I8,"CII")+COUNTIF($I8,"EAE"))*$AE8 -> 0 | AL8: =COUNTIF($J8,"AIR")*$AE8 -> 0 | AM8: =COUNTIF($J8,"MAR")*$AE8 -> 0 | AN8: =COUNTIF($J8,"TER")*$AE8 -> 1
B9: 43913 | F9: 5 | I9: 4E | J9: TER | K9: Conjoint(e)/PACS | O9: =TODAY()-N9 -> 44593 | P9: OUI | Q9: OK | R9: ACCEPTÉE | S9: 43927 | T9: 43964 | U9: ACCEPTÉE | V9: 44557 | X9: 43969 | Y9: 43965 | AE9: =IF(COUNTIF($F$5:$F9,F9)>1,"0",COUNTIF($F$5:$F9,F9)) -> 1 | AF9: =COUNTIF($I9,"*GSB*")*$AE9 -> 0 | AG9: =COUNTIF($I9,"3a")*$AE9 -> 0 | AH9: =COUNTIF($I9,"4e")*$AE9 -> 1 | AI9: =COUNTIF($I9,"*CNEC*")*$AE9 -> 0 | AJ9: =COUNTIF($I9,"BAM")*$AE9 -> 0 | AK9: =(COUNTIF($I9,"AUTRES")+COUNTIF($I9,"UID")+COUNTIF($I9,"CII")+COUNTIF($I9,"EAE"))*$AE9 -> 0 | AL9: =COUNTIF($J9,"AIR")*$AE9 -> 0 | AM9: =COUNTIF($J9,"MAR")*$AE9 -> 0 | AN9: =COUNTIF($J9,"TER")*$AE9 -> 1
B10: 43913 | F10: 6 | I10: BAM | J10: MAR | K10: Enfant mineur | O10: =TODAY()-N10 -> 44593 | P10: OUI | Q10: OK | R10: ACCEPTÉE | S10: 44314 | T10: 44326 | U10: ACCEPTÉE | V10: 46148 | X10: 44337 | Y10: 44326 | AB10: 44014 | AE10: =IF(COUNTIF($F$5:$F10,F10)>1,"0",COUNTIF($F$5:$F10,F10)) -> 1 | AF10: =COUNTIF($I10,"*GSB*")*$AE10 -> 0 | AG10: =COUNTIF($I10,"3a")*$AE10 -> 0 | AH10: =COUNTIF($I10,"4e")*$AE10 -> 0 | AI10: =COUNTIF($I10,"*CNEC*")*$AE10 -> 0 | AJ10: =COUNTIF($I10,"BAM")*$AE10 -> 1 | AK10: =(COUNTIF($I10,"AUTRES")+COUNTIF($I10,"UID")+COUNTIF($I10,"CII")+COUNTIF($I10,"EAE"))*$AE10 -> 0 | AL10: =COUNTIF($J10,"AIR")*$AE10 -> 0 | AM10: =COUNTIF($J10,"MAR")*$AE10 -> 1 | AN10: =COUNTIF($J10,"TER")*$AE10 -> 0
B11: 43913 | F11: 7 | I11: BAM | J11: MAR | K11: Enfant mineur | O11: =TODAY()-N11 -> 44593 | P11: OUI | Q11: OK | R11: ACCEPTÉE | S11: 44314 | T11: 44326 | U11: ACCEPTÉE | V11: 46094 | X11: 44337 | Y11: 44326 | AB11: 44014 | AE11: =IF(COUNTIF($F$5:$F11,F11)>1,"0",COUNTIF($F$5:$F11,F11)) -> 1 | AF11: =COUNTIF($I11,"*GSB*")*$AE11 -> 0 | AG11: =COUNTIF($I11,"3a")*$AE11 -> 0 | AH11: =COUNTIF($I11,"4e")*$AE11 -> 0 | AI11: =COUNTIF($I11,"*CNEC*")*$AE11 -> 0 | AJ11: =COUNTIF($I11,"BAM")*$AE11 -> 1 | AK11: =(COUNTIF($I11,"AUTRES")+COUNTIF($I11,"UID")+COUNTIF($I11,"CII")+COUNTIF($I11,"EAE"))*$AE11 -> 0 | AL11: =COUNTIF($J11,"AIR")*$AE11 -> 0 | AM11: =COUNTIF($J11,"MAR")*$AE11 -> 1 | AN11: =COUNTIF($J11,"TER")*$AE11 -> 0
B12: 43914 | F12: 8 | I12: 3a | J12: TER | K12: Conjoint(e)/PACS | O12: =TODAY()-N12 -> 44593 | P12: OUI | Q12: OK | R12: ACCEPTÉE | S12: 43938 | T12: 43964 | U12: ACCEPTÉE | V12: 45781 | X12: 43979 | Y12: 43965 | AE12: =IF(COUNTIF($F$5:$F12,F12)>1,"0",COUNTIF($F$5:$F12,F12)) -> 1 | AF12: =COUNTIF($I12,"*GSB*")*$AE12 -> 0 | AG12: =COUNTIF($I12,"3a")*$AE12 -> 1 | AH12: =COUNTIF($I12,"4e")*$AE12 -> 0 | AI12: =COUNTIF($I12,"*CNEC*")*$AE12 -> 0 | AJ12: =COUNTIF($I12,"BAM")*$AE12 -> 0 | AK12: =(COUNTIF($I12,"AUTRES")+COUNTIF($I12,"UID")+COUNTIF($I12,"CII")+COUNTIF($I12,"EAE"))*$AE12 -> 0 | AL12: =COUNTIF($J12,"AIR")*$AE12 -> 0 | AM12: =COUNTIF($J12,"MAR")*$AE12 -> 0 | AN12: =COUNTIF($J12,"TER")*$AE12 -> 1
B13: 43914 | F13: 9 | I13: 3a | J13: TER | K13: Enfant mineur | O13: =TODAY()-N13 -> 44593 | P13: OUI | Q13: OK | R13: ACCEPTÉE | S13: 43938 | T13: 43964 | U13: ACCEPTÉE | V13: 45781 | X13: 43979 | Y13: 43965 | AE13: =IF(COUNTIF($F$5:$F13,F13)>1,"0",COUNTIF($F$5:$F13,F13)) -> 1 | AF13: =COUNTIF($I13,"*GSB*")*$AE13 -> 0 | AG13: =COUNTIF($I13,"3a")*$AE13 -> 1 | AH13: =COUNTIF($I13,"4e")*$AE13 -> 0 | AI13: =COUNTIF($I13,"*CNEC*")*$AE13 -> 0 | AJ13: =COUNTIF($I13,"BAM")*$AE13 -> 0 | AK13: =(COUNTIF($I13,"AUTRES")+COUNTIF($I13,"UID")+COUNTIF($I13,"CII")+COUNTIF($I13,"EAE"))*$AE13 -> 0 | AL13: =COUNTIF($J13,"AIR")*$AE13 -> 0 | AM13: =COUNTIF($J13,"MAR")*$AE13 -> 0 | AN13: =COUNTIF($J13,"TER")*$AE13 -> 1
B14: 43914 | F14: 10 | I14: 3a | J14: TER | K14: Enfant mineur | O14: =TODAY()-N14 -> 44593 | P14: OUI | Q14: OK | R14: ACCEPTÉE | S14: 43938 | T14: 43964 | U14: ACCEPTÉE | V14: 45781 | X14: 43979 | Y14: 43965 | AE14: =IF(COUNTIF($F$5:$F14,F14)>1,"0",COUNTIF($F$5:$F14,F14)) -> 1 | AF14: =COUNTIF($I14,"*GSB*")*$AE14 -> 0 | AG14: =COUNTIF($I14,"3a")*$AE14 -> 1 | AH14: =COUNTIF($I14,"4e")*$AE14 -> 0 | AI14: =COUNTIF($I14,"*CNEC*")*$AE14 -> 0 | AJ14: =COUNTIF($I14,"BAM")*$AE14 -> 0 | AK14: =(COUNTIF($I14,"AUTRES")+COUNTIF($I14,"UID")+COUNTIF($I14,"CII")+COUNTIF($I14,"EAE"))*$AE14 -> 0 | AL14: =COUNTIF($J14,"AIR")*$AE14 -> 0 | AM14: =COUNTIF($J14,"MAR")*$AE14 -> 0 | AN14: =COUNTIF($J14,"TER")*$AE14 -> 1
B15: 43915 | F15: 11 | I15: 3a | J15: TER | K15: Enfant mineur | O15: =TODAY()-N15 -> 44593 | P15: OUI | Q15: OK | R15: ACCEPTÉE | S15: 44236 | T15: 44256 | U15: ACCEPTÉE | V15: 44462 | X15: 44278 | Y15: 44256 | AB15: 44014 | AE15: =IF(COUNTIF($F$5:$F15,F15)>1,"0",COUNTIF($F$5:$F15,F15)) -> 1 | AF15: =COUNTIF($I15,"*GSB*")*$AE15 -> 0 | AG15: =COUNTIF($I15,"3a")*$AE15 -> 1 | AH15: =COUNTIF($I15,"4e")*$AE15 -> 0 | AI15: =COUNTIF($I15,"*CNEC*")*$AE15 -> 0 | AJ15: =COUNTIF($I15,"BAM")*$AE15 -> 0 | AK15: =(COUNTIF($I15,"AUTRES")+COUNTIF($I15,"UID")+COUNTIF($I15,"CII")+COUNTIF($I15,"EAE"))*$AE15 -> 0 | AL15: =COUNTIF($J15,"AIR")*$AE15 -> 0 | AM15: =COUNTIF($J15,"MAR")*$AE15 -> 0 | AN15: =COUNTIF($J15,"TER")*$AE15 -> 1
B16: 43920 | F16: 12 | I16: BAM | J16: MAR | K16: Conjoint(e)/PACS | O16: =TODAY()-N16 -> 44593 | P16: OUI | Q16: OK | R16: ACCEPTÉE | S16: 43923 | T16: 43964 | U16: ACCEPTÉE | V16: 45781 | X16: 43971 | Y16: 43965 | AE16: =IF(COUNTIF($F$5:$F16,F16)>1,"0",COUNTIF($F$5:$F16,F16)) -> 1 | AF16: =COUNTIF($I16,"*GSB*")*$AE16 -> 0 | AG16: =COUNTIF($I16,"3a")*$AE16 -> 0 | AH16: =COUNTIF($I16,"4e")*$AE16 -> 0 | AI16: =COUNTIF($I16,"*CNEC*")*$AE16 -> 0 | AJ16: =COUNTIF($I16,"BAM")*$AE16 -> 1 | AK16: =(COUNTIF($I16,"AUTRES")+COUNTIF($I16,"UID")+COUNTIF($I16,"CII")+COUNTIF($I16,"EAE"))*$AE16 -> 0 | AL16: =COUNTIF($J16,"AIR")*$AE16 -> 0 | AM16: =COUNTIF($J16,"MAR")*$AE16 -> 1 | AN16: =COUNTIF($J16,"TER")*$AE16 -> 0
B17: 43920 | F17: 13 | I17: BAM | J17: MAR | K17: Enfant mineur | O17: =TODAY()-N17 -> 44593 | P17: OUI | Q17: OK | R17: ACCEPTÉE | S17: 43923 | T17: 43964 | U17: ACCEPTÉE | V17: 45781 | X17: 43971 | Y17: 43965 | AE17: =IF(COUNTIF($F$5:$F17,F17)>1,"0",COUNTIF($F$5:$F17,F17)) -> 1 | AF17: =COUNTIF($I17,"*GSB*")*$AE17 -> 0 | AG17: =COUNTIF($I17,"3a")*$AE17 -> 0 | AH17: =COUNTIF($I17,"4e")*$AE17 -> 0 | AI17: =COUNTIF($I17,"*CNEC*")*$AE17 -> 0 | AJ17: =COUNTIF($I17,"BAM")*$AE17 -> 1 | AK17: =(COUNTIF($I17,"AUTRES")+COUNTIF($I17,"UID")+COUNTIF($I17,"CII")+COUNTIF($I17,"EAE"))*$AE17 -> 0 | AL17: =COUNTIF($J17,"AIR")*$AE17 -> 0 | AM17: =COUNTIF($J17,"MAR")*$AE17 -> 1 | AN17: =COUNTIF($J17,"TER")*$AE17 -> 0
B18: 43920 | F18: 14 | I18: BAM | J18: MAR | K18: Enfant mineur | O18: =TODAY()-N18 -> 44593 | P18: OUI | Q18: OK | R18: SANS SUITE | S18: 43922 | Y18: 43922 | AE18: =IF(COUNTIF($F$5:$F18,F18)>1,"0",COUNTIF($F$5:$F18,F18)) -> 1 | AF18: =COUNTIF($I18,"*GSB*")*$AE18 -> 0 | AG18: =COUNTIF($I18,"3a")*$AE18 -> 0 | AH18: =COUNTIF($I18,"4e")*$AE18 -> 0 | AI18: =COUNTIF($I18,"*CNEC*")*$AE18 -> 0 | AJ18: =COUNTIF($I18,"BAM")*$AE18 -> 1 | AK18: =(COUNTIF($I18,"AUTRES")+COUNTIF($I18,"UID")+COUNTIF($I18,"CII")+COUNTIF($I18,"EAE"))*$AE18 -> 0 | AL18: =COUNTIF($J18,"AIR")*$AE18 -> 0 | AM18: =COUNTIF($J18,"MAR")*$AE18 -> 1 | AN18: =COUNTIF($J18,"TER")*$AE18 -> 0
B19: 44333 | F19: 15 | I19: 3a | J19: TER | K19: Conjoint(e)/PACS | O19: =TODAY()-N19 -> 44593 | P19: OUI | Q19: OK | R19: ACCEPTÉE | S19: 44334 | T19: 44347 | U19: ACCEPTÉE | V19: 44685 | X19: 44347 | Y19: 44347 | AE19: =IF(COUNTIF($F$5:$F19,F19)>1,"0",COUNTIF($F$5:$F19,F19)) -> 1 | AF19: =COUNTIF($I19,"*GSB*")*$AE19 -> 0 | AG19: =COUNTIF($I19,"3a")*$AE19 -> 1 | AH19: =COUNTIF($I19,"4e")*$AE19 -> 0 | AI19: =COUNTIF($I19,"*CNEC*")*$AE19 -> 0 | AJ19: =COUNTIF($I19,"BAM")*$AE19 -> 0 | AK19: =(COUNTIF($I19,"AUTRES")+COUNTIF($I19,"UID")+COUNTIF($I19,"CII")+COUNTIF($I19,"EAE"))*$AE19 -> 0 | AL19: =COUNTIF($J19,"AIR")*$AE19 -> 0 | AM19: =COUNTIF($J19,"MAR")*$AE19 -> 0 | AN19: =COUNTIF($J19,"TER")*$AE19 -> 1
B20: 44298 | F20: 16 | I20: 3a | J20: TER | K20: Conjoint(e)/PACS | O20: =TODAY()-N20 -> 44593 | P20: NON | Q20: NON | R20: REFUSÉE | S20: 44298 | Y20: 44298 | AE20: =IF(COUNTIF($F$5:$F20,F20)>1,"0",COUNTIF($F$5:$F20,F20)) -> 1 | AF20: =COUNTIF($I20,"*GSB*")*$AE20 -> 0 | AG20: =COUNTIF($I20,"3a")*$AE20 -> 1 | AH20: =COUNTIF($I20,"4e")*$AE20 -> 0 | AI20: =COUNTIF($I20,"*CNEC*")*$AE20 -> 0 | AJ20: =COUNTIF($I20,"BAM")*$AE20 -> 0 | AK20: =(COUNTIF($I20,"AUTRES")+COUNTIF($I20,"UID")+COUNTIF($I20,"CII")+COUNTIF($I20,"EAE"))*$AE20 -> 0 | AL20: =COUNTIF($J20,"AIR")*$AE20 -> 0 | AM20: =COUNTIF($J20,"MAR")*$AE20 -> 0 | AN20: =COUNTIF($J20,"TER")*$AE20 -> 1
B21: 43922 | F21: 17 | I21: AUTRES | J21: AIR | K21: Enfant mineur | O21: =TODAY()-N21 -> 44593 | P21: OUI | Q21: OK | R21: ACCEPTÉE | S21: 43922 | T21: 43964 | U21: ACCEPTÉE | V21: 44229 | X21: 43985 | Y21: 43965 | AC21: 44327 | AE21: =IF(COUNTIF($F$5:$F21,F21)>1,"0",COUNTIF($F$5:$F21,F21)) -> 1 | AF21: =COUNTIF($I21,"*GSB*")*$AE21 -> 0 | AG21: =COUNTIF($I21,"3a")*$AE21 -> 0 | AH21: =COUNTIF($I21,"4e")*$AE21 -> 0 | AI21: =COUNTIF($I21,"*CNEC*")*$AE21 -> 0 | AJ21: =COUNTIF($I21,"BAM")*$AE21 -> 0 | AK21: =(COUNTIF($I21,"AUTRES")+COUNTIF($I21,"UID")+COUNTIF($I21,"CII")+COUNTIF($I21,"EAE"))*$AE21 -> 1 | AL21: =COUNTIF($J21,"AIR")*$AE21 -> 1 | AM21: =COUNTIF($J21,"MAR")*$AE21 -> 0 | AN21: =COUNTIF($J21,"TER")*$AE21 -> 0
B22: 44295 | F22: 18 | I22: 3a | J22: TER | K22: Enfant mineur | O22: =TODAY()-N22 -> 44593 | P22: OUI | Q22: OK | R22: ACCEPTÉE | S22: 44298 | T22: 44305 | U22: ACCEPTÉE | V22: 45613 | X22: 44315 | Y22: 44305 | AE22: =IF(COUNTIF($F$5:$F22,F22)>1,"0",COUNTIF($F$5:$F22,F22)) -> 1 | AF22: =COUNTIF($I22,"*GSB*")*$AE22 -> 0 | AG22: =COUNTIF($I22,"3a")*$AE22 -> 1 | AH22: =COUNTIF($I22,"4e")*$AE22 -> 0 | AI22: =COUNTIF($I22,"*CNEC*")*$AE22 -> 0 | AJ22: =COUNTIF($I22,"BAM")*$AE22 -> 0 | AK22: =(COUNTIF($I22,"AUTRES")+COUNTIF($I22,"UID")+COUNTIF($I22,"CII")+COUNTIF($I22,"EAE"))*$AE22 -> 0 | AL22: =COUNTIF($J22,"AIR")*$AE22 -> 0 | AM22: =COUNTIF($J22,"MAR")*$AE22 -> 0 | AN22: =COUNTIF($J22,"TER")*$AE22 -> 1
B23: 44295 | F23: 19 | I23: 3a | J23: TER | K23: Enfant mineur | O23: =TODAY()-N23 -> 44593 | P23: OUI | Q23: OK | R23: ACCEPTÉE | S23: 44298 | T23: 44305 | U23: ACCEPTÉE | V23: 45613 | X23: 44315 | Y23: 44305 | AE23: =IF(COUNTIF($F$5:$F23,F23)>1,"0",COUNTIF($F$5:$F23,F23)) -> 1 | AF23: =COUNTIF($I23,"*GSB*")*$AE23 -> 0 | AG23: =COUNTIF($I23,"3a")*$AE23 -> 1 | AH23: =COUNTIF($I23,"4e")*$AE23 -> 0 | AI23: =COUNTIF($I23,"*CNEC*")*$AE23 -> 0 | AJ23: =COUNTIF($I23,"BAM")*$AE23 -> 0 | AK23: =(COUNTIF($I23,"AUTRES")+COUNTIF($I23,"UID")+COUNTIF($I23,"CII")+COUNTIF($I23,"EAE"))*$AE23 -> 0 | AL23: =COUNTIF($J23,"AIR")*$AE23 -> 0 | AM23: =COUNTIF($J23,"MAR")*$AE23 -> 0 | AN23: =COUNTIF($J23,"TER")*$AE23 -> 1
B24: 43923 | F24: 20 | I24: BAM | J24: MAR | K24: Conjoint(e)/PACS | O24: =TODAY()-N24 -> 44593 | P24: OUI | Q24: NON | R24: REFUSÉE | S24: 43927 | Y24: 43927 | AE24: =IF(COUNTIF($F$5:$F24,F24)>1,"0",COUNTIF($F$5:$F24,F24)) -> 1 | AF24: =COUNTIF($I24,"*GSB*")*$AE24 -> 0 | AG24: =COUNTIF($I24,"3a")*$AE24 -> 0 | AH24: =COUNTIF($I24,"4e")*$AE24 -> 0 | AI24: =COUNTIF($I24,"*CNEC*")*$AE24 -> 0 | AJ24: =COUNTIF($I24,"BAM")*$AE24 -> 1 | AK24: =(COUNTIF($I24,"AUTRES")+COUNTIF($I24,"UID")+COUNTIF($I24,"CII")+COUNTIF($I24,"EAE"))*$AE24 -> 0 | AL24: =COUNTIF($J24,"AIR")*$AE24 -> 0 | AM24: =COUNTIF($J24,"MAR")*$AE24 -> 1 | AN24: =COUNTIF($J24,"TER")*$AE24 -> 0
B25: 43923 | F25: 21 | I25: BAM | J25: MAR | K25: Enfant mineur | O25: =TODAY()-N25 -> 44593 | P25: OUI | Q25: NON | R25: REFUSÉE | S25: 43927 | Y25: 43927 | AE25: =IF(COUNTIF($F$5:$F25,F25)>1,"0",COUNTIF($F$5:$F25,F25)) -> 1 | AF25: =COUNTIF($I25,"*GSB*")*$AE25 -> 0 | AG25: =COUNTIF($I25,"3a")*$AE25 -> 0 | AH25: =COUNTIF($I25,"4e")*$AE25 -> 0 | AI25: =COUNTIF($I25,"*CNEC*")*$AE25 -> 0 | AJ25: =COUNTIF($I25,"BAM")*$AE25 -> 1 | AK25: =(COUNTIF($I25,"AUTRES")+COUNTIF($I25,"UID")+COUNTIF($I25,"CII")+COUNTIF($I25,"EAE"))*$AE25 -> 0 | AL25: =COUNTIF($J25,"AIR")*$AE25 -> 0 | AM25: =COUNTIF($J25,"MAR")*$AE25 -> 1 | AN25: =COUNTIF($J25,"TER")*$AE25 -> 0
B26: 43927 | F26: 22 | I26: 3a | J26: TER | K26: Enfant mineur | O26: =TODAY()-N26 -> 44593 | P26: OUI | Q26: OK | R26: ACCEPTÉE | S26: 43969 | T26: 43978 | U26: ACCEPTÉE | V26: 44811 | X26: 44012 | Y26: 43978 | AE26: =IF(COUNTIF($F$5:$F26,F26)>1,"0",COUNTIF($F$5:$F26,F26)) -> 1 | AF26: =COUNTIF($I26,"*GSB*")*$AE26 -> 0 | AG26: =COUNTIF($I26,"3a")*$AE26 -> 1 | AH26: =COUNTIF($I26,"4e")*$AE26 -> 0 | AI26: =COUNTIF($I26,"*CNEC*")*$AE26 -> 0 | AJ26: =COUNTIF($I26,"BAM")*$AE26 -> 0 | AK26: =(COUNTIF($I26,"AUTRES")+COUNTIF($I26,"UID")+COUNTIF($I26,"CII")+COUNTIF($I26,"EAE"))*$AE26 -> 0 | AL26: =COUNTIF($J26,"AIR")*$AE26 -> 0 | AM26: =COUNTIF($J26,"MAR")*$AE26 -> 0 | AN26: =COUNTIF($J26,"TER")*$AE26 -> 1
B27: 43927 | F27: 23 | I27: 3a | J27: TER | K27: Enfant mineur | O27: =TODAY()-N27 -> 44593 | P27: OUI | Q27: OK | R27: ACCEPTÉE | S27: 43969 | T27: 43978 | U27: ACCEPTÉE | V27: 45361 | X27: 44012 | Y27: 43978 | AE27: =IF(COUNTIF($F$5:$F27,F27)>1,"0",COUNTIF($F$5:$F27,F27)) -> 1 | AF27: =COUNTIF($I27,"*GSB*")*$AE27 -> 0 | AG27: =COUNTIF($I27,"3a")*$AE27 -> 1 | AH27: =COUNTIF($I27,"4e")*$AE27 -> 0 | AI27: =COUNTIF($I27,"*CNEC*")*$AE27 -> 0 | AJ27: =COUNTIF($I27,"BAM")*$AE27 -> 0 | AK27: =(COUNTIF($I27,"AUTRES")+COUNTIF($I27,"UID")+COUNTIF($I27,"CII")+COUNTIF($I27,"EAE"))*$AE27 -> 0 | AL27: =COUNTIF($J27,"AIR")*$AE27 -> 0 | AM27: =COUNTIF($J27,"MAR")*$AE27 -> 0 | AN27: =COUNTIF($J27,"TER")*$AE27 -> 1
B28: 43930 | F28: 24 | I28: 3a | J28: TER | K28: Conjoint(e)/PACS | O28: =TODAY()-N28 -> 44593 | P28: OUI | Q28: OK | R28: ACCEPTÉE | S28: 43977 | T28: 43992 | U28: ACCEPTÉE | V28: 45140 | X28: 43994 | Y28: 43992 | AE28: =IF(COUNTIF($F$5:$F28,F28)>1,"0",COUNTIF($F$5:$F28,F28)) -> 1 | AF28: =COUNTIF($I28,"*GSB*")*$AE28 -> 0 | AG28: =COUNTIF($I28,"3a")*$AE28 -> 1 | AH28: =COUNTIF($I28,"4e")*$AE28 -> 0 | AI28: =COUNTIF($I28,"*CNEC*")*$AE28 -> 0 | AJ28: =COUNTIF($I28,"BAM")*$AE28 -> 0 | AK28: =(COUNTIF($I28,"AUTRES")+COUNTIF($I28,"UID")+COUNTIF($I28,"CII")+COUNTIF($I28,"EAE"))*$AE28 -> 0 | AL28: =COUNTIF($J28,"AIR")*$AE28 -> 0 | AM28: =COUNTIF($J28,"MAR")*$AE28 -> 0 | AN28: =COUNTIF($J28,"TER")*$AE28 -> 1
B29: 43930 | F29: 25 | I29: 3a | J29: TER | K29: Enfant mineur | O29: =TODAY()-N29 -> 44593 | P29: OUI | Q29: OK | R29: ACCEPTÉE | S29: 43977 | T29: 43992 | U29: ACCEPTÉE | V29: 45140 | X29: 43994 | Y29: 43992 | AE29: =IF(COUNTIF($F$5:$F29,F29)>1,"0",COUNTIF($F$5:$F29,F29)) -> 1 | AF29: =COUNTIF($I29,"*GSB*")*$AE29 -> 0 | AG29: =COUNTIF($I29,"3a")*$AE29 -> 1 | AH29: =COUNTIF($I29,"4e")*$AE29 -> 0 | AI29: =COUNTIF($I29,"*CNEC*")*$AE29 -> 0 | AJ29: =COUNTIF($I29,"BAM")*$AE29 -> 0 | AK29: =(COUNTIF($I29,"AUTRES")+COUNTIF($I29,"UID")+COUNTIF($I29,"CII")+COUNTIF($I29,"EAE"))*$AE29 -> 0 | AL29: =COUNTIF($J29,"AIR")*$AE29 -> 0 | AM29: =COUNTIF($J29,"MAR")*$AE29 -> 0 | AN29: =COUNTIF($J29,"TER")*$AE29 -> 1
B30: 43930 | F30: 26 | I30: 3a | J30: TER | K30: Enfant mineur | O30: =TODAY()-N30 -> 44593 | P30: OUI | Q30: OK | R30: REFUSÉE | S30: 43977 | Y30: 43977 | AE30: =IF(COUNTIF($F$5:$F30,F30)>1,"0",COUNTIF($F$5:$F30,F30)) -> 1 | AF30: =COUNTIF($I30,"*GSB*")*$AE30 -> 0 | AG30: =COUNTIF($I30,"3a")*$AE30 -> 1 | AH30: =COUNTIF($I30,"4e")*$AE30 -> 0 | AI30: =COUNTIF($I30,"*CNEC*")*$AE30 -> 0 | AJ30: =COUNTIF($I30,"BAM")*$AE30 -> 0 | AK30: =(COUNTIF($I30,"AUTRES")+COUNTIF($I30,"UID")+COUNTIF($I30,"CII")+COUNTIF($I30,"EAE"))*$AE30 -> 0 | AL30: =COUNTIF($J30,"AIR")*$AE30 -> 0 | AM30: =COUNTIF($J30,"MAR")*$AE30 -> 0 | AN30: =COUNTIF($J30,"TER")*$AE30 -> 1
B31: 43935 | F31: 27 | I31: 4E | J31: TER | K31: Conjoint(e)/PACS | O31: =TODAY()-N31 -> 44593 | P31: OUI | Q31: NON | R31: REFUSÉE | S31: 43937 | Y31: 43937 | AE31: =IF(COUNTIF($F$5:$F31,F31)>1,"0",COUNTIF($F$5:$F31,F31)) -> 1 | AF31: =COUNTIF($I31,"*GSB*")*$AE31 -> 0 | AG31: =COUNTIF($I31,"3a")*$AE31 -> 0 | AH31: =COUNTIF($I31,"4e")*$AE31 -> 1 | AI31: =COUNTIF($I31,"*CNEC*")*$AE31 -> 0 | AJ31: =COUNTIF($I31,"BAM")*$AE31 -> 0 | AK31: =(COUNTIF($I31,"AUTRES")+COUNTIF($I31,"UID")+COUNTIF($I31,"CII")+COUNTIF($I31,"EAE"))*$AE31 -> 0 | AL31: =COUNTIF($J31,"AIR")*$AE31 -> 0 | AM31: =COUNTIF($J31,"MAR")*$AE31 -> 0 | AN31: =COUNTIF($J31,"TER")*$AE31 -> 1
B32: 43944 | F32: 28 | I32: 4E | J32: TER | K32: Enfant mineur | O32: =TODAY()-N32 -> 44593 | P32: OUI | Q32: OK | R32: ACCEPTÉE | S32: 43945 | T32: 43964 | U32: ACCEPTÉE | V32: 45099 | X32: 43969 | Y32: 43965 | AE32: =IF(COUNTIF($F$5:$F32,F32)>1,"0",COUNTIF($F$5:$F32,F32)) -> 1 | AF32: =COUNTIF($I32,"*GSB*")*$AE32 -> 0 | AG32: =COUNTIF($I32,"3a")*$AE32 -> 0 | AH32: =COUNTIF($I32,"4e")*$AE32 -> 1 | AI32: =COUNTIF($I32,"*CNEC*")*$AE32 -> 0 | AJ32: =COUNTIF($I32,"BAM")*$AE32 -> 0 | AK32: =(COUNTIF($I32,"AUTRES")+COUNTIF($I32,"UID")+COUNTIF($I32,"CII")+COUNTIF($I32,"EAE"))*$AE32 -> 0 | AL32: =COUNTIF($J32,"AIR")*$AE32 -> 0 | AM32: =COUNTIF($J32,"MAR")*$AE32 -> 0 | AN32: =COUNTIF($J32,"TER")*$AE32 -> 1
B33: 43935 | F33: 29 | I33: 4E | J33: TER | K33: Enfant mineur | O33: =TODAY()-N33 -> 44593 | P33: NON | Q33: NON | R33: REFUSÉE | S33: 43937 | Y33: 43937 | AE33: =IF(COUNTIF($F$5:$F33,F33)>1,"0",COUNTIF($F$5:$F33,F33)) -> 1 | AF33: =COUNTIF($I33,"*GSB*")*$AE33 -> 0 | AG33: =COUNTIF($I33,"3a")*$AE33 -> 0 | AH33: =COUNTIF($I33,"4e")*$AE33 -> 1 | AI33: =COUNTIF($I33,"*CNEC*")*$AE33 -> 0 | AJ33: =COUNTIF($I33,"BAM")*$AE33 -> 0 | AK33: =(COUNTIF($I33,"AUTRES")+COUNTIF($I33,"UID")+COUNTIF($I33,"CII")+COUNTIF($I33,"EAE"))*$AE33 -> 0 | AL33: =COUNTIF($J33,"AIR")*$AE33 -> 0 | AM33: =COUNTIF($J33,"MAR")*$AE33 -> 0 | AN33: =COUNTIF($J33,"TER")*$AE33 -> 1
B34: 43944 | F34: 30 | I34: 3a | J34: TER | K34: Conjoint(e)/PACS | O34: =TODAY()-N34 -> 44593 | P34: OUI | Q34: OK | R34: ACCEPTÉE | S34: 44049 | T34: 44056 | U34: REFUSÉE | Y34: 44056 | AB34: 44014 | AE34: =IF(COUNTIF($F$5:$F34,F34)>1,"0",COUNTIF($F$5:$F34,F34)) -> 1 | AF34: =COUNTIF($I34,"*GSB*")*$AE34 -> 0 | AG34: =COUNTIF($I34,"3a")*$AE34 -> 1 | AH34: =COUNTIF($I34,"4e")*$AE34 -> 0 | AI34: =COUNTIF($I34,"*CNEC*")*$AE34 -> 0 | AJ34: =COUNTIF($I34,"BAM")*$AE34 -> 0 | AK34: =(COUNTIF($I34,"AUTRES")+COUNTIF($I34,"UID")+COUNTIF($I34,"CII")+COUNTIF($I34,"EAE"))*$AE34 -> 0 | AL34: =COUNTIF($J34,"AIR")*$AE34 -> 0 | AM34: =COUNTIF($J34,"MAR")*$AE34 -> 0 | AN34: =COUNTIF($J34,"TER")*$AE34 -> 1
B35: 43938 | F35: 31 | I35: 3a | J35: TER | K35: Conjoint(e)/PACS | O35: =TODAY()-N35 -> 44593 | P35: OUI | Q35: OK | R35: ACCEPTÉE | S35: 43977 | T35: 43992 | U35: ACCEPTÉE | V35: 45626 | X35: 44004 | Y35: 43992 | AE35: =IF(COUNTIF($F$5:$F35,F35)>1,"0",COUNTIF($F$5:$F35,F35)) -> 1 | AF35: =COUNTIF($I35,"*GSB*")*$AE35 -> 0 | AG35: =COUNTIF($I35,"3a")*$AE35 -> 1 | AH35: =COUNTIF($I35,"4e")*$AE35 -> 0 | AI35: =COUNTIF($I35,"*CNEC*")*$AE35 -> 0 | AJ35: =COUNTIF($I35,"BAM")*$AE35 -> 0 | AK35: =(COUNTIF($I35,"AUTRES")+COUNTIF($I35,"UID")+COUNTIF($I35,"CII")+COUNTIF($I35,"EAE"))*$AE35 -> 0 | AL35: =COUNTIF($J35,"AIR")*$AE35 -> 0 | AM35: =COUNTIF($J35,"MAR")*$AE35 -> 0 | AN35: =COUNTIF($J35,"TER")*$AE35 -> 1
B36: 43942 | F36: 32 | I36: BAM | J36: MAR | K36: Conjoint(e)/PACS | O36: =TODAY()-N36 -> 44593 | P36: OUI | Q36: OK | R36: ACCEPTÉE | S36: 43944 | T36: 43964 | U36: ACCEPTÉE | V36: 44225 | X36: 43998 | Y36: 43965 | AE36: =IF(COUNTIF($F$5:$F36,F36)>1,"0",COUNTIF($F$5:$F36,F36)) -> 1 | AF36: =COUNTIF($I36,"*GSB*")*$AE36 -> 0 | AG36: =COUNTIF($I36,"3a")*$AE36 -> 0 | AH36: =COUNTIF($I36,"4e")*$AE36 -> 0 | AI36: =COUNTIF($I36,"*CNEC*")*$AE36 -> 0 | AJ36: =COUNTIF($I36,"BAM")*$AE36 -> 1 | AK36: =(COUNTIF($I36,"AUTRES")+COUNTIF($I36,"UID")+COUNTIF($I36,"CII")+COUNTIF($I36,"EAE"))*$AE36 -> 0 | AL36: =COUNTIF($J36,"AIR")*$AE36 -> 0 | AM36: =COUNTIF($J36,"MAR")*$AE36 -> 1 | AN36: =COUNTIF($J36,"TER")*$AE36 -> 0
B37: 43943 | F37: 33 | I37: 3a | J37: TER | K37: Enfant majeur | O37: =TODAY()-N37 -> 44593 | P37: OUI | Q37: OK | R37: ACCEPTÉE | S37: 43944 | T37: 43964 | U37: ACCEPTÉE | V37: 45760 | X37: 43979 | Y37: 43965 | AE37: =IF(COUNTIF($F$5:$F37,F37)>1,"0",COUNTIF($F$5:$F37,F37)) -> 1 | AF37: =COUNTIF($I37,"*GSB*")*$AE37 -> 0 | AG37: =COUNTIF($I37,"3a")*$AE37 -> 1 | AH37: =COUNTIF($I37,"4e")*$AE37 -> 0 | AI37: =COUNTIF($I37,"*CNEC*")*$AE37 -> 0 | AJ37: =COUNTIF($I37,"BAM")*$AE37 -> 0 | AK37: =(COUNTIF($I37,"AUTRES")+COUNTIF($I37,"UID")+COUNTIF($I37,"CII")+COUNTIF($I37,"EAE"))*$AE37 -> 0 | AL37: =COUNTIF($J37,"AIR")*$AE37 -> 0 | AM37: =COUNTIF($J37,"MAR")*$AE37 -> 0 | AN37: =COUNTIF($J37,"TER")*$AE37 -> 1
B38: 43944 | F38: 34 | I38: 4E | J38: TER | K38: Conjoint(e)/PACS | O38: =TODAY()-N38 -> 44593 | P38: OUI | Q38: OK | R38: ACCEPTÉE | S38: 43944 | T38: 43964 | U38: ACCEPTÉE | V38: 45704 | X38: 43980 | Y38: 43965 | AE38: =IF(COUNTIF($F$5:$F38,F38)>1,"0",COUNTIF($F$5:$F38,F38)) -> 1 | AF38: =COUNTIF($I38,"*GSB*")*$AE38 -> 0 | AG38: =COUNTIF($I38,"3a")*$AE38 -> 0 | AH38: =COUNTIF($I38,"4e")*$AE38 -> 1 | AI38: =COUNTIF($I38,"*CNEC*")*$AE38 -> 0 | AJ38: =COUNTIF($I38,"BAM")*$AE38 -> 0 | AK38: =(COUNTIF($I38,"AUTRES")+COUNTIF($I38,"UID")+COUNTIF($I38,"CII")+COUNTIF($I38,"EAE"))*$AE38 -> 0 | AL38: =COUNTIF($J38,"AIR")*$AE38 -> 0 | AM38: =COUNTIF($J38,"MAR")*$AE38 -> 0 | AN38: =COUNTIF($J38,"TER")*$AE38 -> 1
B39: 43944 | F39: 35 | I39: 4E | J39: TER | K39: Enfant mineur | O39: =TODAY()-N39 -> 44593 | P39: OUI | Q39: OK | R39: ACCEPTÉE | S39: 43944 | T39: 43964 | U39: ACCEPTÉE | V39: 45704 | X39: 43980 | Y39: 43965 | AE39: =IF(COUNTIF($F$5:$F39,F39)>1,"0",COUNTIF($F$5:$F39,F39)) -> 1 | AF39: =COUNTIF($I39,"*GSB*")*$AE39 -> 0 | AG39: =COUNTIF($I39,"3a")*$AE39 -> 0 | AH39: =COUNTIF($I39,"4e")*$AE39 -> 1 | AI39: =COUNTIF($I39,"*CNEC*")*$AE39 -> 0 | AJ39: =COUNTIF($I39,"BAM")*$AE39 -> 0 | AK39: =(COUNTIF($I39,"AUTRES")+COUNTIF($I39,"UID")+COUNTIF($I39,"CII")+COUNTIF($I39,"EAE"))*$AE39 -> 0 | AL39: =COUNTIF($J39,"AIR")*$AE39 -> 0 | AM39: =COUNTIF($J39,"MAR")*$AE39 -> 0 | AN39: =COUNTIF($J39,"TER")*$AE39 -> 1
B40: 43944 | F40: 36 | I40: 4E | J40: TER | K40: Enfant majeur | O40: =TODAY()-N40 -> 44593 | P40: OUI | Q40: OK | R40: ACCEPTÉE | S40: 43944 | T40: 43964 | U40: ACCEPTÉE | V40: 45704 | X40: 43980 | Y40: 43965 | AE40: =IF(COUNTIF($F$5:$F40,F40)>1,"0",COUNTIF($F$5:$F40,F40)) -> 1 | AF40: =COUNTIF($I40,"*GSB*")*$AE40 -> 0 | AG40: =COUNTIF($I40,"3a")*$AE40 -> 0 | AH40: =COUNTIF($I40,"4e")*$AE40 -> 1 | AI40: =COUNTIF($I40,"*CNEC*")*$AE40 -> 0 | AJ40: =COUNTIF($I40,"BAM")*$AE40 -> 0 | AK40: =(COUNTIF($I40,"AUTRES")+COUNTIF($I40,"UID")+COUNTIF($I40,"CII")+COUNTIF($I40,"EAE"))*$AE40 -> 0 | AL40: =COUNTIF($J40,"AIR")*$AE40 -> 0 | AM40: =COUNTIF($J40,"MAR")*$AE40 -> 0 | AN40: =COUNTIF($J40,"TER")*$AE40 -> 1
B41: 43944 | F41: 37 | I41: 3a | J41: TER | K41: Conjoint(e)/PACS | O41: =TODAY()-N41 -> 44593 | P41: OUI | Q41: OK | R41: ACCEPTÉE | S41: 43944 | T41: 43964 | U41: ACCEPTÉE | V41: 45760 | X41: 43979 | Y41: 43965 | AE41: =IF(COUNTIF($F$5:$F41,F41)>1,"0",COUNTIF($F$5:$F41,F41)) -> 1 | AF41: =COUNTIF($I41,"*GSB*")*$AE41 -> 0 | AG41: =COUNTIF($I41,"3a")*$AE41 -> 1 | AH41: =COUNTIF($I41,"4e")*$AE41 -> 0 | AI41: =COUNTIF($I41,"*CNEC*")*$AE41 -> 0 | AJ41: =COUNTIF($I41,"BAM")*$AE41 -> 0 | AK41: =(COUNTIF($I41,"AUTRES")+COUNTIF($I41,"UID")+COUNTIF($I41,"CII")+COUNTIF($I41,"EAE"))*$AE41 -> 0 | AL41: =COUNTIF($J41,"AIR")*$AE41 -> 0 | AM41: =COUNTIF($J41,"MAR")*$AE41 -> 0 | AN41: =COUNTIF($J41,"TER")*$AE41 -> 1
B42: 43944 | F42: 38 | I42: 4E | J42: TER | K42: Enfant mineur | O42: =TODAY()-N42 -> 44593 | P42: OUI | Q42: NON | R42: SANS SUITE | S42: 43945 | Y42: 43945 | AE42: =IF(COUNTIF($F$5:$F42,F42)>1,"0",COUNTIF($F$5:$F42,F42)) -> 1 | AF42: =COUNTIF($I42,"*GSB*")*$AE42 -> 0 | AG42: =COUNTIF($I42,"3a")*$AE42 -> 0 | AH42: =COUNTIF($I42,"4e")*$AE42 -> 1 | AI42: =COUNTIF($I42,"*CNEC*")*$AE42 -> 0 | AJ42: =COUNTIF($I42,"BAM")*$AE42 -> 0 | AK42: =(COUNTIF($I42,"AUTRES")+COUNTIF($I42,"UID")+COUNTIF($I42,"CII")+COUNTIF($I42,"EAE"))*$AE42 -> 0 | AL42: =COUNTIF($J42,"AIR")*$AE42 -> 0 | AM42: =COUNTIF($J42,"MAR")*$AE42 -> 0 | AN42: =COUNTIF($J42,"TER")*$AE42 -> 1
B43: 43948 | F43: 39 | I43: 4E | J43: TER | K43: Conjoint(e)/PACS | O43: =TODAY()-N43 -> 44593 | P43: OUI | Q43: OK | R43: ACCEPTÉE | S43: 43965 | T43: 43977 | U43: ACCEPTÉE | V43: 44804 | X43: 43985 | Y43: 43977 | AE43: =IF(COUNTIF($F$5:$F43,F43)>1,"0",COUNTIF($F$5:$F43,F43)) -> 1 | AF43: =COUNTIF($I43,"*GSB*")*$AE43 -> 0 | AG43: =COUNTIF($I43,"3a")*$AE43 -> 0 | AH43: =COUNTIF($I43,"4e")*$AE43 -> 1 | AI43: =COUNTIF($I43,"*CNEC*")*$AE43 -> 0 | AJ43: =COUNTIF($I43,"BAM")*$AE43 -> 0 | AK43: =(COUNTIF($I43,"AUTRES")+COUNTIF($I43,"UID")+COUNTIF($I43,"CII")+COUNTIF($I43,"EAE"))*$AE43 -> 0 | AL43: =COUNTIF($J43,"AIR")*$AE43 -> 0 | AM43: =COUNTIF($J43,"MAR")*$AE43 -> 0 | AN43: =COUNTIF($J43,"TER")*$AE43 -> 1
B44: 44005 | F44: 40 | I44: 4E | J44: TER | K44: Conjoint(e)/PACS | O44: =TODAY()-N44 -> 44593 | P44: NON | Q44: NON | R44: REFUSÉE | S44: 44006 | Y44: 44006 | AE44: =IF(COUNTIF($F$5:$F44,F44)>1,"0",COUNTIF($F$5:$F44,F44)) -> 1 | AF44: =COUNTIF($I44,"*GSB*")*$AE44 -> 0 | AG44: =COUNTIF($I44,"3a")*$AE44 -> 0 | AH44: =COUNTIF($I44,"4e")*$AE44 -> 1 | AI44: =COUNTIF($I44,"*CNEC*")*$AE44 -> 0 | AJ44: =COUNTIF($I44,"BAM")*$AE44 -> 0 | AK44: =(COUNTIF($I44,"AUTRES")+COUNTIF($I44,"UID")+COUNTIF($I44,"CII")+COUNTIF($I44,"EAE"))*$AE44 -> 0 | AL44: =COUNTIF($J44,"AIR")*$AE44 -> 0 | AM44: =COUNTIF($J44,"MAR")*$AE44 -> 0 | AN44: =COUNTIF($J44,"TER")*$AE44 -> 1
B45: 43950 | F45: 41 | I45: 3a | J45: TER | K45: Conjoint(e)/PACS | O45: =TODAY()-N45 -> 44593 | P45: OUI | Q45: EN ATT MODIF | R45: SANS SUITE | S45: 44132 | Y45: 44132 | AB45: 44014 | AE45: =IF(COUNTIF($F$5:$F45,F45)>1,"0",COUNTIF($F$5:$F45,F45)) -> 1 | AF45: =COUNTIF($I45,"*GSB*")*$AE45 -> 0 | AG45: =COUNTIF($I45,"3a")*$AE45 -> 1 | AH45: =COUNTIF($I45,"4e")*$AE45 -> 0 | AI45: =COUNTIF($I45,"*CNEC*")*$AE45 -> 0 | AJ45: =COUNTIF($I45,"BAM")*$AE45 -> 0 | AK45: =(COUNTIF($I45,"AUTRES")+COUNTIF($I45,"UID")+COUNTIF($I45,"CII")+COUNTIF($I45,"EAE"))*$AE45 -> 0 | AL45: =COUNTIF($J45,"AIR")*$AE45 -> 0 | AM45: =COUNTIF($J45,"MAR")*$AE45 -> 0 | AN45: =COUNTIF($J45,"TER")*$AE45 -> 1
B46: 43971 | F46: 42 | I46: 3a | J46: TER | K46: Enfant mineur | O46: =TODAY()-N46 -> 44593 | P46: OUI | Q46: OK | R46: ACCEPTÉE | S46: 43977 | T46: 43992 | U46: ACCEPTÉE | V46: 44899 | X46: 44001 | Y46: 43992 | AE46: =IF(COUNTIF($F$5:$F46,F46)>1,"0",COUNTIF($F$5:$F46,F46)) -> 1 | AF46: =COUNTIF($I46,"*GSB*")*$AE46 -> 0 | AG46: =COUNTIF($I46,"3a")*$AE46 -> 1 | AH46: =COUNTIF($I46,"4e")*$AE46 -> 0 | AI46: =COUNTIF($I46,"*CNEC*")*$AE46 -> 0 | AJ46: =COUNTIF($I46,"BAM")*$AE46 -> 0 | AK46: =(COUNTIF($I46,"AUTRES")+COUNTIF($I46,"UID")+COUNTIF($I46,"CII")+COUNTIF($I46,"EAE"))*$AE46 -> 0 | AL46: =COUNTIF($J46,"AIR")*$AE46 -> 0 | AM46: =COUNTIF($J46,"MAR")*$AE46 -> 0 | AN46: =COUNTIF($J46,"TER")*$AE46 -> 1
B47: 43956 | F47: 43 | I47: 3a | J47: TER | K47: Enfant majeur | O47: =TODAY()-N47 -> 44593 | P47: OUI | Q47: OK | R47: ACCEPTÉE | S47: 43965 | T47: 43977 | U47: ACCEPTÉE | V47: 45760 | X47: 43984 | Y47: 43977 | AE47: =IF(COUNTIF($F$5:$F47,F47)>1,"0",COUNTIF($F$5:$F47,F47)) -> 1 | AF47: =COUNTIF($I47,"*GSB*")*$AE47 -> 0 | AG47: =COUNTIF($I47,"3a")*$AE47 -> 1 | AH47: =COUNTIF($I47,"4e")*$AE47 -> 0 | AI47: =COUNTIF($I47,"*CNEC*")*$AE47 -> 0 | AJ47: =COUNTIF($I47,"BAM")*$AE47 -> 0 | AK47: =(COUNTIF($I47,"AUTRES")+COUNTIF($I47,"UID")+COUNTIF($I47,"CII")+COUNTIF($I47,"EAE"))*$AE47 -> 0 | AL47: =COUNTIF($J47,"AIR")*$AE47 -> 0 | AM47: =COUNTIF($J47,"MAR")*$AE47 -> 0 | AN47: =COUNTIF($J47,"TER")*$AE47 -> 1
B48: 43985 | F48: 44 | I48: 3a | J48: TER | K48: Conjoint(e)/PACS | O48: =TODAY()-N48 -> 44593 | P48: OUI | Q48: OK | R48: ACCEPTÉE | S48: 43986 | T48: 44005 | U48: ACCEPTÉE | V48: 45823 | X48: 44005 | Y48: 44005 | AE48: =IF(COUNTIF($F$5:$F48,F48)>1,"0",COUNTIF($F$5:$F48,F48)) -> 1 | AF48: =COUNTIF($I48,"*GSB*")*$AE48 -> 0 | AG48: =COUNTIF($I48,"3a")*$AE48 -> 1 | AH48: =COUNTIF($I48,"4e")*$AE48 -> 0 | AI48: =COUNTIF($I48,"*CNEC*")*$AE48 -> 0 | AJ48: =COUNTIF($I48,"BAM")*$AE48 -> 0 | AK48: =(COUNTIF($I48,"AUTRES")+COUNTIF($I48,"UID")+COUNTIF($I48,"CII")+COUNTIF($I48,"EAE"))*$AE48 -> 0 | AL48: =COUNTIF($J48,"AIR")*$AE48 -> 0 | AM48: =COUNTIF($J48,"MAR")*$AE48 -> 0 | AN48: =COUNTIF($J48,"TER")*$AE48 -> 1
B49: 43958 | F49: 45 | I49: 3a | J49: TER | K49: Conjoint(e)/PACS | O49: =TODAY()-N49 -> 44593 | P49: NON | Q49: NON | R49: REFUSÉE | S49: 43965 | Y49: 43965 | AE49: =IF(COUNTIF($F$5:$F49,F49)>1,"0",COUNTIF($F$5:$F49,F49)) -> 1 | AF49: =COUNTIF($I49,"*GSB*")*$AE49 -> 0 | AG49: =COUNTIF($I49,"3a")*$AE49 -> 1 | AH49: =COUNTIF($I49,"4e")*$AE49 -> 0 | AI49: =COUNTIF($I49,"*CNEC*")*$AE49 -> 0 | AJ49: =COUNTIF($I49,"BAM")*$AE49 -> 0 | AK49: =(COUNTIF($I49,"AUTRES")+COUNTIF($I49,"UID")+COUNTIF($I49,"CII")+COUNTIF($I49,"EAE"))*$AE49 -> 0 | AL49: =COUNTIF($J49,"AIR")*$AE49 -> 0 | AM49: =COUNTIF($J49,"MAR")*$AE49 -> 0 | AN49: =COUNTIF($J49,"TER")*$AE49 -> 1
B50: 43976 | F50: 46 | I50: 4E | J50: TER | K50: Conjoint(e)/PACS | O50: =TODAY()-N50 -> 44593 | P50: OUI | Q50: OK | R50: ACCEPTÉE | S50: 43977 | T50: 43992 | U50: ACCEPTÉE | V50: 45266 | X50: 43999 | Y50: 43992 | AE50: =IF(COUNTIF($F$5:$F50,F50)>1,"0",COUNTIF($F$5:$F50,F50)) -> 1 | AF50: =COUNTIF($I50,"*GSB*")*$AE50 -> 0 | AG50: =COUNTIF($I50,"3a")*$AE50 -> 0 | AH50: =COUNTIF($I50,"4e")*$AE50 -> 1 | AI50: =COUNTIF($I50,"*CNEC*")*$AE50 -> 0 | AJ50: =COUNTIF($I50,"BAM")*$AE50 -> 0 | AK50: =(COUNTIF($I50,"AUTRES")+COUNTIF($I50,"UID")+COUNTIF($I50,"CII")+COUNTIF($I50,"EAE"))*$AE50 -> 0 | AL50: =COUNTIF($J50,"AIR")*$AE50 -> 0 | AM50: =COUNTIF($J50,"MAR")*$AE50 -> 0 | AN50: =COUNTIF($J50,"TER")*$AE50 -> 1
B51: 43964 | F51: 47 | I51: BAM | J51: MAR | K51: Enfant mineur | O51: =TODAY()-N51 -> 44593 | P51: OUI | Q51: OK | R51: ACCEPTÉE | S51: 43965 | T51: 43986 | U51: ACCEPTÉE | V51: 44441 | X51: 44159 | Y51: 43994 | AE51: =IF(COUNTIF($F$5:$F51,F51)>1,"0",COUNTIF($F$5:$F51,F51)) -> 1 | AF51: =COUNTIF($I51,"*GSB*")*$AE51 -> 0 | AG51: =COUNTIF($I51,"3a")*$AE51 -> 0 | AH51: =COUNTIF($I51,"4e")*$AE51 -> 0 | AI51: =COUNTIF($I51,"*CNEC*")*$AE51 -> 0 | AJ51: =COUNTIF($I51,"BAM")*$AE51 -> 1 | AK51: =(COUNTIF($I51,"AUTRES")+COUNTIF($I51,"UID")+COUNTIF($I51,"CII")+COUNTIF($I51,"EAE"))*$AE51 -> 0 | AL51: =COUNTIF($J51,"AIR")*$AE51 -> 0 | AM51: =COUNTIF($J51,"MAR")*$AE51 -> 1 | AN51: =COUNTIF($J51,"TER")*$AE51 -> 0
B52: 43969 | F52: 48 | I52: 4E | J52: TER | K52: Enfant mineur | O52: =TODAY()-N52 -> 44593 | P52: OUI | Q52: OK | R52: ACCEPTÉE | S52: 44020 | T52: 44028 | U52: ACCEPTÉE | V52: 44653 | Y52: 44028 | AB52: 44014 | AE52: =IF(COUNTIF($F$5:$F52,F52)>1,"0",COUNTIF($F$5:$F52,F52)) -> 1 | AF52: =COUNTIF($I52,"*GSB*")*$AE52 -> 0 | AG52: =COUNTIF($I52,"3a")*$AE52 -> 0 | AH52: =COUNTIF($I52,"4e")*$AE52 -> 1 | AI52: =COUNTIF($I52,"*CNEC*")*$AE52 -> 0 | AJ52: =COUNTIF($I52,"BAM")*$AE52 -> 0 | AK52: =(COUNTIF($I52,"AUTRES")+COUNTIF($I52,"UID")+COUNTIF($I52,"CII")+COUNTIF($I52,"EAE"))*$AE52 -> 0 | AL52: =COUNTIF($J52,"AIR")*$AE52 -> 0 | AM52: =COUNTIF($J52,"MAR")*$AE52 -> 0 | AN52: =COUNTIF($J52,"TER")*$AE52 -> 1
B53: 43969 | F53: 49 | I53: 4E | J53: TER | K53: Enfant mineur | O53: =TODAY()-N53 -> 44593 | P53: OUI | Q53: NON | R53: REFUSÉE | S53: 43969 | Y53: 43994 | AE53: =IF(COUNTIF($F$5:$F53,F53)>1,"0",COUNTIF($F$5:$F53,F53)) -> 1 | AF53: =COUNTIF($I53,"*GSB*")*$AE53 -> 0 | AG53: =COUNTIF($I53,"3a")*$AE53 -> 0 | AH53: =COUNTIF($I53,"4e")*$AE53 -> 1 | AI53: =COUNTIF($I53,"*CNEC*")*$AE53 -> 0 | AJ53: =COUNTIF($I53,"BAM")*$AE53 -> 0 | AK53: =(COUNTIF($I53,"AUTRES")+COUNTIF($I53,"UID")+COUNTIF($I53,"CII")+COUNTIF($I53,"EAE"))*$AE53 -> 0 | AL53: =COUNTIF($J53,"AIR")*$AE53 -> 0 | AM53: =COUNTIF($J53,"MAR")*$AE53 -> 0 | AN53: =COUNTIF($J53,"TER")*$AE53 -> 1
B54: 43969 | F54: 50 | I54: 4E | J54: TER | K54: Conjoint(e)/PACS | O54: =TODAY()-N54 -> 44593 | P54: OUI | Q54: OK | R54: ACCEPTÉE | S54: 44020 | T54: 44028 | U54: ACCEPTÉE | V54: 44653 | Y54: 44028 | AB54: 44014 | AE54: =IF(COUNTIF($F$5:$F54,F54)>1,"0",COUNTIF($F$5:$F54,F54)) -> 1 | AF54: =COUNTIF($I54,"*GSB*")*$AE54 -> 0 | AG54: =COUNTIF($I54,"3a")*$AE54 -> 0 | AH54: =COUNTIF($I54,"4e")*$AE54 -> 1 | AI54: =COUNTIF($I54,"*CNEC*")*$AE54 -> 0 | AJ54: =COUNTIF($I54,"BAM")*$AE54 -> 0 | AK54: =(COUNTIF($I54,"AUTRES")+COUNTIF($I54,"UID")+COUNTIF($I54,"CII")+COUNTIF($I54,"EAE"))*$AE54 -> 0 | AL54: =COUNTIF($J54,"AIR")*$AE54 -> 0 | AM54: =COUNTIF($J54,"MAR")*$AE54 -> 0 | AN54: =COUNTIF($J54,"TER")*$AE54 -> 1
B55: 43970 | F55: 51 | I55: 3a | J55: TER | K55: Conjoint(e)/PACS | O55: =TODAY()-N55 -> 44593 | P55: OUI | Q55: OK | R55: ACCEPTÉE | S55: 43998 | T55: 44011 | U55: ACCEPTÉE | V55: 45826 | X55: 44012 | Y55: 44011 | AE55: =IF(COUNTIF($F$5:$F55,F55)>1,"0",COUNTIF($F$5:$F55,F55)) -> 1 | AF55: =COUNTIF($I55,"*GSB*")*$AE55 -> 0 | AG55: =COUNTIF($I55,"3a")*$AE55 -> 1 | AH55: =COUNTIF($I55,"4e")*$AE55 -> 0 | AI55: =COUNTIF($I55,"*CNEC*")*$AE55 -> 0 | AJ55: =COUNTIF($I55,"BAM")*$AE55 -> 0 | AK55: =(COUNTIF($I55,"AUTRES")+COUNTIF($I55,"UID")+COUNTIF($I55,"CII")+COUNTIF($I55,"EAE"))*$AE55 -> 0 | AL55: =COUNTIF($J55,"AIR")*$AE55 -> 0 | AM55: =COUNTIF($J55,"MAR")*$AE55 -> 0 | AN55: =COUNTIF($J55,"TER")*$AE55 -> 1
B56: 43969 | F56: 52 | I56: 3a | J56: TER | K56: Conjoint(e)/PACS | O56: =TODAY()-N56 -> 44593 | P56: OUI | Q56: OK | R56: ACCEPTÉE | S56: 43969 | T56: 43986 | U56: ACCEPTÉE | V56: 45803 | X56: 43993 | Y56: 43993 | AE56: =IF(COUNTIF($F$5:$F56,F56)>1,"0",COUNTIF($F$5:$F56,F56)) -> 1 | AF56: =COUNTIF($I56,"*GSB*")*$AE56 -> 0 | AG56: =COUNTIF($I56,"3a")*$AE56 -> 1 | AH56: =COUNTIF($I56,"4e")*$AE56 -> 0 | AI56: =COUNTIF($I56,"*CNEC*")*$AE56 -> 0 | AJ56: =COUNTIF($I56,"BAM")*$AE56 -> 0 | AK56: =(COUNTIF($I56,"AUTRES")+COUNTIF($I56,"UID")+COUNTIF($I56,"CII")+COUNTIF($I56,"EAE"))*$AE56 -> 0 | AL56: =COUNTIF($J56,"AIR")*$AE56 -> 0 | AM56: =COUNTIF($J56,"MAR")*$AE56 -> 0 | AN56: =COUNTIF($J56,"TER")*$AE56 -> 1
B57: 43969 | F57: 53 | I57: 3a | J57: TER | K57: Enfant mineur | O57: =TODAY()-N57 -> 44593 | P57: OUI | Q57: OK | R57: ACCEPTÉE | S57: 43969 | T57: 43986 | U57: ACCEPTÉE | V57: 45803 | X57: 43993 | Y57: 43993 | AE57: =IF(COUNTIF($F$5:$F57,F57)>1,"0",COUNTIF($F$5:$F57,F57)) -> 1 | AF57: =COUNTIF($I57,"*GSB*")*$AE57 -> 0 | AG57: =COUNTIF($I57,"3a")*$AE57 -> 1 | AH57: =COUNTIF($I57,"4e")*$AE57 -> 0 | AI57: =COUNTIF($I57,"*CNEC*")*$AE57 -> 0 | AJ57: =COUNTIF($I57,"BAM")*$AE57 -> 0 | AK57: =(COUNTIF($I57,"AUTRES")+COUNTIF($I57,"UID")+COUNTIF($I57,"CII")+COUNTIF($I57,"EAE"))*$AE57 -> 0 | AL57: =COUNTIF($J57,"AIR")*$AE57 -> 0 | AM57: =COUNTIF($J57,"MAR")*$AE57 -> 0 | AN57: =COUNTIF($J57,"TER")*$AE57 -> 1
B58: 43969 | F58: 54 | I58: 3a | J58: TER | K58: Enfant mineur | O58: =TODAY()-N58 -> 44593 | P58: OUI | Q58: OK | R58: ACCEPTÉE | S58: 43969 | T58: 43986 | U58: ACCEPTÉE | V58: 45803 | X58: 43993 | Y58: 43993 | AE58: =IF(COUNTIF($F$5:$F58,F58)>1,"0",COUNTIF($F$5:$F58,F58)) -> 1 | AF58: =COUNTIF($I58,"*GSB*")*$AE58 -> 0 | AG58: =COUNTIF($I58,"3a")*$AE58 -> 1 | AH58: =COUNTIF($I58,"4e")*$AE58 -> 0 | AI58: =COUNTIF($I58,"*CNEC*")*$AE58 -> 0 | AJ58: =COUNTIF($I58,"BAM")*$AE58 -> 0 | AK58: =(COUNTIF($I58,"AUTRES")+COUNTIF($I58,"UID")+COUNTIF($I58,"CII")+COUNTIF($I58,"EAE"))*$AE58 -> 0 | AL58: =COUNTIF($J58,"AIR")*$AE58 -> 0 | AM58: =COUNTIF($J58,"MAR")*$AE58 -> 0 | AN58: =COUNTIF($J58,"TER")*$AE58 -> 1
B59: 43970 | F59: 55 | I59: 3a | J59: TER | K59: Enfant mineur | O59: =TODAY()-N59 -> 44593 | P59: NON | Q59: NON | R59: REFUSÉE | S59: 43977 | Y59: 43994 | AE59: =IF(COUNTIF($F$5:$F59,F59)>1,"0",COUNTIF($F$5:$F59,F59)) -> 1 | AF59: =COUNTIF($I59,"*GSB*")*$AE59 -> 0 | AG59: =COUNTIF($I59,"3a")*$AE59 -> 1 | AH59: =COUNTIF($I59,"4e")*$AE59 -> 0 | AI59: =COUNTIF($I59,"*CNEC*")*$AE59 -> 0 | AJ59: =COUNTIF($I59,"BAM")*$AE59 -> 0 | AK59: =(COUNTIF($I59,"AUTRES")+COUNTIF($I59,"UID")+COUNTIF($I59,"CII")+COUNTIF($I59,"EAE"))*$AE59 -> 0 | AL59: =COUNTIF($J59,"AIR")*$AE59 -> 0 | AM59: =COUNTIF($J59,"MAR")*$AE59 -> 0 | AN59: =COUNTIF($J59,"TER")*$AE59 -> 1
B60: 43970 | F60: 56 | I60: BAM | J60: MAR | K60: Conjoint(e)/PACS | O60: =TODAY()-N60 -> 44593 | P60: OUI | Q60: OK | R60: ACCEPTÉE | S60: 43977 | T60: 43992 | U60: ACCEPTÉE | V60: 44305 | X60: 44006 | Y60: 43992 | AC60: 44327 | AE60: =IF(COUNTIF($F$5:$F60,F60)>1,"0",COUNTIF($F$5:$F60,F60)) -> 1 | AF60: =COUNTIF($I60,"*GSB*")*$AE60 -> 0 | AG60: =COUNTIF($I60,"3a")*$AE60 -> 0 | AH60: =COUNTIF($I60,"4e")*$AE60 -> 0 | AI60: =COUNTIF($I60,"*CNEC*")*$AE60 -> 0 | AJ60: =COUNTIF($I60,"BAM")*$AE60 -> 1 | AK60: =(COUNTIF($I60,"AUTRES")+COUNTIF($I60,"UID")+COUNTIF($I60,"CII")+COUNTIF($I60,"EAE"))*$AE60 -> 0 | AL60: =COUNTIF($J60,"AIR")*$AE60 -> 0 | AM60: =COUNTIF($J60,"MAR")*$AE60 -> 1 | AN60: =COUNTIF($J60,"TER")*$AE60 -> 0
B61: 43970 | F61: 57 | I61: BAM | J61: MAR | K61: Enfant mineur | O61: =TODAY()-N61 -> 44593 | P61: OUI | Q61: OK | R61: ACCEPTÉE | S61: 43977 | T61: 43992 | U61: ACCEPTÉE | V61: 44305 | X61: 44006 | Y61: 43992 | AC61: 44327 | AE61: =IF(COUNTIF($F$5:$F61,F61)>1,"0",COUNTIF($F$5:$F61,F61)) -> 1 | AF61: =COUNTIF($I61,"*GSB*")*$AE61 -> 0 | AG61: =COUNTIF($I61,"3a")*$AE61 -> 0 | AH61: =COUNTIF($I61,"4e")*$AE61 -> 0 | AI61: =COUNTIF($I61,"*CNEC*")*$AE61 -> 0 | AJ61: =COUNTIF($I61,"BAM")*$AE61 -> 1 | AK61: =(COUNTIF($I61,"AUTRES")+COUNTIF($I61,"UID")+COUNTIF($I61,"CII")+COUNTIF($I61,"EAE"))*$AE61 -> 0 | AL61: =COUNTIF($J61,"AIR")*$AE61 -> 0 | AM61: =COUNTIF($J61,"MAR")*$AE61 -> 1 | AN61: =COUNTIF($J61,"TER")*$AE61 -> 0
B62: 43986 | F62: 58 | I62: 4E | J62: TER | K62: Conjoint(e)/PACS | O62: =TODAY()-N62 -> 44593 | P62: OUI | Q62: OK | R62: ACCEPTÉE | S62: 44104 | T62: 44116 | U62: ACCEPTÉE | V62: 45936 | X62: 44125 | Y62: 44116 | AB62: 44014 | AE62: =IF(COUNTIF($F$5:$F62,F62)>1,"0",COUNTIF($F$5:$F62,F62)) -> 1 | AF62: =COUNTIF($I62,"*GSB*")*$AE62 -> 0 | AG62: =COUNTIF($I62,"3a")*$AE62 -> 0 | AH62: =COUNTIF($I62,"4e")*$AE62 -> 1 | AI62: =COUNTIF($I62,"*CNEC*")*$AE62 -> 0 | AJ62: =COUNTIF($I62,"BAM")*$AE62 -> 0 | AK62: =(COUNTIF($I62,"AUTRES")+COUNTIF($I62,"UID")+COUNTIF($I62,"CII")+COUNTIF($I62,"EAE"))*$AE62 -> 0 | AL62: =COUNTIF($J62,"AIR")*$AE62 -> 0 | AM62: =COUNTIF($J62,"MAR")*$AE62 -> 0 | AN62: =COUNTIF($J62,"TER")*$AE62 -> 1
B63: 43976 | F63: 59 | I63: 3a | J63: TER | K63: Conjoint(e)/PACS | O63: =TODAY()-N63 -> 44593 | P63: OUI | Q63: OK | R63: ACCEPTÉE | S63: 44236 | T63: 44256 | U63: ACCEPTÉE | V63: 45049 | X63: 44277 | Y63: 44256 | AB63: 44014 | AE63: =IF(COUNTIF($F$5:$F63,F63)>1,"0",COUNTIF($F$5:$F63,F63)) -> 1 | AF63: =COUNTIF($I63,"*GSB*")*$AE63 -> 0 | AG63: =COUNTIF($I63,"3a")*$AE63 -> 1 | AH63: =COUNTIF($I63,"4e")*$AE63 -> 0 | AI63: =COUNTIF($I63,"*CNEC*")*$AE63 -> 0 | AJ63: =COUNTIF($I63,"BAM")*$AE63 -> 0 | AK63: =(COUNTIF($I63,"AUTRES")+COUNTIF($I63,"UID")+COUNTIF($I63,"CII")+COUNTIF($I63,"EAE"))*$AE63 -> 0 | AL63: =COUNTIF($J63,"AIR")*$AE63 -> 0 | AM63: =COUNTIF($J63,"MAR")*$AE63 -> 0 | AN63: =COUNTIF($J63,"TER")*$AE63 -> 1
B64: 43976 | F64: 60 | I64: 4E | J64: TER | K64: Conjoint(e)/PACS | O64: =TODAY()-N64 -> 44593 | P64: OUI | Q64: OK | R64: ACCEPTÉE | S64: 43984 | T64: 43998 | U64: ACCEPTÉE | V64: 45099 | X64: 44020 | Y64: 43998 | AE64: =IF(COUNTIF($F$5:$F64,F64)>1,"0",COUNTIF($F$5:$F64,F64)) -> 1 | AF64: =COUNTIF($I64,"*GSB*")*$AE64 -> 0 | AG64: =COUNTIF($I64,"3a")*$AE64 -> 0 | AH64: =COUNTIF($I64,"4e")*$AE64 -> 1 | AI64: =COUNTIF($I64,"*CNEC*")*$AE64 -> 0 | AJ64: =COUNTIF($I64,"BAM")*$AE64 -> 0 | AK64: =(COUNTIF($I64,"AUTRES")+COUNTIF($I64,"UID")+COUNTIF($I64,"CII")+COUNTIF($I64,"EAE"))*$AE64 -> 0 | AL64: =COUNTIF($J64,"AIR")*$AE64 -> 0 | AM64: =COUNTIF($J64,"MAR")*$AE64 -> 0 | AN64: =COUNTIF($J64,"TER")*$AE64 -> 1
B65: 43976 | F65: 61 | I65: 4E | J65: TER | K65: Conjoint(e)/PACS | O65: =TODAY()-N65 -> 44593 | P65: OUI | Q65: OK | R65: ACCEPTÉE | S65: 43984 | T65: 43998 | U65: ACCEPTÉE | V65: 45600 | X65: 44014 | Y65: 43998 | AE65: =IF(COUNTIF($F$5:$F65,F65)>1,"0",COUNTIF($F$5:$F65,F65)) -> 1 | AF65: =COUNTIF($I65,"*GSB*")*$AE65 -> 0 | AG65: =COUNTIF($I65,"3a")*$AE65 -> 0 | AH65: =COUNTIF($I65,"4e")*$AE65 -> 1 | AI65: =COUNTIF($I65,"*CNEC*")*$AE65 -> 0 | AJ65: =COUNTIF($I65,"BAM")*$AE65 -> 0 | AK65: =(COUNTIF($I65,"AUTRES")+COUNTIF($I65,"UID")+COUNTIF($I65,"CII")+COUNTIF($I65,"EAE"))*$AE65 -> 0 | AL65: =COUNTIF($J65,"AIR")*$AE65 -> 0 | AM65: =COUNTIF($J65,"MAR")*$AE65 -> 0 | AN65: =COUNTIF($J65,"TER")*$AE65 -> 1
B66: 43977 | F66: 62 | I66: 3a | J66: TER | K66: Conjoint(e)/PACS | O66: =TODAY()-N66 -> 44593 | P66: OUI | Q66: OK | R66: SANS SUITE | S66: 43977 | Y66: 43977 | AE66: =IF(COUNTIF($F$5:$F66,F66)>1,"0",COUNTIF($F$5:$F66,F66)) -> 1 | AF66: =COUNTIF($I66,"*GSB*")*$AE66 -> 0 | AG66: =COUNTIF($I66,"3a")*$AE66 -> 1 | AH66: =COUNTIF($I66,"4e")*$AE66 -> 0 | AI66: =COUNTIF($I66,"*CNEC*")*$AE66 -> 0 | AJ66: =COUNTIF($I66,"BAM")*$AE66 -> 0 | AK66: =(COUNTIF($I66,"AUTRES")+COUNTIF($I66,"UID")+COUNTIF($I66,"CII")+COUNTIF($I66,"EAE"))*$AE66 -> 0 | AL66: =COUNTIF($J66,"AIR")*$AE66 -> 0 | AM66: =COUNTIF($J66,"MAR")*$AE66 -> 0 | AN66: =COUNTIF($J66,"TER")*$AE66 -> 1
B67: 43977 | F67: 63 | I67: 3a | J67: TER | K67: Enfant mineur | O67: =TODAY()-N67 -> 44593 | P67: OUI | Q67: OK | R67: ACCEPTÉE | S67: 43985 | T67: 43999 | U67: ACCEPTÉE | V67: 45626 | X67: 44001 | Y67: 43999 | AE67: =IF(COUNTIF($F$5:$F67,F67)>1,"0",COUNTIF($F$5:$F67,F67)) -> 1 | AF67: =COUNTIF($I67,"*GSB*")*$AE67 -> 0 | AG67: =COUNTIF($I67,"3a")*$AE67 -> 1 | AH67: =COUNTIF($I67,"4e")*$AE67 -> 0 | AI67: =COUNTIF($I67,"*CNEC*")*$AE67 -> 0 | AJ67: =COUNTIF($I67,"BAM")*$AE67 -> 0 | AK67: =(COUNTIF($I67,"AUTRES")+COUNTIF($I67,"UID")+COUNTIF($I67,"CII")+COUNTIF($I67,"EAE"))*$AE67 -> 0 | AL67: =COUNTIF($J67,"AIR")*$AE67 -> 0 | AM67: =COUNTIF($J67,"MAR")*$AE67 -> 0 | AN67: =COUNTIF($J67,"TER")*$AE67 -> 1
B68: 43980 | F68: 64 | I68: 4E | J68: TER | K68: Conjoint(e)/PACS | O68: =TODAY()-N68 -> 44593 | P68: OUI | Q68: OK | R68: SANS SUITE | S68: 43984 | Y68: 43994 | AE68: =IF(COUNTIF($F$5:$F68,F68)>1,"0",COUNTIF($F$5:$F68,F68)) -> 1 | AF68: =COUNTIF($I68,"*GSB*")*$AE68 -> 0 | AG68: =COUNTIF($I68,"3a")*$AE68 -> 0 | AH68: =COUNTIF($I68,"4e")*$AE68 -> 1 | AI68: =COUNTIF($I68,"*CNEC*")*$AE68 -> 0 | AJ68: =COUNTIF($I68,"BAM")*$AE68 -> 0 | AK68: =(COUNTIF($I68,"AUTRES")+COUNTIF($I68,"UID")+COUNTIF($I68,"CII")+COUNTIF($I68,"EAE"))*$AE68 -> 0 | AL68: =COUNTIF($J68,"AIR")*$AE68 -> 0 | AM68: =COUNTIF($J68,"MAR")*$AE68 -> 0 | AN68: =COUNTIF($J68,"TER")*$AE68 -> 1
B69: 43980 | F69: 65 | I69: 4E | J69: TER | K69: Enfant majeur | O69: =TODAY()-N69 -> 44593 | P69: OUI | Q69: OK | R69: SANS SUITE | S69: 43984 | Y69: 43994 | AE69: =IF(COUNTIF($F$5:$F69,F69)>1,"0",COUNTIF($F$5:$F69,F69)) -> 1 | AF69: =COUNTIF($I69,"*GSB*")*$AE69 -> 0 | AG69: =COUNTIF($I69,"3a")*$AE69 -> 0 | AH69: =COUNTIF($I69,"4e")*$AE69 -> 1 | AI69: =COUNTIF($I69,"*CNEC*")*$AE69 -> 0 | AJ69: =COUNTIF($I69,"BAM")*$AE69 -> 0 | AK69: =(COUNTIF($I69,"AUTRES")+COUNTIF($I69,"UID")+COUNTIF($I69,"CII")+COUNTIF($I69,"EAE"))*$AE69 -> 0 | AL69: =COUNTIF($J69,"AIR")*$AE69 -> 0 | AM69: =COUNTIF($J69,"MAR")*$AE69 -> 0 | AN69: =COUNTIF($J69,"TER")*$AE69 -> 1
B70: 43980 | F70: 66 | I70: 4E | J70: TER | K70: Enfant mineur | O70: =TODAY()-N70 -> 44593 | P70: OUI | Q70: OK | R70: SANS SUITE | S70: 43984 | Y70: 43994 | AE70: =IF(COUNTIF($F$5:$F70,F70)>1,"0",COUNTIF($F$5:$F70,F70)) -> 1 | AF70: =COUNTIF($I70,"*GSB*")*$AE70 -> 0 | AG70: =COUNTIF($I70,"3a")*$AE70 -> 0 | AH70: =COUNTIF($I70,"4e")*$AE70 -> 1 | AI70: =COUNTIF($I70,"*CNEC*")*$AE70 -> 0 | AJ70: =COUNTIF($I70,"BAM")*$AE70 -> 0 | AK70: =(COUNTIF($I70,"AUTRES")+COUNTIF($I70,"UID")+COUNTIF($I70,"CII")+COUNTIF($I70,"EAE"))*$AE70 -> 0 | AL70: =COUNTIF($J70,"AIR")*$AE70 -> 0 | AM70: =COUNTIF($J70,"MAR")*$AE70 -> 0 | AN70: =COUNTIF($J70,"TER")*$AE70 -> 1
B71: 43984 | F71: 67 | I71: 4E | J71: TER | K71: Conjoint(e)/PACS | O71: =TODAY()-N71 -> 44593 | P71: OUI | Q71: OK | R71: ACCEPTÉE | S71: 44027 | T71: 44042 | U71: ACCEPTÉE | V71: 45118 | X71: 44049 | Y71: 44056 | AE71: =IF(COUNTIF($F$5:$F71,F71)>1,"0",COUNTIF($F$5:$F71,F71)) -> 1 | AF71: =COUNTIF($I71,"*GSB*")*$AE71 -> 0 | AG71: =COUNTIF($I71,"3a")*$AE71 -> 0 | AH71: =COUNTIF($I71,"4e")*$AE71 -> 1 | AI71: =COUNTIF($I71,"*CNEC*")*$AE71 -> 0 | AJ71: =COUNTIF($I71,"BAM")*$AE71 -> 0 | AK71: =(COUNTIF($I71,"AUTRES")+COUNTIF($I71,"UID")+COUNTIF($I71,"CII")+COUNTIF($I71,"EAE"))*$AE71 -> 0 | AL71: =COUNTIF($J71,"AIR")*$AE71 -> 0 | AM71: =COUNTIF($J71,"MAR")*$AE71 -> 0 | AN71: =COUNTIF($J71,"TER")*$AE71 -> 1
B72: 43984 | F72: 68 | I72: 4E | J72: TER | K72: Enfant mineur | O72: =TODAY()-N72 -> 44593 | P72: OUI | Q72: OK | R72: ACCEPTÉE | S72: 44027 | T72: 44042 | U72: ACCEPTÉE | V72: 45118 | X72: 44049 | Y72: 44056 | AE72: =IF(COUNTIF($F$5:$F72,F72)>1,"0",COUNTIF($F$5:$F72,F72)) -> 1 | AF72: =COUNTIF($I72,"*GSB*")*$AE72 -> 0 | AG72: =COUNTIF($I72,"3a")*$AE72 -> 0 | AH72: =COUNTIF($I72,"4e")*$AE72 -> 1 | AI72: =COUNTIF($I72,"*CNEC*")*$AE72 -> 0 | AJ72: =COUNTIF($I72,"BAM")*$AE72 -> 0 | AK72: =(COUNTIF($I72,"AUTRES")+COUNTIF($I72,"UID")+COUNTIF($I72,"CII")+COUNTIF($I72,"EAE"))*$AE72 -> 0 | AL72: =COUNTIF($J72,"AIR")*$AE72 -> 0 | AM72: =COUNTIF($J72,"MAR")*$AE72 -> 0 | AN72: =COUNTIF($J72,"TER")*$AE72 -> 1
B73: 43984 | F73: 69 | I73: 3a | J73: TER | K73: Conjoint(e)/PACS | O73: =TODAY()-N73 -> 44593 | P73: OUI | Q73: EN ATT MODIF | R73: SANS SUITE | S73: 44288 | Y73: 44288 | AB73: 44014 | AE73: =IF(COUNTIF($F$5:$F73,F73)>1,"0",COUNTIF($F$5:$F73,F73)) -> 1 | AF73: =COUNTIF($I73,"*GSB*")*$AE73 -> 0 | AG73: =COUNTIF($I73,"3a")*$AE73 -> 1 | AH73: =COUNTIF($I73,"4e")*$AE73 -> 0 | AI73: =COUNTIF($I73,"*CNEC*")*$AE73 -> 0 | AJ73: =COUNTIF($I73,"BAM")*$AE73 -> 0 | AK73: =(COUNTIF($I73,"AUTRES")+COUNTIF($I73,"UID")+COUNTIF($I73,"CII")+COUNTIF($I73,"EAE"))*$AE73 -> 0 | AL73: =COUNTIF($J73,"AIR")*$AE73 -> 0 | AM73: =COUNTIF($J73,"MAR")*$AE73 -> 0 | AN73: =COUNTIF($J73,"TER")*$AE73 -> 1
B74: 44060 | F74: 70 | I74: GSB | J74: TER | K74: Enfant mineur | O74: =TODAY()-N74 -> 44593 | P74: OUI | Q74: OK | R74: ACCEPTÉE | S74: 44060 | T74: 44069 | U74: ACCEPTÉE | V74: 44685 | X74: 44071 | Y74: 44069 | AE74: =IF(COUNTIF($F$5:$F74,F74)>1,"0",COUNTIF($F$5:$F74,F74)) -> 1 | AF74: =COUNTIF($I74,"*GSB*")*$AE74 -> 1 | AG74: =COUNTIF($I74,"3a")*$AE74 -> 0 | AH74: =COUNTIF($I74,"4e")*$AE74 -> 0 | AI74: =COUNTIF($I74,"*CNEC*")*$AE74 -> 0 | AJ74: =COUNTIF($I74,"BAM")*$AE74 -> 0 | AK74: =(COUNTIF($I74,"AUTRES")+COUNTIF($I74,"UID")+COUNTIF($I74,"CII")+COUNTIF($I74,"EAE"))*$AE74 -> 0 | AL74: =COUNTIF($J74,"AIR")*$AE74 -> 0 | AM74: =COUNTIF($J74,"MAR")*$AE74 -> 0 | AN74: =COUNTIF($J74,"TER")*$AE74 -> 1
B75: 43985 | F75: 71 | I75: CNECL | J75: TER | K75: Enfant mineur | O75: =TODAY()-N75 -> 44593 | P75: OUI | Q75: OK | R75: ACCEPTÉE | S75: 43993 | T75: 44021 | U75: ACCEPTÉE | V75: 44590 | X75: 44039 | Y75: 44025 | AE75: =IF(COUNTIF($F$5:$F75,F75)>1,"0",COUNTIF($F$5:$F75,F75)) -> 1 | AF75: =COUNTIF($I75,"*GSB*")*$AE75 -> 0 | AG75: =COUNTIF($I75,"3a")*$AE75 -> 0 | AH75: =COUNTIF($I75,"4e")*$AE75 -> 0 | AI75: =COUNTIF($I75,"*CNEC*")*$AE75 -> 1 | AJ75: =COUNTIF($I75,"BAM")*$AE75 -> 0 | AK75: =(COUNTIF($I75,"AUTRES")+COUNTIF($I75,"UID")+COUNTIF($I75,"CII")+COUNTIF($I75,"EAE"))*$AE75 -> 0 | AL75: =COUNTIF($J75,"AIR")*$AE75 -> 0 | AM75: =COUNTIF($J75,"MAR")*$AE75 -> 0 | AN75: =COUNTIF($J75,"TER")*$AE75 -> 1
B76: 43985 | F76: 72 | I76: CNECL | J76: TER | K76: Enfant mineur | O76: =TODAY()-N76 -> 44593 | P76: OUI | Q76: OK | R76: ACCEPTÉE | S76: 43993 | T76: 44021 | U76: ACCEPTÉE | V76: 45189 | X76: 44039 | Y76: 44025 | AE76: =IF(COUNTIF($F$5:$F76,F76)>1,"0",COUNTIF($F$5:$F76,F76)) -> 1 | AF76: =COUNTIF($I76,"*GSB*")*$AE76 -> 0 | AG76: =COUNTIF($I76,"3a")*$AE76 -> 0 | AH76: =COUNTIF($I76,"4e")*$AE76 -> 0 | AI76: =COUNTIF($I76,"*CNEC*")*$AE76 -> 1 | AJ76: =COUNTIF($I76,"BAM")*$AE76 -> 0 | AK76: =(COUNTIF($I76,"AUTRES")+COUNTIF($I76,"UID")+COUNTIF($I76,"CII")+COUNTIF($I76,"EAE"))*$AE76 -> 0 | AL76: =COUNTIF($J76,"AIR")*$AE76 -> 0 | AM76: =COUNTIF($J76,"MAR")*$AE76 -> 0 | AN76: =COUNTIF($J76,"TER")*$AE76 -> 1
B77: 43986 | F77: 73 | I77: 4E | J77: TER | K77: Enfant majeur | O77: =TODAY()-N77 -> 44593 | P77: OUI | Q77: OK | R77: ACCEPTÉE | S77: 44104 | T77: 44116 | U77: ACCEPTÉE | V77: 45991 | X77: 44125 | Y77: 44116 | AB77: 44014 | AE77: =IF(COUNTIF($F$5:$F77,F77)>1,"0",COUNTIF($F$5:$F77,F77)) -> 1 | AF77: =COUNTIF($I77,"*GSB*")*$AE77 -> 0 | AG77: =COUNTIF($I77,"3a")*$AE77 -> 0 | AH77: =COUNTIF($I77,"4e")*$AE77 -> 1 | AI77: =COUNTIF($I77,"*CNEC*")*$AE77 -> 0 | AJ77: =COUNTIF($I77,"BAM")*$AE77 -> 0 | AK77: =(COUNTIF($I77,"AUTRES")+COUNTIF($I77,"UID")+COUNTIF($I77,"CII")+COUNTIF($I77,"EAE"))*$AE77 -> 0 | AL77: =COUNTIF($J77,"AIR")*$AE77 -> 0 | AM77: =COUNTIF($J77,"MAR")*$AE77 -> 0 | AN77: =COUNTIF($J77,"TER")*$AE77 -> 1
B78: 43986 | F78: 74 | I78: 4E | J78: TER | K78: Enfant mineur | O78: =TODAY()-N78 -> 44593 | P78: OUI | Q78: OK | R78: ACCEPTÉE | S78: 44104 | T78: 44116 | U78: ACCEPTÉE | V78: 45917 | X78: 44125 | Y78: 44116 | AB78: 44014 | AE78: =IF(COUNTIF($F$5:$F78,F78)>1,"0",COUNTIF($F$5:$F78,F78)) -> 1 | AF78: =COUNTIF($I78,"*GSB*")*$AE78 -> 0 | AG78: =COUNTIF($I78,"3a")*$AE78 -> 0 | AH78: =COUNTIF($I78,"4e")*$AE78 -> 1 | AI78: =COUNTIF($I78,"*CNEC*")*$AE78 -> 0 | AJ78: =COUNTIF($I78,"BAM")*$AE78 -> 0 | AK78: =(COUNTIF($I78,"AUTRES")+COUNTIF($I78,"UID")+COUNTIF($I78,"CII")+COUNTIF($I78,"EAE"))*$AE78 -> 0 | AL78: =COUNTIF($J78,"AIR")*$AE78 -> 0 | AM78: =COUNTIF($J78,"MAR")*$AE78 -> 0 | AN78: =COUNTIF($J78,"TER")*$AE78 -> 1
B79: 43990 | F79: 75 | I79: 3a | J79: TER | K79: Enfant majeur | O79: =TODAY()-N79 -> 44593 | P79: OUI | Q79: OK | R79: ACCEPTÉE | S79: 43991 | T79: 44005 | U79: REFUSÉE | Y79: 44005 | AE79: =IF(COUNTIF($F$5:$F79,F79)>1,"0",COUNTIF($F$5:$F79,F79)) -> 1 | AF79: =COUNTIF($I79,"*GSB*")*$AE79 -> 0 | AG79: =COUNTIF($I79,"3a")*$AE79 -> 1 | AH79: =COUNTIF($I79,"4e")*$AE79 -> 0 | AI79: =COUNTIF($I79,"*CNEC*")*$AE79 -> 0 | AJ79: =COUNTIF($I79,"BAM")*$AE79 -> 0 | AK79: =(COUNTIF($I79,"AUTRES")+COUNTIF($I79,"UID")+COUNTIF($I79,"CII")+COUNTIF($I79,"EAE"))*$AE79 -> 0 | AL79: =COUNTIF($J79,"AIR")*$AE79 -> 0 | AM79: =COUNTIF($J79,"MAR")*$AE79 -> 0 | AN79: =COUNTIF($J79,"TER")*$AE79 -> 1
B80: 43991 | F80: 76 | I80: AUTRES | J80: TER | K80: Enfant majeur | O80: =TODAY()-N80 -> 44593 | P80: OUI | Q80: OK | R80: ACCEPTÉE | S80: 43991 | T80: 44005 | U80: ACCEPTÉE | V80: 45355 | X80: 44006 | Y80: 44005 | AE80: =IF(COUNTIF($F$5:$F80,F80)>1,"0",COUNTIF($F$5:$F80,F80)) -> 1 | AF80: =COUNTIF($I80,"*GSB*")*$AE80 -> 0 | AG80: =COUNTIF($I80,"3a")*$AE80 -> 0 | AH80: =COUNTIF($I80,"4e")*$AE80 -> 0 | AI80: =COUNTIF($I80,"*CNEC*")*$AE80 -> 0 | AJ80: =COUNTIF($I80,"BAM")*$AE80 -> 0 | AK80: =(COUNTIF($I80,"AUTRES")+COUNTIF($I80,"UID")+COUNTIF($I80,"CII")+COUNTIF($I80,"EAE"))*$AE80 -> 1 | AL80: =COUNTIF($J80,"AIR")*$AE80 -> 0 | AM80: =COUNTIF($J80,"MAR")*$AE80 -> 0 | AN80: =COUNTIF($J80,"TER")*$AE80 -> 1
B81: 43991 | F81: 77 | I81: 4E | J81: TER | K81: Conjoint(e)/PACS | O81: =TODAY()-N81 -> 44593 | P81: OUI | Q81: OK | R81: ACCEPTÉE | S81: 43993 | T81: 44021 | U81: ACCEPTÉE | V81: 44648 | X81: 44049 | Y81: 44025 | AE81: =IF(COUNTIF($F$5:$F81,F81)>1,"0",COUNTIF($F$5:$F81,F81)) -> 1 | AF81: =COUNTIF($I81,"*GSB*")*$AE81 -> 0 | AG81: =COUNTIF($I81,"3a")*$AE81 -> 0 | AH81: =COUNTIF($I81,"4e")*$AE81 -> 1 | AI81: =COUNTIF($I81,"*CNEC*")*$AE81 -> 0 | AJ81: =COUNTIF($I81,"BAM")*$AE81 -> 0 | AK81: =(COUNTIF($I81,"AUTRES")+COUNTIF($I81,"UID")+COUNTIF($I81,"CII")+COUNTIF($I81,"EAE"))*$AE81 -> 0 | AL81: =COUNTIF($J81,"AIR")*$AE81 -> 0 | AM81: =COUNTIF($J81,"MAR")*$AE81 -> 0 | AN81: =COUNTIF($J81,"TER")*$AE81 -> 1
B82: 43991 | F82: 78 | I82: 4E | J82: TER | K82: Enfant mineur | O82: =TODAY()-N82 -> 44593 | P82: OUI | Q82: OK | R82: ACCEPTÉE | S82: 43993 | T82: 44021 | U82: ACCEPTÉE | V82: 44455 | X82: 44049 | Y82: 44025 | AE82: =IF(COUNTIF($F$5:$F82,F82)>1,"0",COUNTIF($F$5:$F82,F82)) -> 1 | AF82: =COUNTIF($I82,"*GSB*")*$AE82 -> 0 | AG82: =COUNTIF($I82,"3a")*$AE82 -> 0 | AH82: =COUNTIF($I82,"4e")*$AE82 -> 1 | AI82: =COUNTIF($I82,"*CNEC*")*$AE82 -> 0 | AJ82: =COUNTIF($I82,"BAM")*$AE82 -> 0 | AK82: =(COUNTIF($I82,"AUTRES")+COUNTIF($I82,"UID")+COUNTIF($I82,"CII")+COUNTIF($I82,"EAE"))*$AE82 -> 0 | AL82: =COUNTIF($J82,"AIR")*$AE82 -> 0 | AM82: =COUNTIF($J82,"MAR")*$AE82 -> 0 | AN82: =COUNTIF($J82,"TER")*$AE82 -> 1
B83: 43991 | F83: 79 | I83: 4E | J83: TER | K83: Enfant mineur | O83: =TODAY()-N83 -> 44593 | P83: OUI | Q83: OK | R83: ACCEPTÉE | S83: 43993 | T83: 44021 | U83: ACCEPTÉE | V83: 44648 | X83: 44049 | Y83: 44025 | AE83: =IF(COUNTIF($F$5:$F83,F83)>1,"0",COUNTIF($F$5:$F83,F83)) -> 1 | AF83: =COUNTIF($I83,"*GSB*")*$AE83 -> 0 | AG83: =COUNTIF($I83,"3a")*$AE83 -> 0 | AH83: =COUNTIF($I83,"4e")*$AE83 -> 1 | AI83: =COUNTIF($I83,"*CNEC*")*$AE83 -> 0 | AJ83: =COUNTIF($I83,"BAM")*$AE83 -> 0 | AK83: =(COUNTIF($I83,"AUTRES")+COUNTIF($I83,"UID")+COUNTIF($I83,"CII")+COUNTIF($I83,"EAE"))*$AE83 -> 0 | AL83: =COUNTIF($J83,"AIR")*$AE83 -> 0 | AM83: =COUNTIF($J83,"MAR")*$AE83 -> 0 | AN83: =COUNTIF($J83,"TER")*$AE83 -> 1
B84: 43991 | F84: 80 | I84: 4E | J84: TER | K84: Enfant majeur | O84: =TODAY()-N84 -> 44593 | P84: OUI | Q84: OK | R84: ACCEPTÉE | S84: 43993 | T84: 44021 | U84: ACCEPTÉE | V84: 44648 | X84: 44049 | Y84: 44025 | AE84: =IF(COUNTIF($F$5:$F84,F84)>1,"0",COUNTIF($F$5:$F84,F84)) -> 1 | AF84: =COUNTIF($I84,"*GSB*")*$AE84 -> 0 | AG84: =COUNTIF($I84,"3a")*$AE84 -> 0 | AH84: =COUNTIF($I84,"4e")*$AE84 -> 1 | AI84: =COUNTIF($I84,"*CNEC*")*$AE84 -> 0 | AJ84: =COUNTIF($I84,"BAM")*$AE84 -> 0 | AK84: =(COUNTIF($I84,"AUTRES")+COUNTIF($I84,"UID")+COUNTIF($I84,"CII")+COUNTIF($I84,"EAE"))*$AE84 -> 0 | AL84: =COUNTIF($J84,"AIR")*$AE84 -> 0 | AM84: =COUNTIF($J84,"MAR")*$AE84 -> 0 | AN84: =COUNTIF($J84,"TER")*$AE84 -> 1
B85: 43997 | F85: 81 | I85: GSB | J85: TER | K85: Enfant majeur | O85: =TODAY()-N85 -> 44593 | P85: OUI | Q85: OK | R85: ACCEPTÉE | S85: 43997 | T85: 44011 | U85: ACCEPTÉE | V85: 45296 | X85: 44012 | Y85: 44011 | AE85: =IF(COUNTIF($F$5:$F85,F85)>1,"0",COUNTIF($F$5:$F85,F85)) -> 1 | AF85: =COUNTIF($I85,"*GSB*")*$AE85 -> 1 | AG85: =COUNTIF($I85,"3a")*$AE85 -> 0 | AH85: =COUNTIF($I85,"4e")*$AE85 -> 0 | AI85: =COUNTIF($I85,"*CNEC*")*$AE85 -> 0 | AJ85: =COUNTIF($I85,"BAM")*$AE85 -> 0 | AK85: =(COUNTIF($I85,"AUTRES")+COUNTIF($I85,"UID")+COUNTIF($I85,"CII")+COUNTIF($I85,"EAE"))*$AE85 -> 0 | AL85: =COUNTIF($J85,"AIR")*$AE85 -> 0 | AM85: =COUNTIF($J85,"MAR")*$AE85 -> 0 | AN85: =COUNTIF($J85,"TER")*$AE85 -> 1
B86: 43997 | F86: 82 | I86: 3a | J86: TER | K86: Conjoint(e)/PACS | O86: =TODAY()-N86 -> 44593 | P86: OUI | Q86: EN ATT MODIF | R86: SANS SUITE | S86: 44102 | Y86: 44102 | AB86: 44014 | AE86: =IF(COUNTIF($F$5:$F86,F86)>1,"0",COUNTIF($F$5:$F86,F86)) -> 1 | AF86: =COUNTIF($I86,"*GSB*")*$AE86 -> 0 | AG86: =COUNTIF($I86,"3a")*$AE86 -> 1 | AH86: =COUNTIF($I86,"4e")*$AE86 -> 0 | AI86: =COUNTIF($I86,"*CNEC*")*$AE86 -> 0 | AJ86: =COUNTIF($I86,"BAM")*$AE86 -> 0 | AK86: =(COUNTIF($I86,"AUTRES")+COUNTIF($I86,"UID")+COUNTIF($I86,"CII")+COUNTIF($I86,"EAE"))*$AE86 -> 0 | AL86: =COUNTIF($J86,"AIR")*$AE86 -> 0 | AM86: =COUNTIF($J86,"MAR")*$AE86 -> 0 | AN86: =COUNTIF($J86,"TER")*$AE86 -> 1
B87: 43999 | F87: 83 | I87: 3a | J87: TER | K87: Enfant mineur | O87: =TODAY()-N87 -> 44593 | P87: OUI | Q87: OK | R87: ACCEPTÉE | S87: 44000 | T87: 44011 | U87: ACCEPTÉE | V87: 45831 | X87: 44012 | Y87: 44011 | AE87: =IF(COUNTIF($F$5:$F87,F87)>1,"0",COUNTIF($F$5:$F87,F87)) -> 1 | AF87: =COUNTIF($I87,"*GSB*")*$AE87 -> 0 | AG87: =COUNTIF($I87,"3a")*$AE87 -> 1 | AH87: =COUNTIF($I87,"4e")*$AE87 -> 0 | AI87: =COUNTIF($I87,"*CNEC*")*$AE87 -> 0 | AJ87: =COUNTIF($I87,"BAM")*$AE87 -> 0 | AK87: =(COUNTIF($I87,"AUTRES")+COUNTIF($I87,"UID")+COUNTIF($I87,"CII")+COUNTIF($I87,"EAE"))*$AE87 -> 0 | AL87: =COUNTIF($J87,"AIR")*$AE87 -> 0 | AM87: =COUNTIF($J87,"MAR")*$AE87 -> 0 | AN87: =COUNTIF($J87,"TER")*$AE87 -> 1
B88: 44005 | F88: 84 | I88: 4E | J88: TER | K88: Conjoint(e)/PACS | O88: =TODAY()-N88 -> 44593 | P88: OUI | Q88: OK | R88: ACCEPTÉE | S88: 44007 | T88: 44019 | U88: ACCEPTÉE | V88: 45124 | X88: 44050 | Y88: 44019 | AE88: =IF(COUNTIF($F$5:$F88,F88)>1,"0",COUNTIF($F$5:$F88,F88)) -> 1 | AF88: =COUNTIF($I88,"*GSB*")*$AE88 -> 0 | AG88: =COUNTIF($I88,"3a")*$AE88 -> 0 | AH88: =COUNTIF($I88,"4e")*$AE88 -> 1 | AI88: =COUNTIF($I88,"*CNEC*")*$AE88 -> 0 | AJ88: =COUNTIF($I88,"BAM")*$AE88 -> 0 | AK88: =(COUNTIF($I88,"AUTRES")+COUNTIF($I88,"UID")+COUNTIF($I88,"CII")+COUNTIF($I88,"EAE"))*$AE88 -> 0 | AL88: =COUNTIF($J88,"AIR")*$AE88 -> 0 | AM88: =COUNTIF($J88,"MAR")*$AE88 -> 0 | AN88: =COUNTIF($J88,"TER")*$AE88 -> 1
B89: 44061 | F89: 85 | I89: 3a | J89: TER | K89: Conjoint(e)/PACS | O89: =TODAY()-N89 -> 44593 | P89: OUI | Q89: OK | R89: ACCEPTÉE | S89: 44067 | T89: 44083 | U89: ACCEPTÉE | V89: 44869 | X89: 44089 | Y89: 44083 | AE89: =IF(COUNTIF($F$5:$F89,F89)>1,"0",COUNTIF($F$5:$F89,F89)) -> 1 | AF89: =COUNTIF($I89,"*GSB*")*$AE89 -> 0 | AG89: =COUNTIF($I89,"3a")*$AE89 -> 1 | AH89: =COUNTIF($I89,"4e")*$AE89 -> 0 | AI89: =COUNTIF($I89,"*CNEC*")*$AE89 -> 0 | AJ89: =COUNTIF($I89,"BAM")*$AE89 -> 0 | AK89: =(COUNTIF($I89,"AUTRES")+COUNTIF($I89,"UID")+COUNTIF($I89,"CII")+COUNTIF($I89,"EAE"))*$AE89 -> 0 | AL89: =COUNTIF($J89,"AIR")*$AE89 -> 0 | AM89: =COUNTIF($J89,"MAR")*$AE89 -> 0 | AN89: =COUNTIF($J89,"TER")*$AE89 -> 1
B90: 44000 | F90: 86 | I90: 3a | J90: TER | K90: Enfant majeur | O90: =TODAY()-N90 -> 44593 | P90: OUI | Q90: OK | R90: ACCEPTÉE | S90: 44004 | T90: 44056 | U90: ACCEPTÉE | V90: 45613 | X90: 44067 | Y90: 44056 | AE90: =IF(COUNTIF($F$5:$F90,F90)>1,"0",COUNTIF($F$5:$F90,F90)) -> 1 | AF90: =COUNTIF($I90,"*GSB*")*$AE90 -> 0 | AG90: =COUNTIF($I90,"3a")*$AE90 -> 1 | AH90: =COUNTIF($I90,"4e")*$AE90 -> 0 | AI90: =COUNTIF($I90,"*CNEC*")*$AE90 -> 0 | AJ90: =COUNTIF($I90,"BAM")*$AE90 -> 0 | AK90: =(COUNTIF($I90,"AUTRES")+COUNTIF($I90,"UID")+COUNTIF($I90,"CII")+COUNTIF($I90,"EAE"))*$AE90 -> 0 | AL90: =COUNTIF($J90,"AIR")*$AE90 -> 0 | AM90: =COUNTIF($J90,"MAR")*$AE90 -> 0 | AN90: =COUNTIF($J90,"TER")*$AE90 -> 1
B91: 44004 | F91: 87 | I91: BAM | J91: MAR | K91: Conjoint(e)/PACS | O91: =TODAY()-N91 -> 44593 | P91: OUI | Q91: OK | R91: ACCEPTÉE | S91: 44004 | T91: 44013 | U91: ACCEPTÉE | V91: 45833 | X91: 44048 | Y91: 44013 | AE91: =IF(COUNTIF($F$5:$F91,F91)>1,"0",COUNTIF($F$5:$F91,F91)) -> 1 | AF91: =COUNTIF($I91,"*GSB*")*$AE91 -> 0 | AG91: =COUNTIF($I91,"3a")*$AE91 -> 0 | AH91: =COUNTIF($I91,"4e")*$AE91 -> 0 | AI91: =COUNTIF($I91,"*CNEC*")*$AE91 -> 0 | AJ91: =COUNTIF($I91,"BAM")*$AE91 -> 1 | AK91: =(COUNTIF($I91,"AUTRES")+COUNTIF($I91,"UID")+COUNTIF($I91,"CII")+COUNTIF($I91,"EAE"))*$AE91 -> 0 | AL91: =COUNTIF($J91,"AIR")*$AE91 -> 0 | AM91: =COUNTIF($J91,"MAR")*$AE91 -> 1 | AN91: =COUNTIF($J91,"TER")*$AE91 -> 0
B92: 44004 | F92: 88 | I92: BAM | J92: MAR | K92: Enfant majeur | O92: =TODAY()-N92 -> 44593 | P92: OUI | Q92: OK | R92: ACCEPTÉE | S92: 44004 | T92: 44013 | U92: ACCEPTÉE | V92: 46385 | X92: 44048 | Y92: 44013 | AE92: =IF(COUNTIF($F$5:$F92,F92)>1,"0",COUNTIF($F$5:$F92,F92)) -> 1 | AF92: =COUNTIF($I92,"*GSB*")*$AE92 -> 0 | AG92: =COUNTIF($I92,"3a")*$AE92 -> 0 | AH92: =COUNTIF($I92,"4e")*$AE92 -> 0 | AI92: =COUNTIF($I92,"*CNEC*")*$AE92 -> 0 | AJ92: =COUNTIF($I92,"BAM")*$AE92 -> 1 | AK92: =(COUNTIF($I92,"AUTRES")+COUNTIF($I92,"UID")+COUNTIF($I92,"CII")+COUNTIF($I92,"EAE"))*$AE92 -> 0 | AL92: =COUNTIF($J92,"AIR")*$AE92 -> 0 | AM92: =COUNTIF($J92,"MAR")*$AE92 -> 1 | AN92: =COUNTIF($J92,"TER")*$AE92 -> 0
B93: 44004 | F93: 89 | I93: 3a | J93: TER | K93: Enfant mineur | O93: =TODAY()-N93 -> 44593 | P93: OUI | Q93: OK | R93: ACCEPTÉE | S93: 44004 | T93: 44013 | U93: ACCEPTÉE | V93: 45833 | X93: 44024 | Y93: 44013 | AE93: =IF(COUNTIF($F$5:$F93,F93)>1,"0",COUNTIF($F$5:$F93,F93)) -> 1 | AF93: =COUNTIF($I93,"*GSB*")*$AE93 -> 0 | AG93: =COUNTIF($I93,"3a")*$AE93 -> 1 | AH93: =COUNTIF($I93,"4e")*$AE93 -> 0 | AI93: =COUNTIF($I93,"*CNEC*")*$AE93 -> 0 | AJ93: =COUNTIF($I93,"BAM")*$AE93 -> 0 | AK93: =(COUNTIF($I93,"AUTRES")+COUNTIF($I93,"UID")+COUNTIF($I93,"CII")+COUNTIF($I93,"EAE"))*$AE93 -> 0 | AL93: =COUNTIF($J93,"AIR")*$AE93 -> 0 | AM93: =COUNTIF($J93,"MAR")*$AE93 -> 0 | AN93: =COUNTIF($J93,"TER")*$AE93 -> 1
B94: 44005 | F94: 90 | I94: 4E | J94: TER | K94: Enfant mineur | O94: =TODAY()-N94 -> 44593 | P94: OUI | Q94: OK | R94: ACCEPTÉE | S94: 44007 | T94: 44019 | U94: ACCEPTÉE | V94: 45124 | X94: 44050 | Y94: 44019 | AE94: =IF(COUNTIF($F$5:$F94,F94)>1,"0",COUNTIF($F$5:$F94,F94)) -> 1 | AF94: =COUNTIF($I94,"*GSB*")*$AE94 -> 0 | AG94: =COUNTIF($I94,"3a")*$AE94 -> 0 | AH94: =COUNTIF($I94,"4e")*$AE94 -> 1 | AI94: =COUNTIF($I94,"*CNEC*")*$AE94 -> 0 | AJ94: =COUNTIF($I94,"BAM")*$AE94 -> 0 | AK94: =(COUNTIF($I94,"AUTRES")+COUNTIF($I94,"UID")+COUNTIF($I94,"CII")+COUNTIF($I94,"EAE"))*$AE94 -> 0 | AL94: =COUNTIF($J94,"AIR")*$AE94 -> 0 | AM94: =COUNTIF($J94,"MAR")*$AE94 -> 0 | AN94: =COUNTIF($J94,"TER")*$AE94 -> 1
B95: 44005 | F95: 91 | I95: 4E | J95: TER | K95: Enfant mineur | O95: =TODAY()-N95 -> 44593 | P95: OUI | Q95: OK | R95: ACCEPTÉE | S95: 44007 | T95: 44019 | U95: ACCEPTÉE | V95: 45124 | X95: 44050 | Y95: 44019 | AE95: =IF(COUNTIF($F$5:$F95,F95)>1,"0",COUNTIF($F$5:$F95,F95)) -> 1 | AF95: =COUNTIF($I95,"*GSB*")*$AE95 -> 0 | AG95: =COUNTIF($I95,"3a")*$AE95 -> 0 | AH95: =COUNTIF($I95,"4e")*$AE95 -> 1 | AI95: =COUNTIF($I95,"*CNEC*")*$AE95 -> 0 | AJ95: =COUNTIF($I95,"BAM")*$AE95 -> 0 | AK95: =(COUNTIF($I95,"AUTRES")+COUNTIF($I95,"UID")+COUNTIF($I95,"CII")+COUNTIF($I95,"EAE"))*$AE95 -> 0 | AL95: =COUNTIF($J95,"AIR")*$AE95 -> 0 | AM95: =COUNTIF($J95,"MAR")*$AE95 -> 0 | AN95: =COUNTIF($J95,"TER")*$AE95 -> 1
B96: 44005 | F96: 92 | I96: 4E | J96: TER | K96: Enfant mineur | O96: =TODAY()-N96 -> 44593 | P96: OUI | Q96: NON | R96: REFUSÉE | S96: 44006 | Y96: 44006 | AE96: =IF(COUNTIF($F$5:$F96,F96)>1,"0",COUNTIF($F$5:$F96,F96)) -> 1 | AF96: =COUNTIF($I96,"*GSB*")*$AE96 -> 0 | AG96: =COUNTIF($I96,"3a")*$AE96 -> 0 | AH96: =COUNTIF($I96,"4e")*$AE96 -> 1 | AI96: =COUNTIF($I96,"*CNEC*")*$AE96 -> 0 | AJ96: =COUNTIF($I96,"BAM")*$AE96 -> 0 | AK96: =(COUNTIF($I96,"AUTRES")+COUNTIF($I96,"UID")+COUNTIF($I96,"CII")+COUNTIF($I96,"EAE"))*$AE96 -> 0 | AL96: =COUNTIF($J96,"AIR")*$AE96 -> 0 | AM96: =COUNTIF($J96,"MAR")*$AE96 -> 0 | AN96: =COUNTIF($J96,"TER")*$AE96 -> 1
B97: 44005 | F97: 93 | I97: 3a | J97: TER | K97: Enfant majeur | O97: =TODAY()-N97 -> 44593 | P97: OUI | Q97: OK | R97: ACCEPTÉE | S97: 44006 | T97: 44019 | U97: ACCEPTÉE | V97: 46762 | X97: 44019 | Y97: 44019 | AE97: =IF(COUNTIF($F$5:$F97,F97)>1,"0",COUNTIF($F$5:$F97,F97)) -> 1 | AF97: =COUNTIF($I97,"*GSB*")*$AE97 -> 0 | AG97: =COUNTIF($I97,"3a")*$AE97 -> 1 | AH97: =COUNTIF($I97,"4e")*$AE97 -> 0 | AI97: =COUNTIF($I97,"*CNEC*")*$AE97 -> 0 | AJ97: =COUNTIF($I97,"BAM")*$AE97 -> 0 | AK97: =(COUNTIF($I97,"AUTRES")+COUNTIF($I97,"UID")+COUNTIF($I97,"CII")+COUNTIF($I97,"EAE"))*$AE97 -> 0 | AL97: =COUNTIF($J97,"AIR")*$AE97 -> 0 | AM97: =COUNTIF($J97,"MAR")*$AE97 -> 0 | AN97: =COUNTIF($J97,"TER")*$AE97 -> 1
B98: 44005 | F98: 94 | I98: 4E | J98: TER | K98: Enfant mineur | O98: =TODAY()-N98 -> 44593 | P98: OUI | Q98: OK | R98: ACCEPTÉE | S98: 44006 | T98: 44019 | U98: ACCEPTÉE | V98: 44827 | Y98: 44019 | AE98: =IF(COUNTIF($F$5:$F98,F98)>1,"0",COUNTIF($F$5:$F98,F98)) -> 1 | AF98: =COUNTIF($I98,"*GSB*")*$AE98 -> 0 | AG98: =COUNTIF($I98,"3a")*$AE98 -> 0 | AH98: =COUNTIF($I98,"4e")*$AE98 -> 1 | AI98: =COUNTIF($I98,"*CNEC*")*$AE98 -> 0 | AJ98: =COUNTIF($I98,"BAM")*$AE98 -> 0 | AK98: =(COUNTIF($I98,"AUTRES")+COUNTIF($I98,"UID")+COUNTIF($I98,"CII")+COUNTIF($I98,"EAE"))*$AE98 -> 0 | AL98: =COUNTIF($J98,"AIR")*$AE98 -> 0 | AM98: =COUNTIF($J98,"MAR")*$AE98 -> 0 | AN98: =COUNTIF($J98,"TER")*$AE98 -> 1
B99: 44006 | F99: 95 | I99: 4E | J99: TER | K99: Conjoint(e)/PACS | O99: =TODAY()-N99 -> 44593 | P99: OUI | Q99: OK | R99: ACCEPTÉE | S99: 44007 | T99: 44019 | U99: ACCEPTÉE | V99: 44699 | X99: 44050 | Y99: 44019 | AE99: =IF(COUNTIF($F$5:$F99,F99)>1,"0",COUNTIF($F$5:$F99,F99)) -> 1 | AF99: =COUNTIF($I99,"*GSB*")*$AE99 -> 0 | AG99: =COUNTIF($I99,"3a")*$AE99 -> 0 | AH99: =COUNTIF($I99,"4e")*$AE99 -> 1 | AI99: =COUNTIF($I99,"*CNEC*")*$AE99 -> 0 | AJ99: =COUNTIF($I99,"BAM")*$AE99 -> 0 | AK99: =(COUNTIF($I99,"AUTRES")+COUNTIF($I99,"UID")+COUNTIF($I99,"CII")+COUNTIF($I99,"EAE"))*$AE99 -> 0 | AL99: =COUNTIF($J99,"AIR")*$AE99 -> 0 | AM99: =COUNTIF($J99,"MAR")*$AE99 -> 0 | AN99: =COUNTIF($J99,"TER")*$AE99 -> 1
B100: 44007 | F100: 96 | I100: 4E | J100: TER | K100: Conjoint(e)/PACS | O100: =TODAY()-N100 -> 44593 | P100: OUI | Q100: OK | R100: ACCEPTÉE | S100: 44007 | T100: 44019 | U100: ACCEPTÉE | V100: 45627 | X100: 44060 | Y100: 44019 | AE100: =IF(COUNTIF($F$5:$F100,F100)>1,"0",COUNTIF($F$5:$F100,F100)) -> 1 | AF100: =COUNTIF($I100,"*GSB*")*$AE100 -> 0 | AG100: =COUNTIF($I100,"3a")*$AE100 -> 0 | AH100: =COUNTIF($I100,"4e")*$AE100 -> 1 | AI100: =COUNTIF($I100,"*CNEC*")*$AE100 -> 0 | AJ100: =COUNTIF($I100,"BAM")*$AE100 -> 0 | AK100: =(COUNTIF($I100,"AUTRES")+COUNTIF($I100,"UID")+COUNTIF($I100,"CII")+COUNTIF($I100,"EAE"))*$AE100 -> 0 | AL100: =COUNTIF($J100,"AIR")*$AE100 -> 0 | AM100: =COUNTIF($J100,"MAR")*$AE100 -> 0 | AN100: =COUNTIF($J100,"TER")*$AE100 -> 1
B101: 44006 | F101: 97 | I101: CNECL | J101: TER | K101: Enfant mineur | O101: =TODAY()-N101 -> 44593 | P101: OUI | Q101: OK | R101: ACCEPTÉE | S101: 44006 | T101: 44019 | U101: ACCEPTÉE | V101: 45519 | X101: 44020 | Y101: 44019 | AE101: =IF(COUNTIF($F$5:$F101,F101)>1,"0",COUNTIF($F$5:$F101,F101)) -> 1 | AF101: =COUNTIF($I101,"*GSB*")*$AE101 -> 0 | AG101: =COUNTIF($I101,"3a")*$AE101 -> 0 | AH101: =COUNTIF($I101,"4e")*$AE101 -> 0 | AI101: =COUNTIF($I101,"*CNEC*")*$AE101 -> 1 | AJ101: =COUNTIF($I101,"BAM")*$AE101 -> 0 | AK101: =(COUNTIF($I101,"AUTRES")+COUNTIF($I101,"UID")+COUNTIF($I101,"CII")+COUNTIF($I101,"EAE"))*$AE101 -> 0 | AL101: =COUNTIF($J101,"AIR")*$AE101 -> 0 | AM101: =COUNTIF($J101,"MAR")*$AE101 -> 0 | AN101: =COUNTIF($J101,"TER")*$AE101 -> 1
...

Sheet STATS
B1: DEPUIS LE 18.03.2020 | P1: DEPOSES en 2021
C3: GSB | D3: 3a | E3: 4e | F3: CNEC | G3: BAM | H3: AUTRES | I3: AIR | J3: MAR | K3: TER | L3: TOTAL | M3: % | Q3: GSB | R3: 3a | S3: 4e | T3: CNEC | U3: BAM | V3: AUTRES | W3: AIR | X3: MAR | Y3: TER | Z3: TOTAL | AA3: %
B4: DEMANDE | C4: =COUNTIF('Version 18.03.2020'!$I$5:$I820,"*GSB*") -> 32 | D4: =COUNTIF('Version 18.03.2020'!$I$5:$I820,"3a") -> 200 | E4: =COUNTIF('Version 18.03.2020'!$I$5:$I820,"4e") -> 273 | F4: =COUNTIF('Version 18.03.2020'!$I$5:$I820,"*CNEC*") -> 41 | G4: =COUNTIF('Version 18.03.2020'!$I$5:$I820,"BAM") -> 49 | H4: =SUM(COUNTIFS('Version 18.03.2020'!$I$5:$I820,{"AUTRES";"UID";"CII";"*EA*"})) -> 30 | I4: =COUNTIF('Version 18.03.2020'!$J$5:$J820,"AIR") -> 19 | J4: =COUNTIF('Version 18.03.2020'!$J$5:$J820,"MAR") -> 52 | K4: =COUNTIF('Version 18.03.2020'!$J$5:$J820,"TER") -> 555 | L4: =COUNTA('Version 18.03.2020'!$B$5:$B820) -> 626 | M4: =$L$4/$L$4 -> 1 | P4: DEMANDE | Q4: =COUNTIFS('Version 18.03.2020'!B:B,"*2021*",'Version 18.03.2020'!I:I,"*GSB*") -> 0 | R4: =COUNTIF('Version 18.03.2020'!$I$255:$I820,"3a") -> 126 | S4: =COUNTIF('Version 18.03.2020'!$I$255:$I820,"4e") -> 165 | T4: =COUNTIF('Version 18.03.2020'!$I$255:$I820,"*CNEC*") -> 25 | U4: =COUNTIF('Version 18.03.2020'!$I$255:$I820,"BAM") -> 23 | V4: =SUM(COUNTIFS('Version 18.03.2020'!$I$255:$I820,{"AUTRES";"UID";"CII";"*EA*"})) -> 18 | W4: =COUNTIF('Version 18.03.2020'!$J$255:$J820,"AIR") -> 12 | X4: =COUNTIF('Version 18.03.2020'!$J$255:$J820,"MAR") -> 24 | Y4: =COUNTIF('Version 18.03.2020'!$J$255:$J820,"TER") -> 340 | Z4: =COUNTA('Version 18.03.2020'!$A$255:$A820) -> 0 | AA4: =$Z$4/$Z$4 -> #DIV/0!
B5: CLASSÉE SANS SUITE | C5: =COUNTIFS('Version 18.03.2020'!$I$5:$I820,"*GSB*",'Version 18.03.2020'!$R$5:$R820,"SANS SUITE") -> 0 | D5: =COUNTIFS('Version 18.03.2020'!$I$5:$I820,"3a",'Version 18.03.2020'!$R$5:$R820,"SANS SUITE") -> 10 | E5: =COUNTIFS('Version 18.03.2020'!$I$5:$I820,"4e",'Version 18.03.2020'!$R$5:$R820,"SANS SUITE") -> 16 | F5: =COUNTIFS('Version 18.03.2020'!$I$5:$I820,"*CNEC*",'Version 18.03.2020'!$R$5:$R820,"SANS SUITE") -> 0 | G5: =COUNTIFS('Version 18.03.2020'!$I$5:$I820,"BAM",'Version 18.03.2020'!$R$5:$R820,"SANS SUITE") -> 2 | H5: =SUM(COUNTIFS('Version 18.03.2020'!$I$5:$I820,{"AUTRES";"UID";"CII";"*EA*"},'Version 18.03.2020'!$R$5:$R820,"SANS SUITE")) -> 1 | I5: =COUNTIFS('Version 18.03.2020'!$J$5:$J820,"AIR",'Version 18.03.2020'!$R$5:$R820,"SANS SUITE") -> 0 | J5: =COUNTIFS('Version 18.03.2020'!$J$5:$J820,"MAR",'Version 18.03.2020'!$R$5:$R820,"SANS SUITE") -> 3 | K5: =COUNTIFS('Version 18.03.2020'!$J$5:$J820,"TER",'Version 18.03.2020'!$R$5:$R820,"SANS SUITE") -> 26 | L5: =COUNTIF('Version 18.03.2020'!$R$5:$R820,"SANS SUITE") -> 29 | M5: =$L$5/$L$4 -> 0.046325879 | P5: CLASSÉE SANS SUITE | Q5: =COUNTIFS('Version 18.03.2020'!$I$255:$I820,"*GSB*",'Version 18.03.2020'!$R$255:$R820,"SANS SUITE") -> 0 | R5: =COUNTIFS('Version 18.03.2020'!$I$255:$I820,"3a",'Version 18.03.2020'!$R$255:$R820,"SANS SUITE") -> 4 | S5: =COUNTIFS('Version 18.03.2020'!$I$255:$I820,"4e",'Version 18.03.2020'!$R$255:$R820,"SANS SUITE") -> 5 | T5: =COUNTIFS('Version 18.03.2020'!$I$255:$I820,"*CNEC*",'Version 18.03.2020'!$R$255:$R820,"SANS SUITE") -> 0 | U5: =COUNTIFS('Version 18.03.2020'!$I$255:$I820,"BAM",'Version 18.03.2020'!$R$255:$R820,"SANS SUITE") -> 0 | V5: =SUM(COUNTIFS('Version 18.03.2020'!$I$255:$I820,{"AUTRES";"UID";"CII";"*EA*"},'Version 18.03.2020'!$R$255:$R820,"SANS SUITE")) -> 0 | W5: =COUNTIFS('Version 18.03.2020'!$J$255:$J820,"AIR",'Version 18.03.2020'!$R$255:$R820,"SANS SUITE") -> 0 | X5: =COUNTIFS('Version 18.03.2020'!$J$255:$J820,"MAR",'Version 18.03.2020'!$R$255:$R820,"SANS SUITE") -> 0 | Y5: =COUNTIFS('Version 18.03.2020'!$J$255:$J820,"TER",'Version 18.03.2020'!$R$255:$R820,"SANS SUITE") -> 9 | Z5: =COUNTIF('Version 18.03.2020'!$R$255:$R820,"SANS SUITE") -> 9 | AA5: =$Z$5/$Z$4 -> #DIV/0!
B6: ACCEPTÉE GSB | C6: =COUNTIFS('Version 18.03.2020'!$I$5:$I820,"*GSB*",'Version 18.03.2020'!$R$5:$R820,"ACCEPTÉE") -> 29 | D6: =COUNTIFS('Version 18.03.2020'!$I$5:$I820,"3a",'Version 18.03.2020'!$R$5:$R820,"ACCEPTÉE") -> 175 | E6: =COUNTIFS('Version 18.03.2020'!$I$5:$I820,"4e",'Version 18.03.2020'!$R$5:$R820,"ACCEPTÉE") -> 219 | F6: =COUNTIFS('Version 18.03.2020'!$I$5:$I820,"*CNEC*",'Version 18.03.2020'!$R$5:$R820,"ACCEPTÉE") -> 36 | G6: =COUNTIFS('Version 18.03.2020'!$I$5:$I820,"BAM",'Version 18.03.2020'!$R$5:$R820,"ACCEPTÉE") -> 42 | H6: =SUM(COUNTIFS('Version 18.03.2020'!$I$5:$I820,{"AUTRES";"UID";"CII";"*EA*"},'Version 18.03.2020'!$R$5:$R820,"ACCEPTÉE")) -> 28 | I6: =COUNTIFS('Version 18.03.2020'!$J$5:$J820,"AIR",'Version 18.03.2020'!$R$5:$R820,"ACCEPTÉE") -> 19 | J6: =COUNTIFS('Version 18.03.2020'!$J$5:$J820,"MAR",'Version 18.03.2020'!$R$5:$R820,"ACCEPTÉE") -> 44 | K6: =COUNTIFS('Version 18.03.2020'!$J$5:$J820,"TER",'Version 18.03.2020'!$R$5:$R820,"ACCEPTÉE") -> 466 | L6: =COUNTIF('Version 18.03.2020'!$R$5:$R820,"ACCEPTÉE") -> 529 | M6: =$L$6/$L$4 -> 0.84504792 | P6: ACCEPTÉE GSB | Q6: =COUNTIFS('Version 18.03.2020'!$I$255:$I820,"*GSB*",'Version 18.03.2020'!$R$255:$R820,"ACCEPTÉE") -> 16 | R6: =COUNTIFS('Version 18.03.2020'!$I$255:$I820,"3a",'Version 18.03.2020'!$R$255:$R820,"ACCEPTÉE") -> 111 | S6: =COUNTIFS('Version 18.03.2020'!$I$255:$I820,"4e",'Version 18.03.2020'!$R$255:$R820,"ACCEPTÉE") -> 135 | T6: =COUNTIFS('Version 18.03.2020'!$I$255:$I820,"*CNEC*",'Version 18.03.2020'!$R$255:$R820,"ACCEPTÉE") -> 22 | U6: =COUNTIFS('Version 18.03.2020'!$I$255:$I820,"BAM",'Version 18.03.2020'!$R$255:$R820,"ACCEPTÉE") -> 20 | V6: =SUM(COUNTIFS('Version 18.03.2020'!$I$255:$I820,{"AUTRES";"UID";"CII";"*EA*"},'Version 18.03.2020'!$R$255:$R820,"ACCEPTÉE")) -> 17 | W6: =COUNTIFS('Version 18.03.2020'!$J$255:$J820,"AIR",'Version 18.03.2020'!$R$255:$R820,"ACCEPTÉE") -> 12 | X6: =COUNTIFS('Version 18.03.2020'!$J$255:$J820,"MAR",'Version 18.03.2020'!$R$255:$R820,"ACCEPTÉE") -> 21 | Y6: =COUNTIFS('Version 18.03.2020'!$J$255:$J820,"TER",'Version 18.03.2020'!$R$255:$R820,"ACCEPTÉE") -> 288 | Z6: =COUNTIF('Version 18.03.2020'!$R$255:$R820,"ACCEPTÉE") -> 321 | AA6: =$Z$6/$Z$4 -> #DIV/0!
B7: REFUSÉE GSB | C7: =COUNTIFS('Version 18.03.2020'!$I$5:$I820,"*GSB*",'Version 18.03.2020'!$R$5:$R820,"REFUSÉE") -> 3 | D7: =COUNTIFS('Version 18.03.2020'!$I$5:$I820,"3a",'Version 18.03.2020'!$R$5:$R820,"REFUSÉE") -> 7 | E7: =COUNTIFS('Version 18.03.2020'!$I$5:$I820,"4e",'Version 18.03.2020'!$R$5:$R820,"REFUSÉE") -> 27 | F7: =COUNTIFS('Version 18.03.2020'!$I$5:$I820,"*CNEC*",'Version 18.03.2020'!$R$5:$R820,"REFUSÉE") -> 4 | G7: =COUNTIFS('Version 18.03.2020'!$I$5:$I820,"BAM",'Version 18.03.2020'!$R$5:$R820,"REFUSÉE") -> 3 | H7: =SUM(COUNTIFS('Version 18.03.2020'!$I$5:$I820,{"AUTRES";"UID";"CII";"*EA*"},'Version 18.03.2020'!$R$5:$R820,"REFUSÉE")) -> 0 | I7: =COUNTIFS('Version 18.03.2020'!$J$5:$J820,"AIR",'Version 18.03.2020'!$R$5:$R820,"REFUSÉE") -> 0 | J7: =COUNTIFS('Version 18.03.2020'!$J$5:$J820,"MAR",'Version 18.03.2020'!$R$5:$R820,"REFUSÉE") -> 3 | K7: =COUNTIFS('Version 18.03.2020'!$J$5:$J820,"TER",'Version 18.03.2020'!$R$5:$R820,"REFUSÉE") -> 42 | L7: =COUNTIF('Version 18.03.2020'!$R$5:$R820,"REFUSÉE") -> 45 | M7: =$L$7/$L$4 -> 0.071884984 | P7: REFUSÉE GSB | Q7: =COUNTIFS('Version 18.03.2020'!$I$255:$I820,"*GSB*",'Version 18.03.2020'!$R$255:$R820,"REFUSÉE") -> 2 | R7: =COUNTIFS('Version 18.03.2020'!$I$255:$I820,"3a",'Version 18.03.2020'!$R$255:$R820,"REFUSÉE") -> 3 | S7: =COUNTIFS('Version 18.03.2020'!$I$255:$I820,"4e",'Version 18.03.2020'!$R$255:$R820,"REFUSÉE") -> 14 | T7: =COUNTIFS('Version 18.03.2020'!$I$255:$I820,"*CNEC*",'Version 18.03.2020'!$R$255:$R820,"REFUSÉE") -> 2 | U7: =COUNTIFS('Version 18.03.2020'!$I$255:$I820,"BAM",'Version 18.03.2020'!$R$255:$R820,"REFUSÉE") -> 1 | V7: =SUM(COUNTIFS('Version 18.03.2020'!$I$255:$I820,{"AUTRES";"UID";"CII";"*EA*"},'Version 18.03.2020'!$R$255:$R820,"REFUSÉE")) -> 0 | W7: =COUNTIFS('Version 18.03.2020'!$J$255:$J820,"AIR",'Version 18.03.2020'!$R$255:$R820,"REFUSÉE") -> 0 | X7: =COUNTIFS('Version 18.03.2020'!$J$255:$J820,"MAR",'Version 18.03.2020'!$R$255:$R820,"REFUSÉE") -> 1 | Y7: =COUNTIFS('Version 18.03.2020'!$J$255:$J820,"TER",'Version 18.03.2020'!$R$255:$R820,"REFUSÉE") -> 22 | Z7: =COUNTIF('Version 18.03.2020'!$R$255:$R820,"REFUSÉE") -> 23 | AA7: =$Z$7/$Z$4 -> #DIV/0!
B8: ACCEPTÉE PF | C8: =COUNTIFS('Version 18.03.2020'!$I$5:$I820,"*GSB*",'Version 18.03.2020'!$U$5:$U820,"ACCEPTÉE") -> 29 | D8: =COUNTIFS('Version 18.03.2020'!$I$5:$I820,"3a",'Version 18.03.2020'!$U$5:$U820,"ACCEPTÉE") -> 167 | E8: =COUNTIFS('Version 18.03.2020'!$I$5:$I820,"4e",'Version 18.03.2020'!$U$5:$U820,"ACCEPTÉE") -> 213 | F8: =COUNTIFS('Version 18.03.2020'!$I$5:$I820,"*CNEC*",'Version 18.03.2020'!$U$5:$U820,"ACCEPTÉE") -> 36 | G8: =COUNTIFS('Version 18.03.2020'!$I$5:$I820,"BAM",'Version 18.03.2020'!$U$5:$U820,"ACCEPTÉE") -> 42 | H8: =SUM(COUNTIFS('Version 18.03.2020'!$I$5:$I820,{"AUTRES";"UID";"CII";"*EA*"},'Version 18.03.2020'!$U$5:$U820,"ACCEPTÉE")) -> 28 | I8: =COUNTIFS('Version 18.03.2020'!$J$5:$J820,"AIR",'Version 18.03.2020'!$U$5:$U820,"ACCEPTÉE") -> 19 | J8: =COUNTIFS('Version 18.03.2020'!$J$5:$J820,"MAR",'Version 18.03.2020'!$U$5:$U820,"ACCEPTÉE") -> 44 | K8: =COUNTIFS('Version 18.03.2020'!$J$5:$J820,"TER",'Version 18.03.2020'!$U$5:$U820,"ACCEPTÉE") -> 452 | L8: =COUNTIF('Version 18.03.2020'!$U$5:$U820,"ACCEPTÉE") -> 515 | M8: =$L$8/$L$4 -> 0.82268371 | N8: =$L$8/$L$6 -> 0.97353497 | P8: ACCEPTÉE PF | Q8: =COUNTIFS('Version 18.03.2020'!$I$255:$I820,"*GSB*",'Version 18.03.2020'!$U$255:$U820,"ACCEPTÉE") -> 16 | R8: =COUNTIFS('Version 18.03.2020'!$I$255:$I820,"3a",'Version 18.03.2020'!$U$255:$U820,"ACCEPTÉE") -> 105 | S8: =COUNTIFS('Version 18.03.2020'!$I$255:$I820,"4e",'Version 18.03.2020'!$U$255:$U820,"ACCEPTÉE") -> 131 | T8: =COUNTIFS('Version 18.03.2020'!$I$255:$I820,"*CNEC*",'Version 18.03.2020'!$U$255:$U820,"ACCEPTÉE") -> 22 | U8: =COUNTIFS('Version 18.03.2020'!$I$255:$I820,"BAM",'Version 18.03.2020'!$U$255:$U820,"ACCEPTÉE") -> 20 | V8: =SUM(COUNTIFS('Version 18.03.2020'!$I$255:$I820,{"AUTRES";"UID";"CII";"*EA*"},'Version 18.03.2020'!$U$255:$U820,"ACCEPTÉE")) -> 17 | W8: =COUNTIFS('Version 18.03.2020'!$J$255:$J820,"AIR",'Version 18.03.2020'!$U$255:$U820,"ACCEPTÉE") -> 12 | X8: =COUNTIFS('Version 18.03.2020'!$J$255:$J820,"MAR",'Version 18.03.2020'!$U$255:$U820,"ACCEPTÉE") -> 21 | Y8: =COUNTIFS('Version 18.03.2020'!$J$255:$J820,"TER",'Version 18.03.2020'!$U$255:$U820,"ACCEPTÉE") -> 278 | Z8: =COUNTIF('Version 18.03.2020'!$U$255:$U820,"ACCEPTÉE") -> 311 | AA8: =$Z$8/$Z$4 -> #DIV/0! | AB8: =$Z$8/$Z$6 -> 0.96884735
B9: REFUSÉE PF | C9: =COUNTIFS('Version 18.03.2020'!$I$5:$I820,"*GSB*",'Version 18.03.2020'!$U$5:$U820,"REFUSÉE") -> 0 | D9: =COUNTIFS('Version 18.03.2020'!$I$5:$I820,"3a",'Version 18.03.2020'!$U$5:$U820,"REFUSÉE") -> 3 | E9: =COUNTIFS('Version 18.03.2020'!$I$5:$I820,"4e",'Version 18.03.2020'!$U$5:$U820,"REFUSÉE") -> 3 | F9: =COUNTIFS('Version 18.03.2020'!$I$5:$I820,"*CNEC*",'Version 18.03.2020'!$U$5:$U820,"REFUSÉE") -> 0 | G9: =COUNTIFS('Version 18.03.2020'!$I$5:$I820,"BAM",'Version 18.03.2020'!$U$5:$U820,"REFUSÉE") -> 0 | H9: =SUM(COUNTIFS('Version 18.03.2020'!$I$5:$I820,{"AUTRES";"UID";"CII";"*EA*"},'Version 18.03.2020'!$U$5:$U820,"REFUSÉE")) -> 0 | I9: =COUNTIFS('Version 18.03.2020'!$J$5:$J820,"AIR",'Version 18.03.2020'!$U$5:$U820,"REFUSÉE") -> 0 | J9: =COUNTIFS('Version 18.03.2020'!$J$5:$J820,"MAR",'Version 18.03.2020'!$U$5:$U820,"REFUSÉE") -> 0 | K9: =COUNTIFS('Version 18.03.2020'!$J$5:$J820,"TER",'Version 18.03.2020'!$U$5:$U820,"REFUSÉE") -> 6 | L9: =COUNTIF('Version 18.03.2020'!$U$5:$U820,"REFUSÉE") -> 6 | M9: =$L$9/$L$4 -> 0.0095846645 | N9: =$L$9/$L$6 -> 0.011342155 | P9: REFUSÉE PF | Q9: =COUNTIFS('Version 18.03.2020'!$I$255:$I820,"*GSB*",'Version 18.03.2020'!$U$255:$U820,"REFUSÉE") -> 0 | R9: =COUNTIFS('Version 18.03.2020'!$I$255:$I820,"3a",'Version 18.03.2020'!$U$255:$U820,"REFUSÉE") -> 1 | S9: =COUNTIFS('Version 18.03.2020'!$I$255:$I820,"4e",'Version 18.03.2020'!$U$255:$U820,"REFUSÉE") -> 1 | T9: =COUNTIFS('Version 18.03.2020'!$I$255:$I820,"*CNEC*",'Version 18.03.2020'!$U$255:$U820,"REFUSÉE") -> 0 | U9: =COUNTIFS('Version 18.03.2020'!$I$255:$I820,"BAM",'Version 18.03.2020'!$U$255:$U820,"REFUSÉE") -> 0 | V9: =SUM(COUNTIFS('Version 18.03.2020'!$I$255:$I820,{"AUTRES";"UID";"CII";"*EA*"},'Version 18.03.2020'!$U$255:$U820,"REFUSÉE")) -> 0 | W9: =COUNTIFS('Version 18.03.2020'!$J$255:$J820,"AIR",'Version 18.03.2020'!$U$255:$U820,"REFUSÉE") -> 0 | X9: =COUNTIFS('Version 18.03.2020'!$J$255:$J820,"MAR",'Version 18.03.2020'!$U$255:$U820,"REFUSÉE") -> 0 | Y9: =COUNTIFS('Version 18.03.2020'!$J$255:$J820,"TER",'Version 18.03.2020'!$U$255:$U820,"REFUSÉE") -> 2 | Z9: =COUNTIF('Version 18.03.2020'!$U$255:$U820,"REFUSÉE") -> 2 | AA9: =$Z$9/$Z$4 -> #DIV/0! | AB9: =$Z$9/$Z$6 -> 0.0062305296
B10: NON TRAITÉE PF | C10: =COUNTIFS('Version 18.03.2020'!$I$5:$I820,"*GSB*",'Version 18.03.2020'!$U$5:$U820,"NON TRAITÉE") -> 0 | D10: =COUNTIFS('Version 18.03.2020'!$I$5:$I820,"3a",'Version 18.03.2020'!$U$5:$U820,"NON TRAITÉE") -> 0 | E10: =COUNTIFS('Version 18.03.2020'!$I$5:$I820,"4e",'Version 18.03.2020'!$U$5:$U820,"NON TRAITÉE") -> 0 | F10: =COUNTIFS('Version 18.03.2020'!$I$5:$I820,"*CNEC*",'Version 18.03.2020'!$U$5:$U820,"NON TRAITÉE") -> 0 | G10: =COUNTIFS('Version 18.03.2020'!$I$5:$I820,"BAM",'Version 18.03.2020'!$U$5:$U820,"NON TRAITÉE") -> 0 | H10: =SUM(COUNTIFS('Version 18.03.2020'!$I$5:$I820,{"AUTRES";"UID";"CII";"*EA*"},'Version 18.03.2020'!$U$5:$U820,"NON TRAITÉE")) -> 0 | I10: =COUNTIFS('Version 18.03.2020'!$J$5:$J820,"AIR",'Version 18.03.2020'!$U$5:$U820,"NON TRAITÉE") -> 0 | J10: =COUNTIFS('Version 18.03.2020'!$J$5:$J820,"MAR",'Version 18.03.2020'!$U$5:$U820,"NON TRAITÉE") -> 0 | K10: =COUNTIFS('Version 18.03.2020'!$J$5:$J820,"TER",'Version 18.03.2020'!$U$5:$U820,"NON TRAITÉE") -> 0 | L10: =COUNTIF('Version 18.03.2020'!$U$5:$U820,"NON TRAITÉE") -> 0 | M10: =$L$10/$L$4 -> 0 | N10: =$L$10/$L$6 -> 0 | P10: NON TRAITÉE PF | Q10: =COUNTIFS('Version 18.03.2020'!$I$255:$I820,"*GSB*",'Version 18.03.2020'!$U$255:$U820,"NON TRAITÉE") -> 0 | R10: =COUNTIFS('Version 18.03.2020'!$I$255:$I820,"3a",'Version 18.03.2020'!$U$255:$U820,"NON TRAITÉE") -> 0 | S10: =COUNTIFS('Version 18.03.2020'!$I$255:$I820,"4e",'Version 18.03.2020'!$U$255:$U820,"NON TRAITÉE") -> 0 | T10: =COUNTIFS('Version 18.03.2020'!$I$255:$I820,"*CNEC*",'Version 18.03.2020'!$U$255:$U820,"NON TRAITÉE") -> 0 | U10: =COUNTIFS('Version 18.03.2020'!$I$255:$I820,"BAM",'Version 18.03.2020'!$U$255:$U820,"NON TRAITÉE") -> 0 | V10: =SUM(COUNTIFS('Version 18.03.2020'!$I$255:$I820,{"AUTRES";"UID";"CII";"*EA*"},'Version 18.03.2020'!$U$255:$U820,"NON TRAITÉE")) -> 0 | W10: =COUNTIFS('Version 18.03.2020'!$J$255:$J820,"AIR",'Version 18.03.2020'!$U$255:$U820,"NON TRAITÉE") -> 0 | X10: =COUNTIFS('Version 18.03.2020'!$J$255:$J820,"MAR",'Version 18.03.2020'!$U$255:$U820,"NON TRAITÉE") -> 0 | Y10: =COUNTIFS('Version 18.03.2020'!$J$255:$J820,"TER",'Version 18.03.2020'!$U$255:$U820,"NON TRAITÉE") -> 0 | Z10: =COUNTIF('Version 18.03.2020'!$U$255:$U820,"NON TRAITÉE") -> 0 | AA10: =$Z$10/$Z$4 -> #DIV/0! | AB10: =$Z$10/$Z$6 -> 0
C12: GSB | D12: 3a | E12: 4e | F12: CNEC | G12: BAM | H12: AUTRES | I12: AIR | J12: MAR | K12: TER | L12: TOTAL | M12: % | Q12: GSB | R12: 3a | S12: 4e | T12: CNEC | U12: BAM | V12: AUTRES | W12: AIR | X12: MAR | Y12: TER | Z12: TOTAL | AA12: %
B13: DEMANDE | C13: =COUNTIF('Version 18.03.2020'!$I$5:$I830,"GSB CCN") -> 0 | D13: =COUNTIF('Version 18.03.2020'!$I$5:$I830,"3a") -> 200 | E13: =COUNTIF('Version 18.03.2020'!$I$5:$I830,"4e") -> 273 | F13: =COUNTIF('Version 18.03.2020'!$I$5:$I830,"*CNEC*") -> 41 | G13: =COUNTIF('Version 18.03.2020'!$I$5:$I830,"BAM") -> 49 | H13: =SUM(COUNTIFS('Version 18.03.2020'!$I$5:$I830,{"AUTRES";"UID";"CII";"*EA*"})) -> 30 | I13: =COUNTIF('Version 18.03.2020'!$J$5:$J830,"AIR") -> 19 | J13: =COUNTIF('Version 18.03.2020'!$J$5:$J830,"MAR") -> 52 | K13: =COUNTIF('Version 18.03.2020'!$J$5:$J830,"TER") -> 555 | L13: =COUNTA('Version 18.03.2020'!$A$5:$A830) -> 0 | M13: =$L$4/$L$4 -> 1 | P13: DEMANDE | Q13: =COUNTIF('Version 18.03.2020'!$I$255:$I830,"GSB CCN") -> 0 | R13: =COUNTIF('Version 18.03.2020'!$I$255:$I830,"3a") -> 126 | S13: =COUNTIF('Version 18.03.2020'!$I$255:$I830,"4e") -> 165 | T13: =COUNTIF('Version 18.03.2020'!$I$255:$I830,"*CNEC*") -> 25 | U13: =COUNTIF('Version 18.03.2020'!$I$255:$I830,"BAM") -> 23 | V13: =SUM(COUNTIFS('Version 18.03.2020'!$I$255:$I830,{"AUTRES";"UID";"CII";"*EA*"})) -> 18 | W13: =COUNTIF('Version 18.03.2020'!$J$255:$J830,"AIR") -> 12 | X13: =COUNTIF('Version 18.03.2020'!$J$255:$J830,"MAR") -> 24 | Y13: =COUNTIF('Version 18.03.2020'!$J$255:$J830,"TER") -> 340 | Z13: =COUNTA('Version 18.03.2020'!$A$255:$A830) -> 0 | AA13: =$Z$4/$Z$4 -> #DIV/0!
B14: Conjoint(e)/PACS | C14: =COUNTIFS('Version 18.03.2020'!$I$5:$I830,"*GSB*",'Version 18.03.2020'!$K$5:$K830,"Conjoint(e)/PACS") -> 9 | D14: =COUNTIFS('Version 18.03.2020'!$I$5:$I830,"3a",'Version 18.03.2020'!$K$5:$K830,"Conjoint(e)/PACS") -> 101 | E14: =COUNTIFS('Version 18.03.2020'!$I$5:$I830,"4e",'Version 18.03.2020'!$K$5:$K830,"Conjoint(e)/PACS") -> 128 | F14: =COUNTIFS('Version 18.03.2020'!$I$5:$I830,"*CNEC*",'Version 18.03.2020'!$K$5:$K830,"Conjoint(e)/PACS") -> 14 | G14: =COUNTIFS('Version 18.03.2020'!$I$5:$I830,"BAM",'Version 18.03.2020'!$K$5:$K830,"Conjoint(e)/PACS") -> 18 | H14: =SUM(COUNTIFS('Version 18.03.2020'!$I$5:$I830,{"AUTRES";"UID";"CII";"*EA*"},'Version 18.03.2020'!$K$5:$K830,"Conjoint(e)/PACS")) -> 11 | I14: =COUNTIFS('Version 18.03.2020'!$J$5:$J830,"AIR",'Version 18.03.2020'!$K$5:$K830,"Conjoint(e)/PACS") -> 8 | J14: =COUNTIFS('Version 18.03.2020'!$J$5:$J830,"MAR",'Version 18.03.2020'!$K$5:$K830,"Conjoint(e)/PACS") -> 19 | K14: =COUNTIFS('Version 18.03.2020'!$J$5:$J830,"TER",'Version 18.03.2020'!$K$5:$K830,"Conjoint(e)/PACS") -> 254 | L14: =COUNTIF('Version 18.03.2020'!$K$5:$K830,"Conjoint(e)/PACS") -> 281 | M14: =L14/L13 -> #DIV/0! | P14: Conjoint(e)/PACS | Q14: =COUNTIFS('Version 18.03.2020'!$I$255:$I830,"*GSB*",'Version 18.03.2020'!$K$255:$K830,"Conjoint(e)/PACS") -> 5 | R14: =COUNTIFS('Version 18.03.2020'!$I$255:$I830,"3a",'Version 18.03.2020'!$K$255:$K830,"Conjoint(e)/PACS") -> 67 | S14: =COUNTIFS('Version 18.03.2020'!$I$255:$I830,"4e",'Version 18.03.2020'!$K$255:$K830,"Conjoint(e)/PACS") -> 70 | T14: =COUNTIFS('Version 18.03.2020'!$I$255:$I830,"*CNEC*",'Version 18.03.2020'!$K$255:$K830,"Conjoint(e)/PACS") -> 10 | U14: =COUNTIFS('Version 18.03.2020'!$I$255:$I830,"BAM",'Version 18.03.2020'!$K$255:$K830,"Conjoint(e)/PACS") -> 11 | V14: =SUM(COUNTIFS('Version 18.03.2020'!$I$255:$I830,{"AUTRES";"UID";"CII";"*EA*"},'Version 18.03.2020'!$K$255:$K830,"Conjoint(e)/PACS")) -> 6 | W14: =COUNTIFS('Version 18.03.2020'!$J$255:$J830,"AIR",'Version 18.03.2020'!$K$255:$K830,"Conjoint(e)/PACS") -> 4 | X14: =COUNTIFS('Version 18.03.2020'!$J$255:$J830,"MAR",'Version 18.03.2020'!$K$255:$K830,"Conjoint(e)/PACS") -> 12 | Y14: =COUNTIFS('Version 18.03.2020'!$J$255:$J830,"TER",'Version 18.03.2020'!$K$255:$K830,"Conjoint(e)/PACS") -> 153 | Z14: =COUNTIF('Version 18.03.2020'!$K$255:$K830,"Conjoint(e)/PACS") -> 169 | AA14: =Z14/Z13 -> #DIV/0!
B15: Enfant mineur | C15: =COUNTIFS('Version 18.03.2020'!$I$5:$I831,"*GSB*",'Version 18.03.2020'!$K$5:$K831,"Enfant mineur") -> 19 | D15: =COUNTIFS('Version 18.03.2020'!$I$5:$I831,"3a",'Version 18.03.2020'!$K$5:$K831,"Enfant mineur") -> 74 | E15: =COUNTIFS('Version 18.03.2020'!$I$5:$I831,"4e",'Version 18.03.2020'!$K$5:$K831,"Enfant mineur") -> 126 | F15: =COUNTIFS('Version 18.03.2020'!$I$5:$I831,"*CNEC*",'Version 18.03.2020'!$K$5:$K831,"Enfant mineur") -> 25 | G15: =COUNTIFS('Version 18.03.2020'!$I$5:$I831,"BAM",'Version 18.03.2020'!$K$5:$K831,"Enfant mineur") -> 28 | H15: =SUM(COUNTIFS('Version 18.03.2020'!$I$5:$I831,{"AUTRES";"UID";"CII";"*EA*"},'Version 18.03.2020'!$K$5:$K831,"Enfant mineur")) -> 17 | I15: =COUNTIFS('Version 18.03.2020'!$J$5:$J831,"AIR",'Version 18.03.2020'!$K$5:$K831,"Enfant mineur") -> 11 | J15: =COUNTIFS('Version 18.03.2020'!$J$5:$J831,"MAR",'Version 18.03.2020'!$K$5:$K831,"Enfant mineur") -> 30 | K15: =COUNTIFS('Version 18.03.2020'!$J$5:$J831,"TER",'Version 18.03.2020'!$K$5:$K831,"Enfant mineur") -> 249 | L15: =COUNTIF('Version 18.03.2020'!$K$5:$K831,"Enfant mineur") -> 290 | M15: =L15/L13 -> #DIV/0! | P15: Enfant mineur | Q15: =COUNTIFS('Version 18.03.2020'!$I$255:$I831,"*GSB*",'Version 18.03.2020'!$K$255:$K831,"Enfant mineur") -> 11 | R15: =COUNTIFS('Version 18.03.2020'!$I$255:$I831,"3a",'Version 18.03.2020'!$K$255:$K831,"Enfant mineur") -> 43 | S15: =COUNTIFS('Version 18.03.2020'!$I$255:$I831,"4e",'Version 18.03.2020'!$K$255:$K831,"Enfant mineur") -> 83 | T15: =COUNTIFS('Version 18.03.2020'!$I$255:$I831,"*CNEC*",'Version 18.03.2020'!$K$255:$K831,"Enfant mineur") -> 13 | U15: =COUNTIFS('Version 18.03.2020'!$I$255:$I831,"BAM",'Version 18.03.2020'!$K$255:$K831,"Enfant mineur") -> 11 | V15: =SUM(COUNTIFS('Version 18.03.2020'!$I$255:$I831,{"AUTRES";"UID";"CII";"*EA*"},'Version 18.03.2020'!$K$255:$K831,"Enfant mineur")) -> 11 | W15: =COUNTIFS('Version 18.03.2020'!$J$255:$J831,"AIR",'Version 18.03.2020'!$K$255:$K831,"Enfant mineur") -> 8 | X15: =COUNTIFS('Version 18.03.2020'!$J$255:$J831,"MAR",'Version 18.03.2020'!$K$255:$K831,"Enfant mineur") -> 11 | Y15: =COUNTIFS('Version 18.03.2020'!$J$255:$J831,"TER",'Version 18.03.2020'!$K$255:$K831,"Enfant mineur") -> 154 | Z15: =COUNTIF('Version 18.03.2020'!$K$255:$K831,"Enfant mineur") -> 173 | AA15: =Z15/Z13 -> #DIV/0!
B16: Enfant majeur | C16: =COUNTIFS('Version 18.03.2020'!$I$5:$I832,"*GSB*",'Version 18.03.2020'!$K$5:$K832,"Enfant majeur") -> 4 | D16: =COUNTIFS('Version 18.03.2020'!$I$5:$I832,"3a",'Version 18.03.2020'!$K$5:$K832,"Enfant majeur") -> 25 | E16: =COUNTIFS('Version 18.03.2020'!$I$5:$I832,"4e",'Version 18.03.2020'!$K$5:$K832,"Enfant majeur") -> 19 | F16: =COUNTIFS('Version 18.03.2020'!$I$5:$I832,"*CNEC*",'Version 18.03.2020'!$K$5:$K832,"Enfant majeur") -> 2 | G16: =COUNTIFS('Version 18.03.2020'!$I$5:$I832,"BAM",'Version 18.03.2020'!$K$5:$K832,"Enfant majeur") -> 2 | H16: =SUM(COUNTIFS('Version 18.03.2020'!$I$5:$I832,{"AUTRES";"UID";"CII";"*EA*"},'Version 18.03.2020'!$K$5:$K832,"Enfant majeur")) -> 2 | I16: =COUNTIFS('Version 18.03.2020'!$J$5:$J832,"AIR",'Version 18.03.2020'!$K$5:$K832,"Enfant majeur") -> 0 | J16: =COUNTIFS('Version 18.03.2020'!$J$5:$J832,"MAR",'Version 18.03.2020'!$K$5:$K832,"Enfant majeur") -> 2 | K16: =COUNTIFS('Version 18.03.2020'!$J$5:$J832,"TER",'Version 18.03.2020'!$K$5:$K832,"Enfant majeur") -> 52 | L16: =COUNTIF('Version 18.03.2020'!$K$5:$K832,"Enfant majeur") -> 54 | M16: =L16/L13 -> #DIV/0! | P16: Enfant majeur | Q16: =COUNTIFS('Version 18.03.2020'!$I$255:$I832,"*GSB*",'Version 18.03.2020'!$K$255:$K832,"Enfant majeur") -> 2 | R16: =COUNTIFS('Version 18.03.2020'!$I$255:$I832,"3a",'Version 18.03.2020'!$K$255:$K832,"Enfant majeur") -> 16 | S16: =COUNTIFS('Version 18.03.2020'!$I$255:$I832,"4e",'Version 18.03.2020'!$K$255:$K832,"Enfant majeur") -> 12 | T16: =COUNTIFS('Version 18.03.2020'!$I$255:$I832,"*CNEC*",'Version 18.03.2020'!$K$255:$K832,"Enfant majeur") -> 2 | U16: =COUNTIFS('Version 18.03.2020'!$I$255:$I832,"BAM",'Version 18.03.2020'!$K$255:$K832,"Enfant majeur") -> 1 | V16: =SUM(COUNTIFS('Version 18.03.2020'!$I$255:$I832,{"AUTRES";"UID";"CII";"*EA*"},'Version 18.03.2020'!$K$255:$K832,"Enfant majeur")) -> 1 | W16: =COUNTIFS('Version 18.03.2020'!$J$255:$J832,"AIR",'Version 18.03.2020'!$K$255:$K832,"Enfant majeur") -> 0 | X16: =COUNTIFS('Version 18.03.2020'!$J$255:$J832,"MAR",'Version 18.03.2020'!$K$255:$K832,"Enfant majeur") -> 1 | Y16: =COUNTIFS('Version 18.03.2020'!$J$255:$J832,"TER",'Version 18.03.2020'!$K$255:$K832,"Enfant majeur") -> 33 | Z16: =COUNTIF('Version 18.03.2020'!$K$255:$K832,"Enfant majeur") -> 34 | AA16: =Z16/Z13 -> #DIV/0!
C18: GSB | D18: 3a | E18: 4e | F18: CNEC | G18: BAM | H18: AUTRES | I18: AIR | J18: MAR | K18: TER | L18: TOTAL | Q18: GSB | R18: 3a | S18: 4e | T18: CNEC | U18: BAM | V18: AUTRES | W18: AIR | X18: MAR | Y18: TER | Z18: TOTAL
B19: Administrés différents | C19: ='Version 18.03.2020'!AF3 -> 32 | D19: ='Version 18.03.2020'!AG3 -> 200 | E19: ='Version 18.03.2020'!AH3 -> 273 | F19: ='Version 18.03.2020'!AI3 -> 41 | G19: ='Version 18.03.2020'!AJ3 -> 49 | H19: ='Version 18.03.2020'!AK3 -> 30 | I19: ='Version 18.03.2020'!AL3 -> 19 | J19: ='Version 18.03.2020'!AM3 -> 52 | K19: ='Version 18.03.2020'!AN3 -> 555 | L19: {=SUM(IF('Version 18.03.2020'!F5:F820<>"",1/COUNTIF('Version 18.03.2020'!F5:F820,'Version 18.03.2020'!F5:F820)))} -> 626 | P19: Administrés différents | Q19: ='Version 18.03.2020'!AF2 -> 18 | R19: ='Version 18.03.2020'!AG2 -> 126 | S19: ='Version 18.03.2020'!AH2 -> 165 | T19: ='Version 18.03.2020'!AI2 -> 25 | U19: ='Version 18.03.2020'!AJ2 -> 23 | V19: ='Version 18.03.2020'!AK2 -> 18 | W19: ='Version 18.03.2020'!AL2 -> 12 | X19: ='Version 18.03.2020'!AM2 -> 24 | Y19: ='Version 18.03.2020'!AN2 -> 340 | Z19: {=SUM(IF('Version 18.03.2020'!F255:F820<>"",1/COUNTIF('Version 18.03.2020'!F255:F820,'Version 18.03.2020'!F255:F820)))} -> 376
B20: % | C20: =C19/$L$19 -> 0.051118211 | D20: =D19/$L$19 -> 0.31948882 | E20: =E19/$L$19 -> 0.43610224 | F20: =F19/$L$19 -> 0.065495208 | G20: =G19/$L$19 -> 0.07827476 | H20: =H19/$L$19 -> 0.047923323 | I20: =I19/$L$19 -> 0.030351438 | J20: =J19/$L$19 -> 0.083067093 | K20: =K19/$L$19 -> 0.88658147 | L20: 1 | P20: % | Q20: =Q19/$Z$19 -> 0.04787234 | R20: =R19/$Z$19 -> 0.33510638 | S20: =S19/$Z$19 -> 0.43882979 | T20: =T19/$Z$19 -> 0.066489362 | U20: =U19/$Z$19 -> 0.061170213 | V20: =V19/$Z$19 -> 0.04787234 | W20: =W19/$Z$19 -> 0.031914894 | X20: =X19/$Z$19 -> 0.063829787 | Y20: =Y19/$Z$19 -> 0.90425532 | Z20: 1
H22: =COUNTIF('Version 18.03.2020'!$I$255:$I820,"*GSB*") -> 18
B67: Étiquettes de lignes | C67: Nombre de NOM
B68: 3a | C68: 52
B69: 4e | C69: 65
B70: AUTRES | C70: 3
B71: BAM | C71: 16
B72: CNEC MTL | C72: 8
B73: EA NBE | C73: 3
B74: GSB CCN | C74: 8
B75: (vide)
B76: Total général | C76: 155
B78: Étiquettes de lignes | C78: Nombre de CCS
B79: Conjoint(e)/PACS | C79: 71
B80: 3a | C80: 24
B81: 4e | C81: 36
B82: BAM | C82: 6
B83: CNEC MTL | C83: 1
B84: EA NBE | C84: 2
B85: GSB CCN | C85: 2
B86: Enfant majeur | C86: 13
B87: 3a | C87: 6
B88: 4e | C88: 4
B89: AUTRES | C89: 1
B90: BAM | C90: 1
... B99: GSB CCN | C99: 5
B100: (vide)
B101: (vide)
B102: Total général | C102: 155
