Workbook
Name Années: Tableau1[Années]
Name Fonction: Tableau1[Fonction]
Name Mois: Tableau1[Mois]
Name Pauses: Tableau1[Pauses]
Name Personnel: Tableau1[Personnel]
Name Tempstravail: Tableau1[Temps de travail]

Sheet Planning
D1: =IF(AND(C1<>"",C2<>""),"Planning Chirurgie Abdominale","")
D3: =IF(AND(C1<>"",C2<>""),"Période du "&TEXT(Données!K1,"jj mmmm aaaa")&" au "&TEXT(Données!L1,"jj mmmm aaaa"),"")
AI5: 1 | AJ5: 2 | AK5: 3 | AL5: 4 | AM5: 5 | AN5: 6 | AO5: 7 | AP5: 8 | AQ5: 9 | AR5: 10 | AS5: 11 | AT5: 12 | AU5: 13 | AV5: 14 | AW5: 15 | AX5: 16 | AY5: 17 | AZ5: 18 | BA5: 19 | BB5: 20 | BC5: 21 | BD5: 22 | BE5: 23 | BF5: 24 | BG5: 25 | BH5: 26 | BI5: 27 | BJ5: 28 | BK5: 29 | BL5: 30 | BM5: 31
D6: 1 | E6: 2 | F6: 3 | G6: 4 | H6: 5 | I6: 6 | J6: 7 | K6: 8 | L6: 9 | M6: 10 | N6: 11 | O6: 12 | P6: 13 | Q6: 14 | R6: 15 | S6: 16 | T6: 17 | U6: 18 | V6: 19 | W6: 20 | X6: 21 | Y6: 22 | Z6: 23 | AA6: 24 | AB6: 25 | AC6: 26 | AD6: 27 | AE6: 28 | AF6: 29 | AG6: 30 | AH6: 31
D7: =DATE($C$2+2021,Planning!$C$1,Planning!D6) -> 44166 | E7: =DATE($C$2+2021,Planning!$C$1,Planning!E6) -> 44167 | F7: =DATE($C$2+2021,Planning!$C$1,Planning!F6) -> 44168 | G7: =DATE($C$2+2021,Planning!$C$1,Planning!G6) -> 44169 | H7: =DATE($C$2+2021,Planning!$C$1,Planning!H6) -> 44170 | I7: =DATE($C$2+2021,Planning!$C$1,Planning!I6) -> 44171 | J7: =DATE($C$2+2021,Planning!$C$1,Planning!J6) -> 44172 | K7: =DATE($C$2+2021,Planning!$C$1,Planning!K6) -> 44173 | ... AH7: =DATE($C$2+2021,Planning!$C$1,Planning!AH6) -> 44196
D8: =IF(AND($C$1<>"",$C$2<>""),TEXT(D7,"jjjj")&" "&TEXT(D7,"jj"),"") | E8: =IF(AND($C$1<>"",$C$2<>""),IF(MONTH(E7)=MONTH($D$7),TEXT(E7,"jjjj")&" "&TEXT(E7,"jj"),""),"") | F8: =IF(AND($C$1<>"",$C$2<>""),IF(MONTH(F7)=MONTH($D$7),TEXT(F7,"jjjj")&" "&TEXT(F7,"jj"),""),"") | G8: =IF(AND($C$1<>"",$C$2<>""),IF(MONTH(G7)=MONTH($D$7),TEXT(G7,"jjjj")&" "&TEXT(G7,"jj"),""),"") | H8: =IF(AND($C$1<>"",$C$2<>""),IF(MONTH(H7)=MONTH($D$7),TEXT(H7,"jjjj")&" "&TEXT(H7,"jj"),""),"") | I8: =IF(AND($C$1<>"",$C$2<>""),IF(MONTH(I7)=MONTH($D$7),TEXT(I7,"jjjj")&" "&TEXT(I7,"jj"),""),"") | J8: =IF(AND($C$1<>"",$C$2<>""),IF(MONTH(J7)=MONTH($D$7),TEXT(J7,"jjjj")&" "&TEXT(J7,"jj"),""),"") | K8: =IF(AND($C$1<>"",$C$2<>""),IF(MONTH(K7)=MONTH($D$7),TEXT(K7,"jjjj")&" "&TEXT(K7,"jj"),""),"") | L8: =IF(AND($C$1<>"",$C$2<>""),IF(MONTH(L7)=MONTH($D$7),TEXT(L7,"jjjj")&" "&TEXT(L7,"jj"),""),"") | ... AH8: =IF(AND($C$1<>"",$C$2<>""),IF(MONTH(AH7)=MONTH($D$7),TEXT(AH7,"jjjj")&" "&TEXT(AH7,"jj"),""),"") | BN8: =IF(AND(C1<>"",C2<>""),"Solde","") | BO8: =IF(AND(C1<>"",C2<>""),"Jours Ouvrés","") | BP8: Jours à Prester | BQ8: Heures à Prester | BR8: =IF(AND(C1<>"",C2<>""),"Différence","")
A9: =IF($D$8<>"","Nom & Prénom","") | B9: =IF($D$8<>"","Fonction","") | C9: =IF($D$8<>"","Temps de travail","") | BQ9: 0.31666667
A10: =IF($D$8<>"",Données!C2,"") | B10: =IF($D$8<>"",Données!D2,"") | C10: =IF($D$8<>"",Données!E2,"") | AI10: =IF(D10="A","7:36",IF(AND(D10="B"),"7:36",IF(AND(D10="N"),"9:30",IF(AND(D10<=""),"0:00",IF(AND(D10="Q"),"Données!$I2",IF(AND(D10="/"),"0:00",IF(AND(D10="CP"),Données!$H2,IF(AND(D10="Z"),"7:36")))))))) -> 0:00 | AJ10: =IF(E10="A","7:36",IF(AND(E10="B"),"7:36",IF(AND(E10="N"),"9:30",IF(AND(E10<=""),"0:00",IF(AND(E10="Q"),"Données!$I2",IF(AND(E10="/"),"0:00",IF(AND(E10="CP"),Données!$H2,IF(AND(E10="Z"),"7:36")))))))) -> 0:00 | AK10: =IF(F10="A","7:36",IF(AND(F10="B"),"7:36",IF(AND(F10="N"),"9:30",IF(AND(F10<=""),"0:00",IF(AND(F10="Q"),"Données!$I2",IF(AND(F10="/"),"0:00",IF(AND(F10="CP"),Données!$H2,IF(AND(F10="Z"),"7:36")))))))) -> 0:00 | AL10: =IF(G10="A","7:36",IF(AND(G10="B"),"7:36",IF(AND(G10="N"),"9:30",IF(AND(G10<=""),"0:00",IF(AND(G10="Q"),"Données!$I2",IF(AND(G10="/"),"0:00",IF(AND(G10="CP"),Données!$H2,IF(AND(G10="Z"),"7:36")))))))) -> 0:00 | AM10: =IF(H10="A","7:36",IF(AND(H10="B"),"7:36",IF(AND(H10="N"),"9:30",IF(AND(H10<=""),"0:00",IF(AND(H10="Q"),"Données!$I2",IF(AND(H10="/"),"0:00",IF(AND(H10="CP"),Données!$H2,IF(AND(H10="Z"),"7:36")))))))) -> 0:00 | AN10: =IF(I10="A","7:36",IF(AND(I10="B"),"7:36",IF(AND(I10="N"),"9:30",IF(AND(I10<=""),"0:00",IF(AND(I10="Q"),"Données!$I2",IF(AND(I10="/"),"0:00",IF(AND(I10="CP"),Données!$H2,IF(AND(I10="Z"),"7:36")))))))) -> 0:00 | AO10: =IF(J10="A","7:36",IF(AND(J10="B"),"7:36",IF(AND(J10="N"),"9:30",IF(AND(J10<=""),"0:00",IF(AND(J10="Q"),"Données!$I2",IF(AND(J10="/"),"0:00",IF(AND(J10="CP"),Données!$H2,IF(AND(J10="Z"),"7:36")))))))) -> 0:00 | AP10: =IF(K10="A","7:36",IF(AND(K10="B"),"7:36",IF(AND(K10="N"),"9:30",IF(AND(K10<=""),"0:00",IF(AND(K10="Q"),"Données!$I2",IF(AND(K10="/"),"0:00",IF(AND(K10="CP"),Données!$H2,IF(AND(K10="Z"),"7:36")))))))) -> 0:00 | ... BM10: =IF(AH10="A","7:36",IF(AND(AH10="B"),"7:36",IF(AND(AH10="N"),"9:30",IF(AND(AH10<=""),"0:00",IF(AND(AH10="Q"),"Données!$I2",IF(AND(AH10="/"),"0:00",IF(AND(AH10="CP"),Données!$H2,IF(AND(AH10="Z"),"7:36")))))))) -> 0:00 | BN10: =IF(AND($C$1<>"",$C$2<>""),SUM(AI10+AJ10+AK10+AL10+AM10+AN10+AO10+AP10+AQ10+AR10+AS10+AT10+AU10+AV10+AW10+AX10+AY10+AZ10+BA10+BB10+BC10+BD10+BE10+BF10+BG10+BH10+BI10+BJ10+BK10+BL10+BM10),"") | BO10: =IF(AND($D$7<>""),IF(MONTH(D$7)=MONTH($D$7),NETWORKDAYS(Données!$K$1,Données!$L$1))) -> 23 | BP10: =BO10*C10 -> #VALUE! | BQ10: =($BQ$9*BP10) -> #VALUE! | BR10: =IFERROR(IF(BN10=BQ10,"",IF(BN10<BQ10,BQ10-BN10,BN10-BQ10)),"")
A11: =IF($D$8<>"",Données!C3,"") | B11: =IF($D$8<>"",Données!D3,"") | C11: =IF($D$8<>"",Données!E3,"") | AI11: =IF(D11="A","7:36",IF(AND(D11="B"),"7:36",IF(AND(D11="N"),"9:30",IF(AND(D11<=""),"0:00",IF(AND(D11="Q"),"Données!$I2",IF(AND(D11="/"),"0:00",IF(AND(D11="CP"),Données!$H3,IF(AND(D11="Z"),"7:36")))))))) -> 0:00 | AJ11: =IF(E11="A","7:36",IF(AND(E11="B"),"7:36",IF(AND(E11="N"),"9:30",IF(AND(E11<=""),"0:00",IF(AND(E11="Q"),"Données!$I2",IF(AND(E11="/"),"0:00",IF(AND(E11="CP"),Données!$H3,IF(AND(E11="Z"),"7:36")))))))) -> 0:00 | AK11: =IF(F11="A","7:36",IF(AND(F11="B"),"7:36",IF(AND(F11="N"),"9:30",IF(AND(F11<=""),"0:00",IF(AND(F11="Q"),"Données!$I2",IF(AND(F11="/"),"0:00",IF(AND(F11="CP"),Données!$H3,IF(AND(F11="Z"),"7:36")))))))) -> 0:00 | AL11: =IF(G11="A","7:36",IF(AND(G11="B"),"7:36",IF(AND(G11="N"),"9:30",IF(AND(G11<=""),"0:00",IF(AND(G11="Q"),"Données!$I2",IF(AND(G11="/"),"0:00",IF(AND(G11="CP"),Données!$H3,IF(AND(G11="Z"),"7:36")))))))) -> 0:00 | AM11: =IF(H11="A","7:36",IF(AND(H11="B"),"7:36",IF(AND(H11="N"),"9:30",IF(AND(H11<=""),"0:00",IF(AND(H11="Q"),"Données!$I2",IF(AND(H11="/"),"0:00",IF(AND(H11="CP"),Données!$H3,IF(AND(H11="Z"),"7:36")))))))) -> 0:00 | AN11: =IF(I11="A","7:36",IF(AND(I11="B"),"7:36",IF(AND(I11="N"),"9:30",IF(AND(I11<=""),"0:00",IF(AND(I11="Q"),"Données!$I2",IF(AND(I11="/"),"0:00",IF(AND(I11="CP"),Données!$H3,IF(AND(I11="Z"),"7:36")))))))) -> 0:00 | AO11: =IF(J11="A","7:36",IF(AND(J11="B"),"7:36",IF(AND(J11="N"),"9:30",IF(AND(J11<=""),"0:00",IF(AND(J11="Q"),"Données!$I2",IF(AND(J11="/"),"0:00",IF(AND(J11="CP"),Données!$H3,IF(AND(J11="Z"),"7:36")))))))) -> 0:00 | AP11: =IF(K11="A","7:36",IF(AND(K11="B"),"7:36",IF(AND(K11="N"),"9:30",IF(AND(K11<=""),"0:00",IF(AND(K11="Q"),"Données!$I2",IF(AND(K11="/"),"0:00",IF(AND(K11="CP"),Données!$H3,IF(AND(K11="Z"),"7:36")))))))) -> 0:00 | ... BM11: =IF(AH11="A","7:36",IF(AND(AH11="B"),"7:36",IF(AND(AH11="N"),"9:30",IF(AND(AH11<=""),"0:00",IF(AND(AH11="Q"),"Données!$I2",IF(AND(AH11="/"),"0:00",IF(AND(AH11="CP"),Données!$H3,IF(AND(AH11="Z"),"7:36")))))))) -> 0:00 | BN11: =IF(AND($C$1<>"",$C$2<>""),SUM(AI11+AJ11+AK11+AL11+AM11+AN11+AO11+AP11+AQ11+AR11+AS11+AT11+AU11+AV11+AW11+AX11+AY11+AZ11+BA11+BB11+BC11+BD11+BE11+BF11+BG11+BH11+BI11+BJ11+BK11+BL11+BM11),"") | BO11: =IF(AND($D$7<>""),IF(MONTH(D$7)=MONTH($D$7),NETWORKDAYS(Données!$K$1,Données!$L$1))) -> 23 | BP11: =BO11*C11 -> #VALUE! | BQ11: =($BQ$9*BP11) -> #VALUE! | BR11: =IFERROR(IF(BN11=BQ11,"",IF(BN11<BQ11,BQ11-BN11,BN11-BQ11)),"")
A12: =IF($D$8<>"",Données!C4,"") | B12: =IF($D$8<>"",Données!D4,"") | C12: =IF($D$8<>"",Données!E4,"") | AI12: =IF(D12="A","7:36",IF(AND(D12="B"),"7:36",IF(AND(D12="N"),"9:30",IF(AND(D12<=""),"0:00",IF(AND(D12="Q"),"Données!$I2",IF(AND(D12="/"),"0:00",IF(AND(D12="CP"),Données!$H4,IF(AND(D12="Z"),"7:36")))))))) -> 0:00 | AJ12: =IF(E12="A","7:36",IF(AND(E12="B"),"7:36",IF(AND(E12="N"),"9:30",IF(AND(E12<=""),"0:00",IF(AND(E12="Q"),"Données!$I2",IF(AND(E12="/"),"0:00",IF(AND(E12="CP"),Données!$H4,IF(AND(E12="Z"),"7:36")))))))) -> 0:00 | AK12: =IF(F12="A","7:36",IF(AND(F12="B"),"7:36",IF(AND(F12="N"),"9:30",IF(AND(F12<=""),"0:00",IF(AND(F12="Q"),"Données!$I2",IF(AND(F12="/"),"0:00",IF(AND(F12="CP"),Données!$H4,IF(AND(F12="Z"),"7:36")))))))) -> 0:00 | AL12: =IF(G12="A","7:36",IF(AND(G12="B"),"7:36",IF(AND(G12="N"),"9:30",IF(AND(G12<=""),"0:00",IF(AND(G12="Q"),"Données!$I2",IF(AND(G12="/"),"0:00",IF(AND(G12="CP"),Données!$H4,IF(AND(G12="Z"),"7:36")))))))) -> 0:00 | AM12: =IF(H12="A","7:36",IF(AND(H12="B"),"7:36",IF(AND(H12="N"),"9:30",IF(AND(H12<=""),"0:00",IF(AND(H12="Q"),"Données!$I2",IF(AND(H12="/"),"0:00",IF(AND(H12="CP"),Données!$H4,IF(AND(H12="Z"),"7:36")))))))) -> 0:00 | AN12: =IF(I12="A","7:36",IF(AND(I12="B"),"7:36",IF(AND(I12="N"),"9:30",IF(AND(I12<=""),"0:00",IF(AND(I12="Q"),"Données!$I2",IF(AND(I12="/"),"0:00",IF(AND(I12="CP"),Données!$H4,IF(AND(I12="Z"),"7:36")))))))) -> 0:00 | AO12: =IF(J12="A","7:36",IF(AND(J12="B"),"7:36",IF(AND(J12="N"),"9:30",IF(AND(J12<=""),"0:00",IF(AND(J12="Q"),"Données!$I2",IF(AND(J12="/"),"0:00",IF(AND(J12="CP"),Données!$H4,IF(AND(J12="Z"),"7:36")))))))) -> 0:00 | AP12: =IF(K12="A","7:36",IF(AND(K12="B"),"7:36",IF(AND(K12="N"),"9:30",IF(AND(K12<=""),"0:00",IF(AND(K12="Q"),"Données!$I2",IF(AND(K12="/"),"0:00",IF(AND(K12="CP"),Données!$H4,IF(AND(K12="Z"),"7:36")))))))) -> 0:00 | ... BM12: =IF(AH12="A","7:36",IF(AND(AH12="B"),"7:36",IF(AND(AH12="N"),"9:30",IF(AND(AH12<=""),"0:00",IF(AND(AH12="Q"),"Données!$I2",IF(AND(AH12="/"),"0:00",IF(AND(AH12="CP"),Données!$H4,IF(AND(AH12="Z"),"7:36")))))))) -> 0:00 | BN12: =IF(AND($C$1<>"",$C$2<>""),SUM(AI12+AJ12+AK12+AL12+AM12+AN12+AO12+AP12+AQ12+AR12+AS12+AT12+AU12+AV12+AW12+AX12+AY12+AZ12+BA12+BB12+BC12+BD12+BE12+BF12+BG12+BH12+BI12+BJ12+BK12+BL12+BM12),"") | BO12: =IF(AND($D$7<>""),IF(MONTH(D$7)=MONTH($D$7),NETWORKDAYS(Données!$K$1,Données!$L$1))) -> 23 | BP12: =BO12*C12 -> #VALUE! | BQ12: =($BQ$9*BP12) -> #VALUE! | BR12: =IFERROR(IF(BN12=BQ12,"",IF(BN12<BQ12,BQ12-BN12,BN12-BQ12)),"")
A13: =IF($D$8<>"",Données!C5,"") | B13: =IF($D$8<>"",Données!D5,"") | C13: =IF($D$8<>"",Données!E5,"") | AI13: =IF(D13="A","7:36",IF(AND(D13="B"),"7:36",IF(AND(D13="N"),"9:30",IF(AND(D13<=""),"0:00",IF(AND(D13="Q"),"Données!$I2",IF(AND(D13="/"),"0:00",IF(AND(D13="CP"),Données!$H5,IF(AND(D13="Z"),"7:36")))))))) -> 0:00 | AJ13: =IF(E13="A","7:36",IF(AND(E13="B"),"7:36",IF(AND(E13="N"),"9:30",IF(AND(E13<=""),"0:00",IF(AND(E13="Q"),"Données!$I2",IF(AND(E13="/"),"0:00",IF(AND(E13="CP"),Données!$H5,IF(AND(E13="Z"),"7:36")))))))) -> 0:00 | AK13: =IF(F13="A","7:36",IF(AND(F13="B"),"7:36",IF(AND(F13="N"),"9:30",IF(AND(F13<=""),"0:00",IF(AND(F13="Q"),"Données!$I2",IF(AND(F13="/"),"0:00",IF(AND(F13="CP"),Données!$H5,IF(AND(F13="Z"),"7:36")))))))) -> 0:00 | AL13: =IF(G13="A","7:36",IF(AND(G13="B"),"7:36",IF(AND(G13="N"),"9:30",IF(AND(G13<=""),"0:00",IF(AND(G13="Q"),"Données!$I2",IF(AND(G13="/"),"0:00",IF(AND(G13="CP"),Données!$H5,IF(AND(G13="Z"),"7:36")))))))) -> 0:00 | AM13: =IF(H13="A","7:36",IF(AND(H13="B"),"7:36",IF(AND(H13="N"),"9:30",IF(AND(H13<=""),"0:00",IF(AND(H13="Q"),"Données!$I2",IF(AND(H13="/"),"0:00",IF(AND(H13="CP"),Données!$H5,IF(AND(H13="Z"),"7:36")))))))) -> 0:00 | AN13: =IF(I13="A","7:36",IF(AND(I13="B"),"7:36",IF(AND(I13="N"),"9:30",IF(AND(I13<=""),"0:00",IF(AND(I13="Q"),"Données!$I2",IF(AND(I13="/"),"0:00",IF(AND(I13="CP"),Données!$H5,IF(AND(I13="Z"),"7:36")))))))) -> 0:00 | AO13: =IF(J13="A","7:36",IF(AND(J13="B"),"7:36",IF(AND(J13="N"),"9:30",IF(AND(J13<=""),"0:00",IF(AND(J13="Q"),"Données!$I2",IF(AND(J13="/"),"0:00",IF(AND(J13="CP"),Données!$H5,IF(AND(J13="Z"),"7:36")))))))) -> 0:00 | AP13: =IF(K13="A","7:36",IF(AND(K13="B"),"7:36",IF(AND(K13="N"),"9:30",IF(AND(K13<=""),"0:00",IF(AND(K13="Q"),"Données!$I2",IF(AND(K13="/"),"0:00",IF(AND(K13="CP"),Données!$H5,IF(AND(K13="Z"),"7:36")))))))) -> 0:00 | ... BM13: =IF(AH13="A","7:36",IF(AND(AH13="B"),"7:36",IF(AND(AH13="N"),"9:30",IF(AND(AH13<=""),"0:00",IF(AND(AH13="Q"),"Données!$I2",IF(AND(AH13="/"),"0:00",IF(AND(AH13="CP"),Données!$H5,IF(AND(AH13="Z"),"7:36")))))))) -> 0:00 | BN13: =IF(AND($C$1<>"",$C$2<>""),SUM(AI13+AJ13+AK13+AL13+AM13+AN13+AO13+AP13+AQ13+AR13+AS13+AT13+AU13+AV13+AW13+AX13+AY13+AZ13+BA13+BB13+BC13+BD13+BE13+BF13+BG13+BH13+BI13+BJ13+BK13+BL13+BM13),"") | BO13: =IF(AND($D$7<>""),IF(MONTH(D$7)=MONTH($D$7),NETWORKDAYS(Données!$K$1,Données!$L$1))) -> 23 | BP13: =BO13*C13 -> #VALUE! | BQ13: =($BQ$9*BP13) -> #VALUE! | BR13: =IFERROR(IF(BN13=BQ13,"",IF(BN13<BQ13,BQ13-BN13,BN13-BQ13)),"")
A14: =IF($D$8<>"",Données!C6,"") | B14: =IF($D$8<>"",Données!D6,"") | C14: =IF($D$8<>"",Données!E6,"") | AI14: =IF(D14="A","7:36",IF(AND(D14="B"),"7:36",IF(AND(D14="N"),"9:30",IF(AND(D14<=""),"0:00",IF(AND(D14="Q"),"Données!$I2",IF(AND(D14="/"),"0:00",IF(AND(D14="CP"),Données!$H6,IF(AND(D14="Z"),"7:36")))))))) -> 0:00 | AJ14: =IF(E14="A","7:36",IF(AND(E14="B"),"7:36",IF(AND(E14="N"),"9:30",IF(AND(E14<=""),"0:00",IF(AND(E14="Q"),"Données!$I2",IF(AND(E14="/"),"0:00",IF(AND(E14="CP"),Données!$H6,IF(AND(E14="Z"),"7:36")))))))) -> 0:00 | AK14: =IF(F14="A","7:36",IF(AND(F14="B"),"7:36",IF(AND(F14="N"),"9:30",IF(AND(F14<=""),"0:00",IF(AND(F14="Q"),"Données!$I2",IF(AND(F14="/"),"0:00",IF(AND(F14="CP"),Données!$H6,IF(AND(F14="Z"),"7:36")))))))) -> 0:00 | AL14: =IF(G14="A","7:36",IF(AND(G14="B"),"7:36",IF(AND(G14="N"),"9:30",IF(AND(G14<=""),"0:00",IF(AND(G14="Q"),"Données!$I2",IF(AND(G14="/"),"0:00",IF(AND(G14="CP"),Données!$H6,IF(AND(G14="Z"),"7:36")))))))) -> 0:00 | AM14: =IF(H14="A","7:36",IF(AND(H14="B"),"7:36",IF(AND(H14="N"),"9:30",IF(AND(H14<=""),"0:00",IF(AND(H14="Q"),"Données!$I2",IF(AND(H14="/"),"0:00",IF(AND(H14="CP"),Données!$H6,IF(AND(H14="Z"),"7:36")))))))) -> 0:00 | AN14: =IF(I14="A","7:36",IF(AND(I14="B"),"7:36",IF(AND(I14="N"),"9:30",IF(AND(I14<=""),"0:00",IF(AND(I14="Q"),"Données!$I2",IF(AND(I14="/"),"0:00",IF(AND(I14="CP"),Données!$H6,IF(AND(I14="Z"),"7:36")))))))) -> 0:00 | AO14: =IF(J14="A","7:36",IF(AND(J14="B"),"7:36",IF(AND(J14="N"),"9:30",IF(AND(J14<=""),"0:00",IF(AND(J14="Q"),"Données!$I2",IF(AND(J14="/"),"0:00",IF(AND(J14="CP"),Données!$H6,IF(AND(J14="Z"),"7:36")))))))) -> 0:00 | AP14: =IF(K14="A","7:36",IF(AND(K14="B"),"7:36",IF(AND(K14="N"),"9:30",IF(AND(K14<=""),"0:00",IF(AND(K14="Q"),"Données!$I2",IF(AND(K14="/"),"0:00",IF(AND(K14="CP"),Données!$H6,IF(AND(K14="Z"),"7:36")))))))) -> 0:00 | ... BM14: =IF(AH14="A","7:36",IF(AND(AH14="B"),"7:36",IF(AND(AH14="N"),"9:30",IF(AND(AH14<=""),"0:00",IF(AND(AH14="Q"),"Données!$I2",IF(AND(AH14="/"),"0:00",IF(AND(AH14="CP"),Données!$H6,IF(AND(AH14="Z"),"7:36")))))))) -> 0:00 | BN14: =IF(AND($C$1<>"",$C$2<>""),SUM(AI14+AJ14+AK14+AL14+AM14+AN14+AO14+AP14+AQ14+AR14+AS14+AT14+AU14+AV14+AW14+AX14+AY14+AZ14+BA14+BB14+BC14+BD14+BE14+BF14+BG14+BH14+BI14+BJ14+BK14+BL14+BM14),"") | BO14: =IF(AND($D$7<>""),IF(MONTH(D$7)=MONTH($D$7),NETWORKDAYS(Données!$K$1,Données!$L$1))) -> 23 | BP14: =BO14*C14 -> #VALUE! | BQ14: =($BQ$9*BP14) -> #VALUE! | BR14: =IFERROR(IF(BN14=BQ14,"",IF(BN14<BQ14,BQ14-BN14,BN14-BQ14)),"")
A15: =IF($D$8<>"",Données!C7,"") | B15: =IF($D$8<>"",Données!D7,"") | C15: =IF($D$8<>"",Données!E7,"") | AI15: =IF(D15="A","7:36",IF(AND(D15="B"),"7:36",IF(AND(D15="N"),"9:30",IF(AND(D15<=""),"0:00",IF(AND(D15="Q"),"Données!$I2",IF(AND(D15="/"),"0:00",IF(AND(D15="CP"),Données!$H7,IF(AND(D15="Z"),"7:36")))))))) -> 0:00 | AJ15: =IF(E15="A","7:36",IF(AND(E15="B"),"7:36",IF(AND(E15="N"),"9:30",IF(AND(E15<=""),"0:00",IF(AND(E15="Q"),"Données!$I2",IF(AND(E15="/"),"0:00",IF(AND(E15="CP"),Données!$H7,IF(AND(E15="Z"),"7:36")))))))) -> 0:00 | AK15: =IF(F15="A","7:36",IF(AND(F15="B"),"7:36",IF(AND(F15="N"),"9:30",IF(AND(F15<=""),"0:00",IF(AND(F15="Q"),"Données!$I2",IF(AND(F15="/"),"0:00",IF(AND(F15="CP"),Données!$H7,IF(AND(F15="Z"),"7:36")))))))) -> 0:00 | AL15: =IF(G15="A","7:36",IF(AND(G15="B"),"7:36",IF(AND(G15="N"),"9:30",IF(AND(G15<=""),"0:00",IF(AND(G15="Q"),"Données!$I2",IF(AND(G15="/"),"0:00",IF(AND(G15="CP"),Données!$H7,IF(AND(G15="Z"),"7:36")))))))) -> 0:00 | AM15: =IF(H15="A","7:36",IF(AND(H15="B"),"7:36",IF(AND(H15="N"),"9:30",IF(AND(H15<=""),"0:00",IF(AND(H15="Q"),"Données!$I2",IF(AND(H15="/"),"0:00",IF(AND(H15="CP"),Données!$H7,IF(AND(H15="Z"),"7:36")))))))) -> 0:00 | AN15: =IF(I15="A","7:36",IF(AND(I15="B"),"7:36",IF(AND(I15="N"),"9:30",IF(AND(I15<=""),"0:00",IF(AND(I15="Q"),"Données!$I2",IF(AND(I15="/"),"0:00",IF(AND(I15="CP"),Données!$H7,IF(AND(I15="Z"),"7:36")))))))) -> 0:00 | AO15: =IF(J15="A","7:36",IF(AND(J15="B"),"7:36",IF(AND(J15="N"),"9:30",IF(AND(J15<=""),"0:00",IF(AND(J15="Q"),"Données!$I2",IF(AND(J15="/"),"0:00",IF(AND(J15="CP"),Données!$H7,IF(AND(J15="Z"),"7:36")))))))) -> 0:00 | AP15: =IF(K15="A","7:36",IF(AND(K15="B"),"7:36",IF(AND(K15="N"),"9:30",IF(AND(K15<=""),"0:00",IF(AND(K15="Q"),"Données!$I2",IF(AND(K15="/"),"0:00",IF(AND(K15="CP"),Données!$H7,IF(AND(K15="Z"),"7:36")))))))) -> 0:00 | ... BM15: =IF(AH15="A","7:36",IF(AND(AH15="B"),"7:36",IF(AND(AH15="N"),"9:30",IF(AND(AH15<=""),"0:00",IF(AND(AH15="Q"),"Données!$I2",IF(AND(AH15="/"),"0:00",IF(AND(AH15="CP"),Données!$H7,IF(AND(AH15="Z"),"7:36")))))))) -> 0:00 | BN15: =IF(AND($C$1<>"",$C$2<>""),SUM(AI15+AJ15+AK15+AL15+AM15+AN15+AO15+AP15+AQ15+AR15+AS15+AT15+AU15+AV15+AW15+AX15+AY15+AZ15+BA15+BB15+BC15+BD15+BE15+BF15+BG15+BH15+BI15+BJ15+BK15+BL15+BM15),"") | BO15: =IF(AND($D$7<>""),IF(MONTH(D$7)=MONTH($D$7),NETWORKDAYS(Données!$K$1,Données!$L$1))) -> 23 | BP15: =BO15*C15 -> #VALUE! | BQ15: =($BQ$9*BP15) -> #VALUE! | BR15: =IFERROR(IF(BN15=BQ15,"",IF(BN15<BQ15,BQ15-BN15,BN15-BQ15)),"")
A16: =IF($D$8<>"",Données!C8,"") | B16: =IF($D$8<>"",Données!D8,"") | C16: =IF($D$8<>"",Données!E8,"") | AI16: =IF(D16="A","7:36",IF(AND(D16="B"),"7:36",IF(AND(D16="N"),"9:30",IF(AND(D16<=""),"0:00",IF(AND(D16="Q"),"Données!$I2",IF(AND(D16="/"),"0:00",IF(AND(D16="CP"),Données!$H8,IF(AND(D16="Z"),"7:36")))))))) -> 0:00 | AJ16: =IF(E16="A","7:36",IF(AND(E16="B"),"7:36",IF(AND(E16="N"),"9:30",IF(AND(E16<=""),"0:00",IF(AND(E16="Q"),"Données!$I2",IF(AND(E16="/"),"0:00",IF(AND(E16="CP"),Données!$H8,IF(AND(E16="Z"),"7:36")))))))) -> 0:00 | AK16: =IF(F16="A","7:36",IF(AND(F16="B"),"7:36",IF(AND(F16="N"),"9:30",IF(AND(F16<=""),"0:00",IF(AND(F16="Q"),"Données!$I2",IF(AND(F16="/"),"0:00",IF(AND(F16="CP"),Données!$H8,IF(AND(F16="Z"),"7:36")))))))) -> 0:00 | AL16: =IF(G16="A","7:36",IF(AND(G16="B"),"7:36",IF(AND(G16="N"),"9:30",IF(AND(G16<=""),"0:00",IF(AND(G16="Q"),"Données!$I2",IF(AND(G16="/"),"0:00",IF(AND(G16="CP"),Données!$H8,IF(AND(G16="Z"),"7:36")))))))) -> 0:00 | AM16: =IF(H16="A","7:36",IF(AND(H16="B"),"7:36",IF(AND(H16="N"),"9:30",IF(AND(H16<=""),"0:00",IF(AND(H16="Q"),"Données!$I2",IF(AND(H16="/"),"0:00",IF(AND(H16="CP"),Données!$H8,IF(AND(H16="Z"),"7:36")))))))) -> 0:00 | AN16: =IF(I16="A","7:36",IF(AND(I16="B"),"7:36",IF(AND(I16="N"),"9:30",IF(AND(I16<=""),"0:00",IF(AND(I16="Q"),"Données!$I2",IF(AND(I16="/"),"0:00",IF(AND(I16="CP"),Données!$H8,IF(AND(I16="Z"),"7:36")))))))) -> 0:00 | AO16: =IF(J16="A","7:36",IF(AND(J16="B"),"7:36",IF(AND(J16="N"),"9:30",IF(AND(J16<=""),"0:00",IF(AND(J16="Q"),"Données!$I2",IF(AND(J16="/"),"0:00",IF(AND(J16="CP"),Données!$H8,IF(AND(J16="Z"),"7:36")))))))) -> 0:00 | AP16: =IF(K16="A","7:36",IF(AND(K16="B"),"7:36",IF(AND(K16="N"),"9:30",IF(AND(K16<=""),"0:00",IF(AND(K16="Q"),"Données!$I2",IF(AND(K16="/"),"0:00",IF(AND(K16="CP"),Données!$H8,IF(AND(K16="Z"),"7:36")))))))) -> 0:00 | ... BM16: =IF(AH16="A","7:36",IF(AND(AH16="B"),"7:36",IF(AND(AH16="N"),"9:30",IF(AND(AH16<=""),"0:00",IF(AND(AH16="Q"),"Données!$I2",IF(AND(AH16="/"),"0:00",IF(AND(AH16="CP"),Données!$H8,IF(AND(AH16="Z"),"7:36")))))))) -> 0:00 | BN16: =IF(AND($C$1<>"",$C$2<>""),SUM(AI16+AJ16+AK16+AL16+AM16+AN16+AO16+AP16+AQ16+AR16+AS16+AT16+AU16+AV16+AW16+AX16+AY16+AZ16+BA16+BB16+BC16+BD16+BE16+BF16+BG16+BH16+BI16+BJ16+BK16+BL16+BM16),"") | BO16: =IF(AND($D$7<>""),IF(MONTH(D$7)=MONTH($D$7),NETWORKDAYS(Données!$K$1,Données!$L$1))) -> 23 | BP16: =BO16*C16 -> #VALUE! | BQ16: =($BQ$9*BP16) -> #VALUE! | BR16: =IFERROR(IF(BN16=BQ16,"",IF(BN16<BQ16,BQ16-BN16,BN16-BQ16)),"")
A17: =IF($D$8<>"",Données!C9,"") | B17: =IF($D$8<>"",Données!D9,"") | C17: =IF($D$8<>"",Données!E9,"") | AI17: =IF(D17="A","7:36",IF(AND(D17="B"),"7:36",IF(AND(D17="N"),"9:30",IF(AND(D17<=""),"0:00",IF(AND(D17="Q"),"Données!$I2",IF(AND(D17="/"),"0:00",IF(AND(D17="CP"),Données!$H9,IF(AND(D17="Z"),"7:36")))))))) -> 0:00 | AJ17: =IF(E17="A","7:36",IF(AND(E17="B"),"7:36",IF(AND(E17="N"),"9:30",IF(AND(E17<=""),"0:00",IF(AND(E17="Q"),"Données!$I2",IF(AND(E17="/"),"0:00",IF(AND(E17="CP"),Données!$H9,IF(AND(E17="Z"),"7:36")))))))) -> 0:00 | AK17: =IF(F17="A","7:36",IF(AND(F17="B"),"7:36",IF(AND(F17="N"),"9:30",IF(AND(F17<=""),"0:00",IF(AND(F17="Q"),"Données!$I2",IF(AND(F17="/"),"0:00",IF(AND(F17="CP"),Données!$H9,IF(AND(F17="Z"),"7:36")))))))) -> 0:00 | AL17: =IF(G17="A","7:36",IF(AND(G17="B"),"7:36",IF(AND(G17="N"),"9:30",IF(AND(G17<=""),"0:00",IF(AND(G17="Q"),"Données!$I2",IF(AND(G17="/"),"0:00",IF(AND(G17="CP"),Données!$H9,IF(AND(G17="Z"),"7:36")))))))) -> 0:00 | AM17: =IF(H17="A","7:36",IF(AND(H17="B"),"7:36",IF(AND(H17="N"),"9:30",IF(AND(H17<=""),"0:00",IF(AND(H17="Q"),"Données!$I2",IF(AND(H17="/"),"0:00",IF(AND(H17="CP"),Données!$H9,IF(AND(H17="Z"),"7:36")))))))) -> 0:00 | AN17: =IF(I17="A","7:36",IF(AND(I17="B"),"7:36",IF(AND(I17="N"),"9:30",IF(AND(I17<=""),"0:00",IF(AND(I17="Q"),"Données!$I2",IF(AND(I17="/"),"0:00",IF(AND(I17="CP"),Données!$H9,IF(AND(I17="Z"),"7:36")))))))) -> 0:00 | AO17: =IF(J17="A","7:36",IF(AND(J17="B"),"7:36",IF(AND(J17="N"),"9:30",IF(AND(J17<=""),"0:00",IF(AND(J17="Q"),"Données!$I2",IF(AND(J17="/"),"0:00",IF(AND(J17="CP"),Données!$H9,IF(AND(J17="Z"),"7:36")))))))) -> 0:00 | AP17: =IF(K17="A","7:36",IF(AND(K17="B"),"7:36",IF(AND(K17="N"),"9:30",IF(AND(K17<=""),"0:00",IF(AND(K17="Q"),"Données!$I2",IF(AND(K17="/"),"0:00",IF(AND(K17="CP"),Données!$H9,IF(AND(K17="Z"),"7:36")))))))) -> 0:00 | ... BM17: =IF(AH17="A","7:36",IF(AND(AH17="B"),"7:36",IF(AND(AH17="N"),"9:30",IF(AND(AH17<=""),"0:00",IF(AND(AH17="Q"),"Données!$I2",IF(AND(AH17="/"),"0:00",IF(AND(AH17="CP"),Données!$H9,IF(AND(AH17="Z"),"7:36")))))))) -> 0:00 | BN17: =IF(AND($C$1<>"",$C$2<>""),SUM(AI17+AJ17+AK17+AL17+AM17+AN17+AO17+AP17+AQ17+AR17+AS17+AT17+AU17+AV17+AW17+AX17+AY17+AZ17+BA17+BB17+BC17+BD17+BE17+BF17+BG17+BH17+BI17+BJ17+BK17+BL17+BM17),"") | BO17: =IF(AND($D$7<>""),IF(MONTH(D$7)=MONTH($D$7),NETWORKDAYS(Données!$K$1,Données!$L$1))) -> 23 | BP17: =BO17*C17 -> #VALUE! | BQ17: =($BQ$9*BP17) -> #VALUE! | BR17: =IFERROR(IF(BN17=BQ17,"",IF(BN17<BQ17,BQ17-BN17,BN17-BQ17)),"")
A18: =IF($D$8<>"",Données!C10,"") | B18: =IF($D$8<>"",Données!D10,"") | C18: =IF($D$8<>"",Données!E10,"") | AI18: =IF(D18="A","7:36",IF(AND(D18="B"),"7:36",IF(AND(D18="N"),"9:30",IF(AND(D18<=""),"0:00",IF(AND(D18="Q"),"Données!$I2",IF(AND(D18="/"),"0:00",IF(AND(D18="CP"),Données!$H10,IF(AND(D18="Z"),"7:36")))))))) -> 0:00 | AJ18: =IF(E18="A","7:36",IF(AND(E18="B"),"7:36",IF(AND(E18="N"),"9:30",IF(AND(E18<=""),"0:00",IF(AND(E18="Q"),"Données!$I2",IF(AND(E18="/"),"0:00",IF(AND(E18="CP"),Données!$H10,IF(AND(E18="Z"),"7:36")))))))) -> 0:00 | AK18: =IF(F18="A","7:36",IF(AND(F18="B"),"7:36",IF(AND(F18="N"),"9:30",IF(AND(F18<=""),"0:00",IF(AND(F18="Q"),"Données!$I2",IF(AND(F18="/"),"0:00",IF(AND(F18="CP"),Données!$H10,IF(AND(F18="Z"),"7:36")))))))) -> 0:00 | AL18: =IF(G18="A","7:36",IF(AND(G18="B"),"7:36",IF(AND(G18="N"),"9:30",IF(AND(G18<=""),"0:00",IF(AND(G18="Q"),"Données!$I2",IF(AND(G18="/"),"0:00",IF(AND(G18="CP"),Données!$H10,IF(AND(G18="Z"),"7:36")))))))) -> 0:00 | AM18: =IF(H18="A","7:36",IF(AND(H18="B"),"7:36",IF(AND(H18="N"),"9:30",IF(AND(H18<=""),"0:00",IF(AND(H18="Q"),"Données!$I2",IF(AND(H18="/"),"0:00",IF(AND(H18="CP"),Données!$H10,IF(AND(H18="Z"),"7:36")))))))) -> 0:00 | AN18: =IF(I18="A","7:36",IF(AND(I18="B"),"7:36",IF(AND(I18="N"),"9:30",IF(AND(I18<=""),"0:00",IF(AND(I18="Q"),"Données!$I2",IF(AND(I18="/"),"0:00",IF(AND(I18="CP"),Données!$H10,IF(AND(I18="Z"),"7:36")))))))) -> 0:00 | AO18: =IF(J18="A","7:36",IF(AND(J18="B"),"7:36",IF(AND(J18="N"),"9:30",IF(AND(J18<=""),"0:00",IF(AND(J18="Q"),"Données!$I2",IF(AND(J18="/"),"0:00",IF(AND(J18="CP"),Données!$H10,IF(AND(J18="Z"),"7:36")))))))) -> 0:00 | AP18: =IF(K18="A","7:36",IF(AND(K18="B"),"7:36",IF(AND(K18="N"),"9:30",IF(AND(K18<=""),"0:00",IF(AND(K18="Q"),"Données!$I2",IF(AND(K18="/"),"0:00",IF(AND(K18="CP"),Données!$H10,IF(AND(K18="Z"),"7:36")))))))) -> 0:00 | ... BM18: =IF(AH18="A","7:36",IF(AND(AH18="B"),"7:36",IF(AND(AH18="N"),"9:30",IF(AND(AH18<=""),"0:00",IF(AND(AH18="Q"),"Données!$I2",IF(AND(AH18="/"),"0:00",IF(AND(AH18="CP"),Données!$H10,IF(AND(AH18="Z"),"7:36")))))))) -> 0:00 | BN18: =IF(AND($C$1<>"",$C$2<>""),SUM(AI18+AJ18+AK18+AL18+AM18+AN18+AO18+AP18+AQ18+AR18+AS18+AT18+AU18+AV18+AW18+AX18+AY18+AZ18+BA18+BB18+BC18+BD18+BE18+BF18+BG18+BH18+BI18+BJ18+BK18+BL18+BM18),"") | BO18: =IF(AND($D$7<>""),IF(MONTH(D$7)=MONTH($D$7),NETWORKDAYS(Données!$K$1,Données!$L$1))) -> 23 | BP18: =BO18*C18 -> #VALUE! | BQ18: =($BQ$9*BP18) -> #VALUE! | BR18: =IFERROR(IF(BN18=BQ18,"",IF(BN18<BQ18,BQ18-BN18,BN18-BQ18)),"")
A19: =IF($D$8<>"",Données!C11,"") | B19: =IF($D$8<>"",Données!D11,"") | C19: =IF($D$8<>"",Données!E11,"") | AI19: =IF(D19="A","7:36",IF(AND(D19="B"),"7:36",IF(AND(D19="N"),"9:30",IF(AND(D19<=""),"0:00",IF(AND(D19="Q"),"Données!$I2",IF(AND(D19="/"),"0:00",IF(AND(D19="CP"),Données!$H11,IF(AND(D19="Z"),"7:36")))))))) -> 0:00 | AJ19: =IF(E19="A","7:36",IF(AND(E19="B"),"7:36",IF(AND(E19="N"),"9:30",IF(AND(E19<=""),"0:00",IF(AND(E19="Q"),"Données!$I2",IF(AND(E19="/"),"0:00",IF(AND(E19="CP"),Données!$H11,IF(AND(E19="Z"),"7:36")))))))) -> 0:00 | AK19: =IF(F19="A","7:36",IF(AND(F19="B"),"7:36",IF(AND(F19="N"),"9:30",IF(AND(F19<=""),"0:00",IF(AND(F19="Q"),"Données!$I2",IF(AND(F19="/"),"0:00",IF(AND(F19="CP"),Données!$H11,IF(AND(F19="Z"),"7:36")))))))) -> 0:00 | AL19: =IF(G19="A","7:36",IF(AND(G19="B"),"7:36",IF(AND(G19="N"),"9:30",IF(AND(G19<=""),"0:00",IF(AND(G19="Q"),"Données!$I2",IF(AND(G19="/"),"0:00",IF(AND(G19="CP"),Données!$H11,IF(AND(G19="Z"),"7:36")))))))) -> 0:00 | AM19: =IF(H19="A","7:36",IF(AND(H19="B"),"7:36",IF(AND(H19="N"),"9:30",IF(AND(H19<=""),"0:00",IF(AND(H19="Q"),"Données!$I2",IF(AND(H19="/"),"0:00",IF(AND(H19="CP"),Données!$H11,IF(AND(H19="Z"),"7:36")))))))) -> 0:00 | AN19: =IF(I19="A","7:36",IF(AND(I19="B"),"7:36",IF(AND(I19="N"),"9:30",IF(AND(I19<=""),"0:00",IF(AND(I19="Q"),"Données!$I2",IF(AND(I19="/"),"0:00",IF(AND(I19="CP"),Données!$H11,IF(AND(I19="Z"),"7:36")))))))) -> 0:00 | AO19: =IF(J19="A","7:36",IF(AND(J19="B"),"7:36",IF(AND(J19="N"),"9:30",IF(AND(J19<=""),"0:00",IF(AND(J19="Q"),"Données!$I2",IF(AND(J19="/"),"0:00",IF(AND(J19="CP"),Données!$H11,IF(AND(J19="Z"),"7:36")))))))) -> 0:00 | AP19: =IF(K19="A","7:36",IF(AND(K19="B"),"7:36",IF(AND(K19="N"),"9:30",IF(AND(K19<=""),"0:00",IF(AND(K19="Q"),"Données!$I2",IF(AND(K19="/"),"0:00",IF(AND(K19="CP"),Données!$H11,IF(AND(K19="Z"),"7:36")))))))) -> 0:00 | ... BM19: =IF(AH19="A","7:36",IF(AND(AH19="B"),"7:36",IF(AND(AH19="N"),"9:30",IF(AND(AH19<=""),"0:00",IF(AND(AH19="Q"),"Données!$I2",IF(AND(AH19="/"),"0:00",IF(AND(AH19="CP"),Données!$H11,IF(AND(AH19="Z"),"7:36")))))))) -> 0:00 | BN19: =IF(AND($C$1<>"",$C$2<>""),SUM(AI19+AJ19+AK19+AL19+AM19+AN19+AO19+AP19+AQ19+AR19+AS19+AT19+AU19+AV19+AW19+AX19+AY19+AZ19+BA19+BB19+BC19+BD19+BE19+BF19+BG19+BH19+BI19+BJ19+BK19+BL19+BM19),"") | BO19: =IF(AND($D$7<>""),IF(MONTH(D$7)=MONTH($D$7),NETWORKDAYS(Données!$K$1,Données!$L$1))) -> 23 | BP19: =BO19*C19 -> #VALUE! | BQ19: =($BQ$9*BP19) -> #VALUE! | BR19: =IFERROR(IF(BN19=BQ19,"",IF(BN19<BQ19,BQ19-BN19,BN19-BQ19)),"")
A20: =IF($D$8<>"",Données!C12,"") | B20: =IF($D$8<>"",Données!D12,"") | C20: =IF($D$8<>"",Données!E12,"") | AI20: =IF(D20="A","7:36",IF(AND(D20="B"),"7:36",IF(AND(D20="N"),"9:30",IF(AND(D20<=""),"0:00",IF(AND(D20="Q"),"Données!$I2",IF(AND(D20="/"),"0:00",IF(AND(D20="CP"),Données!$H12,IF(AND(D20="Z"),"7:36")))))))) -> 0:00 | AJ20: =IF(E20="A","7:36",IF(AND(E20="B"),"7:36",IF(AND(E20="N"),"9:30",IF(AND(E20<=""),"0:00",IF(AND(E20="Q"),"Données!$I2",IF(AND(E20="/"),"0:00",IF(AND(E20="CP"),Données!$H12,IF(AND(E20="Z"),"7:36")))))))) -> 0:00 | AK20: =IF(F20="A","7:36",IF(AND(F20="B"),"7:36",IF(AND(F20="N"),"9:30",IF(AND(F20<=""),"0:00",IF(AND(F20="Q"),"Données!$I2",IF(AND(F20="/"),"0:00",IF(AND(F20="CP"),Données!$H12,IF(AND(F20="Z"),"7:36")))))))) -> 0:00 | AL20: =IF(G20="A","7:36",IF(AND(G20="B"),"7:36",IF(AND(G20="N"),"9:30",IF(AND(G20<=""),"0:00",IF(AND(G20="Q"),"Données!$I2",IF(AND(G20="/"),"0:00",IF(AND(G20="CP"),Données!$H12,IF(AND(G20="Z"),"7:36")))))))) -> 0:00 | AM20: =IF(H20="A","7:36",IF(AND(H20="B"),"7:36",IF(AND(H20="N"),"9:30",IF(AND(H20<=""),"0:00",IF(AND(H20="Q"),"Données!$I2",IF(AND(H20="/"),"0:00",IF(AND(H20="CP"),Données!$H12,IF(AND(H20="Z"),"7:36")))))))) -> 0:00 | AN20: =IF(I20="A","7:36",IF(AND(I20="B"),"7:36",IF(AND(I20="N"),"9:30",IF(AND(I20<=""),"0:00",IF(AND(I20="Q"),"Données!$I2",IF(AND(I20="/"),"0:00",IF(AND(I20="CP"),Données!$H12,IF(AND(I20="Z"),"7:36")))))))) -> 0:00 | AO20: =IF(J20="A","7:36",IF(AND(J20="B"),"7:36",IF(AND(J20="N"),"9:30",IF(AND(J20<=""),"0:00",IF(AND(J20="Q"),"Données!$I2",IF(AND(J20="/"),"0:00",IF(AND(J20="CP"),Données!$H12,IF(AND(J20="Z"),"7:36")))))))) -> 0:00 | AP20: =IF(K20="A","7:36",IF(AND(K20="B"),"7:36",IF(AND(K20="N"),"9:30",IF(AND(K20<=""),"0:00",IF(AND(K20="Q"),"Données!$I2",IF(AND(K20="/"),"0:00",IF(AND(K20="CP"),Données!$H12,IF(AND(K20="Z"),"7:36")))))))) -> 0:00 | ... BM20: =IF(AH20="A","7:36",IF(AND(AH20="B"),"7:36",IF(AND(AH20="N"),"9:30",IF(AND(AH20<=""),"0:00",IF(AND(AH20="Q"),"Données!$I2",IF(AND(AH20="/"),"0:00",IF(AND(AH20="CP"),Données!$H12,IF(AND(AH20="Z"),"7:36")))))))) -> 0:00 | BN20: =IF(AND($C$1<>"",$C$2<>""),SUM(AI20+AJ20+AK20+AL20+AM20+AN20+AO20+AP20+AQ20+AR20+AS20+AT20+AU20+AV20+AW20+AX20+AY20+AZ20+BA20+BB20+BC20+BD20+BE20+BF20+BG20+BH20+BI20+BJ20+BK20+BL20+BM20),"") | BO20: =IF(AND($D$7<>""),IF(MONTH(D$7)=MONTH($D$7),NETWORKDAYS(Données!$K$1,Données!$L$1))) -> 23 | BP20: =BO20*C20 -> #VALUE! | BQ20: =($BQ$9*BP20) -> #VALUE! | BR20: =IFERROR(IF(BN20=BQ20,"",IF(BN20<BQ20,BQ20-BN20,BN20-BQ20)),"")
A21: =IF($D$8<>"",Données!C13,"") | B21: =IF($D$8<>"",Données!D13,"") | C21: =IF($D$8<>"",Données!E13,"") | AI21: =IF(D21="A","7:36",IF(AND(D21="B"),"7:36",IF(AND(D21="N"),"9:30",IF(AND(D21<=""),"0:00",IF(AND(D21="Q"),"Données!$I2",IF(AND(D21="/"),"0:00",IF(AND(D21="CP"),Données!$H13,IF(AND(D21="Z"),"7:36")))))))) -> 0:00 | AJ21: =IF(E21="A","7:36",IF(AND(E21="B"),"7:36",IF(AND(E21="N"),"9:30",IF(AND(E21<=""),"0:00",IF(AND(E21="Q"),"Données!$I2",IF(AND(E21="/"),"0:00",IF(AND(E21="CP"),Données!$H13,IF(AND(E21="Z"),"7:36")))))))) -> 0:00 | AK21: =IF(F21="A","7:36",IF(AND(F21="B"),"7:36",IF(AND(F21="N"),"9:30",IF(AND(F21<=""),"0:00",IF(AND(F21="Q"),"Données!$I2",IF(AND(F21="/"),"0:00",IF(AND(F21="CP"),Données!$H13,IF(AND(F21="Z"),"7:36")))))))) -> 0:00 | AL21: =IF(G21="A","7:36",IF(AND(G21="B"),"7:36",IF(AND(G21="N"),"9:30",IF(AND(G21<=""),"0:00",IF(AND(G21="Q"),"Données!$I2",IF(AND(G21="/"),"0:00",IF(AND(G21="CP"),Données!$H13,IF(AND(G21="Z"),"7:36")))))))) -> 0:00 | AM21: =IF(H21="A","7:36",IF(AND(H21="B"),"7:36",IF(AND(H21="N"),"9:30",IF(AND(H21<=""),"0:00",IF(AND(H21="Q"),"Données!$I2",IF(AND(H21="/"),"0:00",IF(AND(H21="CP"),Données!$H13,IF(AND(H21="Z"),"7:36")))))))) -> 0:00 | AN21: =IF(I21="A","7:36",IF(AND(I21="B"),"7:36",IF(AND(I21="N"),"9:30",IF(AND(I21<=""),"0:00",IF(AND(I21="Q"),"Données!$I2",IF(AND(I21="/"),"0:00",IF(AND(I21="CP"),Données!$H13,IF(AND(I21="Z"),"7:36")))))))) -> 0:00 | AO21: =IF(J21="A","7:36",IF(AND(J21="B"),"7:36",IF(AND(J21="N"),"9:30",IF(AND(J21<=""),"0:00",IF(AND(J21="Q"),"Données!$I2",IF(AND(J21="/"),"0:00",IF(AND(J21="CP"),Données!$H13,IF(AND(J21="Z"),"7:36")))))))) -> 0:00 | AP21: =IF(K21="A","7:36",IF(AND(K21="B"),"7:36",IF(AND(K21="N"),"9:30",IF(AND(K21<=""),"0:00",IF(AND(K21="Q"),"Données!$I2",IF(AND(K21="/"),"0:00",IF(AND(K21="CP"),Données!$H13,IF(AND(K21="Z"),"7:36")))))))) -> 0:00 | ... BM21: =IF(AH21="A","7:36",IF(AND(AH21="B"),"7:36",IF(AND(AH21="N"),"9:30",IF(AND(AH21<=""),"0:00",IF(AND(AH21="Q"),"Données!$I2",IF(AND(AH21="/"),"0:00",IF(AND(AH21="CP"),Données!$H13,IF(AND(AH21="Z"),"7:36")))))))) -> 0:00 | BN21: =IF(AND($C$1<>"",$C$2<>""),SUM(AI21+AJ21+AK21+AL21+AM21+AN21+AO21+AP21+AQ21+AR21+AS21+AT21+AU21+AV21+AW21+AX21+AY21+AZ21+BA21+BB21+BC21+BD21+BE21+BF21+BG21+BH21+BI21+BJ21+BK21+BL21+BM21),"") | BO21: =IF(AND($D$7<>""),IF(MONTH(D$7)=MONTH($D$7),NETWORKDAYS(Données!$K$1,Données!$L$1))) -> 23 | BP21: =BO21*C21 -> #VALUE! | BQ21: =($BQ$9*BP21) -> #VALUE! | BR21: =IFERROR(IF(BN21=BQ21,"",IF(BN21<BQ21,BQ21-BN21,BN21-BQ21)),"")
... A31: =IF($D$8<>"",Données!C23,"") | B31: =IF($D$8<>"",Données!D23,"") | C31: =IF($D$8<>"",Données!E23,"") | AI31: =IF(D31="A","7:36",IF(AND(D31="B"),"7:36",IF(AND(D31="N"),"9:30",IF(AND(D31<=""),"0:00",IF(AND(D31="Q"),"Données!$I2",IF(AND(D31="/"),"0:00",IF(AND(D31="CP"),Données!$H23,IF(AND(D31="Z"),"7:36")))))))) -> 0:00 | AJ31: =IF(E31="A","7:36",IF(AND(E31="B"),"7:36",IF(AND(E31="N"),"9:30",IF(AND(E31<=""),"0:00",IF(AND(E31="Q"),"Données!$I2",IF(AND(E31="/"),"0:00",IF(AND(E31="CP"),Données!$H23,IF(AND(E31="Z"),"7:36")))))))) -> 0:00 | AK31: =IF(F31="A","7:36",IF(AND(F31="B"),"7:36",IF(AND(F31="N"),"9:30",IF(AND(F31<=""),"0:00",IF(AND(F31="Q"),"Données!$I2",IF(AND(F31="/"),"0:00",IF(AND(F31="CP"),Données!$H23,IF(AND(F31="Z"),"7:36")))))))) -> 0:00 | AL31: =IF(G31="A","7:36",IF(AND(G31="B"),"7:36",IF(AND(G31="N"),"9:30",IF(AND(G31<=""),"0:00",IF(AND(G31="Q"),"Données!$I2",IF(AND(G31="/"),"0:00",IF(AND(G31="CP"),Données!$H23,IF(AND(G31="Z"),"7:36")))))))) -> 0:00 | AM31: =IF(H31="A","7:36",IF(AND(H31="B"),"7:36",IF(AND(H31="N"),"9:30",IF(AND(H31<=""),"0:00",IF(AND(H31="Q"),"Données!$I2",IF(AND(H31="/"),"0:00",IF(AND(H31="CP"),Données!$H23,IF(AND(H31="Z"),"7:36")))))))) -> 0:00 | AN31: =IF(I31="A","7:36",IF(AND(I31="B"),"7:36",IF(AND(I31="N"),"9:30",IF(AND(I31<=""),"0:00",IF(AND(I31="Q"),"Données!$I2",IF(AND(I31="/"),"0:00",IF(AND(I31="CP"),Données!$H23,IF(AND(I31="Z"),"7:36")))))))) -> 0:00 | AO31: =IF(J31="A","7:36",IF(AND(J31="B"),"7:36",IF(AND(J31="N"),"9:30",IF(AND(J31<=""),"0:00",IF(AND(J31="Q"),"Données!$I2",IF(AND(J31="/"),"0:00",IF(AND(J31="CP"),Données!$H23,IF(AND(J31="Z"),"7:36")))))))) -> 0:00 | AP31: =IF(K31="A","7:36",IF(AND(K31="B"),"7:36",IF(AND(K31="N"),"9:30",IF(AND(K31<=""),"0:00",IF(AND(K31="Q"),"Données!$I2",IF(AND(K31="/"),"0:00",IF(AND(K31="CP"),Données!$H23,IF(AND(K31="Z"),"7:36")))))))) -> 0:00 | ... BM31: =IF(AH31="A","7:36",IF(AND(AH31="B"),"7:36",IF(AND(AH31="N"),"9:30",IF(AND(AH31<=""),"0:00",IF(AND(AH31="Q"),"Données!$I2",IF(AND(AH31="/"),"0:00",IF(AND(AH31="CP"),Données!$H23,IF(AND(AH31="Z"),"7:36")))))))) -> 0:00 | BN31: =IF(AND($C$1<>"",$C$2<>""),SUM(AI31+AJ31+AK31+AL31+AM31+AN31+AO31+AP31+AQ31+AR31+AS31+AT31+AU31+AV31+AW31+AX31+AY31+AZ31+BA31+BB31+BC31+BD31+BE31+BF31+BG31+BH31+BI31+BJ31+BK31+BL31+BM31),"") | BO31: =IF(AND($D$7<>""),IF(MONTH(D$7)=MONTH($D$7),NETWORKDAYS(Données!$K$1,Données!$L$1))) -> 23 | BP31: =BO31*C31 -> #VALUE! | BQ31: =($BQ$9*BP31) -> #VALUE! | BR31: =IFERROR(IF(BN31=BQ31,"",IF(BN31<BQ31,BQ31-BN31,BN31-BQ31)),"")
A32: =IF($D$8<>"","Contraintes","") | B32: =IF($D$8<>"","INF-A","") | D32: =IF(AND(D$8<>"",OR(WEEKDAY(D$7,2)=6,WEEKDAY(D$7,2)=7,NOT(ISNA(VLOOKUP(D$7,'Jours Fériés'!$B$4:$B$17,1,FALSE))))),"3","4") -> 4 | E32: =IF(AND(E$8<>"",OR(WEEKDAY(E$7,2)=6,WEEKDAY(E$7,2)=7,NOT(ISNA(VLOOKUP(E$7,'Jours Fériés'!$B$4:$B$17,1,FALSE))))),"3","4") -> 4 | F32: =IF(AND(F$8<>"",OR(WEEKDAY(F$7,2)=6,WEEKDAY(F$7,2)=7,NOT(ISNA(VLOOKUP(F$7,'Jours Fériés'!$B$4:$B$17,1,FALSE))))),"3","4") -> 4 | G32: =IF(AND(G$8<>"",OR(WEEKDAY(G$7,2)=6,WEEKDAY(G$7,2)=7,NOT(ISNA(VLOOKUP(G$7,'Jours Fériés'!$B$4:$B$17,1,FALSE))))),"3","4") -> 4 | H32: =IF(AND(H$8<>"",OR(WEEKDAY(H$7,2)=6,WEEKDAY(H$7,2)=7,NOT(ISNA(VLOOKUP(H$7,'Jours Fériés'!$B$4:$B$17,1,FALSE))))),"3","4") -> 4 | I32: =IF(AND(I$8<>"",OR(WEEKDAY(I$7,2)=6,WEEKDAY(I$7,2)=7,NOT(ISNA(VLOOKUP(I$7,'Jours Fériés'!$B$4:$B$17,1,FALSE))))),"3","4") -> 4 | J32: =IF(AND(J$8<>"",OR(WEEKDAY(J$7,2)=6,WEEKDAY(J$7,2)=7,NOT(ISNA(VLOOKUP(J$7,'Jours Fériés'!$B$4:$B$17,1,FALSE))))),"3","4") -> 4 | K32: =IF(AND(K$8<>"",OR(WEEKDAY(K$7,2)=6,WEEKDAY(K$7,2)=7,NOT(ISNA(VLOOKUP(K$7,'Jours Fériés'!$B$4:$B$17,1,FALSE))))),"3","4") -> 4 | ... AH32: =IF(AND(AH$8<>"",OR(WEEKDAY(AH$7,2)=6,WEEKDAY(AH$7,2)=7,NOT(ISNA(VLOOKUP(AH$7,'Jours Fériés'!$B$4:$B$17,1,FALSE))))),"3","4") -> 4 | AI32: =IF(AND(AI$8<>"",OR(WEEKDAY(AI$7,2)=6,WEEKDAY(AI$7,2)=7),AND(AI$8<>"",NOT(ISNA(VLOOKUP(AI$7,'Jours Fériés'!$B$4:$B$17,1,FALSE))))),"2","3") -> 3 | AJ32: =IF(AND(AJ$8<>"",OR(WEEKDAY(AJ$7,2)=6,WEEKDAY(AJ$7,2)=7),AND(AJ$8<>"",NOT(ISNA(VLOOKUP(AJ$7,'Jours Fériés'!$B$4:$B$17,1,FALSE))))),"2","3") -> 3 | AK32: =IF(AND(AK$8<>"",OR(WEEKDAY(AK$7,2)=6,WEEKDAY(AK$7,2)=7),AND(AK$8<>"",NOT(ISNA(VLOOKUP(AK$7,'Jours Fériés'!$B$4:$B$17,1,FALSE))))),"2","3") -> 3 | AL32: =IF(AND(AL$8<>"",OR(WEEKDAY(AL$7,2)=6,WEEKDAY(AL$7,2)=7),AND(AL$8<>"",NOT(ISNA(VLOOKUP(AL$7,'Jours Fériés'!$B$4:$B$17,1,FALSE))))),"2","3") -> 3 | AM32: =IF(AND(AM$8<>"",OR(WEEKDAY(AM$7,2)=6,WEEKDAY(AM$7,2)=7),AND(AM$8<>"",NOT(ISNA(VLOOKUP(AM$7,'Jours Fériés'!$B$4:$B$17,1,FALSE))))),"2","3") -> 3 | AN32: =IF(AND(AN$8<>"",OR(WEEKDAY(AN$7,2)=6,WEEKDAY(AN$7,2)=7),AND(AN$8<>"",NOT(ISNA(VLOOKUP(AN$7,'Jours Fériés'!$B$4:$B$17,1,FALSE))))),"2","3") -> 3 | AO32: =IF(AND(AO$8<>"",OR(WEEKDAY(AO$7,2)=6,WEEKDAY(AO$7,2)=7),AND(AO$8<>"",NOT(ISNA(VLOOKUP(AO$7,'Jours Fériés'!$B$4:$B$17,1,FALSE))))),"2","3") -> 3 | AP32: =IF(AND(AP$8<>"",OR(WEEKDAY(AP$7,2)=6,WEEKDAY(AP$7,2)=7),AND(AP$8<>"",NOT(ISNA(VLOOKUP(AP$7,'Jours Fériés'!$B$4:$B$17,1,FALSE))))),"2","3") -> 3 | ... BM32: =IF(AND(BM$8<>"",OR(WEEKDAY(BM$7,2)=6,WEEKDAY(BM$7,2)=7),AND(BM$8<>"",NOT(ISNA(VLOOKUP(BM$7,'Jours Fériés'!$B$4:$B$17,1,FALSE))))),"2","3") -> 3
B33: =IF($D$8<>"","AS-A","") | D33: =IF(AND(D$8<>"",OR(WEEKDAY(D$7,2)=6,WEEKDAY(D$7,2)=7,NOT(ISNA(VLOOKUP(D$7,'Jours Fériés'!$B$4:$B$17,1,FALSE))))),"0","1") -> 1 | E33: =IF(AND(E$8<>"",OR(WEEKDAY(E$7,2)=6,WEEKDAY(E$7,2)=7,NOT(ISNA(VLOOKUP(E$7,'Jours Fériés'!$B$4:$B$17,1,FALSE))))),"0","1") -> 1 | F33: =IF(AND(F$8<>"",OR(WEEKDAY(F$7,2)=6,WEEKDAY(F$7,2)=7,NOT(ISNA(VLOOKUP(F$7,'Jours Fériés'!$B$4:$B$17,1,FALSE))))),"0","1") -> 1 | G33: =IF(AND(G$8<>"",OR(WEEKDAY(G$7,2)=6,WEEKDAY(G$7,2)=7,NOT(ISNA(VLOOKUP(G$7,'Jours Fériés'!$B$4:$B$17,1,FALSE))))),"0","1") -> 1 | H33: =IF(AND(H$8<>"",OR(WEEKDAY(H$7,2)=6,WEEKDAY(H$7,2)=7,NOT(ISNA(VLOOKUP(H$7,'Jours Fériés'!$B$4:$B$17,1,FALSE))))),"0","1") -> 1 | I33: =IF(AND(I$8<>"",OR(WEEKDAY(I$7,2)=6,WEEKDAY(I$7,2)=7,NOT(ISNA(VLOOKUP(I$7,'Jours Fériés'!$B$4:$B$17,1,FALSE))))),"0","1") -> 1 | J33: =IF(AND(J$8<>"",OR(WEEKDAY(J$7,2)=6,WEEKDAY(J$7,2)=7,NOT(ISNA(VLOOKUP(J$7,'Jours Fériés'!$B$4:$B$17,1,FALSE))))),"0","1") -> 1 | K33: =IF(AND(K$8<>"",OR(WEEKDAY(K$7,2)=6,WEEKDAY(K$7,2)=7,NOT(ISNA(VLOOKUP(K$7,'Jours Fériés'!$B$4:$B$17,1,FALSE))))),"0","1") -> 1 | ... AH33: =IF(AND(AH$8<>"",OR(WEEKDAY(AH$7,2)=6,WEEKDAY(AH$7,2)=7,NOT(ISNA(VLOOKUP(AH$7,'Jours Fériés'!$B$4:$B$17,1,FALSE))))),"0","1") -> 1
B34: =IF($D$8<>"","AL-A","") | D34: =IF(AND(D$8<>"",OR(WEEKDAY(D$7,2)=6,WEEKDAY(D$7,2)=7,NOT(ISNA(VLOOKUP(D$7,'Jours Fériés'!$B$4:$B$17,1,FALSE))))),"0","1") -> 1 | E34: =IF(AND(E$8<>"",OR(WEEKDAY(E$7,2)=6,WEEKDAY(E$7,2)=7,NOT(ISNA(VLOOKUP(E$7,'Jours Fériés'!$B$4:$B$17,1,FALSE))))),"0","1") -> 1 | F34: =IF(AND(F$8<>"",OR(WEEKDAY(F$7,2)=6,WEEKDAY(F$7,2)=7,NOT(ISNA(VLOOKUP(F$7,'Jours Fériés'!$B$4:$B$17,1,FALSE))))),"0","1") -> 1 | G34: =IF(AND(G$8<>"",OR(WEEKDAY(G$7,2)=6,WEEKDAY(G$7,2)=7,NOT(ISNA(VLOOKUP(G$7,'Jours Fériés'!$B$4:$B$17,1,FALSE))))),"0","1") -> 1 | H34: =IF(AND(H$8<>"",OR(WEEKDAY(H$7,2)=6,WEEKDAY(H$7,2)=7,NOT(ISNA(VLOOKUP(H$7,'Jours Fériés'!$B$4:$B$17,1,FALSE))))),"0","1") -> 1 | I34: =IF(AND(I$8<>"",OR(WEEKDAY(I$7,2)=6,WEEKDAY(I$7,2)=7,NOT(ISNA(VLOOKUP(I$7,'Jours Fériés'!$B$4:$B$17,1,FALSE))))),"0","1") -> 1 | J34: =IF(AND(J$8<>"",OR(WEEKDAY(J$7,2)=6,WEEKDAY(J$7,2)=7,NOT(ISNA(VLOOKUP(J$7,'Jours Fériés'!$B$4:$B$17,1,FALSE))))),"0","1") -> 1 | K34: =IF(AND(K$8<>"",OR(WEEKDAY(K$7,2)=6,WEEKDAY(K$7,2)=7,NOT(ISNA(VLOOKUP(K$7,'Jours Fériés'!$B$4:$B$17,1,FALSE))))),"0","1") -> 1 | ... AH34: =IF(AND(AH$8<>"",OR(WEEKDAY(AH$7,2)=6,WEEKDAY(AH$7,2)=7,NOT(ISNA(VLOOKUP(AH$7,'Jours Fériés'!$B$4:$B$17,1,FALSE))))),"0","1") -> 1
B35: =IF($D$8<>"","INF-B","") | D35: =IF(AND(D$8<>"",OR(WEEKDAY(D$7,2)=6,WEEKDAY(D$7,2)=7,NOT(ISNA(VLOOKUP(D$7,'Jours Fériés'!$B$4:$B$17,1,FALSE))))),"2","3") -> 3 | E35: =IF(AND(E$8<>"",OR(WEEKDAY(E$7,2)=6,WEEKDAY(E$7,2)=7,NOT(ISNA(VLOOKUP(E$7,'Jours Fériés'!$B$4:$B$17,1,FALSE))))),"2","3") -> 3 | F35: =IF(AND(F$8<>"",OR(WEEKDAY(F$7,2)=6,WEEKDAY(F$7,2)=7,NOT(ISNA(VLOOKUP(F$7,'Jours Fériés'!$B$4:$B$17,1,FALSE))))),"2","3") -> 3 | G35: =IF(AND(G$8<>"",OR(WEEKDAY(G$7,2)=6,WEEKDAY(G$7,2)=7,NOT(ISNA(VLOOKUP(G$7,'Jours Fériés'!$B$4:$B$17,1,FALSE))))),"2","3") -> 3 | H35: =IF(AND(H$8<>"",OR(WEEKDAY(H$7,2)=6,WEEKDAY(H$7,2)=7,NOT(ISNA(VLOOKUP(H$7,'Jours Fériés'!$B$4:$B$17,1,FALSE))))),"2","3") -> 3 | I35: =IF(AND(I$8<>"",OR(WEEKDAY(I$7,2)=6,WEEKDAY(I$7,2)=7,NOT(ISNA(VLOOKUP(I$7,'Jours Fériés'!$B$4:$B$17,1,FALSE))))),"2","3") -> 3 | J35: =IF(AND(J$8<>"",OR(WEEKDAY(J$7,2)=6,WEEKDAY(J$7,2)=7,NOT(ISNA(VLOOKUP(J$7,'Jours Fériés'!$B$4:$B$17,1,FALSE))))),"2","3") -> 3 | K35: =IF(AND(K$8<>"",OR(WEEKDAY(K$7,2)=6,WEEKDAY(K$7,2)=7,NOT(ISNA(VLOOKUP(K$7,'Jours Fériés'!$B$4:$B$17,1,FALSE))))),"2","3") -> 3 | ... AH35: =IF(AND(AH$8<>"",OR(WEEKDAY(AH$7,2)=6,WEEKDAY(AH$7,2)=7,NOT(ISNA(VLOOKUP(AH$7,'Jours Fériés'!$B$4:$B$17,1,FALSE))))),"2","3") -> 3
B36: =IF($D$8<>"","AS-B","") | D36: =IF(AND(D$8<>"",OR(WEEKDAY(D$7,2)=6,WEEKDAY(D$7,2)=7,NOT(ISNA(VLOOKUP(D$7,'Jours Fériés'!$B$4:$B$17,1,FALSE))))),"0","1") -> 1 | E36: =IF(AND(E$8<>"",OR(WEEKDAY(E$7,2)=6,WEEKDAY(E$7,2)=7,NOT(ISNA(VLOOKUP(E$7,'Jours Fériés'!$B$4:$B$17,1,FALSE))))),"0","1") -> 1 | F36: =IF(AND(F$8<>"",OR(WEEKDAY(F$7,2)=6,WEEKDAY(F$7,2)=7,NOT(ISNA(VLOOKUP(F$7,'Jours Fériés'!$B$4:$B$17,1,FALSE))))),"0","1") -> 1 | G36: =IF(AND(G$8<>"",OR(WEEKDAY(G$7,2)=6,WEEKDAY(G$7,2)=7,NOT(ISNA(VLOOKUP(G$7,'Jours Fériés'!$B$4:$B$17,1,FALSE))))),"0","1") -> 1 | H36: =IF(AND(H$8<>"",OR(WEEKDAY(H$7,2)=6,WEEKDAY(H$7,2)=7,NOT(ISNA(VLOOKUP(H$7,'Jours Fériés'!$B$4:$B$17,1,FALSE))))),"0","1") -> 1 | I36: =IF(AND(I$8<>"",OR(WEEKDAY(I$7,2)=6,WEEKDAY(I$7,2)=7,NOT(ISNA(VLOOKUP(I$7,'Jours Fériés'!$B$4:$B$17,1,FALSE))))),"0","1") -> 1 | J36: =IF(AND(J$8<>"",OR(WEEKDAY(J$7,2)=6,WEEKDAY(J$7,2)=7,NOT(ISNA(VLOOKUP(J$7,'Jours Fériés'!$B$4:$B$17,1,FALSE))))),"0","1") -> 1 | K36: =IF(AND(K$8<>"",OR(WEEKDAY(K$7,2)=6,WEEKDAY(K$7,2)=7,NOT(ISNA(VLOOKUP(K$7,'Jours Fériés'!$B$4:$B$17,1,FALSE))))),"0","1") -> 1 | ... AH36: =IF(AND(AH$8<>"",OR(WEEKDAY(AH$7,2)=6,WEEKDAY(AH$7,2)=7,NOT(ISNA(VLOOKUP(AH$7,'Jours Fériés'!$B$4:$B$17,1,FALSE))))),"0","1") -> 1
B37: =IF($D$8<>"","AL-B","") | D37: =IF(AND(D$8<>"",OR(WEEKDAY(D$7,2)=6,WEEKDAY(D$7,2)=7,NOT(ISNA(VLOOKUP(D$7,'Jours Fériés'!$B$4:$B$17,1,FALSE))))),"0","0") -> 0 | E37: =IF(AND(E$8<>"",OR(WEEKDAY(E$7,2)=6,WEEKDAY(E$7,2)=7,NOT(ISNA(VLOOKUP(E$7,'Jours Fériés'!$B$4:$B$17,1,FALSE))))),"0","0") -> 0 | F37: =IF(AND(F$8<>"",OR(WEEKDAY(F$7,2)=6,WEEKDAY(F$7,2)=7,NOT(ISNA(VLOOKUP(F$7,'Jours Fériés'!$B$4:$B$17,1,FALSE))))),"0","0") -> 0 | G37: =IF(AND(G$8<>"",OR(WEEKDAY(G$7,2)=6,WEEKDAY(G$7,2)=7,NOT(ISNA(VLOOKUP(G$7,'Jours Fériés'!$B$4:$B$17,1,FALSE))))),"0","0") -> 0 | H37: =IF(AND(H$8<>"",OR(WEEKDAY(H$7,2)=6,WEEKDAY(H$7,2)=7,NOT(ISNA(VLOOKUP(H$7,'Jours Fériés'!$B$4:$B$17,1,FALSE))))),"0","0") -> 0 | I37: =IF(AND(I$8<>"",OR(WEEKDAY(I$7,2)=6,WEEKDAY(I$7,2)=7,NOT(ISNA(VLOOKUP(I$7,'Jours Fériés'!$B$4:$B$17,1,FALSE))))),"0","0") -> 0 | J37: =IF(AND(J$8<>"",OR(WEEKDAY(J$7,2)=6,WEEKDAY(J$7,2)=7,NOT(ISNA(VLOOKUP(J$7,'Jours Fériés'!$B$4:$B$17,1,FALSE))))),"0","0") -> 0 | K37: =IF(AND(K$8<>"",OR(WEEKDAY(K$7,2)=6,WEEKDAY(K$7,2)=7,NOT(ISNA(VLOOKUP(K$7,'Jours Fériés'!$B$4:$B$17,1,FALSE))))),"0","0") -> 0 | ... AH37: =IF(AND(AH$8<>"",OR(WEEKDAY(AH$7,2)=6,WEEKDAY(AH$7,2)=7,NOT(ISNA(VLOOKUP(AH$7,'Jours Fériés'!$B$4:$B$17,1,FALSE))))),"0","0") -> 0
B38: =IF($D$8<>"","INF-N","") | D38: =IF(AND(D$8<>"",OR(WEEKDAY(D$7,2)=6,WEEKDAY(D$7,2)=7,NOT(ISNA(VLOOKUP(D$7,'Jours Fériés'!$B$4:$B$17,1,FALSE))))),"2","2") -> 2 | E38: =IF(AND(E$8<>"",OR(WEEKDAY(E$7,2)=6,WEEKDAY(E$7,2)=7,NOT(ISNA(VLOOKUP(E$7,'Jours Fériés'!$B$4:$B$17,1,FALSE))))),"2","2") -> 2 | F38: =IF(AND(F$8<>"",OR(WEEKDAY(F$7,2)=6,WEEKDAY(F$7,2)=7,NOT(ISNA(VLOOKUP(F$7,'Jours Fériés'!$B$4:$B$17,1,FALSE))))),"2","2") -> 2 | G38: =IF(AND(G$8<>"",OR(WEEKDAY(G$7,2)=6,WEEKDAY(G$7,2)=7,NOT(ISNA(VLOOKUP(G$7,'Jours Fériés'!$B$4:$B$17,1,FALSE))))),"2","2") -> 2 | H38: =IF(AND(H$8<>"",OR(WEEKDAY(H$7,2)=6,WEEKDAY(H$7,2)=7,NOT(ISNA(VLOOKUP(H$7,'Jours Fériés'!$B$4:$B$17,1,FALSE))))),"2","2") -> 2 | I38: =IF(AND(I$8<>"",OR(WEEKDAY(I$7,2)=6,WEEKDAY(I$7,2)=7,NOT(ISNA(VLOOKUP(I$7,'Jours Fériés'!$B$4:$B$17,1,FALSE))))),"2","2") -> 2 | J38: =IF(AND(J$8<>"",OR(WEEKDAY(J$7,2)=6,WEEKDAY(J$7,2)=7,NOT(ISNA(VLOOKUP(J$7,'Jours Fériés'!$B$4:$B$17,1,FALSE))))),"2","2") -> 2 | K38: =IF(AND(K$8<>"",OR(WEEKDAY(K$7,2)=6,WEEKDAY(K$7,2)=7,NOT(ISNA(VLOOKUP(K$7,'Jours Fériés'!$B$4:$B$17,1,FALSE))))),"2","2") -> 2 | ... AH38: =IF(AND(AH$8<>"",OR(WEEKDAY(AH$7,2)=6,WEEKDAY(AH$7,2)=7,NOT(ISNA(VLOOKUP(AH$7,'Jours Fériés'!$B$4:$B$17,1,FALSE))))),"2","2") -> 2
A39: =IF($D$8<>"","Comptage","") | B39: =IF($D$8<>"","INF-A","") | D39: =COUNTIF(D11:D27,"A") -> 0 | E39: =COUNTIF(E11:E27,"A") -> 0 | F39: =COUNTIF(F11:F27,"A") -> 0 | G39: =COUNTIF(G11:G27,"A") -> 0 | H39: =COUNTIF(H11:H27,"A") -> 0 | I39: =COUNTIF(I11:I27,"A") -> 0 | J39: =COUNTIF(J11:J27,"A") -> 0 | K39: =COUNTIF(K11:K27,"A") -> 0 | ... AH39: =COUNTIF(AH11:AH27,"A") -> 0
B40: =IF($D$8<>"","AS-A","") | D40: =COUNTIF(D28:D30,"A") -> 0 | E40: =COUNTIF(E28:E30,"A") -> 0 | F40: =COUNTIF(F28:F30,"A") -> 0 | G40: =COUNTIF(G28:G30,"A") -> 0 | H40: =COUNTIF(H28:H30,"A") -> 0 | I40: =COUNTIF(I28:I30,"A") -> 0 | J40: =COUNTIF(J28:J30,"A") -> 0 | K40: =COUNTIF(K28:K30,"A") -> 0 | ... AH40: =COUNTIF(AH28:AH30,"A") -> 0
B41: =IF($D$8<>"","AL-A","") | D41: =COUNTIF(D31,"A") -> 0 | E41: =COUNTIF(E31,"A") -> 0 | F41: =COUNTIF(F31,"A") -> 0 | G41: =COUNTIF(G31,"A") -> 0 | H41: =COUNTIF(H31,"A") -> 0 | I41: =COUNTIF(I31,"A") -> 0 | J41: =COUNTIF(J31,"A") -> 0 | K41: =COUNTIF(K31,"A") -> 0 | ... AH41: =COUNTIF(AH31,"A") -> 0
B42: =IF($D$8<>"","INF-B","") | D42: =COUNTIF(D11:D27,"B") -> 0 | E42: =COUNTIF(E11:E27,"B") -> 0 | F42: =COUNTIF(F11:F27,"B") -> 0 | G42: =COUNTIF(G11:G27,"B") -> 0 | H42: =COUNTIF(H11:H27,"B") -> 0 | I42: =COUNTIF(I11:I27,"B") -> 0 | J42: =COUNTIF(J11:J27,"B") -> 0 | K42: =COUNTIF(K11:K27,"B") -> 0 | ... AH42: =COUNTIF(AH11:AH27,"B") -> 0
B43: =IF($D$8<>"","AS-B","") | D43: =COUNTIF(D28:D30,"B") -> 0 | E43: =COUNTIF(E28:E30,"B") -> 0 | F43: =COUNTIF(F28:F30,"B") -> 0 | G43: =COUNTIF(G28:G30,"B") -> 0 | H43: =COUNTIF(H28:H30,"B") -> 0 | I43: =COUNTIF(I28:I30,"B") -> 0 | J43: =COUNTIF(J28:J30,"B") -> 0 | K43: =COUNTIF(K28:K30,"B") -> 0 | ... AH43: =COUNTIF(AH28:AH30,"B") -> 0
B44: =IF($D$8<>"","AL-B","") | D44: =COUNTIF(D31,"B") -> 0 | E44: =COUNTIF(E31,"B") -> 0 | F44: =COUNTIF(F31,"B") -> 0 | G44: =COUNTIF(G31,"B") -> 0 | H44: =COUNTIF(H31,"B") -> 0 | I44: =COUNTIF(I31,"B") -> 0 | J44: =COUNTIF(J31,"B") -> 0 | K44: =COUNTIF(K31,"B") -> 0 | ... AH44: =COUNTIF(AH31,"B") -> 0
B45: =IF($D$8<>"","INF-N","") | D45: =COUNTIF(D11:D27,"N") -> 0 | E45: =COUNTIF(E11:E27,"N") -> 0 | F45: =COUNTIF(F11:F27,"N") -> 0 | G45: =COUNTIF(G11:G27,"N") -> 0 | H45: =COUNTIF(H11:H27,"N") -> 0 | I45: =COUNTIF(I11:I27,"N") -> 0 | J45: =COUNTIF(J11:J27,"N") -> 0 | K45: =COUNTIF(K11:K27,"N") -> 0 | ... AH45: =COUNTIF(AH11:AH27,"N") -> 0
A46: =IF($D$8<>"","Compteurs","") | C46: =IF($D$8<>"","INF-A","") | D46: =IF(D$8<>"",IFERROR(IF(D32=D39,"",IF(D32<D39,D32-D39,D39-D32)),""),"") | E46: =IF(E$8<>"",IFERROR(IF(E32=E39,"",IF(E32<E39,E32-E39,E39-E32)),""),"") | F46: =IF(F$8<>"",IFERROR(IF(F32=F39,"",IF(F32<F39,F32-F39,F39-F32)),""),"") | G46: =IF(G$8<>"",IFERROR(IF(G32=G39,"",IF(G32<G39,G32-G39,G39-G32)),""),"") | H46: =IF(H$8<>"",IFERROR(IF(H32=H39,"",IF(H32<H39,H32-H39,H39-H32)),""),"") | I46: =IF(I$8<>"",IFERROR(IF(I32=I39,"",IF(I32<I39,I32-I39,I39-I32)),""),"") | J46: =IF(J$8<>"",IFERROR(IF(J32=J39,"",IF(J32<J39,J32-J39,J39-J32)),""),"") | K46: =IF(K$8<>"",IFERROR(IF(K32=K39,"",IF(K32<K39,K32-K39,K39-K32)),""),"") | ... AH46: =IF(AH$8<>"",IFERROR(IF(AH32=AH39,"",IF(AH32<AH39,AH32-AH39,AH39-AH32)),""),"")
C47: =IF($D$8<>"","AS-A","") | D47: =IF(D$8<>"",IFERROR(IF(D33=D43,"",IF(D33<D43,D33-D43,D43-D33)),""),"") | E47: =IF(E$8<>"",IFERROR(IF(E33=E43,"",IF(E33<E43,E33-E43,E43-E33)),""),"") | F47: =IF(F$8<>"",IFERROR(IF(F33=F43,"",IF(F33<F43,F33-F43,F43-F33)),""),"") | G47: =IF(G$8<>"",IFERROR(IF(G33=G43,"",IF(G33<G43,G33-G43,G43-G33)),""),"") | H47: =IF(H$8<>"",IFERROR(IF(H33=H43,"",IF(H33<H43,H33-H43,H43-H33)),""),"") | I47: =IF(I$8<>"",IFERROR(IF(I33=I43,"",IF(I33<I43,I33-I43,I43-I33)),""),"") | J47: =IF(J$8<>"",IFERROR(IF(J33=J43,"",IF(J33<J43,J33-J43,J43-J33)),""),"") | K47: =IF(K$8<>"",IFERROR(IF(K33=K43,"",IF(K33<K43,K33-K43,K43-K33)),""),"") | ... AH47: =IF(AH$8<>"",IFERROR(IF(AH33=AH43,"",IF(AH33<AH43,AH33-AH43,AH43-AH33)),""),"")
C48: =IF($D$8<>"","AL-A","") | D48: =IF(D$8<>"",IFERROR(IF(D34=D41,"",IF(D34<D41,D34-D41,D41-D34)),""),"") | E48: =IF(E$8<>"",IFERROR(IF(E34=E41,"",IF(E34<E41,E34-E41,E41-E34)),""),"") | F48: =IF(F$8<>"",IFERROR(IF(F34=F41,"",IF(F34<F41,F34-F41,F41-F34)),""),"") | G48: =IF(G$8<>"",IFERROR(IF(G34=G41,"",IF(G34<G41,G34-G41,G41-G34)),""),"") | H48: =IF(H$8<>"",IFERROR(IF(H34=H41,"",IF(H34<H41,H34-H41,H41-H34)),""),"") | I48: =IF(I$8<>"",IFERROR(IF(I34=I41,"",IF(I34<I41,I34-I41,I41-I34)),""),"") | J48: =IF(J$8<>"",IFERROR(IF(J34=J41,"",IF(J34<J41,J34-J41,J41-J34)),""),"") | K48: =IF(K$8<>"",IFERROR(IF(K34=K41,"",IF(K34<K41,K34-K41,K41-K34)),""),"") | ... AH48: =IF(AH$8<>"",IFERROR(IF(AH34=AH41,"",IF(AH34<AH41,AH34-AH41,AH41-AH34)),""),"")
C49: =IF($D$8<>"","INF-B","") | D49: =IF(D$8<>"",IFERROR(IF(D35=D42,"",IF(D35<D42,D35-D42,D42-D35)),""),"") | E49: =IF(E$8<>"",IFERROR(IF(E35=E42,"",IF(E35<E42,E35-E42,E42-E35)),""),"") | F49: =IF(F$8<>"",IFERROR(IF(F35=F42,"",IF(F35<F42,F35-F42,F42-F35)),""),"") | G49: =IF(G$8<>"",IFERROR(IF(G35=G42,"",IF(G35<G42,G35-G42,G42-G35)),""),"") | H49: =IF(H$8<>"",IFERROR(IF(H35=H42,"",IF(H35<H42,H35-H42,H42-H35)),""),"") | I49: =IF(I$8<>"",IFERROR(IF(I35=I42,"",IF(I35<I42,I35-I42,I42-I35)),""),"") | J49: =IF(J$8<>"",IFERROR(IF(J35=J42,"",IF(J35<J42,J35-J42,J42-J35)),""),"") | K49: =IF(K$8<>"",IFERROR(IF(K35=K42,"",IF(K35<K42,K35-K42,K42-K35)),""),"") | ... AH49: =IF(AH$8<>"",IFERROR(IF(AH35=AH42,"",IF(AH35<AH42,AH35-AH42,AH42-AH35)),""),"")
C50: =IF($D$8<>"","AS-B","") | D50: =IF(D$8<>"",IFERROR(IF(D36=D43,"",IF(D36<D43,D36-D43,D43-D36)),""),"") | E50: =IF(E$8<>"",IFERROR(IF(E36=E43,"",IF(E36<E43,E36-E43,E43-E36)),""),"") | F50: =IF(F$8<>"",IFERROR(IF(F36=F43,"",IF(F36<F43,F36-F43,F43-F36)),""),"") | G50: =IF(G$8<>"",IFERROR(IF(G36=G43,"",IF(G36<G43,G36-G43,G43-G36)),""),"") | H50: =IF(H$8<>"",IFERROR(IF(H36=H43,"",IF(H36<H43,H36-H43,H43-H36)),""),"") | I50: =IF(I$8<>"",IFERROR(IF(I36=I43,"",IF(I36<I43,I36-I43,I43-I36)),""),"") | J50: =IF(J$8<>"",IFERROR(IF(J36=J43,"",IF(J36<J43,J36-J43,J43-J36)),""),"") | K50: =IF(K$8<>"",IFERROR(IF(K36=K43,"",IF(K36<K43,K36-K43,K43-K36)),""),"") | ... AH50: =IF(AH$8<>"",IFERROR(IF(AH36=AH43,"",IF(AH36<AH43,AH36-AH43,AH43-AH36)),""),"")
C51: =IF($D$8<>"","AL-B","") | D51: =IF(D$8<>"",IFERROR(IF(D37=D44,"",IF(D37<D44,D37-D44,D44-D37)),""),"") | E51: =IF(E$8<>"",IFERROR(IF(E37=E44,"",IF(E37<E44,E37-E44,E44-E37)),""),"") | F51: =IF(F$8<>"",IFERROR(IF(F37=F44,"",IF(F37<F44,F37-F44,F44-F37)),""),"") | G51: =IF(G$8<>"",IFERROR(IF(G37=G44,"",IF(G37<G44,G37-G44,G44-G37)),""),"") | H51: =IF(H$8<>"",IFERROR(IF(H37=H44,"",IF(H37<H44,H37-H44,H44-H37)),""),"") | I51: =IF(I$8<>"",IFERROR(IF(I37=I44,"",IF(I37<I44,I37-I44,I44-I37)),""),"") | J51: =IF(J$8<>"",IFERROR(IF(J37=J44,"",IF(J37<J44,J37-J44,J44-J37)),""),"") | K51: =IF(K$8<>"",IFERROR(IF(K37=K44,"",IF(K37<K44,K37-K44,K44-K37)),""),"") | ... BM51: =IF(BM$8<>"",IFERROR(IF(BM37=BM44,"",IF(BM37<BM44,BM37-BM44,BM44-BM37)),""),"")
C52: =IF($D$8<>"","INF-N","") | D52: =IF(D$8<>"",IFERROR(IF(D38=D45,"",IF(D38<D45,D38-D45,D45-D38)),""),"") | E52: =IF(E$8<>"",IFERROR(IF(E38=E45,"",IF(E38<E45,E38-E45,E45-E38)),""),"") | F52: =IF(F$8<>"",IFERROR(IF(F38=F45,"",IF(F38<F45,F38-F45,F45-F38)),""),"") | G52: =IF(G$8<>"",IFERROR(IF(G38=G45,"",IF(G38<G45,G38-G45,G45-G38)),""),"") | H52: =IF(H$8<>"",IFERROR(IF(H38=H45,"",IF(H38<H45,H38-H45,H45-H38)),""),"") | I52: =IF(I$8<>"",IFERROR(IF(I38=I45,"",IF(I38<I45,I38-I45,I45-I38)),""),"") | J52: =IF(J$8<>"",IFERROR(IF(J38=J45,"",IF(J38<J45,J38-J45,J45-J38)),""),"") | K52: =IF(K$8<>"",IFERROR(IF(K38=K45,"",IF(K38<K45,K38-K45,K45-K38)),""),"") | ... AH52: =IF(AH$8<>"",IFERROR(IF(AH38=AH45,"",IF(AH38<AH45,AH38-AH45,AH45-AH38)),""),"")

Sheet Données
A1: Mois | B1: Années | C1: Personnel | D1: Fonction | E1: Temps de travail | F1: Pauses | G1: Heures | H1: CP | I1: Q | K1: =DATE(Planning!C2+2021,Planning!C1,1) -> 44166 | L1: =DATE(Planning!C2+2021,Planning!C1+1,1)-1 -> 44196
A2: Janvier | B2: 2022 | C2: Agent 01 | D2: ICU | E2: 1 | F2: A | G2: 0.31666667 | H2: =$G$2*Tableau1[[#This Row],[Temps de travail]] -> 0.31666667 | I2: =$G$2*Tableau1[[#This Row],[Temps de travail]] -> 0.31666667
A3: Février | B3: 2023 | C3: Agent 02 | D3: INF-A1 | E3: 1 | F3: B | G3: 0.31666667 | H3: =$G$2*Tableau1[[#This Row],[Temps de travail]] -> 0.31666667 | I3: =$G$2*Tableau1[[#This Row],[Temps de travail]] -> 0.31666667
A4: Mars | B4: 2024 | C4: Agent 03 | D4: INF-A1 | E4: 0.8 | F4: N | G4: 9h30 | H4: =$G$2*Tableau1[[#This Row],[Temps de travail]] -> 0.25333333 | I4: =$G$2*Tableau1[[#This Row],[Temps de travail]] -> 0.25333333
A5: Avril | B5: 2025 | C5: Agent 04 | D5: INF-A1 | E5: 0.5 | F5: Q | G5: 0.31666667 | H5: =$G$2*Tableau1[[#This Row],[Temps de travail]] -> 0.15833333 | I5: =$G$2*Tableau1[[#This Row],[Temps de travail]] -> 0.15833333
A6: Mai | B6: 2026 | C6: Agent 05 | D6: INF-A1 | E6: 1 | F6: / | H6: =$G$2*Tableau1[[#This Row],[Temps de travail]] -> 0.31666667 | I6: =$G$2*Tableau1[[#This Row],[Temps de travail]] -> 0.31666667
A7: Juin | B7: 2027 | C7: Agent 06 | D7: INF-A1 | E7: 1 | F7: CP | H7: =$G$2*Tableau1[[#This Row],[Temps de travail]] -> 0.31666667 | I7: =$G$2*Tableau1[[#This Row],[Temps de travail]] -> 0.31666667
A8: Juillet | B8: 2028 | C8: Agent 07 | D8: INF-A1 | E8: 0.8 | F8: Z | H8: =$G$2*Tableau1[[#This Row],[Temps de travail]] -> 0.25333333 | I8: =$G$2*Tableau1[[#This Row],[Temps de travail]] -> 0.25333333
A9: Août | B9: 2029 | C9: Agent 08 | D9: INF-A1 | E9: 1 | H9: =$G$2*Tableau1[[#This Row],[Temps de travail]] -> 0.31666667 | I9: =$G$2*Tableau1[[#This Row],[Temps de travail]] -> 0.31666667
A10: Septembre | B10: 2030 | C10: Agent 09 | D10: INF-A1 | E10: 1 | H10: =$G$2*Tableau1[[#This Row],[Temps de travail]] -> 0.31666667 | I10: =$G$2*Tableau1[[#This Row],[Temps de travail]] -> 0.31666667
A11: Octobre | B11: 2031 | C11: Agent 10 | D11: INF-A1 | E11: 0.8 | H11: =$G$2*Tableau1[[#This Row],[Temps de travail]] -> 0.25333333 | I11: =$G$2*Tableau1[[#This Row],[Temps de travail]] -> 0.25333333
A12: Novembre | B12: 2032 | C12: Agent 11 | D12: INF-A1 | E12: 0.8 | H12: =$G$2*Tableau1[[#This Row],[Temps de travail]] -> 0.25333333 | I12: =$G$2*Tableau1[[#This Row],[Temps de travail]] -> 0.25333333
A13: Décembre | B13: 2033 | C13: Agent 12 | D13: INF-A1 | E13: 0.8 | H13: =$G$2*Tableau1[[#This Row],[Temps de travail]] -> 0.25333333 | I13: =$G$2*Tableau1[[#This Row],[Temps de travail]] -> 0.25333333
C14: Agent 13 | D14: INF-A2 | E14: 1 | H14: =$G$2*Tableau1[[#This Row],[Temps de travail]] -> 0.31666667 | I14: =$G$2*Tableau1[[#This Row],[Temps de travail]] -> 0.31666667
C15: Agent 14 | D15: INF-A2 | E15: 1 | H15: =$G$2*Tableau1[[#This Row],[Temps de travail]] -> 0.31666667 | I15: =$G$2*Tableau1[[#This Row],[Temps de travail]] -> 0.31666667
C16: Agent 15 | D16: INF-A2 | E16: 0.8 | H16: =$G$2*Tableau1[[#This Row],[Temps de travail]] -> 0.25333333 | I16: =$G$2*Tableau1[[#This Row],[Temps de travail]] -> 0.25333333
C17: Agent 16 | D17: INF-A2 | E17: 1 | H17: =$G$2*Tableau1[[#This Row],[Temps de travail]] -> 0.31666667 | I17: =$G$2*Tableau1[[#This Row],[Temps de travail]] -> 0.31666667
C18: Agent 17 | D18: INF-A2 | E18: 0.8 | H18: =$G$2*Tableau1[[#This Row],[Temps de travail]] -> 0.25333333 | I18: =$G$2*Tableau1[[#This Row],[Temps de travail]] -> 0.25333333
C19: Agent 18 | D19: INF-A2 | E19: 1 | H19: =$G$2*Tableau1[[#This Row],[Temps de travail]] -> 0.31666667 | I19: =$G$2*Tableau1[[#This Row],[Temps de travail]] -> 0.31666667
C20: Agent 19 | D20: AS | E20: 0.8 | H20: =$G$2*Tableau1[[#This Row],[Temps de travail]] -> 0.25333333 | I20: =$G$2*Tableau1[[#This Row],[Temps de travail]] -> 0.25333333
C21: Agent 20 | D21: AS | E21: 0.5 | H21: =$G$2*Tableau1[[#This Row],[Temps de travail]] -> 0.15833333 | I21: =$G$2*Tableau1[[#This Row],[Temps de travail]] -> 0.15833333
C22: Agent 21 | D22: AS | E22: 1 | H22: =$G$2*Tableau1[[#This Row],[Temps de travail]] -> 0.31666667 | I22: =$G$2*Tableau1[[#This Row],[Temps de travail]] -> 0.31666667
C23: Agent 22 | D23: AL | E23: 0.8 | H23: =$G$2*Tableau1[[#This Row],[Temps de travail]] -> 0.25333333 | I23: =$G$2*Tableau1[[#This Row],[Temps de travail]] -> 0.25333333

Sheet Jours Fériés
A1: Année | B1: =Planning!C2+2021 -> 2021
A3: Jour férié | B3: Formule
A4: Jour de l’An | B4: =DATE(B1,1,1) -> 44197
A5: Pâques | B5: =ROUND(DATE(B1,4,MOD(234-11*MOD(B1,19),30))/7,0)*7-6 -> 44290
A6: Lundi de Pâques | B6: =B5+1 -> 44291
A7: Fête du travail | B7: =DATE(B1,5,1) -> 44317
A8: Victoire 1945 | B8: =DATE(B1,5,8) -> 44324
A9: Ascension | B9: =B5+39 -> 44329
A10: Pentecôte | B10: =B5+49 -> 44339
A11: Lundi de Pentecôte | B11: =B5+50 -> 44340
A12: Fête Nationale | B12: =DATE(B1,7,21) -> 44398
A13: Assomption | B13: =DATE(B1,8,15) -> 44423
A14: fête de la Communauté française | B14: =DATE(B1,9,27) -> 44466
A15: Toussaint | B15: =DATE(B1,11,1) -> 44501
A16: Armistice 1918 | B16: =DATE(B1,11,11) -> 44511
A17: Noël | B17: =DATE(B1,12,25) -> 44555
