Workbook

Sheet DONNEES
B2: LISTES DEROULANTES:
B4: COOP: | E4: ORDRE DES CAVES: | F4: CAPACITE DES CAVES:
B5: Aboncourt | E5: 29 | F5: 1728
B6: Bozieux | E6: 31 | F6: 1728
B7: Trévillers | E7: 51 | F7: 1824
B8: Les Plains | E8: 49 | F8: 1824
B9: Lavigney | E9: 53 | F9: 2108
E10: 57 | F10: 2108
E11: 55 | F11: 2108
E12: 59 | F12: 2108
E13: 29 | F13: 1728

Sheet PROJECTION
M3: données à saisir manuellement
B8: Semaine | C8: Date | D8: N° de Cave | E8: Places restantes | F8: Nb place max | G8: Places dispo instant t1 | H8: % de places restantes | I8: Coopérative | J8: Nbre de meule | L8: Cumul à la semaine
B9: =IF(Tableau1[[#This Row],[Date]]="","",_xlfn.ISOWEEKNUM(C9)) -> 3 | C9: 44580 | D9: 29 | E9: =IF($D9<>$D8,VLOOKUP($D9,DONNEES!$E$5:$F$12,2,0)+IF(G8<J9,E8,0)-SUM(J8),E8-J8) -> 1728 | F9: =VLOOKUP(Tableau1[[#This Row],[N° de Cave]],DONNEES!$E$5:$F$12,2,0) -> 1728 | G9: =E9-J9 -> 1319 | H9: =(G9/F9) -> 0.76331019 | I9: Bozieux | J9: 409 | L9: N° de semaine | M9: Total
B10: =IF(Tableau1[[#This Row],[Date]]="","",_xlfn.ISOWEEKNUM(C10)) -> 3 | C10: 44581 | D10: =IF(G9-J10<0,INDEX(DONNEES!$E$5:$E$393,MATCH(PROJECTION!D9,DONNEES!$E$5:$E$12,0)+1),D9) -> 31 | E10: =IF($D10<>$D9,VLOOKUP($D10,DONNEES!$E$5:$F$12,2,0)+IF(G9<J10,E9,0)-SUM(J9),E9-J9) -> 3047 | F10: =VLOOKUP(Tableau1[[#This Row],[N° de Cave]],DONNEES!$E$5:$F$12,2,0) -> 1728 | G10: =E10-J10 -> 1647 | H10: =(G10/F10) -> 0.953125 | I10: Bozieux | J10: 1400 | L10: 1 | M10: =SUMIF(Tableau1[[Semaine ]],L10,Tableau1[Nbre de meule]) -> 0
B11: =IF(Tableau1[[#This Row],[Date]]="","",_xlfn.ISOWEEKNUM(C11)) -> 8 | C11: 44617 | D11: =IF(G10-J11<0,INDEX(DONNEES!$E$5:$E$393,MATCH(PROJECTION!D10,DONNEES!$E$5:$E$12,0)+1),D10) -> 51 | E11: =IF($D11<>$D10,VLOOKUP($D11,DONNEES!$E$5:$F$12,2,0)+IF(G10<J11,E10,0)-SUM(J10),E10-J10) -> 3471 | F11: =VLOOKUP(Tableau1[[#This Row],[N° de Cave]],DONNEES!$E$5:$F$12,2,0) -> 1824 | G11: =E11-J11 -> 1471 | H11: =(G11/F11) -> 0.8064693 | J11: 2000 | L11: 2 | M11: =SUMIF(Tableau1[[Semaine ]],L11,Tableau1[Nbre de meule]) -> 0
B12: =IF(Tableau1[[#This Row],[Date]]="","",_xlfn.ISOWEEKNUM(C12)) | D12: =IF(G11-J12<0,INDEX(DONNEES!$E$5:$E$393,MATCH(PROJECTION!D11,DONNEES!$E$5:$E$12,0)+1),D11) -> 49 | E12: =IF($D12<>$D11,VLOOKUP($D12,DONNEES!$E$5:$F$12,2,0)+IF(G11<J12,E11,0)-SUM(J11),E11-J11) -> 3295 | F12: =VLOOKUP(Tableau1[[#This Row],[N° de Cave]],DONNEES!$E$5:$F$12,2,0) -> 1824 | G12: =E12-J12 -> 1795 | H12: =(G12/F12) -> 0.98410088 | J12: 1500 | L12: 3 | M12: =SUMIF(Tableau1[[Semaine ]],L12,Tableau1[Nbre de meule]) -> 1809
B13: =IF(Tableau1[[#This Row],[Date]]="","",_xlfn.ISOWEEKNUM(C13)) | D13: =IF(G12-J13<0,INDEX(DONNEES!$E$5:$E$393,MATCH(PROJECTION!D12,DONNEES!$E$5:$E$12,0)+1),D12) -> 49 | E13: =IF($D13<>$D12,VLOOKUP($D13,DONNEES!$E$5:$F$12,2,0)+IF(G12<J13,E12,0)-SUM(J12),E12-J12) -> 1795 | F13: =VLOOKUP(Tableau1[[#This Row],[N° de Cave]],DONNEES!$E$5:$F$12,2,0) -> 1824 | G13: =E13-J13 -> 1795 | H13: =(G13/F13) -> 0.98410088 | L13: 4 | M13: =SUMIF(Tableau1[[Semaine ]],L13,Tableau1[Nbre de meule]) -> 0
B14: =IF(Tableau1[[#This Row],[Date]]="","",_xlfn.ISOWEEKNUM(C14)) | D14: =IF(G13-J14<0,INDEX(DONNEES!$E$5:$E$393,MATCH(PROJECTION!D13,DONNEES!$E$5:$E$12,0)+1),D13) -> 49 | E14: =IF($D14<>$D13,VLOOKUP($D14,DONNEES!$E$5:$F$12,2,0)+IF(G13<J14,E13,0)-SUM(J13),E13-J13) -> 1795 | F14: =VLOOKUP(Tableau1[[#This Row],[N° de Cave]],DONNEES!$E$5:$F$12,2,0) -> 1824 | G14: =E14-J14 -> 1795 | H14: =(G14/F14) -> 0.98410088 | L14: 5 | M14: =SUMIF(Tableau1[[Semaine ]],L14,Tableau1[Nbre de meule]) -> 0
B15: =IF(Tableau1[[#This Row],[Date]]="","",_xlfn.ISOWEEKNUM(C15)) | D15: =IF(G14-J15<0,INDEX(DONNEES!$E$5:$E$393,MATCH(PROJECTION!D14,DONNEES!$E$5:$E$12,0)+1),D14) -> 49 | E15: =IF($D15<>$D14,VLOOKUP($D15,DONNEES!$E$5:$F$12,2,0)+IF(G14<J15,E14,0)-SUM(J14),E14-J14) -> 1795 | F15: =VLOOKUP(Tableau1[[#This Row],[N° de Cave]],DONNEES!$E$5:$F$12,2,0) -> 1824 | G15: =E15-J15 -> 1795 | H15: =(G15/F15) -> 0.98410088 | L15: 6 | M15: =SUMIF(Tableau1[[Semaine ]],L15,Tableau1[Nbre de meule]) -> 0
B16: =IF(Tableau1[[#This Row],[Date]]="","",_xlfn.ISOWEEKNUM(C16)) | D16: =IF(G15-J16<0,INDEX(DONNEES!$E$5:$E$393,MATCH(PROJECTION!D15,DONNEES!$E$5:$E$12,0)+1),D15) -> 49 | E16: =IF($D16<>$D15,VLOOKUP($D16,DONNEES!$E$5:$F$12,2,0)+IF(G15<J16,E15,0)-SUM(J15),E15-J15) -> 1795 | F16: =VLOOKUP(Tableau1[[#This Row],[N° de Cave]],DONNEES!$E$5:$F$12,2,0) -> 1824 | G16: =E16-J16 -> 1795 | H16: =(G16/F16) -> 0.98410088 | L16: 7 | M16: =SUMIF(Tableau1[[Semaine ]],L16,Tableau1[Nbre de meule]) -> 0
B17: =IF(Tableau1[[#This Row],[Date]]="","",_xlfn.ISOWEEKNUM(C17)) | D17: =IF(G16-J17<0,INDEX(DONNEES!$E$5:$E$393,MATCH(PROJECTION!D16,DONNEES!$E$5:$E$12,0)+1),D16) -> 49 | E17: =IF($D17<>$D16,VLOOKUP($D17,DONNEES!$E$5:$F$12,2,0)+IF(G16<J17,E16,0)-SUM(J16),E16-J16) -> 1795 | F17: =VLOOKUP(Tableau1[[#This Row],[N° de Cave]],DONNEES!$E$5:$F$12,2,0) -> 1824 | G17: =E17-J17 -> 1795 | H17: =(G17/F17) -> 0.98410088 | L17: 8 | M17: =SUMIF(Tableau1[[Semaine ]],L17,Tableau1[Nbre de meule]) -> 2000
B18: =IF(Tableau1[[#This Row],[Date]]="","",_xlfn.ISOWEEKNUM(C18)) | D18: =IF(G17-J18<0,INDEX(DONNEES!$E$5:$E$393,MATCH(PROJECTION!D17,DONNEES!$E$5:$E$12,0)+1),D17) -> 49 | E18: =IF($D18<>$D17,VLOOKUP($D18,DONNEES!$E$5:$F$12,2,0)+IF(G17<J18,E17,0)-SUM(J17),E17-J17) -> 1795 | F18: =VLOOKUP(Tableau1[[#This Row],[N° de Cave]],DONNEES!$E$5:$F$12,2,0) -> 1824 | G18: =E18-J18 -> 1795 | H18: =(G18/F18) -> 0.98410088 | L18: 9 | M18: =SUMIF(Tableau1[[Semaine ]],L18,Tableau1[Nbre de meule]) -> 0
B19: =IF(Tableau1[[#This Row],[Date]]="","",_xlfn.ISOWEEKNUM(C19)) | D19: =IF(G18-J19<0,INDEX(DONNEES!$E$5:$E$393,MATCH(PROJECTION!D18,DONNEES!$E$5:$E$12,0)+1),D18) -> 49 | E19: =IF($D19<>$D18,VLOOKUP($D19,DONNEES!$E$5:$F$12,2,0)+IF(G18<J19,E18,0)-SUM(J18),E18-J18) -> 1795 | F19: =VLOOKUP(Tableau1[[#This Row],[N° de Cave]],DONNEES!$E$5:$F$12,2,0) -> 1824 | G19: =E19-J19 -> 1795 | H19: =(G19/F19) -> 0.98410088 | L19: 10 | M19: =SUMIF(Tableau1[[Semaine ]],L19,Tableau1[Nbre de meule]) -> 0
B20: =IF(Tableau1[[#This Row],[Date]]="","",_xlfn.ISOWEEKNUM(C20)) | D20: =IF(G19-J20<0,INDEX(DONNEES!$E$5:$E$393,MATCH(PROJECTION!D19,DONNEES!$E$5:$E$12,0)+1),D19) -> 49 | E20: =IF($D20<>$D19,VLOOKUP($D20,DONNEES!$E$5:$F$12,2,0)+IF(G19<J20,E19,0)-SUM(J19),E19-J19) -> 1795 | F20: =VLOOKUP(Tableau1[[#This Row],[N° de Cave]],DONNEES!$E$5:$F$12,2,0) -> 1824 | G20: =E20-J20 -> 1795 | H20: =(G20/F20) -> 0.98410088 | L20: 11 | M20: =SUMIF(Tableau1[[Semaine ]],L20,Tableau1[Nbre de meule]) -> 0
B21: =IF(Tableau1[[#This Row],[Date]]="","",_xlfn.ISOWEEKNUM(C21)) | D21: =IF(G20-J21<0,INDEX(DONNEES!$E$5:$E$393,MATCH(PROJECTION!D20,DONNEES!$E$5:$E$12,0)+1),D20) -> 49 | E21: =IF($D21<>$D20,VLOOKUP($D21,DONNEES!$E$5:$F$12,2,0)+IF(G20<J21,E20,0)-SUM(J20),E20-J20) -> 1795 | F21: =VLOOKUP(Tableau1[[#This Row],[N° de Cave]],DONNEES!$E$5:$F$12,2,0) -> 1824 | G21: =E21-J21 -> 1795 | H21: =(G21/F21) -> 0.98410088 | L21: 12 | M21: =SUMIF(Tableau1[[Semaine ]],L21,Tableau1[Nbre de meule]) -> 0
B22: =IF(Tableau1[[#This Row],[Date]]="","",_xlfn.ISOWEEKNUM(C22)) | D22: =IF(G21-J22<0,INDEX(DONNEES!$E$5:$E$393,MATCH(PROJECTION!D21,DONNEES!$E$5:$E$12,0)+1),D21) -> 49 | E22: =IF($D22<>$D21,VLOOKUP($D22,DONNEES!$E$5:$F$12,2,0)+IF(G21<J22,E21,0)-SUM(J21),E21-J21) -> 1795 | F22: =VLOOKUP(Tableau1[[#This Row],[N° de Cave]],DONNEES!$E$5:$F$12,2,0) -> 1824 | G22: =E22-J22 -> 1795 | H22: =(G22/F22) -> 0.98410088 | L22: 13 | M22: =SUMIF(Tableau1[[Semaine ]],L22,Tableau1[Nbre de meule]) -> 0
B23: =IF(Tableau1[[#This Row],[Date]]="","",_xlfn.ISOWEEKNUM(C23)) | D23: =IF(G22-J23<0,INDEX(DONNEES!$E$5:$E$393,MATCH(PROJECTION!D22,DONNEES!$E$5:$E$12,0)+1),D22) -> 49 | E23: =IF($D23<>$D22,VLOOKUP($D23,DONNEES!$E$5:$F$12,2,0)+IF(G22<J23,E22,0)-SUM(J22),E22-J22) -> 1795 | F23: =VLOOKUP(Tableau1[[#This Row],[N° de Cave]],DONNEES!$E$5:$F$12,2,0) -> 1824 | G23: =E23-J23 -> 1795 | H23: =(G23/F23) -> 0.98410088 | L23: 14 | M23: =SUMIF(Tableau1[[Semaine ]],L23,Tableau1[Nbre de meule]) -> 0
B24: =IF(Tableau1[[#This Row],[Date]]="","",_xlfn.ISOWEEKNUM(C24)) | D24: =IF(G23-J24<0,INDEX(DONNEES!$E$5:$E$393,MATCH(PROJECTION!D23,DONNEES!$E$5:$E$12,0)+1),D23) -> 49 | E24: =IF($D24<>$D23,VLOOKUP($D24,DONNEES!$E$5:$F$12,2,0)+IF(G23<J24,E23,0)-SUM(J23),E23-J23) -> 1795 | F24: =VLOOKUP(Tableau1[[#This Row],[N° de Cave]],DONNEES!$E$5:$F$12,2,0) -> 1824 | G24: =E24-J24 -> 1795 | H24: =(G24/F24) -> 0.98410088 | L24: 15 | M24: =SUMIF(Tableau1[[Semaine ]],L24,Tableau1[Nbre de meule]) -> 0
... B54: =IF(Tableau1[[#This Row],[Date]]="","",_xlfn.ISOWEEKNUM(C54)) | D54: =IF(G53-J54<0,INDEX(DONNEES!$E$5:$E$393,MATCH(PROJECTION!D53,DONNEES!$E$5:$E$12,0)+1),D53) -> 49 | E54: =IF($D54<>$D53,VLOOKUP($D54,DONNEES!$E$5:$F$12,2,0)+IF(G53<J54,E53,0)-SUM(J53),E53-J53) -> 1795 | F54: =VLOOKUP(Tableau1[[#This Row],[N° de Cave]],DONNEES!$E$5:$F$12,2,0) -> 1824 | G54: =E54-J54 -> 1795 | H54: =(G54/F54) -> 0.98410088 | L54: 45 | M54: =SUMIF(Tableau1[[Semaine ]],L54,Tableau1[Nbre de meule]) -> 0
L55: 46 | M55: =SUMIF(Tableau1[[Semaine ]],L55,Tableau1[Nbre de meule]) -> 0
L56: 47 | M56: =SUMIF(Tableau1[[Semaine ]],L56,Tableau1[Nbre de meule]) -> 0
L57: 48 | M57: =SUMIF(Tableau1[[Semaine ]],L57,Tableau1[Nbre de meule]) -> 0
L58: 49 | M58: =SUMIF(Tableau1[[Semaine ]],L58,Tableau1[Nbre de meule]) -> 0
L59: 50 | M59: =SUMIF(Tableau1[[Semaine ]],L59,Tableau1[Nbre de meule]) -> 0
L60: 51 | M60: =SUMIF(Tableau1[[Semaine ]],L60,Tableau1[Nbre de meule]) -> 0
L61: 52 | M61: =SUMIF(Tableau1[[Semaine ]],L61,Tableau1[Nbre de meule]) -> 0

Sheet T°
D3: insérer fichier indications changement température
D4: par exemple:
D5: température de 10/12°C: remplissage +28 jours préaffinage
D6: 16°C: + 4 jours (montée de 1°C par jour) + 40 jours (refroidissement)
D7: plus 6 jours de descente de température
D9: et donc la on obtient la date de la 1ère sortie et de la 1ere entrée en cave
A12: Cave | B12: Fin remplissage | C12: J | D12: montée à 16°C | E12: descente °C
A13: n° de cave, après passage à une autre | B13: date de fin de remplissage/passage à la cave suivante | C13: 28 jours | D13: plus 4 jours (1°/jour) | E13: plus 6 jours
D14: Plus 40 jours pour le refroidissement

Sheet Feuil2
B2: Cave | C2: Fin remplissage | D2: N° de cave | E2: fin remplissage | F2: Nbre de J | G2: Montée °C | H2: arrivée à 16°C | I2: Fin Refroidissement
D3: =INDEX(Tableau1[N° de Cave],MATCH(MAX(Tableau1[Date]),Tableau1[Date],0)-1) -> 31 | E3: =IFERROR(INDEX(Tableau1[Date],MATCH(Tableau2[[#This Row],[N° de cave]],Tableau1[N° de Cave],0)+1),"") -> 44617 | F3: 28 | G3: =Tableau2[[#This Row],[fin remplissage]]+Tableau2[[#This Row],[Nbre de J]] -> 44645 | H3: =Tableau2[[#This Row],[Montée °C]]+4 -> 44649 | I3: =Tableau2[[#This Row],[arrivée à 16°C]]+40 -> 44689
D4: =INDEX(Tableau1[N° de Cave],MATCH(MAX(Tableau1[Date]),Tableau1[Date],0)-1) -> 31 | E4: =IFERROR(INDEX(Tableau1[Date],MATCH(Tableau2[[#This Row],[N° de cave]],Tableau1[N° de Cave],0)+1),"") -> 44617 | G4: =Tableau2[[#This Row],[fin remplissage]]+Tableau2[[#This Row],[Nbre de J]] -> 44617 | H4: =Tableau2[[#This Row],[Montée °C]]+4 -> 44621 | I4: =Tableau2[[#This Row],[arrivée à 16°C]]+40 -> 44661
D5: =INDEX(Tableau1[N° de Cave],MATCH(MAX(Tableau1[Date]),Tableau1[Date],0)-1) -> 31 | E5: =IFERROR(INDEX(Tableau1[Date],MATCH(Tableau2[[#This Row],[N° de cave]],Tableau1[N° de Cave],0)+1),"") -> 44617 | G5: =Tableau2[[#This Row],[fin remplissage]]+Tableau2[[#This Row],[Nbre de J]] -> 44617 | H5: =Tableau2[[#This Row],[Montée °C]]+4 -> 44621 | I5: =Tableau2[[#This Row],[arrivée à 16°C]]+40 -> 44661
D6: =INDEX(Tableau1[N° de Cave],MATCH(MAX(Tableau1[Date]),Tableau1[Date],0)-1) -> 31 | E6: =IFERROR(INDEX(Tableau1[Date],MATCH(Tableau2[[#This Row],[N° de cave]],Tableau1[N° de Cave],0)+1),"") -> 44617 | G6: =Tableau2[[#This Row],[fin remplissage]]+Tableau2[[#This Row],[Nbre de J]] -> 44617 | H6: =Tableau2[[#This Row],[Montée °C]]+4 -> 44621 | I6: =Tableau2[[#This Row],[arrivée à 16°C]]+40 -> 44661
D7: =INDEX(Tableau1[N° de Cave],MATCH(MAX(Tableau1[Date]),Tableau1[Date],0)-1) -> 31 | E7: =IFERROR(INDEX(Tableau1[Date],MATCH(Tableau2[[#This Row],[N° de cave]],Tableau1[N° de Cave],0)+1),"") -> 44617 | G7: =Tableau2[[#This Row],[fin remplissage]]+Tableau2[[#This Row],[Nbre de J]] -> 44617 | H7: =Tableau2[[#This Row],[Montée °C]]+4 -> 44621 | I7: =Tableau2[[#This Row],[arrivée à 16°C]]+40 -> 44661
D8: =INDEX(Tableau1[N° de Cave],MATCH(MAX(Tableau1[Date]),Tableau1[Date],0)-1) -> 31 | E8: =IFERROR(INDEX(Tableau1[Date],MATCH(Tableau2[[#This Row],[N° de cave]],Tableau1[N° de Cave],0)+1),"") -> 44617 | G8: =Tableau2[[#This Row],[fin remplissage]]+Tableau2[[#This Row],[Nbre de J]] -> 44617 | H8: =Tableau2[[#This Row],[Montée °C]]+4 -> 44621 | I8: =Tableau2[[#This Row],[arrivée à 16°C]]+40 -> 44661
