Workbook

Sheet Accueil - Paramètrage
D2: ACTIVITE DES SPV CONVENTIONNES SUR LE TEMPS DE TRAVAIL
B5: Nom Prénom de l'agent | C5: Grade | D5: Employeur
A6: Agent 1 | B6: XX yy | C6: SGT | D6: Mairie A
A7: Agent 2 | B7: VV hh | C7: CCH | D7: Conseil Général B
A8: Agent 3 | B8: ZZ tt | C8: CPL | D8: Mairie A
A9: Agent 4
A10: Agent 5
B18: Aller en saisie
B20: Gestion des paramètres
B21: Employeur | C21: Grade | D21: Fonction
B22: Mairie A | C22: LTN | D22: Stationnaire
B23: Conseil Général B | C23: ADC | D23: Conducteur PL
C24: ADJ | D24: Chef d'Agrès
C25: SCH
C26: SGT
C27: CCH
C28: CPL
C29: SAP

Sheet Suivi 1° Trimestre
D2: ACTIVITE DES SPV CONVENTIONNES SUR LE TEMPS DE TRAVAIL
B4: Employeur | C4: Grade | D4: Nom Prénom | E4: Date | F4: N° intervention | G4: Fonction | H4: Heure arrivée | I4: Heure fin | J4: Durée sur temps de travail | K4: Signature
B5: =IF(D5='Accueil - Paramètrage'!$B$6,'Accueil - Paramètrage'!$D$6,IF(D5='Accueil - Paramètrage'!$B$7,'Accueil - Paramètrage'!$D$7,IF(D5='Accueil - Paramètrage'!$B$8,'Accueil - Paramètrage'!$D$8,IF(D5='Accueil - Paramètrage'!$B$9,'Accueil - Paramètrage'!$D$9,IF(D5='Accueil - Paramètrage'!$B$10,'Accueil - Paramètrage'!$D$10,""))))) -> Mairie A | C5: =IF(D5='Accueil - Paramètrage'!$B$6,'Accueil - Paramètrage'!$C$6,IF(D5='Accueil - Paramètrage'!$B$7,'Accueil - Paramètrage'!$C$7,IF(D5='Accueil - Paramètrage'!$B$8,'Accueil - Paramètrage'!$C$8,IF(D5='Accueil - Paramètrage'!$B$9,'Accueil - Paramètrage'!$C$9,IF(D5='Accueil - Paramètrage'!$B$10,'Accueil - Paramètrage'!$C$10,""))))) -> SGT | D5: XX yy | E5: 42705 | F5: 001 | G5: Stationnaire | H5: 0.5 | I5: 0.51736111 | J5: =I5-H5 -> 0.017361111
B6: =IF(D6='Accueil - Paramètrage'!$B$6,'Accueil - Paramètrage'!$D$6,IF(D6='Accueil - Paramètrage'!$B$7,'Accueil - Paramètrage'!$D$7,IF(D6='Accueil - Paramètrage'!$B$8,'Accueil - Paramètrage'!$D$8,IF(D6='Accueil - Paramètrage'!$B$9,'Accueil - Paramètrage'!$D$9,IF(D6='Accueil - Paramètrage'!$B$10,'Accueil - Paramètrage'!$D$10,""))))) -> Mairie A | C6: =IF(D6='Accueil - Paramètrage'!$B$6,'Accueil - Paramètrage'!$C$6,IF(D6='Accueil - Paramètrage'!$B$7,'Accueil - Paramètrage'!$C$7,IF(D6='Accueil - Paramètrage'!$B$8,'Accueil - Paramètrage'!$C$8,IF(D6='Accueil - Paramètrage'!$B$9,'Accueil - Paramètrage'!$C$9,IF(D6='Accueil - Paramètrage'!$B$10,'Accueil - Paramètrage'!$C$10,""))))) -> CPL | D6: ZZ tt | E6: 42706 | F6: 002 | G6: Conducteur PL | H6: 0.56388889 | I6: 0.69791667 | J6: =I6-H6 -> 0.13402778
B7: =IF(D7='Accueil - Paramètrage'!$B$6,'Accueil - Paramètrage'!$D$6,IF(D7='Accueil - Paramètrage'!$B$7,'Accueil - Paramètrage'!$D$7,IF(D7='Accueil - Paramètrage'!$B$8,'Accueil - Paramètrage'!$D$8,IF(D7='Accueil - Paramètrage'!$B$9,'Accueil - Paramètrage'!$D$9,IF(D7='Accueil - Paramètrage'!$B$10,'Accueil - Paramètrage'!$D$10,""))))) -> Mairie A | C7: =IF(D7='Accueil - Paramètrage'!$B$6,'Accueil - Paramètrage'!$C$6,IF(D7='Accueil - Paramètrage'!$B$7,'Accueil - Paramètrage'!$C$7,IF(D7='Accueil - Paramètrage'!$B$8,'Accueil - Paramètrage'!$C$8,IF(D7='Accueil - Paramètrage'!$B$9,'Accueil - Paramètrage'!$C$9,IF(D7='Accueil - Paramètrage'!$B$10,'Accueil - Paramètrage'!$C$10,""))))) -> SGT | D7: XX yy | E7: 42709 | F7: 003 | G7: Stationnaire | H7: 0.38055556 | I7: 0.38472222 | J7: =I7-H7 -> 0.0041666667
B8: =IF(D8='Accueil - Paramètrage'!$B$6,'Accueil - Paramètrage'!$D$6,IF(D8='Accueil - Paramètrage'!$B$7,'Accueil - Paramètrage'!$D$7,IF(D8='Accueil - Paramètrage'!$B$8,'Accueil - Paramètrage'!$D$8,IF(D8='Accueil - Paramètrage'!$B$9,'Accueil - Paramètrage'!$D$9,IF(D8='Accueil - Paramètrage'!$B$10,'Accueil - Paramètrage'!$D$10,""))))) -> Conseil Général B | C8: =IF(D8='Accueil - Paramètrage'!$B$6,'Accueil - Paramètrage'!$C$6,IF(D8='Accueil - Paramètrage'!$B$7,'Accueil - Paramètrage'!$C$7,IF(D8='Accueil - Paramètrage'!$B$8,'Accueil - Paramètrage'!$C$8,IF(D8='Accueil - Paramètrage'!$B$9,'Accueil - Paramètrage'!$C$9,IF(D8='Accueil - Paramètrage'!$B$10,'Accueil - Paramètrage'!$C$10,""))))) -> CCH | D8: VV hh | E8: 42712 | F8: 004 | G8: Chef d'Agrès | H8: 0.44513889 | I8: 0.49444444 | J8: =I8-H8 -> 0.049305556
B9: =IF(D9='Accueil - Paramètrage'!$B$6,'Accueil - Paramètrage'!$D$6,IF(D9='Accueil - Paramètrage'!$B$7,'Accueil - Paramètrage'!$D$7,IF(D9='Accueil - Paramètrage'!$B$8,'Accueil - Paramètrage'!$D$8,IF(D9='Accueil - Paramètrage'!$B$9,'Accueil - Paramètrage'!$D$9,IF(D9='Accueil - Paramètrage'!$B$10,'Accueil - Paramètrage'!$D$10,""))))) -> Mairie A | C9: =IF(D9='Accueil - Paramètrage'!$B$6,'Accueil - Paramètrage'!$C$6,IF(D9='Accueil - Paramètrage'!$B$7,'Accueil - Paramètrage'!$C$7,IF(D9='Accueil - Paramètrage'!$B$8,'Accueil - Paramètrage'!$C$8,IF(D9='Accueil - Paramètrage'!$B$9,'Accueil - Paramètrage'!$C$9,IF(D9='Accueil - Paramètrage'!$B$10,'Accueil - Paramètrage'!$C$10,""))))) -> SGT | D9: XX yy | E9: 42712 | F9: 005 | G9: Stationnaire | H9: 0.58472222 | I9: 0.60277778 | J9: =I9-H9 -> 0.018055556
B10: =IF(D10='Accueil - Paramètrage'!$B$6,'Accueil - Paramètrage'!$D$6,IF(D10='Accueil - Paramètrage'!$B$7,'Accueil - Paramètrage'!$D$7,IF(D10='Accueil - Paramètrage'!$B$8,'Accueil - Paramètrage'!$D$8,IF(D10='Accueil - Paramètrage'!$B$9,'Accueil - Paramètrage'!$D$9,IF(D10='Accueil - Paramètrage'!$B$10,'Accueil - Paramètrage'!$D$10,""))))) -> Conseil Général B | C10: =IF(D10='Accueil - Paramètrage'!$B$6,'Accueil - Paramètrage'!$C$6,IF(D10='Accueil - Paramètrage'!$B$7,'Accueil - Paramètrage'!$C$7,IF(D10='Accueil - Paramètrage'!$B$8,'Accueil - Paramètrage'!$C$8,IF(D10='Accueil - Paramètrage'!$B$9,'Accueil - Paramètrage'!$C$9,IF(D10='Accueil - Paramètrage'!$B$10,'Accueil - Paramètrage'!$C$10,""))))) -> CCH | D10: VV hh | E10: 42714 | F10: 006 | G10: Conducteur PL | H10: 0.63055556 | I10: 0.78472222 | J10: =I10-H10 -> 0.15416667
B11: =IF(D11='Accueil - Paramètrage'!$B$6,'Accueil - Paramètrage'!$D$6,IF(D11='Accueil - Paramètrage'!$B$7,'Accueil - Paramètrage'!$D$7,IF(D11='Accueil - Paramètrage'!$B$8,'Accueil - Paramètrage'!$D$8,IF(D11='Accueil - Paramètrage'!$B$9,'Accueil - Paramètrage'!$D$9,IF(D11='Accueil - Paramètrage'!$B$10,'Accueil - Paramètrage'!$D$10,""))))) -> 0 | C11: =IF(D11='Accueil - Paramètrage'!$B$6,'Accueil - Paramètrage'!$C$6,IF(D11='Accueil - Paramètrage'!$B$7,'Accueil - Paramètrage'!$C$7,IF(D11='Accueil - Paramètrage'!$B$8,'Accueil - Paramètrage'!$C$8,IF(D11='Accueil - Paramètrage'!$B$9,'Accueil - Paramètrage'!$C$9,IF(D11='Accueil - Paramètrage'!$B$10,'Accueil - Paramètrage'!$C$10,""))))) -> 0 | F11: 007 | J11: =I11-H11 -> 0
B12: =IF(D12='Accueil - Paramètrage'!$B$6,'Accueil - Paramètrage'!$D$6,IF(D12='Accueil - Paramètrage'!$B$7,'Accueil - Paramètrage'!$D$7,IF(D12='Accueil - Paramètrage'!$B$8,'Accueil - Paramètrage'!$D$8,IF(D12='Accueil - Paramètrage'!$B$9,'Accueil - Paramètrage'!$D$9,IF(D12='Accueil - Paramètrage'!$B$10,'Accueil - Paramètrage'!$D$10,""))))) -> 0 | C12: =IF(D12='Accueil - Paramètrage'!$B$6,'Accueil - Paramètrage'!$C$6,IF(D12='Accueil - Paramètrage'!$B$7,'Accueil - Paramètrage'!$C$7,IF(D12='Accueil - Paramètrage'!$B$8,'Accueil - Paramètrage'!$C$8,IF(D12='Accueil - Paramètrage'!$B$9,'Accueil - Paramètrage'!$C$9,IF(D12='Accueil - Paramètrage'!$B$10,'Accueil - Paramètrage'!$C$10,""))))) -> 0 | F12: 008 | J12: =I12-H12 -> 0
B13: =IF(D13='Accueil - Paramètrage'!$B$6,'Accueil - Paramètrage'!$D$6,IF(D13='Accueil - Paramètrage'!$B$7,'Accueil - Paramètrage'!$D$7,IF(D13='Accueil - Paramètrage'!$B$8,'Accueil - Paramètrage'!$D$8,IF(D13='Accueil - Paramètrage'!$B$9,'Accueil - Paramètrage'!$D$9,IF(D13='Accueil - Paramètrage'!$B$10,'Accueil - Paramètrage'!$D$10,""))))) -> 0 | C13: =IF(D13='Accueil - Paramètrage'!$B$6,'Accueil - Paramètrage'!$C$6,IF(D13='Accueil - Paramètrage'!$B$7,'Accueil - Paramètrage'!$C$7,IF(D13='Accueil - Paramètrage'!$B$8,'Accueil - Paramètrage'!$C$8,IF(D13='Accueil - Paramètrage'!$B$9,'Accueil - Paramètrage'!$C$9,IF(D13='Accueil - Paramètrage'!$B$10,'Accueil - Paramètrage'!$C$10,""))))) -> 0 | F13: 009 | J13: =I13-H13 -> 0
B14: =IF(D14='Accueil - Paramètrage'!$B$6,'Accueil - Paramètrage'!$D$6,IF(D14='Accueil - Paramètrage'!$B$7,'Accueil - Paramètrage'!$D$7,IF(D14='Accueil - Paramètrage'!$B$8,'Accueil - Paramètrage'!$D$8,IF(D14='Accueil - Paramètrage'!$B$9,'Accueil - Paramètrage'!$D$9,IF(D14='Accueil - Paramètrage'!$B$10,'Accueil - Paramètrage'!$D$10,""))))) -> 0 | C14: =IF(D14='Accueil - Paramètrage'!$B$6,'Accueil - Paramètrage'!$C$6,IF(D14='Accueil - Paramètrage'!$B$7,'Accueil - Paramètrage'!$C$7,IF(D14='Accueil - Paramètrage'!$B$8,'Accueil - Paramètrage'!$C$8,IF(D14='Accueil - Paramètrage'!$B$9,'Accueil - Paramètrage'!$C$9,IF(D14='Accueil - Paramètrage'!$B$10,'Accueil - Paramètrage'!$C$10,""))))) -> 0 | F14: 010 | J14: =I14-H14 -> 0
B15: =IF(D15='Accueil - Paramètrage'!$B$6,'Accueil - Paramètrage'!$D$6,IF(D15='Accueil - Paramètrage'!$B$7,'Accueil - Paramètrage'!$D$7,IF(D15='Accueil - Paramètrage'!$B$8,'Accueil - Paramètrage'!$D$8,IF(D15='Accueil - Paramètrage'!$B$9,'Accueil - Paramètrage'!$D$9,IF(D15='Accueil - Paramètrage'!$B$10,'Accueil - Paramètrage'!$D$10,""))))) -> 0 | C15: =IF(D15='Accueil - Paramètrage'!$B$6,'Accueil - Paramètrage'!$C$6,IF(D15='Accueil - Paramètrage'!$B$7,'Accueil - Paramètrage'!$C$7,IF(D15='Accueil - Paramètrage'!$B$8,'Accueil - Paramètrage'!$C$8,IF(D15='Accueil - Paramètrage'!$B$9,'Accueil - Paramètrage'!$C$9,IF(D15='Accueil - Paramètrage'!$B$10,'Accueil - Paramètrage'!$C$10,""))))) -> 0 | F15: 011 | J15: =I15-H15 -> 0
B16: =IF(D16='Accueil - Paramètrage'!$B$6,'Accueil - Paramètrage'!$D$6,IF(D16='Accueil - Paramètrage'!$B$7,'Accueil - Paramètrage'!$D$7,IF(D16='Accueil - Paramètrage'!$B$8,'Accueil - Paramètrage'!$D$8,IF(D16='Accueil - Paramètrage'!$B$9,'Accueil - Paramètrage'!$D$9,IF(D16='Accueil - Paramètrage'!$B$10,'Accueil - Paramètrage'!$D$10,""))))) -> 0 | C16: =IF(D16='Accueil - Paramètrage'!$B$6,'Accueil - Paramètrage'!$C$6,IF(D16='Accueil - Paramètrage'!$B$7,'Accueil - Paramètrage'!$C$7,IF(D16='Accueil - Paramètrage'!$B$8,'Accueil - Paramètrage'!$C$8,IF(D16='Accueil - Paramètrage'!$B$9,'Accueil - Paramètrage'!$C$9,IF(D16='Accueil - Paramètrage'!$B$10,'Accueil - Paramètrage'!$C$10,""))))) -> 0 | F16: 012 | J16: =I16-H16 -> 0
B17: =IF(D17='Accueil - Paramètrage'!$B$6,'Accueil - Paramètrage'!$D$6,IF(D17='Accueil - Paramètrage'!$B$7,'Accueil - Paramètrage'!$D$7,IF(D17='Accueil - Paramètrage'!$B$8,'Accueil - Paramètrage'!$D$8,IF(D17='Accueil - Paramètrage'!$B$9,'Accueil - Paramètrage'!$D$9,IF(D17='Accueil - Paramètrage'!$B$10,'Accueil - Paramètrage'!$D$10,""))))) -> 0 | C17: =IF(D17='Accueil - Paramètrage'!$B$6,'Accueil - Paramètrage'!$C$6,IF(D17='Accueil - Paramètrage'!$B$7,'Accueil - Paramètrage'!$C$7,IF(D17='Accueil - Paramètrage'!$B$8,'Accueil - Paramètrage'!$C$8,IF(D17='Accueil - Paramètrage'!$B$9,'Accueil - Paramètrage'!$C$9,IF(D17='Accueil - Paramètrage'!$B$10,'Accueil - Paramètrage'!$C$10,""))))) -> 0 | J17: =I17-H17 -> 0
B18: =IF(D18='Accueil - Paramètrage'!$B$6,'Accueil - Paramètrage'!$D$6,IF(D18='Accueil - Paramètrage'!$B$7,'Accueil - Paramètrage'!$D$7,IF(D18='Accueil - Paramètrage'!$B$8,'Accueil - Paramètrage'!$D$8,IF(D18='Accueil - Paramètrage'!$B$9,'Accueil - Paramètrage'!$D$9,IF(D18='Accueil - Paramètrage'!$B$10,'Accueil - Paramètrage'!$D$10,""))))) -> 0 | C18: =IF(D18='Accueil - Paramètrage'!$B$6,'Accueil - Paramètrage'!$C$6,IF(D18='Accueil - Paramètrage'!$B$7,'Accueil - Paramètrage'!$C$7,IF(D18='Accueil - Paramètrage'!$B$8,'Accueil - Paramètrage'!$C$8,IF(D18='Accueil - Paramètrage'!$B$9,'Accueil - Paramètrage'!$C$9,IF(D18='Accueil - Paramètrage'!$B$10,'Accueil - Paramètrage'!$C$10,""))))) -> 0 | J18: =I18-H18 -> 0
B19: =IF(D19='Accueil - Paramètrage'!$B$6,'Accueil - Paramètrage'!$D$6,IF(D19='Accueil - Paramètrage'!$B$7,'Accueil - Paramètrage'!$D$7,IF(D19='Accueil - Paramètrage'!$B$8,'Accueil - Paramètrage'!$D$8,IF(D19='Accueil - Paramètrage'!$B$9,'Accueil - Paramètrage'!$D$9,IF(D19='Accueil - Paramètrage'!$B$10,'Accueil - Paramètrage'!$D$10,""))))) -> 0 | C19: =IF(D19='Accueil - Paramètrage'!$B$6,'Accueil - Paramètrage'!$C$6,IF(D19='Accueil - Paramètrage'!$B$7,'Accueil - Paramètrage'!$C$7,IF(D19='Accueil - Paramètrage'!$B$8,'Accueil - Paramètrage'!$C$8,IF(D19='Accueil - Paramètrage'!$B$9,'Accueil - Paramètrage'!$C$9,IF(D19='Accueil - Paramètrage'!$B$10,'Accueil - Paramètrage'!$C$10,""))))) -> 0 | J19: =I19-H19 -> 0
B20: =IF(D20='Accueil - Paramètrage'!$B$6,'Accueil - Paramètrage'!$D$6,IF(D20='Accueil - Paramètrage'!$B$7,'Accueil - Paramètrage'!$D$7,IF(D20='Accueil - Paramètrage'!$B$8,'Accueil - Paramètrage'!$D$8,IF(D20='Accueil - Paramètrage'!$B$9,'Accueil - Paramètrage'!$D$9,IF(D20='Accueil - Paramètrage'!$B$10,'Accueil - Paramètrage'!$D$10,""))))) -> 0 | C20: =IF(D20='Accueil - Paramètrage'!$B$6,'Accueil - Paramètrage'!$C$6,IF(D20='Accueil - Paramètrage'!$B$7,'Accueil - Paramètrage'!$C$7,IF(D20='Accueil - Paramètrage'!$B$8,'Accueil - Paramètrage'!$C$8,IF(D20='Accueil - Paramètrage'!$B$9,'Accueil - Paramètrage'!$C$9,IF(D20='Accueil - Paramètrage'!$B$10,'Accueil - Paramètrage'!$C$10,""))))) -> 0 | J20: =I20-H20 -> 0
B21: =IF(D21='Accueil - Paramètrage'!$B$6,'Accueil - Paramètrage'!$D$6,IF(D21='Accueil - Paramètrage'!$B$7,'Accueil - Paramètrage'!$D$7,IF(D21='Accueil - Paramètrage'!$B$8,'Accueil - Paramètrage'!$D$8,IF(D21='Accueil - Paramètrage'!$B$9,'Accueil - Paramètrage'!$D$9,IF(D21='Accueil - Paramètrage'!$B$10,'Accueil - Paramètrage'!$D$10,""))))) -> 0 | C21: =IF(D21='Accueil - Paramètrage'!$B$6,'Accueil - Paramètrage'!$C$6,IF(D21='Accueil - Paramètrage'!$B$7,'Accueil - Paramètrage'!$C$7,IF(D21='Accueil - Paramètrage'!$B$8,'Accueil - Paramètrage'!$C$8,IF(D21='Accueil - Paramètrage'!$B$9,'Accueil - Paramètrage'!$C$9,IF(D21='Accueil - Paramètrage'!$B$10,'Accueil - Paramètrage'!$C$10,""))))) -> 0 | J21: =I21-H21 -> 0
B22: =IF(D22='Accueil - Paramètrage'!$B$6,'Accueil - Paramètrage'!$D$6,IF(D22='Accueil - Paramètrage'!$B$7,'Accueil - Paramètrage'!$D$7,IF(D22='Accueil - Paramètrage'!$B$8,'Accueil - Paramètrage'!$D$8,IF(D22='Accueil - Paramètrage'!$B$9,'Accueil - Paramètrage'!$D$9,IF(D22='Accueil - Paramètrage'!$B$10,'Accueil - Paramètrage'!$D$10,""))))) -> 0 | C22: =IF(D22='Accueil - Paramètrage'!$B$6,'Accueil - Paramètrage'!$C$6,IF(D22='Accueil - Paramètrage'!$B$7,'Accueil - Paramètrage'!$C$7,IF(D22='Accueil - Paramètrage'!$B$8,'Accueil - Paramètrage'!$C$8,IF(D22='Accueil - Paramètrage'!$B$9,'Accueil - Paramètrage'!$C$9,IF(D22='Accueil - Paramètrage'!$B$10,'Accueil - Paramètrage'!$C$10,""))))) -> 0 | J22: =I22-H22 -> 0

Sheet Récapitulatif Agent
D2: ACTIVITE DES SPV CONVENTIONNES SUR LE TEMPS DE TRAVAIL
B4: Agent 1 | D4: =LOOKUP(B4,'Accueil - Paramètrage'!A6:A10,'Accueil - Paramètrage'!B6:B10) -> XX yy | G4: =IF(D4='Accueil - Paramètrage'!B6,'Accueil - Paramètrage'!C6,IF(D4='Accueil - Paramètrage'!B7,'Accueil - Paramètrage'!C7,IF(D4='Accueil - Paramètrage'!B8,'Accueil - Paramètrage'!C8,IF(D4='Accueil - Paramètrage'!B9,'Accueil - Paramètrage'!C9,IF(D4='Accueil - Paramètrage'!B10,'Accueil - Paramètrage'!C10,""))))) -> SGT
D5: Date | E5: N° intervention | F5: Temps d'intervention | G5: Fonction occupée
