Workbook
Name actReg: #REF!
Name actReg1: #REF!
Name actRegCode: #REF!
Name actRegCode1: #REF!
Name actRegValue: #REF!
Name actRegValue1: #REF!
Name Rang0: #REF!
Name Rang1: #REF!
Name Rang2: #REF!
Name Rang3: #REF!
Name Rang4: #REF!
Name Rang5: #REF!
Name Rang6: #REF!
Name Rang7: #REF!
Name Rang8: #REF!
Name Rang9: #REF!
Name regData: [1]!Tableau25[#Data]
Name TRI: 'Export PGD TRIGRAMMES'!$A$1:$C$266

Sheet dossiers
B1: Année | C1: Mois | D1: Jour | E1: CP | F1: Trigramme | G1: Expert | H1: Assistantes | I1: Agence qui ev. | J1: Conca | K1: Conca2 | L1: Année dossier | M1: Dossier | N1: Numéro de dossier | O1: Doublon | P1: Date | Q1: Date dépôt demande | R1: Société | S1: Civilité Prénom Nom | T1: Résidence | U1: N°Libellé | V1: Lieu dit BP... | W1: Code Postal et Ville | X1: Pays | Y1: Code Pays | Z1: Ref. Client du pli | AA1: Numéro recommandé | AB1: Statut du pli | AC1: Identifiant utilisateur | AD1: Ref. Maileva Demande | AE1: Ref. Client Demande | AF1: Affranchissement | AG1: Date de remise en poste
A2: =VLOOKUP(Z2,'Factures '!A1:N394,8,FALSE) -> #N/A | B2: =LEFT(Q2,4) -> 2021 | C2: =MID(Q2,6,2) -> 12 | D2: =MID(Q2,9,2) -> 30 | E2: =LEFT(W2,2) | F2: =RIGHT(Z2,3) -> RHY | G2: =IFERROR(VLOOKUP(F2,TRI,2,FALSE),0) -> 0 | H2: =VLOOKUP(G2,#REF!,2,TRUE) -> #REF! | I2: =VLOOKUP(dossiers!G529,TRI,3) -> #N/A | J2: =N2&S2&AB2 -> 1428339OK | K2: =N2&S2&AB2&AA2 -> 1428339OK1E00532539153 | L2: =LEFT(AE2,2) -> 14 | M2: =MID(AE2,6,5) -> 28339 | N2: =L2&M2 -> 1428339 | O2: =IF(COUNTIF($J$2:$J$139,J2)>1,"DOUBLON","") | P2: =Q2&K2 -> 2021-12-30T10:10:501428339OK1E00532539153 | Q2: 2021-12-30T10:10:50 | X2: France | Y2: FR | Z2: 14TL328339-RHY | AA2: 1E00532539153 | AB2: OK | AC2: paq.toulouse | AD2: 2013640654T | AE2: 14TL328339-RHY | AF2: LRE_AR
A3: =VLOOKUP(Z3,'Factures '!A2:N395,8,FALSE) -> #N/A | B3: =LEFT(Q3,4) -> 2022 | C3: =MID(Q3,6,2) -> 01 | D3: =MID(Q3,9,2) -> 18 | E3: =LEFT(W3,2) | F3: =RIGHT(Z3,3) -> LBC | G3: =IFERROR(VLOOKUP(F3,TRI,2,FALSE),0) -> 0 | H3: =VLOOKUP(G3,#REF!,2,TRUE) -> #REF! | I3: =VLOOKUP(dossiers!#REF!,TRI,3) -> #REF! | J3: =N3&S3&AB3 -> 1751000ACCEPT | K3: =N3&S3&AB3&AA3 -> 1751000ACCEPT1E00534968760 | L3: =LEFT(AE3,2) -> 17 | M3: =MID(AE3,6,5) -> 51000 | N3: =L3&M3 -> 1751000 | O3: =IF(COUNTIF($J$2:$J$139,J3)>1,"DOUBLON","") -> DOUBLON | P3: =Q3&K3 -> 2022-01-18T17:47:131751000ACCEPT1E00534968760 | Q3: 2022-01-18T17:47:13 | X3: France | Y3: FR | Z3: 17BD051000-LBC | AA3: 1E00534968760 | AB3: ACCEPT | AC3: paq.bordeaux | AD3: 20201838063 | AE3: 17BD051000-LBC | AF3: LRE_AR
A4: =VLOOKUP(Z4,'Factures '!A3:N396,8,FALSE) -> #N/A | B4: =LEFT(Q4,4) -> 2022 | C4: =MID(Q4,6,2) -> 01 | D4: =MID(Q4,9,2) -> 18 | E4: =LEFT(W4,2) | F4: =RIGHT(Z4,3) -> LBC | G4: =IFERROR(VLOOKUP(F4,TRI,2,FALSE),0) -> 0 | H4: =VLOOKUP(G4,#REF!,2,TRUE) -> #REF! | I4: =VLOOKUP(dossiers!#REF!,TRI,3) -> #REF! | J4: =N4&S4&AB4 -> 1751000OK | K4: =N4&S4&AB4&AA4 -> 1751000OK1E00534968760 | L4: =LEFT(AE4,2) -> 17 | M4: =MID(AE4,6,5) -> 51000 | N4: =L4&M4 -> 1751000 | O4: =IF(COUNTIF($J$2:$J$139,J4)>1,"DOUBLON","") -> DOUBLON | P4: =Q4&K4 -> 2022-01-18T17:47:131751000OK1E00534968760 | Q4: 2022-01-18T17:47:13 | X4: France | Y4: FR | Z4: 17BD051000-LBC | AA4: 1E00534968760 | AB4: OK | AC4: paq.bordeaux | AD4: 20201838063 | AE4: 17BD051000-LBC | AF4: LRE_AR
A5: =VLOOKUP(Z5,'Factures '!A4:N397,8,FALSE) -> #N/A | B5: =LEFT(Q5,4) -> 2022 | C5: =MID(Q5,6,2) -> 01 | D5: =MID(Q5,9,2) -> 18 | E5: =LEFT(W5,2) | F5: =RIGHT(Z5,3) -> LBC | G5: =IFERROR(VLOOKUP(F5,TRI,2,FALSE),0) -> 0 | H5: =VLOOKUP(G5,#REF!,2,TRUE) -> #REF! | I5: =VLOOKUP(dossiers!#REF!,TRI,3) -> #REF! | J5: =N5&S5&AB5 -> 1751000ACCEPT | K5: =N5&S5&AB5&AA5 -> 1751000ACCEPT1E00534967114 | L5: =LEFT(AE5,2) -> 17 | M5: =MID(AE5,6,5) -> 51000 | N5: =L5&M5 -> 1751000 | O5: =IF(COUNTIF($J$2:$J$139,J5)>1,"DOUBLON","") -> DOUBLON | P5: =Q5&K5 -> 2022-01-18T17:45:481751000ACCEPT1E00534967114 | Q5: 2022-01-18T17:45:48 | X5: France | Y5: FR | Z5: 17BD051000-LBC | AA5: 1E00534967114 | AB5: ACCEPT | AC5: paq.bordeaux | AD5: 2020183763M | AE5: 17BD051000-LBC | AF5: LRE_AR
A6: =VLOOKUP(Z6,'Factures '!A5:N398,8,FALSE) -> #N/A | B6: =LEFT(Q6,4) -> 2022 | C6: =MID(Q6,6,2) -> 01 | D6: =MID(Q6,9,2) -> 18 | E6: =LEFT(W6,2) | F6: =RIGHT(Z6,3) -> LBC | G6: =IFERROR(VLOOKUP(F6,TRI,2,FALSE),0) -> 0 | H6: =VLOOKUP(G6,#REF!,2,TRUE) -> #REF! | I6: =VLOOKUP(dossiers!#REF!,TRI,3) -> #REF! | J6: =N6&S6&AB6 -> 1751000OK | K6: =N6&S6&AB6&AA6 -> 1751000OK1E00534967114 | L6: =LEFT(AE6,2) -> 17 | M6: =MID(AE6,6,5) -> 51000 | N6: =L6&M6 -> 1751000 | O6: =IF(COUNTIF($J$2:$J$139,J6)>1,"DOUBLON","") -> DOUBLON | P6: =Q6&K6 -> 2022-01-18T17:45:481751000OK1E00534967114 | Q6: 2022-01-18T17:45:48 | X6: France | Y6: FR | Z6: 17BD051000-LBC | AA6: 1E00534967114 | AB6: OK | AC6: paq.bordeaux | AD6: 2020183763M | AE6: 17BD051000-LBC | AF6: LRE_AR
A7: =VLOOKUP(Z7,'Factures '!A6:N399,8,FALSE) -> #N/A | B7: =LEFT(Q7,4) -> 2022 | C7: =MID(Q7,6,2) -> 01 | D7: =MID(Q7,9,2) -> 18 | E7: =LEFT(W7,2) | F7: =RIGHT(Z7,3) -> LBC | G7: =IFERROR(VLOOKUP(F7,TRI,2,FALSE),0) -> 0 | H7: =VLOOKUP(G7,#REF!,2,TRUE) -> #REF! | I7: =VLOOKUP(dossiers!#REF!,TRI,3) -> #REF! | J7: =N7&S7&AB7 -> 1751000ACCEPT | K7: =N7&S7&AB7&AA7 -> 1751000ACCEPT1E00534967725 | L7: =LEFT(AE7,2) -> 17 | M7: =MID(AE7,6,5) -> 51000 | N7: =L7&M7 -> 1751000 | O7: =IF(COUNTIF($J$2:$J$139,J7)>1,"DOUBLON","") -> DOUBLON | P7: =Q7&K7 -> 2022-01-18T17:46:431751000ACCEPT1E00534967725 | Q7: 2022-01-18T17:46:43 | X7: France | Y7: FR | Z7: 17BD051000-LBC | AA7: 1E00534967725 | AB7: ACCEPT | AC7: paq.bordeaux | AD7: 2020183787S | AE7: 17BD051000-LBC | AF7: LRE_AR
A8: =VLOOKUP(Z8,'Factures '!A7:N400,8,FALSE) -> #N/A | B8: =LEFT(Q8,4) -> 2022 | C8: =MID(Q8,6,2) -> 01 | D8: =MID(Q8,9,2) -> 18 | E8: =LEFT(W8,2) | F8: =RIGHT(Z8,3) -> LBC | G8: =IFERROR(VLOOKUP(F8,TRI,2,FALSE),0) -> 0 | H8: =VLOOKUP(G8,#REF!,2,TRUE) -> #REF! | I8: =VLOOKUP(dossiers!#REF!,TRI,3) -> #REF! | J8: =N8&S8&AB8 -> 1751000OK | K8: =N8&S8&AB8&AA8 -> 1751000OK1E00534967725 | L8: =LEFT(AE8,2) -> 17 | M8: =MID(AE8,6,5) -> 51000 | N8: =L8&M8 -> 1751000 | O8: =IF(COUNTIF($J$2:$J$139,J8)>1,"DOUBLON","") -> DOUBLON | P8: =Q8&K8 -> 2022-01-18T17:46:431751000OK1E00534967725 | Q8: 2022-01-18T17:46:43 | X8: France | Y8: FR | Z8: 17BD051000-LBC | AA8: 1E00534967725 | AB8: OK | AC8: paq.bordeaux | AD8: 2020183787S | AE8: 17BD051000-LBC | AF8: LRE_AR
A9: =VLOOKUP(Z9,'Factures '!A8:N401,8,FALSE) -> #N/A | B9: =LEFT(Q9,4) -> 2022 | C9: =MID(Q9,6,2) -> 01 | D9: =MID(Q9,9,2) -> 18 | E9: =LEFT(W9,2) | F9: =RIGHT(Z9,3) -> LBC | G9: =IFERROR(VLOOKUP(F9,TRI,2,FALSE),0) -> 0 | H9: =VLOOKUP(G9,#REF!,2,TRUE) -> #REF! | I9: =VLOOKUP(dossiers!#REF!,TRI,3) -> #REF! | J9: =N9&S9&AB9 -> 1751000ACCEPT | K9: =N9&S9&AB9&AA9 -> 1751000ACCEPT1E00534963178 | L9: =LEFT(AE9,2) -> 17 | M9: =MID(AE9,6,5) -> 51000 | N9: =L9&M9 -> 1751000 | O9: =IF(COUNTIF($J$2:$J$139,J9)>1,"DOUBLON","") -> DOUBLON | P9: =Q9&K9 -> 2022-01-18T17:09:461751000ACCEPT1E00534963178 | Q9: 2022-01-18T17:09:46 | X9: France | Y9: FR | Z9: 17BD051000-LBC | AA9: 1E00534963178 | AB9: ACCEPT | AC9: paq.bordeaux | AD9: 20201836259 | AE9: 17BD051000-LBC | AF9: LRE_AR
A10: =VLOOKUP(Z10,'Factures '!A9:N402,8,FALSE) -> #N/A | B10: =LEFT(Q10,4) -> 2022 | C10: =MID(Q10,6,2) -> 01 | D10: =MID(Q10,9,2) -> 18 | E10: =LEFT(W10,2) | F10: =RIGHT(Z10,3) -> LBC | G10: =IFERROR(VLOOKUP(F10,TRI,2,FALSE),0) -> 0 | H10: =VLOOKUP(G10,#REF!,2,TRUE) -> #REF! | I10: =VLOOKUP(dossiers!#REF!,TRI,3) -> #REF! | J10: =N10&S10&AB10 -> 1751000OK | K10: =N10&S10&AB10&AA10 -> 1751000OK1E00534963178 | L10: =LEFT(AE10,2) -> 17 | M10: =MID(AE10,6,5) -> 51000 | N10: =L10&M10 -> 1751000 | O10: =IF(COUNTIF($J$2:$J$139,J10)>1,"DOUBLON","") -> DOUBLON | P10: =Q10&K10 -> 2022-01-18T17:09:461751000OK1E00534963178 | Q10: 2022-01-18T17:09:46 | X10: France | Y10: FR | Z10: 17BD051000-LBC | AA10: 1E00534963178 | AB10: OK | AC10: paq.bordeaux | AD10: 20201836259 | AE10: 17BD051000-LBC | AF10: LRE_AR
A11: =VLOOKUP(Z11,'Factures '!A10:N403,8,FALSE) -> #N/A | B11: =LEFT(Q11,4) -> 2022 | C11: =MID(Q11,6,2) -> 01 | D11: =MID(Q11,9,2) -> 18 | E11: =LEFT(W11,2) | F11: =RIGHT(Z11,3) -> LBC | G11: =IFERROR(VLOOKUP(F11,TRI,2,FALSE),0) -> 0 | H11: =VLOOKUP(G11,#REF!,2,TRUE) -> #REF! | I11: =VLOOKUP(dossiers!#REF!,TRI,3) -> #REF! | J11: =N11&S11&AB11 -> 1751000ACCEPT | K11: =N11&S11&AB11&AA11 -> 1751000ACCEPT1E00534966735 | L11: =LEFT(AE11,2) -> 17 | M11: =MID(AE11,6,5) -> 51000 | N11: =L11&M11 -> 1751000 | O11: =IF(COUNTIF($J$2:$J$139,J11)>1,"DOUBLON","") -> DOUBLON | P11: =Q11&K11 -> 2022-01-18T17:45:241751000ACCEPT1E00534966735 | Q11: 2022-01-18T17:45:24 | X11: France | Y11: FR | Z11: 17BD051000-LBC | AA11: 1E00534966735 | AB11: ACCEPT | AC11: paq.bordeaux | AD11: 2020183749W | AE11: 17BD051000-LBC | AF11: LRE_AR
A12: =VLOOKUP(Z12,'Factures '!A11:N404,8,FALSE) -> #N/A | B12: =LEFT(Q12,4) -> 2022 | C12: =MID(Q12,6,2) -> 01 | D12: =MID(Q12,9,2) -> 18 | E12: =LEFT(W12,2) | F12: =RIGHT(Z12,3) -> LBC | G12: =IFERROR(VLOOKUP(F12,TRI,2,FALSE),0) -> 0 | H12: =VLOOKUP(G12,#REF!,2,TRUE) -> #REF! | I12: =VLOOKUP(dossiers!#REF!,TRI,3) -> #REF! | J12: =N12&S12&AB12 -> 1751000OK | K12: =N12&S12&AB12&AA12 -> 1751000OK1E00534966735 | L12: =LEFT(AE12,2) -> 17 | M12: =MID(AE12,6,5) -> 51000 | N12: =L12&M12 -> 1751000 | O12: =IF(COUNTIF($J$2:$J$139,J12)>1,"DOUBLON","") -> DOUBLON | P12: =Q12&K12 -> 2022-01-18T17:45:241751000OK1E00534966735 | Q12: 2022-01-18T17:45:24 | X12: France | Y12: FR | Z12: 17BD051000-LBC | AA12: 1E00534966735 | AB12: OK | AC12: paq.bordeaux | AD12: 2020183749W | AE12: 17BD051000-LBC | AF12: LRE_AR
A13: =VLOOKUP(Z13,'Factures '!A12:N405,8,FALSE) -> #N/A | B13: =LEFT(Q13,4) -> 2022 | C13: =MID(Q13,6,2) -> 01 | D13: =MID(Q13,9,2) -> 18 | E13: =LEFT(W13,2) | F13: =RIGHT(Z13,3) -> LBC | G13: =IFERROR(VLOOKUP(F13,TRI,2,FALSE),0) -> 0 | H13: =VLOOKUP(G13,#REF!,2,TRUE) -> #REF! | I13: =VLOOKUP(dossiers!#REF!,TRI,3) -> #REF! | J13: =N13&S13&AB13 -> 1751000OK | K13: =N13&S13&AB13&AA13 -> 1751000OK1E00534963383 | L13: =LEFT(AE13,2) -> 17 | M13: =MID(AE13,6,5) -> 51000 | N13: =L13&M13 -> 1751000 | O13: =IF(COUNTIF($J$2:$J$139,J13)>1,"DOUBLON","") -> DOUBLON | P13: =Q13&K13 -> 2022-01-18T17:10:211751000OK1E00534963383 | Q13: 2022-01-18T17:10:21 | X13: France | Y13: FR | Z13: 17BD051000-LBC | AA13: 1E00534963383 | AB13: OK | AC13: paq.bordeaux | AD13: 2020183646J | AE13: 17BD051000-LBC | AF13: LRE_AR
A14: =VLOOKUP(Z14,'Factures '!A13:N406,8,FALSE) -> #N/A | B14: =LEFT(Q14,4) -> 2022 | C14: =MID(Q14,6,2) -> 01 | D14: =MID(Q14,9,2) -> 18 | E14: =LEFT(W14,2) | F14: =RIGHT(Z14,3) -> LBC | G14: =IFERROR(VLOOKUP(F14,TRI,2,FALSE),0) -> 0 | H14: =VLOOKUP(G14,#REF!,2,TRUE) -> #REF! | I14: =VLOOKUP(dossiers!#REF!,TRI,3) -> #REF! | J14: =N14&S14&AB14 -> 1751000WAIT | K14: =N14&S14&AB14&AA14 -> 1751000WAIT1E00534963383 | L14: =LEFT(AE14,2) -> 17 | M14: =MID(AE14,6,5) -> 51000 | N14: =L14&M14 -> 1751000 | O14: =IF(COUNTIF($J$2:$J$139,J14)>1,"DOUBLON","") | P14: =Q14&K14 -> 2022-01-18T17:10:211751000WAIT1E00534963383 | Q14: 2022-01-18T17:10:21 | X14: France | Y14: FR | Z14: 17BD051000-LBC | AA14: 1E00534963383 | AB14: WAIT | AC14: paq.bordeaux | AD14: 2020183646J | AE14: 17BD051000-LBC | AF14: LRE_AR
A15: =VLOOKUP(Z15,'Factures '!A14:N407,8,FALSE) -> #N/A | B15: =LEFT(Q15,4) -> 2022 | C15: =MID(Q15,6,2) -> 02 | D15: =MID(Q15,9,2) -> 22 | E15: =LEFT(W15,2) | F15: =RIGHT(Z15,3) -> RBI | G15: =IFERROR(VLOOKUP(F15,TRI,2,FALSE),0) -> 0 | H15: =VLOOKUP(G15,#REF!,2,TRUE) -> #REF! | I15: =VLOOKUP(dossiers!#REF!,TRI,3) -> #REF! | J15: =N15&S15&AB15 -> 1822924ACCEPT | K15: =N15&S15&AB15&AA15 -> 1822924ACCEPT1E00540047145 | L15: =LEFT(AE15,2) -> 18 | M15: =MID(AE15,6,5) -> 22924 | N15: =L15&M15 -> 1822924 | O15: =IF(COUNTIF($J$2:$J$139,J15)>1,"DOUBLON","") | P15: =Q15&K15 -> 2022-02-22T17:52:231822924ACCEPT1E00540047145 | Q15: 2022-02-22T17:52:23 | X15: France | Y15: FR | Z15: 18TL322924-RBI | AA15: 1E00540047145 | AB15: ACCEPT | AC15: paq.bordeaux | AD15: 2020533803F | AE15: 18TL322924-RBI | AF15: LRE_AR
A16: =VLOOKUP(Z16,'Factures '!A15:N408,8,FALSE) -> #N/A | B16: =LEFT(Q16,4) -> 2022 | C16: =MID(Q16,6,2) -> 02 | D16: =MID(Q16,9,2) -> 22 | E16: =LEFT(W16,2) | F16: =RIGHT(Z16,3) -> RBI | G16: =IFERROR(VLOOKUP(F16,TRI,2,FALSE),0) -> 0 | H16: =VLOOKUP(G16,#REF!,2,TRUE) -> #REF! | I16: =VLOOKUP(dossiers!#REF!,TRI,3) -> #REF! | J16: =N16&S16&AB16 -> 1822924OK | K16: =N16&S16&AB16&AA16 -> 1822924OK1E00540047145 | L16: =LEFT(AE16,2) -> 18 | M16: =MID(AE16,6,5) -> 22924 | N16: =L16&M16 -> 1822924 | O16: =IF(COUNTIF($J$2:$J$139,J16)>1,"DOUBLON","") | P16: =Q16&K16 -> 2022-02-22T17:52:231822924OK1E00540047145 | Q16: 2022-02-22T17:52:23 | X16: France | Y16: FR | Z16: 18TL322924-RBI | AA16: 1E00540047145 | AB16: OK | AC16: paq.bordeaux | AD16: 2020533803F | AE16: 18TL322924-RBI | AF16: LRE_AR
A17: =VLOOKUP(Z17,'Factures '!A16:N409,8,FALSE) -> #N/A | B17: =LEFT(Q17,4) -> 2022 | C17: =MID(Q17,6,2) -> 01 | D17: =MID(Q17,9,2) -> 21 | E17: =LEFT(W17,2) | F17: =RIGHT(Z17,3) -> PDE | G17: =IFERROR(VLOOKUP(F17,TRI,2,FALSE),0) -> 0 | H17: =VLOOKUP(G17,#REF!,2,TRUE) -> #REF! | I17: =VLOOKUP(dossiers!#REF!,TRI,3) -> #REF! | J17: =N17&S17&AB17 -> 1852822OK | K17: =N17&S17&AB17&AA17 -> 1852822OK1E00535508569 | L17: =LEFT(AE17,2) -> 18 | M17: =MID(AE17,6,5) -> 52822 | N17: =L17&M17 -> 1852822 | O17: =IF(COUNTIF($J$2:$J$139,J17)>1,"DOUBLON","") -> DOUBLON | P17: =Q17&K17 -> 2022-01-21T12:51:301852822OK1E00535508569 | Q17: 2022-01-21T12:51:30 | X17: France | Y17: FR | Z17: 18BR352822-PDE | AA17: 1E00535508569 | AB17: OK | AC17: paq.cahors | AD17: 20202117372 | AE17: 18BR352822-PDE | AF17: LRE_AR
A18: =VLOOKUP(Z18,'Factures '!A17:N410,8,FALSE) -> #N/A | B18: =LEFT(Q18,4) -> 2022 | C18: =MID(Q18,6,2) -> 01 | D18: =MID(Q18,9,2) -> 21 | E18: =LEFT(W18,2) | F18: =RIGHT(Z18,3) -> PDE | G18: =IFERROR(VLOOKUP(F18,TRI,2,FALSE),0) -> 0 | H18: =VLOOKUP(G18,#REF!,2,TRUE) -> #REF! | I18: =VLOOKUP(dossiers!#REF!,TRI,3) -> #REF! | J18: =N18&S18&AB18 -> 1852822OK | K18: =N18&S18&AB18&AA18 -> 1852822OK1E00535508552 | L18: =LEFT(AE18,2) -> 18 | M18: =MID(AE18,6,5) -> 52822 | N18: =L18&M18 -> 1852822 | O18: =IF(COUNTIF($J$2:$J$139,J18)>1,"DOUBLON","") -> DOUBLON | P18: =Q18&K18 -> 2022-01-21T12:51:301852822OK1E00535508552 | Q18: 2022-01-21T12:51:30 | X18: France | Y18: FR | Z18: 18BR352822-PDE | AA18: 1E00535508552 | AB18: OK | AC18: paq.cahors | AD18: 20202117371 | AE18: 18BR352822-PDE | AF18: LRE_AR
A19: =VLOOKUP(Z19,'Factures '!A18:N411,8,FALSE) -> #N/A | B19: =LEFT(Q19,4) -> 2022 | C19: =MID(Q19,6,2) -> 02 | D19: =MID(Q19,9,2) -> 04 | E19: =LEFT(W19,2) | F19: =RIGHT(Z19,3) -> DFQ | G19: =IFERROR(VLOOKUP(F19,TRI,2,FALSE),0) -> 0 | H19: =VLOOKUP(G19,#REF!,2,TRUE) -> #REF! | I19: =VLOOKUP(dossiers!#REF!,TRI,3) -> #REF! | J19: =N19&S19&AB19 -> 1906259OK | K19: =N19&S19&AB19&AA19 -> 1906259OK1E00537500707 | L19: =LEFT(AE19,2) -> 19 | M19: =MID(AE19,6,5) -> 06259 | N19: =L19&M19 -> 1906259 | O19: =IF(COUNTIF($J$2:$J$139,J19)>1,"DOUBLON","") -> DOUBLON | P19: =Q19&K19 -> 2022-02-04T14:19:061906259OK1E00537500707 | Q19: 2022-02-04T14:19:06 | X19: France | Y19: FR | Z19: 19BD306259-DFQ | AA19: 1E00537500707 | AB19: OK | AC19: paq.bordeaux | AD19: 2020352474Z | AE19: 19BD306259-DFQ | AF19: LRE_AR
A20: =VLOOKUP(Z20,'Factures '!A19:N412,8,FALSE) -> #N/A | B20: =LEFT(Q20,4) -> 2022 | C20: =MID(Q20,6,2) -> 02 | D20: =MID(Q20,9,2) -> 04 | E20: =LEFT(W20,2) | F20: =RIGHT(Z20,3) -> DFQ | G20: =IFERROR(VLOOKUP(F20,TRI,2,FALSE),0) -> 0 | H20: =VLOOKUP(G20,#REF!,2,TRUE) -> #REF! | I20: =VLOOKUP(dossiers!#REF!,TRI,3) -> #REF! | J20: =N20&S20&AB20 -> 1906259WAIT | K20: =N20&S20&AB20&AA20 -> 1906259WAIT1E00537500707 | L20: =LEFT(AE20,2) -> 19 | M20: =MID(AE20,6,5) -> 06259 | N20: =L20&M20 -> 1906259 | O20: =IF(COUNTIF($J$2:$J$139,J20)>1,"DOUBLON","") -> DOUBLON | P20: =Q20&K20 -> 2022-02-04T14:19:061906259WAIT1E00537500707 | Q20: 2022-02-04T14:19:06 | X20: France | Y20: FR | Z20: 19BD306259-DFQ | AA20: 1E00537500707 | AB20: WAIT | AC20: paq.bordeaux | AD20: 2020352474Z | AE20: 19BD306259-DFQ | AF20: LRE_AR
A21: =VLOOKUP(Z21,'Factures '!A20:N413,8,FALSE) -> #N/A | B21: =LEFT(Q21,4) -> 2022 | C21: =MID(Q21,6,2) -> 02 | D21: =MID(Q21,9,2) -> 04 | E21: =LEFT(W21,2) | F21: =RIGHT(Z21,3) -> DFQ | G21: =IFERROR(VLOOKUP(F21,TRI,2,FALSE),0) -> 0 | H21: =VLOOKUP(G21,#REF!,2,TRUE) -> #REF! | I21: =VLOOKUP(dossiers!#REF!,TRI,3) -> #REF! | J21: =N21&S21&AB21 -> 1906259OK | K21: =N21&S21&AB21&AA21 -> 1906259OK1E00537499957 | L21: =LEFT(AE21,2) -> 19 | M21: =MID(AE21,6,5) -> 06259 | N21: =L21&M21 -> 1906259 | O21: =IF(COUNTIF($J$2:$J$139,J21)>1,"DOUBLON","") -> DOUBLON | P21: =Q21&K21 -> 2022-02-04T14:15:321906259OK1E00537499957 | Q21: 2022-02-04T14:15:32 | X21: France | Y21: FR | Z21: 19BD306259-DFQ | AA21: 1E00537499957 | AB21: OK | AC21: paq.bordeaux | AD21: 2020352434K | AE21: 19BD306259-DFQ | AF21: LRE_AR
A22: =VLOOKUP(Z22,'Factures '!A21:N414,8,FALSE) -> #N/A | B22: =LEFT(Q22,4) -> 2022 | C22: =MID(Q22,6,2) -> 02 | D22: =MID(Q22,9,2) -> 04 | E22: =LEFT(W22,2) | F22: =RIGHT(Z22,3) -> DFQ | G22: =IFERROR(VLOOKUP(F22,TRI,2,FALSE),0) -> 0 | H22: =VLOOKUP(G22,#REF!,2,TRUE) -> #REF! | I22: =VLOOKUP(dossiers!#REF!,TRI,3) -> #REF! | J22: =N22&S22&AB22 -> 1906259WAIT | K22: =N22&S22&AB22&AA22 -> 1906259WAIT1E00537499957 | L22: =LEFT(AE22,2) -> 19 | M22: =MID(AE22,6,5) -> 06259 | N22: =L22&M22 -> 1906259 | O22: =IF(COUNTIF($J$2:$J$139,J22)>1,"DOUBLON","") -> DOUBLON | P22: =Q22&K22 -> 2022-02-04T14:15:321906259WAIT1E00537499957 | Q22: 2022-02-04T14:15:32 | X22: France | Y22: FR | Z22: 19BD306259-DFQ | AA22: 1E00537499957 | AB22: WAIT | AC22: paq.bordeaux | AD22: 2020352434K | AE22: 19BD306259-DFQ | AF22: LRE_AR
A23: =VLOOKUP(Z23,'Factures '!A22:N415,8,FALSE) -> #N/A | B23: =LEFT(Q23,4) -> 2022 | C23: =MID(Q23,6,2) -> 02 | D23: =MID(Q23,9,2) -> 10 | E23: =LEFT(W23,2) | F23: =RIGHT(Z23,3) -> DFQ | G23: =IFERROR(VLOOKUP(F23,TRI,2,FALSE),0) -> 0 | H23: =VLOOKUP(G23,#REF!,2,TRUE) -> #REF! | I23: =VLOOKUP(dossiers!#REF!,TRI,3) -> #REF! | J23: =N23&S23&AB23 -> 1906259OK | K23: =N23&S23&AB23&AA23 -> 1906259OK1E00538237961 | L23: =LEFT(AE23,2) -> 19 | M23: =MID(AE23,6,5) -> 06259 | N23: =L23&M23 -> 1906259 | O23: =IF(COUNTIF($J$2:$J$139,J23)>1,"DOUBLON","") -> DOUBLON | P23: =Q23&K23 -> 2022-02-10T10:21:561906259OK1E00538237961 | Q23: 2022-02-10T10:21:56 | X23: France | Y23: FR | Z23: 19BD306259-DFQ | AA23: 1E00538237961 | AB23: OK | AC23: paq.bordeaux | AD23: 20204109380 | AE23: 19BD306259-DFQ | AF23: LRE_AR
A24: =VLOOKUP(Z24,'Factures '!A23:N416,8,FALSE) -> #N/A | B24: =LEFT(Q24,4) -> 2022 | C24: =MID(Q24,6,2) -> 02 | D24: =MID(Q24,9,2) -> 10 | E24: =LEFT(W24,2) | F24: =RIGHT(Z24,3) -> DFQ | G24: =IFERROR(VLOOKUP(F24,TRI,2,FALSE),0) -> 0 | H24: =VLOOKUP(G24,#REF!,2,TRUE) -> #REF! | I24: =VLOOKUP(dossiers!#REF!,TRI,3) -> #REF! | J24: =N24&S24&AB24 -> 1906259OK | K24: =N24&S24&AB24&AA24 -> 1906259OK1E00538237848 | L24: =LEFT(AE24,2) -> 19 | M24: =MID(AE24,6,5) -> 06259 | N24: =L24&M24 -> 1906259 | O24: =IF(COUNTIF($J$2:$J$139,J24)>1,"DOUBLON","") -> DOUBLON | P24: =Q24&K24 -> 2022-02-10T10:21:531906259OK1E00538237848 | Q24: 2022-02-10T10:21:53 | X24: France | Y24: FR | Z24: 19BD306259-DFQ | AA24: 1E00538237848 | AB24: OK | AC24: paq.bordeaux | AD24: 2020410935E | AE24: 19BD306259-DFQ | AF24: LRE_AR
A25: =VLOOKUP(Z25,'Factures '!A24:N417,8,FALSE) -> #N/A | B25: =LEFT(Q25,4) -> 2022 | C25: =MID(Q25,6,2) -> 02 | D25: =MID(Q25,9,2) -> 04 | E25: =LEFT(W25,2) | F25: =RIGHT(Z25,3) -> DFQ | G25: =IFERROR(VLOOKUP(F25,TRI,2,FALSE),0) -> 0 | H25: =VLOOKUP(G25,#REF!,2,TRUE) -> #REF! | I25: =VLOOKUP(dossiers!#REF!,TRI,3) -> #REF! | J25: =N25&S25&AB25 -> 1906259OK | K25: =N25&S25&AB25&AA25 -> 1906259OK1E00537500141 | L25: =LEFT(AE25,2) -> 19 | M25: =MID(AE25,6,5) -> 06259 | N25: =L25&M25 -> 1906259 | O25: =IF(COUNTIF($J$2:$J$139,J25)>1,"DOUBLON","") -> DOUBLON | P25: =Q25&K25 -> 2022-02-04T14:15:531906259OK1E00537500141 | Q25: 2022-02-04T14:15:53 | X25: France | Y25: FR | Z25: 19BD306259-DFQ | AA25: 1E00537500141 | AB25: OK | AC25: paq.bordeaux | AD25: 2020352439E | AE25: 19BD306259-DFQ | AF25: LRE_AR
A26: =VLOOKUP(Z26,'Factures '!A25:N418,8,FALSE) -> #N/A | B26: =LEFT(Q26,4) -> 2022 | C26: =MID(Q26,6,2) -> 02 | D26: =MID(Q26,9,2) -> 04 | E26: =LEFT(W26,2) | F26: =RIGHT(Z26,3) -> DFQ | G26: =IFERROR(VLOOKUP(F26,TRI,2,FALSE),0) -> 0 | H26: =VLOOKUP(G26,#REF!,2,TRUE) -> #REF! | I26: =VLOOKUP(dossiers!#REF!,TRI,3) -> #REF! | J26: =N26&S26&AB26 -> 1906259WAIT | K26: =N26&S26&AB26&AA26 -> 1906259WAIT1E00537500141 | L26: =LEFT(AE26,2) -> 19 | M26: =MID(AE26,6,5) -> 06259 | N26: =L26&M26 -> 1906259 | O26: =IF(COUNTIF($J$2:$J$139,J26)>1,"DOUBLON","") -> DOUBLON | P26: =Q26&K26 -> 2022-02-04T14:15:531906259WAIT1E00537500141 | Q26: 2022-02-04T14:15:53 | X26: France | Y26: FR | Z26: 19BD306259-DFQ | AA26: 1E00537500141 | AB26: WAIT | AC26: paq.bordeaux | AD26: 2020352439E | AE26: 19BD306259-DFQ | AF26: LRE_AR
A27: =VLOOKUP(Z27,'Factures '!A26:N419,8,FALSE) -> #N/A | B27: =LEFT(Q27,4) -> 2022 | C27: =MID(Q27,6,2) -> 02 | D27: =MID(Q27,9,2) -> 10 | E27: =LEFT(W27,2) | F27: =RIGHT(Z27,3) -> DFQ | G27: =IFERROR(VLOOKUP(F27,TRI,2,FALSE),0) -> 0 | H27: =VLOOKUP(G27,#REF!,2,TRUE) -> #REF! | I27: =VLOOKUP(dossiers!#REF!,TRI,3) -> #REF! | J27: =N27&S27&AB27 -> 1906259OK | K27: =N27&S27&AB27&AA27 -> 1906259OK1E00538237602 | L27: =LEFT(AE27,2) -> 19 | M27: =MID(AE27,6,5) -> 06259 | N27: =L27&M27 -> 1906259 | O27: =IF(COUNTIF($J$2:$J$139,J27)>1,"DOUBLON","") -> DOUBLON | P27: =Q27&K27 -> 2022-02-10T10:20:071906259OK1E00538237602 | Q27: 2022-02-10T10:20:07 | X27: France | Y27: FR | Z27: 19BD306259-DFQ | AA27: 1E00538237602 | AB27: OK | AC27: paq.bordeaux | AD27: 2020410921D | AE27: 19BD306259-DFQ | AF27: LRE_AR
A28: =VLOOKUP(Z28,'Factures '!A27:N420,8,FALSE) -> #N/A | B28: =LEFT(Q28,4) -> 2022 | C28: =MID(Q28,6,2) -> 03 | D28: =MID(Q28,9,2) -> 08 | E28: =LEFT(W28,2) | F28: =RIGHT(Z28,3) -> ABK | G28: =IFERROR(VLOOKUP(F28,TRI,2,FALSE),0) -> 0 | H28: =VLOOKUP(G28,#REF!,2,TRUE) -> #REF! | I28: =VLOOKUP(dossiers!G612,TRI,3) -> #N/A | J28: =N28&S28&AB28 -> 1908852OK | K28: =N28&S28&AB28&AA28 -> 1908852OK1E00542096370 | L28: =LEFT(AE28,2) -> 19 | M28: =MID(AE28,6,5) -> 08852 | N28: =L28&M28 -> 1908852 | O28: =IF(COUNTIF($J$2:$J$139,J28)>1,"DOUBLON","") -> DOUBLON | P28: =Q28&K28 -> 2022-03-08T17:48:371908852OK1E00542096370 | Q28: 2022-03-08T17:48:37 | X28: France | Y28: FR | Z28: 19BD308852-ABK | AA28: 1E00542096370 | AB28: OK | AC28: paq.bordeaux | AD28: 20206741589 | AE28: 19BD308852-ABK | AF28: LRE_AR
A29: =VLOOKUP(Z29,'Factures '!A28:N421,8,FALSE) -> #N/A | B29: =LEFT(Q29,4) -> 2022 | C29: =MID(Q29,6,2) -> 03 | D29: =MID(Q29,9,2) -> 08 | E29: =LEFT(W29,2) | F29: =RIGHT(Z29,3) -> ABK | G29: =IFERROR(VLOOKUP(F29,TRI,2,FALSE),0) -> 0 | H29: =VLOOKUP(G29,#REF!,2,TRUE) -> #REF! | I29: =VLOOKUP(dossiers!#REF!,TRI,3) -> #REF! | J29: =N29&S29&AB29 -> 1908852WAIT | K29: =N29&S29&AB29&AA29 -> 1908852WAIT1E00542096370 | L29: =LEFT(AE29,2) -> 19 | M29: =MID(AE29,6,5) -> 08852 | N29: =L29&M29 -> 1908852 | O29: =IF(COUNTIF($J$2:$J$139,J29)>1,"DOUBLON","") -> DOUBLON | P29: =Q29&K29 -> 2022-03-08T17:48:371908852WAIT1E00542096370 | Q29: 2022-03-08T17:48:37 | X29: France | Y29: FR | Z29: 19BD308852-ABK | AA29: 1E00542096370 | AB29: WAIT | AC29: paq.bordeaux | AD29: 20206741589 | AE29: 19BD308852-ABK | AF29: LRE_AR
A30: =VLOOKUP(Z30,'Factures '!A29:N422,8,FALSE) -> #N/A | B30: =LEFT(Q30,4) -> 2022 | C30: =MID(Q30,6,2) -> 03 | D30: =MID(Q30,9,2) -> 08 | E30: =LEFT(W30,2) | F30: =RIGHT(Z30,3) -> ABK | G30: =IFERROR(VLOOKUP(F30,TRI,2,FALSE),0) -> 0 | H30: =VLOOKUP(G30,#REF!,2,TRUE) -> #REF! | I30: =VLOOKUP(dossiers!G611,TRI,3) -> #N/A | J30: =N30&S30&AB30 -> 1908852OK | K30: =N30&S30&AB30&AA30 -> 1908852OK1E00542096363 | L30: =LEFT(AE30,2) -> 19 | M30: =MID(AE30,6,5) -> 08852 | N30: =L30&M30 -> 1908852 | O30: =IF(COUNTIF($J$2:$J$139,J30)>1,"DOUBLON","") -> DOUBLON | P30: =Q30&K30 -> 2022-03-08T17:48:371908852OK1E00542096363 | Q30: 2022-03-08T17:48:37 | X30: France | Y30: FR | Z30: 19BD308852-ABK | AA30: 1E00542096363 | AB30: OK | AC30: paq.bordeaux | AD30: 20206741588 | AE30: 19BD308852-ABK | AF30: LRE_AR
A31: =VLOOKUP(Z31,'Factures '!A30:N423,8,FALSE) -> #N/A | B31: =LEFT(Q31,4) -> 2022 | C31: =MID(Q31,6,2) -> 03 | D31: =MID(Q31,9,2) -> 08 | E31: =LEFT(W31,2) | F31: =RIGHT(Z31,3) -> ABK | G31: =IFERROR(VLOOKUP(F31,TRI,2,FALSE),0) -> 0 | H31: =VLOOKUP(G31,#REF!,2,TRUE) -> #REF! | I31: =VLOOKUP(dossiers!#REF!,TRI,3) -> #REF! | J31: =N31&S31&AB31 -> 1908852WAIT | K31: =N31&S31&AB31&AA31 -> 1908852WAIT1E00542096363 | L31: =LEFT(AE31,2) -> 19 | M31: =MID(AE31,6,5) -> 08852 | N31: =L31&M31 -> 1908852 | O31: =IF(COUNTIF($J$2:$J$139,J31)>1,"DOUBLON","") -> DOUBLON | P31: =Q31&K31 -> 2022-03-08T17:48:371908852WAIT1E00542096363 | Q31: 2022-03-08T17:48:37 | X31: France | Y31: FR | Z31: 19BD308852-ABK | AA31: 1E00542096363 | AB31: WAIT | AC31: paq.bordeaux | AD31: 20206741588 | AE31: 19BD308852-ABK | AF31: LRE_AR
A32: =VLOOKUP(Z32,'Factures '!A31:N424,8,FALSE) -> #N/A | B32: =LEFT(Q32,4) -> 2021 | C32: =MID(Q32,6,2) -> 12 | D32: =MID(Q32,9,2) -> 30 | E32: =LEFT(W32,2) | F32: =RIGHT(Z32,3) -> GDL | G32: =IFERROR(VLOOKUP(F32,TRI,2,FALSE),0) -> 0 | H32: =VLOOKUP(G32,#REF!,2,TRUE) -> #REF! | I32: =VLOOKUP(dossiers!G519,TRI,3) -> #N/A | J32: =N32&S32&AB32 -> 1913805OK | K32: =N32&S32&AB32&AA32 -> 1913805OK1E00532589929 | L32: =LEFT(AE32,2) -> 19 | M32: =MID(AE32,6,5) -> 13805 | N32: =L32&M32 -> 1913805 | O32: =IF(COUNTIF($J$2:$J$139,J32)>1,"DOUBLON","") -> DOUBLON | P32: =Q32&K32 -> 2021-12-30T12:18:451913805OK1E00532589929 | Q32: 2021-12-30T12:18:45 | X32: France | Y32: FR | Z32: 19BD113805-GDL | AA32: 1E00532589929 | AB32: OK | AC32: paq.bordeaux | AD32: 2013641220O | AE32: 19BD113805-GDL | AF32: LRE_AR
A33: =VLOOKUP(Z33,'Factures '!A32:N425,8,FALSE) -> #N/A | B33: =LEFT(Q33,4) -> 2021 | C33: =MID(Q33,6,2) -> 12 | D33: =MID(Q33,9,2) -> 30 | E33: =LEFT(W33,2) | F33: =RIGHT(Z33,3) -> GDL | G33: =IFERROR(VLOOKUP(F33,TRI,2,FALSE),0) -> 0 | H33: =VLOOKUP(G33,#REF!,2,TRUE) -> #REF! | I33: =VLOOKUP(dossiers!G518,TRI,3) -> #N/A | J33: =N33&S33&AB33 -> 1913805OK | K33: =N33&S33&AB33&AA33 -> 1913805OK1E00532589912 | L33: =LEFT(AE33,2) -> 19 | M33: =MID(AE33,6,5) -> 13805 | N33: =L33&M33 -> 1913805 | O33: =IF(COUNTIF($J$2:$J$139,J33)>1,"DOUBLON","") -> DOUBLON | P33: =Q33&K33 -> 2021-12-30T12:18:451913805OK1E00532589912 | Q33: 2021-12-30T12:18:45 | X33: France | Y33: FR | Z33: 19BD113805-GDL | AA33: 1E00532589912 | AB33: OK | AC33: paq.bordeaux | AD33: 2013641220N | AE33: 19BD113805-GDL | AF33: LRE_AR
A34: =VLOOKUP(Z34,'Factures '!A33:N426,8,FALSE) -> #N/A | B34: =LEFT(Q34,4) -> 2021 | C34: =MID(Q34,6,2) -> 12 | D34: =MID(Q34,9,2) -> 30 | E34: =LEFT(W34,2) | F34: =RIGHT(Z34,3) -> GDL | G34: =IFERROR(VLOOKUP(F34,TRI,2,FALSE),0) -> 0 | H34: =VLOOKUP(G34,#REF!,2,TRUE) -> #REF! | I34: =VLOOKUP(dossiers!G515,TRI,3) -> #N/A | J34: =N34&S34&AB34 -> 1913805OK | K34: =N34&S34&AB34&AA34 -> 1913805OK1E00532592080 | L34: =LEFT(AE34,2) -> 19 | M34: =MID(AE34,6,5) -> 13805 | N34: =L34&M34 -> 1913805 | O34: =IF(COUNTIF($J$2:$J$139,J34)>1,"DOUBLON","") -> DOUBLON | P34: =Q34&K34 -> 2021-12-30T12:25:511913805OK1E00532592080 | Q34: 2021-12-30T12:25:51 | X34: France | Y34: FR | Z34: 19BD113805-GDL | AA34: 1E00532592080 | AB34: OK | AC34: paq.bordeaux | AD34: 2013641303B | AE34: 19BD113805-GDL | AF34: LRE_AR
A35: =VLOOKUP(Z35,'Factures '!A34:N427,8,FALSE) -> #N/A | B35: =LEFT(Q35,4) -> 2022 | C35: =MID(Q35,6,2) -> 02 | D35: =MID(Q35,9,2) -> 11 | E35: =LEFT(W35,2) | F35: =RIGHT(Z35,3) -> GDL | G35: =IFERROR(VLOOKUP(F35,TRI,2,FALSE),0) -> 0 | H35: =VLOOKUP(G35,#REF!,2,TRUE) -> #REF! | I35: =VLOOKUP(dossiers!#REF!,TRI,3) -> #REF! | J35: =N35&S35&AB35 -> 1988504OK | K35: =N35&S35&AB35&AA35 -> 1988504OK1E00538430584 | L35: =LEFT(AE35,2) -> 19 | M35: =MID(AE35,6,5) -> 88504 | N35: =L35&M35 -> 1988504 | O35: =IF(COUNTIF($J$2:$J$139,J35)>1,"DOUBLON","") -> DOUBLON | P35: =Q35&K35 -> 2022-02-11T09:22:121988504OK1E00538430584 | Q35: 2022-02-11T09:22:12 | X35: France | Y35: FR | Z35: 19BD188504-GDL | AA35: 1E00538430584 | AB35: OK | AC35: paq.bordeaux | AD35: 2020420505C | AE35: 19BD188504-GDL | AF35: LRE_AR
A36: =VLOOKUP(Z36,'Factures '!A35:N428,8,FALSE) -> #N/A | B36: =LEFT(Q36,4) -> 2022 | C36: =MID(Q36,6,2) -> 02 | D36: =MID(Q36,9,2) -> 11 | E36: =LEFT(W36,2) | F36: =RIGHT(Z36,3) -> GDL | G36: =IFERROR(VLOOKUP(F36,TRI,2,FALSE),0) -> 0 | H36: =VLOOKUP(G36,#REF!,2,TRUE) -> #REF! | I36: =VLOOKUP(dossiers!#REF!,TRI,3) -> #REF! | J36: =N36&S36&AB36 -> 1988504OK | K36: =N36&S36&AB36&AA36 -> 1988504OK1E00538430607 | L36: =LEFT(AE36,2) -> 19 | M36: =MID(AE36,6,5) -> 88504 | N36: =L36&M36 -> 1988504 | O36: =IF(COUNTIF($J$2:$J$139,J36)>1,"DOUBLON","") -> DOUBLON | P36: =Q36&K36 -> 2022-02-11T09:22:121988504OK1E00538430607 | Q36: 2022-02-11T09:22:12 | X36: France | Y36: FR | Z36: 19BD188504-GDL | AA36: 1E00538430607 | AB36: OK | AC36: paq.bordeaux | AD36: 2020420505F | AE36: 19BD188504-GDL | AF36: LRE_AR
A37: =VLOOKUP(Z37,'Factures '!A36:N429,8,FALSE) -> #N/A | B37: =LEFT(Q37,4) -> 2022 | C37: =MID(Q37,6,2) -> 01 | D37: =MID(Q37,9,2) -> 29 | E37: =LEFT(W37,2) | F37: =RIGHT(Z37,3) -> GLM | G37: =IFERROR(VLOOKUP(F37,TRI,2,FALSE),0) -> 0 | H37: =VLOOKUP(G37,#REF!,2,TRUE) -> #REF! | I37: =VLOOKUP(dossiers!#REF!,TRI,3) -> #REF! | J37: =N37&S37&AB37 -> 2001294ACCEPT | K37: =N37&S37&AB37&AA37 -> 2001294ACCEPT1E00536643528 | L37: =LEFT(AE37,2) -> 20 | M37: =MID(AE37,6,5) -> 01294 | N37: =L37&M37 -> 2001294 | O37: =IF(COUNTIF($J$2:$J$139,J37)>1,"DOUBLON","") -> DOUBLON | P37: =Q37&K37 -> 2022-01-29T15:17:182001294ACCEPT1E00536643528 | Q37: 2022-01-29T15:17:18 | X37: France | Y37: FR | Z37: 20TL101294-GLM | AA37: 1E00536643528 | AB37: ACCEPT | AC37: paq.toulouse | AD37: 2020290470J | AE37: 20TL101294-GLM | AF37: LRE_AR
A38: =VLOOKUP(Z38,'Factures '!A37:N430,8,FALSE) -> #N/A | B38: =LEFT(Q38,4) -> 2022 | C38: =MID(Q38,6,2) -> 01 | D38: =MID(Q38,9,2) -> 29 | E38: =LEFT(W38,2) | F38: =RIGHT(Z38,3) -> GLM | G38: =IFERROR(VLOOKUP(F38,TRI,2,FALSE),0) -> 0 | H38: =VLOOKUP(G38,#REF!,2,TRUE) -> #REF! | I38: =VLOOKUP(dossiers!#REF!,TRI,3) -> #REF! | J38: =N38&S38&AB38 -> 2001294ACCEPT | K38: =N38&S38&AB38&AA38 -> 2001294ACCEPT1E00536643535 | L38: =LEFT(AE38,2) -> 20 | M38: =MID(AE38,6,5) -> 01294 | N38: =L38&M38 -> 2001294 | O38: =IF(COUNTIF($J$2:$J$139,J38)>1,"DOUBLON","") -> DOUBLON | P38: =Q38&K38 -> 2022-01-29T15:17:182001294ACCEPT1E00536643535 | Q38: 2022-01-29T15:17:18 | X38: France | Y38: FR | Z38: 20TL101294-GLM | AA38: 1E00536643535 | AB38: ACCEPT | AC38: paq.toulouse | AD38: 2020290470K | AE38: 20TL101294-GLM | AF38: LRE_AR
A39: =VLOOKUP(Z39,'Factures '!A38:N431,8,FALSE) -> #N/A | B39: =LEFT(Q39,4) -> 2022 | C39: =MID(Q39,6,2) -> 01 | D39: =MID(Q39,9,2) -> 06 | E39: =LEFT(W39,2) | F39: =RIGHT(Z39,3) -> UEL | G39: =IFERROR(VLOOKUP(F39,TRI,2,FALSE),0) -> 0 | H39: =VLOOKUP(G39,#REF!,2,TRUE) -> #REF! | I39: =VLOOKUP(dossiers!#REF!,TRI,3) -> #REF! | J39: =N39&S39&AB39 -> 2003826OK | K39: =N39&S39&AB39&AA39 -> 2003826OK1E00533393495 | L39: =LEFT(AE39,2) -> 20 | M39: =MID(AE39,6,5) -> 03826 | N39: =L39&M39 -> 2003826 | O39: =IF(COUNTIF($J$2:$J$139,J39)>1,"DOUBLON","") -> DOUBLON | P39: =Q39&K39 -> 2022-01-06T10:56:552003826OK1E00533393495 | Q39: 2022-01-06T10:56:55 | X39: France | Y39: FR | Z39: 20BI303826-UEL | AA39: 1E00533393495 | AB39: OK | AC39: paq.biarritz | AD39: 2020060916P | AE39: 20BI303826-UEL | AF39: LRE_AR
A40: =VLOOKUP(Z40,'Factures '!A39:N432,8,FALSE) -> #N/A | B40: =LEFT(Q40,4) -> 2022 | C40: =MID(Q40,6,2) -> 01 | D40: =MID(Q40,9,2) -> 06 | E40: =LEFT(W40,2) | F40: =RIGHT(Z40,3) -> UEL | G40: =IFERROR(VLOOKUP(F40,TRI,2,FALSE),0) -> 0 | H40: =VLOOKUP(G40,#REF!,2,TRUE) -> #REF! | I40: =VLOOKUP(dossiers!#REF!,TRI,3) -> #REF! | J40: =N40&S40&AB40 -> 2003826OK | K40: =N40&S40&AB40&AA40 -> 2003826OK1E00533393297 | L40: =LEFT(AE40,2) -> 20 | M40: =MID(AE40,6,5) -> 03826 | N40: =L40&M40 -> 2003826 | O40: =IF(COUNTIF($J$2:$J$139,J40)>1,"DOUBLON","") -> DOUBLON | P40: =Q40&K40 -> 2022-01-06T10:56:582003826OK1E00533393297 | Q40: 2022-01-06T10:56:58 | X40: France | Y40: FR | Z40: 20BI303826-UEL | AA40: 1E00533393297 | AB40: OK | AC40: paq.biarritz | AD40: 2020060910W | AE40: 20BI303826-UEL | AF40: LRE_AR
...

Sheet Factures 
A1: reference maileva | B1: Par référence | C1: Année | D1: Mois | E1: Code client | F1: Référence utilisateur | H1: reference client | I1: reference maileva | J1: nom campagne | K1: désignation | L1: qte | M1: P,U,H,T | N1: Prx H,T | Q1: Mois | R1: code client | S1: Référence utilisateur | T1: date realisation | U1: reference client | V1: reference maileva | W1: nom campagne | X1: désignation | Y1: qte | Z1: P,U,H,T | AA1: Prx H,T
A2: =IFERROR(IF(B2,I2,""),"") | B2: =IF(COUNTIF($I$2:$I2,I2)=COUNTIF($I$2:$I$394,I2),SUMIF($I$2:$I$394,I2,$N$2:$N$394),"") | C2: =YEAR(G2) -> 1900 | D2: =(MONTH(G2)) -> 1 | F2: paq.toulousecgr | I2: 2520590461C | J2: Envoi du 28 02 | K2: 1ere Page N&B (LREL Facteur C6) | L2: 3 | M2: 0.95 | N2: 2.85 | P2: 2022 | Q2: 12064 | R2: 2676809200 | T2: 357268094 | U2: 6 | W2: 84900378630 | Y2: 14219 | Z2: 16680.57 | AA2: 29393.3
A3: =IFERROR(IF(B3,I3,""),"") | B3: =IF(COUNTIF($I$2:$I3,I3)=COUNTIF($I$2:$I$394,I3),SUMIF($I$2:$I$394,I3,$N$2:$N$394),"") | C3: =YEAR(G3) -> 1900 | D3: =(MONTH(G3)) -> 1 | F3: paq.toulousecgr | I3: 2520590461C | K3: Option Gestion des AR | L3: 3 | M3: 0.3 | N3: 0.9 | P3: 2021 | Q3: 311510 | R3: 15960959300 | T3: 2120106142 | U3: 109116496116 | W3: 2235899708285 | Y3: 91518 | Z3: 94822.785 | AA3: 179228.82
A4: =IFERROR(IF(B4,I4,""),"") -> 2520590461C | B4: =IF(COUNTIF($I$2:$I4,I4)=COUNTIF($I$2:$I$394,I4),SUMIF($I$2:$I$394,I4,$N$2:$N$394),"") -> 19.86 | C4: =YEAR(G4) -> 1900 | D4: =(MONTH(G4)) -> 1 | F4: paq.toulousecgr | I4: 2520590461C | K4: Affranch Lettre Recom En Ligne av | L4: 3 | M4: 5.37 | N4: 16.11
A5: =IFERROR(IF(B5,I5,""),"") | B5: =IF(COUNTIF($I$2:$I5,I5)=COUNTIF($I$2:$I$394,I5),SUMIF($I$2:$I$394,I5,$N$2:$N$394),"") | C5: =YEAR(G5) -> 1900 | D5: =(MONTH(G5)) -> 1 | F5: paq.toulousecgr | I5: 2520590537J | J5: Envoi du 28 02 | K5: 1ere Page N&B (LREL Facteur C6) | L5: 1 | M5: 0.95 | N5: 0.95
A6: =IFERROR(IF(B6,I6,""),"") | B6: =IF(COUNTIF($I$2:$I6,I6)=COUNTIF($I$2:$I$394,I6),SUMIF($I$2:$I$394,I6,$N$2:$N$394),"") | C6: =YEAR(G6) -> 1900 | D6: =(MONTH(G6)) -> 1 | F6: paq.toulousecgr | I6: 2520590537J | K6: Option Gestion des AR | L6: 1 | M6: 0.3 | N6: 0.3
A7: =IFERROR(IF(B7,I7,""),"") -> 2520590537J | B7: =IF(COUNTIF($I$2:$I7,I7)=COUNTIF($I$2:$I$394,I7),SUMIF($I$2:$I$394,I7,$N$2:$N$394),"") -> 6.62 | C7: =YEAR(G7) -> 1900 | D7: =(MONTH(G7)) -> 1 | F7: paq.toulousecgr | I7: 2520590537J | K7: Affranch Lettre Recom En Ligne av | L7: 1 | M7: 5.37 | N7: 5.37
A8: =IFERROR(IF(B8,I8,""),"") | B8: =IF(COUNTIF($I$2:$I8,I8)=COUNTIF($I$2:$I$394,I8),SUMIF($I$2:$I$394,I8,$N$2:$N$394),"") | C8: =YEAR(G8) -> 1900 | D8: =(MONTH(G8)) -> 1 | F8: paq.toulousecgr | I8: 2520590836Y | J8: Envoi du 28 02 | K8: 1ere Page N&B (LREL Facteur C6) | L8: 2 | M8: 0.95 | N8: 1.9
A9: =IFERROR(IF(B9,I9,""),"") | B9: =IF(COUNTIF($I$2:$I9,I9)=COUNTIF($I$2:$I$394,I9),SUMIF($I$2:$I$394,I9,$N$2:$N$394),"") | C9: =YEAR(G9) -> 1900 | D9: =(MONTH(G9)) -> 1 | F9: paq.toulousecgr | I9: 2520590836Y | K9: Option Gestion des AR | L9: 2 | M9: 0.3 | N9: 0.6
A10: =IFERROR(IF(B10,I10,""),"") -> 2520590836Y | B10: =IF(COUNTIF($I$2:$I10,I10)=COUNTIF($I$2:$I$394,I10),SUMIF($I$2:$I$394,I10,$N$2:$N$394),"") -> 13.24 | C10: =YEAR(G10) -> 1900 | D10: =(MONTH(G10)) -> 1 | F10: paq.toulousecgr | I10: 2520590836Y | K10: Affranch Lettre Recom En Ligne av | L10: 2 | M10: 5.37 | N10: 10.74
A11: =IFERROR(IF(B11,I11,""),"") | B11: =IF(COUNTIF($I$2:$I11,I11)=COUNTIF($I$2:$I$394,I11),SUMIF($I$2:$I$394,I11,$N$2:$N$394),"") | C11: =YEAR(G11) -> 1900 | D11: =(MONTH(G11)) -> 1 | F11: paq.bordeaux | I11: 2520590841D | J11: Envoi du 28 02 | K11: 1ere Page N&B (LREL Facteur C6) | L11: 1 | M11: 0.95 | N11: 0.95
A12: =IFERROR(IF(B12,I12,""),"") | B12: =IF(COUNTIF($I$2:$I12,I12)=COUNTIF($I$2:$I$394,I12),SUMIF($I$2:$I$394,I12,$N$2:$N$394),"") | C12: =YEAR(G12) -> 1900 | D12: =(MONTH(G12)) -> 1 | F12: paq.bordeaux | I12: 2520590841D | K12: Option Gestion des AR | L12: 1 | M12: 0.3 | N12: 0.3
A13: =IFERROR(IF(B13,I13,""),"") -> 2520590841D | B13: =IF(COUNTIF($I$2:$I13,I13)=COUNTIF($I$2:$I$394,I13),SUMIF($I$2:$I$394,I13,$N$2:$N$394),"") -> 6.62 | C13: =YEAR(G13) -> 1900 | D13: =(MONTH(G13)) -> 1 | F13: paq.bordeaux | I13: 2520590841D | K13: Affranch Lettre Recom En Ligne av | L13: 1 | M13: 5.37 | N13: 5.37
A14: =IFERROR(IF(B14,I14,""),"") | B14: =IF(COUNTIF($I$2:$I14,I14)=COUNTIF($I$2:$I$394,I14),SUMIF($I$2:$I$394,I14,$N$2:$N$394),"") | C14: =YEAR(G14) -> 1900 | D14: =(MONTH(G14)) -> 1 | F14: paq.bordeaux | I14: 2520590853Y | J14: Envoi du 28 02 | K14: 1ere Page N&B (LREL Facteur C6) | L14: 1 | M14: 0.95 | N14: 0.95
A15: =IFERROR(IF(B15,I15,""),"") | B15: =IF(COUNTIF($I$2:$I15,I15)=COUNTIF($I$2:$I$394,I15),SUMIF($I$2:$I$394,I15,$N$2:$N$394),"") | C15: =YEAR(G15) -> 1900 | D15: =(MONTH(G15)) -> 1 | F15: paq.bordeaux | I15: 2520590853Y | K15: Option Gestion des AR | L15: 1 | M15: 0.3 | N15: 0.3
A16: =IFERROR(IF(B16,I16,""),"") -> 2520590853Y | B16: =IF(COUNTIF($I$2:$I16,I16)=COUNTIF($I$2:$I$394,I16),SUMIF($I$2:$I$394,I16,$N$2:$N$394),"") -> 6.62 | C16: =YEAR(G16) -> 1900 | D16: =(MONTH(G16)) -> 1 | F16: paq.bordeaux | I16: 2520590853Y | K16: Affranch Lettre Recom En Ligne av | L16: 1 | M16: 5.37 | N16: 5.37
A17: =IFERROR(IF(B17,I17,""),"") | B17: =IF(COUNTIF($I$2:$I17,I17)=COUNTIF($I$2:$I$394,I17),SUMIF($I$2:$I$394,I17,$N$2:$N$394),"") | C17: =YEAR(G17) -> 1900 | D17: =(MONTH(G17)) -> 1 | F17: paq.toulousecgr | I17: 2520590856P | J17: Envoi du 28 02 | K17: 1ere Page N&B (LREL Facteur C6) | L17: 1 | M17: 0.95 | N17: 0.95
A18: =IFERROR(IF(B18,I18,""),"") | B18: =IF(COUNTIF($I$2:$I18,I18)=COUNTIF($I$2:$I$394,I18),SUMIF($I$2:$I$394,I18,$N$2:$N$394),"") | C18: =YEAR(G18) -> 1900 | D18: =(MONTH(G18)) -> 1 | F18: paq.toulousecgr | I18: 2520590856P | J18: Envoi du 28 02 | K18: Page Suiv N&B (LREL Facteur C6) | L18: 1 | M18: 0.12 | N18: 0.12
A19: =IFERROR(IF(B19,I19,""),"") | B19: =IF(COUNTIF($I$2:$I19,I19)=COUNTIF($I$2:$I$394,I19),SUMIF($I$2:$I$394,I19,$N$2:$N$394),"") | C19: =YEAR(G19) -> 1900 | D19: =(MONTH(G19)) -> 1 | F19: paq.toulousecgr | I19: 2520590856P | K19: Option Gestion des AR | L19: 1 | M19: 0.3 | N19: 0.3
A20: =IFERROR(IF(B20,I20,""),"") -> 2520590856P | B20: =IF(COUNTIF($I$2:$I20,I20)=COUNTIF($I$2:$I$394,I20),SUMIF($I$2:$I$394,I20,$N$2:$N$394),"") -> 6.74 | C20: =YEAR(G20) -> 1900 | D20: =(MONTH(G20)) -> 1 | F20: paq.toulousecgr | I20: 2520590856P | K20: Affranch Lettre Recom En Ligne av | L20: 1 | M20: 5.37 | N20: 5.37
A21: =IFERROR(IF(B21,I21,""),"") | B21: =IF(COUNTIF($I$2:$I21,I21)=COUNTIF($I$2:$I$394,I21),SUMIF($I$2:$I$394,I21,$N$2:$N$394),"") | C21: =YEAR(G21) -> 1900 | D21: =(MONTH(G21)) -> 1 | F21: paq.toulousecgr | I21: 2520590906G | J21: Envoi du 28 02 | K21: 1ere Page N&B (LREL Facteur C6) | L21: 2 | M21: 0.95 | N21: 1.9
A22: =IFERROR(IF(B22,I22,""),"") | B22: =IF(COUNTIF($I$2:$I22,I22)=COUNTIF($I$2:$I$394,I22),SUMIF($I$2:$I$394,I22,$N$2:$N$394),"") | C22: =YEAR(G22) -> 1900 | D22: =(MONTH(G22)) -> 1 | F22: paq.toulousecgr | I22: 2520590906G | K22: Option Gestion des AR | L22: 2 | M22: 0.3 | N22: 0.6
A23: =IFERROR(IF(B23,I23,""),"") -> 2520590906G | B23: =IF(COUNTIF($I$2:$I23,I23)=COUNTIF($I$2:$I$394,I23),SUMIF($I$2:$I$394,I23,$N$2:$N$394),"") -> 13.24 | C23: =YEAR(G23) -> 1900 | D23: =(MONTH(G23)) -> 1 | F23: paq.toulousecgr | I23: 2520590906G | K23: Affranch Lettre Recom En Ligne av | L23: 2 | M23: 5.37 | N23: 10.74
A24: =IFERROR(IF(B24,I24,""),"") | B24: =IF(COUNTIF($I$2:$I24,I24)=COUNTIF($I$2:$I$394,I24),SUMIF($I$2:$I$394,I24,$N$2:$N$394),"") | C24: =YEAR(G24) -> 1900 | D24: =(MONTH(G24)) -> 1 | F24: paq.toulousecgr | I24: 2520590933K | J24: Envoi du 28 02 | K24: 1ere Page N&B (LREL Facteur C6) | L24: 2 | M24: 0.95 | N24: 1.9
A25: =IFERROR(IF(B25,I25,""),"") | B25: =IF(COUNTIF($I$2:$I25,I25)=COUNTIF($I$2:$I$394,I25),SUMIF($I$2:$I$394,I25,$N$2:$N$394),"") | C25: =YEAR(G25) -> 1900 | D25: =(MONTH(G25)) -> 1 | F25: paq.toulousecgr | I25: 2520590933K | K25: Option Gestion des AR | L25: 2 | M25: 0.3 | N25: 0.6
A26: =IFERROR(IF(B26,I26,""),"") -> 2520590933K | B26: =IF(COUNTIF($I$2:$I26,I26)=COUNTIF($I$2:$I$394,I26),SUMIF($I$2:$I$394,I26,$N$2:$N$394),"") -> 13.24 | C26: =YEAR(G26) -> 1900 | D26: =(MONTH(G26)) -> 1 | F26: paq.toulousecgr | I26: 2520590933K | K26: Affranch Lettre Recom En Ligne av | L26: 2 | M26: 5.37 | N26: 10.74
A27: =IFERROR(IF(B27,I27,""),"") | B27: =IF(COUNTIF($I$2:$I27,I27)=COUNTIF($I$2:$I$394,I27),SUMIF($I$2:$I$394,I27,$N$2:$N$394),"") | C27: =YEAR(G27) -> 1900 | D27: =(MONTH(G27)) -> 1 | F27: paq.bordeaux | I27: 2520590958I | J27: Envoi du 28 02 | K27: 1ere Page N&B (LREL Facteur C6) | L27: 1 | M27: 0.95 | N27: 0.95
A28: =IFERROR(IF(B28,I28,""),"") | B28: =IF(COUNTIF($I$2:$I28,I28)=COUNTIF($I$2:$I$394,I28),SUMIF($I$2:$I$394,I28,$N$2:$N$394),"") | C28: =YEAR(G28) -> 1900 | D28: =(MONTH(G28)) -> 1 | F28: paq.bordeaux | I28: 2520590958I | K28: Option Gestion des AR | L28: 1 | M28: 0.3 | N28: 0.3
A29: =IFERROR(IF(B29,I29,""),"") -> 2520590958I | B29: =IF(COUNTIF($I$2:$I29,I29)=COUNTIF($I$2:$I$394,I29),SUMIF($I$2:$I$394,I29,$N$2:$N$394),"") -> 6.62 | C29: =YEAR(G29) -> 1900 | D29: =(MONTH(G29)) -> 1 | F29: paq.bordeaux | I29: 2520590958I | K29: Affranch Lettre Recom En Ligne av | L29: 1 | M29: 5.37 | N29: 5.37
A30: =IFERROR(IF(B30,I30,""),"") | B30: =IF(COUNTIF($I$2:$I30,I30)=COUNTIF($I$2:$I$394,I30),SUMIF($I$2:$I$394,I30,$N$2:$N$394),"") | C30: =YEAR(G30) -> 1900 | D30: =(MONTH(G30)) -> 1 | F30: paq.toulousecgr | I30: 2520591002P | J30: Envoi du 28 02 | K30: 1ere Page N&B (LREL Facteur C6) | L30: 2 | M30: 0.95 | N30: 1.9
A31: =IFERROR(IF(B31,I31,""),"") | B31: =IF(COUNTIF($I$2:$I31,I31)=COUNTIF($I$2:$I$394,I31),SUMIF($I$2:$I$394,I31,$N$2:$N$394),"") | C31: =YEAR(G31) -> 1900 | D31: =(MONTH(G31)) -> 1 | F31: paq.toulousecgr | I31: 2520591002P | J31: Envoi du 28 02 | K31: Page Suiv N&B (LREL Facteur C6) | L31: 2 | M31: 0.12 | N31: 0.24
A32: =IFERROR(IF(B32,I32,""),"") | B32: =IF(COUNTIF($I$2:$I32,I32)=COUNTIF($I$2:$I$394,I32),SUMIF($I$2:$I$394,I32,$N$2:$N$394),"") | C32: =YEAR(G32) -> 1900 | D32: =(MONTH(G32)) -> 1 | F32: paq.toulousecgr | I32: 2520591002P | K32: Option Gestion des AR | L32: 2 | M32: 0.3 | N32: 0.6
A33: =IFERROR(IF(B33,I33,""),"") -> 2520591002P | B33: =IF(COUNTIF($I$2:$I33,I33)=COUNTIF($I$2:$I$394,I33),SUMIF($I$2:$I$394,I33,$N$2:$N$394),"") -> 13.48 | C33: =YEAR(G33) -> 1900 | D33: =(MONTH(G33)) -> 1 | F33: paq.toulousecgr | I33: 2520591002P | K33: Affranch Lettre Recom En Ligne av | L33: 2 | M33: 5.37 | N33: 10.74
A34: =IFERROR(IF(B34,I34,""),"") | B34: =IF(COUNTIF($I$2:$I34,I34)=COUNTIF($I$2:$I$394,I34),SUMIF($I$2:$I$394,I34,$N$2:$N$394),"") | C34: =YEAR(G34) -> 1900 | D34: =(MONTH(G34)) -> 1 | F34: paq.bordeaux | I34: 2520591003B | J34: Envoi du 28 02 | K34: 1ere Page N&B (LREL Facteur C6) | L34: 1 | M34: 0.95 | N34: 0.95
A35: =IFERROR(IF(B35,I35,""),"") | B35: =IF(COUNTIF($I$2:$I35,I35)=COUNTIF($I$2:$I$394,I35),SUMIF($I$2:$I$394,I35,$N$2:$N$394),"") | C35: =YEAR(G35) -> 1900 | D35: =(MONTH(G35)) -> 1 | F35: paq.bordeaux | I35: 2520591003B | K35: Option Gestion des AR | L35: 1 | M35: 0.3 | N35: 0.3
A36: =IFERROR(IF(B36,I36,""),"") -> 2520591003B | B36: =IF(COUNTIF($I$2:$I36,I36)=COUNTIF($I$2:$I$394,I36),SUMIF($I$2:$I$394,I36,$N$2:$N$394),"") -> 6.62 | C36: =YEAR(G36) -> 1900 | D36: =(MONTH(G36)) -> 1 | F36: paq.bordeaux | I36: 2520591003B | K36: Affranch Lettre Recom En Ligne av | L36: 1 | M36: 5.37 | N36: 5.37
A37: =IFERROR(IF(B37,I37,""),"") | B37: =IF(COUNTIF($I$2:$I37,I37)=COUNTIF($I$2:$I$394,I37),SUMIF($I$2:$I$394,I37,$N$2:$N$394),"") | C37: =YEAR(G37) -> 1900 | D37: =(MONTH(G37)) -> 1 | F37: paq.biarritz | I37: 2520591049T | J37: Envoi du 28 02 | K37: 1ere Page N&B (LREL Facteur C6) | L37: 1 | M37: 0.95 | N37: 0.95
A38: =IFERROR(IF(B38,I38,""),"") | B38: =IF(COUNTIF($I$2:$I38,I38)=COUNTIF($I$2:$I$394,I38),SUMIF($I$2:$I$394,I38,$N$2:$N$394),"") | C38: =YEAR(G38) -> 1900 | D38: =(MONTH(G38)) -> 1 | F38: paq.biarritz | I38: 2520591049T | K38: Option Gestion des AR | L38: 1 | M38: 0.3 | N38: 0.3
A39: =IFERROR(IF(B39,I39,""),"") -> 2520591049T | B39: =IF(COUNTIF($I$2:$I39,I39)=COUNTIF($I$2:$I$394,I39),SUMIF($I$2:$I$394,I39,$N$2:$N$394),"") -> 6.62 | C39: =YEAR(G39) -> 1900 | D39: =(MONTH(G39)) -> 1 | F39: paq.biarritz | I39: 2520591049T | K39: Affranch Lettre Recom En Ligne av | L39: 1 | M39: 5.37 | N39: 5.37
A40: =IFERROR(IF(B40,I40,""),"") | B40: =IF(COUNTIF($I$2:$I40,I40)=COUNTIF($I$2:$I$394,I40),SUMIF($I$2:$I$394,I40,$N$2:$N$394),"") | C40: =YEAR(G40) -> 1900 | D40: =(MONTH(G40)) -> 1 | F40: paq.toulousecgr | I40: 2520591075J | J40: Envoi du 28 02 | K40: 1ere Page N&B (LREL Facteur C6) | L40: 1 | M40: 0.95 | N40: 0.95
...

Sheet Export PGD TRIGRAMMES
A1: Code | B1: Nom | C1: Agence
A2: ABC
A3: GIG
A4: AZC
A5: SAN
A6: AHZ
A7: SIU
A8: SAU
A9: ZPX09
A10: COB
A11: UEL
A12: SBK
A13: BAR
... A255: use
