Workbook
Name actReg: #REF!
Name actReg1: #REF!
Name actRegCode: #REF!
Name actRegCode1: #REF!
Name actRegValue: #REF!
Name actRegValue1: #REF!
Name Rang0: #REF!
Name Rang1: #REF!
Name Rang2: #REF!
Name Rang3: #REF!
Name Rang4: #REF!
Name Rang5: #REF!
Name Rang6: #REF!
Name Rang7: #REF!
Name Rang8: #REF!
Name Rang9: #REF!
Name regData: [1]!Tableau25[#Data]
Name TRI: 'Export PGD TRIGRAMMES'!$A$1:$C$266

Sheet dossiers
B1: Année | C1: Mois | D1: Jour | E1: CP | F1: Trigramme | G1: Expert | H1: Assistantes | I1: Agence qui ev. | J1: Conca | K1: Conca2 | L1: Année dossier | M1: Dossier | N1: Numéro de dossier | O1: Doublon | P1: Date | Q1: Date dépôt demande | R1: Société | S1: Civilité Prénom Nom | T1: Résidence | U1: N°Libellé | V1: Lieu dit BP... | W1: Code Postal et Ville | X1: Pays | Y1: Code Pays | Z1: Ref. Client du pli | AA1: Numéro recommandé | AB1: Statut du pli | AC1: Identifiant utilisateur | AD1: Ref. Maileva Demande | AE1: Ref. Client Demande | AF1: Affranchissement | AG1: Date de remise en poste
A2: =VLOOKUP(Z2,'Factures '!A1:N394,8,FALSE) -> #N/A | B2: =LEFT(Q2,4) -> 2021 | C2: =MID(Q2,6,2) -> 12 | D2: =MID(Q2,9,2) -> 30 | E2: =LEFT(W2,2) | F2: =RIGHT(Z2,3) -> RHY | G2: =IFERROR(VLOOKUP(F2,TRI,2,FALSE),0) -> 0 | H2: =VLOOKUP(G2,#REF!,2,TRUE) -> #REF! | I2: =VLOOKUP(dossiers!G529,TRI,3) -> #N/A | J2: =N2&S2&AB2 -> 1428339OK | K2: =N2&S2&AB2&AA2 -> 1428339OK1E00532539153 | L2: =LEFT(AE2,2) -> 14 | M2: =MID(AE2,6,5) -> 28339 | N2: =L2&M2 -> 1428339 | O2: =IF(COUNTIF($J$2:$J$139,J2)>1,"DOUBLON","") | P2: =Q2&K2 -> 2021-12-30T10:10:501428339OK1E00532539153 | Q2: 2021-12-30T10:10:50 | X2: France | Y2: FR | Z2: 14TL328339-RHY | AA2: 1E00532539153 | AB2: OK | AC2: paq.toulouse | AD2: 2013640654T | AE2: 14TL328339-RHY | AF2: LRE_AR
A3: =VLOOKUP(Z3,'Factures '!A2:N395,8,FALSE) -> #N/A | B3: =LEFT(Q3,4) -> 2022 | C3: =MID(Q3,6,2) -> 01 | D3: =MID(Q3,9,2) -> 18 | E3: =LEFT(W3,2) | F3: =RIGHT(Z3,3) -> LBC | G3: =IFERROR(VLOOKUP(F3,TRI,2,FALSE),0) -> 0 | H3: =VLOOKUP(G3,#REF!,2,TRUE) -> #REF! | I3: =VLOOKUP(dossiers!#REF!,TRI,3) -> #REF! | J3: =N3&S3&AB3 -> 1751000ACCEPT | K3: =N3&S3&AB3&AA3 -> 1751000ACCEPT1E00534968760 | L3: =LEFT(AE3,2) -> 17 | M3: =MID(AE3,6,5) -> 51000 | N3: =L3&M3 -> 1751000 | O3: =IF(COUNTIF($J$2:$J$139,J3)>1,"DOUBLON","") -> DOUBLON | P3: =Q3&K3 -> 2022-01-18T17:47:131751000ACCEPT1E00534968760 | Q3: 2022-01-18T17:47:13 | X3: France | Y3: FR | Z3: 17BD051000-LBC | AA3: 1E00534968760 | AB3: ACCEPT | AC3: paq.bordeaux | AD3: 20201838063 | AE3: 17BD051000-LBC | AF3: LRE_AR
A4: =VLOOKUP(Z4,'Factures '!A3:N396,8,FALSE) -> #N/A | B4: =LEFT(Q4,4) -> 2022 | C4: =MID(Q4,6,2) -> 01 | D4: =MID(Q4,9,2) -> 18 | E4: =LEFT(W4,2) | F4: =RIGHT(Z4,3) -> LBC | G4: =IFERROR(VLOOKUP(F4,TRI,2,FALSE),0) -> 0 | H4: =VLOOKUP(G4,#REF!,2,TRUE) -> #REF! | I4: =VLOOKUP(dossiers!#REF!,TRI,3) -> #REF! | J4: =N4&S4&AB4 -> 1751000OK | K4: =N4&S4&AB4&AA4 -> 1751000OK1E00534968760 | L4: =LEFT(AE4,2) -> 17 | M4: =MID(AE4,6,5) -> 51000 | N4: =L4&M4 -> 1751000 | O4: =IF(COUNTIF($J$2:$J$139,J4)>1,"DOUBLON","") -> DOUBLON | P4: =Q4&K4 -> 2022-01-18T17:47:131751000OK1E00534968760 | Q4: 2022-01-18T17:47:13 | X4: France | Y4: FR | Z4: 17BD051000-LBC | AA4: 1E00534968760 | AB4: OK | AC4: paq.bordeaux | AD4: 20201838063 | AE4: 17BD051000-LBC | AF4: LRE_AR
A5: =VLOOKUP(Z5,'Factures '!A4:N397,8,FALSE) -> #N/A | B5: =LEFT(Q5,4) -> 2022 | C5: =MID(Q5,6,2) -> 01 | D5: =MID(Q5,9,2) -> 18 | E5: =LEFT(W5,2) | F5: =RIGHT(Z5,3) -> LBC | G5: =IFERROR(VLOOKUP(F5,TRI,2,FALSE),0) -> 0 | H5: =VLOOKUP(G5,#REF!,2,TRUE) -> #REF! | I5: =VLOOKUP(dossiers!#REF!,TRI,3) -> #REF! | J5: =N5&S5&AB5 -> 1751000ACCEPT | K5: =N5&S5&AB5&AA5 -> 1751000ACCEPT1E00534967114 | L5: =LEFT(AE5,2) -> 17 | M5: =MID(AE5,6,5) -> 51000 | N5: =L5&M5 -> 1751000 | O5: =IF(COUNTIF($J$2:$J$139,J5)>1,"DOUBLON","") -> DOUBLON | P5: =Q5&K5 -> 2022-01-18T17:45:481751000ACCEPT1E00534967114 | Q5: 2022-01-18T17:45:48 | X5: France | Y5: FR | Z5: 17BD051000-LBC | AA5: 1E00534967114 | AB5: ACCEPT | AC5: paq.bordeaux | AD5: 2020183763M | AE5: 17BD051000-LBC | AF5: LRE_AR
A6: =VLOOKUP(Z6,'Factures '!A5:N398,8,FALSE) -> #N/A | B6: =LEFT(Q6,4) -> 2022 | C6: =MID(Q6,6,2) -> 01 | D6: =MID(Q6,9,2) -> 18 | E6: =LEFT(W6,2) | F6: =RIGHT(Z6,3) -> LBC | G6: =IFERROR(VLOOKUP(F6,TRI,2,FALSE),0) -> 0 | H6: =VLOOKUP(G6,#REF!,2,TRUE) -> #REF! | I6: =VLOOKUP(dossiers!#REF!,TRI,3) -> #REF! | J6: =N6&S6&AB6 -> 1751000OK | K6: =N6&S6&AB6&AA6 -> 1751000OK1E00534967114 | L6: =LEFT(AE6,2) -> 17 | M6: =MID(AE6,6,5) -> 51000 | N6: =L6&M6 -> 1751000 | O6: =IF(COUNTIF($J$2:$J$139,J6)>1,"DOUBLON","") -> DOUBLON | P6: =Q6&K6 -> 2022-01-18T17:45:481751000OK1E00534967114 | Q6: 2022-01-18T17:45:48 | X6: France | Y6: FR | Z6: 17BD051000-LBC | AA6: 1E00534967114 | AB6: OK | AC6: paq.bordeaux | AD6: 2020183763M | AE6: 17BD051000-LBC | AF6: LRE_AR
A7: =VLOOKUP(Z7,'Factures '!A6:N399,8,FALSE) -> #N/A | B7: =LEFT(Q7,4) -> 2022 | C7: =MID(Q7,6,2) -> 01 | D7: =MID(Q7,9,2) -> 18 | E7: =LEFT(W7,2) | F7: =RIGHT(Z7,3) -> LBC | G7: =IFERROR(VLOOKUP(F7,TRI,2,FALSE),0) -> 0 | H7: =VLOOKUP(G7,#REF!,2,TRUE) -> #REF! | I7: =VLOOKUP(dossiers!#REF!,TRI,3) -> #REF! | J7: =N7&S7&AB7 -> 1751000ACCEPT | K7: =N7&S7&AB7&AA7 -> 1751000ACCEPT1E00534967725 | L7: =LEFT(AE7,2) -> 17 | M7: =MID(AE7,6,5) -> 51000 | N7: =L7&M7 -> 1751000 | O7: =IF(COUNTIF($J$2:$J$139,J7)>1,"DOUBLON","") -> DOUBLON | P7: =Q7&K7 -> 2022-01-18T17:46:431751000ACCEPT1E00534967725 | Q7: 2022-01-18T17:46:43 | X7: France | Y7: FR | Z7: 17BD051000-LBC | AA7: 1E00534967725 | AB7: ACCEPT | AC7: paq.bordeaux | AD7: 2020183787S | AE7: 17BD051000-LBC | AF7: LRE_AR
A8: =VLOOKUP(Z8,'Factures '!A7:N400,8,FALSE) -> #N/A | B8: =LEFT(Q8,4) -> 2022 | C8: =MID(Q8,6,2) -> 01 | D8: =MID(Q8,9,2) -> 18 | E8: =LEFT(W8,2) | F8: =RIGHT(Z8,3) -> LBC | G8: =IFERROR(VLOOKUP(F8,TRI,2,FALSE),0) -> 0 | H8: =VLOOKUP(G8,#REF!,2,TRUE) -> #REF! | I8: =VLOOKUP(dossiers!#REF!,TRI,3) -> #REF! | J8: =N8&S8&AB8 -> 1751000OK | K8: =N8&S8&AB8&AA8 -> 1751000OK1E00534967725 | L8: =LEFT(AE8,2) -> 17 | M8: =MID(AE8,6,5) -> 51000 | N8: =L8&M8 -> 1751000 | O8: =IF(COUNTIF($J$2:$J$139,J8)>1,"DOUBLON","") -> DOUBLON | P8: =Q8&K8 -> 2022-01-18T17:46:431751000OK1E00534967725 | Q8: 2022-01-18T17:46:43 | X8: France | Y8: FR | Z8: 17BD051000-LBC | AA8: 1E00534967725 | AB8: OK | AC8: paq.bordeaux | AD8: 2020183787S | AE8: 17BD051000-LBC | AF8: LRE_AR
A9: =VLOOKUP(Z9,'Factures '!A8:N401,8,FALSE) -> #N/A | B9: =LEFT(Q9,4) -> 2022 | C9: =MID(Q9,6,2) -> 01 | D9: =MID(Q9,9,2) -> 18 | E9: =LEFT(W9,2) | F9: =RIGHT(Z9,3) -> LBC | G9: =IFERROR(VLOOKUP(F9,TRI,2,FALSE),0) -> 0 | H9: =VLOOKUP(G9,#REF!,2,TRUE) -> #REF! | I9: =VLOOKUP(dossiers!#REF!,TRI,3) -> #REF! | J9: =N9&S9&AB9 -> 1751000ACCEPT | K9: =N9&S9&AB9&AA9 -> 1751000ACCEPT1E00534963178 | L9: =LEFT(AE9,2) -> 17 | M9: =MID(AE9,6,5) -> 51000 | N9: =L9&M9 -> 1751000 | O9: =IF(COUNTIF($J$2:$J$139,J9)>1,"DOUBLON","") -> DOUBLON | P9: =Q9&K9 -> 2022-01-18T17:09:461751000ACCEPT1E00534963178 | Q9: 2022-01-18T17:09:46 | X9: France | Y9: FR | Z9: 17BD051000-LBC | AA9: 1E00534963178 | AB9: ACCEPT | AC9: paq.bordeaux | AD9: 20201836259 | AE9: 17BD051000-LBC | AF9: LRE_AR
A10: =VLOOKUP(Z10,'Factures '!A9:N402,8,FALSE) -> #N/A | B10: =LEFT(Q10,4) -> 2022 | C10: =MID(Q10,6,2) -> 01 | D10: =MID(Q10,9,2) -> 18 | E10: =LEFT(W10,2) | F10: =RIGHT(Z10,3) -> LBC | G10: =IFERROR(VLOOKUP(F10,TRI,2,FALSE),0) -> 0 | H10: =VLOOKUP(G10,#REF!,2,TRUE) -> #REF! | I10: =VLOOKUP(dossiers!#REF!,TRI,3) -> #REF! | J10: =N10&S10&AB10 -> 1751000OK | K10: =N10&S10&AB10&AA10 -> 1751000OK1E00534963178 | L10: =LEFT(AE10,2) -> 17 | M10: =MID(AE10,6,5) -> 51000 | N10: =L10&M10 -> 1751000 | O10: =IF(COUNTIF($J$2:$J$139,J10)>1,"DOUBLON","") -> DOUBLON | P10: =Q10&K10 -> 2022-01-18T17:09:461751000OK1E00534963178 | Q10: 2022-01-18T17:09:46 | X10: France | Y10: FR | Z10: 17BD051000-LBC | AA10: 1E00534963178 | AB10: OK | AC10: paq.bordeaux | AD10: 20201836259 | AE10: 17BD051000-LBC | AF10: LRE_AR
A11: =VLOOKUP(Z11,'Factures '!A10:N403,8,FALSE) -> #N/A | B11: =LEFT(Q11,4) -> 2022 | C11: =MID(Q11,6,2) -> 01 | D11: =MID(Q11,9,2) -> 18 | E11: =LEFT(W11,2) | F11: =RIGHT(Z11,3) -> LBC | G11: =IFERROR(VLOOKUP(F11,TRI,2,FALSE),0) -> 0 | H11: =VLOOKUP(G11,#REF!,2,TRUE) -> #REF! | I11: =VLOOKUP(dossiers!#REF!,TRI,3) -> #REF! | J11: =N11&S11&AB11 -> 1751000ACCEPT | K11: =N11&S11&AB11&AA11 -> 1751000ACCEPT1E00534966735 | L11: =LEFT(AE11,2) -> 17 | M11: =MID(AE11,6,5) -> 51000 | N11: =L11&M11 -> 1751000 | O11: =IF(COUNTIF($J$2:$J$139,J11)>1,"DOUBLON","") -> DOUBLON | P11: =Q11&K11 -> 2022-01-18T17:45:241751000ACCEPT1E00534966735 | Q11: 2022-01-18T17:45:24 | X11: France | Y11: FR | Z11: 17BD051000-LBC | AA11: 1E00534966735 | AB11: ACCEPT | AC11: paq.bordeaux | AD11: 2020183749W | AE11: 17BD051000-LBC | AF11: LRE_AR
A12: =VLOOKUP(Z12,'Factures '!A11:N404,8,FALSE) -> #N/A | B12: =LEFT(Q12,4) -> 2022 | C12: =MID(Q12,6,2) -> 01 | D12: =MID(Q12,9,2) -> 18 | E12: =LEFT(W12,2) | F12: =RIGHT(Z12,3) -> LBC | G12: =IFERROR(VLOOKUP(F12,TRI,2,FALSE),0) -> 0 | H12: =VLOOKUP(G12,#REF!,2,TRUE) -> #REF! | I12: =VLOOKUP(dossiers!#REF!,TRI,3) -> #REF! | J12: =N12&S12&AB12 -> 1751000OK | K12: =N12&S12&AB12&AA12 -> 1751000OK1E00534966735 | L12: =LEFT(AE12,2) -> 17 | M12: =MID(AE12,6,5) -> 51000 | N12: =L12&M12 -> 1751000 | O12: =IF(COUNTIF($J$2:$J$139,J12)>1,"DOUBLON","") -> DOUBLON | P12: =Q12&K12 -> 2022-01-18T17:45:241751000OK1E00534966735 | Q12: 2022-01-18T17:45:24 | X12: France | Y12: FR | Z12: 17BD051000-LBC | AA12: 1E00534966735 | AB12: OK | AC12: paq.bordeaux | AD12: 2020183749W | AE12: 17BD051000-LBC | AF12: LRE_AR
A13: =VLOOKUP(Z13,'Factures '!A12:N405,8,FALSE) -> #N/A | B13: =LEFT(Q13,4) -> 2022 | C13: =MID(Q13,6,2) -> 01 | D13: =MID(Q13,9,2) -> 18 | E13: =LEFT(W13,2) | F13: =RIGHT(Z13,3) -> LBC | G13: =IFERROR(VLOOKUP(F13,TRI,2,FALSE),0) -> 0 | H13: =VLOOKUP(G13,#REF!,2,TRUE) -> #REF! | I13: =VLOOKUP(dossiers!#REF!,TRI,3) -> #REF! | J13: =N13&S13&AB13 -> 1751000OK | K13: =N13&S13&AB13&AA13 -> 1751000OK1E00534963383 | L13: =LEFT(AE13,2) -> 17 | M13: =MID(AE13,6,5) -> 51000 | N13: =L13&M13 -> 1751000 | O13: =IF(COUNTIF($J$2:$J$139,J13)>1,"DOUBLON","") -> DOUBLON | P13: =Q13&K13 -> 2022-01-18T17:10:211751000OK1E00534963383 | Q13: 2022-01-18T17:10:21 | X13: France | Y13: FR | Z13: 17BD051000-LBC | AA13: 1E00534963383 | AB13: OK | AC13: paq.bordeaux | AD13: 2020183646J | AE13: 17BD051000-LBC | AF13: LRE_AR
A14: =VLOOKUP(Z14,'Factures '!A13:N406,8,FALSE) -> #N/A | B14: =LEFT(Q14,4) -> 2022 | C14: =MID(Q14,6,2) -> 01 | D14: =MID(Q14,9,2) -> 18 | E14: =LEFT(W14,2) | F14: =RIGHT(Z14,3) -> LBC | G14: =IFERROR(VLOOKUP(F14,TRI,2,FALSE),0) -> 0 | H14: =VLOOKUP(G14,#REF!,2,TRUE) -> #REF! | I14: =VLOOKUP(dossiers!#REF!,TRI,3) -> #REF! | J14: =N14&S14&AB14 -> 1751000WAIT | K14: =N14&S14&AB14&AA14 -> 1751000WAIT1E00534963383 | L14: =LEFT(AE14,2) -> 17 | M14: =MID(AE14,6,5) -> 51000 | N14: =L14&M14 -> 1751000 | O14: =IF(COUNTIF($J$2:$J$139,J14)>1,"DOUBLON","") | P14: =Q14&K14 -> 2022-01-18T17:10:211751000WAIT1E00534963383 | Q14: 2022-01-18T17:10:21 | X14: France | Y14: FR | Z14: 17BD051000-LBC | AA14: 1E00534963383 | AB14: WAIT | AC14: paq.bordeaux | AD14: 2020183646J | AE14: 17BD051000-LBC | AF14: LRE_AR
A15: =VLOOKUP(Z15,'Factures '!A14:N407,8,FALSE) -> #N/A | B15: =LEFT(Q15,4) -> 2022 | C15: =MID(Q15,6,2) -> 02 | D15: =MID(Q15,9,2) -> 22 | E15: =LEFT(W15,2) | F15: =RIGHT(Z15,3) -> RBI | G15: =IFERROR(VLOOKUP(F15,TRI,2,FALSE),0) -> 0 | H15: =VLOOKUP(G15,#REF!,2,TRUE) -> #REF! | I15: =VLOOKUP(dossiers!#REF!,TRI,3) -> #REF! | J15: =N15&S15&AB15 -> 1822924ACCEPT | K15: =N15&S15&AB15&AA15 -> 1822924ACCEPT1E00540047145 | L15: =LEFT(AE15,2) -> 18 | M15: =MID(AE15,6,5) -> 22924 | N15: =L15&M15 -> 1822924 | O15: =IF(COUNTIF($J$2:$J$139,J15)>1,"DOUBLON","") | P15: =Q15&K15 -> 2022-02-22T17:52:231822924ACCEPT1E00540047145 | Q15: 2022-02-22T17:52:23 | X15: France | Y15: FR | Z15: 18TL322924-RBI | AA15: 1E00540047145 | AB15: ACCEPT | AC15: paq.bordeaux | AD15: 2020533803F | AE15: 18TL322924-RBI | AF15: LRE_AR
A16: =VLOOKUP(Z16,'Factures '!A15:N408,8,FALSE) -> #N/A | B16: =LEFT(Q16,4) -> 2022 | C16: =MID(Q16,6,2) -> 02 | D16: =MID(Q16,9,2) -> 22 | E16: =LEFT(W16,2) | F16: =RIGHT(Z16,3) -> RBI | G16: =IFERROR(VLOOKUP(F16,TRI,2,FALSE),0) -> 0 | H16: =VLOOKUP(G16,#REF!,2,TRUE) -> #REF! | I16: =VLOOKUP(dossiers!#REF!,TRI,3) -> #REF! | J16: =N16&S16&AB16 -> 1822924OK | K16: =N16&S16&AB16&AA16 -> 1822924OK1E00540047145 | L16: =LEFT(AE16,2) -> 18 | M16: =MID(AE16,6,5) -> 22924 | N16: =L16&M16 -> 1822924 | O16: =IF(COUNTIF($J$2:$J$139,J16)>1,"DOUBLON","") | P16: =Q16&K16 -> 2022-02-22T17:52:231822924OK1E00540047145 | Q16: 2022-02-22T17:52:23 | X16: France | Y16: FR | Z16: 18TL322924-RBI | AA16: 1E00540047145 | AB16: OK | AC16: paq.bordeaux | AD16: 2020533803F | AE16: 18TL322924-RBI | AF16: LRE_AR
A17: =VLOOKUP(Z17,'Factures '!A16:N409,8,FALSE) -> #N/A | B17: =LEFT(Q17,4) -> 2022 | C17: =MID(Q17,6,2) -> 01 | D17: =MID(Q17,9,2) -> 21 | E17: =LEFT(W17,2) | F17: =RIGHT(Z17,3) -> PDE | G17: =IFERROR(VLOOKUP(F17,TRI,2,FALSE),0) -> 0 | H17: =VLOOKUP(G17,#REF!,2,TRUE) -> #REF! | I17: =VLOOKUP(dossiers!#REF!,TRI,3) -> #REF! | J17: =N17&S17&AB17 -> 1852822OK | K17: =N17&S17&AB17&AA17 -> 1852822OK1E00535508569 | L17: =LEFT(AE17,2) -> 18 | M17: =MID(AE17,6,5) -> 52822 | N17: =L17&M17 -> 1852822 | O17: =IF(COUNTIF($J$2:$J$139,J17)>1,"DOUBLON","") -> DOUBLON | P17: =Q17&K17 -> 2022-01-21T12:51:301852822OK1E00535508569 | Q17: 2022-01-21T12:51:30 | X17: France | Y17: FR | Z17: 18BR352822-PDE | AA17: 1E00535508569 | AB17: OK | AC17: paq.cahors | AD17: 20202117372 | AE17: 18BR352822-PDE | AF17: LRE_AR
A18: =VLOOKUP(Z18,'Factures '!A17:N410,8,FALSE) -> #N/A | B18: =LEFT(Q18,4) -> 2022 | C18: =MID(Q18,6,2) -> 01 | D18: =MID(Q18,9,2) -> 21 | E18: =LEFT(W18,2) | F18: =RIGHT(Z18,3) -> PDE | G18: =IFERROR(VLOOKUP(F18,TRI,2,FALSE),0) -> 0 | H18: =VLOOKUP(G18,#REF!,2,TRUE) -> #REF! | I18: =VLOOKUP(dossiers!#REF!,TRI,3) -> #REF! | J18: =N18&S18&AB18 -> 1852822OK | K18: =N18&S18&AB18&AA18 -> 1852822OK1E00535508552 | L18: =LEFT(AE18,2) -> 18 | M18: =MID(AE18,6,5) -> 52822 | N18: =L18&M18 -> 1852822 | O18: =IF(COUNTIF($J$2:$J$139,J18)>1,"DOUBLON","") -> DOUBLON | P18: =Q18&K18 -> 2022-01-21T12:51:301852822OK1E00535508552 | Q18: 2022-01-21T12:51:30 | X18: France | Y18: FR | Z18: 18BR352822-PDE | AA18: 1E00535508552 | AB18: OK | AC18: paq.cahors | AD18: 20202117371 | AE18: 18BR352822-PDE | AF18: LRE_AR
A19: =VLOOKUP(Z19,'Factures '!A18:N411,8,FALSE) -> #N/A | B19: =LEFT(Q19,4) -> 2022 | C19: =MID(Q19,6,2) -> 02 | D19: =MID(Q19,9,2) -> 04 | E19: =LEFT(W19,2) | F19: =RIGHT(Z19,3) -> DFQ | G19: =IFERROR(VLOOKUP(F19,TRI,2,FALSE),0) -> 0 | H19: =VLOOKUP(G19,#REF!,2,TRUE) -> #REF! | I19: =VLOOKUP(dossiers!#REF!,TRI,3) -> #REF! | J19: =N19&S19&AB19 -> 1906259OK | K19: =N19&S19&AB19&AA19 -> 1906259OK1E00537500707 | L19: =LEFT(AE19,2) -> 19 | M19: =MID(AE19,6,5) -> 06259 | N19: =L19&M19 -> 1906259 | O19: =IF(COUNTIF($J$2:$J$139,J19)>1,"DOUBLON","") -> DOUBLON | P19: =Q19&K19 -> 2022-02-04T14:19:061906259OK1E00537500707 | Q19: 2022-02-04T14:19:06 | X19: France | Y19: FR | Z19: 19BD306259-DFQ | AA19: 1E00537500707 | AB19: OK | AC19: paq.bordeaux | AD19: 2020352474Z | AE19: 19BD306259-DFQ | AF19: LRE_AR
A20: =VLOOKUP(Z20,'Factures '!A19:N412,8,FALSE) -> #N/A | B20: =LEFT(Q20,4) -> 2022 | C20: =MID(Q20,6,2) -> 02 | D20: =MID(Q20,9,2) -> 04 | E20: =LEFT(W20,2) | F20: =RIGHT(Z20,3) -> DFQ | G20: =IFERROR(VLOOKUP(F20,TRI,2,FALSE),0) -> 0 | H20: =VLOOKUP(G20,#REF!,2,TRUE) -> #REF! | I20: =VLOOKUP(dossiers!#REF!,TRI,3) -> #REF! | J20: =N20&S20&AB20 -> 1906259WAIT | K20: =N20&S20&AB20&AA20 -> 1906259WAIT1E00537500707 | L20: =LEFT(AE20,2) -> 19 | M20: =MID(AE20,6,5) -> 06259 | N20: =L20&M20 -> 1906259 | O20: =IF(COUNTIF($J$2:$J$139,J20)>1,"DOUBLON","") -> DOUBLON | P20: =Q20&K20 -> 2022-02-04T14:19:061906259WAIT1E00537500707 | Q20: 2022-02-04T14:19:06 | X20: France | Y20: FR | Z20: 19BD306259-DFQ | AA20: 1E00537500707 | AB20: WAIT | AC20: paq.bordeaux | AD20: 2020352474Z | AE20: 19BD306259-DFQ | AF20: LRE_AR
A21: =VLOOKUP(Z21,'Factures '!A20:N413,8,FALSE) -> #N/A | B21: =LEFT(Q21,4) -> 2022 | C21: =MID(Q21,6,2) -> 02 | D21: =MID(Q21,9,2) -> 04 | E21: =LEFT(W21,2) | F21: =RIGHT(Z21,3) -> DFQ | G21: =IFERROR(VLOOKUP(F21,TRI,2,FALSE),0) -> 0 | H21: =VLOOKUP(G21,#REF!,2,TRUE) -> #REF! | I21: =VLOOKUP(dossiers!#REF!,TRI,3) -> #REF! | J21: =N21&S21&AB21 -> 1906259OK | K21: =N21&S21&AB21&AA21 -> 1906259OK1E00537499957 | L21: =LEFT(AE21,2) -> 19 | M21: =MID(AE21,6,5) -> 06259 | N21: =L21&M21 -> 1906259 | O21: =IF(COUNTIF($J$2:$J$139,J21)>1,"DOUBLON","") -> DOUBLON | P21: =Q21&K21 -> 2022-02-04T14:15:321906259OK1E00537499957 | Q21: 2022-02-04T14:15:32 | X21: France | Y21: FR | Z21: 19BD306259-DFQ | AA21: 1E00537499957 | AB21: OK | AC21: paq.bordeaux | AD21: 2020352434K | AE21: 19BD306259-DFQ | AF21: LRE_AR
A22: =VLOOKUP(Z22,'Factures '!A21:N414,8,FALSE) -> #N/A | B22: =LEFT(Q22,4) -> 2022 | C22: =MID(Q22,6,2) -> 02 | D22: =MID(Q22,9,2) -> 04 | E22: =LEFT(W22,2) | F22: =RIGHT(Z22,3) -> DFQ | G22: =IFERROR(VLOOKUP(F22,TRI,2,FALSE),0) -> 0 | H22: =VLOOKUP(G22,#REF!,2,TRUE) -> #REF! | I22: =VLOOKUP(dossiers!#REF!,TRI,3) -> #REF! | J22: =N22&S22&AB22 -> 1906259WAIT | K22: =N22&S22&AB22&AA22 -> 1906259WAIT1E00537499957 | L22: =LEFT(AE22,2) -> 19 | M22: =MID(AE22,6,5) -> 06259 | N22: =L22&M22 -> 1906259 | O22: =IF(COUNTIF($J$2:$J$139,J22)>1,"DOUBLON","") -> DOUBLON | P22: =Q22&K22 -> 2022-02-04T14:15:321906259WAIT1E00537499957 | Q22: 2022-02-04T14:15:32 | X22: France | Y22: FR | Z22: 19BD306259-DFQ | AA22: 1E00537499957 | AB22: WAIT | AC22: paq.bordeaux | AD22: 2020352434K | AE22: 19BD306259-DFQ | AF22: LRE_AR
A23: =VLOOKUP(Z23,'Factures '!A22:N415,8,FALSE) -> #N/A | B23: =LEFT(Q23,4) -> 2022 | C23: =MID(Q23,6,2) -> 02 | D23: =MID(Q23,9,2) -> 10 | E23: =LEFT(W23,2) | F23: =RIGHT(Z23,3) -> DFQ | G23: =IFERROR(VLOOKUP(F23,TRI,2,FALSE),0) -> 0 | H23: =VLOOKUP(G23,#REF!,2,TRUE) -> #REF! | I23: =VLOOKUP(dossiers!#REF!,TRI,3) -> #REF! | J23: =N23&S23&AB23 -> 1906259OK | K23: =N23&S23&AB23&AA23 -> 1906259OK1E00538237961 | L23: =LEFT(AE23,2) -> 19 | M23: =MID(AE23,6,5) -> 06259 | N23: =L23&M23 -> 1906259 | O23: =IF(COUNTIF($J$2:$J$139,J23)>1,"DOUBLON","") -> DOUBLON | P23: =Q23&K23 -> 2022-02-10T10:21:561906259OK1E00538237961 | Q23: 2022-02-10T10:21:56 | X23: France | Y23: FR | Z23: 19BD306259-DFQ | AA23: 1E00538237961 | AB23: OK | AC23: paq.bordeaux | AD23: 20204109380 | AE23: 19BD306259-DFQ | AF23: LRE_AR
A24: =VLOOKUP(Z24,'Factures '!A23:N416,8,FALSE) -> #N/A | B24: =LEFT(Q24,4) -> 2022 | C24: =MID(Q24,6,2) -> 02 | D24: =MID(Q24,9,2) -> 10 | E24: =LEFT(W24,2) | F24: =RIGHT(Z24,3) -> DFQ | G24: =IFERROR(VLOOKUP(F24,TRI,2,FALSE),0) -> 0 | H24: =VLOOKUP(G24,#REF!,2,TRUE) -> #REF! | I24: =VLOOKUP(dossiers!#REF!,TRI,3) -> #REF! | J24: =N24&S24&AB24 -> 1906259OK | K24: =N24&S24&AB24&AA24 -> 1906259OK1E00538237848 | L24: =LEFT(AE24,2) -> 19 | M24: =MID(AE24,6,5) -> 06259 | N24: =L24&M24 -> 1906259 | O24: =IF(COUNTIF($J$2:$J$139,J24)>1,"DOUBLON","") -> DOUBLON | P24: =Q24&K24 -> 2022-02-10T10:21:531906259OK1E00538237848 | Q24: 2022-02-10T10:21:53 | X24: France | Y24: FR | Z24: 19BD306259-DFQ | AA24: 1E00538237848 | AB24: OK | AC24: paq.bordeaux | AD24: 2020410935E | AE24: 19BD306259-DFQ | AF24: LRE_AR
A25: =VLOOKUP(Z25,'Factures '!A24:N417,8,FALSE) -> #N/A | B25: =LEFT(Q25,4) -> 2022 | C25: =MID(Q25,6,2) -> 02 | D25: =MID(Q25,9,2) -> 04 | E25: =LEFT(W25,2) | F25: =RIGHT(Z25,3) -> DFQ | G25: =IFERROR(VLOOKUP(F25,TRI,2,FALSE),0) -> 0 | H25: =VLOOKUP(G25,#REF!,2,TRUE) -> #REF! | I25: =VLOOKUP(dossiers!#REF!,TRI,3) -> #REF! | J25: =N25&S25&AB25 -> 1906259OK | K25: =N25&S25&AB25&AA25 -> 1906259OK1E00537500141 | L25: =LEFT(AE25,2) -> 19 | M25: =MID(AE25,6,5) -> 06259 | N25: =L25&M25 -> 1906259 | O25: =IF(COUNTIF($J$2:$J$139,J25)>1,"DOUBLON","") -> DOUBLON | P25: =Q25&K25 -> 2022-02-04T14:15:531906259OK1E00537500141 | Q25: 2022-02-04T14:15:53 | X25: France | Y25: FR | Z25: 19BD306259-DFQ | AA25: 1E00537500141 | AB25: OK | AC25: paq.bordeaux | AD25: 2020352439E | AE25: 19BD306259-DFQ | AF25: LRE_AR
A26: =VLOOKUP(Z26,'Factures '!A25:N418,8,FALSE) -> #N/A | B26: =LEFT(Q26,4) -> 2022 | C26: =MID(Q26,6,2) -> 02 | D26: =MID(Q26,9,2) -> 04 | E26: =LEFT(W26,2) | F26: =RIGHT(Z26,3) -> DFQ | G26: =IFERROR(VLOOKUP(F26,TRI,2,FALSE),0) -> 0 | H26: =VLOOKUP(G26,#REF!,2,TRUE) -> #REF! | I26: =VLOOKUP(dossiers!#REF!,TRI,3) -> #REF! | J26: =N26&S26&AB26 -> 1906259WAIT | K26: =N26&S26&AB26&AA26 -> 1906259WAIT1E00537500141 | L26: =LEFT(AE26,2) -> 19 | M26: =MID(AE26,6,5) -> 06259 | N26: =L26&M26 -> 1906259 | O26: =IF(COUNTIF($J$2:$J$139,J26)>1,"DOUBLON","") -> DOUBLON | P26: =Q26&K26 -> 2022-02-04T14:15:531906259WAIT1E00537500141 | Q26: 2022-02-04T14:15:53 | X26: France | Y26: FR | Z26: 19BD306259-DFQ | AA26: 1E00537500141 | AB26: WAIT | AC26: paq.bordeaux | AD26: 2020352439E | AE26: 19BD306259-DFQ | AF26: LRE_AR
A27: =VLOOKUP(Z27,'Factures '!A26:N419,8,FALSE) -> #N/A | B27: =LEFT(Q27,4) -> 2022 | C27: =MID(Q27,6,2) -> 02 | D27: =MID(Q27,9,2) -> 10 | E27: =LEFT(W27,2) | F27: =RIGHT(Z27,3) -> DFQ | G27: =IFERROR(VLOOKUP(F27,TRI,2,FALSE),0) -> 0 | H27: =VLOOKUP(G27,#REF!,2,TRUE) -> #REF! | I27: =VLOOKUP(dossiers!#REF!,TRI,3) -> #REF! | J27: =N27&S27&AB27 -> 1906259OK | K27: =N27&S27&AB27&AA27 -> 1906259OK1E00538237602 | L27: =LEFT(AE27,2) -> 19 | M27: =MID(AE27,6,5) -> 06259 | N27: =L27&M27 -> 1906259 | O27: =IF(COUNTIF($J$2:$J$139,J27)>1,"DOUBLON","") -> DOUBLON | P27: =Q27&K27 -> 2022-02-10T10:20:071906259OK1E00538237602 | Q27: 2022-02-10T10:20:07 | X27: France | Y27: FR | Z27: 19BD306259-DFQ | AA27: 1E00538237602 | AB27: OK | AC27: paq.bordeaux | AD27: 2020410921D | AE27: 19BD306259-DFQ | AF27: LRE_AR
A28: =VLOOKUP(Z28,'Factures '!A27:N420,8,FALSE) -> #N/A | B28: =LEFT(Q28,4) -> 2022 | C28: =MID(Q28,6,2) -> 03 | D28: =MID(Q28,9,2) -> 08 | E28: =LEFT(W28,2) | F28: =RIGHT(Z28,3) -> ABK | G28: =IFERROR(VLOOKUP(F28,TRI,2,FALSE),0) -> 0 | H28: =VLOOKUP(G28,#REF!,2,TRUE) -> #REF! | I28: =VLOOKUP(dossiers!G612,TRI,3) -> #N/A | J28: =N28&S28&AB28 -> 1908852OK | K28: =N28&S28&AB28&AA28 -> 1908852OK1E00542096370 | L28: =LEFT(AE28,2) -> 19 | M28: =MID(AE28,6,5) -> 08852 | N28: =L28&M28 -> 1908852 | O28: =IF(COUNTIF($J$2:$J$139,J28)>1,"DOUBLON","") -> DOUBLON | P28: =Q28&K28 -> 2022-03-08T17:48:371908852OK1E00542096370 | Q28: 2022-03-08T17:48:37 | X28: France | Y28: FR | Z28: 19BD308852-ABK | AA28: 1E00542096370 | AB28: OK | AC28: paq.bordeaux | AD28: 20206741589 | AE28: 19BD308852-ABK | AF28: LRE_AR
A29: =VLOOKUP(Z29,'Factures '!A28:N421,8,FALSE) -> #N/A | B29: =LEFT(Q29,4) -> 2022 | C29: =MID(Q29,6,2) -> 03 | D29: =MID(Q29,9,2) -> 08 | E29: =LEFT(W29,2) | F29: =RIGHT(Z29,3) -> ABK | G29: =IFERROR(VLOOKUP(F29,TRI,2,FALSE),0) -> 0 | H29: =VLOOKUP(G29,#REF!,2,TRUE) -> #REF! | I29: =VLOOKUP(dossiers!#REF!,TRI,3) -> #REF! | J29: =N29&S29&AB29 -> 1908852WAIT | K29: =N29&S29&AB29&AA29 -> 1908852WAIT1E00542096370 | L29: =LEFT(AE29,2) -> 19 | M29: =MID(AE29,6,5) -> 08852 | N29: =L29&M29 -> 1908852 | O29: =IF(COUNTIF($J$2:$J$139,J29)>1,"DOUBLON","") -> DOUBLON | P29: =Q29&K29 -> 2022-03-08T17:48:371908852WAIT1E00542096370 | Q29: 2022-03-08T17:48:37 | X29: France | Y29: FR | Z29: 19BD308852-ABK | AA29: 1E00542096370 | AB29: WAIT | AC29: paq.bordeaux | AD29: 20206741589 | AE29: 19BD308852-ABK | AF29: LRE_AR
A30: =VLOOKUP(Z30,'Factures '!A29:N422,8,FALSE) -> #N/A | B30: =LEFT(Q30,4) -> 2022 | C30: =MID(Q30,6,2) -> 03 | D30: =MID(Q30,9,2) -> 08 | E30: =LEFT(W30,2) | F30: =RIGHT(Z30,3) -> ABK | G30: =IFERROR(VLOOKUP(F30,TRI,2,FALSE),0) -> 0 | H30: =VLOOKUP(G30,#REF!,2,TRUE) -> #REF! | I30: =VLOOKUP(dossiers!G611,TRI,3) -> #N/A | J30: =N30&S30&AB30 -> 1908852OK | K30: =N30&S30&AB30&AA30 -> 1908852OK1E00542096363 | L30: =LEFT(AE30,2) -> 19 | M30: =MID(AE30,6,5) -> 08852 | N30: =L30&M30 -> 1908852 | O30: =IF(COUNTIF($J$2:$J$139,J30)>1,"DOUBLON","") -> DOUBLON | P30: =Q30&K30 -> 2022-03-08T17:48:371908852OK1E00542096363 | Q30: 2022-03-08T17:48:37 | X30: France | Y30: FR | Z30: 19BD308852-ABK | AA30: 1E00542096363 | AB30: OK | AC30: paq.bordeaux | AD30: 20206741588 | AE30: 19BD308852-ABK | AF30: LRE_AR
A31: =VLOOKUP(Z31,'Factures '!A30:N423,8,FALSE) -> #N/A | B31: =LEFT(Q31,4) -> 2022 | C31: =MID(Q31,6,2) -> 03 | D31: =MID(Q31,9,2) -> 08 | E31: =LEFT(W31,2) | F31: =RIGHT(Z31,3) -> ABK | G31: =IFERROR(VLOOKUP(F31,TRI,2,FALSE),0) -> 0 | H31: =VLOOKUP(G31,#REF!,2,TRUE) -> #REF! | I31: =VLOOKUP(dossiers!#REF!,TRI,3) -> #REF! | J31: =N31&S31&AB31 -> 1908852WAIT | K31: =N31&S31&AB31&AA31 -> 1908852WAIT1E00542096363 | L31: =LEFT(AE31,2) -> 19 | M31: =MID(AE31,6,5) -> 08852 | N31: =L31&M31 -> 1908852 | O31: =IF(COUNTIF($J$2:$J$139,J31)>1,"DOUBLON","") -> DOUBLON | P31: =Q31&K31 -> 2022-03-08T17:48:371908852WAIT1E00542096363 | Q31: 2022-03-08T17:48:37 | X31: France | Y31: FR | Z31: 19BD308852-ABK | AA31: 1E00542096363 | AB31: WAIT | AC31: paq.bordeaux | AD31: 20206741588 | AE31: 19BD308852-ABK | AF31: LRE_AR
A32: =VLOOKUP(Z32,'Factures '!A31:N424,8,FALSE) -> #N/A | B32: =LEFT(Q32,4) -> 2021 | C32: =MID(Q32,6,2) -> 12 | D32: =MID(Q32,9,2) -> 30 | E32: =LEFT(W32,2) | F32: =RIGHT(Z32,3) -> GDL | G32: =IFERROR(VLOOKUP(F32,TRI,2,FALSE),0) -> 0 | H32: =VLOOKUP(G32,#REF!,2,TRUE) -> #REF! | I32: =VLOOKUP(dossiers!G519,TRI,3) -> #N/A | J32: =N32&S32&AB32 -> 1913805OK | K32: =N32&S32&AB32&AA32 -> 1913805OK1E00532589929 | L32: =LEFT(AE32,2) -> 19 | M32: =MID(AE32,6,5) -> 13805 | N32: =L32&M32 -> 1913805 | O32: =IF(COUNTIF($J$2:$J$139,J32)>1,"DOUBLON","") -> DOUBLON | P32: =Q32&K32 -> 2021-12-30T12:18:451913805OK1E00532589929 | Q32: 2021-12-30T12:18:45 | X32: France | Y32: FR | Z32: 19BD113805-GDL | AA32: 1E00532589929 | AB32: OK | AC32: paq.bordeaux | AD32: 2013641220O | AE32: 19BD113805-GDL | AF32: LRE_AR
A33: =VLOOKUP(Z33,'Factures '!A32:N425,8,FALSE) -> #N/A | B33: =LEFT(Q33,4) -> 2021 | C33: =MID(Q33,6,2) -> 12 | D33: =MID(Q33,9,2) -> 30 | E33: =LEFT(W33,2) | F33: =RIGHT(Z33,3) -> GDL | G33: =IFERROR(VLOOKUP(F33,TRI,2,FALSE),0) -> 0 | H33: =VLOOKUP(G33,#REF!,2,TRUE) -> #REF! | I33: =VLOOKUP(dossiers!G518,TRI,3) -> #N/A | J33: =N33&S33&AB33 -> 1913805OK | K33: =N33&S33&AB33&AA33 -> 1913805OK1E00532589912 | L33: =LEFT(AE33,2) -> 19 | M33: =MID(AE33,6,5) -> 13805 | N33: =L33&M33 -> 1913805 | O33: =IF(COUNTIF($J$2:$J$139,J33)>1,"DOUBLON","") -> DOUBLON | P33: =Q33&K33 -> 2021-12-30T12:18:451913805OK1E00532589912 | Q33: 2021-12-30T12:18:45 | X33: France | Y33: FR | Z33: 19BD113805-GDL | AA33: 1E00532589912 | AB33: OK | AC33: paq.bordeaux | AD33: 2013641220N | AE33: 19BD113805-GDL | AF33: LRE_AR
A34: =VLOOKUP(Z34,'Factures '!A33:N426,8,FALSE) -> #N/A | B34: =LEFT(Q34,4) -> 2021 | C34: =MID(Q34,6,2) -> 12 | D34: =MID(Q34,9,2) -> 30 | E34: =LEFT(W34,2) | F34: =RIGHT(Z34,3) -> GDL | G34: =IFERROR(VLOOKUP(F34,TRI,2,FALSE),0) -> 0 | H34: =VLOOKUP(G34,#REF!,2,TRUE) -> #REF! | I34: =VLOOKUP(dossiers!G515,TRI,3) -> #N/A | J34: =N34&S34&AB34 -> 1913805OK | K34: =N34&S34&AB34&AA34 -> 1913805OK1E00532592080 | L34: =LEFT(AE34,2) -> 19 | M34: =MID(AE34,6,5) -> 13805 | N34: =L34&M34 -> 1913805 | O34: =IF(COUNTIF($J$2:$J$139,J34)>1,"DOUBLON","") -> DOUBLON | P34: =Q34&K34 -> 2021-12-30T12:25:511913805OK1E00532592080 | Q34: 2021-12-30T12:25:51 | X34: France | Y34: FR | Z34: 19BD113805-GDL | AA34: 1E00532592080 | AB34: OK | AC34: paq.bordeaux | AD34: 2013641303B | AE34: 19BD113805-GDL | AF34: LRE_AR
A35: =VLOOKUP(Z35,'Factures '!A34:N427,8,FALSE) -> #N/A | B35: =LEFT(Q35,4) -> 2022 | C35: =MID(Q35,6,2) -> 02 | D35: =MID(Q35,9,2) -> 11 | E35: =LEFT(W35,2) | F35: =RIGHT(Z35,3) -> GDL | G35: =IFERROR(VLOOKUP(F35,TRI,2,FALSE),0) -> 0 | H35: =VLOOKUP(G35,#REF!,2,TRUE) -> #REF! | I35: =VLOOKUP(dossiers!#REF!,TRI,3) -> #REF! | J35: =N35&S35&AB35 -> 1988504OK | K35: =N35&S35&AB35&AA35 -> 1988504OK1E00538430584 | L35: =LEFT(AE35,2) -> 19 | M35: =MID(AE35,6,5) -> 88504 | N35: =L35&M35 -> 1988504 | O35: =IF(COUNTIF($J$2:$J$139,J35)>1,"DOUBLON","") -> DOUBLON | P35: =Q35&K35 -> 2022-02-11T09:22:121988504OK1E00538430584 | Q35: 2022-02-11T09:22:12 | X35: France | Y35: FR | Z35: 19BD188504-GDL | AA35: 1E00538430584 | AB35: OK | AC35: paq.bordeaux | AD35: 2020420505C | AE35: 19BD188504-GDL | AF35: LRE_AR
A36: =VLOOKUP(Z36,'Factures '!A35:N428,8,FALSE) -> #N/A | B36: =LEFT(Q36,4) -> 2022 | C36: =MID(Q36,6,2) -> 02 | D36: =MID(Q36,9,2) -> 11 | E36: =LEFT(W36,2) | F36: =RIGHT(Z36,3) -> GDL | G36: =IFERROR(VLOOKUP(F36,TRI,2,FALSE),0) -> 0 | H36: =VLOOKUP(G36,#REF!,2,TRUE) -> #REF! | I36: =VLOOKUP(dossiers!#REF!,TRI,3) -> #REF! | J36: =N36&S36&AB36 -> 1988504OK | K36: =N36&S36&AB36&AA36 -> 1988504OK1E00538430607 | L36: =LEFT(AE36,2) -> 19 | M36: =MID(AE36,6,5) -> 88504 | N36: =L36&M36 -> 1988504 | O36: =IF(COUNTIF($J$2:$J$139,J36)>1,"DOUBLON","") -> DOUBLON | P36: =Q36&K36 -> 2022-02-11T09:22:121988504OK1E00538430607 | Q36: 2022-02-11T09:22:12 | X36: France | Y36: FR | Z36: 19BD188504-GDL | AA36: 1E00538430607 | AB36: OK | AC36: paq.bordeaux | AD36: 2020420505F | AE36: 19BD188504-GDL | AF36: LRE_AR
A37: =VLOOKUP(Z37,'Factures '!A36:N429,8,FALSE) -> #N/A | B37: =LEFT(Q37,4) -> 2022 | C37: =MID(Q37,6,2) -> 01 | D37: =MID(Q37,9,2) -> 29 | E37: =LEFT(W37,2) | F37: =RIGHT(Z37,3) -> GLM | G37: =IFERROR(VLOOKUP(F37,TRI,2,FALSE),0) -> 0 | H37: =VLOOKUP(G37,#REF!,2,TRUE) -> #REF! | I37: =VLOOKUP(dossiers!#REF!,TRI,3) -> #REF! | J37: =N37&S37&AB37 -> 2001294ACCEPT | K37: =N37&S37&AB37&AA37 -> 2001294ACCEPT1E00536643528 | L37: =LEFT(AE37,2) -> 20 | M37: =MID(AE37,6,5) -> 01294 | N37: =L37&M37 -> 2001294 | O37: =IF(COUNTIF($J$2:$J$139,J37)>1,"DOUBLON","") -> DOUBLON | P37: =Q37&K37 -> 2022-01-29T15:17:182001294ACCEPT1E00536643528 | Q37: 2022-01-29T15:17:18 | X37: France | Y37: FR | Z37: 20TL101294-GLM | AA37: 1E00536643528 | AB37: ACCEPT | AC37: paq.toulouse | AD37: 2020290470J | AE37: 20TL101294-GLM | AF37: LRE_AR
A38: =VLOOKUP(Z38,'Factures '!A37:N430,8,FALSE) -> #N/A | B38: =LEFT(Q38,4) -> 2022 | C38: =MID(Q38,6,2) -> 01 | D38: =MID(Q38,9,2) -> 29 | E38: =LEFT(W38,2) | F38: =RIGHT(Z38,3) -> GLM | G38: =IFERROR(VLOOKUP(F38,TRI,2,FALSE),0) -> 0 | H38: =VLOOKUP(G38,#REF!,2,TRUE) -> #REF! | I38: =VLOOKUP(dossiers!#REF!,TRI,3) -> #REF! | J38: =N38&S38&AB38 -> 2001294ACCEPT | K38: =N38&S38&AB38&AA38 -> 2001294ACCEPT1E00536643535 | L38: =LEFT(AE38,2) -> 20 | M38: =MID(AE38,6,5) -> 01294 | N38: =L38&M38 -> 2001294 | O38: =IF(COUNTIF($J$2:$J$139,J38)>1,"DOUBLON","") -> DOUBLON | P38: =Q38&K38 -> 2022-01-29T15:17:182001294ACCEPT1E00536643535 | Q38: 2022-01-29T15:17:18 | X38: France | Y38: FR | Z38: 20TL101294-GLM | AA38: 1E00536643535 | AB38: ACCEPT | AC38: paq.toulouse | AD38: 2020290470K | AE38: 20TL101294-GLM | AF38: LRE_AR
A39: =VLOOKUP(Z39,'Factures '!A38:N431,8,FALSE) -> #N/A | B39: =LEFT(Q39,4) -> 2022 | C39: =MID(Q39,6,2) -> 01 | D39: =MID(Q39,9,2) -> 06 | E39: =LEFT(W39,2) | F39: =RIGHT(Z39,3) -> UEL | G39: =IFERROR(VLOOKUP(F39,TRI,2,FALSE),0) -> 0 | H39: =VLOOKUP(G39,#REF!,2,TRUE) -> #REF! | I39: =VLOOKUP(dossiers!#REF!,TRI,3) -> #REF! | J39: =N39&S39&AB39 -> 2003826OK | K39: =N39&S39&AB39&AA39 -> 2003826OK1E00533393495 | L39: =LEFT(AE39,2) -> 20 | M39: =MID(AE39,6,5) -> 03826 | N39: =L39&M39 -> 2003826 | O39: =IF(COUNTIF($J$2:$J$139,J39)>1,"DOUBLON","") -> DOUBLON | P39: =Q39&K39 -> 2022-01-06T10:56:552003826OK1E00533393495 | Q39: 2022-01-06T10:56:55 | X39: France | Y39: FR | Z39: 20BI303826-UEL | AA39: 1E00533393495 | AB39: OK | AC39: paq.biarritz | AD39: 2020060916P | AE39: 20BI303826-UEL | AF39: LRE_AR
A40: =VLOOKUP(Z40,'Factures '!A39:N432,8,FALSE) -> #N/A | B40: =LEFT(Q40,4) -> 2022 | C40: =MID(Q40,6,2) -> 01 | D40: =MID(Q40,9,2) -> 06 | E40: =LEFT(W40,2) | F40: =RIGHT(Z40,3) -> UEL | G40: =IFERROR(VLOOKUP(F40,TRI,2,FALSE),0) -> 0 | H40: =VLOOKUP(G40,#REF!,2,TRUE) -> #REF! | I40: =VLOOKUP(dossiers!#REF!,TRI,3) -> #REF! | J40: =N40&S40&AB40 -> 2003826OK | K40: =N40&S40&AB40&AA40 -> 2003826OK1E00533393297 | L40: =LEFT(AE40,2) -> 20 | M40: =MID(AE40,6,5) -> 03826 | N40: =L40&M40 -> 2003826 | O40: =IF(COUNTIF($J$2:$J$139,J40)>1,"DOUBLON","") -> DOUBLON | P40: =Q40&K40 -> 2022-01-06T10:56:582003826OK1E00533393297 | Q40: 2022-01-06T10:56:58 | X40: France | Y40: FR | Z40: 20BI303826-UEL | AA40: 1E00533393297 | AB40: OK | AC40: paq.biarritz | AD40: 2020060910W | AE40: 20BI303826-UEL | AF40: LRE_AR
A41: =VLOOKUP(Z41,'Factures '!A40:N433,8,FALSE) -> #N/A | B41: =LEFT(Q41,4) -> 2022 | C41: =MID(Q41,6,2) -> 02 | D41: =MID(Q41,9,2) -> 22 | E41: =LEFT(W41,2) | F41: =RIGHT(Z41,3) -> GJI | G41: =IFERROR(VLOOKUP(F41,TRI,2,FALSE),0) -> 0 | H41: =VLOOKUP(G41,#REF!,2,TRUE) -> #REF! | I41: =VLOOKUP(dossiers!#REF!,TRI,3) -> #REF! | J41: =N41&S41&AB41 -> 2004587ACCEPT | K41: =N41&S41&AB41&AA41 -> 2004587ACCEPT1E00540051708 | L41: =LEFT(AE41,2) -> 20 | M41: =MID(AE41,6,5) -> 04587 | N41: =L41&M41 -> 2004587 | O41: =IF(COUNTIF($J$2:$J$139,J41)>1,"DOUBLON","") -> DOUBLON | P41: =Q41&K41 -> 2022-02-22T18:33:112004587ACCEPT1E00540051708 | Q41: 2022-02-22T18:33:11 | X41: France | Y41: FR | Z41: 20TL004587-GJI | AA41: 1E00540051708 | AB41: ACCEPT | AC41: paq.toulouse | AD41: 20205340634 | AE41: 20TL004587-GJI | AF41: LRE_AR
A42: =VLOOKUP(Z42,'Factures '!A41:N434,8,FALSE) -> #N/A | B42: =LEFT(Q42,4) -> 2022 | C42: =MID(Q42,6,2) -> 02 | D42: =MID(Q42,9,2) -> 22 | E42: =LEFT(W42,2) | F42: =RIGHT(Z42,3) -> GJI | G42: =IFERROR(VLOOKUP(F42,TRI,2,FALSE),0) -> 0 | H42: =VLOOKUP(G42,#REF!,2,TRUE) -> #REF! | I42: =VLOOKUP(dossiers!#REF!,TRI,3) -> #REF! | J42: =N42&S42&AB42 -> 2004587OK | K42: =N42&S42&AB42&AA42 -> 2004587OK1E00540051708 | L42: =LEFT(AE42,2) -> 20 | M42: =MID(AE42,6,5) -> 04587 | N42: =L42&M42 -> 2004587 | O42: =IF(COUNTIF($J$2:$J$139,J42)>1,"DOUBLON","") -> DOUBLON | P42: =Q42&K42 -> 2022-02-22T18:33:112004587OK1E00540051708 | Q42: 2022-02-22T18:33:11 | X42: France | Y42: FR | Z42: 20TL004587-GJI | AA42: 1E00540051708 | AB42: OK | AC42: paq.toulouse | AD42: 20205340634 | AE42: 20TL004587-GJI | AF42: LRE_AR
A43: =VLOOKUP(Z43,'Factures '!A42:N435,8,FALSE) -> #N/A | B43: =LEFT(Q43,4) -> 2022 | C43: =MID(Q43,6,2) -> 02 | D43: =MID(Q43,9,2) -> 22 | E43: =LEFT(W43,2) | F43: =RIGHT(Z43,3) -> GJI | G43: =IFERROR(VLOOKUP(F43,TRI,2,FALSE),0) -> 0 | H43: =VLOOKUP(G43,#REF!,2,TRUE) -> #REF! | I43: =VLOOKUP(dossiers!#REF!,TRI,3) -> #REF! | J43: =N43&S43&AB43 -> 2004587ACCEPT | K43: =N43&S43&AB43&AA43 -> 2004587ACCEPT1E00540051685 | L43: =LEFT(AE43,2) -> 20 | M43: =MID(AE43,6,5) -> 04587 | N43: =L43&M43 -> 2004587 | O43: =IF(COUNTIF($J$2:$J$139,J43)>1,"DOUBLON","") -> DOUBLON | P43: =Q43&K43 -> 2022-02-22T18:33:112004587ACCEPT1E00540051685 | Q43: 2022-02-22T18:33:11 | X43: France | Y43: FR | Z43: 20TL004587-GJI | AA43: 1E00540051685 | AB43: ACCEPT | AC43: paq.toulouse | AD43: 20205340632 | AE43: 20TL004587-GJI | AF43: LRE_AR
A44: =VLOOKUP(Z44,'Factures '!A43:N436,8,FALSE) -> #N/A | B44: =LEFT(Q44,4) -> 2022 | C44: =MID(Q44,6,2) -> 02 | D44: =MID(Q44,9,2) -> 22 | E44: =LEFT(W44,2) | F44: =RIGHT(Z44,3) -> GJI | G44: =IFERROR(VLOOKUP(F44,TRI,2,FALSE),0) -> 0 | H44: =VLOOKUP(G44,#REF!,2,TRUE) -> #REF! | I44: =VLOOKUP(dossiers!#REF!,TRI,3) -> #REF! | J44: =N44&S44&AB44 -> 2004587OK | K44: =N44&S44&AB44&AA44 -> 2004587OK1E00540051685 | L44: =LEFT(AE44,2) -> 20 | M44: =MID(AE44,6,5) -> 04587 | N44: =L44&M44 -> 2004587 | O44: =IF(COUNTIF($J$2:$J$139,J44)>1,"DOUBLON","") -> DOUBLON | P44: =Q44&K44 -> 2022-02-22T18:33:112004587OK1E00540051685 | Q44: 2022-02-22T18:33:11 | X44: France | Y44: FR | Z44: 20TL004587-GJI | AA44: 1E00540051685 | AB44: OK | AC44: paq.toulouse | AD44: 20205340632 | AE44: 20TL004587-GJI | AF44: LRE_AR
A45: =VLOOKUP(Z45,'Factures '!A44:N437,8,FALSE) -> #N/A | B45: =LEFT(Q45,4) -> 2022 | C45: =MID(Q45,6,2) -> 02 | D45: =MID(Q45,9,2) -> 22 | E45: =LEFT(W45,2) | F45: =RIGHT(Z45,3) -> GJI | G45: =IFERROR(VLOOKUP(F45,TRI,2,FALSE),0) -> 0 | H45: =VLOOKUP(G45,#REF!,2,TRUE) -> #REF! | I45: =VLOOKUP(dossiers!#REF!,TRI,3) -> #REF! | J45: =N45&S45&AB45 -> 2004587ACCEPT | K45: =N45&S45&AB45&AA45 -> 2004587ACCEPT1E00540051692 | L45: =LEFT(AE45,2) -> 20 | M45: =MID(AE45,6,5) -> 04587 | N45: =L45&M45 -> 2004587 | O45: =IF(COUNTIF($J$2:$J$139,J45)>1,"DOUBLON","") -> DOUBLON | P45: =Q45&K45 -> 2022-02-22T18:33:112004587ACCEPT1E00540051692 | Q45: 2022-02-22T18:33:11 | X45: France | Y45: FR | Z45: 20TL004587-GJI | AA45: 1E00540051692 | AB45: ACCEPT | AC45: paq.toulouse | AD45: 20205340633 | AE45: 20TL004587-GJI | AF45: LRE_AR
A46: =VLOOKUP(Z46,'Factures '!A45:N438,8,FALSE) -> #N/A | B46: =LEFT(Q46,4) -> 2022 | C46: =MID(Q46,6,2) -> 02 | D46: =MID(Q46,9,2) -> 22 | E46: =LEFT(W46,2) | F46: =RIGHT(Z46,3) -> GJI | G46: =IFERROR(VLOOKUP(F46,TRI,2,FALSE),0) -> 0 | H46: =VLOOKUP(G46,#REF!,2,TRUE) -> #REF! | I46: =VLOOKUP(dossiers!#REF!,TRI,3) -> #REF! | J46: =N46&S46&AB46 -> 2004587OK | K46: =N46&S46&AB46&AA46 -> 2004587OK1E00540051692 | L46: =LEFT(AE46,2) -> 20 | M46: =MID(AE46,6,5) -> 04587 | N46: =L46&M46 -> 2004587 | O46: =IF(COUNTIF($J$2:$J$139,J46)>1,"DOUBLON","") -> DOUBLON | P46: =Q46&K46 -> 2022-02-22T18:33:112004587OK1E00540051692 | Q46: 2022-02-22T18:33:11 | X46: France | Y46: FR | Z46: 20TL004587-GJI | AA46: 1E00540051692 | AB46: OK | AC46: paq.toulouse | AD46: 20205340633 | AE46: 20TL004587-GJI | AF46: LRE_AR
A47: =VLOOKUP(Z47,'Factures '!A46:N439,8,FALSE) -> #N/A | B47: =LEFT(Q47,4) -> 2022 | C47: =MID(Q47,6,2) -> 01 | D47: =MID(Q47,9,2) -> 13 | E47: =LEFT(W47,2) | F47: =RIGHT(Z47,3) -> JRT | G47: =IFERROR(VLOOKUP(F47,TRI,2,FALSE),0) -> 0 | H47: =VLOOKUP(G47,#REF!,2,TRUE) -> #REF! | I47: =VLOOKUP(dossiers!#REF!,TRI,3) -> #REF! | J47: =N47&S47&AB47 -> 2006195ACCEPT | K47: =N47&S47&AB47&AA47 -> 2006195ACCEPT1E00534417404 | L47: =LEFT(AE47,2) -> 20 | M47: =MID(AE47,6,5) -> 06195 | N47: =L47&M47 -> 2006195 | O47: =IF(COUNTIF($J$2:$J$139,J47)>1,"DOUBLON","") -> DOUBLON | P47: =Q47&K47 -> 2022-01-13T17:53:492006195ACCEPT1E00534417404 | Q47: 2022-01-13T17:53:49 | X47: France | Y47: FR | Z47: 20BD006195-JRT | AA47: 1E00534417404 | AB47: ACCEPT | AC47: paq.bordeaux | AD47: 20201328286 | AE47: 20BD006195-JRT | AF47: LRE_AR
A48: =VLOOKUP(Z48,'Factures '!A47:N440,8,FALSE) -> #N/A | B48: =LEFT(Q48,4) -> 2022 | C48: =MID(Q48,6,2) -> 01 | D48: =MID(Q48,9,2) -> 13 | E48: =LEFT(W48,2) | F48: =RIGHT(Z48,3) -> JRT | G48: =IFERROR(VLOOKUP(F48,TRI,2,FALSE),0) -> 0 | H48: =VLOOKUP(G48,#REF!,2,TRUE) -> #REF! | I48: =VLOOKUP(dossiers!#REF!,TRI,3) -> #REF! | J48: =N48&S48&AB48 -> 2006195OK | K48: =N48&S48&AB48&AA48 -> 2006195OK1E00534417404 | L48: =LEFT(AE48,2) -> 20 | M48: =MID(AE48,6,5) -> 06195 | N48: =L48&M48 -> 2006195 | O48: =IF(COUNTIF($J$2:$J$139,J48)>1,"DOUBLON","") -> DOUBLON | P48: =Q48&K48 -> 2022-01-13T17:53:492006195OK1E00534417404 | Q48: 2022-01-13T17:53:49 | X48: France | Y48: FR | Z48: 20BD006195-JRT | AA48: 1E00534417404 | AB48: OK | AC48: paq.bordeaux | AD48: 20201328286 | AE48: 20BD006195-JRT | AF48: LRE_AR
A49: =VLOOKUP(Z49,'Factures '!A48:N441,8,FALSE) -> #N/A | B49: =LEFT(Q49,4) -> 2022 | C49: =MID(Q49,6,2) -> 01 | D49: =MID(Q49,9,2) -> 13 | E49: =LEFT(W49,2) | F49: =RIGHT(Z49,3) -> JRT | G49: =IFERROR(VLOOKUP(F49,TRI,2,FALSE),0) -> 0 | H49: =VLOOKUP(G49,#REF!,2,TRUE) -> #REF! | I49: =VLOOKUP(dossiers!#REF!,TRI,3) -> #REF! | J49: =N49&S49&AB49 -> 2006195ACCEPT | K49: =N49&S49&AB49&AA49 -> 2006195ACCEPT1E00534417398 | L49: =LEFT(AE49,2) -> 20 | M49: =MID(AE49,6,5) -> 06195 | N49: =L49&M49 -> 2006195 | O49: =IF(COUNTIF($J$2:$J$139,J49)>1,"DOUBLON","") -> DOUBLON | P49: =Q49&K49 -> 2022-01-13T17:53:492006195ACCEPT1E00534417398 | Q49: 2022-01-13T17:53:49 | X49: France | Y49: FR | Z49: 20BD006195-JRT | AA49: 1E00534417398 | AB49: ACCEPT | AC49: paq.bordeaux | AD49: 20201328283 | AE49: 20BD006195-JRT | AF49: LRE_AR
A50: =VLOOKUP(Z50,'Factures '!A49:N442,8,FALSE) -> #N/A | B50: =LEFT(Q50,4) -> 2022 | C50: =MID(Q50,6,2) -> 01 | D50: =MID(Q50,9,2) -> 13 | E50: =LEFT(W50,2) | F50: =RIGHT(Z50,3) -> JRT | G50: =IFERROR(VLOOKUP(F50,TRI,2,FALSE),0) -> 0 | H50: =VLOOKUP(G50,#REF!,2,TRUE) -> #REF! | I50: =VLOOKUP(dossiers!#REF!,TRI,3) -> #REF! | J50: =N50&S50&AB50 -> 2006195OK | K50: =N50&S50&AB50&AA50 -> 2006195OK1E00534417398 | L50: =LEFT(AE50,2) -> 20 | M50: =MID(AE50,6,5) -> 06195 | N50: =L50&M50 -> 2006195 | O50: =IF(COUNTIF($J$2:$J$139,J50)>1,"DOUBLON","") -> DOUBLON | P50: =Q50&K50 -> 2022-01-13T17:53:492006195OK1E00534417398 | Q50: 2022-01-13T17:53:49 | X50: France | Y50: FR | Z50: 20BD006195-JRT | AA50: 1E00534417398 | AB50: OK | AC50: paq.bordeaux | AD50: 20201328283 | AE50: 20BD006195-JRT | AF50: LRE_AR
A51: =VLOOKUP(Z51,'Factures '!A50:N443,8,FALSE) -> #N/A | B51: =LEFT(Q51,4) -> 2022 | C51: =MID(Q51,6,2) -> 01 | D51: =MID(Q51,9,2) -> 13 | E51: =LEFT(W51,2) | F51: =RIGHT(Z51,3) -> JRT | G51: =IFERROR(VLOOKUP(F51,TRI,2,FALSE),0) -> 0 | H51: =VLOOKUP(G51,#REF!,2,TRUE) -> #REF! | I51: =VLOOKUP(dossiers!#REF!,TRI,3) -> #REF! | J51: =N51&S51&AB51 -> 2006195ACCEPT | K51: =N51&S51&AB51&AA51 -> 2006195ACCEPT1E00534417381 | L51: =LEFT(AE51,2) -> 20 | M51: =MID(AE51,6,5) -> 06195 | N51: =L51&M51 -> 2006195 | O51: =IF(COUNTIF($J$2:$J$139,J51)>1,"DOUBLON","") -> DOUBLON | P51: =Q51&K51 -> 2022-01-13T17:53:492006195ACCEPT1E00534417381 | Q51: 2022-01-13T17:53:49 | X51: France | Y51: FR | Z51: 20BD006195-JRT | AA51: 1E00534417381 | AB51: ACCEPT | AC51: paq.bordeaux | AD51: 2020132827Y | AE51: 20BD006195-JRT | AF51: LRE_AR
A52: =VLOOKUP(Z52,'Factures '!A51:N444,8,FALSE) -> #N/A | B52: =LEFT(Q52,4) -> 2022 | C52: =MID(Q52,6,2) -> 01 | D52: =MID(Q52,9,2) -> 13 | E52: =LEFT(W52,2) | F52: =RIGHT(Z52,3) -> JRT | G52: =IFERROR(VLOOKUP(F52,TRI,2,FALSE),0) -> 0 | H52: =VLOOKUP(G52,#REF!,2,TRUE) -> #REF! | I52: =VLOOKUP(dossiers!#REF!,TRI,3) -> #REF! | J52: =N52&S52&AB52 -> 2006195OK | K52: =N52&S52&AB52&AA52 -> 2006195OK1E00534417381 | L52: =LEFT(AE52,2) -> 20 | M52: =MID(AE52,6,5) -> 06195 | N52: =L52&M52 -> 2006195 | O52: =IF(COUNTIF($J$2:$J$139,J52)>1,"DOUBLON","") -> DOUBLON | P52: =Q52&K52 -> 2022-01-13T17:53:492006195OK1E00534417381 | Q52: 2022-01-13T17:53:49 | X52: France | Y52: FR | Z52: 20BD006195-JRT | AA52: 1E00534417381 | AB52: OK | AC52: paq.bordeaux | AD52: 2020132827Y | AE52: 20BD006195-JRT | AF52: LRE_AR
A53: =VLOOKUP(Z53,'Factures '!A52:N445,8,FALSE) -> #N/A | B53: =LEFT(Q53,4) -> 2022 | C53: =MID(Q53,6,2) -> 01 | D53: =MID(Q53,9,2) -> 13 | E53: =LEFT(W53,2) | F53: =RIGHT(Z53,3) -> JRT | G53: =IFERROR(VLOOKUP(F53,TRI,2,FALSE),0) -> 0 | H53: =VLOOKUP(G53,#REF!,2,TRUE) -> #REF! | I53: =VLOOKUP(dossiers!#REF!,TRI,3) -> #REF! | J53: =N53&S53&AB53 -> 2006195ACCEPT | K53: =N53&S53&AB53&AA53 -> 2006195ACCEPT1E00534417459 | L53: =LEFT(AE53,2) -> 20 | M53: =MID(AE53,6,5) -> 06195 | N53: =L53&M53 -> 2006195 | O53: =IF(COUNTIF($J$2:$J$139,J53)>1,"DOUBLON","") -> DOUBLON | P53: =Q53&K53 -> 2022-01-13T17:53:492006195ACCEPT1E00534417459 | Q53: 2022-01-13T17:53:49 | X53: France | Y53: FR | Z53: 20BD006195-JRT | AA53: 1E00534417459 | AB53: ACCEPT | AC53: paq.bordeaux | AD53: 2020132828M | AE53: 20BD006195-JRT | AF53: LRE_AR
A54: =VLOOKUP(Z54,'Factures '!A53:N446,8,FALSE) -> #N/A | B54: =LEFT(Q54,4) -> 2022 | C54: =MID(Q54,6,2) -> 01 | D54: =MID(Q54,9,2) -> 13 | E54: =LEFT(W54,2) | F54: =RIGHT(Z54,3) -> JRT | G54: =IFERROR(VLOOKUP(F54,TRI,2,FALSE),0) -> 0 | H54: =VLOOKUP(G54,#REF!,2,TRUE) -> #REF! | I54: =VLOOKUP(dossiers!#REF!,TRI,3) -> #REF! | J54: =N54&S54&AB54 -> 2006195OK | K54: =N54&S54&AB54&AA54 -> 2006195OK1E00534417459 | L54: =LEFT(AE54,2) -> 20 | M54: =MID(AE54,6,5) -> 06195 | N54: =L54&M54 -> 2006195 | O54: =IF(COUNTIF($J$2:$J$139,J54)>1,"DOUBLON","") -> DOUBLON | P54: =Q54&K54 -> 2022-01-13T17:53:492006195OK1E00534417459 | Q54: 2022-01-13T17:53:49 | X54: France | Y54: FR | Z54: 20BD006195-JRT | AA54: 1E00534417459 | AB54: OK | AC54: paq.bordeaux | AD54: 2020132828M | AE54: 20BD006195-JRT | AF54: LRE_AR
A55: =VLOOKUP(Z55,'Factures '!A54:N447,8,FALSE) -> #N/A | B55: =LEFT(Q55,4) -> 2022 | C55: =MID(Q55,6,2) -> 01 | D55: =MID(Q55,9,2) -> 13 | E55: =LEFT(W55,2) | F55: =RIGHT(Z55,3) -> JRT | G55: =IFERROR(VLOOKUP(F55,TRI,2,FALSE),0) -> 0 | H55: =VLOOKUP(G55,#REF!,2,TRUE) -> #REF! | I55: =VLOOKUP(dossiers!#REF!,TRI,3) -> #REF! | J55: =N55&S55&AB55 -> 2006195ACCEPT | K55: =N55&S55&AB55&AA55 -> 2006195ACCEPT1E00534417428 | L55: =LEFT(AE55,2) -> 20 | M55: =MID(AE55,6,5) -> 06195 | N55: =L55&M55 -> 2006195 | O55: =IF(COUNTIF($J$2:$J$139,J55)>1,"DOUBLON","") -> DOUBLON | P55: =Q55&K55 -> 2022-01-13T17:53:492006195ACCEPT1E00534417428 | Q55: 2022-01-13T17:53:49 | X55: France | Y55: FR | Z55: 20BD006195-JRT | AA55: 1E00534417428 | AB55: ACCEPT | AC55: paq.bordeaux | AD55: 2020132828D | AE55: 20BD006195-JRT | AF55: LRE_AR
A56: =VLOOKUP(Z56,'Factures '!A55:N448,8,FALSE) -> #N/A | B56: =LEFT(Q56,4) -> 2022 | C56: =MID(Q56,6,2) -> 01 | D56: =MID(Q56,9,2) -> 13 | E56: =LEFT(W56,2) | F56: =RIGHT(Z56,3) -> JRT | G56: =IFERROR(VLOOKUP(F56,TRI,2,FALSE),0) -> 0 | H56: =VLOOKUP(G56,#REF!,2,TRUE) -> #REF! | I56: =VLOOKUP(dossiers!#REF!,TRI,3) -> #REF! | J56: =N56&S56&AB56 -> 2006195OK | K56: =N56&S56&AB56&AA56 -> 2006195OK1E00534417428 | L56: =LEFT(AE56,2) -> 20 | M56: =MID(AE56,6,5) -> 06195 | N56: =L56&M56 -> 2006195 | O56: =IF(COUNTIF($J$2:$J$139,J56)>1,"DOUBLON","") -> DOUBLON | P56: =Q56&K56 -> 2022-01-13T17:53:492006195OK1E00534417428 | Q56: 2022-01-13T17:53:49 | X56: France | Y56: FR | Z56: 20BD006195-JRT | AA56: 1E00534417428 | AB56: OK | AC56: paq.bordeaux | AD56: 2020132828D | AE56: 20BD006195-JRT | AF56: LRE_AR
A57: =VLOOKUP(Z57,'Factures '!A56:N449,8,FALSE) -> #N/A | B57: =LEFT(Q57,4) -> 2022 | C57: =MID(Q57,6,2) -> 01 | D57: =MID(Q57,9,2) -> 13 | E57: =LEFT(W57,2) | F57: =RIGHT(Z57,3) -> JRT | G57: =IFERROR(VLOOKUP(F57,TRI,2,FALSE),0) -> 0 | H57: =VLOOKUP(G57,#REF!,2,TRUE) -> #REF! | I57: =VLOOKUP(dossiers!#REF!,TRI,3) -> #REF! | J57: =N57&S57&AB57 -> 2006195ACCEPT | K57: =N57&S57&AB57&AA57 -> 2006195ACCEPT1E00534417442 | L57: =LEFT(AE57,2) -> 20 | M57: =MID(AE57,6,5) -> 06195 | N57: =L57&M57 -> 2006195 | O57: =IF(COUNTIF($J$2:$J$139,J57)>1,"DOUBLON","") -> DOUBLON | P57: =Q57&K57 -> 2022-01-13T17:53:492006195ACCEPT1E00534417442 | Q57: 2022-01-13T17:53:49 | X57: France | Y57: FR | Z57: 20BD006195-JRT | AA57: 1E00534417442 | AB57: ACCEPT | AC57: paq.bordeaux | AD57: 2020132828J | AE57: 20BD006195-JRT | AF57: LRE_AR
A58: =VLOOKUP(Z58,'Factures '!A57:N450,8,FALSE) -> #N/A | B58: =LEFT(Q58,4) -> 2022 | C58: =MID(Q58,6,2) -> 01 | D58: =MID(Q58,9,2) -> 13 | E58: =LEFT(W58,2) | F58: =RIGHT(Z58,3) -> JRT | G58: =IFERROR(VLOOKUP(F58,TRI,2,FALSE),0) -> 0 | H58: =VLOOKUP(G58,#REF!,2,TRUE) -> #REF! | I58: =VLOOKUP(dossiers!#REF!,TRI,3) -> #REF! | J58: =N58&S58&AB58 -> 2006195OK | K58: =N58&S58&AB58&AA58 -> 2006195OK1E00534417442 | L58: =LEFT(AE58,2) -> 20 | M58: =MID(AE58,6,5) -> 06195 | N58: =L58&M58 -> 2006195 | O58: =IF(COUNTIF($J$2:$J$139,J58)>1,"DOUBLON","") -> DOUBLON | P58: =Q58&K58 -> 2022-01-13T17:53:492006195OK1E00534417442 | Q58: 2022-01-13T17:53:49 | X58: France | Y58: FR | Z58: 20BD006195-JRT | AA58: 1E00534417442 | AB58: OK | AC58: paq.bordeaux | AD58: 2020132828J | AE58: 20BD006195-JRT | AF58: LRE_AR
A59: =VLOOKUP(Z59,'Factures '!A58:N451,8,FALSE) -> #N/A | B59: =LEFT(Q59,4) -> 2022 | C59: =MID(Q59,6,2) -> 01 | D59: =MID(Q59,9,2) -> 13 | E59: =LEFT(W59,2) | F59: =RIGHT(Z59,3) -> JRT | G59: =IFERROR(VLOOKUP(F59,TRI,2,FALSE),0) -> 0 | H59: =VLOOKUP(G59,#REF!,2,TRUE) -> #REF! | I59: =VLOOKUP(dossiers!#REF!,TRI,3) -> #REF! | J59: =N59&S59&AB59 -> 2006195ACCEPT | K59: =N59&S59&AB59&AA59 -> 2006195ACCEPT1E00534417411 | L59: =LEFT(AE59,2) -> 20 | M59: =MID(AE59,6,5) -> 06195 | N59: =L59&M59 -> 2006195 | O59: =IF(COUNTIF($J$2:$J$139,J59)>1,"DOUBLON","") -> DOUBLON | P59: =Q59&K59 -> 2022-01-13T17:53:492006195ACCEPT1E00534417411 | Q59: 2022-01-13T17:53:49 | X59: France | Y59: FR | Z59: 20BD006195-JRT | AA59: 1E00534417411 | AB59: ACCEPT | AC59: paq.bordeaux | AD59: 2020132828A | AE59: 20BD006195-JRT | AF59: LRE_AR
A60: =VLOOKUP(Z60,'Factures '!A59:N452,8,FALSE) -> #N/A | B60: =LEFT(Q60,4) -> 2022 | C60: =MID(Q60,6,2) -> 01 | D60: =MID(Q60,9,2) -> 13 | E60: =LEFT(W60,2) | F60: =RIGHT(Z60,3) -> JRT | G60: =IFERROR(VLOOKUP(F60,TRI,2,FALSE),0) -> 0 | H60: =VLOOKUP(G60,#REF!,2,TRUE) -> #REF! | I60: =VLOOKUP(dossiers!#REF!,TRI,3) -> #REF! | J60: =N60&S60&AB60 -> 2006195OK | K60: =N60&S60&AB60&AA60 -> 2006195OK1E00534417411 | L60: =LEFT(AE60,2) -> 20 | M60: =MID(AE60,6,5) -> 06195 | N60: =L60&M60 -> 2006195 | O60: =IF(COUNTIF($J$2:$J$139,J60)>1,"DOUBLON","") -> DOUBLON | P60: =Q60&K60 -> 2022-01-13T17:53:492006195OK1E00534417411 | Q60: 2022-01-13T17:53:49 | X60: France | Y60: FR | Z60: 20BD006195-JRT | AA60: 1E00534417411 | AB60: OK | AC60: paq.bordeaux | AD60: 2020132828A | AE60: 20BD006195-JRT | AF60: LRE_AR
A61: =VLOOKUP(Z61,'Factures '!A60:N453,8,FALSE) -> #N/A | B61: =LEFT(Q61,4) -> 2022 | C61: =MID(Q61,6,2) -> 02 | D61: =MID(Q61,9,2) -> 01 | E61: =LEFT(W61,2) | F61: =RIGHT(Z61,3) -> LBC | G61: =IFERROR(VLOOKUP(F61,TRI,2,FALSE),0) -> 0 | H61: =VLOOKUP(G61,#REF!,2,TRUE) -> #REF! | I61: =VLOOKUP(dossiers!#REF!,TRI,3) -> #REF! | J61: =N61&S61&AB61 -> 2006339OK | K61: =N61&S61&AB61&AA61 -> 2006339OK1E00536967952 | L61: =LEFT(AE61,2) -> 20 | M61: =MID(AE61,6,5) -> 06339 | N61: =L61&M61 -> 2006339 | O61: =IF(COUNTIF($J$2:$J$139,J61)>1,"DOUBLON","") -> DOUBLON | P61: =Q61&K61 -> 2022-02-01T14:29:542006339OK1E00536967952 | Q61: 2022-02-01T14:29:54 | X61: France | Y61: FR | Z61: 20BD206339-LBC | AA61: 1E00536967952 | AB61: OK | AC61: paq.bordeaux | AD61: 2020323240Q | AE61: 20BD206339-LBC | AF61: LRE_AR
A62: =VLOOKUP(Z62,'Factures '!A61:N454,8,FALSE) -> #N/A | B62: =LEFT(Q62,4) -> 2022 | C62: =MID(Q62,6,2) -> 02 | D62: =MID(Q62,9,2) -> 01 | E62: =LEFT(W62,2) | F62: =RIGHT(Z62,3) -> LBC | G62: =IFERROR(VLOOKUP(F62,TRI,2,FALSE),0) -> 0 | H62: =VLOOKUP(G62,#REF!,2,TRUE) -> #REF! | I62: =VLOOKUP(dossiers!#REF!,TRI,3) -> #REF! | J62: =N62&S62&AB62 -> 2006339OK | K62: =N62&S62&AB62&AA62 -> 2006339OK1E00536963893 | L62: =LEFT(AE62,2) -> 20 | M62: =MID(AE62,6,5) -> 06339 | N62: =L62&M62 -> 2006339 | O62: =IF(COUNTIF($J$2:$J$139,J62)>1,"DOUBLON","") -> DOUBLON | P62: =Q62&K62 -> 2022-02-01T14:16:522006339OK1E00536963893 | Q62: 2022-02-01T14:16:52 | X62: France | Y62: FR | Z62: 20BD206339-LBC | AA62: 1E00536963893 | AB62: OK | AC62: paq.bordeaux | AD62: 20203231557 | AE62: 20BD206339-LBC | AF62: LRE_AR
A63: =VLOOKUP(Z63,'Factures '!A62:N455,8,FALSE) -> #N/A | B63: =LEFT(Q63,4) -> 2022 | C63: =MID(Q63,6,2) -> 02 | D63: =MID(Q63,9,2) -> 15 | E63: =LEFT(W63,2) | F63: =RIGHT(Z63,3) -> RBI | G63: =IFERROR(VLOOKUP(F63,TRI,2,FALSE),0) -> 0 | H63: =VLOOKUP(G63,#REF!,2,TRUE) -> #REF! | I63: =VLOOKUP(dossiers!#REF!,TRI,3) -> #REF! | J63: =N63&S63&AB63 -> 2007750OK | K63: =N63&S63&AB63&AA63 -> 2007750OK1E00538934402 | L63: =LEFT(AE63,2) -> 20 | M63: =MID(AE63,6,5) -> 07750 | N63: =L63&M63 -> 2007750 | O63: =IF(COUNTIF($J$2:$J$139,J63)>1,"DOUBLON","") -> DOUBLON | P63: =Q63&K63 -> 2022-02-15T15:20:242007750OK1E00538934402 | Q63: 2022-02-15T15:20:24 | X63: France | Y63: FR | Z63: 20BD207750-RBI | AA63: 1E00538934402 | AB63: OK | AC63: paq.bordeaux | AD63: 2020462891V | AE63: 20BD207750-RBI | AF63: LRE_AR
A64: =VLOOKUP(Z64,'Factures '!A63:N456,8,FALSE) -> #N/A | B64: =LEFT(Q64,4) -> 2022 | C64: =MID(Q64,6,2) -> 02 | D64: =MID(Q64,9,2) -> 15 | E64: =LEFT(W64,2) | F64: =RIGHT(Z64,3) -> RBI | G64: =IFERROR(VLOOKUP(F64,TRI,2,FALSE),0) -> 0 | H64: =VLOOKUP(G64,#REF!,2,TRUE) -> #REF! | I64: =VLOOKUP(dossiers!#REF!,TRI,3) -> #REF! | J64: =N64&S64&AB64 -> 2007750WAIT | K64: =N64&S64&AB64&AA64 -> 2007750WAIT1E00538934402 | L64: =LEFT(AE64,2) -> 20 | M64: =MID(AE64,6,5) -> 07750 | N64: =L64&M64 -> 2007750 | O64: =IF(COUNTIF($J$2:$J$139,J64)>1,"DOUBLON","") -> DOUBLON | P64: =Q64&K64 -> 2022-02-15T15:20:242007750WAIT1E00538934402 | Q64: 2022-02-15T15:20:24 | X64: France | Y64: FR | Z64: 20BD207750-RBI | AA64: 1E00538934402 | AB64: WAIT | AC64: paq.bordeaux | AD64: 2020462891V | AE64: 20BD207750-RBI | AF64: LRE_AR
A65: =VLOOKUP(Z65,'Factures '!A64:N457,8,FALSE) -> #N/A | B65: =LEFT(Q65,4) -> 2022 | C65: =MID(Q65,6,2) -> 02 | D65: =MID(Q65,9,2) -> 15 | E65: =LEFT(W65,2) | F65: =RIGHT(Z65,3) -> RBI | G65: =IFERROR(VLOOKUP(F65,TRI,2,FALSE),0) -> 0 | H65: =VLOOKUP(G65,#REF!,2,TRUE) -> #REF! | I65: =VLOOKUP(dossiers!#REF!,TRI,3) -> #REF! | J65: =N65&S65&AB65 -> 2007750OK | K65: =N65&S65&AB65&AA65 -> 2007750OK1E00538935430 | L65: =LEFT(AE65,2) -> 20 | M65: =MID(AE65,6,5) -> 07750 | N65: =L65&M65 -> 2007750 | O65: =IF(COUNTIF($J$2:$J$139,J65)>1,"DOUBLON","") -> DOUBLON | P65: =Q65&K65 -> 2022-02-15T15:24:282007750OK1E00538935430 | Q65: 2022-02-15T15:24:28 | X65: France | Y65: FR | Z65: 20BD207750-RBI | AA65: 1E00538935430 | AB65: OK | AC65: paq.bordeaux | AD65: 2020462915R | AE65: 20BD207750-RBI | AF65: LRE_AR
A66: =VLOOKUP(Z66,'Factures '!A65:N458,8,FALSE) -> #N/A | B66: =LEFT(Q66,4) -> 2022 | C66: =MID(Q66,6,2) -> 02 | D66: =MID(Q66,9,2) -> 15 | E66: =LEFT(W66,2) | F66: =RIGHT(Z66,3) -> RBI | G66: =IFERROR(VLOOKUP(F66,TRI,2,FALSE),0) -> 0 | H66: =VLOOKUP(G66,#REF!,2,TRUE) -> #REF! | I66: =VLOOKUP(dossiers!#REF!,TRI,3) -> #REF! | J66: =N66&S66&AB66 -> 2007750WAIT | K66: =N66&S66&AB66&AA66 -> 2007750WAIT1E00538935430 | L66: =LEFT(AE66,2) -> 20 | M66: =MID(AE66,6,5) -> 07750 | N66: =L66&M66 -> 2007750 | O66: =IF(COUNTIF($J$2:$J$139,J66)>1,"DOUBLON","") -> DOUBLON | P66: =Q66&K66 -> 2022-02-15T15:24:282007750WAIT1E00538935430 | Q66: 2022-02-15T15:24:28 | X66: France | Y66: FR | Z66: 20BD207750-RBI | AA66: 1E00538935430 | AB66: WAIT | AC66: paq.bordeaux | AD66: 2020462915R | AE66: 20BD207750-RBI | AF66: LRE_AR
A67: =VLOOKUP(Z67,'Factures '!A66:N459,8,FALSE) -> #N/A | B67: =LEFT(Q67,4) -> 2022 | C67: =MID(Q67,6,2) -> 02 | D67: =MID(Q67,9,2) -> 15 | E67: =LEFT(W67,2) | F67: =RIGHT(Z67,3) -> RBI | G67: =IFERROR(VLOOKUP(F67,TRI,2,FALSE),0) -> 0 | H67: =VLOOKUP(G67,#REF!,2,TRUE) -> #REF! | I67: =VLOOKUP(dossiers!#REF!,TRI,3) -> #REF! | J67: =N67&S67&AB67 -> 2007750OK | K67: =N67&S67&AB67&AA67 -> 2007750OK1E00538935423 | L67: =LEFT(AE67,2) -> 20 | M67: =MID(AE67,6,5) -> 07750 | N67: =L67&M67 -> 2007750 | O67: =IF(COUNTIF($J$2:$J$139,J67)>1,"DOUBLON","") -> DOUBLON | P67: =Q67&K67 -> 2022-02-15T15:24:282007750OK1E00538935423 | Q67: 2022-02-15T15:24:28 | X67: France | Y67: FR | Z67: 20BD207750-RBI | AA67: 1E00538935423 | AB67: OK | AC67: paq.bordeaux | AD67: 2020462915Q | AE67: 20BD207750-RBI | AF67: LRE_AR
A68: =VLOOKUP(Z68,'Factures '!A67:N460,8,FALSE) -> #N/A | B68: =LEFT(Q68,4) -> 2022 | C68: =MID(Q68,6,2) -> 02 | D68: =MID(Q68,9,2) -> 15 | E68: =LEFT(W68,2) | F68: =RIGHT(Z68,3) -> RBI | G68: =IFERROR(VLOOKUP(F68,TRI,2,FALSE),0) -> 0 | H68: =VLOOKUP(G68,#REF!,2,TRUE) -> #REF! | I68: =VLOOKUP(dossiers!#REF!,TRI,3) -> #REF! | J68: =N68&S68&AB68 -> 2007750WAIT | K68: =N68&S68&AB68&AA68 -> 2007750WAIT1E00538935423 | L68: =LEFT(AE68,2) -> 20 | M68: =MID(AE68,6,5) -> 07750 | N68: =L68&M68 -> 2007750 | O68: =IF(COUNTIF($J$2:$J$139,J68)>1,"DOUBLON","") -> DOUBLON | P68: =Q68&K68 -> 2022-02-15T15:24:282007750WAIT1E00538935423 | Q68: 2022-02-15T15:24:28 | X68: France | Y68: FR | Z68: 20BD207750-RBI | AA68: 1E00538935423 | AB68: WAIT | AC68: paq.bordeaux | AD68: 2020462915Q | AE68: 20BD207750-RBI | AF68: LRE_AR
A69: =VLOOKUP(Z69,'Factures '!A68:N461,8,FALSE) -> #N/A | B69: =LEFT(Q69,4) -> 2022 | C69: =MID(Q69,6,2) -> 02 | D69: =MID(Q69,9,2) -> 21 | E69: =LEFT(W69,2) | F69: =RIGHT(Z69,3) -> GDL | G69: =IFERROR(VLOOKUP(F69,TRI,2,FALSE),0) -> 0 | H69: =VLOOKUP(G69,#REF!,2,TRUE) -> #REF! | I69: =VLOOKUP(dossiers!#REF!,TRI,3) -> #REF! | J69: =N69&S69&AB69 -> 2015577OK | K69: =N69&S69&AB69&AA69 -> 2015577OK1E00539655207 | L69: =LEFT(AE69,2) -> 20 | M69: =MID(AE69,6,5) -> 15577 | N69: =L69&M69 -> 2015577 | O69: =IF(COUNTIF($J$2:$J$139,J69)>1,"DOUBLON","") | P69: =Q69&K69 -> 2022-02-21T10:43:222015577OK1E00539655207 | Q69: 2022-02-21T10:43:22 | X69: France | Y69: FR | Z69: 20BD315577-GDL | AA69: 1E00539655207 | AB69: OK | AC69: paq.bordeaux | AD69: 20205208984 | AE69: 20BD315577-GDL | AF69: LRE_AR
A70: =VLOOKUP(Z70,'Factures '!A69:N462,8,FALSE) -> #N/A | B70: =LEFT(Q70,4) -> 2022 | C70: =MID(Q70,6,2) -> 01 | D70: =MID(Q70,9,2) -> 31 | E70: =LEFT(W70,2) | F70: =RIGHT(Z70,3) -> UEL | G70: =IFERROR(VLOOKUP(F70,TRI,2,FALSE),0) -> 0 | H70: =VLOOKUP(G70,#REF!,2,TRUE) -> #REF! | I70: =VLOOKUP(dossiers!#REF!,TRI,3) -> #REF! | J70: =N70&S70&AB70 -> 2015787OK | K70: =N70&S70&AB70&AA70 -> 2015787OK1E00536711999 | L70: =LEFT(AE70,2) -> 20 | M70: =MID(AE70,6,5) -> 15787 | N70: =L70&M70 -> 2015787 | O70: =IF(COUNTIF($J$2:$J$139,J70)>1,"DOUBLON","") -> DOUBLON | P70: =Q70&K70 -> 2022-01-31T11:24:082015787OK1E00536711999 | Q70: 2022-01-31T11:24:08 | X70: France | Y70: FR | Z70: 20BI115787-UEL | AA70: 1E00536711999 | AB70: OK | AC70: paq.biarritz | AD70: 20203110124 | AE70: 20BI115787-UEL | AF70: LRE_AR
A71: =VLOOKUP(Z71,'Factures '!A70:N463,8,FALSE) -> #N/A | B71: =LEFT(Q71,4) -> 2022 | C71: =MID(Q71,6,2) -> 01 | D71: =MID(Q71,9,2) -> 31 | E71: =LEFT(W71,2) | F71: =RIGHT(Z71,3) -> UEL | G71: =IFERROR(VLOOKUP(F71,TRI,2,FALSE),0) -> 0 | H71: =VLOOKUP(G71,#REF!,2,TRUE) -> #REF! | I71: =VLOOKUP(dossiers!#REF!,TRI,3) -> #REF! | J71: =N71&S71&AB71 -> 2015787OK | K71: =N71&S71&AB71&AA71 -> 2015787OK1E00536711470 | L71: =LEFT(AE71,2) -> 20 | M71: =MID(AE71,6,5) -> 15787 | N71: =L71&M71 -> 2015787 | O71: =IF(COUNTIF($J$2:$J$139,J71)>1,"DOUBLON","") -> DOUBLON | P71: =Q71&K71 -> 2022-01-31T11:21:512015787OK1E00536711470 | Q71: 2022-01-31T11:21:51 | X71: France | Y71: FR | Z71: 20BI115787-UEL | AA71: 1E00536711470 | AB71: OK | AC71: paq.biarritz | AD71: 2020311001H | AE71: 20BI115787-UEL | AF71: LRE_AR
A72: =VLOOKUP(Z72,'Factures '!A71:N464,8,FALSE) -> #N/A | B72: =LEFT(Q72,4) -> 2022 | C72: =MID(Q72,6,2) -> 01 | D72: =MID(Q72,9,2) -> 31 | E72: =LEFT(W72,2) | F72: =RIGHT(Z72,3) -> UEL | G72: =IFERROR(VLOOKUP(F72,TRI,2,FALSE),0) -> 0 | H72: =VLOOKUP(G72,#REF!,2,TRUE) -> #REF! | I72: =VLOOKUP(dossiers!#REF!,TRI,3) -> #REF! | J72: =N72&S72&AB72 -> 2015787OK | K72: =N72&S72&AB72&AA72 -> 2015787OK1E00536711982 | L72: =LEFT(AE72,2) -> 20 | M72: =MID(AE72,6,5) -> 15787 | N72: =L72&M72 -> 2015787 | O72: =IF(COUNTIF($J$2:$J$139,J72)>1,"DOUBLON","") -> DOUBLON | P72: =Q72&K72 -> 2022-01-31T11:24:082015787OK1E00536711982 | Q72: 2022-01-31T11:24:08 | X72: France | Y72: FR | Z72: 20BI115787-UEL | AA72: 1E00536711982 | AB72: OK | AC72: paq.biarritz | AD72: 20203110123 | AE72: 20BI115787-UEL | AF72: LRE_AR
A73: =VLOOKUP(Z73,'Factures '!A72:N465,8,FALSE) -> #N/A | B73: =LEFT(Q73,4) -> 2022 | C73: =MID(Q73,6,2) -> 01 | D73: =MID(Q73,9,2) -> 31 | E73: =LEFT(W73,2) | F73: =RIGHT(Z73,3) -> UEL | G73: =IFERROR(VLOOKUP(F73,TRI,2,FALSE),0) -> 0 | H73: =VLOOKUP(G73,#REF!,2,TRUE) -> #REF! | I73: =VLOOKUP(dossiers!#REF!,TRI,3) -> #REF! | J73: =N73&S73&AB73 -> 2015787OK | K73: =N73&S73&AB73&AA73 -> 2015787OK1E00536711463 | L73: =LEFT(AE73,2) -> 20 | M73: =MID(AE73,6,5) -> 15787 | N73: =L73&M73 -> 2015787 | O73: =IF(COUNTIF($J$2:$J$139,J73)>1,"DOUBLON","") -> DOUBLON | P73: =Q73&K73 -> 2022-01-31T11:21:512015787OK1E00536711463 | Q73: 2022-01-31T11:21:51 | X73: France | Y73: FR | Z73: 20BI115787-UEL | AA73: 1E00536711463 | AB73: OK | AC73: paq.biarritz | AD73: 2020311001G | AE73: 20BI115787-UEL | AF73: LRE_AR
A74: =VLOOKUP(Z74,'Factures '!A73:N466,8,FALSE) -> #N/A | B74: =LEFT(Q74,4) -> 2022 | C74: =MID(Q74,6,2) -> 02 | D74: =MID(Q74,9,2) -> 11 | E74: =LEFT(W74,2) | F74: =RIGHT(Z74,3) -> TPS | G74: =IFERROR(VLOOKUP(F74,TRI,2,FALSE),0) -> 0 | H74: =VLOOKUP(G74,#REF!,2,TRUE) -> #REF! | I74: =VLOOKUP(dossiers!#REF!,TRI,3) -> #REF! | J74: =N74&S74&AB74 -> 2024466OK | K74: =N74&S74&AB74&AA74 -> 2024466OK1E00538464992 | L74: =LEFT(AE74,2) -> 20 | M74: =MID(AE74,6,5) -> 24466 | N74: =L74&M74 -> 2024466 | O74: =IF(COUNTIF($J$2:$J$139,J74)>1,"DOUBLON","") -> DOUBLON | P74: =Q74&K74 -> 2022-02-11T11:18:142024466OK1E00538464992 | Q74: 2022-02-11T11:18:14 | X74: France | Y74: FR | Z74: 20CA024466-TPS | AA74: 1E00538464992 | AB74: OK | AC74: paq.castres | AD74: 2020421289T | AE74: 20CA024466-TPS | AF74: LRE_AR
A75: =VLOOKUP(Z75,'Factures '!A74:N467,8,FALSE) -> #N/A | B75: =LEFT(Q75,4) -> 2022 | C75: =MID(Q75,6,2) -> 02 | D75: =MID(Q75,9,2) -> 11 | E75: =LEFT(W75,2) | F75: =RIGHT(Z75,3) -> TPS | G75: =IFERROR(VLOOKUP(F75,TRI,2,FALSE),0) -> 0 | H75: =VLOOKUP(G75,#REF!,2,TRUE) -> #REF! | I75: =VLOOKUP(dossiers!#REF!,TRI,3) -> #REF! | J75: =N75&S75&AB75 -> 2024466OK | K75: =N75&S75&AB75&AA75 -> 2024466OK1E00538464190 | L75: =LEFT(AE75,2) -> 20 | M75: =MID(AE75,6,5) -> 24466 | N75: =L75&M75 -> 2024466 | O75: =IF(COUNTIF($J$2:$J$139,J75)>1,"DOUBLON","") -> DOUBLON | P75: =Q75&K75 -> 2022-02-11T11:10:322024466OK1E00538464190 | Q75: 2022-02-11T11:10:32 | X75: France | Y75: FR | Z75: 20CA024466-TPS | AA75: 1E00538464190 | AB75: OK | AC75: paq.castres | AD75: 2020421251M | AE75: 20CA024466-TPS | AF75: LRE_AR
A76: =VLOOKUP(Z76,'Factures '!A75:N468,8,FALSE) -> #N/A | B76: =LEFT(Q76,4) -> 2022 | C76: =MID(Q76,6,2) -> 03 | D76: =MID(Q76,9,2) -> 14 | E76: =LEFT(W76,2) | F76: =RIGHT(Z76,3) -> ESA | G76: =IFERROR(VLOOKUP(F76,TRI,2,FALSE),0) -> 0 | H76: =VLOOKUP(G76,#REF!,2,TRUE) -> #REF! | I76: =VLOOKUP(dossiers!#REF!,TRI,3) -> #REF! | J76: =N76&S76&AB76 -> 2024807OK | K76: =N76&S76&AB76&AA76 -> 2024807OK1E00542745148 | L76: =LEFT(AE76,2) -> 20 | M76: =MID(AE76,6,5) -> 24807 | N76: =L76&M76 -> 2024807 | O76: =IF(COUNTIF($J$2:$J$139,J76)>1,"DOUBLON","") -> DOUBLON | P76: =Q76&K76 -> 2022-03-14T11:27:532024807OK1E00542745148 | Q76: 2022-03-14T11:27:53 | X76: France | Y76: FR | Z76: 20TL024807-ESA | AA76: 1E00542745148 | AB76: OK | AC76: paq.toulouse | AD76: 2020731246R | AE76: 20TL024807-ESA | AF76: LRE_AR
A77: =VLOOKUP(Z77,'Factures '!A76:N469,8,FALSE) -> #N/A | B77: =LEFT(Q77,4) -> 2022 | C77: =MID(Q77,6,2) -> 02 | D77: =MID(Q77,9,2) -> 25 | E77: =LEFT(W77,2) | F77: =RIGHT(Z77,3) -> ESA | G77: =IFERROR(VLOOKUP(F77,TRI,2,FALSE),0) -> 0 | H77: =VLOOKUP(G77,#REF!,2,TRUE) -> #REF! | I77: =VLOOKUP(dossiers!#REF!,TRI,3) -> #REF! | J77: =N77&S77&AB77 -> 2024807WAIT | K77: =N77&S77&AB77&AA77 -> 2024807WAIT1E00540600364 | L77: =LEFT(AE77,2) -> 20 | M77: =MID(AE77,6,5) -> 24807 | N77: =L77&M77 -> 2024807 | O77: =IF(COUNTIF($J$2:$J$139,J77)>1,"DOUBLON","") -> DOUBLON | P77: =Q77&K77 -> 2022-02-25T18:05:322024807WAIT1E00540600364 | Q77: 2022-02-25T18:05:32 | X77: France | Y77: FR | Z77: 20TL024807-ESA | AA77: 1E00540600364 | AB77: WAIT | AC77: paq.toulouse | AD77: 20205642265 | AE77: 20TL024807-ESA | AF77: LRE_AR
A78: =VLOOKUP(Z78,'Factures '!A77:N470,8,FALSE) -> #N/A | B78: =LEFT(Q78,4) -> 2022 | C78: =MID(Q78,6,2) -> 03 | D78: =MID(Q78,9,2) -> 14 | E78: =LEFT(W78,2) | F78: =RIGHT(Z78,3) -> ESA | G78: =IFERROR(VLOOKUP(F78,TRI,2,FALSE),0) -> 0 | H78: =VLOOKUP(G78,#REF!,2,TRUE) -> #REF! | I78: =VLOOKUP(dossiers!#REF!,TRI,3) -> #REF! | J78: =N78&S78&AB78 -> 2024807OK | K78: =N78&S78&AB78&AA78 -> 2024807OK1E00542745117 | L78: =LEFT(AE78,2) -> 20 | M78: =MID(AE78,6,5) -> 24807 | N78: =L78&M78 -> 2024807 | O78: =IF(COUNTIF($J$2:$J$139,J78)>1,"DOUBLON","") -> DOUBLON | P78: =Q78&K78 -> 2022-03-14T11:27:532024807OK1E00542745117 | Q78: 2022-03-14T11:27:53 | X78: France | Y78: FR | Z78: 20TL024807-ESA | AA78: 1E00542745117 | AB78: OK | AC78: paq.toulouse | AD78: 2020731246K | AE78: 20TL024807-ESA | AF78: LRE_AR
A79: =VLOOKUP(Z79,'Factures '!A78:N471,8,FALSE) -> #N/A | B79: =LEFT(Q79,4) -> 2022 | C79: =MID(Q79,6,2) -> 03 | D79: =MID(Q79,9,2) -> 14 | E79: =LEFT(W79,2) | F79: =RIGHT(Z79,3) -> ESA | G79: =IFERROR(VLOOKUP(F79,TRI,2,FALSE),0) -> 0 | H79: =VLOOKUP(G79,#REF!,2,TRUE) -> #REF! | I79: =VLOOKUP(dossiers!#REF!,TRI,3) -> #REF! | J79: =N79&S79&AB79 -> 2024807OK | K79: =N79&S79&AB79&AA79 -> 2024807OK1E00542745100 | L79: =LEFT(AE79,2) -> 20 | M79: =MID(AE79,6,5) -> 24807 | N79: =L79&M79 -> 2024807 | O79: =IF(COUNTIF($J$2:$J$139,J79)>1,"DOUBLON","") -> DOUBLON | P79: =Q79&K79 -> 2022-03-14T11:27:532024807OK1E00542745100 | Q79: 2022-03-14T11:27:53 | X79: France | Y79: FR | Z79: 20TL024807-ESA | AA79: 1E00542745100 | AB79: OK | AC79: paq.toulouse | AD79: 2020731246I | AE79: 20TL024807-ESA | AF79: LRE_AR
A80: =VLOOKUP(Z80,'Factures '!A79:N472,8,FALSE) -> #N/A | B80: =LEFT(Q80,4) -> 2022 | C80: =MID(Q80,6,2) -> 02 | D80: =MID(Q80,9,2) -> 25 | E80: =LEFT(W80,2) | F80: =RIGHT(Z80,3) -> ESA | G80: =IFERROR(VLOOKUP(F80,TRI,2,FALSE),0) -> 0 | H80: =VLOOKUP(G80,#REF!,2,TRUE) -> #REF! | I80: =VLOOKUP(dossiers!#REF!,TRI,3) -> #REF! | J80: =N80&S80&AB80 -> 2024807WAIT | K80: =N80&S80&AB80&AA80 -> 2024807WAIT1E00540600333 | L80: =LEFT(AE80,2) -> 20 | M80: =MID(AE80,6,5) -> 24807 | N80: =L80&M80 -> 2024807 | O80: =IF(COUNTIF($J$2:$J$139,J80)>1,"DOUBLON","") -> DOUBLON | P80: =Q80&K80 -> 2022-02-25T18:05:322024807WAIT1E00540600333 | Q80: 2022-02-25T18:05:32 | X80: France | Y80: FR | Z80: 20TL024807-ESA | AA80: 1E00540600333 | AB80: WAIT | AC80: paq.toulouse | AD80: 20205642262 | AE80: 20TL024807-ESA | AF80: LRE_AR
A81: =VLOOKUP(Z81,'Factures '!A80:N473,8,FALSE) -> #N/A | B81: =LEFT(Q81,4) -> 2022 | C81: =MID(Q81,6,2) -> 03 | D81: =MID(Q81,9,2) -> 14 | E81: =LEFT(W81,2) | F81: =RIGHT(Z81,3) -> ESA | G81: =IFERROR(VLOOKUP(F81,TRI,2,FALSE),0) -> 0 | H81: =VLOOKUP(G81,#REF!,2,TRUE) -> #REF! | I81: =VLOOKUP(dossiers!#REF!,TRI,3) -> #REF! | J81: =N81&S81&AB81 -> 2024807OK | K81: =N81&S81&AB81&AA81 -> 2024807OK1E00542745131 | L81: =LEFT(AE81,2) -> 20 | M81: =MID(AE81,6,5) -> 24807 | N81: =L81&M81 -> 2024807 | O81: =IF(COUNTIF($J$2:$J$139,J81)>1,"DOUBLON","") -> DOUBLON | P81: =Q81&K81 -> 2022-03-14T11:27:532024807OK1E00542745131 | Q81: 2022-03-14T11:27:53 | X81: France | Y81: FR | Z81: 20TL024807-ESA | AA81: 1E00542745131 | AB81: OK | AC81: paq.toulouse | AD81: 2020731246O | AE81: 20TL024807-ESA | AF81: LRE_AR
A82: =VLOOKUP(Z82,'Factures '!A81:N474,8,FALSE) -> #N/A | B82: =LEFT(Q82,4) -> 2022 | C82: =MID(Q82,6,2) -> 02 | D82: =MID(Q82,9,2) -> 25 | E82: =LEFT(W82,2) | F82: =RIGHT(Z82,3) -> ESA | G82: =IFERROR(VLOOKUP(F82,TRI,2,FALSE),0) -> 0 | H82: =VLOOKUP(G82,#REF!,2,TRUE) -> #REF! | I82: =VLOOKUP(dossiers!#REF!,TRI,3) -> #REF! | J82: =N82&S82&AB82 -> 2024807WAIT | K82: =N82&S82&AB82&AA82 -> 2024807WAIT1E00540600357 | L82: =LEFT(AE82,2) -> 20 | M82: =MID(AE82,6,5) -> 24807 | N82: =L82&M82 -> 2024807 | O82: =IF(COUNTIF($J$2:$J$139,J82)>1,"DOUBLON","") -> DOUBLON | P82: =Q82&K82 -> 2022-02-25T18:05:322024807WAIT1E00540600357 | Q82: 2022-02-25T18:05:32 | X82: France | Y82: FR | Z82: 20TL024807-ESA | AA82: 1E00540600357 | AB82: WAIT | AC82: paq.toulouse | AD82: 20205642264 | AE82: 20TL024807-ESA | AF82: LRE_AR
A83: =VLOOKUP(Z83,'Factures '!A82:N475,8,FALSE) -> #N/A | B83: =LEFT(Q83,4) -> 2022 | C83: =MID(Q83,6,2) -> 03 | D83: =MID(Q83,9,2) -> 14 | E83: =LEFT(W83,2) | F83: =RIGHT(Z83,3) -> ESA | G83: =IFERROR(VLOOKUP(F83,TRI,2,FALSE),0) -> 0 | H83: =VLOOKUP(G83,#REF!,2,TRUE) -> #REF! | I83: =VLOOKUP(dossiers!#REF!,TRI,3) -> #REF! | J83: =N83&S83&AB83 -> 2024807OK | K83: =N83&S83&AB83&AA83 -> 2024807OK1E00542745124 | L83: =LEFT(AE83,2) -> 20 | M83: =MID(AE83,6,5) -> 24807 | N83: =L83&M83 -> 2024807 | O83: =IF(COUNTIF($J$2:$J$139,J83)>1,"DOUBLON","") -> DOUBLON | P83: =Q83&K83 -> 2022-03-14T11:27:532024807OK1E00542745124 | Q83: 2022-03-14T11:27:53 | X83: France | Y83: FR | Z83: 20TL024807-ESA | AA83: 1E00542745124 | AB83: OK | AC83: paq.toulouse | AD83: 2020731246M | AE83: 20TL024807-ESA | AF83: LRE_AR
A84: =VLOOKUP(Z84,'Factures '!A83:N476,8,FALSE) -> #N/A | B84: =LEFT(Q84,4) -> 2022 | C84: =MID(Q84,6,2) -> 02 | D84: =MID(Q84,9,2) -> 25 | E84: =LEFT(W84,2) | F84: =RIGHT(Z84,3) -> ESA | G84: =IFERROR(VLOOKUP(F84,TRI,2,FALSE),0) -> 0 | H84: =VLOOKUP(G84,#REF!,2,TRUE) -> #REF! | I84: =VLOOKUP(dossiers!#REF!,TRI,3) -> #REF! | J84: =N84&S84&AB84 -> 2024807WAIT | K84: =N84&S84&AB84&AA84 -> 2024807WAIT1E00540600340 | L84: =LEFT(AE84,2) -> 20 | M84: =MID(AE84,6,5) -> 24807 | N84: =L84&M84 -> 2024807 | O84: =IF(COUNTIF($J$2:$J$139,J84)>1,"DOUBLON","") -> DOUBLON | P84: =Q84&K84 -> 2022-02-25T18:05:322024807WAIT1E00540600340 | Q84: 2022-02-25T18:05:32 | X84: France | Y84: FR | Z84: 20TL024807-ESA | AA84: 1E00540600340 | AB84: WAIT | AC84: paq.toulouse | AD84: 20205642263 | AE84: 20TL024807-ESA | AF84: LRE_AR
A85: =VLOOKUP(Z85,'Factures '!A84:N477,8,FALSE) -> #N/A | B85: =LEFT(Q85,4) -> 2021 | C85: =MID(Q85,6,2) -> 12 | D85: =MID(Q85,9,2) -> 30 | E85: =LEFT(W85,2) | F85: =RIGHT(Z85,3) -> DFQ | G85: =IFERROR(VLOOKUP(F85,TRI,2,FALSE),0) -> 0 | H85: =VLOOKUP(G85,#REF!,2,TRUE) -> #REF! | I85: =VLOOKUP(dossiers!G528,TRI,3) -> #N/A | J85: =N85&S85&AB85 -> 2025655OK | K85: =N85&S85&AB85&AA85 -> 2025655OK1E00532540326 | L85: =LEFT(AE85,2) -> 20 | M85: =MID(AE85,6,5) -> 25655 | N85: =L85&M85 -> 2025655 | O85: =IF(COUNTIF($J$2:$J$139,J85)>1,"DOUBLON","") -> DOUBLON | P85: =Q85&K85 -> 2021-12-30T10:25:582025655OK1E00532540326 | Q85: 2021-12-30T10:25:58 | X85: France | Y85: FR | Z85: 20BD325655-DFQ | AA85: 1E00532540326 | AB85: OK | AC85: paq.bordeaux | AD85: 2013640710F | AE85: 20BD325655-DFQ | AF85: LRE_AR
A86: =VLOOKUP(Z86,'Factures '!A85:N478,8,FALSE) -> #N/A | B86: =LEFT(Q86,4) -> 2021 | C86: =MID(Q86,6,2) -> 12 | D86: =MID(Q86,9,2) -> 30 | E86: =LEFT(W86,2) | F86: =RIGHT(Z86,3) -> DFQ | G86: =IFERROR(VLOOKUP(F86,TRI,2,FALSE),0) -> 0 | H86: =VLOOKUP(G86,#REF!,2,TRUE) -> #REF! | I86: =VLOOKUP(dossiers!G527,TRI,3) -> #N/A | J86: =N86&S86&AB86 -> 2025655OK | K86: =N86&S86&AB86&AA86 -> 2025655OK1E00532540869 | L86: =LEFT(AE86,2) -> 20 | M86: =MID(AE86,6,5) -> 25655 | N86: =L86&M86 -> 2025655 | O86: =IF(COUNTIF($J$2:$J$139,J86)>1,"DOUBLON","") -> DOUBLON | P86: =Q86&K86 -> 2021-12-30T10:26:322025655OK1E00532540869 | Q86: 2021-12-30T10:26:32 | V86: 1 ESPLANADE CHARLES DE GAULLE | X86: France | Y86: FR | Z86: 20BD325655-DFQ | AA86: 1E00532540869 | AB86: OK | AC86: paq.bordeaux | AD86: 2013640723D | AE86: 20BD325655-DFQ | AF86: LRE_AR
A87: =VLOOKUP(Z87,'Factures '!A86:N479,8,FALSE) -> #N/A | B87: =LEFT(Q87,4) -> 2022 | C87: =MID(Q87,6,2) -> 01 | D87: =MID(Q87,9,2) -> 03 | E87: =LEFT(W87,2) | F87: =RIGHT(Z87,3) -> RHY | G87: =IFERROR(VLOOKUP(F87,TRI,2,FALSE),0) -> 0 | H87: =VLOOKUP(G87,#REF!,2,TRUE) -> #REF! | I87: =VLOOKUP(dossiers!G282,TRI,3) -> #N/A | J87: =N87&S87&AB87 -> 2028933OK | K87: =N87&S87&AB87&AA87 -> 2028933OK1E00532914851 | L87: =LEFT(AE87,2) -> 20 | M87: =MID(AE87,6,5) -> 28933 | N87: =L87&M87 -> 2028933 | O87: =IF(COUNTIF($J$2:$J$139,J87)>1,"DOUBLON","") | P87: =Q87&K87 -> 2022-01-03T14:37:072028933OK1E00532914851 | Q87: 2022-01-03T14:37:07 | X87: France | Y87: FR | Z87: 20TL128933-RHY | AA87: 1E00532914851 | AB87: OK | AC87: paq.toulouse | AD87: 20200327507 | AE87: 20TL128933-RHY | AF87: LRE_AR
A88: =VLOOKUP(Z88,'Factures '!A87:N480,8,FALSE) -> #N/A | B88: =LEFT(Q88,4) -> 2022 | C88: =MID(Q88,6,2) -> 01 | D88: =MID(Q88,9,2) -> 03 | E88: =LEFT(W88,2) | F88: =RIGHT(Z88,3) -> RHY | G88: =IFERROR(VLOOKUP(F88,TRI,2,FALSE),0) -> 0 | H88: =VLOOKUP(G88,#REF!,2,TRUE) -> #REF! | I88: =VLOOKUP(dossiers!G356,TRI,3) -> #N/A | J88: =N88&S88&AB88 -> 2028933WAIT | K88: =N88&S88&AB88&AA88 -> 2028933WAIT1E00532914851 | L88: =LEFT(AE88,2) -> 20 | M88: =MID(AE88,6,5) -> 28933 | N88: =L88&M88 -> 2028933 | O88: =IF(COUNTIF($J$2:$J$139,J88)>1,"DOUBLON","") | P88: =Q88&K88 -> 2022-01-03T14:37:072028933WAIT1E00532914851 | Q88: 2022-01-03T14:37:07 | X88: France | Y88: FR | Z88: 20TL128933-RHY | AA88: 1E00532914851 | AB88: WAIT | AC88: paq.toulouse | AD88: 20200327507 | AE88: 20TL128933-RHY | AF88: LRE_AR
A89: =VLOOKUP(Z89,'Factures '!A88:N481,8,FALSE) -> #N/A | B89: =LEFT(Q89,4) -> 2021 | C89: =MID(Q89,6,2) -> 12 | D89: =MID(Q89,9,2) -> 30 | E89: =LEFT(W89,2) | F89: =RIGHT(Z89,3) -> STE | G89: =IFERROR(VLOOKUP(F89,TRI,2,FALSE),0) -> 0 | H89: =VLOOKUP(G89,#REF!,2,TRUE) -> #REF! | I89: =VLOOKUP(dossiers!G520,TRI,3) -> #N/A | J89: =N89&S89&AB89 -> 2031882OK | K89: =N89&S89&AB89&AA89 -> 2031882OK1E00532586126 | L89: =LEFT(AE89,2) -> 20 | M89: =MID(AE89,6,5) -> 31882 | N89: =L89&M89 -> 2031882 | O89: =IF(COUNTIF($J$2:$J$139,J89)>1,"DOUBLON","") -> DOUBLON | P89: =Q89&K89 -> 2021-12-30T11:51:462031882OK1E00532586126 | Q89: 2021-12-30T11:51:46 | X89: France | Y89: FR | Z89: 20AG231882-STE | AA89: 1E00532586126 | AB89: OK | AC89: paq.bordeaux | AD89: 2013641069T | AE89: 20AG231882-STE | AF89: LRE_AR
A90: =VLOOKUP(Z90,'Factures '!A89:N482,8,FALSE) -> #N/A | B90: =LEFT(Q90,4) -> 2021 | C90: =MID(Q90,6,2) -> 12 | D90: =MID(Q90,9,2) -> 30 | E90: =LEFT(W90,2) | F90: =RIGHT(Z90,3) -> STE | G90: =IFERROR(VLOOKUP(F90,TRI,2,FALSE),0) -> 0 | H90: =VLOOKUP(G90,#REF!,2,TRUE) -> #REF! | I90: =VLOOKUP(dossiers!G522,TRI,3) -> #N/A | J90: =N90&S90&AB90 -> 2031882OK | K90: =N90&S90&AB90&AA90 -> 2031882OK1E00532585617 | L90: =LEFT(AE90,2) -> 20 | M90: =MID(AE90,6,5) -> 31882 | N90: =L90&M90 -> 2031882 | O90: =IF(COUNTIF($J$2:$J$139,J90)>1,"DOUBLON","") -> DOUBLON | P90: =Q90&K90 -> 2021-12-30T11:48:002031882OK1E00532585617 | Q90: 2021-12-30T11:48:00 | X90: France | Y90: FR | Z90: 20AG231882-STE | AA90: 1E00532585617 | AB90: OK | AC90: paq.bordeaux | AD90: 2013641060X | AE90: 20AG231882-STE | AF90: LRE_AR
A91: =VLOOKUP(Z91,'Factures '!A90:N483,8,FALSE) -> #N/A | B91: =LEFT(Q91,4) -> 2021 | C91: =MID(Q91,6,2) -> 12 | D91: =MID(Q91,9,2) -> 30 | E91: =LEFT(W91,2) | F91: =RIGHT(Z91,3) -> STE | G91: =IFERROR(VLOOKUP(F91,TRI,2,FALSE),0) -> 0 | H91: =VLOOKUP(G91,#REF!,2,TRUE) -> #REF! | I91: =VLOOKUP(dossiers!G521,TRI,3) -> #N/A | J91: =N91&S91&AB91 -> 2031882OK | K91: =N91&S91&AB91&AA91 -> 2031882OK1E00532585730 | L91: =LEFT(AE91,2) -> 20 | M91: =MID(AE91,6,5) -> 31882 | N91: =L91&M91 -> 2031882 | O91: =IF(COUNTIF($J$2:$J$139,J91)>1,"DOUBLON","") -> DOUBLON | P91: =Q91&K91 -> 2021-12-30T11:48:122031882OK1E00532585730 | Q91: 2021-12-30T11:48:12 | X91: France | Y91: FR | Z91: 20AG231882-STE | AA91: 1E00532585730 | AB91: OK | AC91: paq.bordeaux | AD91: 20136410625 | AE91: 20AG231882-STE | AF91: LRE_AR
A92: =VLOOKUP(Z92,'Factures '!A91:N484,8,FALSE) -> #N/A | B92: =LEFT(Q92,4) -> 2022 | C92: =MID(Q92,6,2) -> 02 | D92: =MID(Q92,9,2) -> 14 | E92: =LEFT(W92,2) | F92: =RIGHT(Z92,3) -> CAY | G92: =IFERROR(VLOOKUP(F92,TRI,2,FALSE),0) -> 0 | H92: =VLOOKUP(G92,#REF!,2,TRUE) -> #REF! | I92: =VLOOKUP(dossiers!#REF!,TRI,3) -> #REF! | J92: =N92&S92&AB92 -> 2032565OK | K92: =N92&S92&AB92&AA92 -> 2032565OK1E00538782249 | L92: =LEFT(AE92,2) -> 20 | M92: =MID(AE92,6,5) -> 32565 | N92: =L92&M92 -> 2032565 | O92: =IF(COUNTIF($J$2:$J$139,J92)>1,"DOUBLON","") -> DOUBLON | P92: =Q92&K92 -> 2022-02-14T17:50:582032565OK1E00538782249 | Q92: 2022-02-14T17:50:58 | X92: France | Y92: FR | Z92: 20AG132565-CAY | AA92: 1E00538782249 | AB92: OK | AC92: paq.agen | AD92: 2020452681L | AE92: 20AG132565-CAY | AF92: LRE_AR
A93: =VLOOKUP(Z93,'Factures '!A92:N485,8,FALSE) -> #N/A | B93: =LEFT(Q93,4) -> 2022 | C93: =MID(Q93,6,2) -> 02 | D93: =MID(Q93,9,2) -> 14 | E93: =LEFT(W93,2) | F93: =RIGHT(Z93,3) -> CAY | G93: =IFERROR(VLOOKUP(F93,TRI,2,FALSE),0) -> 0 | H93: =VLOOKUP(G93,#REF!,2,TRUE) -> #REF! | I93: =VLOOKUP(dossiers!#REF!,TRI,3) -> #REF! | J93: =N93&S93&AB93 -> 2032565WAIT | K93: =N93&S93&AB93&AA93 -> 2032565WAIT1E00538782249 | L93: =LEFT(AE93,2) -> 20 | M93: =MID(AE93,6,5) -> 32565 | N93: =L93&M93 -> 2032565 | O93: =IF(COUNTIF($J$2:$J$139,J93)>1,"DOUBLON","") -> DOUBLON | P93: =Q93&K93 -> 2022-02-14T17:50:582032565WAIT1E00538782249 | Q93: 2022-02-14T17:50:58 | X93: France | Y93: FR | Z93: 20AG132565-CAY | AA93: 1E00538782249 | AB93: WAIT | AC93: paq.agen | AD93: 2020452681L | AE93: 20AG132565-CAY | AF93: LRE_AR
A94: =VLOOKUP(Z94,'Factures '!A93:N486,8,FALSE) -> #N/A | B94: =LEFT(Q94,4) -> 2022 | C94: =MID(Q94,6,2) -> 02 | D94: =MID(Q94,9,2) -> 14 | E94: =LEFT(W94,2) | F94: =RIGHT(Z94,3) -> CAY | G94: =IFERROR(VLOOKUP(F94,TRI,2,FALSE),0) -> 0 | H94: =VLOOKUP(G94,#REF!,2,TRUE) -> #REF! | I94: =VLOOKUP(dossiers!#REF!,TRI,3) -> #REF! | J94: =N94&S94&AB94 -> 2032565OK | K94: =N94&S94&AB94&AA94 -> 2032565OK1E00538782638 | L94: =LEFT(AE94,2) -> 20 | M94: =MID(AE94,6,5) -> 32565 | N94: =L94&M94 -> 2032565 | O94: =IF(COUNTIF($J$2:$J$139,J94)>1,"DOUBLON","") -> DOUBLON | P94: =Q94&K94 -> 2022-02-14T17:58:392032565OK1E00538782638 | Q94: 2022-02-14T17:58:39 | X94: France | Y94: FR | Z94: 20AG132565-CAY | AA94: 1E00538782638 | AB94: OK | AC94: paq.agen | AD94: 2020452709N | AE94: 20AG132565-CAY | AF94: LRE_AR
A95: =VLOOKUP(Z95,'Factures '!A94:N487,8,FALSE) -> #N/A | B95: =LEFT(Q95,4) -> 2022 | C95: =MID(Q95,6,2) -> 02 | D95: =MID(Q95,9,2) -> 14 | E95: =LEFT(W95,2) | F95: =RIGHT(Z95,3) -> CAY | G95: =IFERROR(VLOOKUP(F95,TRI,2,FALSE),0) -> 0 | H95: =VLOOKUP(G95,#REF!,2,TRUE) -> #REF! | I95: =VLOOKUP(dossiers!#REF!,TRI,3) -> #REF! | J95: =N95&S95&AB95 -> 2032565WAIT | K95: =N95&S95&AB95&AA95 -> 2032565WAIT1E00538782638 | L95: =LEFT(AE95,2) -> 20 | M95: =MID(AE95,6,5) -> 32565 | N95: =L95&M95 -> 2032565 | O95: =IF(COUNTIF($J$2:$J$139,J95)>1,"DOUBLON","") -> DOUBLON | P95: =Q95&K95 -> 2022-02-14T17:58:392032565WAIT1E00538782638 | Q95: 2022-02-14T17:58:39 | X95: France | Y95: FR | Z95: 20AG132565-CAY | AA95: 1E00538782638 | AB95: WAIT | AC95: paq.agen | AD95: 2020452709N | AE95: 20AG132565-CAY | AF95: LRE_AR
A96: =VLOOKUP(Z96,'Factures '!A95:N488,8,FALSE) -> #N/A | B96: =LEFT(Q96,4) -> 2022 | C96: =MID(Q96,6,2) -> 01 | D96: =MID(Q96,9,2) -> 17 | E96: =LEFT(W96,2) | F96: =RIGHT(Z96,3) -> DCI | G96: =IFERROR(VLOOKUP(F96,TRI,2,FALSE),0) -> 0 | H96: =VLOOKUP(G96,#REF!,2,TRUE) -> #REF! | I96: =VLOOKUP(dossiers!#REF!,TRI,3) -> #REF! | J96: =N96&S96&AB96 -> 2034445OK | K96: =N96&S96&AB96&AA96 -> 2034445OK1E00534746269 | L96: =LEFT(AE96,2) -> 20 | M96: =MID(AE96,6,5) -> 34445 | N96: =L96&M96 -> 2034445 | O96: =IF(COUNTIF($J$2:$J$139,J96)>1,"DOUBLON","") -> DOUBLON | P96: =Q96&K96 -> 2022-01-17T14:31:142034445OK1E00534746269 | Q96: 2022-01-17T14:31:14 | X96: France | Y96: FR | Z96: 20BD134445-DCI | AA96: 1E00534746269 | AB96: OK | AC96: paq.bordeaux | AD96: 2020172310W | AE96: 20BD134445-DCI | AF96: LRE_AR
A97: =VLOOKUP(Z97,'Factures '!A96:N489,8,FALSE) -> #N/A | B97: =LEFT(Q97,4) -> 2022 | C97: =MID(Q97,6,2) -> 01 | D97: =MID(Q97,9,2) -> 17 | E97: =LEFT(W97,2) | F97: =RIGHT(Z97,3) -> DCI | G97: =IFERROR(VLOOKUP(F97,TRI,2,FALSE),0) -> 0 | H97: =VLOOKUP(G97,#REF!,2,TRUE) -> #REF! | I97: =VLOOKUP(dossiers!#REF!,TRI,3) -> #REF! | J97: =N97&S97&AB97 -> 2034445WAIT | K97: =N97&S97&AB97&AA97 -> 2034445WAIT1E00534746269 | L97: =LEFT(AE97,2) -> 20 | M97: =MID(AE97,6,5) -> 34445 | N97: =L97&M97 -> 2034445 | O97: =IF(COUNTIF($J$2:$J$139,J97)>1,"DOUBLON","") -> DOUBLON | P97: =Q97&K97 -> 2022-01-17T14:31:142034445WAIT1E00534746269 | Q97: 2022-01-17T14:31:14 | X97: France | Y97: FR | Z97: 20BD134445-DCI | AA97: 1E00534746269 | AB97: WAIT | AC97: paq.bordeaux | AD97: 2020172310W | AE97: 20BD134445-DCI | AF97: LRE_AR
A98: =VLOOKUP(Z98,'Factures '!A97:N490,8,FALSE) -> #N/A | B98: =LEFT(Q98,4) -> 2022 | C98: =MID(Q98,6,2) -> 01 | D98: =MID(Q98,9,2) -> 17 | E98: =LEFT(W98,2) | F98: =RIGHT(Z98,3) -> DCI | G98: =IFERROR(VLOOKUP(F98,TRI,2,FALSE),0) -> 0 | H98: =VLOOKUP(G98,#REF!,2,TRUE) -> #REF! | I98: =VLOOKUP(dossiers!#REF!,TRI,3) -> #REF! | J98: =N98&S98&AB98 -> 2034445OK | K98: =N98&S98&AB98&AA98 -> 2034445OK1E00534746276 | L98: =LEFT(AE98,2) -> 20 | M98: =MID(AE98,6,5) -> 34445 | N98: =L98&M98 -> 2034445 | O98: =IF(COUNTIF($J$2:$J$139,J98)>1,"DOUBLON","") -> DOUBLON | P98: =Q98&K98 -> 2022-01-17T14:31:142034445OK1E00534746276 | Q98: 2022-01-17T14:31:14 | X98: France | Y98: FR | Z98: 20BD134445-DCI | AA98: 1E00534746276 | AB98: OK | AC98: paq.bordeaux | AD98: 20201723110 | AE98: 20BD134445-DCI | AF98: LRE_AR
A99: =VLOOKUP(Z99,'Factures '!A98:N491,8,FALSE) -> #N/A | B99: =LEFT(Q99,4) -> 2022 | C99: =MID(Q99,6,2) -> 01 | D99: =MID(Q99,9,2) -> 17 | E99: =LEFT(W99,2) | F99: =RIGHT(Z99,3) -> DCI | G99: =IFERROR(VLOOKUP(F99,TRI,2,FALSE),0) -> 0 | H99: =VLOOKUP(G99,#REF!,2,TRUE) -> #REF! | I99: =VLOOKUP(dossiers!#REF!,TRI,3) -> #REF! | J99: =N99&S99&AB99 -> 2034445WAIT | K99: =N99&S99&AB99&AA99 -> 2034445WAIT1E00534746276 | L99: =LEFT(AE99,2) -> 20 | M99: =MID(AE99,6,5) -> 34445 | N99: =L99&M99 -> 2034445 | O99: =IF(COUNTIF($J$2:$J$139,J99)>1,"DOUBLON","") -> DOUBLON | P99: =Q99&K99 -> 2022-01-17T14:31:142034445WAIT1E00534746276 | Q99: 2022-01-17T14:31:14 | X99: France | Y99: FR | Z99: 20BD134445-DCI | AA99: 1E00534746276 | AB99: WAIT | AC99: paq.bordeaux | AD99: 20201723110 | AE99: 20BD134445-DCI | AF99: LRE_AR
A100: =VLOOKUP(Z100,'Factures '!A99:N492,8,FALSE) -> #N/A | B100: =LEFT(Q100,4) -> 2022 | C100: =MID(Q100,6,2) -> 03 | D100: =MID(Q100,9,2) -> 10 | E100: =LEFT(W100,2) | F100: =RIGHT(Z100,3) -> VGH | G100: =IFERROR(VLOOKUP(F100,TRI,2,FALSE),0) -> 0 | H100: =VLOOKUP(G100,#REF!,2,TRUE) -> #REF! | I100: =VLOOKUP(dossiers!G42,TRI,3) -> #N/A | J100: =N100&S100&AB100 -> 2047711WAIT | K100: =N100&S100&AB100&AA100 -> 2047711WAIT1E00542389526 | L100: =LEFT(AE100,2) -> 20 | M100: =MID(AE100,6,5) -> 47711 | N100: =L100&M100 -> 2047711 | O100: =IF(COUNTIF($J$2:$J$139,J100)>1,"DOUBLON","") -> DOUBLON | P100: =Q100&K100 -> 2022-03-10T15:32:562047711WAIT1E00542389526 | Q100: 2022-03-10T15:32:56 | X100: France | Y100: FR | Z100: 20PX347711-VGH | AA100: 1E00542389526 | AB100: WAIT | AC100: paq.toulousecgr | AD100: 2020693275P | AE100: 20PX347711-VGH | AF100: LRE_AR
...

Sheet Factures 
A1: reference maileva | B1: Par référence | C1: Année | D1: Mois | E1: Code client | F1: Référence utilisateur | H1: reference client | I1: reference maileva | J1: nom campagne | K1: désignation | L1: qte | M1: P,U,H,T | N1: Prx H,T | Q1: Mois | R1: code client | S1: Référence utilisateur | T1: date realisation | U1: reference client | V1: reference maileva | W1: nom campagne | X1: désignation | Y1: qte | Z1: P,U,H,T | AA1: Prx H,T
A2: =IFERROR(IF(B2,I2,""),"") | B2: =IF(COUNTIF($I$2:$I2,I2)=COUNTIF($I$2:$I$394,I2),SUMIF($I$2:$I$394,I2,$N$2:$N$394),"") | C2: =YEAR(G2) -> 1900 | D2: =(MONTH(G2)) -> 1 | F2: paq.toulousecgr | I2: 2520590461C | J2: Envoi du 28 02 | K2: 1ere Page N&B (LREL Facteur C6) | L2: 3 | M2: 0.95 | N2: 2.85 | P2: 2022 | Q2: 12064 | R2: 2676809200 | T2: 357268094 | U2: 6 | W2: 84900378630 | Y2: 14219 | Z2: 16680.57 | AA2: 29393.3
A3: =IFERROR(IF(B3,I3,""),"") | B3: =IF(COUNTIF($I$2:$I3,I3)=COUNTIF($I$2:$I$394,I3),SUMIF($I$2:$I$394,I3,$N$2:$N$394),"") | C3: =YEAR(G3) -> 1900 | D3: =(MONTH(G3)) -> 1 | F3: paq.toulousecgr | I3: 2520590461C | K3: Option Gestion des AR | L3: 3 | M3: 0.3 | N3: 0.9 | P3: 2021 | Q3: 311510 | R3: 15960959300 | T3: 2120106142 | U3: 109116496116 | W3: 2235899708285 | Y3: 91518 | Z3: 94822.785 | AA3: 179228.82
A4: =IFERROR(IF(B4,I4,""),"") -> 2520590461C | B4: =IF(COUNTIF($I$2:$I4,I4)=COUNTIF($I$2:$I$394,I4),SUMIF($I$2:$I$394,I4,$N$2:$N$394),"") -> 19.86 | C4: =YEAR(G4) -> 1900 | D4: =(MONTH(G4)) -> 1 | F4: paq.toulousecgr | I4: 2520590461C | K4: Affranch Lettre Recom En Ligne av | L4: 3 | M4: 5.37 | N4: 16.11
A5: =IFERROR(IF(B5,I5,""),"") | B5: =IF(COUNTIF($I$2:$I5,I5)=COUNTIF($I$2:$I$394,I5),SUMIF($I$2:$I$394,I5,$N$2:$N$394),"") | C5: =YEAR(G5) -> 1900 | D5: =(MONTH(G5)) -> 1 | F5: paq.toulousecgr | I5: 2520590537J | J5: Envoi du 28 02 | K5: 1ere Page N&B (LREL Facteur C6) | L5: 1 | M5: 0.95 | N5: 0.95
A6: =IFERROR(IF(B6,I6,""),"") | B6: =IF(COUNTIF($I$2:$I6,I6)=COUNTIF($I$2:$I$394,I6),SUMIF($I$2:$I$394,I6,$N$2:$N$394),"") | C6: =YEAR(G6) -> 1900 | D6: =(MONTH(G6)) -> 1 | F6: paq.toulousecgr | I6: 2520590537J | K6: Option Gestion des AR | L6: 1 | M6: 0.3 | N6: 0.3
A7: =IFERROR(IF(B7,I7,""),"") -> 2520590537J | B7: =IF(COUNTIF($I$2:$I7,I7)=COUNTIF($I$2:$I$394,I7),SUMIF($I$2:$I$394,I7,$N$2:$N$394),"") -> 6.62 | C7: =YEAR(G7) -> 1900 | D7: =(MONTH(G7)) -> 1 | F7: paq.toulousecgr | I7: 2520590537J | K7: Affranch Lettre Recom En Ligne av | L7: 1 | M7: 5.37 | N7: 5.37
A8: =IFERROR(IF(B8,I8,""),"") | B8: =IF(COUNTIF($I$2:$I8,I8)=COUNTIF($I$2:$I$394,I8),SUMIF($I$2:$I$394,I8,$N$2:$N$394),"") | C8: =YEAR(G8) -> 1900 | D8: =(MONTH(G8)) -> 1 | F8: paq.toulousecgr | I8: 2520590836Y | J8: Envoi du 28 02 | K8: 1ere Page N&B (LREL Facteur C6) | L8: 2 | M8: 0.95 | N8: 1.9
A9: =IFERROR(IF(B9,I9,""),"") | B9: =IF(COUNTIF($I$2:$I9,I9)=COUNTIF($I$2:$I$394,I9),SUMIF($I$2:$I$394,I9,$N$2:$N$394),"") | C9: =YEAR(G9) -> 1900 | D9: =(MONTH(G9)) -> 1 | F9: paq.toulousecgr | I9: 2520590836Y | K9: Option Gestion des AR | L9: 2 | M9: 0.3 | N9: 0.6
A10: =IFERROR(IF(B10,I10,""),"") -> 2520590836Y | B10: =IF(COUNTIF($I$2:$I10,I10)=COUNTIF($I$2:$I$394,I10),SUMIF($I$2:$I$394,I10,$N$2:$N$394),"") -> 13.24 | C10: =YEAR(G10) -> 1900 | D10: =(MONTH(G10)) -> 1 | F10: paq.toulousecgr | I10: 2520590836Y | K10: Affranch Lettre Recom En Ligne av | L10: 2 | M10: 5.37 | N10: 10.74
A11: =IFERROR(IF(B11,I11,""),"") | B11: =IF(COUNTIF($I$2:$I11,I11)=COUNTIF($I$2:$I$394,I11),SUMIF($I$2:$I$394,I11,$N$2:$N$394),"") | C11: =YEAR(G11) -> 1900 | D11: =(MONTH(G11)) -> 1 | F11: paq.bordeaux | I11: 2520590841D | J11: Envoi du 28 02 | K11: 1ere Page N&B (LREL Facteur C6) | L11: 1 | M11: 0.95 | N11: 0.95
A12: =IFERROR(IF(B12,I12,""),"") | B12: =IF(COUNTIF($I$2:$I12,I12)=COUNTIF($I$2:$I$394,I12),SUMIF($I$2:$I$394,I12,$N$2:$N$394),"") | C12: =YEAR(G12) -> 1900 | D12: =(MONTH(G12)) -> 1 | F12: paq.bordeaux | I12: 2520590841D | K12: Option Gestion des AR | L12: 1 | M12: 0.3 | N12: 0.3
A13: =IFERROR(IF(B13,I13,""),"") -> 2520590841D | B13: =IF(COUNTIF($I$2:$I13,I13)=COUNTIF($I$2:$I$394,I13),SUMIF($I$2:$I$394,I13,$N$2:$N$394),"") -> 6.62 | C13: =YEAR(G13) -> 1900 | D13: =(MONTH(G13)) -> 1 | F13: paq.bordeaux | I13: 2520590841D | K13: Affranch Lettre Recom En Ligne av | L13: 1 | M13: 5.37 | N13: 5.37
A14: =IFERROR(IF(B14,I14,""),"") | B14: =IF(COUNTIF($I$2:$I14,I14)=COUNTIF($I$2:$I$394,I14),SUMIF($I$2:$I$394,I14,$N$2:$N$394),"") | C14: =YEAR(G14) -> 1900 | D14: =(MONTH(G14)) -> 1 | F14: paq.bordeaux | I14: 2520590853Y | J14: Envoi du 28 02 | K14: 1ere Page N&B (LREL Facteur C6) | L14: 1 | M14: 0.95 | N14: 0.95
A15: =IFERROR(IF(B15,I15,""),"") | B15: =IF(COUNTIF($I$2:$I15,I15)=COUNTIF($I$2:$I$394,I15),SUMIF($I$2:$I$394,I15,$N$2:$N$394),"") | C15: =YEAR(G15) -> 1900 | D15: =(MONTH(G15)) -> 1 | F15: paq.bordeaux | I15: 2520590853Y | K15: Option Gestion des AR | L15: 1 | M15: 0.3 | N15: 0.3
A16: =IFERROR(IF(B16,I16,""),"") -> 2520590853Y | B16: =IF(COUNTIF($I$2:$I16,I16)=COUNTIF($I$2:$I$394,I16),SUMIF($I$2:$I$394,I16,$N$2:$N$394),"") -> 6.62 | C16: =YEAR(G16) -> 1900 | D16: =(MONTH(G16)) -> 1 | F16: paq.bordeaux | I16: 2520590853Y | K16: Affranch Lettre Recom En Ligne av | L16: 1 | M16: 5.37 | N16: 5.37
A17: =IFERROR(IF(B17,I17,""),"") | B17: =IF(COUNTIF($I$2:$I17,I17)=COUNTIF($I$2:$I$394,I17),SUMIF($I$2:$I$394,I17,$N$2:$N$394),"") | C17: =YEAR(G17) -> 1900 | D17: =(MONTH(G17)) -> 1 | F17: paq.toulousecgr | I17: 2520590856P | J17: Envoi du 28 02 | K17: 1ere Page N&B (LREL Facteur C6) | L17: 1 | M17: 0.95 | N17: 0.95
A18: =IFERROR(IF(B18,I18,""),"") | B18: =IF(COUNTIF($I$2:$I18,I18)=COUNTIF($I$2:$I$394,I18),SUMIF($I$2:$I$394,I18,$N$2:$N$394),"") | C18: =YEAR(G18) -> 1900 | D18: =(MONTH(G18)) -> 1 | F18: paq.toulousecgr | I18: 2520590856P | J18: Envoi du 28 02 | K18: Page Suiv N&B (LREL Facteur C6) | L18: 1 | M18: 0.12 | N18: 0.12
A19: =IFERROR(IF(B19,I19,""),"") | B19: =IF(COUNTIF($I$2:$I19,I19)=COUNTIF($I$2:$I$394,I19),SUMIF($I$2:$I$394,I19,$N$2:$N$394),"") | C19: =YEAR(G19) -> 1900 | D19: =(MONTH(G19)) -> 1 | F19: paq.toulousecgr | I19: 2520590856P | K19: Option Gestion des AR | L19: 1 | M19: 0.3 | N19: 0.3
A20: =IFERROR(IF(B20,I20,""),"") -> 2520590856P | B20: =IF(COUNTIF($I$2:$I20,I20)=COUNTIF($I$2:$I$394,I20),SUMIF($I$2:$I$394,I20,$N$2:$N$394),"") -> 6.74 | C20: =YEAR(G20) -> 1900 | D20: =(MONTH(G20)) -> 1 | F20: paq.toulousecgr | I20: 2520590856P | K20: Affranch Lettre Recom En Ligne av | L20: 1 | M20: 5.37 | N20: 5.37
A21: =IFERROR(IF(B21,I21,""),"") | B21: =IF(COUNTIF($I$2:$I21,I21)=COUNTIF($I$2:$I$394,I21),SUMIF($I$2:$I$394,I21,$N$2:$N$394),"") | C21: =YEAR(G21) -> 1900 | D21: =(MONTH(G21)) -> 1 | F21: paq.toulousecgr | I21: 2520590906G | J21: Envoi du 28 02 | K21: 1ere Page N&B (LREL Facteur C6) | L21: 2 | M21: 0.95 | N21: 1.9
A22: =IFERROR(IF(B22,I22,""),"") | B22: =IF(COUNTIF($I$2:$I22,I22)=COUNTIF($I$2:$I$394,I22),SUMIF($I$2:$I$394,I22,$N$2:$N$394),"") | C22: =YEAR(G22) -> 1900 | D22: =(MONTH(G22)) -> 1 | F22: paq.toulousecgr | I22: 2520590906G | K22: Option Gestion des AR | L22: 2 | M22: 0.3 | N22: 0.6
A23: =IFERROR(IF(B23,I23,""),"") -> 2520590906G | B23: =IF(COUNTIF($I$2:$I23,I23)=COUNTIF($I$2:$I$394,I23),SUMIF($I$2:$I$394,I23,$N$2:$N$394),"") -> 13.24 | C23: =YEAR(G23) -> 1900 | D23: =(MONTH(G23)) -> 1 | F23: paq.toulousecgr | I23: 2520590906G | K23: Affranch Lettre Recom En Ligne av | L23: 2 | M23: 5.37 | N23: 10.74
A24: =IFERROR(IF(B24,I24,""),"") | B24: =IF(COUNTIF($I$2:$I24,I24)=COUNTIF($I$2:$I$394,I24),SUMIF($I$2:$I$394,I24,$N$2:$N$394),"") | C24: =YEAR(G24) -> 1900 | D24: =(MONTH(G24)) -> 1 | F24: paq.toulousecgr | I24: 2520590933K | J24: Envoi du 28 02 | K24: 1ere Page N&B (LREL Facteur C6) | L24: 2 | M24: 0.95 | N24: 1.9
A25: =IFERROR(IF(B25,I25,""),"") | B25: =IF(COUNTIF($I$2:$I25,I25)=COUNTIF($I$2:$I$394,I25),SUMIF($I$2:$I$394,I25,$N$2:$N$394),"") | C25: =YEAR(G25) -> 1900 | D25: =(MONTH(G25)) -> 1 | F25: paq.toulousecgr | I25: 2520590933K | K25: Option Gestion des AR | L25: 2 | M25: 0.3 | N25: 0.6
A26: =IFERROR(IF(B26,I26,""),"") -> 2520590933K | B26: =IF(COUNTIF($I$2:$I26,I26)=COUNTIF($I$2:$I$394,I26),SUMIF($I$2:$I$394,I26,$N$2:$N$394),"") -> 13.24 | C26: =YEAR(G26) -> 1900 | D26: =(MONTH(G26)) -> 1 | F26: paq.toulousecgr | I26: 2520590933K | K26: Affranch Lettre Recom En Ligne av | L26: 2 | M26: 5.37 | N26: 10.74
A27: =IFERROR(IF(B27,I27,""),"") | B27: =IF(COUNTIF($I$2:$I27,I27)=COUNTIF($I$2:$I$394,I27),SUMIF($I$2:$I$394,I27,$N$2:$N$394),"") | C27: =YEAR(G27) -> 1900 | D27: =(MONTH(G27)) -> 1 | F27: paq.bordeaux | I27: 2520590958I | J27: Envoi du 28 02 | K27: 1ere Page N&B (LREL Facteur C6) | L27: 1 | M27: 0.95 | N27: 0.95
A28: =IFERROR(IF(B28,I28,""),"") | B28: =IF(COUNTIF($I$2:$I28,I28)=COUNTIF($I$2:$I$394,I28),SUMIF($I$2:$I$394,I28,$N$2:$N$394),"") | C28: =YEAR(G28) -> 1900 | D28: =(MONTH(G28)) -> 1 | F28: paq.bordeaux | I28: 2520590958I | K28: Option Gestion des AR | L28: 1 | M28: 0.3 | N28: 0.3
A29: =IFERROR(IF(B29,I29,""),"") -> 2520590958I | B29: =IF(COUNTIF($I$2:$I29,I29)=COUNTIF($I$2:$I$394,I29),SUMIF($I$2:$I$394,I29,$N$2:$N$394),"") -> 6.62 | C29: =YEAR(G29) -> 1900 | D29: =(MONTH(G29)) -> 1 | F29: paq.bordeaux | I29: 2520590958I | K29: Affranch Lettre Recom En Ligne av | L29: 1 | M29: 5.37 | N29: 5.37
A30: =IFERROR(IF(B30,I30,""),"") | B30: =IF(COUNTIF($I$2:$I30,I30)=COUNTIF($I$2:$I$394,I30),SUMIF($I$2:$I$394,I30,$N$2:$N$394),"") | C30: =YEAR(G30) -> 1900 | D30: =(MONTH(G30)) -> 1 | F30: paq.toulousecgr | I30: 2520591002P | J30: Envoi du 28 02 | K30: 1ere Page N&B (LREL Facteur C6) | L30: 2 | M30: 0.95 | N30: 1.9
A31: =IFERROR(IF(B31,I31,""),"") | B31: =IF(COUNTIF($I$2:$I31,I31)=COUNTIF($I$2:$I$394,I31),SUMIF($I$2:$I$394,I31,$N$2:$N$394),"") | C31: =YEAR(G31) -> 1900 | D31: =(MONTH(G31)) -> 1 | F31: paq.toulousecgr | I31: 2520591002P | J31: Envoi du 28 02 | K31: Page Suiv N&B (LREL Facteur C6) | L31: 2 | M31: 0.12 | N31: 0.24
A32: =IFERROR(IF(B32,I32,""),"") | B32: =IF(COUNTIF($I$2:$I32,I32)=COUNTIF($I$2:$I$394,I32),SUMIF($I$2:$I$394,I32,$N$2:$N$394),"") | C32: =YEAR(G32) -> 1900 | D32: =(MONTH(G32)) -> 1 | F32: paq.toulousecgr | I32: 2520591002P | K32: Option Gestion des AR | L32: 2 | M32: 0.3 | N32: 0.6
A33: =IFERROR(IF(B33,I33,""),"") -> 2520591002P | B33: =IF(COUNTIF($I$2:$I33,I33)=COUNTIF($I$2:$I$394,I33),SUMIF($I$2:$I$394,I33,$N$2:$N$394),"") -> 13.48 | C33: =YEAR(G33) -> 1900 | D33: =(MONTH(G33)) -> 1 | F33: paq.toulousecgr | I33: 2520591002P | K33: Affranch Lettre Recom En Ligne av | L33: 2 | M33: 5.37 | N33: 10.74
A34: =IFERROR(IF(B34,I34,""),"") | B34: =IF(COUNTIF($I$2:$I34,I34)=COUNTIF($I$2:$I$394,I34),SUMIF($I$2:$I$394,I34,$N$2:$N$394),"") | C34: =YEAR(G34) -> 1900 | D34: =(MONTH(G34)) -> 1 | F34: paq.bordeaux | I34: 2520591003B | J34: Envoi du 28 02 | K34: 1ere Page N&B (LREL Facteur C6) | L34: 1 | M34: 0.95 | N34: 0.95
A35: =IFERROR(IF(B35,I35,""),"") | B35: =IF(COUNTIF($I$2:$I35,I35)=COUNTIF($I$2:$I$394,I35),SUMIF($I$2:$I$394,I35,$N$2:$N$394),"") | C35: =YEAR(G35) -> 1900 | D35: =(MONTH(G35)) -> 1 | F35: paq.bordeaux | I35: 2520591003B | K35: Option Gestion des AR | L35: 1 | M35: 0.3 | N35: 0.3
A36: =IFERROR(IF(B36,I36,""),"") -> 2520591003B | B36: =IF(COUNTIF($I$2:$I36,I36)=COUNTIF($I$2:$I$394,I36),SUMIF($I$2:$I$394,I36,$N$2:$N$394),"") -> 6.62 | C36: =YEAR(G36) -> 1900 | D36: =(MONTH(G36)) -> 1 | F36: paq.bordeaux | I36: 2520591003B | K36: Affranch Lettre Recom En Ligne av | L36: 1 | M36: 5.37 | N36: 5.37
A37: =IFERROR(IF(B37,I37,""),"") | B37: =IF(COUNTIF($I$2:$I37,I37)=COUNTIF($I$2:$I$394,I37),SUMIF($I$2:$I$394,I37,$N$2:$N$394),"") | C37: =YEAR(G37) -> 1900 | D37: =(MONTH(G37)) -> 1 | F37: paq.biarritz | I37: 2520591049T | J37: Envoi du 28 02 | K37: 1ere Page N&B (LREL Facteur C6) | L37: 1 | M37: 0.95 | N37: 0.95
A38: =IFERROR(IF(B38,I38,""),"") | B38: =IF(COUNTIF($I$2:$I38,I38)=COUNTIF($I$2:$I$394,I38),SUMIF($I$2:$I$394,I38,$N$2:$N$394),"") | C38: =YEAR(G38) -> 1900 | D38: =(MONTH(G38)) -> 1 | F38: paq.biarritz | I38: 2520591049T | K38: Option Gestion des AR | L38: 1 | M38: 0.3 | N38: 0.3
A39: =IFERROR(IF(B39,I39,""),"") -> 2520591049T | B39: =IF(COUNTIF($I$2:$I39,I39)=COUNTIF($I$2:$I$394,I39),SUMIF($I$2:$I$394,I39,$N$2:$N$394),"") -> 6.62 | C39: =YEAR(G39) -> 1900 | D39: =(MONTH(G39)) -> 1 | F39: paq.biarritz | I39: 2520591049T | K39: Affranch Lettre Recom En Ligne av | L39: 1 | M39: 5.37 | N39: 5.37
A40: =IFERROR(IF(B40,I40,""),"") | B40: =IF(COUNTIF($I$2:$I40,I40)=COUNTIF($I$2:$I$394,I40),SUMIF($I$2:$I$394,I40,$N$2:$N$394),"") | C40: =YEAR(G40) -> 1900 | D40: =(MONTH(G40)) -> 1 | F40: paq.toulousecgr | I40: 2520591075J | J40: Envoi du 28 02 | K40: 1ere Page N&B (LREL Facteur C6) | L40: 1 | M40: 0.95 | N40: 0.95
A41: =IFERROR(IF(B41,I41,""),"") | B41: =IF(COUNTIF($I$2:$I41,I41)=COUNTIF($I$2:$I$394,I41),SUMIF($I$2:$I$394,I41,$N$2:$N$394),"") | C41: =YEAR(G41) -> 1900 | D41: =(MONTH(G41)) -> 1 | F41: paq.toulousecgr | I41: 2520591075J | K41: Option Gestion des AR | L41: 1 | M41: 0.3 | N41: 0.3
A42: =IFERROR(IF(B42,I42,""),"") -> 2520591075J | B42: =IF(COUNTIF($I$2:$I42,I42)=COUNTIF($I$2:$I$394,I42),SUMIF($I$2:$I$394,I42,$N$2:$N$394),"") -> 6.62 | C42: =YEAR(G42) -> 1900 | D42: =(MONTH(G42)) -> 1 | F42: paq.toulousecgr | I42: 2520591075J | K42: Affranch Lettre Recom En Ligne av | L42: 1 | M42: 5.37 | N42: 5.37
A43: =IFERROR(IF(B43,I43,""),"") | B43: =IF(COUNTIF($I$2:$I43,I43)=COUNTIF($I$2:$I$394,I43),SUMIF($I$2:$I$394,I43,$N$2:$N$394),"") | C43: =YEAR(G43) -> 1900 | D43: =(MONTH(G43)) -> 1 | F43: paq.rodez | I43: 2520591164X | J43: 2022057761 | K43: 1ere Page N&B (LREL Facteur C6) | L43: 1 | M43: 0.95 | N43: 0.95
A44: =IFERROR(IF(B44,I44,""),"") | B44: =IF(COUNTIF($I$2:$I44,I44)=COUNTIF($I$2:$I$394,I44),SUMIF($I$2:$I$394,I44,$N$2:$N$394),"") | C44: =YEAR(G44) -> 1900 | D44: =(MONTH(G44)) -> 1 | F44: paq.rodez | I44: 2520591164X | K44: Option Gestion des AR | L44: 1 | M44: 0.3 | N44: 0.3
A45: =IFERROR(IF(B45,I45,""),"") -> 2520591164X | B45: =IF(COUNTIF($I$2:$I45,I45)=COUNTIF($I$2:$I$394,I45),SUMIF($I$2:$I$394,I45,$N$2:$N$394),"") -> 6.62 | C45: =YEAR(G45) -> 1900 | D45: =(MONTH(G45)) -> 1 | F45: paq.rodez | I45: 2520591164X | K45: Affranch Lettre Recom En Ligne av | L45: 1 | M45: 5.37 | N45: 5.37
A46: =IFERROR(IF(B46,I46,""),"") | B46: =IF(COUNTIF($I$2:$I46,I46)=COUNTIF($I$2:$I$394,I46),SUMIF($I$2:$I$394,I46,$N$2:$N$394),"") | C46: =YEAR(G46) -> 1900 | D46: =(MONTH(G46)) -> 1 | F46: paq.toulousecgr | I46: 2520591166X | J46: Envoi du 28 02 | K46: 1ere Page N&B (LREL Facteur C6) | L46: 3 | M46: 0.95 | N46: 2.85
A47: =IFERROR(IF(B47,I47,""),"") | B47: =IF(COUNTIF($I$2:$I47,I47)=COUNTIF($I$2:$I$394,I47),SUMIF($I$2:$I$394,I47,$N$2:$N$394),"") | C47: =YEAR(G47) -> 1900 | D47: =(MONTH(G47)) -> 1 | F47: paq.toulousecgr | I47: 2520591166X | K47: Option Gestion des AR | L47: 3 | M47: 0.3 | N47: 0.9
A48: =IFERROR(IF(B48,I48,""),"") -> 2520591166X | B48: =IF(COUNTIF($I$2:$I48,I48)=COUNTIF($I$2:$I$394,I48),SUMIF($I$2:$I$394,I48,$N$2:$N$394),"") -> 19.86 | C48: =YEAR(G48) -> 1900 | D48: =(MONTH(G48)) -> 1 | F48: paq.toulousecgr | I48: 2520591166X | K48: Affranch Lettre Recom En Ligne av | L48: 3 | M48: 5.37 | N48: 16.11
A49: =IFERROR(IF(B49,I49,""),"") | B49: =IF(COUNTIF($I$2:$I49,I49)=COUNTIF($I$2:$I$394,I49),SUMIF($I$2:$I$394,I49,$N$2:$N$394),"") | C49: =YEAR(G49) -> 1900 | D49: =(MONTH(G49)) -> 1 | F49: paq.toulousecgr | I49: 2520591208I | J49: Envoi du 28 02 | K49: 1ere Page N&B (LREL Facteur C6) | L49: 3 | M49: 0.95 | N49: 2.85
A50: =IFERROR(IF(B50,I50,""),"") | B50: =IF(COUNTIF($I$2:$I50,I50)=COUNTIF($I$2:$I$394,I50),SUMIF($I$2:$I$394,I50,$N$2:$N$394),"") | C50: =YEAR(G50) -> 1900 | D50: =(MONTH(G50)) -> 1 | F50: paq.toulousecgr | I50: 2520591208I | K50: Option Gestion des AR | L50: 3 | M50: 0.3 | N50: 0.9
A51: =IFERROR(IF(B51,I51,""),"") -> 2520591208I | B51: =IF(COUNTIF($I$2:$I51,I51)=COUNTIF($I$2:$I$394,I51),SUMIF($I$2:$I$394,I51,$N$2:$N$394),"") -> 19.86 | C51: =YEAR(G51) -> 1900 | D51: =(MONTH(G51)) -> 1 | F51: paq.toulousecgr | I51: 2520591208I | K51: Affranch Lettre Recom En Ligne av | L51: 3 | M51: 5.37 | N51: 16.11
A52: =IFERROR(IF(B52,I52,""),"") | B52: =IF(COUNTIF($I$2:$I52,I52)=COUNTIF($I$2:$I$394,I52),SUMIF($I$2:$I$394,I52,$N$2:$N$394),"") | C52: =YEAR(G52) -> 1900 | D52: =(MONTH(G52)) -> 1 | F52: paq.toulousecgr | I52: 2520591258B | J52: Envoi du 28 02 | K52: 1ere Page N&B (LREL Facteur C6) | L52: 1 | M52: 0.95 | N52: 0.95
A53: =IFERROR(IF(B53,I53,""),"") | B53: =IF(COUNTIF($I$2:$I53,I53)=COUNTIF($I$2:$I$394,I53),SUMIF($I$2:$I$394,I53,$N$2:$N$394),"") | C53: =YEAR(G53) -> 1900 | D53: =(MONTH(G53)) -> 1 | F53: paq.toulousecgr | I53: 2520591258B | K53: Option Gestion des AR | L53: 1 | M53: 0.3 | N53: 0.3
A54: =IFERROR(IF(B54,I54,""),"") -> 2520591258B | B54: =IF(COUNTIF($I$2:$I54,I54)=COUNTIF($I$2:$I$394,I54),SUMIF($I$2:$I$394,I54,$N$2:$N$394),"") -> 6.62 | C54: =YEAR(G54) -> 1900 | D54: =(MONTH(G54)) -> 1 | F54: paq.toulousecgr | I54: 2520591258B | K54: Affranch Lettre Recom En Ligne av | L54: 1 | M54: 5.37 | N54: 5.37
A55: =IFERROR(IF(B55,I55,""),"") | B55: =IF(COUNTIF($I$2:$I55,I55)=COUNTIF($I$2:$I$394,I55),SUMIF($I$2:$I$394,I55,$N$2:$N$394),"") | C55: =YEAR(G55) -> 1900 | D55: =(MONTH(G55)) -> 1 | F55: paq.toulousecgr | I55: 2520591276M | J55: Envoi du 28 02 | K55: 1ere Page N&B (LREL Facteur C6) | L55: 2 | M55: 0.95 | N55: 1.9
A56: =IFERROR(IF(B56,I56,""),"") | B56: =IF(COUNTIF($I$2:$I56,I56)=COUNTIF($I$2:$I$394,I56),SUMIF($I$2:$I$394,I56,$N$2:$N$394),"") | C56: =YEAR(G56) -> 1900 | D56: =(MONTH(G56)) -> 1 | F56: paq.toulousecgr | I56: 2520591276M | J56: Envoi du 28 02 | K56: Page Suiv N&B (LREL Facteur C6) | L56: 2 | M56: 0.12 | N56: 0.24
A57: =IFERROR(IF(B57,I57,""),"") | B57: =IF(COUNTIF($I$2:$I57,I57)=COUNTIF($I$2:$I$394,I57),SUMIF($I$2:$I$394,I57,$N$2:$N$394),"") | C57: =YEAR(G57) -> 1900 | D57: =(MONTH(G57)) -> 1 | F57: paq.toulousecgr | I57: 2520591276M | K57: Option Gestion des AR | L57: 2 | M57: 0.3 | N57: 0.6
A58: =IFERROR(IF(B58,I58,""),"") -> 2520591276M | B58: =IF(COUNTIF($I$2:$I58,I58)=COUNTIF($I$2:$I$394,I58),SUMIF($I$2:$I$394,I58,$N$2:$N$394),"") -> 13.48 | C58: =YEAR(G58) -> 1900 | D58: =(MONTH(G58)) -> 1 | F58: paq.toulousecgr | I58: 2520591276M | K58: Affranch Lettre Recom En Ligne av | L58: 2 | M58: 5.37 | N58: 10.74
A59: =IFERROR(IF(B59,I59,""),"") | B59: =IF(COUNTIF($I$2:$I59,I59)=COUNTIF($I$2:$I$394,I59),SUMIF($I$2:$I$394,I59,$N$2:$N$394),"") | C59: =YEAR(G59) -> 1900 | D59: =(MONTH(G59)) -> 1 | F59: paq.toulousecgr | I59: 2520591287Z | J59: Envoi du 28 02 | K59: 1ere Page N&B (LREL Facteur C6) | L59: 3 | M59: 0.95 | N59: 2.85
A60: =IFERROR(IF(B60,I60,""),"") | B60: =IF(COUNTIF($I$2:$I60,I60)=COUNTIF($I$2:$I$394,I60),SUMIF($I$2:$I$394,I60,$N$2:$N$394),"") | C60: =YEAR(G60) -> 1900 | D60: =(MONTH(G60)) -> 1 | F60: paq.toulousecgr | I60: 2520591287Z | K60: Option Gestion des AR | L60: 3 | M60: 0.3 | N60: 0.9
A61: =IFERROR(IF(B61,I61,""),"") -> 2520591287Z | B61: =IF(COUNTIF($I$2:$I61,I61)=COUNTIF($I$2:$I$394,I61),SUMIF($I$2:$I$394,I61,$N$2:$N$394),"") -> 19.86 | C61: =YEAR(G61) -> 1900 | D61: =(MONTH(G61)) -> 1 | F61: paq.toulousecgr | I61: 2520591287Z | K61: Affranch Lettre Recom En Ligne av | L61: 3 | M61: 5.37 | N61: 16.11
A62: =IFERROR(IF(B62,I62,""),"") | B62: =IF(COUNTIF($I$2:$I62,I62)=COUNTIF($I$2:$I$394,I62),SUMIF($I$2:$I$394,I62,$N$2:$N$394),"") | C62: =YEAR(G62) -> 1900 | D62: =(MONTH(G62)) -> 1 | F62: paq.toulousecgr | I62: 2520591299X | J62: Envoi du 28 02 | K62: 1ere Page N&B (LREL Facteur C6) | L62: 4 | M62: 0.95 | N62: 3.8
A63: =IFERROR(IF(B63,I63,""),"") | B63: =IF(COUNTIF($I$2:$I63,I63)=COUNTIF($I$2:$I$394,I63),SUMIF($I$2:$I$394,I63,$N$2:$N$394),"") | C63: =YEAR(G63) -> 1900 | D63: =(MONTH(G63)) -> 1 | F63: paq.toulousecgr | I63: 2520591299X | K63: Option Gestion des AR | L63: 4 | M63: 0.3 | N63: 1.2
A64: =IFERROR(IF(B64,I64,""),"") -> 2520591299X | B64: =IF(COUNTIF($I$2:$I64,I64)=COUNTIF($I$2:$I$394,I64),SUMIF($I$2:$I$394,I64,$N$2:$N$394),"") -> 26.48 | C64: =YEAR(G64) -> 1900 | D64: =(MONTH(G64)) -> 1 | F64: paq.toulousecgr | I64: 2520591299X | K64: Affranch Lettre Recom En Ligne av | L64: 4 | M64: 5.37 | N64: 21.48
A65: =IFERROR(IF(B65,I65,""),"") | B65: =IF(COUNTIF($I$2:$I65,I65)=COUNTIF($I$2:$I$394,I65),SUMIF($I$2:$I$394,I65,$N$2:$N$394),"") | C65: =YEAR(G65) -> 1900 | D65: =(MONTH(G65)) -> 1 | F65: paq.toulousecgr | I65: 2520591459H | J65: Envoi du 28 02 | K65: 1ere Page N&B (LREL Facteur C6) | L65: 2 | M65: 0.95 | N65: 1.9
A66: =IFERROR(IF(B66,I66,""),"") | B66: =IF(COUNTIF($I$2:$I66,I66)=COUNTIF($I$2:$I$394,I66),SUMIF($I$2:$I$394,I66,$N$2:$N$394),"") | C66: =YEAR(G66) -> 1900 | D66: =(MONTH(G66)) -> 1 | F66: paq.toulousecgr | I66: 2520591459H | K66: Option Gestion des AR | L66: 2 | M66: 0.3 | N66: 0.6
A67: =IFERROR(IF(B67,I67,""),"") -> 2520591459H | B67: =IF(COUNTIF($I$2:$I67,I67)=COUNTIF($I$2:$I$394,I67),SUMIF($I$2:$I$394,I67,$N$2:$N$394),"") -> 13.24 | C67: =YEAR(G67) -> 1900 | D67: =(MONTH(G67)) -> 1 | F67: paq.toulousecgr | I67: 2520591459H | K67: Affranch Lettre Recom En Ligne av | L67: 2 | M67: 5.37 | N67: 10.74
A68: =IFERROR(IF(B68,I68,""),"") | B68: =IF(COUNTIF($I$2:$I68,I68)=COUNTIF($I$2:$I$394,I68),SUMIF($I$2:$I$394,I68,$N$2:$N$394),"") | C68: =YEAR(G68) -> 1900 | D68: =(MONTH(G68)) -> 1 | F68: paq.toulousecgr | I68: 2520591548R | J68: Envoi du 28 02 | K68: 1ere Page N&B (LREL Facteur C6) | L68: 2 | M68: 0.95 | N68: 1.9
A69: =IFERROR(IF(B69,I69,""),"") | B69: =IF(COUNTIF($I$2:$I69,I69)=COUNTIF($I$2:$I$394,I69),SUMIF($I$2:$I$394,I69,$N$2:$N$394),"") | C69: =YEAR(G69) -> 1900 | D69: =(MONTH(G69)) -> 1 | F69: paq.toulousecgr | I69: 2520591548R | K69: Option Gestion des AR | L69: 2 | M69: 0.3 | N69: 0.6
A70: =IFERROR(IF(B70,I70,""),"") -> 2520591548R | B70: =IF(COUNTIF($I$2:$I70,I70)=COUNTIF($I$2:$I$394,I70),SUMIF($I$2:$I$394,I70,$N$2:$N$394),"") -> 13.24 | C70: =YEAR(G70) -> 1900 | D70: =(MONTH(G70)) -> 1 | F70: paq.toulousecgr | I70: 2520591548R | K70: Affranch Lettre Recom En Ligne av | L70: 2 | M70: 5.37 | N70: 10.74
A71: =IFERROR(IF(B71,I71,""),"") | B71: =IF(COUNTIF($I$2:$I71,I71)=COUNTIF($I$2:$I$394,I71),SUMIF($I$2:$I$394,I71,$N$2:$N$394),"") | C71: =YEAR(G71) -> 1900 | D71: =(MONTH(G71)) -> 1 | F71: paq.toulousecgr | I71: 2520591702H | J71: Envoi du 28 02 | K71: 1ere Page N&B (LREL Facteur C6) | L71: 1 | M71: 0.95 | N71: 0.95
A72: =IFERROR(IF(B72,I72,""),"") | B72: =IF(COUNTIF($I$2:$I72,I72)=COUNTIF($I$2:$I$394,I72),SUMIF($I$2:$I$394,I72,$N$2:$N$394),"") | C72: =YEAR(G72) -> 1900 | D72: =(MONTH(G72)) -> 1 | F72: paq.toulousecgr | I72: 2520591702H | J72: Envoi du 28 02 | K72: Page Suiv N&B (LREL Facteur C6) | L72: 1 | M72: 0.12 | N72: 0.12
A73: =IFERROR(IF(B73,I73,""),"") | B73: =IF(COUNTIF($I$2:$I73,I73)=COUNTIF($I$2:$I$394,I73),SUMIF($I$2:$I$394,I73,$N$2:$N$394),"") | C73: =YEAR(G73) -> 1900 | D73: =(MONTH(G73)) -> 1 | F73: paq.toulousecgr | I73: 2520591702H | K73: Option Gestion des AR | L73: 1 | M73: 0.3 | N73: 0.3
A74: =IFERROR(IF(B74,I74,""),"") -> 2520591702H | B74: =IF(COUNTIF($I$2:$I74,I74)=COUNTIF($I$2:$I$394,I74),SUMIF($I$2:$I$394,I74,$N$2:$N$394),"") -> 6.74 | C74: =YEAR(G74) -> 1900 | D74: =(MONTH(G74)) -> 1 | F74: paq.toulousecgr | I74: 2520591702H | K74: Affranch Lettre Recom En Ligne av | L74: 1 | M74: 5.37 | N74: 5.37
A75: =IFERROR(IF(B75,I75,""),"") | B75: =IF(COUNTIF($I$2:$I75,I75)=COUNTIF($I$2:$I$394,I75),SUMIF($I$2:$I$394,I75,$N$2:$N$394),"") | C75: =YEAR(G75) -> 1900 | D75: =(MONTH(G75)) -> 1 | F75: paq.toulousecgr | I75: 2520591702N | J75: Envoi du 28 02 | K75: 1ere Page N&B (LREL Facteur C6) | L75: 1 | M75: 0.95 | N75: 0.95
A76: =IFERROR(IF(B76,I76,""),"") | B76: =IF(COUNTIF($I$2:$I76,I76)=COUNTIF($I$2:$I$394,I76),SUMIF($I$2:$I$394,I76,$N$2:$N$394),"") | C76: =YEAR(G76) -> 1900 | D76: =(MONTH(G76)) -> 1 | F76: paq.toulousecgr | I76: 2520591702N | J76: Envoi du 28 02 | K76: Page Suiv N&B (LREL Facteur C6) | L76: 1 | M76: 0.12 | N76: 0.12
A77: =IFERROR(IF(B77,I77,""),"") | B77: =IF(COUNTIF($I$2:$I77,I77)=COUNTIF($I$2:$I$394,I77),SUMIF($I$2:$I$394,I77,$N$2:$N$394),"") | C77: =YEAR(G77) -> 1900 | D77: =(MONTH(G77)) -> 1 | F77: paq.toulousecgr | I77: 2520591702N | K77: Option Gestion des AR | L77: 1 | M77: 0.3 | N77: 0.3
A78: =IFERROR(IF(B78,I78,""),"") -> 2520591702N | B78: =IF(COUNTIF($I$2:$I78,I78)=COUNTIF($I$2:$I$394,I78),SUMIF($I$2:$I$394,I78,$N$2:$N$394),"") -> 6.74 | C78: =YEAR(G78) -> 1900 | D78: =(MONTH(G78)) -> 1 | F78: paq.toulousecgr | I78: 2520591702N | K78: Affranch Lettre Recom En Ligne av | L78: 1 | M78: 5.37 | N78: 5.37
A79: =IFERROR(IF(B79,I79,""),"") | B79: =IF(COUNTIF($I$2:$I79,I79)=COUNTIF($I$2:$I$394,I79),SUMIF($I$2:$I$394,I79,$N$2:$N$394),"") | C79: =YEAR(G79) -> 1900 | D79: =(MONTH(G79)) -> 1 | F79: paq.toulousecgr | I79: 2520591863C | J79: Envoi du 28 02 | K79: 1ere Page N&B (LREL Facteur C6) | L79: 3 | M79: 0.95 | N79: 2.85
A80: =IFERROR(IF(B80,I80,""),"") | B80: =IF(COUNTIF($I$2:$I80,I80)=COUNTIF($I$2:$I$394,I80),SUMIF($I$2:$I$394,I80,$N$2:$N$394),"") | C80: =YEAR(G80) -> 1900 | D80: =(MONTH(G80)) -> 1 | F80: paq.toulousecgr | I80: 2520591863C | J80: Envoi du 28 02 | K80: Page Suiv N&B (LREL Facteur C6) | L80: 3 | M80: 0.12 | N80: 0.36
A81: =IFERROR(IF(B81,I81,""),"") | B81: =IF(COUNTIF($I$2:$I81,I81)=COUNTIF($I$2:$I$394,I81),SUMIF($I$2:$I$394,I81,$N$2:$N$394),"") | C81: =YEAR(G81) -> 1900 | D81: =(MONTH(G81)) -> 1 | F81: paq.toulousecgr | I81: 2520591863C | K81: Option Gestion des AR | L81: 3 | M81: 0.3 | N81: 0.9
A82: =IFERROR(IF(B82,I82,""),"") -> 2520591863C | B82: =IF(COUNTIF($I$2:$I82,I82)=COUNTIF($I$2:$I$394,I82),SUMIF($I$2:$I$394,I82,$N$2:$N$394),"") -> 20.22 | C82: =YEAR(G82) -> 1900 | D82: =(MONTH(G82)) -> 1 | F82: paq.toulousecgr | I82: 2520591863C | K82: Affranch Lettre Recom En Ligne av | L82: 3 | M82: 5.37 | N82: 16.11
A83: =IFERROR(IF(B83,I83,""),"") | B83: =IF(COUNTIF($I$2:$I83,I83)=COUNTIF($I$2:$I$394,I83),SUMIF($I$2:$I$394,I83,$N$2:$N$394),"") | C83: =YEAR(G83) -> 1900 | D83: =(MONTH(G83)) -> 1 | F83: paq.toulousecgr | I83: 2520591865C | J83: Envoi du 28 02 | K83: 1ere Page N&B (LREL Facteur C6) | L83: 3 | M83: 0.95 | N83: 2.85
A84: =IFERROR(IF(B84,I84,""),"") | B84: =IF(COUNTIF($I$2:$I84,I84)=COUNTIF($I$2:$I$394,I84),SUMIF($I$2:$I$394,I84,$N$2:$N$394),"") | C84: =YEAR(G84) -> 1900 | D84: =(MONTH(G84)) -> 1 | F84: paq.toulousecgr | I84: 2520591865C | J84: Envoi du 28 02 | K84: Page Suiv N&B (LREL Facteur C6) | L84: 3 | M84: 0.12 | N84: 0.36
A85: =IFERROR(IF(B85,I85,""),"") | B85: =IF(COUNTIF($I$2:$I85,I85)=COUNTIF($I$2:$I$394,I85),SUMIF($I$2:$I$394,I85,$N$2:$N$394),"") | C85: =YEAR(G85) -> 1900 | D85: =(MONTH(G85)) -> 1 | F85: paq.toulousecgr | I85: 2520591865C | K85: Option Gestion des AR | L85: 3 | M85: 0.3 | N85: 0.9
A86: =IFERROR(IF(B86,I86,""),"") -> 2520591865C | B86: =IF(COUNTIF($I$2:$I86,I86)=COUNTIF($I$2:$I$394,I86),SUMIF($I$2:$I$394,I86,$N$2:$N$394),"") -> 20.22 | C86: =YEAR(G86) -> 1900 | D86: =(MONTH(G86)) -> 1 | F86: paq.toulousecgr | I86: 2520591865C | K86: Affranch Lettre Recom En Ligne av | L86: 3 | M86: 5.37 | N86: 16.11
A87: =IFERROR(IF(B87,I87,""),"") | B87: =IF(COUNTIF($I$2:$I87,I87)=COUNTIF($I$2:$I$394,I87),SUMIF($I$2:$I$394,I87,$N$2:$N$394),"") | C87: =YEAR(G87) -> 1900 | D87: =(MONTH(G87)) -> 1 | F87: paq.bordeaux | I87: 2520592000R | J87: Envoi du 28 02 | K87: 1ere Page N&B (LREL Facteur C6) | L87: 5 | M87: 0.95 | N87: 4.75
A88: =IFERROR(IF(B88,I88,""),"") | B88: =IF(COUNTIF($I$2:$I88,I88)=COUNTIF($I$2:$I$394,I88),SUMIF($I$2:$I$394,I88,$N$2:$N$394),"") | C88: =YEAR(G88) -> 1900 | D88: =(MONTH(G88)) -> 1 | F88: paq.bordeaux | I88: 2520592000R | K88: Option Gestion des AR | L88: 5 | M88: 0.3 | N88: 1.5
A89: =IFERROR(IF(B89,I89,""),"") -> 2520592000R | B89: =IF(COUNTIF($I$2:$I89,I89)=COUNTIF($I$2:$I$394,I89),SUMIF($I$2:$I$394,I89,$N$2:$N$394),"") -> 33.1 | C89: =YEAR(G89) -> 1900 | D89: =(MONTH(G89)) -> 1 | F89: paq.bordeaux | I89: 2520592000R | K89: Affranch Lettre Recom En Ligne av | L89: 5 | M89: 5.37 | N89: 26.85
A90: =IFERROR(IF(B90,I90,""),"") | B90: =IF(COUNTIF($I$2:$I90,I90)=COUNTIF($I$2:$I$394,I90),SUMIF($I$2:$I$394,I90,$N$2:$N$394),"") | C90: =YEAR(G90) -> 1900 | D90: =(MONTH(G90)) -> 1 | F90: paq.toulousecgr | I90: 2520592031P | J90: Envoi du 28 02 | K90: 1ere Page N&B (LREL Facteur C6) | L90: 1 | M90: 0.95 | N90: 0.95
A91: =IFERROR(IF(B91,I91,""),"") | B91: =IF(COUNTIF($I$2:$I91,I91)=COUNTIF($I$2:$I$394,I91),SUMIF($I$2:$I$394,I91,$N$2:$N$394),"") | C91: =YEAR(G91) -> 1900 | D91: =(MONTH(G91)) -> 1 | F91: paq.toulousecgr | I91: 2520592031P | J91: Envoi du 28 02 | K91: Page Suiv N&B (LREL Facteur C6) | L91: 1 | M91: 0.12 | N91: 0.12
A92: =IFERROR(IF(B92,I92,""),"") | B92: =IF(COUNTIF($I$2:$I92,I92)=COUNTIF($I$2:$I$394,I92),SUMIF($I$2:$I$394,I92,$N$2:$N$394),"") | C92: =YEAR(G92) -> 1900 | D92: =(MONTH(G92)) -> 1 | F92: paq.toulousecgr | I92: 2520592031P | K92: Option Gestion des AR | L92: 1 | M92: 0.3 | N92: 0.3
A93: =IFERROR(IF(B93,I93,""),"") -> 2520592031P | B93: =IF(COUNTIF($I$2:$I93,I93)=COUNTIF($I$2:$I$394,I93),SUMIF($I$2:$I$394,I93,$N$2:$N$394),"") -> 6.74 | C93: =YEAR(G93) -> 1900 | D93: =(MONTH(G93)) -> 1 | F93: paq.toulousecgr | I93: 2520592031P | K93: Affranch Lettre Recom En Ligne av | L93: 1 | M93: 5.37 | N93: 5.37
A94: =IFERROR(IF(B94,I94,""),"") | B94: =IF(COUNTIF($I$2:$I94,I94)=COUNTIF($I$2:$I$394,I94),SUMIF($I$2:$I$394,I94,$N$2:$N$394),"") | C94: =YEAR(G94) -> 1900 | D94: =(MONTH(G94)) -> 1 | F94: paq.toulousecgr | I94: 2520592047A | J94: Envoi du 28 02 | K94: 1ere Page N&B (LREL Facteur C6) | L94: 1 | M94: 0.95 | N94: 0.95
A95: =IFERROR(IF(B95,I95,""),"") | B95: =IF(COUNTIF($I$2:$I95,I95)=COUNTIF($I$2:$I$394,I95),SUMIF($I$2:$I$394,I95,$N$2:$N$394),"") | C95: =YEAR(G95) -> 1900 | D95: =(MONTH(G95)) -> 1 | F95: paq.toulousecgr | I95: 2520592047A | J95: Envoi du 28 02 | K95: Page Suiv N&B (LREL Facteur C6) | L95: 1 | M95: 0.12 | N95: 0.12
A96: =IFERROR(IF(B96,I96,""),"") | B96: =IF(COUNTIF($I$2:$I96,I96)=COUNTIF($I$2:$I$394,I96),SUMIF($I$2:$I$394,I96,$N$2:$N$394),"") | C96: =YEAR(G96) -> 1900 | D96: =(MONTH(G96)) -> 1 | F96: paq.toulousecgr | I96: 2520592047A | K96: Option Gestion des AR | L96: 1 | M96: 0.3 | N96: 0.3
A97: =IFERROR(IF(B97,I97,""),"") -> 2520592047A | B97: =IF(COUNTIF($I$2:$I97,I97)=COUNTIF($I$2:$I$394,I97),SUMIF($I$2:$I$394,I97,$N$2:$N$394),"") -> 6.74 | C97: =YEAR(G97) -> 1900 | D97: =(MONTH(G97)) -> 1 | F97: paq.toulousecgr | I97: 2520592047A | K97: Affranch Lettre Recom En Ligne av | L97: 1 | M97: 5.37 | N97: 5.37
A98: =IFERROR(IF(B98,I98,""),"") | B98: =IF(COUNTIF($I$2:$I98,I98)=COUNTIF($I$2:$I$394,I98),SUMIF($I$2:$I$394,I98,$N$2:$N$394),"") | C98: =YEAR(G98) -> 1900 | D98: =(MONTH(G98)) -> 1 | F98: paq.toulousecgr | I98: 2520592047G | J98: Envoi du 28 02 | K98: 1ere Page N&B (LREL Facteur C6) | L98: 2 | M98: 0.95 | N98: 1.9
A99: =IFERROR(IF(B99,I99,""),"") | B99: =IF(COUNTIF($I$2:$I99,I99)=COUNTIF($I$2:$I$394,I99),SUMIF($I$2:$I$394,I99,$N$2:$N$394),"") | C99: =YEAR(G99) -> 1900 | D99: =(MONTH(G99)) -> 1 | F99: paq.toulousecgr | I99: 2520592047G | K99: Option Gestion des AR | L99: 2 | M99: 0.3 | N99: 0.6
A100: =IFERROR(IF(B100,I100,""),"") -> 2520592047G | B100: =IF(COUNTIF($I$2:$I100,I100)=COUNTIF($I$2:$I$394,I100),SUMIF($I$2:$I$394,I100,$N$2:$N$394),"") -> 13.24 | C100: =YEAR(G100) -> 1900 | D100: =(MONTH(G100)) -> 1 | F100: paq.toulousecgr | I100: 2520592047G | K100: Affranch Lettre Recom En Ligne av | L100: 2 | M100: 5.37 | N100: 10.74
...

Sheet Export PGD TRIGRAMMES
A1: Code | B1: Nom | C1: Agence
A2: ABC
A3: GIG
A4: AZC
A5: SAN
A6: AHZ
A7: SIU
A8: SAU
A9: ZPX09
A10: COB
A11: UEL
A12: SBK
A13: BAR
... A255: use
