Workbook

Sheet Requête
A10: N° client | B10: Marque | C10: Modèle | D10: Année | E10: VH | F10: Tarif
A11: 154 | B11: FIAT | C11: 500X | D11: 2015 | E11: TRUE | F11: 2700
A12: 159 | B12: HONDA | C12: CR-Z | D12: 2012 | E12: FALSE | F12: 4000
A13: 192 | B13: MERCEDES | C13: CLASSE A | D13: 2019 | E13: FALSE | F13: 6500
A14: 171 | B14: MINI | C14: MINI | D14: 2017 | E14: FALSE | F14: 4400
A15: 354 | B15: SEAT | C15: LEON | D15: 2015 | E15: TRUE | F15: 4400
A16: 18 | B16: DACIA | C16: SANDERO | D16: 2014 | E16: FALSE | F16: 2100
A17: 90 | B17: AUDI | C17: A6 | D17: 2017 | E17: TRUE | F17: 3700
A18: 282 | B18: TOYOTA | C18: YARIS | D18: 2013 | E18: TRUE | F18: 1750
A19: 500 | B19: ALFA ROMEO | C19: GIULIETTA | D19: 2019 | E19: FALSE | F19: 6450
A20: 120 | B20: BMW | C20: X2 | D20: 2020 | E20: TRUE | F20: 8850
A21: 221 | B21: FORD | C21: FOCUS | D21: 2019 | E21: FALSE | F21: 4500
A22: 44 | B22: MERCEDES | C22: CLASSE C | D22: 2021 | E22: TRUE | F22: 8400
A23: 40 | B23: PEUGEOT | C23: 407 | D23: 2012 | E23: TRUE | F23: 1800

Sheet Feuil1
A10: N° client | B10: Marque | C10: Modèle | D10: Année | E10: VH | F10: Tarif | G10: A faire
A11: 154 | B11: FIAT | C11: 500X | D11: 2015 | E11: TRUE | F11: 2700 | G11: Oui
A12: 159 | B12: HONDA | C12: CR-Z | D12: 2012 | E12: FALSE | F12: 4000 | G12: Oui
A13: 301 | B13: DACIA | C13: DUSTER | D13: 2017 | E13: FALSE | F13: 3500 | G13: Non
A14: 164 | B14: AUDI | C14: A3 | D14: 2018 | E14: TRUE | F14: 4000 | G14: Non
A15: 192 | B15: MERCEDES | C15: CLASSE A | D15: 2019 | E15: FALSE | F15: 6500 | G15: Oui | L15: Oui
A16: 171 | B16: MINI | C16: MINI | D16: 2017 | E16: FALSE | F16: 4400 | G16: Oui | L16: Non
A17: 144 | B17: AUDI | C17: Q5 | D17: 2017 | E17: TRUE | F17: 5250 | G17: Non
A18: 287 | B18: PEUGEOT | C18: 407 | D18: 2012 | E18: FALSE | F18: 1800 | G18: Non
A19: 180 | B19: OPEL | C19: CORSA | D19: 2015 | E19: TRUE | F19: 3000 | G19: Non
A20: 409 | B20: AUDI | C20: A3 | D20: 2019 | E20: FALSE | F20: 4600 | G20: Non
A21: 354 | B21: SEAT | C21: LEON | D21: 2015 | E21: TRUE | F21: 4400 | G21: Oui
A22: 85 | B22: RENAULT | C22: CLIO | D22: 2018 | E22: TRUE | F22: 2850 | G22: Non
A23: 18 | B23: DACIA | C23: SANDERO | D23: 2014 | E23: FALSE | F23: 2100 | G23: Oui
A24: 90 | B24: AUDI | C24: A6 | D24: 2017 | E24: TRUE | F24: 3700 | G24: Oui
A25: 81 | B25: MERCEDES | C25: AMG | D25: 2019 | E25: TRUE | F25: 9500 | G25: Non
A26: 282 | B26: TOYOTA | C26: YARIS | D26: 2013 | E26: TRUE | F26: 1750 | G26: Oui
A27: 33 | B27: SEAT | C27: IBIZA | D27: 2017 | E27: FALSE | F27: 4800 | G27: Non
A28: 500 | B28: ALFA ROMEO | C28: GIULIETTA | D28: 2019 | E28: FALSE | F28: 6450 | G28: Oui
A29: 77 | B29: FIAT | C29: PANDA | D29: 2015 | E29: FALSE | F29: 2800 | G29: Non
A30: 128 | B30: BMW | C30: SERIE 3 | D30: 2014 | E30: FALSE | F30: 4800 | G30: Non
... A38: 195 | B38: OPEL | C38: ASTRA | D38: 2016 | E38: TRUE | F38: 2900 | G38: Non
A39: 202 | B39: PEUGEOT | C39: 5008 | D39: 2018 | E39: FALSE | F39: 6800 | G39: Non
A40: 99 | B40: CITROEN | C40: C4 | D40: 2017 | E40: TRUE | F40: 4200 | G40: Non
A41: 40 | B41: PEUGEOT | C41: 407 | D41: 2012 | E41: TRUE | F41: 1800 | G41: Oui

Sheet Feuil2
B2: N° client | C2: Marque | D2: Modèle | E2: Année | F2: VH | G2: Tarif
B3: =IF(Feuil1!$G11="OUI",Feuil1!A11,"") -> 154 | C3: =IF(Feuil1!$G11="OUI",Feuil1!B11,"") -> FIAT | D3: =IF(Feuil1!$G11="OUI",Feuil1!C11,"") -> 500X | E3: =IF(Feuil1!$G11="OUI",Feuil1!D11,"") -> 2015 | F3: =IF(Feuil1!$G11="OUI",Feuil1!E11,"") -> TRUE | G3: =IF(Feuil1!$G11="OUI",Feuil1!F11,"") -> 2700
B4: =IF(Feuil1!$G12="OUI",Feuil1!A12,"") -> 159 | C4: =IF(Feuil1!$G12="OUI",Feuil1!B12,"") -> HONDA | D4: =IF(Feuil1!$G12="OUI",Feuil1!C12,"") -> CR-Z | E4: =IF(Feuil1!$G12="OUI",Feuil1!D12,"") -> 2012 | F4: =IF(Feuil1!$G12="OUI",Feuil1!E12,"") -> FALSE | G4: =IF(Feuil1!$G12="OUI",Feuil1!F12,"") -> 4000
B5: =IF(Feuil1!$G13="OUI",Feuil1!A13,"") | C5: =IF(Feuil1!$G13="OUI",Feuil1!B13,"") | D5: =IF(Feuil1!$G13="OUI",Feuil1!C13,"") | E5: =IF(Feuil1!$G13="OUI",Feuil1!D13,"") | F5: =IF(Feuil1!$G13="OUI",Feuil1!E13,"") | G5: =IF(Feuil1!$G13="OUI",Feuil1!F13,"")
B6: =IF(Feuil1!$G14="OUI",Feuil1!A14,"") | C6: =IF(Feuil1!$G14="OUI",Feuil1!B14,"") | D6: =IF(Feuil1!$G14="OUI",Feuil1!C14,"") | E6: =IF(Feuil1!$G14="OUI",Feuil1!D14,"") | F6: =IF(Feuil1!$G14="OUI",Feuil1!E14,"") | G6: =IF(Feuil1!$G14="OUI",Feuil1!F14,"")
B7: =IF(Feuil1!$G15="OUI",Feuil1!A15,"") -> 192 | C7: =IF(Feuil1!$G15="OUI",Feuil1!B15,"") -> MERCEDES | D7: =IF(Feuil1!$G15="OUI",Feuil1!C15,"") -> CLASSE A | E7: =IF(Feuil1!$G15="OUI",Feuil1!D15,"") -> 2019 | F7: =IF(Feuil1!$G15="OUI",Feuil1!E15,"") -> FALSE | G7: =IF(Feuil1!$G15="OUI",Feuil1!F15,"") -> 6500
B8: =IF(Feuil1!$G16="OUI",Feuil1!A16,"") -> 171 | C8: =IF(Feuil1!$G16="OUI",Feuil1!B16,"") -> MINI | D8: =IF(Feuil1!$G16="OUI",Feuil1!C16,"") -> MINI | E8: =IF(Feuil1!$G16="OUI",Feuil1!D16,"") -> 2017 | F8: =IF(Feuil1!$G16="OUI",Feuil1!E16,"") -> FALSE | G8: =IF(Feuil1!$G16="OUI",Feuil1!F16,"") -> 4400
B9: =IF(Feuil1!$G17="OUI",Feuil1!A17,"") | C9: =IF(Feuil1!$G17="OUI",Feuil1!B17,"") | D9: =IF(Feuil1!$G17="OUI",Feuil1!C17,"") | E9: =IF(Feuil1!$G17="OUI",Feuil1!D17,"") | F9: =IF(Feuil1!$G17="OUI",Feuil1!E17,"") | G9: =IF(Feuil1!$G17="OUI",Feuil1!F17,"")
B10: =IF(Feuil1!$G18="OUI",Feuil1!A18,"") | C10: =IF(Feuil1!$G18="OUI",Feuil1!B18,"") | D10: =IF(Feuil1!$G18="OUI",Feuil1!C18,"") | E10: =IF(Feuil1!$G18="OUI",Feuil1!D18,"") | F10: =IF(Feuil1!$G18="OUI",Feuil1!E18,"") | G10: =IF(Feuil1!$G18="OUI",Feuil1!F18,"")
B11: =IF(Feuil1!$G19="OUI",Feuil1!A19,"") | C11: =IF(Feuil1!$G19="OUI",Feuil1!B19,"") | D11: =IF(Feuil1!$G19="OUI",Feuil1!C19,"") | E11: =IF(Feuil1!$G19="OUI",Feuil1!D19,"") | F11: =IF(Feuil1!$G19="OUI",Feuil1!E19,"") | G11: =IF(Feuil1!$G19="OUI",Feuil1!F19,"")
B12: =IF(Feuil1!$G20="OUI",Feuil1!A20,"") | C12: =IF(Feuil1!$G20="OUI",Feuil1!B20,"") | D12: =IF(Feuil1!$G20="OUI",Feuil1!C20,"") | E12: =IF(Feuil1!$G20="OUI",Feuil1!D20,"") | F12: =IF(Feuil1!$G20="OUI",Feuil1!E20,"") | G12: =IF(Feuil1!$G20="OUI",Feuil1!F20,"")
B13: =IF(Feuil1!$G21="OUI",Feuil1!A21,"") -> 354 | C13: =IF(Feuil1!$G21="OUI",Feuil1!B21,"") -> SEAT | D13: =IF(Feuil1!$G21="OUI",Feuil1!C21,"") -> LEON | E13: =IF(Feuil1!$G21="OUI",Feuil1!D21,"") -> 2015 | F13: =IF(Feuil1!$G21="OUI",Feuil1!E21,"") -> TRUE | G13: =IF(Feuil1!$G21="OUI",Feuil1!F21,"") -> 4400
B14: =IF(Feuil1!$G22="OUI",Feuil1!A22,"") | C14: =IF(Feuil1!$G22="OUI",Feuil1!B22,"") | D14: =IF(Feuil1!$G22="OUI",Feuil1!C22,"") | E14: =IF(Feuil1!$G22="OUI",Feuil1!D22,"") | F14: =IF(Feuil1!$G22="OUI",Feuil1!E22,"") | G14: =IF(Feuil1!$G22="OUI",Feuil1!F22,"")
... B33: =IF(Feuil1!$G41="OUI",Feuil1!A41,"") -> 40 | C33: =IF(Feuil1!$G41="OUI",Feuil1!B41,"") -> PEUGEOT | D33: =IF(Feuil1!$G41="OUI",Feuil1!C41,"") -> 407 | E33: =IF(Feuil1!$G41="OUI",Feuil1!D41,"") -> 2012 | F33: =IF(Feuil1!$G41="OUI",Feuil1!E41,"") -> TRUE | G33: =IF(Feuil1!$G41="OUI",Feuil1!F41,"") -> 1800
