Workbook

Sheet CLASSEMENT GENERAL
A4: NOM | B4: PRENOM | C4: CAT. | D4: Série 1 | E4: 10 | F4: Série 2 | G4: 10 | H4: Série 3 | I4: 10 | J4: Série 4 | K4: 10 | L4: Série 5 | M4: 10 | N4: Série 6 | O4: 10 | P4: Série 7 | Q4: 10 | R4: Série 8 | S4: 10 | T4: Série 9 | U4: 10 | V4: Série 10 | W4: 10 | Y4: total | Z4: 10
A5: bb | B5: c | C5: 1 | D5: 21 | F5: 30 | H5: 28 | J5: 28 | L5: 28 | N5: 30 | P5: 58 | Y5: =SUM(V5,T5,R5,P5,N5,L5,J5,F5,D5,H5) -> 223 | Z5: =SUM(W5,U5,S5,Q5,O5,M5,K5,G5,E5,I5) -> 0 | AA5: =RANK(Y5,$Y$5:$Y$23,0) -> 5
A6: dd | B6: e | C6: 1 | D6: 20 | F6: 30 | H6: 28 | J6: 28 | L6: 28 | N6: 30 | P6: 58 | Y6: =SUM(V6,T6,R6,P6,N6,L6,J6,F6,D6,H6) -> 222 | Z6: =SUM(W6,U6,S6,Q6,O6,M6,K6,G6,E6,I6) -> 0 | AA6: =RANK(Y6,$Y$5:$Y$23,0) -> 6
A7: ee | B7: f | C7: 1 | D7: 30 | F7: 30 | H7: 28 | J7: 28 | L7: 28 | N7: 30 | P7: 58 | Y7: =SUM(V7,T7,R7,P7,N7,L7,J7,F7,D7,H7) -> 232 | Z7: =SUM(W7,U7,S7,Q7,O7,M7,K7,G7,E7,I7) -> 0 | AA7: =RANK(Y7,$Y$5:$Y$23,0) -> 1
A8: gg | B8: h | C8: 1 | D8: 29 | F8: 30 | H8: 28 | J8: 28 | L8: 28 | N8: 30 | P8: 58 | Y8: =SUM(V8,T8,R8,P8,N8,L8,J8,F8,D8,H8) -> 231 | Z8: =SUM(W8,U8,S8,Q8,O8,M8,K8,G8,E8,I8) -> 0 | AA8: =RANK(Y8,$Y$5:$Y$23,0) -> 2
A9: cc | B9: d | C9: 2 | D9: 19 | F9: 30 | H9: 28 | J9: 28 | L9: 28 | N9: 30 | P9: 58 | Y9: =SUM(V9,T9,R9,P9,N9,L9,J9,F9,D9,H9) -> 221 | Z9: =SUM(W9,U9,S9,Q9,O9,M9,K9,G9,E9,I9) -> 0 | AA9: =RANK(Y9,$Y$5:$Y$23,0) -> 7
A10: hh | B10: i | C10: 3 | D10: 25 | F10: 30 | H10: 28 | J10: 28 | L10: 28 | N10: 30 | P10: 58 | Y10: =SUM(V10,T10,R10,P10,N10,L10,J10,F10,D10,H10) -> 227 | Z10: =SUM(W10,U10,S10,Q10,O10,M10,K10,G10,E10,I10) -> 0 | AA10: =RANK(Y10,$Y$5:$Y$23,0) -> 4
A11: aa | B11: b | C11: 4 | D11: 10 | F11: 30 | H11: 28 | J11: 28 | L11: 28 | N11: 30 | P11: 58 | Y11: =SUM(V11,T11,R11,P11,N11,L11,J11,F11,D11,H11) -> 212 | Z11: =SUM(W11,U11,S11,Q11,O11,M11,K11,G11,E11,I11) -> 0 | AA11: =RANK(Y11,$Y$5:$Y$23,0) -> 8
A12: ff | B12: g | C12: 5 | D12: 28 | F12: 30 | H12: 28 | J12: 28 | L12: 28 | N12: 30 | P12: 58 | Y12: =SUM(V12,T12,R12,P12,N12,L12,J12,F12,D12,H12) -> 230 | Z12: =SUM(W12,U12,S12,Q12,O12,M12,K12,G12,E12,I12) -> 0 | AA12: =RANK(Y12,$Y$5:$Y$23,0) -> 3
Y13: =SUM(V13,T13,R13,P13,N13,L13,J13,F13,D13,H13) -> 0 | Z13: =SUM(W13,U13,S13,Q13,O13,M13,K13,G13,E13,I13) -> 0 | AA13: =RANK(Y13,$Y$5:$Y$23,0) -> 9
Y14: =SUM(V14,T14,R14,P14,N14,L14,J14,F14,D14,H14) -> 0 | Z14: =SUM(W14,U14,S14,Q14,O14,M14,K14,G14,E14,I14) -> 0 | AA14: =RANK(Y14,$Y$5:$Y$23,0) -> 9
Y15: =SUM(V15,T15,R15,P15,N15,L15,J15,F15,D15,H15) -> 0 | Z15: =SUM(W15,U15,S15,Q15,O15,M15,K15,G15,E15,I15) -> 0 | AA15: =RANK(Y15,$Y$5:$Y$23,0) -> 9
Y16: =SUM(V16,T16,R16,P16,N16,L16,J16,F16,D16,H16) -> 0 | Z16: =SUM(W16,U16,S16,Q16,O16,M16,K16,G16,E16,I16) -> 0 | AA16: =RANK(Y16,$Y$5:$Y$23,0) -> 9
Y17: =SUM(V17,T17,R17,P17,N17,L17,J17,F17,D17,H17) -> 0 | Z17: =SUM(W17,U17,S17,Q17,O17,M17,K17,G17,E17,I17) -> 0 | AA17: =RANK(Y17,$Y$5:$Y$23,0) -> 9
Y18: =SUM(V18,T18,R18,P18,N18,L18,J18,F18,D18,H18) -> 0 | Z18: =SUM(W18,U18,S18,Q18,O18,M18,K18,G18,E18,I18) -> 0 | AA18: =RANK(Y18,$Y$5:$Y$23,0) -> 9
Y19: =SUM(V19,T19,R19,P19,N19,L19,J19,F19,D19,H19) -> 0 | Z19: =SUM(W19,U19,S19,Q19,O19,M19,K19,G19,E19,I19) -> 0 | AA19: =RANK(Y19,$Y$5:$Y$23,0) -> 9
Y20: =SUM(V20,T20,R20,P20,N20,L20,J20,F20,D20,H20) -> 0 | Z20: =SUM(W20,U20,S20,Q20,O20,M20,K20,G20,E20,I20) -> 0 | AA20: =RANK(Y20,$Y$5:$Y$23,0) -> 9
Y21: =SUM(V21,T21,R21,P21,N21,L21,J21,F21,D21,H21) -> 0 | Z21: =SUM(W21,U21,S21,Q21,O21,M21,K21,G21,E21,I21) -> 0 | AA21: =RANK(Y21,$Y$5:$Y$23,0) -> 9
Y22: =SUM(V22,T22,R22,P22,N22,L22,J22,F22,D22,H22) -> 0 | Z22: =SUM(W22,U22,S22,Q22,O22,M22,K22,G22,E22,I22) -> 0 | AA22: =RANK(Y22,$Y$5:$Y$23,0) -> 9
Y23: =SUM(V23,T23,R23,P23,N23,L23,J23,F23,D23,H23) -> 0 | Z23: =SUM(W23,U23,S23,Q23,O23,M23,K23,G23,E23,I23) -> 0 | AA23: =RANK(Y23,$Y$5:$Y$23,0) -> 9
A27: CLASSEMENT GENERAL
J36: 0

Sheet 1 ARC CLASSIQUE HOMME
A3: NOM | B3: PRENOM | C3: POINTS | D3: CLASSEMENT
D4: GENERAL | E4: CATEGORIE
C5: ='CLASSEMENT GENERAL'!Y5 -> 223 | D5: ='CLASSEMENT GENERAL'!AA5 -> 5 | E5: =RANK(C5,$C$5:$C$16,0) -> 3
C6: ='CLASSEMENT GENERAL'!Y6 -> 222 | D6: ='CLASSEMENT GENERAL'!AA6 -> 6 | E6: =RANK(C6,$C$5:$C$16,0) -> 4
C7: ='CLASSEMENT GENERAL'!Y7 -> 232 | D7: ='CLASSEMENT GENERAL'!AA7 -> 1 | E7: =RANK(C7,$C$5:$C$16,0) -> 1
C8: ='CLASSEMENT GENERAL'!Y8 -> 231 | D8: ='CLASSEMENT GENERAL'!AA8 -> 2 | E8: =RANK(C8,$C$5:$C$16,0) -> 2
A22: tv

Sheet 2 ARC CLASSIQUE FEMME
A1: SAINT-SEBASTIEN CHAUFFAILLES 22/01/2022
A3: NOM | B3: PRENOM | C3: POINTS | D3: CLASSEMENT
D4: GENERAL | E4: CATEGORIE
C5: ='CLASSEMENT GENERAL'!Y9 -> 221 | D5: ='CLASSEMENT GENERAL'!AA9 -> 7 | E5: =RANK(C5,$C$5:$C$16,0) -> 3
C6: ='CLASSEMENT GENERAL'!Y10 -> 227 | D6: ='CLASSEMENT GENERAL'!AA10 -> 4 | E6: =RANK(C6,$C$5:$C$16,0) -> 2
C7: ='CLASSEMENT GENERAL'!Y11 -> 212 | D7: ='CLASSEMENT GENERAL'!AA11 -> 8 | E7: =RANK(C7,$C$5:$C$16,0) -> 4
C8: ='CLASSEMENT GENERAL'!Y12 -> 230 | D8: ='CLASSEMENT GENERAL'!AA12 -> 3 | E8: =RANK(C8,$C$5:$C$16,0) -> 1

Sheet 3 POULIE HOMME
A1: SAINT-SEBASTIEN CHAUFFAILLES 22/01/2022
A3: NOM | B3: PRENOM | C3: POINTS | D3: CLASSEMENT
D4: GENERAL | E4: CATEGORIE
C5: ='CLASSEMENT GENERAL'!Y16 -> 0 | D5: ='CLASSEMENT GENERAL'!AA16 -> 9 | E5: =RANK(C5,$C$5:$C$16,0) -> 1
C6: ='CLASSEMENT GENERAL'!Y17 -> 0 | D6: ='CLASSEMENT GENERAL'!AA17 -> 9 | E6: =RANK(C6,$C$5:$C$16,0) -> 1
C7: ='CLASSEMENT GENERAL'!Y18 -> 0 | D7: ='CLASSEMENT GENERAL'!AA18 -> 9 | E7: =RANK(C7,$C$5:$C$16,0) -> 1
C8: ='CLASSEMENT GENERAL'!Y19 -> 0 | D8: ='CLASSEMENT GENERAL'!AA19 -> 9 | E8: =RANK(C8,$C$5:$C$16,0) -> 1
E17: =A5:E17 -> 0

Sheet 4 POULIE FEMME
A1: SAINT-SEBASTIEN CHAUFFAILLES 22/01/2022
A3: NOM | B3: PRENOM | C3: POINTS | D3: CLASSEMENT
D4: GENERAL | E4: CATEGORIE
C5: ='CLASSEMENT GENERAL'!Y19 -> 0 | D5: ='CLASSEMENT GENERAL'!AA19 -> 9 | E5: =RANK(C5,$C$5:$C$16,0) -> 1
C6: ='CLASSEMENT GENERAL'!Y20 -> 0 | D6: ='CLASSEMENT GENERAL'!AA20 -> 9 | E6: =RANK(C6,$C$6:$C$16,0) -> 1

Sheet 5 DEBUTANT
A1: SAINT-SEBASTIEN CHAUFFAILLES 22/01/2022
A3: NOM | B3: PRENOM | C3: POINTS | D3: CLASSEMENT
D4: GENERAL | E4: CATEGORIE
C5: ='CLASSEMENT GENERAL'!Y21 -> 0 | D5: ='CLASSEMENT GENERAL'!AA21 -> 9 | E5: =RANK(C5,$C$5:$C$16,0) -> 1
C6: ='CLASSEMENT GENERAL'!Y22 -> 0 | D6: ='CLASSEMENT GENERAL'!AA22 -> 9 | E6: =RANK(C6,$C$5:$C$16,0) -> 1
C7: ='CLASSEMENT GENERAL'!Y23 -> 0 | D7: ='CLASSEMENT GENERAL'!AA23 -> 9 | E7: =RANK(C7,$C$5:$C$16,0) -> 1
G8: *
