Workbook

Sheet Determination
A1: Nom du produit | C1: Ingrédient 1 | F1: Ingrédient 2 | I1: Ingrédient 3 | L1: Ingrédient 4 | O1: Ingrédient 5 | R1: Ingrédient 6 | U1: Ingrédient 6
B3: IG estimé | C3: Nom | D3: IG | E3: % | F3: Nom | G3: IG | H3: % | I3: Nom | J3: IG | K3: % | L3: Nom | M3: IG | N3: % | O3: Nom | P3: IG | Q3: % | R3: Nom | S3: IG | T3: % | U3: Nom | V3: IG | W3: % | X3: IG estimé
A4: Farine de noisette degraissé | C4: Noisette - farine | D4: =VLOOKUP(C4,All!$B$3:$C$212,2,FALSE) -> 20 | F4: Agar | G4: =IF(F4<>" ","",VLOOKUP(F4,All!$B$3:$C$212,2,FALSE)) | J4: =IF(I4<>" ","",VLOOKUP(I4,All!$B$3:$C$212,2,FALSE)) | M4: =IF(L4<>" ","",VLOOKUP(L4,All!$B$3:$C$212,2,FALSE)) | P4: =IF(O4<>" ","",VLOOKUP(O4,All!$B$3:$C$212,2,FALSE)) | S4: =IF(R4<>" ","",VLOOKUP(R4,All!$B$3:$C$212,2,FALSE)) | V4: =VLOOKUP(U4,All!$B$3:$C$212,2,FALSE) -> #N/A | X4: =IF(D4<55,AVERAGE(D4,G4,J4,M4,P4,S4,V4),(D4*E4+G4*H4+J4*K4+M4*N4+P4*Q4+S4*T4+V4*W4)/100) -> #N/A
A5: Granola Bio Myrtilles et Açaï | D5: =VLOOKUP(C5,All!$B$3:$C$212,2,FALSE) -> #N/A | F5: Tournesol graines | G5: =VLOOKUP(F5,All!$B$3:$C$212,2,FALSE) -> 35 | I5: Courges graines | J5: =VLOOKUP(I5,All!$B$3:$C$212,2,FALSE) -> 25 | L5: Sucre de coco | M5: =VLOOKUP(L5,All!$B$3:$C$212,2,FALSE) -> 54 | O5: huille de coco | P5: =VLOOKUP(O5,All!$B$3:$C$212,2,FALSE) -> 0 | S5: =VLOOKUP(R5,All!$B$3:$C$212,2,FALSE) -> #N/A | V5: =VLOOKUP(U5,All!$B$3:$C$212,2,FALSE) -> #N/A | X5: =AVERAGE((D5*E5),G5*H5,J5*K5,M5*N5,P5*Q5,S5*T5) -> #N/A
A6: riz de konjac et d'avoine | C6: Konjac - Farine | D6: =VLOOKUP(C6,All!$B$3:$C$212,2,FALSE) -> 0 | F6: Avoine son cru | G6: =VLOOKUP(F6,All!$B$3:$C$212,2,FALSE) -> 15 | J6: =VLOOKUP(I6,All!$B$3:$C$212,2,FALSE) -> #N/A | M6: =VLOOKUP(L6,All!$B$3:$C$212,2,FALSE) -> #N/A | P6: =VLOOKUP(O6,All!$B$3:$C$212,2,FALSE) -> #N/A | S6: =VLOOKUP(R6,All!$B$3:$C$212,2,FALSE) -> #N/A | V6: =VLOOKUP(U6,All!$B$3:$C$212,2,FALSE) -> #N/A | X6: =AVERAGE((D6*E6),G6*H6,J6*K6,M6*N6,P6*Q6,S6*T6) -> #N/A
A7: Tagliatelle Edamame bio | C7: Soja - farine | D7: =VLOOKUP(C7,All!$B$3:$C$212,2,FALSE) -> 25 | G7: =VLOOKUP(F7,All!$B$3:$C$212,2,FALSE) -> #N/A | J7: =VLOOKUP(I7,All!$B$3:$C$212,2,FALSE) -> #N/A | M7: =VLOOKUP(L7,All!$B$3:$C$212,2,FALSE) -> #N/A | P7: =VLOOKUP(O7,All!$B$3:$C$212,2,FALSE) -> #N/A | S7: =VLOOKUP(R7,All!$B$3:$C$212,2,FALSE) -> #N/A | V7: =VLOOKUP(U7,All!$B$3:$C$212,2,FALSE) -> #N/A | X7: =AVERAGE((D7*E7),G7*H7,J7*K7,M7*N7,P7*Q7,S7*T7) -> #N/A
A8: Confiture d'abricot sans sucre | C8: Abricot cru | D8: =VLOOKUP(C8,All!$B$3:$C$212,2,FALSE) -> 45 | E8: 56 | F8: Erythritol | G8: =VLOOKUP(F8,All!$B$3:$C$212,2,FALSE) -> 0 | I8: guar | J8: =VLOOKUP(I8,All!$B$3:$C$212,2,FALSE) -> 0 | M8: =VLOOKUP(L8,All!$B$3:$C$212,2,FALSE) -> #N/A | P8: =VLOOKUP(O8,All!$B$3:$C$212,2,FALSE) -> #N/A | S8: =VLOOKUP(R8,All!$B$3:$C$212,2,FALSE) -> #N/A | V8: =VLOOKUP(U8,All!$B$3:$C$212,2,FALSE) -> #N/A | X8: =AVERAGE((D8*E8),G8*H8,J8*K8,M8*N8,P8*Q8,S8*T8) -> #N/A
A9: Barre caramel et sel de mer | D9: =VLOOKUP(C9,All!$B$3:$C$212,2,FALSE) -> #N/A | F9: Amande | G9: =VLOOKUP(F9,All!$B$3:$C$212,2,FALSE) -> 15 | J9: =VLOOKUP(I9,All!$B$3:$C$212,2,FALSE) -> #N/A | L9: Noix de pecan | M9: =VLOOKUP(L9,All!$B$3:$C$212,2,FALSE) -> 10 | O9: Sirop d'agave | P9: =VLOOKUP(O9,All!$B$3:$C$212,2,FALSE) -> 10 | S9: =VLOOKUP(R9,All!$B$3:$C$212,2,FALSE) -> #N/A | V9: =VLOOKUP(U9,All!$B$3:$C$212,2,FALSE) -> #N/A | X9: =AVERAGE((D9*E9),G9*H9,J9*K9,M9*N9,P9*Q9,S9*T9) -> #N/A
A10: Toast Knaeckebrot | C10: Tournesol graines | D10: =VLOOKUP(C10,All!$B$3:$C$212,2,FALSE) -> 35 | F10: Amande - farine | G10: =VLOOKUP(F10,All!$B$3:$C$212,2,FALSE) -> 20 | I10: Courges graines | J10: =VLOOKUP(I10,All!$B$3:$C$212,2,FALSE) -> 25 | M10: =VLOOKUP(L10,All!$B$3:$C$212,2,FALSE) -> #N/A | O10: Lin graine | P10: =VLOOKUP(O10,All!$B$3:$C$212,2,FALSE) -> 35 | R10: œuf | S10: =VLOOKUP(R10,All!$B$3:$C$212,2,FALSE) -> 0 | U10: levure chimique | V10: =VLOOKUP(U10,All!$B$3:$C$212,2,FALSE) -> 35 | X10: =AVERAGE((D10*E10),G10*H10,J10*K10,M10*N10,P10*Q10,S10*T10) -> #N/A
A11: Toats low carb bio | D11: =VLOOKUP(C11,All!$B$3:$C$212,2,FALSE) -> #N/A | F11: Riz complet - farine | G11: =VLOOKUP(F11,All!$B$3:$C$212,2,FALSE) -> 75 | I11: Millet - farine | J11: =VLOOKUP(I11,All!$B$3:$C$212,2,FALSE) -> 70 | L11: levure chimique | M11: =VLOOKUP(L11,All!$B$3:$C$212,2,FALSE) -> 35 | P11: =VLOOKUP(O11,All!$B$3:$C$212,2,FALSE) -> #N/A | S11: =VLOOKUP(R11,All!$B$3:$C$212,2,FALSE) -> #N/A | V11: =VLOOKUP(U11,All!$B$3:$C$212,2,FALSE) -> #N/A | X11: =AVERAGE((D11*E11),G11*H11,J11*K11,M11*N11,P11*Q11,S11*T11) -> #N/A
A12: Mayonnaise citron chili | D12: =VLOOKUP(C12,All!$B$3:$C$212,2,FALSE) -> #N/A | F12: jaune d'œuf | G12: =VLOOKUP(F12,All!$B$3:$C$212,2,FALSE) -> 0 | I12: vinaigre de cidre | J12: =VLOOKUP(I12,All!$B$3:$C$212,2,FALSE) -> 5 | L12: Citron | M12: =VLOOKUP(L12,All!$B$3:$C$212,2,FALSE) -> 25 | P12: =VLOOKUP(O12,All!$B$3:$C$212,2,FALSE) -> #N/A | S12: =VLOOKUP(R12,All!$B$3:$C$212,2,FALSE) -> #N/A | V12: =VLOOKUP(U12,All!$B$3:$C$212,2,FALSE) -> #N/A | X12: =AVERAGE((D12*E12),G12*H12,J12*K12,M12*N12,P12*Q12,S12*T12) -> #N/A
A13: Tortillas tomates lowcarb | C13: Blé T45 - farine | D13: =VLOOKUP(C13,All!$B$3:$C$212,2,FALSE) -> 85 | G13: =VLOOKUP(F13,All!$B$3:$C$212,2,FALSE) -> #N/A | J13: =VLOOKUP(I13,All!$B$3:$C$212,2,FALSE) -> #N/A | L13: Bicarbonnate de soude | M13: =VLOOKUP(L13,All!$B$3:$C$212,2,FALSE) -> 0 | P13: =VLOOKUP(O13,All!$B$3:$C$212,2,FALSE) -> #N/A | S13: =VLOOKUP(R13,All!$B$3:$C$212,2,FALSE) -> #N/A | V13: =VLOOKUP(U13,All!$B$3:$C$212,2,FALSE) -> #N/A | X13: =AVERAGE((D13*E13),G13*H13,J13*K13,M13*N13,P13*Q13,S13*T13) -> #N/A
D14: =VLOOKUP(C14,All!$B$3:$C$212,2,FALSE) -> #N/A | G14: =VLOOKUP(F14,All!$B$3:$C$212,2,FALSE) -> #N/A | J14: =VLOOKUP(I14,All!$B$3:$C$212,2,FALSE) -> #N/A | M14: =VLOOKUP(L14,All!$B$3:$C$212,2,FALSE) -> #N/A | P14: =VLOOKUP(O14,All!$B$3:$C$212,2,FALSE) -> #N/A | S14: =VLOOKUP(R14,All!$B$3:$C$212,2,FALSE) -> #N/A | V14: =VLOOKUP(U14,All!$B$3:$C$212,2,FALSE) -> #N/A | X14: =AVERAGE((D14*E14),G14*H14,J14*K14,M14*N14,P14*Q14,S14*T14) -> #N/A
D15: =VLOOKUP(C15,All!$B$3:$C$212,2,FALSE) -> #N/A | G15: =VLOOKUP(F15,All!$B$3:$C$212,2,FALSE) -> #N/A | J15: =VLOOKUP(I15,All!$B$3:$C$212,2,FALSE) -> #N/A | M15: =VLOOKUP(L15,All!$B$3:$C$212,2,FALSE) -> #N/A | P15: =VLOOKUP(O15,All!$B$3:$C$212,2,FALSE) -> #N/A | S15: =VLOOKUP(R15,All!$B$3:$C$212,2,FALSE) -> #N/A | V15: =VLOOKUP(U15,All!$B$3:$C$212,2,FALSE) -> #N/A | X15: =AVERAGE((D15*E15),G15*H15,J15*K15,M15*N15,P15*Q15,S15*T15) -> #N/A
A18: '=SI(B4<>"";"";RECHERCHEV(B4;All!$B$3:$C$209;2;FAUX))'

Sheet All
A1: Catégories | B1: Produit | C1: IG | D1: Portion moyenne (g) | E1: Glucides par portions (g) | F1: %glucides | G1: Charges
A3: Fruits | B3: Abricot cru | C3: 45 | D3: 120 | E3: 9 | F3: =(E3*100)/D3 -> 7.5 | G3: =(C3*F3)/100 -> 3.375
A4: Fruits | B4: Abricot sec | C4: 31 | D4: 60 | E4: 25 | F4: =(E4*100)/D4 -> 41.666667 | G4: =(C4*F4)/100 -> 12.916667
A5: Additifs | B5: Agar | C5: 15 | D5: 100 | E5: 4.6 | F5: =(E5*100)/D5 -> 4.6 | G5: =(C5*F5)/100 -> 0.69
A6: Fruits | B6: Amande | C6: 15 | D6: 100 | E6: 3 | F6: =(E6*100)/D6 -> 3 | G6: =(C6*F6)/100 -> 0.45
A7: Farine | B7: Amande - farine | C7: 20 | D7: 100 | E7: 5 | F7: =(E7*100)/D7 -> 5 | G7: =(C7*F7)/100 -> 1
A8: Boissons | B8: Amande lait | C8: 30 | D8: 100 | E8: 4 | F8: =(E8*100)/D8 -> 4 | G8: =(C8*F8)/100 -> 1.2
A9: Fruits | B9: Amande purée | C9: 35 | D9: 100 | E9: 5 | F9: =(E9*100)/D9 -> 5 | G9: =(C9*F9)/100 -> 1.75
A10: Fruits | B10: Ananas cru | C10: 51 | D10: 120 | E10: 16 | F10: =(E10*100)/D10 -> 13.333333 | G10: =(C10*F10)/100 -> 6.8
A11: Farine | B11: Avoine complet - farine | C11: 65 | D11: 100 | E11: 10 | F11: =(E11*100)/D11 -> 10 | G11: =(C11*F11)/100 -> 6.5
A12: Cereales | B12: Avoine flocon cru | C12: 40 | D12: 100 | E12: 6 | F12: =(E12*100)/D12 -> 6 | G12: =(C12*F12)/100 -> 2.4
A13: Cereales | B13: Avoine flocon cuit | C13: 59 | D13: 30 | E13: 19 | F13: =(E13*100)/D13 -> 63.333333 | G13: =(C13*F13)/100 -> 37.366667
A14: Boissons | B14: Avoine lait | C14: 30 | D14: 100 | E14: 8 | F14: =(E14*100)/D14 -> 8 | G14: =(C14*F14)/100 -> 2.4
... A36: Légumes | B36: Butternut cuit | C36: 51 | D36: 80 | E36: 6 | F36: =(E36*100)/D36 -> 7.5 | G36: =(C36*F36)/100 -> 3.825
A37: Fruits | B37: Cacahuete | C37: 15 | D37: 100 | F37: =(E37*100)/D37 -> 0 | G37: =(C37*F37)/100 -> 0
A38: Fruits | B38: Canberries seches | C38: 62 | D38: 40 | E38: 31 | F38: =(E38*100)/D38 -> 77.5 | G38: =(C38*F38)/100 -> 48.05
A39: Pâtes | B39: Capellini | C39: 45 | D39: 180 | E39: 45 | F39: =(E39*100)/D39 -> 25 | G39: =(C39*F39)/100 -> 11.25
A40: Légumes | B40: Carottes crues | C40: 16 | D40: 80 | E40: 8 | F40: =(E40*100)/D40 -> 10 | G40: =(C40*F40)/100 -> 1.6
A41: Légumes | B41: Carottes cuites | C41: 33 | D41: 80 | E41: 5 | F41: =(E41*100)/D41 -> 6.25 | G41: =(C41*F41)/100 -> 2.0625
A42: Fruits | B42: Cerises cru | C42: 22 | D42: 120 | E42: 12 | F42: =(E42*100)/D42 -> 10 | G42: =(C42*F42)/100 -> 2.2
A43: Fruits | B43: Cerises noires cru | C43: 63 | D43: 120 | E43: 14 | F43: =(E43*100)/D43 -> 11.666667 | G43: =(C43*F43)/100 -> 7.35
A44: Farine | B44: Chataigne - farine | C44: 65 | D44: 100 | E44: 70.4 | F44: =(E44*100)/D44 -> 70.4 | G44: =(C44*F44)/100 -> 45.76
A45: Fruits | B45: Citron | C45: 25 | D45: 100 | E45: 2 | F45: =(E45*100)/D45 -> 2 | G45: =(C45*F45)/100 -> 0.5
A46: Légumes | B46: Citrouille cuite | C46: 75 | D46: 80 | E46: 4 | F46: =(E46*100)/D46 -> 5 | G46: =(C46*F46)/100 -> 3.75
A47: Farine | B47: Coco - farine | C47: 35 | D47: 100 | E47: 22 | F47: =(E47*100)/D47 -> 22 | G47: =(C47*F47)/100 -> 7.7
A48: Farine | B48: Coco - poudre | C48: 15 | D48: 100 | E48: 10 | F48: =(E48*100)/D48 -> 10 | G48: =(C48*F48)/100 -> 1.5
A49: Produits laitiers | B49: Coco creme | C49: 0 | D49: 100 | E49: 0 | F49: =(E49*100)/D49 -> 0 | G49: =(C49*F49)/100 -> 0
... A58: Farine | B58: Epeautre complet - farine | C58: 45 | D58: 100 | E58: 64 | F58: =(E58*100)/D58 -> 64 | G58: =(C58*F58)/100 -> 28.8
A59: Sucres | B59: Erythritol | C59: 0 | D59: 0 | E59: 0 | F59: 0 | G59: =(C59*F59)/100 -> 0
A60: Farine | B60: Fécule maïs- farine | C60: 90 | D60: 100 | E60: 81 | F60: =(E60*100)/D60 -> 81 | G60: =(C60*F60)/100 -> 72.9
A61: Pâtes | B61: Fettucini aux œufs | C61: 32 | D61: 180 | E61: 46 | F61: =(E61*100)/D61 -> 25.555556 | G61: =(C61*F61)/100 -> 8.1777778
A62: Fruits | B62: Figue seches | C62: 61 | D62: 60 | E62: 26 | F62: =(E62*100)/D62 -> 43.333333 | G62: =(C62*F62)/100 -> 26.433333
A63: Produits laitiers | B63: Flan low fat vanille | C63: 29 | D63: 100 | E63: 10 | F63: =(E63*100)/D63 -> 10 | G63: =(C63*F63)/100 -> 2.9
A64: Fruits | B64: Fraises | C64: 40 | D64: 120 | E64: 3 | F64: =(E64*100)/D64 -> 2.5 | G64: =(C64*F64)/100 -> 1
A65: Fruits | B65: Framboises | C65: 25 | D65: 100 | E65: 3 | F65: =(E65*100)/D65 -> 3 | G65: =(C65*F65)/100 -> 0.75
A66: Produits laitiers | B66: Fromage frais | C66: 25 | D66: 100 | E66: 7 | F66: =(E66*100)/D66 -> 7 | G66: =(C66*F66)/100 -> 1.75
A67: Sucres | B67: Fructose | C67: 20 | D67: 10 | E67: 10 | F67: =(E67*100)/D67 -> 100 | G67: =(C67*F67)/100 -> 20
A68: Fruits | B68: Fruit à pain cru | C68: 68 | D68: 120 | E68: 27 | F68: =(E68*100)/D68 -> 22.5 | G68: =(C68*F68)/100 -> 15.3
A69: Fruits | B69: Fruit à pain cuit | C69: 52 | D69: 120 | E69: 24 | F69: =(E69*100)/D69 -> 20 | G69: =(C69*F69)/100 -> 10.4
A70: Pâtes | B70: Fusilli | C70: 54 | D70: 180 | E70: 48 | F70: =(E70*100)/D70 -> 26.666667 | G70: =(C70*F70)/100 -> 14.4
...

Sheet Cereales
B5: Catégories | C5: Produit | D5: IG | E5: Portion moyenne (g) | F5: Glucides par portions (g) | G5: %glucides | H5: Charges
B7: Cereales | C7: Avoine flocon cuit | D7: 59 | E7: 30 | F7: 19 | G7: =(F7*100)/E7 -> 63.333333 | H7: =(D7*G7)/100 -> 37.366667
B8: Cereales | C8: Avoine porridge instantané | D8: 83 | E8: 250 | F8: 36 | G8: =(F8*100)/E8 -> 14.4 | H8: =(D8*G8)/100 -> 11.952
B9: Cereales | C9: Avoine son cuit | D9: 59 | E9: 10 | F9: 5 | G9: =(F9*100)/E9 -> 50 | H9: =(D9*G9)/100 -> 29.5
B10: Cereales | C10: Ble cornflakes | D10: 78 | E10: 30 | F10: 26 | G10: =(F10*100)/E10 -> 86.666667 | H10: =(D10*G10)/100 -> 67.6
B11: Cereales | C11: Blé entier cru | D11: 35 | E11: 50 | F11: 35 | G11: =(F11*100)/E11 -> 70 | H11: =(D11*G11)/100 -> 24.5
B12: Cereales | C12: Boulgour cuit | D12: 46 | E12: 150 | F12: 26 | G12: =(F12*100)/E12 -> 17.333333 | H12: =(D12*G12)/100 -> 7.9733333
B13: Cereales | C13: Couscous | D13: 65 | E13: 150 | F13: 35 | G13: =(F13*100)/E13 -> 23.333333 | H13: =(D13*G13)/100 -> 15.166667
B14: Cereales | C14: Millet cuit | D14: 71 | E14: 150 | F14: 36 | G14: =(F14*100)/E14 -> 24 | H14: =(D14*G14)/100 -> 17.04
B15: Cereales | C15: Muesli fruit et noix | D15: 59 | E15: 30 | F15: 18 | G15: =(F15*100)/E15 -> 60 | H15: =(D15*G15)/100 -> 35.4
B16: Cereales | C16: Muesli fruits | D16: 67 | E16: 30 | F16: 21 | G16: =(F16*100)/E16 -> 70 | H16: =(D16*G16)/100 -> 46.9
B17: Cereales | C17: Muesli nature | D17: 40 | E17: 30 | F17: 19 | G17: =(F17*100)/E17 -> 63.333333 | H17: =(D17*G17)/100 -> 25.333333
B18: Cereales | C18: Orge | D18: 38 | E18: 150 | F18: 40 | G18: =(F18*100)/E18 -> 26.666667 | H18: =(D18*G18)/100 -> 10.133333
B19: Cereales | C19: Quinoa cuit | D19: 53 | E19: 150 | F19: 25 | G19: =(F19*100)/E19 -> 16.666667 | H19: =(D19*G19)/100 -> 8.8333333
B20: Cereales | C20: Riz basmati cuit | D20: 60 | E20: 150 | F20: 34 | G20: =(F20*100)/E20 -> 22.666667 | H20: =(D20*G20)/100 -> 13.6 | J20: attention - impact cuisson
B21: Cereales | C21: Riz blanc doongara | D21: 94 | E21: 150 | F21: 42 | G21: =(F21*100)/E21 -> 28 | H21: =(D21*G21)/100 -> 26.32
B22: Cereales | C22: Riz blanc jasmin | D22: 109 | E22: 150 | F22: 42 | G22: =(F22*100)/E22 -> 28 | H22: =(D22*G22)/100 -> 30.52
B23: Cereales | C23: Riz brun calrose cuit | D23: 85 | E23: 150 | F23: 40 | G23: =(F23*100)/E23 -> 26.666667 | H23: =(D23*G23)/100 -> 22.666667
B24: Cereales | C24: Riz brun cuit | D24: 63 | E24: 150 | F24: 36 | G24: =(F24*100)/E24 -> 24 | H24: =(D24*G24)/100 -> 15.12
B25: Cereales | C25: Riz brun IG bas | D25: 54 | E25: 150 | F25: 36 | G25: =(F25*100)/E25 -> 24 | H25: =(D25*G25)/100 -> 12.96
B26: Cereales | C26: Riz gluant | D26: 98 | E26: 150 | F26: 32 | G26: =(F26*100)/E26 -> 21.333333 | H26: =(D26*G26)/100 -> 20.906667
B27: Cereales | C27: Riz long grain | D27: 59 | E27: 150 | F27: 40 | G27: =(F27*100)/E27 -> 26.666667 | H27: =(D27*G27)/100 -> 15.733333
B28: Cereales | C28: Riz soufflé | D28: 87 | E28: 30 | F28: 26 | G28: =(F28*100)/E28 -> 86.666667 | H28: =(D28*G28)/100 -> 75.4
B29: Cereales | C29: Sarrasin | D29: 54 | E29: 150 | F29: 30 | G29: =(F29*100)/E29 -> 20 | H29: =(D29*G29)/100 -> 10.8
B30: Cereales | C30: Semoule | D30: 55 | E30: 150 | F30: 30 | G30: =(F30*100)/E30 -> 20 | H30: =(D30*G30)/100 -> 11
B31: Cereales | C31: Avoine son cru | D31: 15 | E31: 100 | F31: 5 | G31: =(F31*100)/E31 -> 5 | H31: =(D31*G31)/100 -> 0.75
B32: Cereales | C32: Blé son cru | D32: 15 | E32: 100 | F32: 19 | G32: =(F32*100)/E32 -> 19 | H32: =(D32*G32)/100 -> 2.85
B33: Cereales | C33: Avoine flocon cru | D33: 40 | E33: 100 | F33: 6 | G33: =(F33*100)/E33 -> 6 | H33: =(D33*G33)/100 -> 2.4

Sheet Farine
B4: Catégories | C4: Produit | D4: IG | E4: Portion moyenne (g) | F4: Glucides par portions (g) | G4: %glucides | H4: Charges
B5: Farine | C5: Amande - farine | D5: 20 | E5: 100 | F5: 5 | G5: =(F5*100)/E5 -> 5 | H5: =(D5*G5)/100 -> 1
B6: Farine | C6: Avoine complet - farine | D6: 65 | E6: 100 | F6: 10 | G6: =(F6*100)/E6 -> 10 | H6: =(D6*G6)/100 -> 6.5
B7: Farine | C7: Avoine son - farine | D7: 15 | E7: 100 | F7: 5 | G7: =(F7*100)/E7 -> 5 | H7: =(D7*G7)/100 -> 0.75
B8: Farine | C8: Blé T150 - farine | D8: 45 | E8: 100 | F8: 64.9 | G8: =(F8*100)/E8 -> 64.9 | H8: =(D8*G8)/100 -> 29.205
B9: Farine | C9: Blé T45 - farine | D9: 85 | E9: 100 | F9: 75.9 | G9: =(F9*100)/E9 -> 75.9 | H9: =(D9*G9)/100 -> 64.515
B10: Farine | C10: Blé T80 - farine | D10: 60 | E10: 100 | F10: 73.2 | G10: =(F10*100)/E10 -> 73.2 | H10: =(D10*G10)/100 -> 43.92
B11: Farine | C11: Chataigne - farine | D11: 65 | E11: 100 | F11: 70.4 | G11: =(F11*100)/E11 -> 70.4 | H11: =(D11*G11)/100 -> 45.76
B12: Farine | C12: Coco - farine | D12: 35 | E12: 100 | F12: 22 | G12: =(F12*100)/E12 -> 22 | H12: =(D12*G12)/100 -> 7.7
B13: Farine | C13: Coco - poudre | D13: 15 | E13: 100 | F13: 10 | G13: =(F13*100)/E13 -> 10 | H13: =(D13*G13)/100 -> 1.5
B14: Farine | C14: Epeautre complet - farine | D14: 45 | E14: 100 | F14: 64 | G14: =(F14*100)/E14 -> 64 | H14: =(D14*G14)/100 -> 28.8
B15: Farine | C15: Fécule maïs- farine | D15: 90 | E15: 100 | F15: 81 | G15: =(F15*100)/E15 -> 81 | H15: =(D15*G15)/100 -> 72.9
B16: Farine | C16: Lentilles - farine | D16: 35 | E16: 100 | F16: 50 | G16: =(F16*100)/E16 -> 50 | H16: =(D16*G16)/100 -> 17.5
... B23: Farine | C23: Pois chiches - farine | D23: 35 | E23: 100 | F23: 47 | G23: =(F23*100)/E23 -> 47 | H23: =(D23*G23)/100 -> 16.45
B24: Farine | C24: Quinoa - farine | D24: 45 | E24: 100 | G24: =(F24*100)/E24 -> 0 | H24: =(D24*G24)/100 -> 0
B25: Farine | C25: Riz blanc - farine | D25: 95 | E25: 100 | F25: 76.9 | G25: =(F25*100)/E25 -> 76.9 | H25: =(D25*G25)/100 -> 73.055
B26: Farine | C26: Riz complet - farine | D26: 75 | E26: 100 | F26: 73.9 | G26: =(F26*100)/E26 -> 73.9 | H26: =(D26*G26)/100 -> 55.425
B27: Farine | C27: Sarrasin - farine | D27: 40 | E27: 100 | F27: 68.4 | G27: =(F27*100)/E27 -> 68.4 | H27: =(D27*G27)/100 -> 27.36
B28: Farine | C28: Seigle taille 130 - farine | D28: 45 | E28: 100 | F28: 70.9 | G28: =(F28*100)/E28 -> 70.9 | H28: =(D28*G28)/100 -> 31.905
B29: Farine | C29: Soja - farine | D29: 25 | E29: 100 | F29: 22.9 | G29: =(F29*100)/E29 -> 22.9 | H29: =(D29*G29)/100 -> 5.725

Sheet Fruits
B4: Catégories | C4: Produit | D4: IG | E4: Portion moyenne (g) | F4: Glucides par portions (g) | G4: %glucides | H4: Charges
B6: Fruits | C6: Abricot cru | D6: 45 | E6: 120 | F6: 9 | G6: =(F6*100)/E6 -> 7.5 | H6: =(D6*G6)/100 -> 3.375
B7: Fruits | C7: Abricot sec | D7: 31 | E7: 60 | F7: 25 | G7: =(F7*100)/E7 -> 41.666667 | H7: =(D7*G7)/100 -> 12.916667
B8: Fruits | C8: Amande | D8: 15 | E8: 100 | F8: 3 | G8: =(F8*100)/E8 -> 3 | H8: =(D8*G8)/100 -> 0.45
B9: Fruits | C9: Amande purée | D9: 35 | E9: 100 | F9: 5 | G9: =(F9*100)/E9 -> 5 | H9: =(D9*G9)/100 -> 1.75 | J9: attention, prendre en compte la maturation, + mure = + IG eleve
B10: Fruits | C10: Ananas cru | D10: 51 | E10: 120 | F10: 16 | G10: =(F10*100)/E10 -> 13.333333 | H10: =(D10*G10)/100 -> 6.8
B11: Fruits | C11: Banane cru | D11: 55 | E11: 120 | F11: 24 | G11: =(F11*100)/E11 -> 20 | H11: =(D11*G11)/100 -> 11
B12: Fruits | C12: Banane plantain cuite | D12: 40 | E12: 120 | F12: 30 | G12: =(F12*100)/E12 -> 25 | H12: =(D12*G12)/100 -> 10
B13: Fruits | C13: Banane verte cuite | D13: 37 | E13: 120 | F13: 27 | G13: =(F13*100)/E13 -> 22.5 | H13: =(D13*G13)/100 -> 8.325
B14: Fruits | C14: Bluberries | D14: 53 | E14: 100 | F14: 9 | G14: =(F14*100)/E14 -> 9 | H14: =(D14*G14)/100 -> 4.77
B15: Fruits | C15: Cacahuete | D15: 15 | E15: 100 | G15: =(F15*100)/E15 -> 0 | H15: =(D15*G15)/100 -> 0
B16: Fruits | C16: Canberries seches | D16: 62 | E16: 40 | F16: 31 | G16: =(F16*100)/E16 -> 77.5 | H16: =(D16*G16)/100 -> 48.05 | J16: attention depend bcp de la variete
B17: Fruits | C17: Cerises cru | D17: 22 | E17: 120 | F17: 12 | G17: =(F17*100)/E17 -> 10 | H17: =(D17*G17)/100 -> 2.2
B18: Fruits | C18: Cerises noires cru | D18: 63 | E18: 120 | F18: 14 | G18: =(F18*100)/E18 -> 11.666667 | H18: =(D18*G18)/100 -> 7.35
B19: Fruits | C19: Citron | D19: 25 | E19: 100 | F19: 2 | G19: =(F19*100)/E19 -> 2 | H19: =(D19*G19)/100 -> 0.5
B20: Fruits | C20: Courges graines | D20: 25 | E20: 100 | F20: 1 | G20: =(F20*100)/E20 -> 1 | H20: =(D20*G20)/100 -> 0.25
B21: Fruits | C21: Dattes barhi seches | D21: 50 | E21: 60 | F21: 46 | G21: =(F21*100)/E21 -> 76.666667 | H21: =(D21*G21)/100 -> 38.333333
B22: Fruits | C22: Dattes khalas seches | D22: 36 | E22: 60 | F22: 45 | G22: =(F22*100)/E22 -> 75 | H22: =(D22*G22)/100 -> 27
B23: Fruits | C23: Figue seches | D23: 61 | E23: 60 | F23: 26 | G23: =(F23*100)/E23 -> 43.333333 | H23: =(D23*G23)/100 -> 26.433333
B24: Fruits | C24: Fraises | D24: 40 | E24: 120 | F24: 3 | G24: =(F24*100)/E24 -> 2.5 | H24: =(D24*G24)/100 -> 1
B25: Fruits | C25: Framboises | D25: 25 | E25: 100 | F25: 3 | G25: =(F25*100)/E25 -> 3 | H25: =(D25*G25)/100 -> 0.75
B26: Fruits | C26: Fruit à pain cru | D26: 68 | E26: 120 | F26: 27 | G26: =(F26*100)/E26 -> 22.5 | H26: =(D26*G26)/100 -> 15.3
B27: Fruits | C27: Fruit à pain cuit | D27: 52 | E27: 120 | F27: 24 | G27: =(F27*100)/E27 -> 20 | H27: =(D27*G27)/100 -> 10.4
B28: Fruits | C28: Kiwi cru | D28: 50 | E28: 120 | F28: 12 | G28: =(F28*100)/E28 -> 10 | H28: =(D28*G28)/100 -> 5
... B59: Fruits | C59: Tournesol graines | D59: 35 | E59: 100 | F59: 5 | G59: =(F59*100)/E59 -> 5 | H59: =(D59*G59)/100 -> 1.75

Sheet Légumes
B4: Catégories | C4: Produit | D4: IG | E4: Portion moyenne (g) | F4: Glucides par portions (g) | G4: %glucides | H4: Charges
B5: Légumes | C5: Betrave cru | D5: 64 | E5: 80 | F5: 7 | G5: =(F5*100)/E5 -> 8.75 | H5: =(D5*G5)/100 -> 5.6
B6: Légumes | C6: Butternut cuit | D6: 51 | E6: 80 | F6: 6 | G6: =(F6*100)/E6 -> 7.5 | H6: =(D6*G6)/100 -> 3.825
B7: Légumes | C7: Pomme de terre carisma cuite | D7: 53 | E7: 150 | F7: 16 | G7: =(F7*100)/E7 -> 10.666667 | H7: =(D7*G7)/100 -> 5.6533333
B8: Légumes | C8: Carottes cuites | D8: 33 | E8: 80 | F8: 5 | G8: =(F8*100)/E8 -> 6.25 | H8: =(D8*G8)/100 -> 2.0625
B9: Légumes | C9: Carottes crues | D9: 16 | E9: 80 | F9: 8 | G9: =(F9*100)/E9 -> 10 | H9: =(D9*G9)/100 -> 1.6
B10: Légumes | C10: Manioc cuit | D10: 46 | E10: 100 | F10: 27 | G10: =(F10*100)/E10 -> 27 | H10: =(D10*G10)/100 -> 12.42
B11: Légumes | C11: Pomme de terre chéri cuite | D11: 77 | E11: 150 | F11: 17 | G11: =(F11*100)/E11 -> 11.333333 | H11: =(D11*G11)/100 -> 8.7266667
B12: Légumes | C12: Pomme de terre estima cuite | D12: 66 | E12: 150 | F12: 26 | G12: =(F12*100)/E12 -> 17.333333 | H12: =(D12*G12)/100 -> 11.44
B13: Légumes | C13: Pomme de terre puréé instantané | D13: 80 | E13: 150 | F13: 20 | G13: =(F13*100)/E13 -> 13.333333 | H13: =(D13*G13)/100 -> 10.666667
B14: Légumes | C14: Pomme de terre irlandaise cuite | D14: 83 | E14: 150 | F14: 30 | G14: =(F14*100)/E14 -> 20 | H14: =(D14*G14)/100 -> 16.6
B15: Légumes | C15: Pomme de terre nouvelles cuite | D15: 70 | E15: 150 | F15: 21 | G15: =(F15*100)/E15 -> 14 | H15: =(D15*G15)/100 -> 9.8
B16: Légumes | C16: Panais cuit | D16: 52 | E16: 80 | F16: 8 | G16: =(F16*100)/E16 -> 10 | H16: =(D16*G16)/100 -> 5.2
... B23: Légumes | C23: Pomme de terre blanche | D23: 54 | E23: 150 | F23: 27 | G23: =(F23*100)/E23 -> 18 | H23: =(D23*G23)/100 -> 9.72

Sheet Matiere grasses
B4: Catégories | C4: Produit | D4: IG | E4: Portion moyenne (g) | F4: Glucides par portions (g) | G4: %glucides | H4: Charges
B6: Matières grasses | C6: Beurre | D6: 0 | E6: 100 | F6: 0 | G6: =(F6*100)/E6 -> 0 | H6: =(D6*G6)/100 -> 0
B7: Matières grasses | C7: Beurre de cacao | D7: 0 | E7: 100 | F7: 0 | G7: =(F7*100)/E7 -> 0 | H7: =(D7*G7)/100 -> 0
B8: Matières grasses | C8: beurre de coco | D8: 0 | E8: 100 | F8: 0 | G8: =(F8*100)/E8 -> 0 | H8: =(D8*G8)/100 -> 0
B9: Matières grasses | C9: blanc d'œuf | D9: 0 | E9: 100 | F9: 0 | G9: =(F9*100)/E9 -> 0 | H9: =(D9*G9)/100 -> 0
B10: Matières grasses | C10: huille de coco | D10: 0 | E10: 100 | F10: 0 | G10: =(F10*100)/E10 -> 0 | H10: =(D10*G10)/100 -> 0
B11: Matières grasses | C11: huile de noisette | D11: 0 | E11: 100 | F11: 0 | G11: =(F11*100)/E11 -> 0 | H11: =(D11*G11)/100 -> 0
B12: Matières grasses | C12: huile d'olive | D12: 0 | E12: 100 | F12: 0 | G12: =(F12*100)/E12 -> 0 | H12: =(D12*G12)/100 -> 0
B13: Matières grasses | C13: huile de pepin raisins | D13: 0 | E13: 100 | F13: 0 | G13: =(F13*100)/E13 -> 0 | H13: =(D13*G13)/100 -> 0
B14: Matières grasses | C14: huile de tournesol | D14: 0 | E14: 100 | F14: 0 | G14: =(F14*100)/E14 -> 0 | H14: =(D14*G14)/100 -> 0
B15: Matières grasses | C15: jaune d'œuf | D15: 0 | E15: 100 | F15: 0 | G15: =(F15*100)/E15 -> 0 | H15: =(D15*G15)/100 -> 0
B16: Matières grasses | C16: œuf | D16: 0 | E16: 100 | F16: 0 | G16: =(F16*100)/E16 -> 0 | H16: =(D16*G16)/100 -> 0

Sheet Pates
B5: Catégories | C5: Produit | D5: IG | E5: Portion moyenne (g) | F5: Glucides par portions (g) | G5: %glucides | H5: Charges
B6: pates | C6: Nouilles de sarrasin | D6: 59 | E6: 180 | F6: 42 | G6: =(F6*100)/E6 -> 23.333333 | H6: =(D6*G6)/100 -> 13.766667
B7: pates | C7: Capellini | D7: 45 | E7: 180 | F7: 45 | G7: =(F7*100)/E7 -> 25 | H7: =(D7*G7)/100 -> 11.25
B8: pates | C8: Fettucini aux œufs | D8: 32 | E8: 180 | F8: 46 | G8: =(F8*100)/E8 -> 25.555556 | H8: =(D8*G8)/100 -> 8.1777778
B9: pates | C9: Fusilli | D9: 54 | E9: 180 | F9: 48 | G9: =(F9*100)/E9 -> 26.666667 | H9: =(D9*G9)/100 -> 14.4
B10: pates | C10: Pates sans gluten | D10: 54 | E10: 180 | F10: 42 | G10: =(F10*100)/E10 -> 23.333333 | H10: =(D10*G10)/100 -> 12.6
B11: pates | C11: Vermicelles de riz | D11: 51 | E11: 180 | G11: =(F11*100)/E11 -> 0 | H11: =(D11*G11)/100 -> 0
B12: pates | C12: Gnocchi | D12: 68 | E12: 180 | F12: 48 | G12: =(F12*100)/E12 -> 26.666667 | H12: =(D12*G12)/100 -> 18.133333
B13: pates | C13: Lasagnes | D13: 55 | E13: 180 | F13: 47 | G13: =(F13*100)/E13 -> 26.111111 | H13: =(D13*G13)/100 -> 14.361111
B14: pates | C14: Lasagnes aux œufs | D14: 53 | E14: 180 | F14: 43 | G14: =(F14*100)/E14 -> 23.888889 | H14: =(D14*G14)/100 -> 12.661111
B15: pates | C15: Luiguine fraiche | D15: 43 | E15: 180 | F15: 48 | G15: =(F15*100)/E15 -> 26.666667 | H15: =(D15*G15)/100 -> 11.466667
B16: pates | C16: Macaronie | D16: 56 | E16: 180 | F16: 48 | G16: =(F16*100)/E16 -> 26.666667 | H16: =(D16*G16)/100 -> 14.933333
B17: pates | C17: Penne | D17: 43 | E17: 180 | F17: 47 | G17: =(F17*100)/E17 -> 26.111111 | H17: =(D17*G17)/100 -> 11.227778
B18: pates | C18: Pate de riz | D18: 61 | E18: 180 | F18: 39 | G18: =(F18*100)/E18 -> 21.666667 | H18: =(D18*G18)/100 -> 13.216667
B19: pates | C19: Spaghetti | D19: 64 | E19: 180 | F19: 43 | G19: =(F19*100)/E19 -> 23.888889 | H19: =(D19*G19)/100 -> 15.288889
B20: pates | C20: Tagliatelle aux œufs | D20: 46 | E20: 180 | F20: 44 | G20: =(F20*100)/E20 -> 24.444444 | H20: =(D20*G20)/100 -> 11.244444
B21: pates | C21: Vermicelles | D21: 35 | E21: 180 | F21: 44 | G21: =(F21*100)/E21 -> 24.444444 | H21: =(D21*G21)/100 -> 8.5555556
B22: pates | C22: Nouilles de blé | D22: 57 | E22: 180 | F22: 42 | G22: =(F22*100)/E22 -> 23.333333 | H22: =(D22*G22)/100 -> 13.3
B23: pates | C23: Nouilles de blé fraiche | D23: 82 | E23: 180 | F23: 42 | G23: =(F23*100)/E23 -> 23.333333 | H23: =(D23*G23)/100 -> 19.133333

Sheet Produits laitiers
B4: Catégories | C4: Produit | D4: IG | E4: Portion moyenne (g) | F4: Glucides par portions (g) | G4: %glucides | H4: Charges
B6: Produits laitiers | C6: creme dessert | D6: 29 | E6: 150 | F6: 20 | G6: =(F6*100)/E6 -> 13.333333 | H6: =(D6*G6)/100 -> 3.8666667
B7: Produits laitiers | C7: Flan low fat vanille | D7: 29 | E7: 100 | F7: 10 | G7: =(F7*100)/E7 -> 10 | H7: =(D7*G7)/100 -> 2.9
B8: Produits laitiers | C8: Yahourt 0% | D8: 19 | E8: 200 | F8: 7 | G8: =(F8*100)/E8 -> 3.5 | H8: =(D8*G8)/100 -> 0.665
B9: Produits laitiers | C9: Fromage frais | D9: 25 | E9: 100 | F9: 7 | G9: =(F9*100)/E9 -> 7 | H9: =(D9*G9)/100 -> 1.75
B10: Produits laitiers | C10: labne | D10: 11 | E10: 200 | F10: 7 | G10: =(F10*100)/E10 -> 3.5 | H10: =(D10*G10)/100 -> 0.385
B11: Produits laitiers | C11: Yahourt faible matiere grasse | D11: 35 | E11: 200 | F11: 28 | G11: =(F11*100)/E11 -> 14 | H11: =(D11*G11)/100 -> 4.9
B12: Produits laitiers | C12: Lait entier | D12: 30 | E12: 250 | F12: 12 | G12: =(F12*100)/E12 -> 4.8 | H12: =(D12*G12)/100 -> 1.44
B13: Produits laitiers | C13: lait ecrémé | D13: 32 | E13: 250 | F13: 13 | G13: =(F13*100)/E13 -> 5.2 | H13: =(D13*G13)/100 -> 1.664
B14: Produits laitiers | C14: Soja yaourt nature | D14: 50 | E14: 200 | F14: 26 | G14: =(F14*100)/E14 -> 13 | H14: =(D14*G14)/100 -> 6.5
B15: Produits laitiers | C15: Yaourt aromatisé | D15: 40 | E15: 200 | F15: 35 | G15: =(F15*100)/E15 -> 17.5 | H15: =(D15*G15)/100 -> 7
B16: Produits laitiers | C16: Coco creme | D16: 0 | E16: 100 | F16: 0 | G16: =(F16*100)/E16 -> 0 | H16: =(D16*G16)/100 -> 0
B17: Produits laitiers | C17: Creme epaisse entiere | D17: 0 | E17: 100 | F17: 0 | G17: =(F17*100)/E17 -> 0 | H17: =(D17*G17)/100 -> 0
... B21: Produits laitiers | C21: Mascarpone | D21: 25 | E21: 100 | F21: 4 | G21: =(F21*100)/E21 -> 4 | H21: =(D21*G21)/100 -> 1

Sheet boissons
B4: Catégories | C4: Produit | D4: IG | E4: Portion moyenne (g) | F4: Glucides par portions (g) | G4: %glucides | H4: Charges
B5: Boissons | C5: Avoine lait | D5: 30 | E5: 100 | F5: 8 | G5: =(F5*100)/E5 -> 8 | H5: =(D5*G5)/100 -> 2.4
B6: Boissons | C6: Coco lait | D6: 40 | E6: 100 | F6: 7 | G6: =(F6*100)/E6 -> 7 | H6: =(D6*G6)/100 -> 2.8
B7: Boissons | C7: Amande lait | D7: 30 | E7: 100 | F7: 4 | G7: =(F7*100)/E7 -> 4 | H7: =(D7*G7)/100 -> 1.2
B8: Boissons | C8: Riz lait | D8: 85 | E8: 100 | F8: 10 | G8: =(F8*100)/E8 -> 10 | H8: =(D8*G8)/100 -> 8.5
B9: Boissons | C9: Soja lait | D9: 30 | E9: 100 | F9: 44 | G9: =(F9*100)/E9 -> 44 | H9: =(D9*G9)/100 -> 13.2

Sheet Sucres
B4: Catégories | C4: Produit | D4: IG | E4: Portion moyenne (g) | F4: Glucides par portions (g) | G4: %glucides | H4: Charges
B5: Sucres | C5: Fructose | D5: 20 | E5: 10 | F5: 10 | G5: =(F5*100)/E5 -> 100 | H5: =(D5*G5)/100 -> 20
B6: Sucres | C6: Glucose | D6: 100 | E6: 10 | F6: 10 | G6: =(F6*100)/E6 -> 100 | H6: =(D6*G6)/100 -> 100
B7: Sucres | C7: Golden syrup | D7: 63 | E7: 25 | F7: 21 | G7: =(F7*100)/E7 -> 84 | H7: =(D7*G7)/100 -> 52.92
B8: Sucres | C8: Isomaltose | D8: 2 | E8: 10 | F8: 10 | G8: =(F8*100)/E8 -> 100 | H8: =(D8*G8)/100 -> 2
B9: Sucres | C9: Isomaltulose | D9: 32 | E9: 10 | F9: 10 | G9: =(F9*100)/E9 -> 100 | H9: =(D9*G9)/100 -> 32
B10: Sucres | C10: Lactitol | D10: -1 | E10: 10 | F10: 10 | G10: =(F10*100)/E10 -> 100 | H10: =(D10*G10)/100 -> -1
B11: Sucres | C11: Lactose | D11: 46 | E11: 10 | F11: 10 | G11: =(F11*100)/E11 -> 100 | H11: =(D11*G11)/100 -> 46
B12: Sucres | C12: Logican IG bas | D12: 50 | E12: 4 | F12: 4 | G12: =(F12*100)/E12 -> 100 | H12: =(D12*G12)/100 -> 50
B13: Sucres | C13: Maltitol | D13: 26 | E13: 10 | F13: 10 | G13: =(F13*100)/E13 -> 100 | H13: =(D13*G13)/100 -> 26
B14: Sucres | C14: Maltose | D14: 105 | E14: 10 | F14: 10 | G14: =(F14*100)/E14 -> 100 | H14: =(D14*G14)/100 -> 105
B15: Sucres | C15: Miel - pure | D15: 58 | E15: 25 | F15: 21 | G15: =(F15*100)/E15 -> 84 | H15: =(D15*G15)/100 -> 48.72
B16: Sucres | C16: Sirop d'agave | D16: 10 | E16: 10 | F16: 8 | G16: =(F16*100)/E16 -> 80 | H16: =(D16*G16)/100 -> 8
... B24: Sucres | C24: Miel d'acacia | D24: 35 | E24: 100 | F24: 81 | G24: =(F24*100)/E24 -> 81 | H24: =(D24*G24)/100 -> 28.35
B25: Sucres | C25: Erythritol | D25: 0 | E25: 0 | F25: 0 | G25: 0 | H25: =(D25*G25)/100 -> 0
B26: Sucres | C26: Xylitol | D26: 7 | E26: 10 | F26: 10 | G26: =(F26*100)/E26 -> 100 | H26: =(D26*G26)/100 -> 7

Sheet Additifs
B4: Catégories | C4: Produit | D4: IG | E4: Portion moyenne (g) | F4: Glucides par portions (g) | G4: %glucides | H4: Charges
B5: Additifs | C5: Agar | D5: 15 | E5: 100 | F5: 4.6 | G5: =(F5*100)/E5 -> 4.6 | H5: =(D5*G5)/100 -> 0.69
B6: Additifs | C6: Racine arrow | D6: 65 | E6: 100 | F6: 88 | G6: =(F6*100)/E6 -> 88 | H6: =(D6*G6)/100 -> 57.2
B7: Additifs | C7: Bicarbonnate de soude | D7: 0 | E7: 100 | F7: 0 | G7: =(F7*100)/E7 -> 0 | H7: =(D7*G7)/100 -> 0
B8: Additifs | C8: Gelatine | D8: 0 | E8: 100 | F8: 0 | G8: =(F8*100)/E8 -> 0 | H8: =(D8*G8)/100 -> 0
B9: Additifs | C9: guar | D9: 0 | E9: 100 | F9: 0 | G9: =(F9*100)/E9 -> 0 | H9: =(D9*G9)/100 -> 0
B10: Additifs | C10: levure boulanger | D10: 35 | E10: 100 | F10: 33 | G10: =(F10*100)/E10 -> 33 | H10: =(D10*G10)/100 -> 11.55
B11: Additifs | C11: levure chimique | D11: 35 | E11: 100 | F11: 19 | G11: =(F11*100)/E11 -> 19 | H11: =(D11*G11)/100 -> 6.65
B12: Additifs | C12: vinaigre de cidre | D12: 5 | E12: 100 | F12: 0 | G12: =(F12*100)/E12 -> 0 | H12: =(D12*G12)/100 -> 0
B13: Additifs | C13: xanthane | D13: 0 | E13: 100 | F13: 0 | G13: =(F13*100)/E13 -> 0 | H13: =(D13*G13)/100 -> 0
