Workbook

Sheet Liste
B2: 1 | C2: XXX
B4: a | C4: Insérer ligne
B5: b | C5: XXX
B6: c | C6: XXX
B8: 2 | C8: Watchlist
C10: Projet | D10: Date | E10: Jour restant | F10: XXX | G10: XXX | H10: XXX
C11: 1 | D11: 44470 | E11: =(IF(D11 < TODAY(), "PAST", DATEDIF(TODAY(), D11,"d"))) -> PAST | F11: 0.065 | H11: XXX
C12: 2 | D12: 44470 | E12: =(IF(D12 < TODAY(), "PAST", DATEDIF(TODAY(), D12,"d"))) -> PAST | F12: 0.07 | H12: XXX
C13: 3 | D13: 44470 | E13: =(IF(D13 < TODAY(), "PAST", DATEDIF(TODAY(), D13,"d"))) -> PAST | F13: 0.08 | H13: XXX
C14: 4 | D14: 44470 | E14: =(IF(D14 < TODAY(), "PAST", DATEDIF(TODAY(), D14,"d"))) -> PAST | F14: 0.09 | H14: XXX
C15: 5 | D15: 44550 | E15: =(IF(D15 < TODAY(), "PAST", DATEDIF(TODAY(), D15,"d"))) -> PAST | F15: 0.07 | H15: XXX
C16: 6 | D16: 44553 | E16: =(IF(D16 < TODAY(), "PAST", DATEDIF(TODAY(), D16,"d"))) -> PAST | F16: 0.4 | H16: XXX
C17: 7 | D17: 44553 | E17: =(IF(D17 < TODAY(), "PAST", DATEDIF(TODAY(), D17,"d"))) -> PAST | F17: 0.1 | H17: XXX
C18: 8 | D18: 44554 | E18: =(IF(D18 < TODAY(), "PAST", DATEDIF(TODAY(), D18,"d"))) -> PAST | F18: 0.37 | H18: XXX
C19: 9 | D19: 44562 | E19: =(IF(D19 < TODAY(), "PAST", DATEDIF(TODAY(), D19,"d"))) -> PAST | F19: 0.2 | H19: XXX
C20: 10 | D20: 44580 | E20: =(IF(D20 < TODAY(), "PAST", DATEDIF(TODAY(), D20,"d"))) -> 9 | F20: 0.2
C21: 11 | D21: 44593 | E21: =(IF(D21 < TODAY(), "PAST", DATEDIF(TODAY(), D21,"d"))) -> 22
C22: 12 | D22: 44621 | E22: =(IF(D22 < TODAY(), "PAST", DATEDIF(TODAY(), D22,"d"))) -> 50
C23: 13 | D23: 44652 | E23: =(IF(D23 < TODAY(), "PAST", DATEDIF(TODAY(), D23,"d"))) -> 81
C24: 14 | D24: 44682 | E24: =(IF(D24 < TODAY(), "PAST", DATEDIF(TODAY(), D24,"d"))) -> 111
C25: 15 | D25: 44713 | E25: =(IF(D25 < TODAY(), "PAST", DATEDIF(TODAY(), D25,"d"))) -> 142
C26: 16 | D26: 44743 | E26: =(IF(D26 < TODAY(), "PAST", DATEDIF(TODAY(), D26,"d"))) -> 172
C27: 17 | D27: 44774 | E27: =(IF(D27 < TODAY(), "PAST", DATEDIF(TODAY(), D27,"d"))) -> 203
C28: 18 | D28: 44805 | E28: =(IF(D28 < TODAY(), "PAST", DATEDIF(TODAY(), D28,"d"))) -> 234
C29: 19 | D29: 44835 | E29: =(IF(D29 < TODAY(), "PAST", DATEDIF(TODAY(), D29,"d"))) -> 264
C30: 20 | D30: 44866 | E30: =(IF(D30 < TODAY(), "PAST", DATEDIF(TODAY(), D30,"d"))) -> 295
C31: 21 | D31: 44896 | E31: =(IF(D31 < TODAY(), "PAST", DATEDIF(TODAY(), D31,"d"))) -> 325
C32: 22 | D32: 44927 | E32: =(IF(D32 < TODAY(), "PAST", DATEDIF(TODAY(), D32,"d"))) -> 356
C33: 23 | D33: 44958 | E33: =(IF(D33 < TODAY(), "PAST", DATEDIF(TODAY(), D33,"d"))) -> 387
A34: Insérer

Sheet Grille de qualification
B2: 1 | C2: XXX
B4: a
B6: 2 | C6: XXX
B8: a
B9: b
B11: 3 | C11: XXX
C13: XXX | D13: XXX | E13: XXX | F13: XXX | G13: XXX | H13: XXX | I13: XXX | J13: XXX | K13: XXX | L13: XXX | M13: XXX | N13: XXX | O13: XXX | P13: XXX | Q13: XXX | S13: GO / NO GO
C14: Critères de notation
C15: Critère évalué | D15: XXX | E15: XXX | F15: XXX | G15: XXX | H15: XXX | I15: XXX | J15: XXX | K15: XXX | L15: XXX | M15: XXX | N15: XXX | O15: XXX | P15: XXX | S15: GO | T15: =COUNTIF(S24:S1048576, "GO") -> 4
C16: Class° | D16: XXX | E16: XXX | F16: XXX | G16: XXX | H16: XXX | I16: XXX | J16: XXX | K16: XXX | L16: XXX | M16: XXX | N16: XXX | O16: XXX | P16: XXX | S16: NO GO | T16: =COUNTIF(S24:S1048576, "NO GO") -> 19
C17: Class° | D17: XXX | E17: XXX | F17: XXX | G17: XXX | H17: XXX | I17: XXX | J17: XXX | K17: XXX | L17: < 25k | M17: XXX | N17: XXX | O17: XXX | P17: XXX | Q17: /52
C18: Class° | D18: XXX | E18: XXX | F18: XXX | G18: XXX | H18: XXX | I18: XXX | J18: XXX | K18: XXX | L18: < 50k | M18: XXX | N18: XXX | O18: XXX | P18: XXX
C19: Class° | D19: XXX | E19: XXX | F19: XXX | G19: XXX | H19: XXX | I19: XXX | J19: XXX | K19: XXX | L19: > 50k | M19: XXX | N19: XXX | O19: XXX | P19: XXX
C21: Explicat° | D21: XXX | H21: XXX | I21: XXX | K21: XXX | L21: XXX | M21: XXX | N21: XXX | Q21: 52 points de notes
C22: Ponderat° | D22: /4 | E22: /4 | F22: /4 | G22: /4 | H22: /4 | I22: /4 | J22: /4 | K22: /4 | L22: /4 | M22: /4 | N22: /4 | O22: /4 | P22: /4
C24: =Liste!C11 -> 1 | D24: 3 | E24: 2 | F24: 2 | G24: 1 | H24: 1 | I24: 3 | J24: 2 | K24: 2 | L24: 1 | M24: 1 | N24: 1 | O24: 1 | P24: 1 | Q24: =SUM(D24:P24) -> 21 | S24: =IF(Q24>=39, "GO", "NO GO") -> NO GO
C25: =Liste!C12 -> 2 | D25: 3 | E25: 2 | F25: 1 | G25: 1 | H25: 1 | I25: 3 | J25: 1 | K25: 1 | L25: 1 | M25: 1 | N25: 1 | O25: 1 | P25: 1 | Q25: =SUM(D25:P25) -> 18 | S25: =IF(Q25>=39, "GO", "NO GO") -> NO GO
C26: =Liste!C13 -> 3 | D26: 3 | E26: 3 | F26: 3 | G26: 2 | H26: 3 | I26: 3 | J26: 3 | K26: 2 | L26: 2 | M26: 2 | N26: 2 | O26: 2 | P26: 1 | Q26: =SUM(D26:P26) -> 31 | S26: =IF(Q26>=39, "GO", "NO GO") -> NO GO
C27: =Liste!C14 -> 4 | D27: 3 | Q27: =SUM(D27:P27) -> 3 | S27: =IF(Q27>=39, "GO", "NO GO") -> NO GO
C28: =Liste!C15 -> 5 | D28: 3 | Q28: =SUM(D28:P28) -> 3 | S28: =IF(Q28>=39, "GO", "NO GO") -> NO GO
C29: =Liste!C16 -> 6 | D29: 1 | Q29: =SUM(D29:P29) -> 1 | S29: =IF(Q29>=39, "GO", "NO GO") -> NO GO
C30: =Liste!C17 -> 7 | D30: 2 | Q30: =SUM(D30:P30) -> 2 | S30: =IF(Q30>=39, "GO", "NO GO") -> NO GO
C31: =Liste!C18 -> 8 | D31: 3 | E31: 3 | F31: 3 | G31: 3 | H31: 3 | I31: 3 | J31: 4 | K31: 4 | L31: 4 | M31: 3 | N31: 3 | O31: 4 | P31: 2 | Q31: =SUM(D31:P31) -> 42 | S31: =IF(Q31>=39, "GO", "NO GO") -> GO
C32: =Liste!C19 -> 9 | D32: 3 | E32: 3 | F32: 3 | G32: 4 | H32: 2 | I32: 4 | J32: 4 | K32: 4 | L32: 4 | M32: 3 | N32: 3 | O32: 3 | P32: 1 | Q32: =SUM(D32:P32) -> 41 | S32: =IF(Q32>=39, "GO", "NO GO") -> GO
C33: =Liste!C20 -> 10 | D33: 3 | E33: 4 | F33: 3 | G33: 4 | H33: 2 | I33: 3 | J33: 4 | K33: 4 | L33: 4 | M33: 3 | N33: 3 | O33: 4 | P33: 2 | Q33: =SUM(D33:P33) -> 43 | S33: =IF(Q33>=39, "GO", "NO GO") -> GO
C34: =Liste!C21 -> 11 | D34: 3 | E34: 4 | F34: 3 | G34: 4 | H34: 2 | I34: 3 | J34: 4 | K34: 4 | L34: 4 | M34: 3 | N34: 3 | O34: 4 | P34: 2 | Q34: =SUM(D34:P34) -> 43 | S34: =IF(Q34>=39, "GO", "NO GO") -> GO
C35: =Liste!C22 -> 12 | D35: 3 | E35: 3 | F35: 3 | G35: 2 | H35: 3 | I35: 3 | J35: 3 | K35: 2 | L35: 2 | M35: 2 | N35: 2 | O35: 2 | P35: 1 | Q35: =SUM(D35:P35) -> 31 | S35: =IF(Q35>=39, "GO", "NO GO") -> NO GO
C36: =Liste!C23 -> 13 | Q36: =SUM(D36:P36) -> 0 | S36: =IF(Q36>=39, "GO", "NO GO") -> NO GO
C37: =Liste!C24 -> 14 | Q37: =SUM(D37:P37) -> 0 | S37: =IF(Q37>=39, "GO", "NO GO") -> NO GO
C38: =Liste!C25 -> 15 | Q38: =SUM(D38:P38) -> 0 | S38: =IF(Q38>=39, "GO", "NO GO") -> NO GO
C39: =Liste!C26 -> 16 | Q39: =SUM(D39:P39) -> 0 | S39: =IF(Q39>=39, "GO", "NO GO") -> NO GO
C40: =Liste!C27 -> 17 | Q40: =SUM(D40:P40) -> 0 | S40: =IF(Q40>=39, "GO", "NO GO") -> NO GO
C41: =Liste!C28 -> 18 | Q41: =SUM(D41:P41) -> 0 | S41: =IF(Q41>=39, "GO", "NO GO") -> NO GO
C42: =Liste!C29 -> 19 | Q42: =SUM(D42:P42) -> 0 | S42: =IF(Q42>=39, "GO", "NO GO") -> NO GO
C43: =Liste!C30 -> 20 | Q43: =SUM(D43:P43) -> 0 | S43: =IF(Q43>=39, "GO", "NO GO") -> NO GO
C44: =Liste!C31 -> 21 | Q44: =SUM(D44:P44) -> 0 | S44: =IF(Q44>=39, "GO", "NO GO") -> NO GO
C45: =Liste!C32 -> 22 | Q45: =SUM(D45:P45) -> 0 | S45: =IF(Q45>=39, "GO", "NO GO") -> NO GO
C46: =Liste!C33 -> 23 | Q46: =SUM(D46:P46) -> 0 | S46: =IF(Q46>=39, "GO", "NO GO") -> NO GO
C47: =Liste!C34 -> 0
C48: =Liste!C35 -> 0
C49: =Liste!C36 -> 0
C50: =Liste!C37 -> 0
C51: =Liste!C38 -> 0
C52: =Liste!C39 -> 0
C53: =Liste!C40 -> 0
C54: =Liste!C41 -> 0
C55: =Liste!C42 -> 0
C56: =Liste!C43 -> 0
C57: =Liste!C44 -> 0
C58: =Liste!C45 -> 0
... C118: =Liste!C105 -> 0

Sheet Positionnement
B2: 1 | C2: XXX
B4: a | C4: XXX
B5: b | C5: XXX
B6: c | C6: XXX
B7: d | C7: XXX
B9: 2 | C9: XXX
I10: XXX
C11: Projet | D11: XXX | E11: Date d'achat | F11: XXX | G11: Taux | H11: Nombre | I11: XXX | J11: XXX | K11: XXX | L11: XXX | M11: Go / No go | N11: XXX
C12: ='Grille de qualification'!C24 -> 1 | D12: XXX | E12: =Liste!D11 -> 44470 | F12: =Liste!F11 -> 0.065 | G12: 0.065 | H12: 1 | L12: ='Grille de qualification'!Q24 -> 21 | M12: =IF(C12='Grille de qualification'!C24, 'Grille de qualification'!S24, "") -> NO GO | N12: XXX
C13: ='Grille de qualification'!C25 -> 2 | D13: XXX | E13: =Liste!D12 -> 44470 | F13: =Liste!F12 -> 0.07 | G13: 0.07 | H13: 2 | L13: ='Grille de qualification'!Q25 -> 18 | M13: =IF(C13='Grille de qualification'!C25, 'Grille de qualification'!S25, "") -> NO GO | N13: XXX
C14: ='Grille de qualification'!C26 -> 3 | D14: XXX | E14: =Liste!D13 -> 44470 | F14: =Liste!F13 -> 0.08 | G14: 0.08 | H14: 1 | L14: ='Grille de qualification'!Q26 -> 31 | M14: =IF(C14='Grille de qualification'!C26, 'Grille de qualification'!S26, "") -> NO GO | N14: XXX
C15: ='Grille de qualification'!C27 -> 4 | D15: XXX | E15: =Liste!D14 -> 44470 | F15: =Liste!F14 -> 0.09 | G15: 0.09 | H15: 2 | L15: ='Grille de qualification'!Q27 -> 3 | M15: =IF(C15='Grille de qualification'!C27, 'Grille de qualification'!S27, "") -> NO GO | N15: XXX
C16: ='Grille de qualification'!C28 -> 5 | D16: XXX | E16: =Liste!D15 -> 44550 | F16: =Liste!F15 -> 0.07 | G16: 0.07 | H16: 1 | L16: ='Grille de qualification'!Q28 -> 3 | M16: =IF(C16='Grille de qualification'!C28, 'Grille de qualification'!S28, "") -> NO GO | N16: XXX
C17: ='Grille de qualification'!C29 -> 6 | D17: XXX | E17: =Liste!D16 -> 44553 | F17: =Liste!F16 -> 0.4 | G17: 0.4 | H17: 2 | L17: ='Grille de qualification'!Q29 -> 1 | M17: =IF(C17='Grille de qualification'!C29, 'Grille de qualification'!S29, "") -> NO GO | N17: XXX
C18: ='Grille de qualification'!C30 -> 7 | D18: XXX | E18: =Liste!D17 -> 44553 | F18: =Liste!F17 -> 0.1 | G18: 0.1 | H18: 1 | L18: ='Grille de qualification'!Q30 -> 2 | M18: =IF(C18='Grille de qualification'!C30, 'Grille de qualification'!S30, "") -> NO GO | N18: XXX
C19: ='Grille de qualification'!C31 -> 8 | D19: XXX | E19: =Liste!D18 -> 44554 | F19: 0.2 | G19: 0.2 | H19: 1 | L19: ='Grille de qualification'!Q31 -> 42 | M19: =IF(C19='Grille de qualification'!C31, 'Grille de qualification'!S31, "") -> GO | N19: XXX
C20: ='Grille de qualification'!C32 -> 9 | D20: XXX | E20: =Liste!D19 -> 44562 | F20: =Liste!F19 -> 0.2 | G20: 0.2 | H20: 2 | L20: ='Grille de qualification'!Q32 -> 41 | M20: =IF(C20='Grille de qualification'!C32, 'Grille de qualification'!S32, "") -> GO | N20: XXX
C21: ='Grille de qualification'!C33 -> 10 | D21: XXX | E21: =Liste!D20 -> 44580 | F21: =Liste!F20 -> 0.2 | G21: 0.2 | H21: 1 | L21: ='Grille de qualification'!Q33 -> 43 | M21: =IF(C21='Grille de qualification'!C33, 'Grille de qualification'!S33, "") -> GO | N21: XXX
C22: ='Grille de qualification'!C34 -> 11 | D22: XXX | E22: =Liste!D20 -> 44580 | F22: =Liste!F20 -> 0.2 | G22: 0.2 | H22: 1 | L22: ='Grille de qualification'!Q33 -> 43 | M22: =IF(C22='Grille de qualification'!C34, 'Grille de qualification'!S34, "") -> GO | N22: XXX
C23: ='Grille de qualification'!C35 -> 12 | D23: XXX | E23: =Liste!D21 -> 44593 | F23: 0.2 | G23: 0.2 | H23: 1 | L23: ='Grille de qualification'!Q34 -> 43 | M23: =IF(C23='Grille de qualification'!C35, 'Grille de qualification'!S35, "") -> NO GO | N23: XXX
C24: ='Grille de qualification'!C36 -> 13 | D24: XXX | E24: =Liste!D22 -> 44621 | F24: 0.2 | G24: 0.2 | H24: 1 | L24: ='Grille de qualification'!Q35 -> 31 | M24: =IF(C24='Grille de qualification'!C36, 'Grille de qualification'!S36, "") -> NO GO | N24: XXX
C25: ='Grille de qualification'!C37 -> 14 | D25: XXX | E25: =Liste!D22 -> 44621 | F25: 0.37 | G25: 0.37 | H25: 1 | L25: ='Grille de qualification'!Q35 -> 31 | M25: =IF(C25='Grille de qualification'!C37, 'Grille de qualification'!S37, "") -> NO GO | N25: XXX
A26: Insérer

Sheet Performance tracking (GO)
C2: 1 | D2: XXX
C4: a | D4: Bien renseigner les données dans onglet Positionnement
C5: b | D5: Insérer une nouvelle ligne
C6: c | D6: Tirer les fonctions pour mise à jour automatique
C7: d | D7: A remplir manuellement
C9: 2 | D9: XXX
D11: XXX | E11: XXX
D12: XXX | E12: XXX
C14: 3 | D14: XXX
D16: Projet | E16: Nombre | F16: Taux | G16: XXX | H16: XXX | I16: XXX | J16: XXX | K16: XXX | L16: XXX | N16: XXX | O16: XXX | P16: XXX
E17: =Positionnement!H13 -> 2 | F17: =Positionnement!G22 -> 0.2 | G17: =E17*F17 -> 0.4 | H17: =F17*$E$12 -> #VALUE! | I17: =G17*$E$12*$E$11 -> #VALUE! | J17: 2 | K17: 1 | L17: =J17*K17 -> 2 | N17: =IF(O17> 0, "S", "F") -> S | O17: =L17-G17 -> 1.6 | P17: =O17*$E$11-I17 -> #VALUE!
E18: =Positionnement!H14 -> 1 | F18: =Positionnement!G23 -> 0.2 | G18: =E18*F18 -> 0.2 | H18: =F18*$E$12 -> #VALUE! | I18: =G18*$E$12*$E$11 -> #VALUE! | J18: 25 | K18: 1 | L18: =J18*K18 -> 25 | N18: =IF(O18> 0, "S", "F") -> S | O18: =L18-G18 -> 24.8 | P18: =O18*$E$11-I18 -> #VALUE!
E19: =Positionnement!H15 -> 2 | F19: =Positionnement!G24 -> 0.2 | G19: =E19*F19 -> 0.4 | H19: =F19*$E$12 -> #VALUE! | I19: =G19*$E$12*$E$11 -> #VALUE! | J19: 0.5 | K19: 1 | L19: =J19*K19 -> 0.5 | N19: =IF(O19> 0, "S", "F") -> S | O19: =L19-G19 -> 0.1 | P19: =O19*$E$11-I19 -> #VALUE!
E20: =Positionnement!H16 -> 1 | F20: =Positionnement!G25 -> 0.37 | G20: =E20*F20 -> 0.37 | H20: =F20*$E$12 -> #VALUE! | I20: =G20*$E$12*$E$11 -> #VALUE! | J20: 0.5 | K20: 1 | L20: =J20*K20 -> 0.5 | N20: =IF(O20> 0, "S", "F") -> S | O20: =L20-G20 -> 0.13 | P20: =O20*$E$11-I20 -> #VALUE!
B21: Insérer
C23: 4 | D23: XXX
D25: XXX | E25: =COUNTA(D17:D21) -> 0
D26: XXX | E26: =COUNTIF(N17:N21, "S") -> 4
D27: XXX | E27: =COUNTIF(N17:N21, "F") -> 0
D28: XXX | E28: =E26/E25 -> #DIV/0!
D30: XXX | E30: =SUM(G17:G21)/SUM(E17:E21) -> 0.22833333
D31: XXX | E31: =E30*E11 -> #VALUE!
D32: XXX | E32: =E39/SUM(K17:K21) -> 7
D33: XXX | E33: =E32*E11 -> #VALUE!
D34: XXX | E34: =SUM(O17:O21)/E25 -> #DIV/0!
D35: XXX | E35: =E34*E11 -> #DIV/0!
D37: XXX | E37: =SUM(G17:G21) -> 1.37
D38: XXX | E38: =E37*E11 -> #VALUE!
D39: XXX | E39: =SUM(L17:L21) -> 28
D40: XXX | E40: =E39*E11 -> #VALUE!
D41: XXX | E41: =E39-E37 -> 26.63
D42: XXX | E42: =E41*E11 -> #VALUE!
D43: XXX | E43: =(E39/E37)-1 -> 19.437956

Sheet Performance tracking (NO GO)
B2: 1 | C2: XXX
B4: a | C4: XXX
B5: b | C5: XXX
B6: c | C6: XXX
B7: d | C7: XXX
B9: 2 | C9: XXX
C11: XXX | D11: XXX
C12: XXX | D12: XXX
B14: 3 | C14: XXX
C16: Projet | D16: Nombre | E16: Taux | F16: XXX | G16: XXX | H16: XXX | I16: XXX | J16: XXX | K16: XXX | M16: XXX | N16: XXX | O16: XXX
F17: =D17*E17 -> 0 | G17: =E17*$D$12 -> #VALUE! | H17: =F17*$D$12*$D$11 -> #VALUE! | J17: =1 -> 1 | K17: 2 | M17: =IF(N17> 0, "S", "F") -> S | N17: =K17-F17 -> 2 | O17: =N17*$D$11-$H$17 -> #VALUE!
F18: =D18*E18 -> 0 | G18: =E18*$D$12 -> #VALUE! | H18: =F18*$D$12*$D$11 -> #VALUE! | J18: =1 -> 1 | K18: 3 | M18: =IF(N18> 0, "S", "F") -> S | N18: =K18-F18 -> 3 | O18: =N18*$D$11-$H$17 -> #VALUE!
F19: =D19*E19 -> 0 | G19: =E19*$D$12 -> #VALUE! | H19: =F19*$D$12*$D$11 -> #VALUE! | J19: =1 -> 1 | K19: =I19*J19 -> 0 | M19: =IF(N19> 0, "S", "F") -> F | N19: =K19-F19 -> 0 | O19: =N19*$D$11-$H$17 -> #VALUE!
F20: =D20*E20 -> 0 | G20: =E20*$D$12 -> #VALUE! | H20: =F20*$D$12*$D$11 -> #VALUE! | J20: =1 -> 1 | K20: 1 | M20: =IF(N20> 0, "S", "F") -> S | N20: =K20-F20 -> 1 | O20: =N20*$D$11-$H$17 -> #VALUE!
A21: Insérer
B23: 4 | C23: XXX
C25: XXX | D25: =COUNTA(C17:C21) -> 0
C26: XXX | D26: =COUNTIF(M17:M21, "S") -> 3
C27: XXX | D27: =COUNTIF(M17:M21, "F") -> 1
C28: XXX | D28: =D26/D25 -> #DIV/0!
C30: XXX | D30: =SUM(F17:F21)/SUM(D17:D21) -> #DIV/0!
C31: XXX | D31: =D30*D11 -> #DIV/0!
C32: XXX | D32: =D39/SUM(J17:J21) -> 1.5
C33: XXX | D33: =D32*D11 -> #VALUE!
C34: XXX | D34: =SUM(N17:N21)/D25 -> #DIV/0!
C35: XXX | D35: =D34*D11 -> #DIV/0!
C37: XXX | D37: =SUM(F17:F21) -> 0
C38: XXX | D38: =D37*D11 -> #VALUE!
C39: XXX | D39: =SUM(K17:K21) -> 6
C40: XXX | D40: =D39*D11 -> #VALUE!
C41: XXX | D41: =D39-D37 -> 6
C42: XXX | D42: =D41*D11 -> #VALUE!
C43: XXX | D43: =(D39/D37)-1 -> #DIV/0!
