Workbook

Sheet Récap notes
A1: Nom | B1: Prénom | C1: Version numérique | D1: Version papier | E1: Note | F1: Remarque
A2: =eleve1!B$33 | B2: =eleve1!B$35 | C2: =eleve1!J33 -> 0 | D2: =eleve1!K33 -> 0 | E2: =eleve1!E$30 -> 0 | F2: =eleve1!H$30
A3: =eleve2!B$33 | B3: =eleve2!B$35 | C3: =eleve1!J34 -> 0 | D3: =eleve1!K34 -> 0 | E3: =eleve2!E$30 -> 0 | F3: =eleve2!H$30 -> 0
A4: =eleve3!B$33 | B4: =eleve3!B$35 | C4: =eleve3!J30 -> 0 | D4: =eleve3!K30 -> 0 | E4: =eleve3!E$30 -> 0 | F4: =eleve3!H$30 -> 0
A5: =eleve4!B$33 | B5: =eleve4!B$35 | C5: =eleve4!J30 -> 0 | D5: =eleve4!K30 -> 0 | E5: =eleve4!E$30 -> 0 | F5: =eleve4!H$30 -> 0
A6: =eleve5!B$33 | B6: =eleve5!B$35 | C6: =eleve5!J30 -> 0 | D6: =eleve5!K30 -> 0 | E6: =eleve5!E$30 -> 0 | F6: =eleve5!H$30
A7: =eleve6!B$33 | B7: =eleve6!B$35 | C7: =eleve6!J30 -> 0 | D7: =eleve6!K30 -> 0 | E7: =eleve6!E$30 -> 0 | F7: =eleve6!H$30
A8: =eleve7!B$33 | B8: =eleve7!B$35 | C8: =eleve7!J30 -> 0 | D8: =eleve7!K30 -> 0 | E8: =eleve7!E$30 -> 0 | F8: =eleve7!H$30
A9: =eleve8!B$33 | B9: =eleve8!B$35 | C9: =eleve8!J30 -> 0 | D9: =eleve8!K30 -> 0 | E9: =eleve8!E$30 -> 0 | F9: =eleve8!H$30
A10: =eleve9!B$33 | B10: =eleve9!B$35 | C10: =eleve9!J30 -> 0 | D10: =eleve9!K30 -> 0 | E10: =eleve9!E$30 -> 0 | F10: =eleve9!H$30
A11: =eleve10!B$33 | B11: =eleve10!B$35 | C11: =eleve10!J30 -> 0 | D11: =eleve10!K30 -> 0 | E11: =eleve10!E$30 -> 0 | F11: =eleve10!H$30
A12: =eleve11!B$33 | B12: =eleve11!B$35 | C12: =eleve11!J30 -> 0 | D12: =eleve11!K30 -> 0 | E12: =eleve11!E$30 -> 0 | F12: =eleve11!H$30
A13: =eleve12!B$33 | B13: =eleve12!B$35 | C13: =eleve12!J30 -> 0 | D13: =eleve12!K30 -> 0 | E13: =eleve12!E$30 -> 0 | F13: =eleve12!H$30
A14: =eleve13!B$33 | B14: =eleve13!B$35 | C14: =eleve13!J30 -> 0 | D14: =eleve13!K30 -> 0 | E14: =eleve13!E$30 -> 0 | F14: =eleve13!H$30
A15: =eleve14!B$33 | B15: =eleve14!B$35 | C15: =eleve14!J30 -> 0 | D15: =eleve14!K30 -> 0 | E15: =eleve14!E$30 -> 0 | F15: =eleve14!H$30
A16: =eleve15!B$33 | B16: =eleve15!B$35 | C16: =eleve15!J30 -> 0 | D16: =eleve15!K30 -> 0 | E16: =eleve15!E$30 -> 0 | F16: =eleve15!H$30
A17: =eleve16!B$33 | B17: =eleve16!B$35 | C17: =eleve16!J30 -> 0 | D17: =eleve16!K30 -> 0 | E17: =eleve16!E$30 -> 0 | F17: =eleve16!H$30
A18: =eleve17!B$33 | B18: =eleve17!B$35 | C18: =eleve17!J30 -> 0 | D18: =eleve17!K30 -> 0 | E18: =eleve17!E$30 -> 0 | F18: =eleve17!H$30
A19: =eleve18!B$33 | B19: =eleve18!B$35 | C19: =eleve18!J30 -> 0 | D19: =eleve18!K30 -> 0 | E19: =eleve18!E$30 -> 0 | F19: =eleve18!H$30
A20: =eleve19!B$33 | B20: =eleve19!B$35 | C20: =eleve19!J30 -> 0 | D20: =eleve19!K30 -> 0 | E20: =eleve19!E$30 -> 0 | F20: =eleve19!H$30
A21: =eleve20!B$33 | B21: =eleve20!B$35 | C21: =eleve20!J30 -> 0 | D21: =eleve20!K30 -> 0 | E21: =eleve20!E$30 -> 0 | F21: =eleve20!H$30
A22: =eleve21!B$33 | B22: =eleve21!B$35 | C22: =eleve21!J30 -> 0 | D22: =eleve21!K30 -> 0 | E22: =eleve21!E$30 -> 0 | F22: =eleve21!H$30
A23: =eleve22!B$33 | B23: =eleve22!B$35 | C23: =eleve22!J30 -> 0 | D23: =eleve22!K30 -> 0 | E23: =eleve22!E$30 -> 0 | F23: =eleve22!H$30
A24: =eleve23!B$33 | B24: =eleve23!B$35 | C24: =eleve23!J30 -> 0 | D24: =eleve23!K30 -> 0 | E24: =eleve23!E$30 -> 0 | F24: =eleve23!H$30
A25: =eleve24!B$33 | B25: =eleve24!B$35 | C25: =eleve24!J30 -> 0 | D25: =eleve24!K30 -> 0 | E25: =eleve24!E$30 -> 0 | F25: =eleve24!H$30
A26: =eleve25!B$33 | B26: =eleve25!B$35 | C26: =eleve25!J30 -> 0 | D26: =eleve25!K30 -> 0 | E26: =eleve25!E$30 -> 0 | F26: =eleve25!H$30
A27: =eleve26!B$33 | B27: =eleve26!B$35 | C27: =eleve26!J30 -> 0 | D27: =eleve26!K30 -> 0 | E27: =eleve26!E$30 -> 0 | F27: =eleve26!H$30
A28: =eleve27!B$33 | B28: =eleve27!B$35 | C28: =eleve27!J30 -> 0 | D28: =eleve27!K30 -> 0 | E28: =eleve27!E$30 -> 0 | F28: =eleve27!H$30
A29: =eleve28!B$33 | B29: =eleve28!B$35 | C29: =eleve28!J30 -> 0 | D29: =eleve28!K30 -> 0 | E29: =eleve28!E$30 -> 0 | F29: =eleve28!H$30
A30: =eleve29!B$33 | B30: =eleve29!B$35 | C30: =eleve29!J30 -> 0 | D30: =eleve29!K30 -> 0 | E30: =eleve29!E$30 -> 0 | F30: =eleve29!H$30
A31: =eleve30!B$33 | B31: =eleve30!B$35 | C31: =eleve30!J30 -> 0 | D31: =eleve30!K30 -> 0 | E31: =eleve30!E$30 -> 0 | F31: =eleve30!H$30
A32: =eleve31!B$33 | B32: =eleve31!B$35 | C32: =eleve31!J30 -> 0 | D32: =eleve31!K30 -> 0 | E32: =eleve31!E$30 -> 0 | F32: =eleve31!H$30
A33: =eleve32!B$33 | B33: =eleve32!B$35 | C33: =eleve32!J30 -> 0 | D33: =eleve32!K30 -> 0 | E33: =eleve32!E$30 -> 0 | F33: =eleve32!H$30
A34: =eleve33!B$33 | B34: =eleve33!B$35 | C34: =eleve33!J30 -> 0 | D34: =eleve33!K30 -> 0 | E34: =eleve33!E$30 -> 0 | F34: =eleve33!H$30
A35: =eleve34!B$33 | B35: =eleve34!B$35 | C35: =eleve34!J30 -> 0 | D35: =eleve34!K30 -> 0 | E35: =eleve34!E$30 -> 0 | F35: =eleve34!H$30
A36: =eleve35!B$33 | B36: =eleve35!B$35 | C36: =eleve35!J30 -> 0 | D36: =eleve35!K30 -> 0 | E36: =eleve35!E$30 -> 0 | F36: =eleve35!H$30
A37: =eleve36!B$33 | B37: =eleve36!B$35 | C37: =eleve36!J30 -> 0 | D37: =eleve36!K30 -> 0 | E37: =eleve36!E$30 -> 0 | F37: =eleve36!H$30
A38: =eleve37!B$33 | B38: =eleve37!B$35 | C38: =eleve37!J30 -> 0 | D38: =eleve37!K30 -> 0 | E38: =eleve37!E$30 -> 0 | F38: =eleve37!H$30
A39: =eleve38!B$33 | B39: =eleve38!B$35 | C39: =eleve38!J30 -> 0 | D39: =eleve38!K30 -> 0 | E39: =eleve38!E$30 -> 0 | F39: =eleve38!H$30
A40: =eleve39!B$33 | B40: =eleve39!B$35 | C40: =eleve39!J30 -> 0 | D40: =eleve39!K30 -> 0 | E40: =eleve39!E$30 -> 0 | F40: =eleve39!H$30
A41: =eleve40!B$33 | B41: =eleve40!B$35 | C41: =eleve40!J30 -> 0 | D41: =eleve40!K30 -> 0 | E41: =eleve40!E$30 -> 0 | F41: =eleve40!H$30
A42: =eleve41!B$33 | B42: =eleve41!B$35 | C42: =eleve41!J30 -> 0 | D42: =eleve41!K30 -> 0 | E42: =eleve41!E$30 -> 0 | F42: =eleve41!H$30
A43: =eleve42!B$33 | B43: =eleve42!B$35 | C43: =eleve42!J30 -> 0 | D43: =eleve42!K30 -> 0 | E43: =eleve42!E$30 -> 0 | F43: =eleve42!H$30
A44: =eleve43!B$33 | B44: =eleve43!B$35 | C44: =eleve43!J30 -> 0 | D44: =eleve43!K30 -> 0 | E44: =eleve43!E$30 -> 0 | F44: =eleve43!H$30
A45: =eleve44!B$33 | B45: =eleve44!B$35 | C45: =eleve44!J30 -> 0 | D45: =eleve44!K30 -> 0 | E45: =eleve44!E$30 -> 0 | F45: =eleve44!H$30
A46: =eleve45!B$33 | B46: =eleve45!B$35 | C46: =eleve45!J30 -> 0 | D46: =eleve45!K30 -> 0 | E46: =eleve45!E$30 -> 0 | F46: =eleve45!H$30
A47: =eleve46!B$33 | B47: =eleve46!B$35 | C47: =eleve46!J30 -> 0 | D47: =eleve46!K30 -> 0 | E47: =eleve46!E$30 -> 0 | F47: =eleve46!H$30
A48: =eleve47!B$33 | B48: =eleve47!B$35 | C48: =eleve47!J30 -> 0 | D48: =eleve47!K30 -> 0 | E48: =eleve47!E$30 -> 0 | F48: =eleve47!H$30
A49: =eleve48!B$33 | B49: =eleve48!B$35 | C49: =eleve48!J30 -> 0 | D49: =eleve48!K30 -> 0 | E49: =eleve48!E$30 -> 0 | F49: =eleve48!H$30
A50: =eleve49!B$33 | B50: =eleve49!B$35 | C50: =eleve49!J30 -> 0 | D50: =eleve49!K30 -> 0 | E50: =eleve49!E$30 -> 0 | F50: =eleve49!H$30
A51: =eleve50!B$33 | B51: =eleve50!B$35 | C51: =eleve50!J30 -> 0 | D51: =eleve50!K30 -> 0 | E51: =eleve50!E$30 -> 0 | F51: =eleve50!H$30
A52: =eleve51!B$33 | B52: =eleve51!B$35 | C52: =eleve51!J30 -> 0 | D52: =eleve51!K30 -> 0 | E52: =eleve51!E$30 -> 0 | F52: =eleve51!H$30
A53: =eleve52!B$33 | B53: =eleve52!B$35 | C53: =eleve52!J30 -> 0 | D53: =eleve52!K30 -> 0 | E53: =eleve52!E$30 -> 0 | F53: =eleve52!H$30
A54: =eleve53!B$33 | B54: =eleve53!B$35 | C54: =eleve53!J30 -> 0 | D54: =eleve53!K30 -> 0 | E54: =eleve53!E$30 -> 0 | F54: =eleve53!H$30
E55: =AVERAGEIF(E2:E54,"<>0") -> #DIV/0!
E56: =MAX(E2:E54) -> 0
E57: =MIN(E2:E54) -> 0

Sheet eleve1
C1: Barème | E1: Note du stagiaire | F1: Total interm. | G1: % de réussite | H1: Remarque
A2: FORME
B3: PRESENTATION | C3: 8
B4: Ergonomie du document (nom + login, noms de l'entreprise, date de stage, résumé ; document unique identifiable ; sommaire, remerciements...) | D4: 1
B5: Orthographe-grammaire | D5: 3 | H5: -1 à la première erreur; -1ou -2 si truffé
B6: Style | D6: 2 | H6: -1 à la première erreur; -1ou -2 si truffé
B7: Qualité visuelle (aspect graphique, lisibilité...) | D7: 2 | F7: =SUM(E4:E7) -> 0 | G7: =(F7*100)/C3 -> 0 | H7: 0 si aucun visuel, 1 si illisible
B9: ARGUMENTATION | C9: 10
B10: Pertinence (juste volume d'informations, pas de contradictions, de hors-sujet, images bien choisies...) | D10: 3 | H10: sanctionne si une trop longue partie consacrée à la boîte
B11: Clarté (indépendamment du niveau de technicité du sujet) | D11: 3
B12: Organisation (ordre des arguments, pertinence des subdivisions ; pas de redites...) | D12: 2 | H12: sanctionner si plan discutable (trop de sous-parties, partie fourre-tout, subdivions de valeur inégale...)
B13: Outils rhétoriques (utilisation de titres, de liaisons entre les paragraphes ; grandes transitions entre subdivisions...) | D13: 2 | F13: =SUM(E10:E13) -> 0 | G13: =(F13*100)/C9 -> 0 | H13: 1 si sporadiques ("de plus"), 2 si de vrais liens logiques
A16: FOND
B17: CONTEXTE | C17: 10
B18: Présentation de l'entreprise : secteur, marché, clients, historique… | D18: 2 | H18: 0 si copié collé de laïus général officiel de l'entreprise
B19: Activité et organisation de l'entreprise : produits et évolutions | D19: 3
B20: L'equipe de travail (organisation, rôle du stagiaire...) | D20: 3 | H20: -1 si manque organigramme et place du stagiaire
B21: Le produit/service objet du stage | D21: 2 | F21: =SUM(E18:E21) -> 0 | G21: =(F21*100)/C17 -> 0 | H21: 0 si aucune analyse de la finalité de l'objet programmé
B23: LE STAGE | C23: 12
B24: Description de la mission : tâches, outils de travail… | D24: 2
B25: Récit de la mission : réalisations du stagiaire, facilités et difficultés rencontrées, solutions apportées… | D25: 4 | H25: 0 si simple "mode d'emploi"
B26: Exemples commentés | D26: 3 | H26: 0 si aucun exemple pratique et commenté n'est fourni
B27: Bilan du stage : enseignements (techniques, humains…) ; perspectives de professionnalisation ; effets concrets de cette mission pour l'entreprise | D27: 3 | F27: =SUM(E24:E27) -> 0 | G27: =(F27*100)/C23 -> 0
H29: Remarque :
B30: Note (forme + fond) | C30: 20 | D30: 40 | E30: =((SUM(E18:E27))+(SUM(E4:E13)))/2 -> 0
B32: Nom du stagiaire
B34: Prénom du stagiaire
B36: E-mail / login

Sheet eleve2
C1: Barème | E1: Note du stagiaire | F1: Total interm. | G1: % de réussite | H1: Remarque
A2: FORME
B3: PRESENTATION | C3: 8
B4: Ergonomie du document (nom + login, noms de l'entreprise, date de stage, résumé ; document unique identifiable ; sommaire, remerciements...) | D4: 1
B5: Orthographe-grammaire | D5: 3
B6: Style | D6: 2
B7: Qualité visuelle (aspect graphique, lisibilité...) | D7: 2 | F7: =SUM(E4:E7) -> 0 | G7: =(F7*100)/C3 -> 0
B9: ARGUMENTATION | C9: 10
B10: Pertinence (juste volume d'informations, pas de contradictions, de hors-sujet, images bien choisies...) | D10: 3
B11: Clarté (indépendamment du niveau de technicité du sujet) | D11: 3
B12: Organisation (ordre des arguments, pertinence des subdivisions ; pas de redites...) | D12: 2
B13: Outils rhétoriques (utilisation de titres, de liaisons entre les paragraphes ; grandes transitions entre subdivisions...) | D13: 2 | F13: =SUM(E10:E13) -> 0 | G13: =(F13*100)/C9 -> 0
A16: FOND
B17: CONTEXTE | C17: 10
B18: Présentation de l'entreprise : secteur, marché, clients, historique… | D18: 2
B19: Activité et organisation de l'entreprise : produits et évolutions | D19: 3
B20: L'equipe de travail (organisation, rôle du stagiaire...) | D20: 3
B21: Le produit/service objet du stage | D21: 2 | F21: =SUM(E18:E21) -> 0 | G21: =(F21*100)/C17 -> 0
B23: LE STAGE | C23: 12
B24: Description de la mission : tâches, outils de travail… | D24: 2
B25: Récit de la mission : réalisations du stagiaire, facilités et difficultés rencontrées, solutions apportées… | D25: 4
B26: Exemples commentés | D26: 3
B27: Bilan du stage : enseignements (techniques, humains…) ; perspectives de professionnalisation ; effets concrets de cette mission pour l'entreprise | D27: 3 | F27: =SUM(E24:E27) -> 0 | G27: =(F27*100)/C23 -> 0
H29: Remarque :
B30: Note (forme + fond) | C30: 20 | D30: 40 | E30: =((SUM(E18:E27))+(SUM(E4:E13)))/2 -> 0
B32: Nom du stagiaire
B34: Prénom du stagiaire
B36: E-mail / login

Sheet eleve3
C1: Barème | E1: Note du stagiaire | F1: Total interm. | G1: % de réussite | H1: Remarque
A2: FORME
B3: PRESENTATION | C3: 8
B4: Ergonomie du document (nom + login, noms de l'entreprise, date de stage, résumé ; document unique identifiable ; sommaire, remerciements...) | D4: 1
B5: Orthographe-grammaire | D5: 3
B6: Style | D6: 2
B7: Qualité visuelle (aspect graphique, lisibilité...) | D7: 2 | F7: =SUM(E4:E7) -> 0 | G7: =(F7*100)/C3 -> 0
B9: ARGUMENTATION | C9: 10
B10: Pertinence (juste volume d'informations, pas de contradictions, de hors-sujet, images bien choisies...) | D10: 3
B11: Clarté (indépendamment du niveau de technicité du sujet) | D11: 3
B12: Organisation (ordre des arguments, pertinence des subdivisions ; pas de redites...) | D12: 2
B13: Outils rhétoriques (utilisation de titres, de liaisons entre les paragraphes ; grandes transitions entre subdivisions...) | D13: 2 | F13: =SUM(E10:E13) -> 0 | G13: =(F13*100)/C9 -> 0
A16: FOND
B17: CONTEXTE | C17: 10
B18: Présentation de l'entreprise : secteur, marché, clients, historique… | D18: 2
B19: Activité et organisation de l'entreprise : produits et évolutions | D19: 3
B20: L'equipe de travail (organisation, rôle du stagiaire...) | D20: 3
B21: Le produit/service objet du stage | D21: 2 | F21: =SUM(E18:E21) -> 0 | G21: =(F21*100)/C17 -> 0
B23: LE STAGE | C23: 12
B24: Description de la mission : tâches, outils de travail… | D24: 2
B25: Récit de la mission : réalisations du stagiaire, facilités et difficultés rencontrées, solutions apportées… | D25: 4
B26: Exemples commentés | D26: 3
B27: Bilan du stage : enseignements (techniques, humains…) ; perspectives de professionnalisation ; effets concrets de cette mission pour l'entreprise | D27: 3 | F27: =SUM(E24:E27) -> 0 | G27: =(F27*100)/C23 -> 0
H29: Remarque :
B30: Note (forme + fond) | C30: 20 | D30: 40 | E30: =((SUM(E18:E27))+(SUM(E4:E13)))/2 -> 0
B32: Nom du stagiaire
B34: Prénom du stagiaire
B36: E-mail / login

Sheet eleve4
C1: Barème | E1: Note du stagiaire | F1: Total interm. | G1: % de réussite | H1: Remarque
A2: FORME
B3: PRESENTATION | C3: 8
B4: Ergonomie du document (nom + login, noms de l'entreprise, date de stage, résumé ; document unique identifiable ; sommaire, remerciements...) | D4: 1
B5: Orthographe-grammaire | D5: 3
B6: Style | D6: 2
B7: Qualité visuelle (aspect graphique, lisibilité...) | D7: 2 | F7: =SUM(E4:E7) -> 0 | G7: =(F7*100)/C3 -> 0
B9: ARGUMENTATION | C9: 10
B10: Pertinence (juste volume d'informations, pas de contradictions, de hors-sujet, images bien choisies...) | D10: 3
B11: Clarté (indépendamment du niveau de technicité du sujet) | D11: 3
B12: Organisation (ordre des arguments, pertinence des subdivisions ; pas de redites...) | D12: 2
B13: Outils rhétoriques (utilisation de titres, de liaisons entre les paragraphes ; grandes transitions entre subdivisions...) | D13: 2 | F13: =SUM(E10:E13) -> 0 | G13: =(F13*100)/C9 -> 0
A16: FOND
B17: CONTEXTE | C17: 10
B18: Présentation de l'entreprise : secteur, marché, clients, historique… | D18: 2
B19: Activité et organisation de l'entreprise : produits et évolutions | D19: 3
B20: L'equipe de travail (organisation, rôle du stagiaire...) | D20: 3
B21: Le produit/service objet du stage | D21: 2 | F21: =SUM(E18:E21) -> 0 | G21: =(F21*100)/C17 -> 0
B23: LE STAGE | C23: 12
B24: Description de la mission : tâches, outils de travail… | D24: 2
B25: Récit de la mission : réalisations du stagiaire, facilités et difficultés rencontrées, solutions apportées… | D25: 4
B26: Exemples commentés | D26: 3
B27: Bilan du stage : enseignements (techniques, humains…) ; perspectives de professionnalisation ; effets concrets de cette mission pour l'entreprise | D27: 3 | F27: =SUM(E24:E27) -> 0 | G27: =(F27*100)/C23 -> 0
H29: Remarque :
B30: Note (forme + fond) | C30: 20 | D30: 40 | E30: =((SUM(E18:E27))+(SUM(E4:E13)))/2 -> 0
B32: Nom du stagiaire
B34: Prénom du stagiaire
B36: E-mail / login

Sheet eleve5
C1: Barème | E1: Note du stagiaire | F1: Total interm. | G1: % de réussite | H1: Remarque
A2: FORME
B3: PRESENTATION | C3: 8
B4: Ergonomie du document (nom + login, noms de l'entreprise, date de stage, résumé ; document unique identifiable ; sommaire, remerciements...) | D4: 1
B5: Orthographe-grammaire | D5: 3
B6: Style | D6: 2
B7: Qualité visuelle (aspect graphique, lisibilité...) | D7: 2 | F7: =SUM(E4:E7) -> 0 | G7: =(F7*100)/C3 -> 0
B9: ARGUMENTATION | C9: 10
B10: Pertinence (juste volume d'informations, pas de contradictions, de hors-sujet, images bien choisies...) | D10: 3
B11: Clarté (indépendamment du niveau de technicité du sujet) | D11: 3
B12: Organisation (ordre des arguments, pertinence des subdivisions ; pas de redites...) | D12: 2
B13: Outils rhétoriques (utilisation de titres, de liaisons entre les paragraphes ; grandes transitions entre subdivisions...) | D13: 2 | F13: =SUM(E10:E13) -> 0 | G13: =(F13*100)/C9 -> 0
A16: FOND
B17: CONTEXTE | C17: 10
B18: Présentation de l'entreprise : secteur, marché, clients, historique… | D18: 2
B19: Activité et organisation de l'entreprise : produits et évolutions | D19: 3
B20: L'equipe de travail (organisation, rôle du stagiaire...) | D20: 3
B21: Le produit/service objet du stage | D21: 2 | F21: =SUM(E18:E21) -> 0 | G21: =(F21*100)/C17 -> 0
B23: LE STAGE | C23: 12
B24: Description de la mission : tâches, outils de travail… | D24: 2
B25: Récit de la mission : réalisations du stagiaire, facilités et difficultés rencontrées, solutions apportées… | D25: 4
B26: Exemples commentés | D26: 3
B27: Bilan du stage : enseignements (techniques, humains…) ; perspectives de professionnalisation ; effets concrets de cette mission pour l'entreprise | D27: 3 | F27: =SUM(E24:E27) -> 0 | G27: =(F27*100)/C23 -> 0
H29: Remarque :
B30: Note (forme + fond) | C30: 20 | D30: 40 | E30: =((SUM(E18:E27))+(SUM(E4:E13)))/2 -> 0
B32: Nom du stagiaire
B34: Prénom du stagiaire
B36: E-mail / login

Sheet eleve6
C1: Barème | E1: Note du stagiaire | F1: Total interm. | G1: % de réussite | H1: Remarque
A2: FORME
B3: PRESENTATION | C3: 8
B4: Ergonomie du document (nom + login, noms de l'entreprise, date de stage, résumé ; document unique identifiable ; sommaire, remerciements...) | D4: 1
B5: Orthographe-grammaire | D5: 3
B6: Style | D6: 2
B7: Qualité visuelle (aspect graphique, lisibilité...) | D7: 2 | F7: =SUM(E4:E7) -> 0 | G7: =(F7*100)/C3 -> 0
B9: ARGUMENTATION | C9: 10
B10: Pertinence (juste volume d'informations, pas de contradictions, de hors-sujet, images bien choisies...) | D10: 3
B11: Clarté (indépendamment du niveau de technicité du sujet) | D11: 3
B12: Organisation (ordre des arguments, pertinence des subdivisions ; pas de redites...) | D12: 2
B13: Outils rhétoriques (utilisation de titres, de liaisons entre les paragraphes ; grandes transitions entre subdivisions...) | D13: 2 | F13: =SUM(E10:E13) -> 0 | G13: =(F13*100)/C9 -> 0
A16: FOND
B17: CONTEXTE | C17: 10
B18: Présentation de l'entreprise : secteur, marché, clients, historique… | D18: 2
B19: Activité et organisation de l'entreprise : produits et évolutions | D19: 3
B20: L'equipe de travail (organisation, rôle du stagiaire...) | D20: 3
B21: Le produit/service objet du stage | D21: 2 | F21: =SUM(E18:E21) -> 0 | G21: =(F21*100)/C17 -> 0
B23: LE STAGE | C23: 12
B24: Description de la mission : tâches, outils de travail… | D24: 2
B25: Récit de la mission : réalisations du stagiaire, facilités et difficultés rencontrées, solutions apportées… | D25: 4
B26: Exemples commentés | D26: 3
B27: Bilan du stage : enseignements (techniques, humains…) ; perspectives de professionnalisation ; effets concrets de cette mission pour l'entreprise | D27: 3 | F27: =SUM(E24:E27) -> 0 | G27: =(F27*100)/C23 -> 0
H29: Remarque :
B30: Note (forme + fond) | C30: 20 | D30: 40 | E30: =((SUM(E18:E27))+(SUM(E4:E13)))/2 -> 0
B32: Nom du stagiaire
B34: Prénom du stagiaire
B36: E-mail / login

Sheet eleve7
C1: Barème | E1: Note du stagiaire | F1: Total interm. | G1: % de réussite | H1: Remarque
A2: FORME
B3: PRESENTATION | C3: 8
B4: Ergonomie du document (nom + login, noms de l'entreprise, date de stage, résumé ; document unique identifiable ; sommaire, remerciements...) | D4: 1
B5: Orthographe-grammaire | D5: 3
B6: Style | D6: 2
B7: Qualité visuelle (aspect graphique, lisibilité...) | D7: 2 | F7: =SUM(E4:E7) -> 0 | G7: =(F7*100)/C3 -> 0
B9: ARGUMENTATION | C9: 10
B10: Pertinence (juste volume d'informations, pas de contradictions, de hors-sujet, images bien choisies...) | D10: 3
B11: Clarté (indépendamment du niveau de technicité du sujet) | D11: 3
B12: Organisation (ordre des arguments, pertinence des subdivisions ; pas de redites...) | D12: 2
B13: Outils rhétoriques (utilisation de titres, de liaisons entre les paragraphes ; grandes transitions entre subdivisions...) | D13: 2 | F13: =SUM(E10:E13) -> 0 | G13: =(F13*100)/C9 -> 0
A16: FOND
B17: CONTEXTE | C17: 10
B18: Présentation de l'entreprise : secteur, marché, clients, historique… | D18: 2
B19: Activité et organisation de l'entreprise : produits et évolutions | D19: 3
B20: L'equipe de travail (organisation, rôle du stagiaire...) | D20: 3
B21: Le produit/service objet du stage | D21: 2 | F21: =SUM(E18:E21) -> 0 | G21: =(F21*100)/C17 -> 0
B23: LE STAGE | C23: 12
B24: Description de la mission : tâches, outils de travail… | D24: 2
B25: Récit de la mission : réalisations du stagiaire, facilités et difficultés rencontrées, solutions apportées… | D25: 4
B26: Exemples commentés | D26: 3
B27: Bilan du stage : enseignements (techniques, humains…) ; perspectives de professionnalisation ; effets concrets de cette mission pour l'entreprise | D27: 3 | F27: =SUM(E24:E27) -> 0 | G27: =(F27*100)/C23 -> 0
H29: Remarque :
B30: Note (forme + fond) | C30: 20 | D30: 40 | E30: =((SUM(E18:E27))+(SUM(E4:E13)))/2 -> 0
B32: Nom du stagiaire
B34: Prénom du stagiaire
B36: E-mail / login

Sheet eleve8
C1: Barème | E1: Note du stagiaire | F1: Total interm. | G1: % de réussite | H1: Remarque
A2: FORME
B3: PRESENTATION | C3: 8
B4: Ergonomie du document (nom + login, noms de l'entreprise, date de stage, résumé ; document unique identifiable ; sommaire, remerciements...) | D4: 1
B5: Orthographe-grammaire | D5: 3
B6: Style | D6: 2
B7: Qualité visuelle (aspect graphique, lisibilité...) | D7: 2 | F7: =SUM(E4:E7) -> 0 | G7: =(F7*100)/C3 -> 0
B9: ARGUMENTATION | C9: 10
B10: Pertinence (juste volume d'informations, pas de contradictions, de hors-sujet, images bien choisies...) | D10: 3
B11: Clarté (indépendamment du niveau de technicité du sujet) | D11: 3
B12: Organisation (ordre des arguments, pertinence des subdivisions ; pas de redites...) | D12: 2
B13: Outils rhétoriques (utilisation de titres, de liaisons entre les paragraphes ; grandes transitions entre subdivisions...) | D13: 2 | F13: =SUM(E10:E13) -> 0 | G13: =(F13*100)/C9 -> 0
A16: FOND
B17: CONTEXTE | C17: 10
B18: Présentation de l'entreprise : secteur, marché, clients, historique… | D18: 2
B19: Activité et organisation de l'entreprise : produits et évolutions | D19: 3
B20: L'equipe de travail (organisation, rôle du stagiaire...) | D20: 3
B21: Le produit/service objet du stage | D21: 2 | F21: =SUM(E18:E21) -> 0 | G21: =(F21*100)/C17 -> 0
B23: LE STAGE | C23: 12
B24: Description de la mission : tâches, outils de travail… | D24: 2
B25: Récit de la mission : réalisations du stagiaire, facilités et difficultés rencontrées, solutions apportées… | D25: 4
B26: Exemples commentés | D26: 3
B27: Bilan du stage : enseignements (techniques, humains…) ; perspectives de professionnalisation ; effets concrets de cette mission pour l'entreprise | D27: 3 | F27: =SUM(E24:E27) -> 0 | G27: =(F27*100)/C23 -> 0
H29: Remarque :
B30: Note (forme + fond) | C30: 20 | D30: 40 | E30: =((SUM(E18:E27))+(SUM(E4:E13)))/2 -> 0
B32: Nom du stagiaire
B34: Prénom du stagiaire
B36: E-mail / login

Sheet eleve9
C1: Barème | E1: Note du stagiaire | F1: Total interm. | G1: % de réussite | H1: Remarque
A2: FORME
B3: PRESENTATION | C3: 8
B4: Ergonomie du document (nom + login, noms de l'entreprise, date de stage, résumé ; document unique identifiable ; sommaire, remerciements...) | D4: 1
B5: Orthographe-grammaire | D5: 3
B6: Style | D6: 2
B7: Qualité visuelle (aspect graphique, lisibilité...) | D7: 2 | F7: =SUM(E4:E7) -> 0 | G7: =(F7*100)/C3 -> 0
B9: ARGUMENTATION | C9: 10
B10: Pertinence (juste volume d'informations, pas de contradictions, de hors-sujet, images bien choisies...) | D10: 3
B11: Clarté (indépendamment du niveau de technicité du sujet) | D11: 3
B12: Organisation (ordre des arguments, pertinence des subdivisions ; pas de redites...) | D12: 2
B13: Outils rhétoriques (utilisation de titres, de liaisons entre les paragraphes ; grandes transitions entre subdivisions...) | D13: 2 | F13: =SUM(E10:E13) -> 0 | G13: =(F13*100)/C9 -> 0
A16: FOND
B17: CONTEXTE | C17: 10
B18: Présentation de l'entreprise : secteur, marché, clients, historique… | D18: 2
B19: Activité et organisation de l'entreprise : produits et évolutions | D19: 3
B20: L'equipe de travail (organisation, rôle du stagiaire...) | D20: 3
B21: Le produit/service objet du stage | D21: 2 | F21: =SUM(E18:E21) -> 0 | G21: =(F21*100)/C17 -> 0
B23: LE STAGE | C23: 12
B24: Description de la mission : tâches, outils de travail… | D24: 2
B25: Récit de la mission : réalisations du stagiaire, facilités et difficultés rencontrées, solutions apportées… | D25: 4
B26: Exemples commentés | D26: 3
B27: Bilan du stage : enseignements (techniques, humains…) ; perspectives de professionnalisation ; effets concrets de cette mission pour l'entreprise | D27: 3 | F27: =SUM(E24:E27) -> 0 | G27: =(F27*100)/C23 -> 0
H29: Remarque :
B30: Note (forme + fond) | C30: 20 | D30: 40 | E30: =((SUM(E18:E27))+(SUM(E4:E13)))/2 -> 0
B32: Nom du stagiaire
B34: Prénom du stagiaire
B36: E-mail / login

Sheet eleve10
C1: Barème | E1: Note du stagiaire | F1: Total interm. | G1: % de réussite | H1: Remarque
A2: FORME
B3: PRESENTATION | C3: 8
B4: Ergonomie du document (nom + login, noms de l'entreprise, date de stage, résumé ; document unique identifiable ; sommaire, remerciements...) | D4: 1
B5: Orthographe-grammaire | D5: 3
B6: Style | D6: 2
B7: Qualité visuelle (aspect graphique, lisibilité...) | D7: 2 | F7: =SUM(E4:E7) -> 0 | G7: =(F7*100)/C3 -> 0
B9: ARGUMENTATION | C9: 10
B10: Pertinence (juste volume d'informations, pas de contradictions, de hors-sujet, images bien choisies...) | D10: 3
B11: Clarté (indépendamment du niveau de technicité du sujet) | D11: 3
B12: Organisation (ordre des arguments, pertinence des subdivisions ; pas de redites...) | D12: 2
B13: Outils rhétoriques (utilisation de titres, de liaisons entre les paragraphes ; grandes transitions entre subdivisions...) | D13: 2 | F13: =SUM(E10:E13) -> 0 | G13: =(F13*100)/C9 -> 0
A16: FOND
B17: CONTEXTE | C17: 10
B18: Présentation de l'entreprise : secteur, marché, clients, historique… | D18: 2
B19: Activité et organisation de l'entreprise : produits et évolutions | D19: 3
B20: L'equipe de travail (organisation, rôle du stagiaire...) | D20: 3
B21: Le produit/service objet du stage | D21: 2 | F21: =SUM(E18:E21) -> 0 | G21: =(F21*100)/C17 -> 0
B23: LE STAGE | C23: 12
B24: Description de la mission : tâches, outils de travail… | D24: 2
B25: Récit de la mission : réalisations du stagiaire, facilités et difficultés rencontrées, solutions apportées… | D25: 4
B26: Exemples commentés | D26: 3
B27: Bilan du stage : enseignements (techniques, humains…) ; perspectives de professionnalisation ; effets concrets de cette mission pour l'entreprise | D27: 3 | F27: =SUM(E24:E27) -> 0 | G27: =(F27*100)/C23 -> 0
H29: Remarque :
B30: Note (forme + fond) | C30: 20 | D30: 40 | E30: =((SUM(E18:E27))+(SUM(E4:E13)))/2 -> 0
B32: Nom du stagiaire
B34: Prénom du stagiaire
B36: E-mail / login

Sheet eleve11
C1: Barème | E1: Note du stagiaire | F1: Total interm. | G1: % de réussite | H1: Remarque
A2: FORME
B3: PRESENTATION | C3: 8
B4: Ergonomie du document (nom + login, noms de l'entreprise, date de stage, résumé ; document unique identifiable ; sommaire, remerciements...) | D4: 1
B5: Orthographe-grammaire | D5: 3
B6: Style | D6: 2
B7: Qualité visuelle (aspect graphique, lisibilité...) | D7: 2 | F7: =SUM(E4:E7) -> 0 | G7: =(F7*100)/C3 -> 0
B9: ARGUMENTATION | C9: 10
B10: Pertinence (juste volume d'informations, pas de contradictions, de hors-sujet, images bien choisies...) | D10: 3
B11: Clarté (indépendamment du niveau de technicité du sujet) | D11: 3
B12: Organisation (ordre des arguments, pertinence des subdivisions ; pas de redites...) | D12: 2
B13: Outils rhétoriques (utilisation de titres, de liaisons entre les paragraphes ; grandes transitions entre subdivisions...) | D13: 2 | F13: =SUM(E10:E13) -> 0 | G13: =(F13*100)/C9 -> 0
A16: FOND
B17: CONTEXTE | C17: 10
B18: Présentation de l'entreprise : secteur, marché, clients, historique… | D18: 2
B19: Activité et organisation de l'entreprise : produits et évolutions | D19: 3
B20: L'equipe de travail (organisation, rôle du stagiaire...) | D20: 3
B21: Le produit/service objet du stage | D21: 2 | F21: =SUM(E18:E21) -> 0 | G21: =(F21*100)/C17 -> 0
B23: LE STAGE | C23: 12
B24: Description de la mission : tâches, outils de travail… | D24: 2
B25: Récit de la mission : réalisations du stagiaire, facilités et difficultés rencontrées, solutions apportées… | D25: 4
B26: Exemples commentés | D26: 3
B27: Bilan du stage : enseignements (techniques, humains…) ; perspectives de professionnalisation ; effets concrets de cette mission pour l'entreprise | D27: 3 | F27: =SUM(E24:E27) -> 0 | G27: =(F27*100)/C23 -> 0
H29: Remarque :
B30: Note (forme + fond) | C30: 20 | D30: 40 | E30: =((SUM(E18:E27))+(SUM(E4:E13)))/2 -> 0
B32: Nom du stagiaire
B34: Prénom du stagiaire
B36: E-mail / login

Sheet eleve12
C1: Barème | E1: Note du stagiaire | F1: Total interm. | G1: % de réussite | H1: Remarque
A2: FORME
B3: PRESENTATION | C3: 8
B4: Ergonomie du document (nom + login, noms de l'entreprise, date de stage, résumé ; document unique identifiable ; sommaire, remerciements...) | D4: 1
B5: Orthographe-grammaire | D5: 3
B6: Style | D6: 2
B7: Qualité visuelle (aspect graphique, lisibilité...) | D7: 2 | F7: =SUM(E4:E7) -> 0 | G7: =(F7*100)/C3 -> 0
B9: ARGUMENTATION | C9: 10
B10: Pertinence (juste volume d'informations, pas de contradictions, de hors-sujet, images bien choisies...) | D10: 3
B11: Clarté (indépendamment du niveau de technicité du sujet) | D11: 3
B12: Organisation (ordre des arguments, pertinence des subdivisions ; pas de redites...) | D12: 2
B13: Outils rhétoriques (utilisation de titres, de liaisons entre les paragraphes ; grandes transitions entre subdivisions...) | D13: 2 | F13: =SUM(E10:E13) -> 0 | G13: =(F13*100)/C9 -> 0
A16: FOND
B17: CONTEXTE | C17: 10
B18: Présentation de l'entreprise : secteur, marché, clients, historique… | D18: 2
B19: Activité et organisation de l'entreprise : produits et évolutions | D19: 3
B20: L'equipe de travail (organisation, rôle du stagiaire...) | D20: 3
B21: Le produit/service objet du stage | D21: 2 | F21: =SUM(E18:E21) -> 0 | G21: =(F21*100)/C17 -> 0
B23: LE STAGE | C23: 12
B24: Description de la mission : tâches, outils de travail… | D24: 2
B25: Récit de la mission : réalisations du stagiaire, facilités et difficultés rencontrées, solutions apportées… | D25: 4
B26: Exemples commentés | D26: 3
B27: Bilan du stage : enseignements (techniques, humains…) ; perspectives de professionnalisation ; effets concrets de cette mission pour l'entreprise | D27: 3 | F27: =SUM(E24:E27) -> 0 | G27: =(F27*100)/C23 -> 0
H29: Remarque :
B30: Note (forme + fond) | C30: 20 | D30: 40 | E30: =((SUM(E18:E27))+(SUM(E4:E13)))/2 -> 0
B32: Nom du stagiaire
B34: Prénom du stagiaire
B36: E-mail / login

Sheet eleve13
C1: Barème | E1: Note du stagiaire | F1: Total interm. | G1: % de réussite | H1: Remarque
A2: FORME
B3: PRESENTATION | C3: 8
B4: Ergonomie du document (nom + login, noms de l'entreprise, date de stage, résumé ; document unique identifiable ; sommaire, remerciements...) | D4: 1
B5: Orthographe-grammaire | D5: 3
B6: Style | D6: 2
B7: Qualité visuelle (aspect graphique, lisibilité...) | D7: 2 | F7: =SUM(E4:E7) -> 0 | G7: =(F7*100)/C3 -> 0
B9: ARGUMENTATION | C9: 10
B10: Pertinence (juste volume d'informations, pas de contradictions, de hors-sujet, images bien choisies...) | D10: 3
B11: Clarté (indépendamment du niveau de technicité du sujet) | D11: 3
B12: Organisation (ordre des arguments, pertinence des subdivisions ; pas de redites...) | D12: 2
B13: Outils rhétoriques (utilisation de titres, de liaisons entre les paragraphes ; grandes transitions entre subdivisions...) | D13: 2 | F13: =SUM(E10:E13) -> 0 | G13: =(F13*100)/C9 -> 0
A16: FOND
B17: CONTEXTE | C17: 10
B18: Présentation de l'entreprise : secteur, marché, clients, historique… | D18: 2
B19: Activité et organisation de l'entreprise : produits et évolutions | D19: 3
B20: L'equipe de travail (organisation, rôle du stagiaire...) | D20: 3
B21: Le produit/service objet du stage | D21: 2 | F21: =SUM(E18:E21) -> 0 | G21: =(F21*100)/C17 -> 0
B23: LE STAGE | C23: 12
B24: Description de la mission : tâches, outils de travail… | D24: 2
B25: Récit de la mission : réalisations du stagiaire, facilités et difficultés rencontrées, solutions apportées… | D25: 4
B26: Exemples commentés | D26: 3
B27: Bilan du stage : enseignements (techniques, humains…) ; perspectives de professionnalisation ; effets concrets de cette mission pour l'entreprise | D27: 3 | F27: =SUM(E24:E27) -> 0 | G27: =(F27*100)/C23 -> 0
H29: Remarque :
B30: Note (forme + fond) | C30: 20 | D30: 40 | E30: =((SUM(E18:E27))+(SUM(E4:E13)))/2 -> 0
B32: Nom du stagiaire
B34: Prénom du stagiaire
B36: E-mail / login

Sheet eleve14
C1: Barème | E1: Note du stagiaire | F1: Total interm. | G1: % de réussite | H1: Remarque
A2: FORME
B3: PRESENTATION | C3: 8
B4: Ergonomie du document (nom + login, noms de l'entreprise, date de stage, résumé ; document unique identifiable ; sommaire, remerciements...) | D4: 1
B5: Orthographe-grammaire | D5: 3
B6: Style | D6: 2
B7: Qualité visuelle (aspect graphique, lisibilité...) | D7: 2 | F7: =SUM(E4:E7) -> 0 | G7: =(F7*100)/C3 -> 0
B9: ARGUMENTATION | C9: 10
B10: Pertinence (juste volume d'informations, pas de contradictions, de hors-sujet, images bien choisies...) | D10: 3
B11: Clarté (indépendamment du niveau de technicité du sujet) | D11: 3
B12: Organisation (ordre des arguments, pertinence des subdivisions ; pas de redites...) | D12: 2
B13: Outils rhétoriques (utilisation de titres, de liaisons entre les paragraphes ; grandes transitions entre subdivisions...) | D13: 2 | F13: =SUM(E10:E13) -> 0 | G13: =(F13*100)/C9 -> 0
A16: FOND
B17: CONTEXTE | C17: 10
B18: Présentation de l'entreprise : secteur, marché, clients, historique… | D18: 2
B19: Activité et organisation de l'entreprise : produits et évolutions | D19: 3
B20: L'equipe de travail (organisation, rôle du stagiaire...) | D20: 3
B21: Le produit/service objet du stage | D21: 2 | F21: =SUM(E18:E21) -> 0 | G21: =(F21*100)/C17 -> 0
B23: LE STAGE | C23: 12
B24: Description de la mission : tâches, outils de travail… | D24: 2
B25: Récit de la mission : réalisations du stagiaire, facilités et difficultés rencontrées, solutions apportées… | D25: 4
B26: Exemples commentés | D26: 3
B27: Bilan du stage : enseignements (techniques, humains…) ; perspectives de professionnalisation ; effets concrets de cette mission pour l'entreprise | D27: 3 | F27: =SUM(E24:E27) -> 0 | G27: =(F27*100)/C23 -> 0
H29: Remarque :
B30: Note (forme + fond) | C30: 20 | D30: 40 | E30: =((SUM(E18:E27))+(SUM(E4:E13)))/2 -> 0
B32: Nom du stagiaire
B34: Prénom du stagiaire
B36: E-mail / login

Sheet eleve15
C1: Barème | E1: Note du stagiaire | F1: Total interm. | G1: % de réussite | H1: Remarque
A2: FORME
B3: PRESENTATION | C3: 8
B4: Ergonomie du document (nom + login, noms de l'entreprise, date de stage, résumé ; document unique identifiable ; sommaire, remerciements...) | D4: 1
B5: Orthographe-grammaire | D5: 3
B6: Style | D6: 2
B7: Qualité visuelle (aspect graphique, lisibilité...) | D7: 2 | F7: =SUM(E4:E7) -> 0 | G7: =(F7*100)/C3 -> 0
B9: ARGUMENTATION | C9: 10
B10: Pertinence (juste volume d'informations, pas de contradictions, de hors-sujet, images bien choisies...) | D10: 3
B11: Clarté (indépendamment du niveau de technicité du sujet) | D11: 3
B12: Organisation (ordre des arguments, pertinence des subdivisions ; pas de redites...) | D12: 2
B13: Outils rhétoriques (utilisation de titres, de liaisons entre les paragraphes ; grandes transitions entre subdivisions...) | D13: 2 | F13: =SUM(E10:E13) -> 0 | G13: =(F13*100)/C9 -> 0
A16: FOND
B17: CONTEXTE | C17: 10
B18: Présentation de l'entreprise : secteur, marché, clients, historique… | D18: 2
B19: Activité et organisation de l'entreprise : produits et évolutions | D19: 3
B20: L'equipe de travail (organisation, rôle du stagiaire...) | D20: 3
B21: Le produit/service objet du stage | D21: 2 | F21: =SUM(E18:E21) -> 0 | G21: =(F21*100)/C17 -> 0
B23: LE STAGE | C23: 12
B24: Description de la mission : tâches, outils de travail… | D24: 2
B25: Récit de la mission : réalisations du stagiaire, facilités et difficultés rencontrées, solutions apportées… | D25: 4
B26: Exemples commentés | D26: 3
B27: Bilan du stage : enseignements (techniques, humains…) ; perspectives de professionnalisation ; effets concrets de cette mission pour l'entreprise | D27: 3 | F27: =SUM(E24:E27) -> 0 | G27: =(F27*100)/C23 -> 0
H29: Remarque :
B30: Note (forme + fond) | C30: 20 | D30: 40 | E30: =((SUM(E18:E27))+(SUM(E4:E13)))/2 -> 0
B32: Nom du stagiaire
B34: Prénom du stagiaire
B36: E-mail / login

Sheet eleve16
C1: Barème | E1: Note du stagiaire | F1: Total interm. | G1: % de réussite | H1: Remarque
A2: FORME
B3: PRESENTATION | C3: 8
B4: Ergonomie du document (nom + login, noms de l'entreprise, date de stage, résumé ; document unique identifiable ; sommaire, remerciements...) | D4: 1
B5: Orthographe-grammaire | D5: 3
B6: Style | D6: 2
B7: Qualité visuelle (aspect graphique, lisibilité...) | D7: 2 | F7: =SUM(E4:E7) -> 0 | G7: =(F7*100)/C3 -> 0
B9: ARGUMENTATION | C9: 10
B10: Pertinence (juste volume d'informations, pas de contradictions, de hors-sujet, images bien choisies...) | D10: 3
B11: Clarté (indépendamment du niveau de technicité du sujet) | D11: 3
B12: Organisation (ordre des arguments, pertinence des subdivisions ; pas de redites...) | D12: 2
B13: Outils rhétoriques (utilisation de titres, de liaisons entre les paragraphes ; grandes transitions entre subdivisions...) | D13: 2 | F13: =SUM(E10:E13) -> 0 | G13: =(F13*100)/C9 -> 0
A16: FOND
B17: CONTEXTE | C17: 10
B18: Présentation de l'entreprise : secteur, marché, clients, historique… | D18: 2
B19: Activité et organisation de l'entreprise : produits et évolutions | D19: 3
B20: L'equipe de travail (organisation, rôle du stagiaire...) | D20: 3
B21: Le produit/service objet du stage | D21: 2 | F21: =SUM(E18:E21) -> 0 | G21: =(F21*100)/C17 -> 0
B23: LE STAGE | C23: 12
B24: Description de la mission : tâches, outils de travail… | D24: 2
B25: Récit de la mission : réalisations du stagiaire, facilités et difficultés rencontrées, solutions apportées… | D25: 4
B26: Exemples commentés | D26: 3
B27: Bilan du stage : enseignements (techniques, humains…) ; perspectives de professionnalisation ; effets concrets de cette mission pour l'entreprise | D27: 3 | F27: =SUM(E24:E27) -> 0 | G27: =(F27*100)/C23 -> 0
H29: Remarque :
B30: Note (forme + fond) | C30: 20 | D30: 40 | E30: =((SUM(E18:E27))+(SUM(E4:E13)))/2 -> 0
B32: Nom du stagiaire
B34: Prénom du stagiaire
B36: E-mail / login

Sheet eleve17
C1: Barème | E1: Note du stagiaire | F1: Total interm. | G1: % de réussite | H1: Remarque
A2: FORME
B3: PRESENTATION | C3: 8
B4: Ergonomie du document (nom + login, noms de l'entreprise, date de stage, résumé ; document unique identifiable ; sommaire, remerciements...) | D4: 1
B5: Orthographe-grammaire | D5: 3
B6: Style | D6: 2
B7: Qualité visuelle (aspect graphique, lisibilité...) | D7: 2 | F7: =SUM(E4:E7) -> 0 | G7: =(F7*100)/C3 -> 0
B9: ARGUMENTATION | C9: 10
B10: Pertinence (juste volume d'informations, pas de contradictions, de hors-sujet, images bien choisies...) | D10: 3
B11: Clarté (indépendamment du niveau de technicité du sujet) | D11: 3
B12: Organisation (ordre des arguments, pertinence des subdivisions ; pas de redites...) | D12: 2
B13: Outils rhétoriques (utilisation de titres, de liaisons entre les paragraphes ; grandes transitions entre subdivisions...) | D13: 2 | F13: =SUM(E10:E13) -> 0 | G13: =(F13*100)/C9 -> 0
A16: FOND
B17: CONTEXTE | C17: 10
B18: Présentation de l'entreprise : secteur, marché, clients, historique… | D18: 2
B19: Activité et organisation de l'entreprise : produits et évolutions | D19: 3
B20: L'equipe de travail (organisation, rôle du stagiaire...) | D20: 3
B21: Le produit/service objet du stage | D21: 2 | F21: =SUM(E18:E21) -> 0 | G21: =(F21*100)/C17 -> 0
B23: LE STAGE | C23: 12
B24: Description de la mission : tâches, outils de travail… | D24: 2
B25: Récit de la mission : réalisations du stagiaire, facilités et difficultés rencontrées, solutions apportées… | D25: 4
B26: Exemples commentés | D26: 3
B27: Bilan du stage : enseignements (techniques, humains…) ; perspectives de professionnalisation ; effets concrets de cette mission pour l'entreprise | D27: 3 | F27: =SUM(E24:E27) -> 0 | G27: =(F27*100)/C23 -> 0
H29: Remarque :
B30: Note (forme + fond) | C30: 20 | D30: 40 | E30: =((SUM(E18:E27))+(SUM(E4:E13)))/2 -> 0
B32: Nom du stagiaire
B34: Prénom du stagiaire
B36: E-mail / login

Sheet eleve18
C1: Barème | E1: Note du stagiaire | F1: Total interm. | G1: % de réussite | H1: Remarque
A2: FORME
B3: PRESENTATION | C3: 8
B4: Ergonomie du document (nom + login, noms de l'entreprise, date de stage, résumé ; document unique identifiable ; sommaire, remerciements...) | D4: 1
B5: Orthographe-grammaire | D5: 3
B6: Style | D6: 2
B7: Qualité visuelle (aspect graphique, lisibilité...) | D7: 2 | F7: =SUM(E4:E7) -> 0 | G7: =(F7*100)/C3 -> 0
B9: ARGUMENTATION | C9: 10
B10: Pertinence (juste volume d'informations, pas de contradictions, de hors-sujet, images bien choisies...) | D10: 3
B11: Clarté (indépendamment du niveau de technicité du sujet) | D11: 3
B12: Organisation (ordre des arguments, pertinence des subdivisions ; pas de redites...) | D12: 2
B13: Outils rhétoriques (utilisation de titres, de liaisons entre les paragraphes ; grandes transitions entre subdivisions...) | D13: 2 | F13: =SUM(E10:E13) -> 0 | G13: =(F13*100)/C9 -> 0
A16: FOND
B17: CONTEXTE | C17: 10
B18: Présentation de l'entreprise : secteur, marché, clients, historique… | D18: 2
B19: Activité et organisation de l'entreprise : produits et évolutions | D19: 3
B20: L'equipe de travail (organisation, rôle du stagiaire...) | D20: 3
B21: Le produit/service objet du stage | D21: 2 | F21: =SUM(E18:E21) -> 0 | G21: =(F21*100)/C17 -> 0
B23: LE STAGE | C23: 12
B24: Description de la mission : tâches, outils de travail… | D24: 2
B25: Récit de la mission : réalisations du stagiaire, facilités et difficultés rencontrées, solutions apportées… | D25: 4
B26: Exemples commentés | D26: 3
B27: Bilan du stage : enseignements (techniques, humains…) ; perspectives de professionnalisation ; effets concrets de cette mission pour l'entreprise | D27: 3 | F27: =SUM(E24:E27) -> 0 | G27: =(F27*100)/C23 -> 0
H29: Remarque :
B30: Note (forme + fond) | C30: 20 | D30: 40 | E30: =((SUM(E18:E27))+(SUM(E4:E13)))/2 -> 0
B32: Nom du stagiaire
B34: Prénom du stagiaire
B36: E-mail / login

Sheet eleve19
C1: Barème | E1: Note du stagiaire | F1: Total interm. | G1: % de réussite | H1: Remarque
A2: FORME
B3: PRESENTATION | C3: 8
B4: Ergonomie du document (nom + login, noms de l'entreprise, date de stage, résumé ; document unique identifiable ; sommaire, remerciements...) | D4: 1
B5: Orthographe-grammaire | D5: 3
B6: Style | D6: 2
B7: Qualité visuelle (aspect graphique, lisibilité...) | D7: 2 | F7: =SUM(E4:E7) -> 0 | G7: =(F7*100)/C3 -> 0
B9: ARGUMENTATION | C9: 10
B10: Pertinence (juste volume d'informations, pas de contradictions, de hors-sujet, images bien choisies...) | D10: 3
B11: Clarté (indépendamment du niveau de technicité du sujet) | D11: 3
B12: Organisation (ordre des arguments, pertinence des subdivisions ; pas de redites...) | D12: 2
B13: Outils rhétoriques (utilisation de titres, de liaisons entre les paragraphes ; grandes transitions entre subdivisions...) | D13: 2 | F13: =SUM(E10:E13) -> 0 | G13: =(F13*100)/C9 -> 0
A16: FOND
B17: CONTEXTE | C17: 10
B18: Présentation de l'entreprise : secteur, marché, clients, historique… | D18: 2
B19: Activité et organisation de l'entreprise : produits et évolutions | D19: 3
B20: L'equipe de travail (organisation, rôle du stagiaire...) | D20: 3
B21: Le produit/service objet du stage | D21: 2 | F21: =SUM(E18:E21) -> 0 | G21: =(F21*100)/C17 -> 0
B23: LE STAGE | C23: 12
B24: Description de la mission : tâches, outils de travail… | D24: 2
B25: Récit de la mission : réalisations du stagiaire, facilités et difficultés rencontrées, solutions apportées… | D25: 4
B26: Exemples commentés | D26: 3
B27: Bilan du stage : enseignements (techniques, humains…) ; perspectives de professionnalisation ; effets concrets de cette mission pour l'entreprise | D27: 3 | F27: =SUM(E24:E27) -> 0 | G27: =(F27*100)/C23 -> 0
H29: Remarque :
B30: Note (forme + fond) | C30: 20 | D30: 40 | E30: =((SUM(E18:E27))+(SUM(E4:E13)))/2 -> 0
B32: Nom du stagiaire
B34: Prénom du stagiaire
B36: E-mail / login

Sheet eleve20
C1: Barème | E1: Note du stagiaire | F1: Total interm. | G1: % de réussite | H1: Remarque
A2: FORME
B3: PRESENTATION | C3: 8
B4: Ergonomie du document (nom + login, noms de l'entreprise, date de stage, résumé ; document unique identifiable ; sommaire, remerciements...) | D4: 1
B5: Orthographe-grammaire | D5: 3
B6: Style | D6: 2
B7: Qualité visuelle (aspect graphique, lisibilité...) | D7: 2 | F7: =SUM(E4:E7) -> 0 | G7: =(F7*100)/C3 -> 0
B9: ARGUMENTATION | C9: 10
B10: Pertinence (juste volume d'informations, pas de contradictions, de hors-sujet, images bien choisies...) | D10: 3
B11: Clarté (indépendamment du niveau de technicité du sujet) | D11: 3
B12: Organisation (ordre des arguments, pertinence des subdivisions ; pas de redites...) | D12: 2
B13: Outils rhétoriques (utilisation de titres, de liaisons entre les paragraphes ; grandes transitions entre subdivisions...) | D13: 2 | F13: =SUM(E10:E13) -> 0 | G13: =(F13*100)/C9 -> 0
A16: FOND
B17: CONTEXTE | C17: 10
B18: Présentation de l'entreprise : secteur, marché, clients, historique… | D18: 2
B19: Activité et organisation de l'entreprise : produits et évolutions | D19: 3
B20: L'equipe de travail (organisation, rôle du stagiaire...) | D20: 3
B21: Le produit/service objet du stage | D21: 2 | F21: =SUM(E18:E21) -> 0 | G21: =(F21*100)/C17 -> 0
B23: LE STAGE | C23: 12
B24: Description de la mission : tâches, outils de travail… | D24: 2
B25: Récit de la mission : réalisations du stagiaire, facilités et difficultés rencontrées, solutions apportées… | D25: 4
B26: Exemples commentés | D26: 3
B27: Bilan du stage : enseignements (techniques, humains…) ; perspectives de professionnalisation ; effets concrets de cette mission pour l'entreprise | D27: 3 | F27: =SUM(E24:E27) -> 0 | G27: =(F27*100)/C23 -> 0
H29: Remarque :
B30: Note (forme + fond) | C30: 20 | D30: 40 | E30: =((SUM(E18:E27))+(SUM(E4:E13)))/2 -> 0
B32: Nom du stagiaire
B34: Prénom du stagiaire
B36: E-mail / login

Sheet eleve21
C1: Barème | E1: Note du stagiaire | F1: Total interm. | G1: % de réussite | H1: Remarque
A2: FORME
B3: PRESENTATION | C3: 8
B4: Ergonomie du document (nom + login, noms de l'entreprise, date de stage, résumé ; document unique identifiable ; sommaire, remerciements...) | D4: 1
B5: Orthographe-grammaire | D5: 3
B6: Style | D6: 2
B7: Qualité visuelle (aspect graphique, lisibilité...) | D7: 2 | F7: =SUM(E4:E7) -> 0 | G7: =(F7*100)/C3 -> 0
B9: ARGUMENTATION | C9: 10
B10: Pertinence (juste volume d'informations, pas de contradictions, de hors-sujet, images bien choisies...) | D10: 3
B11: Clarté (indépendamment du niveau de technicité du sujet) | D11: 3
B12: Organisation (ordre des arguments, pertinence des subdivisions ; pas de redites...) | D12: 2
B13: Outils rhétoriques (utilisation de titres, de liaisons entre les paragraphes ; grandes transitions entre subdivisions...) | D13: 2 | F13: =SUM(E10:E13) -> 0 | G13: =(F13*100)/C9 -> 0
A16: FOND
B17: CONTEXTE | C17: 10
B18: Présentation de l'entreprise : secteur, marché, clients, historique… | D18: 2
B19: Activité et organisation de l'entreprise : produits et évolutions | D19: 3
B20: L'equipe de travail (organisation, rôle du stagiaire...) | D20: 3
B21: Le produit/service objet du stage | D21: 2 | F21: =SUM(E18:E21) -> 0 | G21: =(F21*100)/C17 -> 0
B23: LE STAGE | C23: 12
B24: Description de la mission : tâches, outils de travail… | D24: 2
B25: Récit de la mission : réalisations du stagiaire, facilités et difficultés rencontrées, solutions apportées… | D25: 4
B26: Exemples commentés | D26: 3
B27: Bilan du stage : enseignements (techniques, humains…) ; perspectives de professionnalisation ; effets concrets de cette mission pour l'entreprise | D27: 3 | F27: =SUM(E24:E27) -> 0 | G27: =(F27*100)/C23 -> 0
H29: Remarque :
B30: Note (forme + fond) | C30: 20 | D30: 40 | E30: =((SUM(E18:E27))+(SUM(E4:E13)))/2 -> 0
B32: Nom du stagiaire
B34: Prénom du stagiaire
B36: E-mail / login

Sheet eleve22
C1: Barème | E1: Note du stagiaire | F1: Total interm. | G1: % de réussite | H1: Remarque
A2: FORME
B3: PRESENTATION | C3: 8
B4: Ergonomie du document (nom + login, noms de l'entreprise, date de stage, résumé ; document unique identifiable ; sommaire, remerciements...) | D4: 1
B5: Orthographe-grammaire | D5: 3
B6: Style | D6: 2
B7: Qualité visuelle (aspect graphique, lisibilité...) | D7: 2 | F7: =SUM(E4:E7) -> 0 | G7: =(F7*100)/C3 -> 0
B9: ARGUMENTATION | C9: 10
B10: Pertinence (juste volume d'informations, pas de contradictions, de hors-sujet, images bien choisies...) | D10: 3
B11: Clarté (indépendamment du niveau de technicité du sujet) | D11: 3
B12: Organisation (ordre des arguments, pertinence des subdivisions ; pas de redites...) | D12: 2
B13: Outils rhétoriques (utilisation de titres, de liaisons entre les paragraphes ; grandes transitions entre subdivisions...) | D13: 2 | F13: =SUM(E10:E13) -> 0 | G13: =(F13*100)/C9 -> 0
A16: FOND
B17: CONTEXTE | C17: 10
B18: Présentation de l'entreprise : secteur, marché, clients, historique… | D18: 2
B19: Activité et organisation de l'entreprise : produits et évolutions | D19: 3
B20: L'equipe de travail (organisation, rôle du stagiaire...) | D20: 3
B21: Le produit/service objet du stage | D21: 2 | F21: =SUM(E18:E21) -> 0 | G21: =(F21*100)/C17 -> 0
B23: LE STAGE | C23: 12
B24: Description de la mission : tâches, outils de travail… | D24: 2
B25: Récit de la mission : réalisations du stagiaire, facilités et difficultés rencontrées, solutions apportées… | D25: 4
B26: Exemples commentés | D26: 3
B27: Bilan du stage : enseignements (techniques, humains…) ; perspectives de professionnalisation ; effets concrets de cette mission pour l'entreprise | D27: 3 | F27: =SUM(E24:E27) -> 0 | G27: =(F27*100)/C23 -> 0
H29: Remarque :
B30: Note (forme + fond) | C30: 20 | D30: 40 | E30: =((SUM(E18:E27))+(SUM(E4:E13)))/2 -> 0
B32: Nom du stagiaire
B34: Prénom du stagiaire
B36: E-mail / login

Sheet eleve23
C1: Barème | E1: Note du stagiaire | F1: Total interm. | G1: % de réussite | H1: Remarque
A2: FORME
B3: PRESENTATION | C3: 8
B4: Ergonomie du document (nom + login, noms de l'entreprise, date de stage, résumé ; document unique identifiable ; sommaire, remerciements...) | D4: 1
B5: Orthographe-grammaire | D5: 3
B6: Style | D6: 2
B7: Qualité visuelle (aspect graphique, lisibilité...) | D7: 2 | F7: =SUM(E4:E7) -> 0 | G7: =(F7*100)/C3 -> 0
B9: ARGUMENTATION | C9: 10
B10: Pertinence (juste volume d'informations, pas de contradictions, de hors-sujet, images bien choisies...) | D10: 3
B11: Clarté (indépendamment du niveau de technicité du sujet) | D11: 3
B12: Organisation (ordre des arguments, pertinence des subdivisions ; pas de redites...) | D12: 2
B13: Outils rhétoriques (utilisation de titres, de liaisons entre les paragraphes ; grandes transitions entre subdivisions...) | D13: 2 | F13: =SUM(E10:E13) -> 0 | G13: =(F13*100)/C9 -> 0
A16: FOND
B17: CONTEXTE | C17: 10
B18: Présentation de l'entreprise : secteur, marché, clients, historique… | D18: 2
B19: Activité et organisation de l'entreprise : produits et évolutions | D19: 3
B20: L'equipe de travail (organisation, rôle du stagiaire...) | D20: 3
B21: Le produit/service objet du stage | D21: 2 | F21: =SUM(E18:E21) -> 0 | G21: =(F21*100)/C17 -> 0
B23: LE STAGE | C23: 12
B24: Description de la mission : tâches, outils de travail… | D24: 2
B25: Récit de la mission : réalisations du stagiaire, facilités et difficultés rencontrées, solutions apportées… | D25: 4
B26: Exemples commentés | D26: 3
B27: Bilan du stage : enseignements (techniques, humains…) ; perspectives de professionnalisation ; effets concrets de cette mission pour l'entreprise | D27: 3 | F27: =SUM(E24:E27) -> 0 | G27: =(F27*100)/C23 -> 0
H29: Remarque :
B30: Note (forme + fond) | C30: 20 | D30: 40 | E30: =((SUM(E18:E27))+(SUM(E4:E13)))/2 -> 0
B32: Nom du stagiaire
B34: Prénom du stagiaire
B36: E-mail / login

Sheet eleve24
C1: Barème | E1: Note du stagiaire | F1: Total interm. | G1: % de réussite | H1: Remarque
A2: FORME
B3: PRESENTATION | C3: 8
B4: Ergonomie du document (nom + login, noms de l'entreprise, date de stage, résumé ; document unique identifiable ; sommaire, remerciements...) | D4: 1
B5: Orthographe-grammaire | D5: 3
B6: Style | D6: 2
B7: Qualité visuelle (aspect graphique, lisibilité...) | D7: 2 | F7: =SUM(E4:E7) -> 0 | G7: =(F7*100)/C3 -> 0
B9: ARGUMENTATION | C9: 10
B10: Pertinence (juste volume d'informations, pas de contradictions, de hors-sujet, images bien choisies...) | D10: 3
B11: Clarté (indépendamment du niveau de technicité du sujet) | D11: 3
B12: Organisation (ordre des arguments, pertinence des subdivisions ; pas de redites...) | D12: 2
B13: Outils rhétoriques (utilisation de titres, de liaisons entre les paragraphes ; grandes transitions entre subdivisions...) | D13: 2 | F13: =SUM(E10:E13) -> 0 | G13: =(F13*100)/C9 -> 0
A16: FOND
B17: CONTEXTE | C17: 10
B18: Présentation de l'entreprise : secteur, marché, clients, historique… | D18: 2
B19: Activité et organisation de l'entreprise : produits et évolutions | D19: 3
B20: L'equipe de travail (organisation, rôle du stagiaire...) | D20: 3
B21: Le produit/service objet du stage | D21: 2 | F21: =SUM(E18:E21) -> 0 | G21: =(F21*100)/C17 -> 0
B23: LE STAGE | C23: 12
B24: Description de la mission : tâches, outils de travail… | D24: 2
B25: Récit de la mission : réalisations du stagiaire, facilités et difficultés rencontrées, solutions apportées… | D25: 4
B26: Exemples commentés | D26: 3
B27: Bilan du stage : enseignements (techniques, humains…) ; perspectives de professionnalisation ; effets concrets de cette mission pour l'entreprise | D27: 3 | F27: =SUM(E24:E27) -> 0 | G27: =(F27*100)/C23 -> 0
H29: Remarque :
B30: Note (forme + fond) | C30: 20 | D30: 40 | E30: =((SUM(E18:E27))+(SUM(E4:E13)))/2 -> 0
B32: Nom du stagiaire
B34: Prénom du stagiaire
B36: E-mail / login

Sheet eleve25
C1: Barème | E1: Note du stagiaire | F1: Total interm. | G1: % de réussite | H1: Remarque
A2: FORME
B3: PRESENTATION | C3: 8
B4: Ergonomie du document (nom + login, noms de l'entreprise, date de stage, résumé ; document unique identifiable ; sommaire, remerciements...) | D4: 1
B5: Orthographe-grammaire | D5: 3
B6: Style | D6: 2
B7: Qualité visuelle (aspect graphique, lisibilité...) | D7: 2 | F7: =SUM(E4:E7) -> 0 | G7: =(F7*100)/C3 -> 0
B9: ARGUMENTATION | C9: 10
B10: Pertinence (juste volume d'informations, pas de contradictions, de hors-sujet, images bien choisies...) | D10: 3
B11: Clarté (indépendamment du niveau de technicité du sujet) | D11: 3
B12: Organisation (ordre des arguments, pertinence des subdivisions ; pas de redites...) | D12: 2
B13: Outils rhétoriques (utilisation de titres, de liaisons entre les paragraphes ; grandes transitions entre subdivisions...) | D13: 2 | F13: =SUM(E10:E13) -> 0 | G13: =(F13*100)/C9 -> 0
A16: FOND
B17: CONTEXTE | C17: 10
B18: Présentation de l'entreprise : secteur, marché, clients, historique… | D18: 2
B19: Activité et organisation de l'entreprise : produits et évolutions | D19: 3
B20: L'equipe de travail (organisation, rôle du stagiaire...) | D20: 3
B21: Le produit/service objet du stage | D21: 2 | F21: =SUM(E18:E21) -> 0 | G21: =(F21*100)/C17 -> 0
B23: LE STAGE | C23: 12
B24: Description de la mission : tâches, outils de travail… | D24: 2
B25: Récit de la mission : réalisations du stagiaire, facilités et difficultés rencontrées, solutions apportées… | D25: 4
B26: Exemples commentés | D26: 3
B27: Bilan du stage : enseignements (techniques, humains…) ; perspectives de professionnalisation ; effets concrets de cette mission pour l'entreprise | D27: 3 | F27: =SUM(E24:E27) -> 0 | G27: =(F27*100)/C23 -> 0
H29: Remarque :
B30: Note (forme + fond) | C30: 20 | D30: 40 | E30: =((SUM(E18:E27))+(SUM(E4:E13)))/2 -> 0
B32: Nom du stagiaire
B34: Prénom du stagiaire
B36: E-mail / login

Sheet eleve26
C1: Barème | E1: Note du stagiaire | F1: Total interm. | G1: % de réussite | H1: Remarque
A2: FORME
B3: PRESENTATION | C3: 8
B4: Ergonomie du document (nom + login, noms de l'entreprise, date de stage, résumé ; document unique identifiable ; sommaire, remerciements...) | D4: 1
B5: Orthographe-grammaire | D5: 3
B6: Style | D6: 2
B7: Qualité visuelle (aspect graphique, lisibilité...) | D7: 2 | F7: =SUM(E4:E7) -> 0 | G7: =(F7*100)/C3 -> 0
B9: ARGUMENTATION | C9: 10
B10: Pertinence (juste volume d'informations, pas de contradictions, de hors-sujet, images bien choisies...) | D10: 3
B11: Clarté (indépendamment du niveau de technicité du sujet) | D11: 3
B12: Organisation (ordre des arguments, pertinence des subdivisions ; pas de redites...) | D12: 2
B13: Outils rhétoriques (utilisation de titres, de liaisons entre les paragraphes ; grandes transitions entre subdivisions...) | D13: 2 | F13: =SUM(E10:E13) -> 0 | G13: =(F13*100)/C9 -> 0
A16: FOND
B17: CONTEXTE | C17: 10
B18: Présentation de l'entreprise : secteur, marché, clients, historique… | D18: 2
B19: Activité et organisation de l'entreprise : produits et évolutions | D19: 3
B20: L'equipe de travail (organisation, rôle du stagiaire...) | D20: 3
B21: Le produit/service objet du stage | D21: 2 | F21: =SUM(E18:E21) -> 0 | G21: =(F21*100)/C17 -> 0
B23: LE STAGE | C23: 12
B24: Description de la mission : tâches, outils de travail… | D24: 2
B25: Récit de la mission : réalisations du stagiaire, facilités et difficultés rencontrées, solutions apportées… | D25: 4
B26: Exemples commentés | D26: 3
B27: Bilan du stage : enseignements (techniques, humains…) ; perspectives de professionnalisation ; effets concrets de cette mission pour l'entreprise | D27: 3 | F27: =SUM(E24:E27) -> 0 | G27: =(F27*100)/C23 -> 0
H29: Remarque :
B30: Note (forme + fond) | C30: 20 | D30: 40 | E30: =((SUM(E18:E27))+(SUM(E4:E13)))/2 -> 0
B32: Nom du stagiaire
B34: Prénom du stagiaire
B36: E-mail / login

Sheet eleve27
C1: Barème | E1: Note du stagiaire | F1: Total interm. | G1: % de réussite | H1: Remarque
A2: FORME
B3: PRESENTATION | C3: 8
B4: Ergonomie du document (nom + login, noms de l'entreprise, date de stage, résumé ; document unique identifiable ; sommaire, remerciements...) | D4: 1
B5: Orthographe-grammaire | D5: 3
B6: Style | D6: 2
B7: Qualité visuelle (aspect graphique, lisibilité...) | D7: 2 | F7: =SUM(E4:E7) -> 0 | G7: =(F7*100)/C3 -> 0
B9: ARGUMENTATION | C9: 10
B10: Pertinence (juste volume d'informations, pas de contradictions, de hors-sujet, images bien choisies...) | D10: 3
B11: Clarté (indépendamment du niveau de technicité du sujet) | D11: 3
B12: Organisation (ordre des arguments, pertinence des subdivisions ; pas de redites...) | D12: 2
B13: Outils rhétoriques (utilisation de titres, de liaisons entre les paragraphes ; grandes transitions entre subdivisions...) | D13: 2 | F13: =SUM(E10:E13) -> 0 | G13: =(F13*100)/C9 -> 0
A16: FOND
B17: CONTEXTE | C17: 10
B18: Présentation de l'entreprise : secteur, marché, clients, historique… | D18: 2
B19: Activité et organisation de l'entreprise : produits et évolutions | D19: 3
B20: L'equipe de travail (organisation, rôle du stagiaire...) | D20: 3
B21: Le produit/service objet du stage | D21: 2 | F21: =SUM(E18:E21) -> 0 | G21: =(F21*100)/C17 -> 0
B23: LE STAGE | C23: 12
B24: Description de la mission : tâches, outils de travail… | D24: 2
B25: Récit de la mission : réalisations du stagiaire, facilités et difficultés rencontrées, solutions apportées… | D25: 4
B26: Exemples commentés | D26: 3
B27: Bilan du stage : enseignements (techniques, humains…) ; perspectives de professionnalisation ; effets concrets de cette mission pour l'entreprise | D27: 3 | F27: =SUM(E24:E27) -> 0 | G27: =(F27*100)/C23 -> 0
H29: Remarque :
B30: Note (forme + fond) | C30: 20 | D30: 40 | E30: =((SUM(E18:E27))+(SUM(E4:E13)))/2 -> 0
B32: Nom du stagiaire
B34: Prénom du stagiaire
B36: E-mail / login

Sheet eleve28
C1: Barème | E1: Note du stagiaire | F1: Total interm. | G1: % de réussite | H1: Remarque
A2: FORME
B3: PRESENTATION | C3: 8
B4: Ergonomie du document (nom + login, noms de l'entreprise, date de stage, résumé ; document unique identifiable ; sommaire, remerciements...) | D4: 1
B5: Orthographe-grammaire | D5: 3
B6: Style | D6: 2
B7: Qualité visuelle (aspect graphique, lisibilité...) | D7: 2 | F7: =SUM(E4:E7) -> 0 | G7: =(F7*100)/C3 -> 0
B9: ARGUMENTATION | C9: 10
B10: Pertinence (juste volume d'informations, pas de contradictions, de hors-sujet, images bien choisies...) | D10: 3
B11: Clarté (indépendamment du niveau de technicité du sujet) | D11: 3
B12: Organisation (ordre des arguments, pertinence des subdivisions ; pas de redites...) | D12: 2
B13: Outils rhétoriques (utilisation de titres, de liaisons entre les paragraphes ; grandes transitions entre subdivisions...) | D13: 2 | F13: =SUM(E10:E13) -> 0 | G13: =(F13*100)/C9 -> 0
A16: FOND
B17: CONTEXTE | C17: 10
B18: Présentation de l'entreprise : secteur, marché, clients, historique… | D18: 2
B19: Activité et organisation de l'entreprise : produits et évolutions | D19: 3
B20: L'equipe de travail (organisation, rôle du stagiaire...) | D20: 3
B21: Le produit/service objet du stage | D21: 2 | F21: =SUM(E18:E21) -> 0 | G21: =(F21*100)/C17 -> 0
B23: LE STAGE | C23: 12
B24: Description de la mission : tâches, outils de travail… | D24: 2
B25: Récit de la mission : réalisations du stagiaire, facilités et difficultés rencontrées, solutions apportées… | D25: 4
B26: Exemples commentés | D26: 3
B27: Bilan du stage : enseignements (techniques, humains…) ; perspectives de professionnalisation ; effets concrets de cette mission pour l'entreprise | D27: 3 | F27: =SUM(E24:E27) -> 0 | G27: =(F27*100)/C23 -> 0
H29: Remarque :
B30: Note (forme + fond) | C30: 20 | D30: 40 | E30: =((SUM(E18:E27))+(SUM(E4:E13)))/2 -> 0
B32: Nom du stagiaire
B34: Prénom du stagiaire
B36: E-mail / login

Sheet eleve29
C1: Barème | E1: Note du stagiaire | F1: Total interm. | G1: % de réussite | H1: Remarque
A2: FORME
B3: PRESENTATION | C3: 8
B4: Ergonomie du document (nom + login, noms de l'entreprise, date de stage, résumé ; document unique identifiable ; sommaire, remerciements...) | D4: 1
B5: Orthographe-grammaire | D5: 3
B6: Style | D6: 2
B7: Qualité visuelle (aspect graphique, lisibilité...) | D7: 2 | F7: =SUM(E4:E7) -> 0 | G7: =(F7*100)/C3 -> 0
B9: ARGUMENTATION | C9: 10
B10: Pertinence (juste volume d'informations, pas de contradictions, de hors-sujet, images bien choisies...) | D10: 3
B11: Clarté (indépendamment du niveau de technicité du sujet) | D11: 3
B12: Organisation (ordre des arguments, pertinence des subdivisions ; pas de redites...) | D12: 2
B13: Outils rhétoriques (utilisation de titres, de liaisons entre les paragraphes ; grandes transitions entre subdivisions...) | D13: 2 | F13: =SUM(E10:E13) -> 0 | G13: =(F13*100)/C9 -> 0
A16: FOND
B17: CONTEXTE | C17: 10
B18: Présentation de l'entreprise : secteur, marché, clients, historique… | D18: 2
B19: Activité et organisation de l'entreprise : produits et évolutions | D19: 3
B20: L'equipe de travail (organisation, rôle du stagiaire...) | D20: 3
B21: Le produit/service objet du stage | D21: 2 | F21: =SUM(E18:E21) -> 0 | G21: =(F21*100)/C17 -> 0
B23: LE STAGE | C23: 12
B24: Description de la mission : tâches, outils de travail… | D24: 2
B25: Récit de la mission : réalisations du stagiaire, facilités et difficultés rencontrées, solutions apportées… | D25: 4
B26: Exemples commentés | D26: 3
B27: Bilan du stage : enseignements (techniques, humains…) ; perspectives de professionnalisation ; effets concrets de cette mission pour l'entreprise | D27: 3 | F27: =SUM(E24:E27) -> 0 | G27: =(F27*100)/C23 -> 0
H29: Remarque :
B30: Note (forme + fond) | C30: 20 | D30: 40 | E30: =((SUM(E18:E27))+(SUM(E4:E13)))/2 -> 0
B32: Nom du stagiaire
B34: Prénom du stagiaire
B36: E-mail / login

Sheet eleve30
C1: Barème | E1: Note du stagiaire | F1: Total interm. | G1: % de réussite | H1: Remarque
A2: FORME
B3: PRESENTATION | C3: 8
B4: Ergonomie du document (nom + login, noms de l'entreprise, date de stage, résumé ; document unique identifiable ; sommaire, remerciements...) | D4: 1
B5: Orthographe-grammaire | D5: 3
B6: Style | D6: 2
B7: Qualité visuelle (aspect graphique, lisibilité...) | D7: 2 | F7: =SUM(E4:E7) -> 0 | G7: =(F7*100)/C3 -> 0
B9: ARGUMENTATION | C9: 10
B10: Pertinence (juste volume d'informations, pas de contradictions, de hors-sujet, images bien choisies...) | D10: 3
B11: Clarté (indépendamment du niveau de technicité du sujet) | D11: 3
B12: Organisation (ordre des arguments, pertinence des subdivisions ; pas de redites...) | D12: 2
B13: Outils rhétoriques (utilisation de titres, de liaisons entre les paragraphes ; grandes transitions entre subdivisions...) | D13: 2 | F13: =SUM(E10:E13) -> 0 | G13: =(F13*100)/C9 -> 0
A16: FOND
B17: CONTEXTE | C17: 10
B18: Présentation de l'entreprise : secteur, marché, clients, historique… | D18: 2
B19: Activité et organisation de l'entreprise : produits et évolutions | D19: 3
B20: L'equipe de travail (organisation, rôle du stagiaire...) | D20: 3
B21: Le produit/service objet du stage | D21: 2 | F21: =SUM(E18:E21) -> 0 | G21: =(F21*100)/C17 -> 0
B23: LE STAGE | C23: 12
B24: Description de la mission : tâches, outils de travail… | D24: 2
B25: Récit de la mission : réalisations du stagiaire, facilités et difficultés rencontrées, solutions apportées… | D25: 4
B26: Exemples commentés | D26: 3
B27: Bilan du stage : enseignements (techniques, humains…) ; perspectives de professionnalisation ; effets concrets de cette mission pour l'entreprise | D27: 3 | F27: =SUM(E24:E27) -> 0 | G27: =(F27*100)/C23 -> 0
H29: Remarque :
B30: Note (forme + fond) | C30: 20 | D30: 40 | E30: =((SUM(E18:E27))+(SUM(E4:E13)))/2 -> 0
B32: Nom du stagiaire
B34: Prénom du stagiaire
B36: E-mail / login

Sheet eleve31
C1: Barème | E1: Note du stagiaire | F1: Total interm. | G1: % de réussite | H1: Remarque
A2: FORME
B3: PRESENTATION | C3: 8
B4: Ergonomie du document (nom + login, noms de l'entreprise, date de stage, résumé ; document unique identifiable ; sommaire, remerciements...) | D4: 1
B5: Orthographe-grammaire | D5: 3
B6: Style | D6: 2
B7: Qualité visuelle (aspect graphique, lisibilité...) | D7: 2 | F7: =SUM(E4:E7) -> 0 | G7: =(F7*100)/C3 -> 0
B9: ARGUMENTATION | C9: 10
B10: Pertinence (juste volume d'informations, pas de contradictions, de hors-sujet, images bien choisies...) | D10: 3
B11: Clarté (indépendamment du niveau de technicité du sujet) | D11: 3
B12: Organisation (ordre des arguments, pertinence des subdivisions ; pas de redites...) | D12: 2
B13: Outils rhétoriques (utilisation de titres, de liaisons entre les paragraphes ; grandes transitions entre subdivisions...) | D13: 2 | F13: =SUM(E10:E13) -> 0 | G13: =(F13*100)/C9 -> 0
A16: FOND
B17: CONTEXTE | C17: 10
B18: Présentation de l'entreprise : secteur, marché, clients, historique… | D18: 2
B19: Activité et organisation de l'entreprise : produits et évolutions | D19: 3
B20: L'equipe de travail (organisation, rôle du stagiaire...) | D20: 3
B21: Le produit/service objet du stage | D21: 2 | F21: =SUM(E18:E21) -> 0 | G21: =(F21*100)/C17 -> 0
B23: LE STAGE | C23: 12
B24: Description de la mission : tâches, outils de travail… | D24: 2
B25: Récit de la mission : réalisations du stagiaire, facilités et difficultés rencontrées, solutions apportées… | D25: 4
B26: Exemples commentés | D26: 3
B27: Bilan du stage : enseignements (techniques, humains…) ; perspectives de professionnalisation ; effets concrets de cette mission pour l'entreprise | D27: 3 | F27: =SUM(E24:E27) -> 0 | G27: =(F27*100)/C23 -> 0
H29: Remarque :
B30: Note (forme + fond) | C30: 20 | D30: 40 | E30: =((SUM(E18:E27))+(SUM(E4:E13)))/2 -> 0
B32: Nom du stagiaire
B34: Prénom du stagiaire
B36: E-mail / login

Sheet eleve32
C1: Barème | E1: Note du stagiaire | F1: Total interm. | G1: % de réussite | H1: Remarque
A2: FORME
B3: PRESENTATION | C3: 8
B4: Ergonomie du document (nom + login, noms de l'entreprise, date de stage, résumé ; document unique identifiable ; sommaire, remerciements...) | D4: 1
B5: Orthographe-grammaire | D5: 3
B6: Style | D6: 2
B7: Qualité visuelle (aspect graphique, lisibilité...) | D7: 2 | F7: =SUM(E4:E7) -> 0 | G7: =(F7*100)/C3 -> 0
B9: ARGUMENTATION | C9: 10
B10: Pertinence (juste volume d'informations, pas de contradictions, de hors-sujet, images bien choisies...) | D10: 3
B11: Clarté (indépendamment du niveau de technicité du sujet) | D11: 3
B12: Organisation (ordre des arguments, pertinence des subdivisions ; pas de redites...) | D12: 2
B13: Outils rhétoriques (utilisation de titres, de liaisons entre les paragraphes ; grandes transitions entre subdivisions...) | D13: 2 | F13: =SUM(E10:E13) -> 0 | G13: =(F13*100)/C9 -> 0
A16: FOND
B17: CONTEXTE | C17: 10
B18: Présentation de l'entreprise : secteur, marché, clients, historique… | D18: 2
B19: Activité et organisation de l'entreprise : produits et évolutions | D19: 3
B20: L'equipe de travail (organisation, rôle du stagiaire...) | D20: 3
B21: Le produit/service objet du stage | D21: 2 | F21: =SUM(E18:E21) -> 0 | G21: =(F21*100)/C17 -> 0
B23: LE STAGE | C23: 12
B24: Description de la mission : tâches, outils de travail… | D24: 2
B25: Récit de la mission : réalisations du stagiaire, facilités et difficultés rencontrées, solutions apportées… | D25: 4
B26: Exemples commentés | D26: 3
B27: Bilan du stage : enseignements (techniques, humains…) ; perspectives de professionnalisation ; effets concrets de cette mission pour l'entreprise | D27: 3 | F27: =SUM(E24:E27) -> 0 | G27: =(F27*100)/C23 -> 0
H29: Remarque :
B30: Note (forme + fond) | C30: 20 | D30: 40 | E30: =((SUM(E18:E27))+(SUM(E4:E13)))/2 -> 0
B32: Nom du stagiaire
B34: Prénom du stagiaire
B36: E-mail / login

Sheet eleve33
C1: Barème | E1: Note du stagiaire | F1: Total interm. | G1: % de réussite | H1: Remarque
A2: FORME
B3: PRESENTATION | C3: 8
B4: Ergonomie du document (nom + login, noms de l'entreprise, date de stage, résumé ; document unique identifiable ; sommaire, remerciements...) | D4: 1
B5: Orthographe-grammaire | D5: 3
B6: Style | D6: 2
B7: Qualité visuelle (aspect graphique, lisibilité...) | D7: 2 | F7: =SUM(E4:E7) -> 0 | G7: =(F7*100)/C3 -> 0
B9: ARGUMENTATION | C9: 10
B10: Pertinence (juste volume d'informations, pas de contradictions, de hors-sujet, images bien choisies...) | D10: 3
B11: Clarté (indépendamment du niveau de technicité du sujet) | D11: 3
B12: Organisation (ordre des arguments, pertinence des subdivisions ; pas de redites...) | D12: 2
B13: Outils rhétoriques (utilisation de titres, de liaisons entre les paragraphes ; grandes transitions entre subdivisions...) | D13: 2 | F13: =SUM(E10:E13) -> 0 | G13: =(F13*100)/C9 -> 0
A16: FOND
B17: CONTEXTE | C17: 10
B18: Présentation de l'entreprise : secteur, marché, clients, historique… | D18: 2
B19: Activité et organisation de l'entreprise : produits et évolutions | D19: 3
B20: L'equipe de travail (organisation, rôle du stagiaire...) | D20: 3
B21: Le produit/service objet du stage | D21: 2 | F21: =SUM(E18:E21) -> 0 | G21: =(F21*100)/C17 -> 0
B23: LE STAGE | C23: 12
B24: Description de la mission : tâches, outils de travail… | D24: 2
B25: Récit de la mission : réalisations du stagiaire, facilités et difficultés rencontrées, solutions apportées… | D25: 4
B26: Exemples commentés | D26: 3
B27: Bilan du stage : enseignements (techniques, humains…) ; perspectives de professionnalisation ; effets concrets de cette mission pour l'entreprise | D27: 3 | F27: =SUM(E24:E27) -> 0 | G27: =(F27*100)/C23 -> 0
H29: Remarque :
B30: Note (forme + fond) | C30: 20 | D30: 40 | E30: =((SUM(E18:E27))+(SUM(E4:E13)))/2 -> 0
B32: Nom du stagiaire
B34: Prénom du stagiaire
B36: E-mail / login

Sheet eleve34
C1: Barème | E1: Note du stagiaire | F1: Total interm. | G1: % de réussite | H1: Remarque
A2: FORME
B3: PRESENTATION | C3: 8
B4: Ergonomie du document (nom + login, noms de l'entreprise, date de stage, résumé ; document unique identifiable ; sommaire, remerciements...) | D4: 1
B5: Orthographe-grammaire | D5: 3
B6: Style | D6: 2
B7: Qualité visuelle (aspect graphique, lisibilité...) | D7: 2 | F7: =SUM(E4:E7) -> 0 | G7: =(F7*100)/C3 -> 0
B9: ARGUMENTATION | C9: 10
B10: Pertinence (juste volume d'informations, pas de contradictions, de hors-sujet, images bien choisies...) | D10: 3
B11: Clarté (indépendamment du niveau de technicité du sujet) | D11: 3
B12: Organisation (ordre des arguments, pertinence des subdivisions ; pas de redites...) | D12: 2
B13: Outils rhétoriques (utilisation de titres, de liaisons entre les paragraphes ; grandes transitions entre subdivisions...) | D13: 2 | F13: =SUM(E10:E13) -> 0 | G13: =(F13*100)/C9 -> 0
A16: FOND
B17: CONTEXTE | C17: 10
B18: Présentation de l'entreprise : secteur, marché, clients, historique… | D18: 2
B19: Activité et organisation de l'entreprise : produits et évolutions | D19: 3
B20: L'equipe de travail (organisation, rôle du stagiaire...) | D20: 3
B21: Le produit/service objet du stage | D21: 2 | F21: =SUM(E18:E21) -> 0 | G21: =(F21*100)/C17 -> 0
B23: LE STAGE | C23: 12
B24: Description de la mission : tâches, outils de travail… | D24: 2
B25: Récit de la mission : réalisations du stagiaire, facilités et difficultés rencontrées, solutions apportées… | D25: 4
B26: Exemples commentés | D26: 3
B27: Bilan du stage : enseignements (techniques, humains…) ; perspectives de professionnalisation ; effets concrets de cette mission pour l'entreprise | D27: 3 | F27: =SUM(E24:E27) -> 0 | G27: =(F27*100)/C23 -> 0
H29: Remarque :
B30: Note (forme + fond) | C30: 20 | D30: 40 | E30: =((SUM(E18:E27))+(SUM(E4:E13)))/2 -> 0
B32: Nom du stagiaire
B34: Prénom du stagiaire
B36: E-mail / login

Sheet eleve35
C1: Barème | E1: Note du stagiaire | F1: Total interm. | G1: % de réussite | H1: Remarque
A2: FORME
B3: PRESENTATION | C3: 8
B4: Ergonomie du document (nom + login, noms de l'entreprise, date de stage, résumé ; document unique identifiable ; sommaire, remerciements...) | D4: 1
B5: Orthographe-grammaire | D5: 3
B6: Style | D6: 2
B7: Qualité visuelle (aspect graphique, lisibilité...) | D7: 2 | F7: =SUM(E4:E7) -> 0 | G7: =(F7*100)/C3 -> 0
B9: ARGUMENTATION | C9: 10
B10: Pertinence (juste volume d'informations, pas de contradictions, de hors-sujet, images bien choisies...) | D10: 3
B11: Clarté (indépendamment du niveau de technicité du sujet) | D11: 3
B12: Organisation (ordre des arguments, pertinence des subdivisions ; pas de redites...) | D12: 2
B13: Outils rhétoriques (utilisation de titres, de liaisons entre les paragraphes ; grandes transitions entre subdivisions...) | D13: 2 | F13: =SUM(E10:E13) -> 0 | G13: =(F13*100)/C9 -> 0
A16: FOND
B17: CONTEXTE | C17: 10
B18: Présentation de l'entreprise : secteur, marché, clients, historique… | D18: 2
B19: Activité et organisation de l'entreprise : produits et évolutions | D19: 3
B20: L'equipe de travail (organisation, rôle du stagiaire...) | D20: 3
B21: Le produit/service objet du stage | D21: 2 | F21: =SUM(E18:E21) -> 0 | G21: =(F21*100)/C17 -> 0
B23: LE STAGE | C23: 12
B24: Description de la mission : tâches, outils de travail… | D24: 2
B25: Récit de la mission : réalisations du stagiaire, facilités et difficultés rencontrées, solutions apportées… | D25: 4
B26: Exemples commentés | D26: 3
B27: Bilan du stage : enseignements (techniques, humains…) ; perspectives de professionnalisation ; effets concrets de cette mission pour l'entreprise | D27: 3 | F27: =SUM(E24:E27) -> 0 | G27: =(F27*100)/C23 -> 0
H29: Remarque :
B30: Note (forme + fond) | C30: 20 | D30: 40 | E30: =((SUM(E18:E27))+(SUM(E4:E13)))/2 -> 0
B32: Nom du stagiaire
B34: Prénom du stagiaire
B36: E-mail / login

Sheet eleve36
C1: Barème | E1: Note du stagiaire | F1: Total interm. | G1: % de réussite | H1: Remarque
A2: FORME
B3: PRESENTATION | C3: 8
B4: Ergonomie du document (nom + login, noms de l'entreprise, date de stage, résumé ; document unique identifiable ; sommaire, remerciements...) | D4: 1
B5: Orthographe-grammaire | D5: 3
B6: Style | D6: 2
B7: Qualité visuelle (aspect graphique, lisibilité...) | D7: 2 | F7: =SUM(E4:E7) -> 0 | G7: =(F7*100)/C3 -> 0
B9: ARGUMENTATION | C9: 10
B10: Pertinence (juste volume d'informations, pas de contradictions, de hors-sujet, images bien choisies...) | D10: 3
B11: Clarté (indépendamment du niveau de technicité du sujet) | D11: 3
B12: Organisation (ordre des arguments, pertinence des subdivisions ; pas de redites...) | D12: 2
B13: Outils rhétoriques (utilisation de titres, de liaisons entre les paragraphes ; grandes transitions entre subdivisions...) | D13: 2 | F13: =SUM(E10:E13) -> 0 | G13: =(F13*100)/C9 -> 0
A16: FOND
B17: CONTEXTE | C17: 10
B18: Présentation de l'entreprise : secteur, marché, clients, historique… | D18: 2
B19: Activité et organisation de l'entreprise : produits et évolutions | D19: 3
B20: L'equipe de travail (organisation, rôle du stagiaire...) | D20: 3
B21: Le produit/service objet du stage | D21: 2 | F21: =SUM(E18:E21) -> 0 | G21: =(F21*100)/C17 -> 0
B23: LE STAGE | C23: 12
B24: Description de la mission : tâches, outils de travail… | D24: 2
B25: Récit de la mission : réalisations du stagiaire, facilités et difficultés rencontrées, solutions apportées… | D25: 4
B26: Exemples commentés | D26: 3
B27: Bilan du stage : enseignements (techniques, humains…) ; perspectives de professionnalisation ; effets concrets de cette mission pour l'entreprise | D27: 3 | F27: =SUM(E24:E27) -> 0 | G27: =(F27*100)/C23 -> 0
H29: Remarque :
B30: Note (forme + fond) | C30: 20 | D30: 40 | E30: =((SUM(E18:E27))+(SUM(E4:E13)))/2 -> 0
B32: Nom du stagiaire
B34: Prénom du stagiaire
B36: E-mail / login

Sheet eleve37
C1: Barème | E1: Note du stagiaire | F1: Total interm. | G1: % de réussite | H1: Remarque
A2: FORME
B3: PRESENTATION | C3: 8
B4: Ergonomie du document (nom + login, noms de l'entreprise, date de stage, résumé ; document unique identifiable ; sommaire, remerciements...) | D4: 1
B5: Orthographe-grammaire | D5: 3
B6: Style | D6: 2
B7: Qualité visuelle (aspect graphique, lisibilité...) | D7: 2 | F7: =SUM(E4:E7) -> 0 | G7: =(F7*100)/C3 -> 0
B9: ARGUMENTATION | C9: 10
B10: Pertinence (juste volume d'informations, pas de contradictions, de hors-sujet, images bien choisies...) | D10: 3
B11: Clarté (indépendamment du niveau de technicité du sujet) | D11: 3
B12: Organisation (ordre des arguments, pertinence des subdivisions ; pas de redites...) | D12: 2
B13: Outils rhétoriques (utilisation de titres, de liaisons entre les paragraphes ; grandes transitions entre subdivisions...) | D13: 2 | F13: =SUM(E10:E13) -> 0 | G13: =(F13*100)/C9 -> 0
A16: FOND
B17: CONTEXTE | C17: 10
B18: Présentation de l'entreprise : secteur, marché, clients, historique… | D18: 2
B19: Activité et organisation de l'entreprise : produits et évolutions | D19: 3
B20: L'equipe de travail (organisation, rôle du stagiaire...) | D20: 3
B21: Le produit/service objet du stage | D21: 2 | F21: =SUM(E18:E21) -> 0 | G21: =(F21*100)/C17 -> 0
B23: LE STAGE | C23: 12
B24: Description de la mission : tâches, outils de travail… | D24: 2
B25: Récit de la mission : réalisations du stagiaire, facilités et difficultés rencontrées, solutions apportées… | D25: 4
B26: Exemples commentés | D26: 3
B27: Bilan du stage : enseignements (techniques, humains…) ; perspectives de professionnalisation ; effets concrets de cette mission pour l'entreprise | D27: 3 | F27: =SUM(E24:E27) -> 0 | G27: =(F27*100)/C23 -> 0
H29: Remarque :
B30: Note (forme + fond) | C30: 20 | D30: 40 | E30: =((SUM(E18:E27))+(SUM(E4:E13)))/2 -> 0
B32: Nom du stagiaire
B34: Prénom du stagiaire
B36: E-mail / login

Sheet eleve38
C1: Barème | E1: Note du stagiaire | F1: Total interm. | G1: % de réussite | H1: Remarque
A2: FORME
B3: PRESENTATION | C3: 8
B4: Ergonomie du document (nom + login, noms de l'entreprise, date de stage, résumé ; document unique identifiable ; sommaire, remerciements...) | D4: 1
B5: Orthographe-grammaire | D5: 3
B6: Style | D6: 2
B7: Qualité visuelle (aspect graphique, lisibilité...) | D7: 2 | F7: =SUM(E4:E7) -> 0 | G7: =(F7*100)/C3 -> 0
B9: ARGUMENTATION | C9: 10
B10: Pertinence (juste volume d'informations, pas de contradictions, de hors-sujet, images bien choisies...) | D10: 3
B11: Clarté (indépendamment du niveau de technicité du sujet) | D11: 3
B12: Organisation (ordre des arguments, pertinence des subdivisions ; pas de redites...) | D12: 2
B13: Outils rhétoriques (utilisation de titres, de liaisons entre les paragraphes ; grandes transitions entre subdivisions...) | D13: 2 | F13: =SUM(E10:E13) -> 0 | G13: =(F13*100)/C9 -> 0
A16: FOND
B17: CONTEXTE | C17: 10
B18: Présentation de l'entreprise : secteur, marché, clients, historique… | D18: 2
B19: Activité et organisation de l'entreprise : produits et évolutions | D19: 3
B20: L'equipe de travail (organisation, rôle du stagiaire...) | D20: 3
B21: Le produit/service objet du stage | D21: 2 | F21: =SUM(E18:E21) -> 0 | G21: =(F21*100)/C17 -> 0
B23: LE STAGE | C23: 12
B24: Description de la mission : tâches, outils de travail… | D24: 2
B25: Récit de la mission : réalisations du stagiaire, facilités et difficultés rencontrées, solutions apportées… | D25: 4
B26: Exemples commentés | D26: 3
B27: Bilan du stage : enseignements (techniques, humains…) ; perspectives de professionnalisation ; effets concrets de cette mission pour l'entreprise | D27: 3 | F27: =SUM(E24:E27) -> 0 | G27: =(F27*100)/C23 -> 0
H29: Remarque :
B30: Note (forme + fond) | C30: 20 | D30: 40 | E30: =((SUM(E18:E27))+(SUM(E4:E13)))/2 -> 0
B32: Nom du stagiaire
B34: Prénom du stagiaire
B36: E-mail / login

Sheet eleve39
C1: Barème | E1: Note du stagiaire | F1: Total interm. | G1: % de réussite | H1: Remarque
A2: FORME
B3: PRESENTATION | C3: 8
B4: Ergonomie du document (nom + login, noms de l'entreprise, date de stage, résumé ; document unique identifiable ; sommaire, remerciements...) | D4: 1
B5: Orthographe-grammaire | D5: 3
B6: Style | D6: 2
B7: Qualité visuelle (aspect graphique, lisibilité...) | D7: 2 | F7: =SUM(E4:E7) -> 0 | G7: =(F7*100)/C3 -> 0
B9: ARGUMENTATION | C9: 10
B10: Pertinence (juste volume d'informations, pas de contradictions, de hors-sujet, images bien choisies...) | D10: 3
B11: Clarté (indépendamment du niveau de technicité du sujet) | D11: 3
B12: Organisation (ordre des arguments, pertinence des subdivisions ; pas de redites...) | D12: 2
B13: Outils rhétoriques (utilisation de titres, de liaisons entre les paragraphes ; grandes transitions entre subdivisions...) | D13: 2 | F13: =SUM(E10:E13) -> 0 | G13: =(F13*100)/C9 -> 0
A16: FOND
B17: CONTEXTE | C17: 10
B18: Présentation de l'entreprise : secteur, marché, clients, historique… | D18: 2
B19: Activité et organisation de l'entreprise : produits et évolutions | D19: 3
B20: L'equipe de travail (organisation, rôle du stagiaire...) | D20: 3
B21: Le produit/service objet du stage | D21: 2 | F21: =SUM(E18:E21) -> 0 | G21: =(F21*100)/C17 -> 0
B23: LE STAGE | C23: 12
B24: Description de la mission : tâches, outils de travail… | D24: 2
B25: Récit de la mission : réalisations du stagiaire, facilités et difficultés rencontrées, solutions apportées… | D25: 4
B26: Exemples commentés | D26: 3
B27: Bilan du stage : enseignements (techniques, humains…) ; perspectives de professionnalisation ; effets concrets de cette mission pour l'entreprise | D27: 3 | F27: =SUM(E24:E27) -> 0 | G27: =(F27*100)/C23 -> 0
H29: Remarque :
B30: Note (forme + fond) | C30: 20 | D30: 40 | E30: =((SUM(E18:E27))+(SUM(E4:E13)))/2 -> 0
B32: Nom du stagiaire
B34: Prénom du stagiaire
B36: E-mail / login

Sheet eleve40
C1: Barème | E1: Note du stagiaire | F1: Total interm. | G1: % de réussite | H1: Remarque
A2: FORME
B3: PRESENTATION | C3: 8
B4: Ergonomie du document (nom + login, noms de l'entreprise, date de stage, résumé ; document unique identifiable ; sommaire, remerciements...) | D4: 1
B5: Orthographe-grammaire | D5: 3
B6: Style | D6: 2
B7: Qualité visuelle (aspect graphique, lisibilité...) | D7: 2 | F7: =SUM(E4:E7) -> 0 | G7: =(F7*100)/C3 -> 0
B9: ARGUMENTATION | C9: 10
B10: Pertinence (juste volume d'informations, pas de contradictions, de hors-sujet, images bien choisies...) | D10: 3
B11: Clarté (indépendamment du niveau de technicité du sujet) | D11: 3
B12: Organisation (ordre des arguments, pertinence des subdivisions ; pas de redites...) | D12: 2
B13: Outils rhétoriques (utilisation de titres, de liaisons entre les paragraphes ; grandes transitions entre subdivisions...) | D13: 2 | F13: =SUM(E10:E13) -> 0 | G13: =(F13*100)/C9 -> 0
A16: FOND
B17: CONTEXTE | C17: 10
B18: Présentation de l'entreprise : secteur, marché, clients, historique… | D18: 2
B19: Activité et organisation de l'entreprise : produits et évolutions | D19: 3
B20: L'equipe de travail (organisation, rôle du stagiaire...) | D20: 3
B21: Le produit/service objet du stage | D21: 2 | F21: =SUM(E18:E21) -> 0 | G21: =(F21*100)/C17 -> 0
B23: LE STAGE | C23: 12
B24: Description de la mission : tâches, outils de travail… | D24: 2
B25: Récit de la mission : réalisations du stagiaire, facilités et difficultés rencontrées, solutions apportées… | D25: 4
B26: Exemples commentés | D26: 3
B27: Bilan du stage : enseignements (techniques, humains…) ; perspectives de professionnalisation ; effets concrets de cette mission pour l'entreprise | D27: 3 | F27: =SUM(E24:E27) -> 0 | G27: =(F27*100)/C23 -> 0
H29: Remarque :
B30: Note (forme + fond) | C30: 20 | D30: 40 | E30: =((SUM(E18:E27))+(SUM(E4:E13)))/2 -> 0
B32: Nom du stagiaire
B34: Prénom du stagiaire
B36: E-mail / login

Sheet eleve41
C1: Barème | E1: Note du stagiaire | F1: Total interm. | G1: % de réussite | H1: Remarque
A2: FORME
B3: PRESENTATION | C3: 8
B4: Ergonomie du document (nom + login, noms de l'entreprise, date de stage, résumé ; document unique identifiable ; sommaire, remerciements...) | D4: 1
B5: Orthographe-grammaire | D5: 3
B6: Style | D6: 2
B7: Qualité visuelle (aspect graphique, lisibilité...) | D7: 2 | F7: =SUM(E4:E7) -> 0 | G7: =(F7*100)/C3 -> 0
B9: ARGUMENTATION | C9: 10
B10: Pertinence (juste volume d'informations, pas de contradictions, de hors-sujet, images bien choisies...) | D10: 3
B11: Clarté (indépendamment du niveau de technicité du sujet) | D11: 3
B12: Organisation (ordre des arguments, pertinence des subdivisions ; pas de redites...) | D12: 2
B13: Outils rhétoriques (utilisation de titres, de liaisons entre les paragraphes ; grandes transitions entre subdivisions...) | D13: 2 | F13: =SUM(E10:E13) -> 0 | G13: =(F13*100)/C9 -> 0
A16: FOND
B17: CONTEXTE | C17: 10
B18: Présentation de l'entreprise : secteur, marché, clients, historique… | D18: 2
B19: Activité et organisation de l'entreprise : produits et évolutions | D19: 3
B20: L'equipe de travail (organisation, rôle du stagiaire...) | D20: 3
B21: Le produit/service objet du stage | D21: 2 | F21: =SUM(E18:E21) -> 0 | G21: =(F21*100)/C17 -> 0
B23: LE STAGE | C23: 12
B24: Description de la mission : tâches, outils de travail… | D24: 2
B25: Récit de la mission : réalisations du stagiaire, facilités et difficultés rencontrées, solutions apportées… | D25: 4
B26: Exemples commentés | D26: 3
B27: Bilan du stage : enseignements (techniques, humains…) ; perspectives de professionnalisation ; effets concrets de cette mission pour l'entreprise | D27: 3 | F27: =SUM(E24:E27) -> 0 | G27: =(F27*100)/C23 -> 0
H29: Remarque :
B30: Note (forme + fond) | C30: 20 | D30: 40 | E30: =((SUM(E18:E27))+(SUM(E4:E13)))/2 -> 0
B32: Nom du stagiaire
B34: Prénom du stagiaire
B36: E-mail / login

Sheet eleve42
C1: Barème | E1: Note du stagiaire | F1: Total interm. | G1: % de réussite | H1: Remarque
A2: FORME
B3: PRESENTATION | C3: 8
B4: Ergonomie du document (nom + login, noms de l'entreprise, date de stage, résumé ; document unique identifiable ; sommaire, remerciements...) | D4: 1
B5: Orthographe-grammaire | D5: 3
B6: Style | D6: 2
B7: Qualité visuelle (aspect graphique, lisibilité...) | D7: 2 | F7: =SUM(E4:E7) -> 0 | G7: =(F7*100)/C3 -> 0
B9: ARGUMENTATION | C9: 10
B10: Pertinence (juste volume d'informations, pas de contradictions, de hors-sujet, images bien choisies...) | D10: 3
B11: Clarté (indépendamment du niveau de technicité du sujet) | D11: 3
B12: Organisation (ordre des arguments, pertinence des subdivisions ; pas de redites...) | D12: 2
B13: Outils rhétoriques (utilisation de titres, de liaisons entre les paragraphes ; grandes transitions entre subdivisions...) | D13: 2 | F13: =SUM(E10:E13) -> 0 | G13: =(F13*100)/C9 -> 0
A16: FOND
B17: CONTEXTE | C17: 10
B18: Présentation de l'entreprise : secteur, marché, clients, historique… | D18: 2
B19: Activité et organisation de l'entreprise : produits et évolutions | D19: 3
B20: L'equipe de travail (organisation, rôle du stagiaire...) | D20: 3
B21: Le produit/service objet du stage | D21: 2 | F21: =SUM(E18:E21) -> 0 | G21: =(F21*100)/C17 -> 0
B23: LE STAGE | C23: 12
B24: Description de la mission : tâches, outils de travail… | D24: 2
B25: Récit de la mission : réalisations du stagiaire, facilités et difficultés rencontrées, solutions apportées… | D25: 4
B26: Exemples commentés | D26: 3
B27: Bilan du stage : enseignements (techniques, humains…) ; perspectives de professionnalisation ; effets concrets de cette mission pour l'entreprise | D27: 3 | F27: =SUM(E24:E27) -> 0 | G27: =(F27*100)/C23 -> 0
H29: Remarque :
B30: Note (forme + fond) | C30: 20 | D30: 40 | E30: =((SUM(E18:E27))+(SUM(E4:E13)))/2 -> 0
B32: Nom du stagiaire
B34: Prénom du stagiaire
B36: E-mail / login

Sheet eleve43
C1: Barème | E1: Note du stagiaire | F1: Total interm. | G1: % de réussite | H1: Remarque
A2: FORME
B3: PRESENTATION | C3: 8
B4: Ergonomie du document (nom + login, noms de l'entreprise, date de stage, résumé ; document unique identifiable ; sommaire, remerciements...) | D4: 1
B5: Orthographe-grammaire | D5: 3
B6: Style | D6: 2
B7: Qualité visuelle (aspect graphique, lisibilité...) | D7: 2 | F7: =SUM(E4:E7) -> 0 | G7: =(F7*100)/C3 -> 0
B9: ARGUMENTATION | C9: 10
B10: Pertinence (juste volume d'informations, pas de contradictions, de hors-sujet, images bien choisies...) | D10: 3
B11: Clarté (indépendamment du niveau de technicité du sujet) | D11: 3
B12: Organisation (ordre des arguments, pertinence des subdivisions ; pas de redites...) | D12: 2
B13: Outils rhétoriques (utilisation de titres, de liaisons entre les paragraphes ; grandes transitions entre subdivisions...) | D13: 2 | F13: =SUM(E10:E13) -> 0 | G13: =(F13*100)/C9 -> 0
A16: FOND
B17: CONTEXTE | C17: 10
B18: Présentation de l'entreprise : secteur, marché, clients, historique… | D18: 2
B19: Activité et organisation de l'entreprise : produits et évolutions | D19: 3
B20: L'equipe de travail (organisation, rôle du stagiaire...) | D20: 3
B21: Le produit/service objet du stage | D21: 2 | F21: =SUM(E18:E21) -> 0 | G21: =(F21*100)/C17 -> 0
B23: LE STAGE | C23: 12
B24: Description de la mission : tâches, outils de travail… | D24: 2
B25: Récit de la mission : réalisations du stagiaire, facilités et difficultés rencontrées, solutions apportées… | D25: 4
B26: Exemples commentés | D26: 3
B27: Bilan du stage : enseignements (techniques, humains…) ; perspectives de professionnalisation ; effets concrets de cette mission pour l'entreprise | D27: 3 | F27: =SUM(E24:E27) -> 0 | G27: =(F27*100)/C23 -> 0
H29: Remarque :
B30: Note (forme + fond) | C30: 20 | D30: 40 | E30: =((SUM(E18:E27))+(SUM(E4:E13)))/2 -> 0
B32: Nom du stagiaire
B34: Prénom du stagiaire
B36: E-mail / login

Sheet eleve44
C1: Barème | E1: Note du stagiaire | F1: Total interm. | G1: % de réussite | H1: Remarque
A2: FORME
B3: PRESENTATION | C3: 8
B4: Ergonomie du document (nom + login, noms de l'entreprise, date de stage, résumé ; document unique identifiable ; sommaire, remerciements...) | D4: 1
B5: Orthographe-grammaire | D5: 3
B6: Style | D6: 2
B7: Qualité visuelle (aspect graphique, lisibilité...) | D7: 2 | F7: =SUM(E4:E7) -> 0 | G7: =(F7*100)/C3 -> 0
B9: ARGUMENTATION | C9: 10
B10: Pertinence (juste volume d'informations, pas de contradictions, de hors-sujet, images bien choisies...) | D10: 3
B11: Clarté (indépendamment du niveau de technicité du sujet) | D11: 3
B12: Organisation (ordre des arguments, pertinence des subdivisions ; pas de redites...) | D12: 2
B13: Outils rhétoriques (utilisation de titres, de liaisons entre les paragraphes ; grandes transitions entre subdivisions...) | D13: 2 | F13: =SUM(E10:E13) -> 0 | G13: =(F13*100)/C9 -> 0
A16: FOND
B17: CONTEXTE | C17: 10
B18: Présentation de l'entreprise : secteur, marché, clients, historique… | D18: 2
B19: Activité et organisation de l'entreprise : produits et évolutions | D19: 3
B20: L'equipe de travail (organisation, rôle du stagiaire...) | D20: 3
B21: Le produit/service objet du stage | D21: 2 | F21: =SUM(E18:E21) -> 0 | G21: =(F21*100)/C17 -> 0
B23: LE STAGE | C23: 12
B24: Description de la mission : tâches, outils de travail… | D24: 2
B25: Récit de la mission : réalisations du stagiaire, facilités et difficultés rencontrées, solutions apportées… | D25: 4
B26: Exemples commentés | D26: 3
B27: Bilan du stage : enseignements (techniques, humains…) ; perspectives de professionnalisation ; effets concrets de cette mission pour l'entreprise | D27: 3 | F27: =SUM(E24:E27) -> 0 | G27: =(F27*100)/C23 -> 0
H29: Remarque :
B30: Note (forme + fond) | C30: 20 | D30: 40 | E30: =((SUM(E18:E27))+(SUM(E4:E13)))/2 -> 0
B32: Nom du stagiaire
B34: Prénom du stagiaire
B36: E-mail / login

Sheet eleve45
C1: Barème | E1: Note du stagiaire | F1: Total interm. | G1: % de réussite | H1: Remarque
A2: FORME
B3: PRESENTATION | C3: 8
B4: Ergonomie du document (nom + login, noms de l'entreprise, date de stage, résumé ; document unique identifiable ; sommaire, remerciements...) | D4: 1
B5: Orthographe-grammaire | D5: 3
B6: Style | D6: 2
B7: Qualité visuelle (aspect graphique, lisibilité...) | D7: 2 | F7: =SUM(E4:E7) -> 0 | G7: =(F7*100)/C3 -> 0
B9: ARGUMENTATION | C9: 10
B10: Pertinence (juste volume d'informations, pas de contradictions, de hors-sujet, images bien choisies...) | D10: 3
B11: Clarté (indépendamment du niveau de technicité du sujet) | D11: 3
B12: Organisation (ordre des arguments, pertinence des subdivisions ; pas de redites...) | D12: 2
B13: Outils rhétoriques (utilisation de titres, de liaisons entre les paragraphes ; grandes transitions entre subdivisions...) | D13: 2 | F13: =SUM(E10:E13) -> 0 | G13: =(F13*100)/C9 -> 0
A16: FOND
B17: CONTEXTE | C17: 10
B18: Présentation de l'entreprise : secteur, marché, clients, historique… | D18: 2
B19: Activité et organisation de l'entreprise : produits et évolutions | D19: 3
B20: L'equipe de travail (organisation, rôle du stagiaire...) | D20: 3
B21: Le produit/service objet du stage | D21: 2 | F21: =SUM(E18:E21) -> 0 | G21: =(F21*100)/C17 -> 0
B23: LE STAGE | C23: 12
B24: Description de la mission : tâches, outils de travail… | D24: 2
B25: Récit de la mission : réalisations du stagiaire, facilités et difficultés rencontrées, solutions apportées… | D25: 4
B26: Exemples commentés | D26: 3
B27: Bilan du stage : enseignements (techniques, humains…) ; perspectives de professionnalisation ; effets concrets de cette mission pour l'entreprise | D27: 3 | F27: =SUM(E24:E27) -> 0 | G27: =(F27*100)/C23 -> 0
H29: Remarque :
B30: Note (forme + fond) | C30: 20 | D30: 40 | E30: =((SUM(E18:E27))+(SUM(E4:E13)))/2 -> 0
B32: Nom du stagiaire
B34: Prénom du stagiaire
B36: E-mail / login

Sheet eleve46
C1: Barème | E1: Note du stagiaire | F1: Total interm. | G1: % de réussite | H1: Remarque
A2: FORME
B3: PRESENTATION | C3: 8
B4: Ergonomie du document (nom + login, noms de l'entreprise, date de stage, résumé ; document unique identifiable ; sommaire, remerciements...) | D4: 1
B5: Orthographe-grammaire | D5: 3
B6: Style | D6: 2
B7: Qualité visuelle (aspect graphique, lisibilité...) | D7: 2 | F7: =SUM(E4:E7) -> 0 | G7: =(F7*100)/C3 -> 0
B9: ARGUMENTATION | C9: 10
B10: Pertinence (juste volume d'informations, pas de contradictions, de hors-sujet, images bien choisies...) | D10: 3
B11: Clarté (indépendamment du niveau de technicité du sujet) | D11: 3
B12: Organisation (ordre des arguments, pertinence des subdivisions ; pas de redites...) | D12: 2
B13: Outils rhétoriques (utilisation de titres, de liaisons entre les paragraphes ; grandes transitions entre subdivisions...) | D13: 2 | F13: =SUM(E10:E13) -> 0 | G13: =(F13*100)/C9 -> 0
A16: FOND
B17: CONTEXTE | C17: 10
B18: Présentation de l'entreprise : secteur, marché, clients, historique… | D18: 2
B19: Activité et organisation de l'entreprise : produits et évolutions | D19: 3
B20: L'equipe de travail (organisation, rôle du stagiaire...) | D20: 3
B21: Le produit/service objet du stage | D21: 2 | F21: =SUM(E18:E21) -> 0 | G21: =(F21*100)/C17 -> 0
B23: LE STAGE | C23: 12
B24: Description de la mission : tâches, outils de travail… | D24: 2
B25: Récit de la mission : réalisations du stagiaire, facilités et difficultés rencontrées, solutions apportées… | D25: 4
B26: Exemples commentés | D26: 3
B27: Bilan du stage : enseignements (techniques, humains…) ; perspectives de professionnalisation ; effets concrets de cette mission pour l'entreprise | D27: 3 | F27: =SUM(E24:E27) -> 0 | G27: =(F27*100)/C23 -> 0
H29: Remarque :
B30: Note (forme + fond) | C30: 20 | D30: 40 | E30: =((SUM(E18:E27))+(SUM(E4:E13)))/2 -> 0
B32: Nom du stagiaire
B34: Prénom du stagiaire
B36: E-mail / login

Sheet eleve47
C1: Barème | E1: Note du stagiaire | F1: Total interm. | G1: % de réussite | H1: Remarque
A2: FORME
B3: PRESENTATION | C3: 8
B4: Ergonomie du document (nom + login, noms de l'entreprise, date de stage, résumé ; document unique identifiable ; sommaire, remerciements...) | D4: 1
B5: Orthographe-grammaire | D5: 3
B6: Style | D6: 2
B7: Qualité visuelle (aspect graphique, lisibilité...) | D7: 2 | F7: =SUM(E4:E7) -> 0 | G7: =(F7*100)/C3 -> 0
B9: ARGUMENTATION | C9: 10
B10: Pertinence (juste volume d'informations, pas de contradictions, de hors-sujet, images bien choisies...) | D10: 3
B11: Clarté (indépendamment du niveau de technicité du sujet) | D11: 3
B12: Organisation (ordre des arguments, pertinence des subdivisions ; pas de redites...) | D12: 2
B13: Outils rhétoriques (utilisation de titres, de liaisons entre les paragraphes ; grandes transitions entre subdivisions...) | D13: 2 | F13: =SUM(E10:E13) -> 0 | G13: =(F13*100)/C9 -> 0
A16: FOND
B17: CONTEXTE | C17: 10
B18: Présentation de l'entreprise : secteur, marché, clients, historique… | D18: 2
B19: Activité et organisation de l'entreprise : produits et évolutions | D19: 3
B20: L'equipe de travail (organisation, rôle du stagiaire...) | D20: 3
B21: Le produit/service objet du stage | D21: 2 | F21: =SUM(E18:E21) -> 0 | G21: =(F21*100)/C17 -> 0
B23: LE STAGE | C23: 12
B24: Description de la mission : tâches, outils de travail… | D24: 2
B25: Récit de la mission : réalisations du stagiaire, facilités et difficultés rencontrées, solutions apportées… | D25: 4
B26: Exemples commentés | D26: 3
B27: Bilan du stage : enseignements (techniques, humains…) ; perspectives de professionnalisation ; effets concrets de cette mission pour l'entreprise | D27: 3 | F27: =SUM(E24:E27) -> 0 | G27: =(F27*100)/C23 -> 0
H29: Remarque :
B30: Note (forme + fond) | C30: 20 | D30: 40 | E30: =((SUM(E18:E27))+(SUM(E4:E13)))/2 -> 0
B32: Nom du stagiaire
B34: Prénom du stagiaire
B36: E-mail / login

Sheet eleve48
C1: Barème | E1: Note du stagiaire | F1: Total interm. | G1: % de réussite | H1: Remarque
A2: FORME
B3: PRESENTATION | C3: 8
B4: Ergonomie du document (nom + login, noms de l'entreprise, date de stage, résumé ; document unique identifiable ; sommaire, remerciements...) | D4: 1
B5: Orthographe-grammaire | D5: 3
B6: Style | D6: 2
B7: Qualité visuelle (aspect graphique, lisibilité...) | D7: 2 | F7: =SUM(E4:E7) -> 0 | G7: =(F7*100)/C3 -> 0
B9: ARGUMENTATION | C9: 10
B10: Pertinence (juste volume d'informations, pas de contradictions, de hors-sujet, images bien choisies...) | D10: 3
B11: Clarté (indépendamment du niveau de technicité du sujet) | D11: 3
B12: Organisation (ordre des arguments, pertinence des subdivisions ; pas de redites...) | D12: 2
B13: Outils rhétoriques (utilisation de titres, de liaisons entre les paragraphes ; grandes transitions entre subdivisions...) | D13: 2 | F13: =SUM(E10:E13) -> 0 | G13: =(F13*100)/C9 -> 0
A16: FOND
B17: CONTEXTE | C17: 10
B18: Présentation de l'entreprise : secteur, marché, clients, historique… | D18: 2
B19: Activité et organisation de l'entreprise : produits et évolutions | D19: 3
B20: L'equipe de travail (organisation, rôle du stagiaire...) | D20: 3
B21: Le produit/service objet du stage | D21: 2 | F21: =SUM(E18:E21) -> 0 | G21: =(F21*100)/C17 -> 0
B23: LE STAGE | C23: 12
B24: Description de la mission : tâches, outils de travail… | D24: 2
B25: Récit de la mission : réalisations du stagiaire, facilités et difficultés rencontrées, solutions apportées… | D25: 4
B26: Exemples commentés | D26: 3
B27: Bilan du stage : enseignements (techniques, humains…) ; perspectives de professionnalisation ; effets concrets de cette mission pour l'entreprise | D27: 3 | F27: =SUM(E24:E27) -> 0 | G27: =(F27*100)/C23 -> 0
H29: Remarque :
B30: Note (forme + fond) | C30: 20 | D30: 40 | E30: =((SUM(E18:E27))+(SUM(E4:E13)))/2 -> 0
B32: Nom du stagiaire
B34: Prénom du stagiaire
B36: E-mail / login

Sheet eleve49
C1: Barème | E1: Note du stagiaire | F1: Total interm. | G1: % de réussite | H1: Remarque
A2: FORME
B3: PRESENTATION | C3: 8
B4: Ergonomie du document (nom + login, noms de l'entreprise, date de stage, résumé ; document unique identifiable ; sommaire, remerciements...) | D4: 1
B5: Orthographe-grammaire | D5: 3
B6: Style | D6: 2
B7: Qualité visuelle (aspect graphique, lisibilité...) | D7: 2 | F7: =SUM(E4:E7) -> 0 | G7: =(F7*100)/C3 -> 0
B9: ARGUMENTATION | C9: 10
B10: Pertinence (juste volume d'informations, pas de contradictions, de hors-sujet, images bien choisies...) | D10: 3
B11: Clarté (indépendamment du niveau de technicité du sujet) | D11: 3
B12: Organisation (ordre des arguments, pertinence des subdivisions ; pas de redites...) | D12: 2
B13: Outils rhétoriques (utilisation de titres, de liaisons entre les paragraphes ; grandes transitions entre subdivisions...) | D13: 2 | F13: =SUM(E10:E13) -> 0 | G13: =(F13*100)/C9 -> 0
A16: FOND
B17: CONTEXTE | C17: 10
B18: Présentation de l'entreprise : secteur, marché, clients, historique… | D18: 2
B19: Activité et organisation de l'entreprise : produits et évolutions | D19: 3
B20: L'equipe de travail (organisation, rôle du stagiaire...) | D20: 3
B21: Le produit/service objet du stage | D21: 2 | F21: =SUM(E18:E21) -> 0 | G21: =(F21*100)/C17 -> 0
B23: LE STAGE | C23: 12
B24: Description de la mission : tâches, outils de travail… | D24: 2
B25: Récit de la mission : réalisations du stagiaire, facilités et difficultés rencontrées, solutions apportées… | D25: 4
B26: Exemples commentés | D26: 3
B27: Bilan du stage : enseignements (techniques, humains…) ; perspectives de professionnalisation ; effets concrets de cette mission pour l'entreprise | D27: 3 | F27: =SUM(E24:E27) -> 0 | G27: =(F27*100)/C23 -> 0
H29: Remarque :
B30: Note (forme + fond) | C30: 20 | D30: 40 | E30: =((SUM(E18:E27))+(SUM(E4:E13)))/2 -> 0
B32: Nom du stagiaire
B34: Prénom du stagiaire
B36: E-mail / login

Sheet eleve50
C1: Barème | E1: Note du stagiaire | F1: Total interm. | G1: % de réussite | H1: Remarque
A2: FORME
B3: PRESENTATION | C3: 8
B4: Ergonomie du document (nom + login, noms de l'entreprise, date de stage, résumé ; document unique identifiable ; sommaire, remerciements...) | D4: 1
B5: Orthographe-grammaire | D5: 3
B6: Style | D6: 2
B7: Qualité visuelle (aspect graphique, lisibilité...) | D7: 2 | F7: =SUM(E4:E7) -> 0 | G7: =(F7*100)/C3 -> 0
B9: ARGUMENTATION | C9: 10
B10: Pertinence (juste volume d'informations, pas de contradictions, de hors-sujet, images bien choisies...) | D10: 3
B11: Clarté (indépendamment du niveau de technicité du sujet) | D11: 3
B12: Organisation (ordre des arguments, pertinence des subdivisions ; pas de redites...) | D12: 2
B13: Outils rhétoriques (utilisation de titres, de liaisons entre les paragraphes ; grandes transitions entre subdivisions...) | D13: 2 | F13: =SUM(E10:E13) -> 0 | G13: =(F13*100)/C9 -> 0
A16: FOND
B17: CONTEXTE | C17: 10
B18: Présentation de l'entreprise : secteur, marché, clients, historique… | D18: 2
B19: Activité et organisation de l'entreprise : produits et évolutions | D19: 3
B20: L'equipe de travail (organisation, rôle du stagiaire...) | D20: 3
B21: Le produit/service objet du stage | D21: 2 | F21: =SUM(E18:E21) -> 0 | G21: =(F21*100)/C17 -> 0
B23: LE STAGE | C23: 12
B24: Description de la mission : tâches, outils de travail… | D24: 2
B25: Récit de la mission : réalisations du stagiaire, facilités et difficultés rencontrées, solutions apportées… | D25: 4
B26: Exemples commentés | D26: 3
B27: Bilan du stage : enseignements (techniques, humains…) ; perspectives de professionnalisation ; effets concrets de cette mission pour l'entreprise | D27: 3 | F27: =SUM(E24:E27) -> 0 | G27: =(F27*100)/C23 -> 0
H29: Remarque :
B30: Note (forme + fond) | C30: 20 | D30: 40 | E30: =((SUM(E18:E27))+(SUM(E4:E13)))/2 -> 0
B32: Nom du stagiaire
B34: Prénom du stagiaire
B36: E-mail / login

Sheet eleve51
C1: Barème | E1: Note du stagiaire | F1: Total interm. | G1: % de réussite | H1: Remarque
A2: FORME
B3: PRESENTATION | C3: 8
B4: Ergonomie du document (nom + login, noms de l'entreprise, date de stage, résumé ; document unique identifiable ; sommaire, remerciements...) | D4: 1
B5: Orthographe-grammaire | D5: 3
B6: Style | D6: 2
B7: Qualité visuelle (aspect graphique, lisibilité...) | D7: 2 | F7: =SUM(E4:E7) -> 0 | G7: =(F7*100)/C3 -> 0
B9: ARGUMENTATION | C9: 10
B10: Pertinence (juste volume d'informations, pas de contradictions, de hors-sujet, images bien choisies...) | D10: 3
B11: Clarté (indépendamment du niveau de technicité du sujet) | D11: 3
B12: Organisation (ordre des arguments, pertinence des subdivisions ; pas de redites...) | D12: 2
B13: Outils rhétoriques (utilisation de titres, de liaisons entre les paragraphes ; grandes transitions entre subdivisions...) | D13: 2 | F13: =SUM(E10:E13) -> 0 | G13: =(F13*100)/C9 -> 0
A16: FOND
B17: CONTEXTE | C17: 10
B18: Présentation de l'entreprise : secteur, marché, clients, historique… | D18: 2
B19: Activité et organisation de l'entreprise : produits et évolutions | D19: 3
B20: L'equipe de travail (organisation, rôle du stagiaire...) | D20: 3
B21: Le produit/service objet du stage | D21: 2 | F21: =SUM(E18:E21) -> 0 | G21: =(F21*100)/C17 -> 0
B23: LE STAGE | C23: 12
B24: Description de la mission : tâches, outils de travail… | D24: 2
B25: Récit de la mission : réalisations du stagiaire, facilités et difficultés rencontrées, solutions apportées… | D25: 4
B26: Exemples commentés | D26: 3
B27: Bilan du stage : enseignements (techniques, humains…) ; perspectives de professionnalisation ; effets concrets de cette mission pour l'entreprise | D27: 3 | F27: =SUM(E24:E27) -> 0 | G27: =(F27*100)/C23 -> 0
H29: Remarque :
B30: Note (forme + fond) | C30: 20 | D30: 40 | E30: =((SUM(E18:E27))+(SUM(E4:E13)))/2 -> 0
B32: Nom du stagiaire
B34: Prénom du stagiaire
B36: E-mail / login

Sheet eleve52
C1: Barème | E1: Note du stagiaire | F1: Total interm. | G1: % de réussite | H1: Remarque
A2: FORME
B3: PRESENTATION | C3: 8
B4: Ergonomie du document (nom + login, noms de l'entreprise, date de stage, résumé ; document unique identifiable ; sommaire, remerciements...) | D4: 1
B5: Orthographe-grammaire | D5: 3
B6: Style | D6: 2
B7: Qualité visuelle (aspect graphique, lisibilité...) | D7: 2 | F7: =SUM(E4:E7) -> 0 | G7: =(F7*100)/C3 -> 0
B9: ARGUMENTATION | C9: 10
B10: Pertinence (juste volume d'informations, pas de contradictions, de hors-sujet, images bien choisies...) | D10: 3
B11: Clarté (indépendamment du niveau de technicité du sujet) | D11: 3
B12: Organisation (ordre des arguments, pertinence des subdivisions ; pas de redites...) | D12: 2
B13: Outils rhétoriques (utilisation de titres, de liaisons entre les paragraphes ; grandes transitions entre subdivisions...) | D13: 2 | F13: =SUM(E10:E13) -> 0 | G13: =(F13*100)/C9 -> 0
A16: FOND
B17: CONTEXTE | C17: 10
B18: Présentation de l'entreprise : secteur, marché, clients, historique… | D18: 2
B19: Activité et organisation de l'entreprise : produits et évolutions | D19: 3
B20: L'equipe de travail (organisation, rôle du stagiaire...) | D20: 3
B21: Le produit/service objet du stage | D21: 2 | F21: =SUM(E18:E21) -> 0 | G21: =(F21*100)/C17 -> 0
B23: LE STAGE | C23: 12
B24: Description de la mission : tâches, outils de travail… | D24: 2
B25: Récit de la mission : réalisations du stagiaire, facilités et difficultés rencontrées, solutions apportées… | D25: 4
B26: Exemples commentés | D26: 3
B27: Bilan du stage : enseignements (techniques, humains…) ; perspectives de professionnalisation ; effets concrets de cette mission pour l'entreprise | D27: 3 | F27: =SUM(E24:E27) -> 0 | G27: =(F27*100)/C23 -> 0
H29: Remarque :
B30: Note (forme + fond) | C30: 20 | D30: 40 | E30: =((SUM(E18:E27))+(SUM(E4:E13)))/2 -> 0
B32: Nom du stagiaire
B34: Prénom du stagiaire
B36: E-mail / login

Sheet eleve53
C1: Barème | E1: Note du stagiaire | F1: Total interm. | G1: % de réussite | H1: Remarque
A2: FORME
B3: PRESENTATION | C3: 8
B4: Ergonomie du document (nom + login, noms de l'entreprise, date de stage, résumé ; document unique identifiable ; sommaire, remerciements...) | D4: 1
B5: Orthographe-grammaire | D5: 3
B6: Style | D6: 2
B7: Qualité visuelle (aspect graphique, lisibilité...) | D7: 2 | F7: =SUM(E4:E7) -> 0 | G7: =(F7*100)/C3 -> 0
B9: ARGUMENTATION | C9: 10
B10: Pertinence (juste volume d'informations, pas de contradictions, de hors-sujet, images bien choisies...) | D10: 3
B11: Clarté (indépendamment du niveau de technicité du sujet) | D11: 3
B12: Organisation (ordre des arguments, pertinence des subdivisions ; pas de redites...) | D12: 2
B13: Outils rhétoriques (utilisation de titres, de liaisons entre les paragraphes ; grandes transitions entre subdivisions...) | D13: 2 | F13: =SUM(E10:E13) -> 0 | G13: =(F13*100)/C9 -> 0
A16: FOND
B17: CONTEXTE | C17: 10
B18: Présentation de l'entreprise : secteur, marché, clients, historique… | D18: 2
B19: Activité et organisation de l'entreprise : produits et évolutions | D19: 3
B20: L'equipe de travail (organisation, rôle du stagiaire...) | D20: 3
B21: Le produit/service objet du stage | D21: 2 | F21: =SUM(E18:E21) -> 0 | G21: =(F21*100)/C17 -> 0
B23: LE STAGE | C23: 12
B24: Description de la mission : tâches, outils de travail… | D24: 2
B25: Récit de la mission : réalisations du stagiaire, facilités et difficultés rencontrées, solutions apportées… | D25: 4
B26: Exemples commentés | D26: 3
B27: Bilan du stage : enseignements (techniques, humains…) ; perspectives de professionnalisation ; effets concrets de cette mission pour l'entreprise | D27: 3 | F27: =SUM(E24:E27) -> 0 | G27: =(F27*100)/C23 -> 0
H29: Remarque :
B30: Note (forme + fond) | C30: 20 | D30: 40 | E30: =((SUM(E18:E27))+(SUM(E4:E13)))/2 -> 0
B32: Nom du stagiaire
B34: Prénom du stagiaire
B36: E-mail / login
