Workbook

Sheet base
A1: Identifiant | B1: pat_ipp | C1: pat_nom | D1: pat_nomjf | E1: pat_prenom | F1: pat_sexe | G1: pat_ddn | H1: age | I1: csmt_date | J1: csmt_collect_donnees | K1: csmt_sang | L1: csmt_genetique | M1: csmt_reutil_sang | N1: date_visite | O1: diag_type | P1: diag_date | Q1: diag_date_nc | R1: rayn_date | S1: rayn_date_nc | T1: rayn_delai | U1: pshr_date | V1: pshr_date_nc | W1: pid | X1: pid_diag_an | Y1: pid_etendue | Z1: htp_kt | AA1: htp_type | AB1: htp_gpe_5_p | AC1: htp_diag_date | AD1: ttt_ant_cortico_is | AE1: ttt_ant_vaso | AF1: ttt_cortico | AG1: ttt_cortico_nom | AH1: ttt_cortico_poso | AI1: ttt_cortico_voie | AJ1: ttt_cyclo | AK1: ttt_cyclo_poso_mg | AL1: ttt_cyclo_poso_sem | AM1: ttt_cyclo_voie | AN1: ttt_mmf_mpa | AO1: ttt_mmf_mpa_nom | AP1: ttt_mmf_mpa_poso | AQ1: ttt_aza | AR1: ttt_aza_nom | AS1: ttt_aza_poso | AT1: ttt_aza_voie | AU1: ttt_metho | AV1: ttt_metho_nom | AW1: ttt_metho_poso | AX1: ttt_metho_voie | AY1: ttt_anti_calci | AZ1: ttt_anti_calci_nom | BA1: ttt_anti_calci_poso | BB1: ttt_d_penicill | BC1: ttt_d_penicill_nom | BD1: ttt_d_penicill_poso | BE1: ttt_anti_palu | BF1: ttt_anti_palu_nom | BG1: ttt_anti_palu_poso_js | BH1: ttt_anti_palu_poso_mg | BI1: ttt_igiv_subs | BJ1: ttt_igiv_subs_nom | BK1: ttt_igiv_subs_poso_text | BL1: ttt_igiv_subs_voie | BM1: ttt_igiv_immuno | BN1: ttt_igiv_immuno_nom | BO1: ttt_igiv_immuno_poso_text | BP1: ttt_igiv_immuno_voie | BQ1: ttt_anticd20 | BR1: ttt_anti_cd20_nom | BS1: ttt_anti_cd20_poso_text | BT1: ttt_anti_tnf | BU1: ttt_anti_tnf_nom | BV1: ttt_anti_tnf_poso_text | BW1: ttt_anti_tnf_voie | BX1: ttt_anti_il6 | BY1: ttt_anti_il6_nom | BZ1: ttt_anti_il6_poso_text | CA1: ttt_anti_il6_voie | CB1: ttt_inhib_calc | CC1: ttt_inhib_calc_nom | CD1: ttt_inhib_calc_poso_text | CE1: ttt_iec_ara2 | CF1: ttt_iec_ara2_nom | CG1: ttt_iec_ara2_poso_text | CH1: ttt_diuretiques | CI1: ttt_diuretiques_nom | CJ1: ttt_diuretiques_poso_text | CK1: ttt_diuretiques_voie | CL1: ttt_b_bloquant | CM1: ttt_b_bloquant_nom | CN1: ttt_b_bloquant_poso_text | CO1: ttt_ipde5 | CP1: ttt_ipde5_nom | CQ1: ttt_ipde5_poso_text | CR1: ttt_anti_recep_endo | CS1: ttt_anti_recep_endo_nom | CT1: ttt_anti_recep_endo_poso_text | CU1: ttt_prostacycl | CV1: ttt_prostacycl_nom | CW1: ttt_prostacycl_poso_text | CX1: ttt_prostacycl_voie | CY1: ttt_inhib_guanyl | CZ1: ttt_inhib_guanyl_nom | DA1: ttt_inhib_guanyl_poso_text | DB1: scan_fait | DC1: scan_date | DD1: scan_pid | DE1: scan_pid_etendue | DF1: ett_fait | DG1: ett_date | DH1: htp_ett | DI1: gpe1 | DJ1: gpe2 | DK1: gpe3 | DL1: gpe4 | DM1: gpe5 | DN1: gpe6 | DO1: gpe7 | DP1: gpe8 | DQ1: gpe9 | DR1: gpe10 | DS1: gpe11 | DT1: gpe12 | DU1: gpe13 | DV1: gpe14 | DW1: gpe15 | DX1: gpe16 | DY1: gpe17 | DZ1: gpe18 | EA1: gpe19 | EB1: gpe20
A2: 194 | B2: 1 | C2: nom1 | D2: pat1 | E2: pre1 | F2: Homme | G2: 1947-07-29 | H2: 73 | I2: 2020-09-17 | J2: Oui | K2: Oui | L2: Oui | M2: Oui | N2: 2020-09-17 | O2: SSc cutanée diffuse | P2: 2020 | R2: 2015 | T2: =YEAR(N2)-R2 -> 5 | U2: 2015 | W2: Oui | X2: 2020 | Y2: PID limitée | Z2: Oui | AA2: groupe 1 (hypertension artérielle pulmonaire) | AC2: 2020 | AD2: Non | AE2: Non | CL2: oui | CM2: BISOPROLOL | CN2: 5 | CO2: oui | CP2: TADALAFIL | CQ2: 40 | DB2: Fait | DC2: 2020-09-15 | DD2: Oui | DE2: Ne sait pas | DF2: Non fait | DI2: =IF(AND($T2>3,$O2="SSc cutanée limitée",$W2="Non",$Z2="Non"),1,0) -> 0 | DJ2: =IF(AND($T2>3,$O2="SSc cutanée limitée",$W2="Oui",$Y2="PID limitée",$Z2="Non"),1,0) -> 0 | DK2: =IF(AND($T2>3,$O2="SSc cutanée limitée",$W2="Oui",$Y2="PID extensive",$Z2="Non"),1,0) -> 0 | DL2: =IF(AND($T2>3,$O2="SSc cutanée limitée",$W2="Non",$Z2="Oui"),1,0) -> 0 | DM2: =IF(AND($T2>3,$O2="SSc cutanée limitée",$W2="Oui",$Z2="Oui"),1,0) -> 0 | DN2: =IF(AND($T2>3,$O2="SSc cutanée diffuse",$W2="Non",$Z2="Non"),1,0) -> 0 | DO2: =IF(AND($T2>3,$O2="SSc cutanée diffuse",$W2="Oui",$Y2="PID limitée",$Z2="Non"),1,0) -> 0 | DP2: =IF(AND($T2>3,$O2="SSc cutanée diffuse",$W2="Oui",$Y2="PID extensive",$Z2="Non"),1,0) -> 0 | DQ2: =IF(AND($T2>3,$O2="SSc cutanée diffuse",$W2="Non",$Z2="Oui"),1,0) -> 0 | DR2: =IF(AND($T2>3,$O2="SSc cutanée diffuse",$W2="Oui",$Z2="Oui"),1,0) -> 1 | DS2: =IF(AND($T2<=3,$O2="SSc cutanée limitée",$W2="Non",$Z2="Non"),1,0) -> 0 | DT2: =IF(AND($T2<=3,$O2="SSc cutanée limitée",$W2="Oui",$Y2="PID limitée",$Z2="Non"),1,0) -> 0 | DU2: =IF(AND($T2<=3,$O2="SSc cutanée limitée",$W2="Oui",$Y2="PID extensive",$Z2="Non"),1,0) -> 0 | DV2: =IF(AND($T2<=3,$O2="SSc cutanée limitée",$W2="Non",$Z2="Oui"),1,0) -> 0 | DW2: =IF(AND($T2<=3,$O2="SSc cutanée limitée",$W2="Oui",$Z2="Oui"),1,0) -> 0 | DX2: =IF(AND($T2<=3,$O2="SSc cutanée diffuse",$W2="Non",$Z2="Non"),1,0) -> 0 | DY2: =IF(AND($T2<=3,$O2="SSc cutanée diffuse",$W2="Oui",$Y2="PID limitée",$Z2="Non"),1,0) -> 0 | DZ2: =IF(AND($T2<=3,$O2="SSc cutanée diffuse",$W2="Oui",$Y2="PID extensive",$Z2="Non"),1,0) -> 0 | EA2: =IF(AND($T2<=3,$O2="SSc cutanée diffuse",$W2="Non",$Z2="Oui"),1,0) -> 0 | EB2: =IF(AND($T2<=3,$O2="SSc cutanée diffuse",$W2="Oui",$Z2="Oui"),1,0) -> 0
A3: 229 | B3: 1 | C3: nom2 | D3: pat2 | E3: pre2 | F3: Homme | G3: 1948-07-23 | H3: 72 | I3: 2020-12-23 | J3: Oui | K3: Oui | L3: Oui | M3: Oui | N3: 2020-12-23 | O3: SSc cutanée diffuse | P3: 2011 | R3: 2011 | T3: =YEAR(N3)-R3 -> 9 | U3: 2011 | W3: Oui | X3: 2011 | Y3: PID limitée | Z3: Non | AD3: Non | AE3: Oui | AF3: oui | AN3: oui | AO3: MYFORTIC | AP3: 720 | BE3: oui | BF3: PLAQUENIL | BG3: 7 | BH3: 200 | CB3: oui | CC3: Amlodipine | CD3: 5 | DC3: 2020-12-23 | DG3: 2020-12-23 | DI3: =IF(AND(T3>3,O3="SSc cutanée limitée",W3="Non",Z3="Non"),1,0) -> 0 | DJ3: =IF(AND(T3>3,O3="SSc cutanée limitée",W3="Oui",Y3="PID limitée",Z3="Non"),1,0) -> 0 | DK3: =IF(AND(T3>3,O3="SSc cutanée limitée",W3="Oui",Y3="PID extensive",Z3="Non"),1,0) -> 0 | DL3: =IF(AND(T3>3,O3="SSc cutanée limitée",W3="Non",Z3="Oui"),1,0) -> 0 | DM3: =IF(AND(T3>3,O3="SSc cutanée limitée",W3="Oui",Z3="Oui"),1,0) -> 0 | DN3: =IF(AND($T3>3,$O3="SSc cutanée diffuse",$W3="Non",$Z3="Non"),1,0) -> 0 | DO3: =IF(AND($T3>3,$O3="SSc cutanée diffuse",$W3="Oui",$Y3="PID limitée",$Z3="Non"),1,0) -> 1 | DP3: =IF(AND($T3>3,$O3="SSc cutanée diffuse",$W3="Oui",$Y3="PID extensive",$Z3="Non"),1,0) -> 0 | DQ3: =IF(AND($T3>3,$O3="SSc cutanée diffuse",$W3="Non",$Z3="Oui"),1,0) -> 0 | DR3: =IF(AND($T3>3,$O3="SSc cutanée diffuse",$W3="Oui",$Z3="Oui"),1,0) -> 0 | DS3: =IF(AND($T3<=3,$O3="SSc cutanée limitée",$W3="Non",$Z3="Non"),1,0) -> 0 | DT3: =IF(AND($T3<=3,$O3="SSc cutanée limitée",$W3="Oui",$Y3="PID limitée",$Z3="Non"),1,0) -> 0 | DU3: =IF(AND($T3<=3,$O3="SSc cutanée limitée",$W3="Oui",$Y3="PID extensive",$Z3="Non"),1,0) -> 0 | DV3: =IF(AND($T3<=3,$O3="SSc cutanée limitée",$W3="Non",$Z3="Oui"),1,0) -> 0 | DW3: =IF(AND($T3<=3,$O3="SSc cutanée limitée",$W3="Oui",$Z3="Oui"),1,0) -> 0 | DX3: =IF(AND($T3<=3,$O3="SSc cutanée diffuse",$W3="Non",$Z3="Non"),1,0) -> 0 | DY3: =IF(AND($T3<=3,$O3="SSc cutanée diffuse",$W3="Oui",$Y3="PID limitée",$Z3="Non"),1,0) -> 0 | DZ3: =IF(AND($T3<=3,$O3="SSc cutanée diffuse",$W3="Oui",$Y3="PID extensive",$Z3="Non"),1,0) -> 0 | EA3: =IF(AND($T3<=3,$O3="SSc cutanée diffuse",$W3="Non",$Z3="Oui"),1,0) -> 0 | EB3: =IF(AND($T3<=3,$O3="SSc cutanée diffuse",$W3="Oui",$Z3="Oui"),1,0) -> 0
A4: 229 | B4: 1 | C4: nom3 | D4: pat3 | E4: pre3 | F4: Homme | G4: 1948-07-23 | H4: 73 | I4: 2020-12-23 | J4: Oui | K4: Oui | L4: Oui | M4: Oui | N4: 2021-10-07 | O4: SSc cutanée diffuse | P4: 2011 | R4: 2011 | T4: =YEAR(N4)-R4 -> 10 | U4: 2011 | W4: Oui | X4: 2011 | Y4: PID limitée | Z4: Non | AF4: oui | AN4: oui | CB4: oui | DB4: Non fait | DC4: 2021-10-07 | DF4: Fait | DG4: 2021-10-07 | DI4: =IF(AND(T4>3,O4="SSc cutanée limitée",W4="Non",Z4="Non"),1,0) -> 0 | DJ4: =IF(AND(T4>3,O4="SSc cutanée limitée",W4="Oui",Y4="PID limitée",Z4="Non"),1,0) -> 0 | DK4: =IF(AND(T4>3,O4="SSc cutanée limitée",W4="Oui",Y4="PID extensive",Z4="Non"),1,0) -> 0 | DL4: =IF(AND(T4>3,O4="SSc cutanée limitée",W4="Non",Z4="Oui"),1,0) -> 0 | DM4: =IF(AND(T4>3,O4="SSc cutanée limitée",W4="Oui",Z4="Oui"),1,0) -> 0 | DN4: =IF(AND($T4>3,$O4="SSc cutanée diffuse",$W4="Non",$Z4="Non"),1,0) -> 0 | DO4: =IF(AND($T4>3,$O4="SSc cutanée diffuse",$W4="Oui",$Y4="PID limitée",$Z4="Non"),1,0) -> 1 | DP4: =IF(AND($T4>3,$O4="SSc cutanée diffuse",$W4="Oui",$Y4="PID extensive",$Z4="Non"),1,0) -> 0 | DQ4: =IF(AND($T4>3,$O4="SSc cutanée diffuse",$W4="Non",$Z4="Oui"),1,0) -> 0 | DR4: =IF(AND($T4>3,$O4="SSc cutanée diffuse",$W4="Oui",$Z4="Oui"),1,0) -> 0 | DS4: =IF(AND($T4<=3,$O4="SSc cutanée limitée",$W4="Non",$Z4="Non"),1,0) -> 0 | DT4: =IF(AND($T4<=3,$O4="SSc cutanée limitée",$W4="Oui",$Y4="PID limitée",$Z4="Non"),1,0) -> 0 | DU4: =IF(AND($T4<=3,$O4="SSc cutanée limitée",$W4="Oui",$Y4="PID extensive",$Z4="Non"),1,0) -> 0 | DV4: =IF(AND($T4<=3,$O4="SSc cutanée limitée",$W4="Non",$Z4="Oui"),1,0) -> 0 | DW4: =IF(AND($T4<=3,$O4="SSc cutanée limitée",$W4="Oui",$Z4="Oui"),1,0) -> 0 | DX4: =IF(AND($T4<=3,$O4="SSc cutanée diffuse",$W4="Non",$Z4="Non"),1,0) -> 0 | DY4: =IF(AND($T4<=3,$O4="SSc cutanée diffuse",$W4="Oui",$Y4="PID limitée",$Z4="Non"),1,0) -> 0 | DZ4: =IF(AND($T4<=3,$O4="SSc cutanée diffuse",$W4="Oui",$Y4="PID extensive",$Z4="Non"),1,0) -> 0 | EA4: =IF(AND($T4<=3,$O4="SSc cutanée diffuse",$W4="Non",$Z4="Oui"),1,0) -> 0 | EB4: =IF(AND($T4<=3,$O4="SSc cutanée diffuse",$W4="Oui",$Z4="Oui"),1,0) -> 0
A5: 253 | B5: 1 | C5: nom4 | D5: pat4 | E5: pre4 | F5: Homme | G5: 1966-08-18 | H5: 55 | I5: 2021-02-17 | J5: Oui | K5: Oui | L5: Oui | M5: Oui | N5: 2021-02-17 | O5: SSc cutanée diffuse | P5: 2013 | R5: 2012 | T5: =YEAR(N5)-R5 -> 9 | U5: 2013 | W5: Oui | X5: 2016 | Y5: PID limitée | Z5: Non | AD5: Oui | AE5: Oui | AF5: oui | AN5: oui | AO5: CELLCEPT 500 | AP5: 2000 | CB5: oui | CC5: DILTIAZEM LP 90 | CD5: 180 | CE5: oui | CF5: RAMIPRIL 5 | CG5: 10 | DB5: Non fait | DF5: Fait | DG5: 2021-01-28 | DH5: Non | DI5: =IF(AND(T5>3,O5="SSc cutanée limitée",W5="Non",Z5="Non"),1,0) -> 0 | DJ5: =IF(AND(T5>3,O5="SSc cutanée limitée",W5="Oui",Y5="PID limitée",Z5="Non"),1,0) -> 0 | DK5: =IF(AND(T5>3,O5="SSc cutanée limitée",W5="Oui",Y5="PID extensive",Z5="Non"),1,0) -> 0 | DL5: =IF(AND(T5>3,O5="SSc cutanée limitée",W5="Non",Z5="Oui"),1,0) -> 0 | DM5: =IF(AND(T5>3,O5="SSc cutanée limitée",W5="Oui",Z5="Oui"),1,0) -> 0 | DN5: =IF(AND($T5>3,$O5="SSc cutanée diffuse",$W5="Non",$Z5="Non"),1,0) -> 0 | DO5: =IF(AND($T5>3,$O5="SSc cutanée diffuse",$W5="Oui",$Y5="PID limitée",$Z5="Non"),1,0) -> 1 | DP5: =IF(AND($T5>3,$O5="SSc cutanée diffuse",$W5="Oui",$Y5="PID extensive",$Z5="Non"),1,0) -> 0 | DQ5: =IF(AND($T5>3,$O5="SSc cutanée diffuse",$W5="Non",$Z5="Oui"),1,0) -> 0 | DR5: =IF(AND($T5>3,$O5="SSc cutanée diffuse",$W5="Oui",$Z5="Oui"),1,0) -> 0 | DS5: =IF(AND($T5<=3,$O5="SSc cutanée limitée",$W5="Non",$Z5="Non"),1,0) -> 0 | DT5: =IF(AND($T5<=3,$O5="SSc cutanée limitée",$W5="Oui",$Y5="PID limitée",$Z5="Non"),1,0) -> 0 | DU5: =IF(AND($T5<=3,$O5="SSc cutanée limitée",$W5="Oui",$Y5="PID extensive",$Z5="Non"),1,0) -> 0 | DV5: =IF(AND($T5<=3,$O5="SSc cutanée limitée",$W5="Non",$Z5="Oui"),1,0) -> 0 | DW5: =IF(AND($T5<=3,$O5="SSc cutanée limitée",$W5="Oui",$Z5="Oui"),1,0) -> 0 | DX5: =IF(AND($T5<=3,$O5="SSc cutanée diffuse",$W5="Non",$Z5="Non"),1,0) -> 0 | DY5: =IF(AND($T5<=3,$O5="SSc cutanée diffuse",$W5="Oui",$Y5="PID limitée",$Z5="Non"),1,0) -> 0 | DZ5: =IF(AND($T5<=3,$O5="SSc cutanée diffuse",$W5="Oui",$Y5="PID extensive",$Z5="Non"),1,0) -> 0 | EA5: =IF(AND($T5<=3,$O5="SSc cutanée diffuse",$W5="Non",$Z5="Oui"),1,0) -> 0 | EB5: =IF(AND($T5<=3,$O5="SSc cutanée diffuse",$W5="Oui",$Z5="Oui"),1,0) -> 0
A6: 255 | B6: 1 | C6: nom5 | D6: pat5 | E6: pre5 | F6: Femme | G6: 1965-04-06 | H6: 56 | I6: 2021-02-17 | J6: Oui | K6: Oui | L6: Oui | M6: Oui | T6: =YEAR(N6)-R6 -> 1900 | DI6: =IF(AND(T6>3,O6="SSc cutanée limitée",W6="Non",Z6="Non"),1,0) -> 0 | DJ6: =IF(AND(T6>3,O6="SSc cutanée limitée",W6="Oui",Y6="PID limitée",Z6="Non"),1,0) -> 0 | DK6: =IF(AND(T6>3,O6="SSc cutanée limitée",W6="Oui",Y6="PID extensive",Z6="Non"),1,0) -> 0 | DL6: =IF(AND(T6>3,O6="SSc cutanée limitée",W6="Non",Z6="Oui"),1,0) -> 0 | DM6: =IF(AND(T6>3,O6="SSc cutanée limitée",W6="Oui",Z6="Oui"),1,0) -> 0 | DN6: =IF(AND($T6>3,$O6="SSc cutanée diffuse",$W6="Non",$Z6="Non"),1,0) -> 0 | DO6: =IF(AND($T6>3,$O6="SSc cutanée diffuse",$W6="Oui",$Y6="PID limitée",$Z6="Non"),1,0) -> 0 | DP6: =IF(AND($T6>3,$O6="SSc cutanée diffuse",$W6="Oui",$Y6="PID extensive",$Z6="Non"),1,0) -> 0 | DQ6: =IF(AND($T6>3,$O6="SSc cutanée diffuse",$W6="Non",$Z6="Oui"),1,0) -> 0 | DR6: =IF(AND($T6>3,$O6="SSc cutanée diffuse",$W6="Oui",$Z6="Oui"),1,0) -> 0 | DS6: =IF(AND($T6<=3,$O6="SSc cutanée limitée",$W6="Non",$Z6="Non"),1,0) -> 0 | DT6: =IF(AND($T6<=3,$O6="SSc cutanée limitée",$W6="Oui",$Y6="PID limitée",$Z6="Non"),1,0) -> 0 | DU6: =IF(AND($T6<=3,$O6="SSc cutanée limitée",$W6="Oui",$Y6="PID extensive",$Z6="Non"),1,0) -> 0 | DV6: =IF(AND($T6<=3,$O6="SSc cutanée limitée",$W6="Non",$Z6="Oui"),1,0) -> 0 | DW6: =IF(AND($T6<=3,$O6="SSc cutanée limitée",$W6="Oui",$Z6="Oui"),1,0) -> 0 | DX6: =IF(AND($T6<=3,$O6="SSc cutanée diffuse",$W6="Non",$Z6="Non"),1,0) -> 0 | DY6: =IF(AND($T6<=3,$O6="SSc cutanée diffuse",$W6="Oui",$Y6="PID limitée",$Z6="Non"),1,0) -> 0 | DZ6: =IF(AND($T6<=3,$O6="SSc cutanée diffuse",$W6="Oui",$Y6="PID extensive",$Z6="Non"),1,0) -> 0 | EA6: =IF(AND($T6<=3,$O6="SSc cutanée diffuse",$W6="Non",$Z6="Oui"),1,0) -> 0 | EB6: =IF(AND($T6<=3,$O6="SSc cutanée diffuse",$W6="Oui",$Z6="Oui"),1,0) -> 0
A7: 261 | B7: 1 | C7: nom6 | D7: pat6 | E7: pre6 | F7: Femme | G7: 1969-08-05 | H7: 52 | I7: 2021-02-18 | J7: Oui | K7: Oui | L7: Oui | M7: Oui | N7: 2021-02-18 | O7: SSc cutanée diffuse | P7: 2020 | R7: 2017 | T7: =YEAR(N7)-R7 -> 4 | U7: 2019 | W7: Oui | X7: 2019 | Y7: PID extensive | Z7: Non | AD7: Oui | AE7: Oui | AF7: oui | AJ7: oui | AM7: IV | CB7: oui | CC7: AMLOR | CD7: 10 | DB7: Non fait | DF7: Non fait | DI7: =IF(AND(T7>3,O7="SSc cutanée limitée",W7="Non",Z7="Non"),1,0) -> 0 | DJ7: =IF(AND(T7>3,O7="SSc cutanée limitée",W7="Oui",Y7="PID limitée",Z7="Non"),1,0) -> 0 | DK7: =IF(AND(T7>3,O7="SSc cutanée limitée",W7="Oui",Y7="PID extensive",Z7="Non"),1,0) -> 0 | DL7: =IF(AND(T7>3,O7="SSc cutanée limitée",W7="Non",Z7="Oui"),1,0) -> 0 | DM7: =IF(AND(T7>3,O7="SSc cutanée limitée",W7="Oui",Z7="Oui"),1,0) -> 0 | DN7: =IF(AND($T7>3,$O7="SSc cutanée diffuse",$W7="Non",$Z7="Non"),1,0) -> 0 | DO7: =IF(AND($T7>3,$O7="SSc cutanée diffuse",$W7="Oui",$Y7="PID limitée",$Z7="Non"),1,0) -> 0 | DP7: =IF(AND($T7>3,$O7="SSc cutanée diffuse",$W7="Oui",$Y7="PID extensive",$Z7="Non"),1,0) -> 1 | DQ7: =IF(AND($T7>3,$O7="SSc cutanée diffuse",$W7="Non",$Z7="Oui"),1,0) -> 0 | DR7: =IF(AND($T7>3,$O7="SSc cutanée diffuse",$W7="Oui",$Z7="Oui"),1,0) -> 0 | DS7: =IF(AND($T7<=3,$O7="SSc cutanée limitée",$W7="Non",$Z7="Non"),1,0) -> 0 | DT7: =IF(AND($T7<=3,$O7="SSc cutanée limitée",$W7="Oui",$Y7="PID limitée",$Z7="Non"),1,0) -> 0 | DU7: =IF(AND($T7<=3,$O7="SSc cutanée limitée",$W7="Oui",$Y7="PID extensive",$Z7="Non"),1,0) -> 0 | DV7: =IF(AND($T7<=3,$O7="SSc cutanée limitée",$W7="Non",$Z7="Oui"),1,0) -> 0 | DW7: =IF(AND($T7<=3,$O7="SSc cutanée limitée",$W7="Oui",$Z7="Oui"),1,0) -> 0 | DX7: =IF(AND($T7<=3,$O7="SSc cutanée diffuse",$W7="Non",$Z7="Non"),1,0) -> 0 | DY7: =IF(AND($T7<=3,$O7="SSc cutanée diffuse",$W7="Oui",$Y7="PID limitée",$Z7="Non"),1,0) -> 0 | DZ7: =IF(AND($T7<=3,$O7="SSc cutanée diffuse",$W7="Oui",$Y7="PID extensive",$Z7="Non"),1,0) -> 0 | EA7: =IF(AND($T7<=3,$O7="SSc cutanée diffuse",$W7="Non",$Z7="Oui"),1,0) -> 0 | EB7: =IF(AND($T7<=3,$O7="SSc cutanée diffuse",$W7="Oui",$Z7="Oui"),1,0) -> 0
A8: 263 | B8: 1 | C8: nom7 | D8: pat7 | E8: pre7 | F8: Femme | G8: 1963-05-03 | H8: 58 | I8: 2021-02-19 | J8: Oui | K8: Oui | L8: Oui | M8: Oui | N8: 2021-02-19 | O8: SSc cutanée limitée | P8: 2018 | R8: 2014 | T8: =YEAR(N8)-R8 -> 7 | U8: 2018 | W8: Oui | X8: 2018 | Y8: PID extensive | Z8: Non | AD8: Non | AE8: Oui | AF8: oui | AN8: oui | AO8: CELLCEPT 500 | AP8: 1500 | CB8: oui | CC8: VERAPAMIL LP 240 | CD8: 240 | CE8: oui | CF8: VALSARTAN 160 | CG8: 160 | DB8: Non fait | DG8: 2021-04-29 | DI8: =IF(AND(T8>3,O8="SSc cutanée limitée",W8="Non",Z8="Non"),1,0) -> 0 | DJ8: =IF(AND(T8>3,O8="SSc cutanée limitée",W8="Oui",Y8="PID limitée",Z8="Non"),1,0) -> 0 | DK8: =IF(AND(T8>3,O8="SSc cutanée limitée",W8="Oui",Y8="PID extensive",Z8="Non"),1,0) -> 1 | DL8: =IF(AND(T8>3,O8="SSc cutanée limitée",W8="Non",Z8="Oui"),1,0) -> 0 | DM8: =IF(AND(T8>3,O8="SSc cutanée limitée",W8="Oui",Z8="Oui"),1,0) -> 0 | DN8: =IF(AND($T8>3,$O8="SSc cutanée diffuse",$W8="Non",$Z8="Non"),1,0) -> 0 | DO8: =IF(AND($T8>3,$O8="SSc cutanée diffuse",$W8="Oui",$Y8="PID limitée",$Z8="Non"),1,0) -> 0 | DP8: =IF(AND($T8>3,$O8="SSc cutanée diffuse",$W8="Oui",$Y8="PID extensive",$Z8="Non"),1,0) -> 0 | DQ8: =IF(AND($T8>3,$O8="SSc cutanée diffuse",$W8="Non",$Z8="Oui"),1,0) -> 0 | DR8: =IF(AND($T8>3,$O8="SSc cutanée diffuse",$W8="Oui",$Z8="Oui"),1,0) -> 0 | DS8: =IF(AND($T8<=3,$O8="SSc cutanée limitée",$W8="Non",$Z8="Non"),1,0) -> 0 | DT8: =IF(AND($T8<=3,$O8="SSc cutanée limitée",$W8="Oui",$Y8="PID limitée",$Z8="Non"),1,0) -> 0 | DU8: =IF(AND($T8<=3,$O8="SSc cutanée limitée",$W8="Oui",$Y8="PID extensive",$Z8="Non"),1,0) -> 0 | DV8: =IF(AND($T8<=3,$O8="SSc cutanée limitée",$W8="Non",$Z8="Oui"),1,0) -> 0 | DW8: =IF(AND($T8<=3,$O8="SSc cutanée limitée",$W8="Oui",$Z8="Oui"),1,0) -> 0 | DX8: =IF(AND($T8<=3,$O8="SSc cutanée diffuse",$W8="Non",$Z8="Non"),1,0) -> 0 | DY8: =IF(AND($T8<=3,$O8="SSc cutanée diffuse",$W8="Oui",$Y8="PID limitée",$Z8="Non"),1,0) -> 0 | DZ8: =IF(AND($T8<=3,$O8="SSc cutanée diffuse",$W8="Oui",$Y8="PID extensive",$Z8="Non"),1,0) -> 0 | EA8: =IF(AND($T8<=3,$O8="SSc cutanée diffuse",$W8="Non",$Z8="Oui"),1,0) -> 0 | EB8: =IF(AND($T8<=3,$O8="SSc cutanée diffuse",$W8="Oui",$Z8="Oui"),1,0) -> 0
A9: 265 | B9: 1 | C9: nom8 | D9: pat8 | E9: pre8 | F9: Femme | G9: 1967-06-09 | H9: 54 | I9: 2021-02-19 | J9: Oui | K9: Oui | L9: Oui | M9: Oui | N9: 2021-02-19 | O9: SSc cutanée limitée | P9: 2004 | R9: 2004 | T9: =YEAR(N9)-R9 -> 17 | U9: 2004 | W9: Non | Z9: Non | AD9: Non | AE9: Non | CR9: oui | CS9: TRACLEER 120 | CT9: 250 | DB9: Non fait | DG9: 2021-04-29 | DI9: =IF(AND(T9>3,O9="SSc cutanée limitée",W9="Non",Z9="Non"),1,0) -> 1 | DJ9: =IF(AND(T9>3,O9="SSc cutanée limitée",W9="Oui",Y9="PID limitée",Z9="Non"),1,0) -> 0 | DK9: =IF(AND(T9>3,O9="SSc cutanée limitée",W9="Oui",Y9="PID extensive",Z9="Non"),1,0) -> 0 | DL9: =IF(AND(T9>3,O9="SSc cutanée limitée",W9="Non",Z9="Oui"),1,0) -> 0 | DM9: =IF(AND(T9>3,O9="SSc cutanée limitée",W9="Oui",Z9="Oui"),1,0) -> 0 | DN9: =IF(AND($T9>3,$O9="SSc cutanée diffuse",$W9="Non",$Z9="Non"),1,0) -> 0 | DO9: =IF(AND($T9>3,$O9="SSc cutanée diffuse",$W9="Oui",$Y9="PID limitée",$Z9="Non"),1,0) -> 0 | DP9: =IF(AND($T9>3,$O9="SSc cutanée diffuse",$W9="Oui",$Y9="PID extensive",$Z9="Non"),1,0) -> 0 | DQ9: =IF(AND($T9>3,$O9="SSc cutanée diffuse",$W9="Non",$Z9="Oui"),1,0) -> 0 | DR9: =IF(AND($T9>3,$O9="SSc cutanée diffuse",$W9="Oui",$Z9="Oui"),1,0) -> 0 | DS9: =IF(AND($T9<=3,$O9="SSc cutanée limitée",$W9="Non",$Z9="Non"),1,0) -> 0 | DT9: =IF(AND($T9<=3,$O9="SSc cutanée limitée",$W9="Oui",$Y9="PID limitée",$Z9="Non"),1,0) -> 0 | DU9: =IF(AND($T9<=3,$O9="SSc cutanée limitée",$W9="Oui",$Y9="PID extensive",$Z9="Non"),1,0) -> 0 | DV9: =IF(AND($T9<=3,$O9="SSc cutanée limitée",$W9="Non",$Z9="Oui"),1,0) -> 0 | DW9: =IF(AND($T9<=3,$O9="SSc cutanée limitée",$W9="Oui",$Z9="Oui"),1,0) -> 0 | DX9: =IF(AND($T9<=3,$O9="SSc cutanée diffuse",$W9="Non",$Z9="Non"),1,0) -> 0 | DY9: =IF(AND($T9<=3,$O9="SSc cutanée diffuse",$W9="Oui",$Y9="PID limitée",$Z9="Non"),1,0) -> 0 | DZ9: =IF(AND($T9<=3,$O9="SSc cutanée diffuse",$W9="Oui",$Y9="PID extensive",$Z9="Non"),1,0) -> 0 | EA9: =IF(AND($T9<=3,$O9="SSc cutanée diffuse",$W9="Non",$Z9="Oui"),1,0) -> 0 | EB9: =IF(AND($T9<=3,$O9="SSc cutanée diffuse",$W9="Oui",$Z9="Oui"),1,0) -> 0
A10: 271 | B10: 1 | C10: nom9 | D10: pat9 | E10: pre9 | F10: Femme | G10: 1975-09-23 | H10: 46 | I10: 2021-03-01 | J10: Oui | K10: Oui | L10: Oui | M10: Oui | N10: 2021-03-01 | T10: =YEAR(N10)-R10 -> 2021 | DI10: =IF(AND(T10>3,O10="SSc cutanée limitée",W10="Non",Z10="Non"),1,0) -> 0 | DJ10: =IF(AND(T10>3,O10="SSc cutanée limitée",W10="Oui",Y10="PID limitée",Z10="Non"),1,0) -> 0 | DK10: =IF(AND(T10>3,O10="SSc cutanée limitée",W10="Oui",Y10="PID extensive",Z10="Non"),1,0) -> 0 | DL10: =IF(AND(T10>3,O10="SSc cutanée limitée",W10="Non",Z10="Oui"),1,0) -> 0 | DM10: =IF(AND(T10>3,O10="SSc cutanée limitée",W10="Oui",Z10="Oui"),1,0) -> 0 | DN10: =IF(AND($T10>3,$O10="SSc cutanée diffuse",$W10="Non",$Z10="Non"),1,0) -> 0 | DO10: =IF(AND($T10>3,$O10="SSc cutanée diffuse",$W10="Oui",$Y10="PID limitée",$Z10="Non"),1,0) -> 0 | DP10: =IF(AND($T10>3,$O10="SSc cutanée diffuse",$W10="Oui",$Y10="PID extensive",$Z10="Non"),1,0) -> 0 | DQ10: =IF(AND($T10>3,$O10="SSc cutanée diffuse",$W10="Non",$Z10="Oui"),1,0) -> 0 | DR10: =IF(AND($T10>3,$O10="SSc cutanée diffuse",$W10="Oui",$Z10="Oui"),1,0) -> 0 | DS10: =IF(AND($T10<=3,$O10="SSc cutanée limitée",$W10="Non",$Z10="Non"),1,0) -> 0 | DT10: =IF(AND($T10<=3,$O10="SSc cutanée limitée",$W10="Oui",$Y10="PID limitée",$Z10="Non"),1,0) -> 0 | DU10: =IF(AND($T10<=3,$O10="SSc cutanée limitée",$W10="Oui",$Y10="PID extensive",$Z10="Non"),1,0) -> 0 | DV10: =IF(AND($T10<=3,$O10="SSc cutanée limitée",$W10="Non",$Z10="Oui"),1,0) -> 0 | DW10: =IF(AND($T10<=3,$O10="SSc cutanée limitée",$W10="Oui",$Z10="Oui"),1,0) -> 0 | DX10: =IF(AND($T10<=3,$O10="SSc cutanée diffuse",$W10="Non",$Z10="Non"),1,0) -> 0 | DY10: =IF(AND($T10<=3,$O10="SSc cutanée diffuse",$W10="Oui",$Y10="PID limitée",$Z10="Non"),1,0) -> 0 | DZ10: =IF(AND($T10<=3,$O10="SSc cutanée diffuse",$W10="Oui",$Y10="PID extensive",$Z10="Non"),1,0) -> 0 | EA10: =IF(AND($T10<=3,$O10="SSc cutanée diffuse",$W10="Non",$Z10="Oui"),1,0) -> 0 | EB10: =IF(AND($T10<=3,$O10="SSc cutanée diffuse",$W10="Oui",$Z10="Oui"),1,0) -> 0
A11: 277 | B11: 1 | C11: nom10 | D11: pat10 | E11: pre10 | F11: Homme | G11: 1955-05-30 | H11: 66 | I11: 2021-03-04 | J11: Oui | K11: Oui | L11: Oui | M11: Oui | N11: 2021-03-04 | O11: SSc cutanée limitée | P11: 2009 | R11: 2008 | T11: =YEAR(N11)-R11 -> 13 | U11: 2009 | W11: Oui | X11: 2009 | Y11: PID extensive | Z11: Non | AD11: NSP | AE11: Oui | CB11: oui | CC11: AMLOR | CD11: 5 | DB11: Fait | DC11: 2015-01-09 | DD11: Oui | DE11: Ne sait pas | DF11: Fait | DG11: 2021-03-04 | DH11: Non | DI11: =IF(AND(T11>3,O11="SSc cutanée limitée",W11="Non",Z11="Non"),1,0) -> 0 | DJ11: =IF(AND(T11>3,O11="SSc cutanée limitée",W11="Oui",Y11="PID limitée",Z11="Non"),1,0) -> 0 | DK11: =IF(AND(T11>3,O11="SSc cutanée limitée",W11="Oui",Y11="PID extensive",Z11="Non"),1,0) -> 1 | DL11: =IF(AND(T11>3,O11="SSc cutanée limitée",W11="Non",Z11="Oui"),1,0) -> 0 | DM11: =IF(AND(T11>3,O11="SSc cutanée limitée",W11="Oui",Z11="Oui"),1,0) -> 0 | DN11: =IF(AND($T11>3,$O11="SSc cutanée diffuse",$W11="Non",$Z11="Non"),1,0) -> 0 | DO11: =IF(AND($T11>3,$O11="SSc cutanée diffuse",$W11="Oui",$Y11="PID limitée",$Z11="Non"),1,0) -> 0 | DP11: =IF(AND($T11>3,$O11="SSc cutanée diffuse",$W11="Oui",$Y11="PID extensive",$Z11="Non"),1,0) -> 0 | DQ11: =IF(AND($T11>3,$O11="SSc cutanée diffuse",$W11="Non",$Z11="Oui"),1,0) -> 0 | DR11: =IF(AND($T11>3,$O11="SSc cutanée diffuse",$W11="Oui",$Z11="Oui"),1,0) -> 0 | DS11: =IF(AND($T11<=3,$O11="SSc cutanée limitée",$W11="Non",$Z11="Non"),1,0) -> 0 | DT11: =IF(AND($T11<=3,$O11="SSc cutanée limitée",$W11="Oui",$Y11="PID limitée",$Z11="Non"),1,0) -> 0 | DU11: =IF(AND($T11<=3,$O11="SSc cutanée limitée",$W11="Oui",$Y11="PID extensive",$Z11="Non"),1,0) -> 0 | DV11: =IF(AND($T11<=3,$O11="SSc cutanée limitée",$W11="Non",$Z11="Oui"),1,0) -> 0 | DW11: =IF(AND($T11<=3,$O11="SSc cutanée limitée",$W11="Oui",$Z11="Oui"),1,0) -> 0 | DX11: =IF(AND($T11<=3,$O11="SSc cutanée diffuse",$W11="Non",$Z11="Non"),1,0) -> 0 | DY11: =IF(AND($T11<=3,$O11="SSc cutanée diffuse",$W11="Oui",$Y11="PID limitée",$Z11="Non"),1,0) -> 0 | DZ11: =IF(AND($T11<=3,$O11="SSc cutanée diffuse",$W11="Oui",$Y11="PID extensive",$Z11="Non"),1,0) -> 0 | EA11: =IF(AND($T11<=3,$O11="SSc cutanée diffuse",$W11="Non",$Z11="Oui"),1,0) -> 0 | EB11: =IF(AND($T11<=3,$O11="SSc cutanée diffuse",$W11="Oui",$Z11="Oui"),1,0) -> 0
A12: 283 | B12: 1 | C12: nom11 | D12: pat11 | E12: pre11 | F12: Femme | G12: 1969-09-09 | H12: 52 | I12: 2021-03-04 | J12: Oui | K12: Oui | L12: Oui | M12: Oui | N12: 2021-03-04 | O12: SSc cutanée diffuse | P12: 2014 | R12: 1992 | T12: =YEAR(N12)-R12 -> 29 | U12: 2010 | W12: Non | Z12: Non | AD12: Non | AE12: Oui | CB12: oui | CD12: 20 | DB12: Fait | DC12: 2020-02-27 | DF12: Fait | DG12: 2021-03-04 | DH12: Non | DI12: =IF(AND(T12>3,O12="SSc cutanée limitée",W12="Non",Z12="Non"),1,0) -> 0 | DJ12: =IF(AND(T12>3,O12="SSc cutanée limitée",W12="Oui",Y12="PID limitée",Z12="Non"),1,0) -> 0 | DK12: =IF(AND(T12>3,O12="SSc cutanée limitée",W12="Oui",Y12="PID extensive",Z12="Non"),1,0) -> 0 | DL12: =IF(AND(T12>3,O12="SSc cutanée limitée",W12="Non",Z12="Oui"),1,0) -> 0 | DM12: =IF(AND(T12>3,O12="SSc cutanée limitée",W12="Oui",Z12="Oui"),1,0) -> 0 | DN12: =IF(AND($T12>3,$O12="SSc cutanée diffuse",$W12="Non",$Z12="Non"),1,0) -> 1 | DO12: =IF(AND($T12>3,$O12="SSc cutanée diffuse",$W12="Oui",$Y12="PID limitée",$Z12="Non"),1,0) -> 0 | DP12: =IF(AND($T12>3,$O12="SSc cutanée diffuse",$W12="Oui",$Y12="PID extensive",$Z12="Non"),1,0) -> 0 | DQ12: =IF(AND($T12>3,$O12="SSc cutanée diffuse",$W12="Non",$Z12="Oui"),1,0) -> 0 | DR12: =IF(AND($T12>3,$O12="SSc cutanée diffuse",$W12="Oui",$Z12="Oui"),1,0) -> 0 | DS12: =IF(AND($T12<=3,$O12="SSc cutanée limitée",$W12="Non",$Z12="Non"),1,0) -> 0 | DT12: =IF(AND($T12<=3,$O12="SSc cutanée limitée",$W12="Oui",$Y12="PID limitée",$Z12="Non"),1,0) -> 0 | DU12: =IF(AND($T12<=3,$O12="SSc cutanée limitée",$W12="Oui",$Y12="PID extensive",$Z12="Non"),1,0) -> 0 | DV12: =IF(AND($T12<=3,$O12="SSc cutanée limitée",$W12="Non",$Z12="Oui"),1,0) -> 0 | DW12: =IF(AND($T12<=3,$O12="SSc cutanée limitée",$W12="Oui",$Z12="Oui"),1,0) -> 0 | DX12: =IF(AND($T12<=3,$O12="SSc cutanée diffuse",$W12="Non",$Z12="Non"),1,0) -> 0 | DY12: =IF(AND($T12<=3,$O12="SSc cutanée diffuse",$W12="Oui",$Y12="PID limitée",$Z12="Non"),1,0) -> 0 | DZ12: =IF(AND($T12<=3,$O12="SSc cutanée diffuse",$W12="Oui",$Y12="PID extensive",$Z12="Non"),1,0) -> 0 | EA12: =IF(AND($T12<=3,$O12="SSc cutanée diffuse",$W12="Non",$Z12="Oui"),1,0) -> 0 | EB12: =IF(AND($T12<=3,$O12="SSc cutanée diffuse",$W12="Oui",$Z12="Oui"),1,0) -> 0
A13: 293 | B13: 1 | C13: nom12 | D13: pat12 | E13: pre12 | F13: Femme | G13: 1972-04-04 | H13: 49 | I13: 2021-03-11 | J13: Oui | K13: Oui | L13: Oui | M13: Oui | N13: 2021-03-11 | O13: SSc cutanée limitée | P13: 2019 | R13: 2019 | T13: =YEAR(N13)-R13 -> 2 | U13: 2019 | W13: Non | Z13: Non | AD13: Non | AE13: Oui | CB13: oui | CC13: AMLOR | CD13: 5 | DB13: Fait | DC13: 2021-03-11 | DF13: Non fait | DI13: =IF(AND(T13>3,O13="SSc cutanée limitée",W13="Non",Z13="Non"),1,0) -> 0 | DJ13: =IF(AND(T13>3,O13="SSc cutanée limitée",W13="Oui",Y13="PID limitée",Z13="Non"),1,0) -> 0 | DK13: =IF(AND(T13>3,O13="SSc cutanée limitée",W13="Oui",Y13="PID extensive",Z13="Non"),1,0) -> 0 | DL13: =IF(AND(T13>3,O13="SSc cutanée limitée",W13="Non",Z13="Oui"),1,0) -> 0 | DM13: =IF(AND(T13>3,O13="SSc cutanée limitée",W13="Oui",Z13="Oui"),1,0) -> 0 | DN13: =IF(AND($T13>3,$O13="SSc cutanée diffuse",$W13="Non",$Z13="Non"),1,0) -> 0 | DO13: =IF(AND($T13>3,$O13="SSc cutanée diffuse",$W13="Oui",$Y13="PID limitée",$Z13="Non"),1,0) -> 0 | DP13: =IF(AND($T13>3,$O13="SSc cutanée diffuse",$W13="Oui",$Y13="PID extensive",$Z13="Non"),1,0) -> 0 | DQ13: =IF(AND($T13>3,$O13="SSc cutanée diffuse",$W13="Non",$Z13="Oui"),1,0) -> 0 | DR13: =IF(AND($T13>3,$O13="SSc cutanée diffuse",$W13="Oui",$Z13="Oui"),1,0) -> 0 | DS13: =IF(AND($T13<=3,$O13="SSc cutanée limitée",$W13="Non",$Z13="Non"),1,0) -> 1 | DT13: =IF(AND($T13<=3,$O13="SSc cutanée limitée",$W13="Oui",$Y13="PID limitée",$Z13="Non"),1,0) -> 0 | DU13: =IF(AND($T13<=3,$O13="SSc cutanée limitée",$W13="Oui",$Y13="PID extensive",$Z13="Non"),1,0) -> 0 | DV13: =IF(AND($T13<=3,$O13="SSc cutanée limitée",$W13="Non",$Z13="Oui"),1,0) -> 0 | DW13: =IF(AND($T13<=3,$O13="SSc cutanée limitée",$W13="Oui",$Z13="Oui"),1,0) -> 0 | DX13: =IF(AND($T13<=3,$O13="SSc cutanée diffuse",$W13="Non",$Z13="Non"),1,0) -> 0 | DY13: =IF(AND($T13<=3,$O13="SSc cutanée diffuse",$W13="Oui",$Y13="PID limitée",$Z13="Non"),1,0) -> 0 | DZ13: =IF(AND($T13<=3,$O13="SSc cutanée diffuse",$W13="Oui",$Y13="PID extensive",$Z13="Non"),1,0) -> 0 | EA13: =IF(AND($T13<=3,$O13="SSc cutanée diffuse",$W13="Non",$Z13="Oui"),1,0) -> 0 | EB13: =IF(AND($T13<=3,$O13="SSc cutanée diffuse",$W13="Oui",$Z13="Oui"),1,0) -> 0
A14: 295 | B14: 1 | C14: nom13 | D14: pat13 | E14: pre13 | F14: Femme | G14: 1965-07-19 | H14: 56 | I14: 2021-03-12 | J14: Oui | K14: Oui | L14: Oui | M14: Oui | N14: 2021-03-12 | O14: SSc cutanée limitée | T14: =YEAR(N14)-R14 -> 2021 | DI14: =IF(AND(T14>3,O14="SSc cutanée limitée",W14="Non",Z14="Non"),1,0) -> 0 | DJ14: =IF(AND(T14>3,O14="SSc cutanée limitée",W14="Oui",Y14="PID limitée",Z14="Non"),1,0) -> 0 | DK14: =IF(AND(T14>3,O14="SSc cutanée limitée",W14="Oui",Y14="PID extensive",Z14="Non"),1,0) -> 0 | DL14: =IF(AND(T14>3,O14="SSc cutanée limitée",W14="Non",Z14="Oui"),1,0) -> 0 | DM14: =IF(AND(T14>3,O14="SSc cutanée limitée",W14="Oui",Z14="Oui"),1,0) -> 0 | DN14: =IF(AND($T14>3,$O14="SSc cutanée diffuse",$W14="Non",$Z14="Non"),1,0) -> 0 | DO14: =IF(AND($T14>3,$O14="SSc cutanée diffuse",$W14="Oui",$Y14="PID limitée",$Z14="Non"),1,0) -> 0 | DP14: =IF(AND($T14>3,$O14="SSc cutanée diffuse",$W14="Oui",$Y14="PID extensive",$Z14="Non"),1,0) -> 0 | DQ14: =IF(AND($T14>3,$O14="SSc cutanée diffuse",$W14="Non",$Z14="Oui"),1,0) -> 0 | DR14: =IF(AND($T14>3,$O14="SSc cutanée diffuse",$W14="Oui",$Z14="Oui"),1,0) -> 0 | DS14: =IF(AND($T14<=3,$O14="SSc cutanée limitée",$W14="Non",$Z14="Non"),1,0) -> 0 | DT14: =IF(AND($T14<=3,$O14="SSc cutanée limitée",$W14="Oui",$Y14="PID limitée",$Z14="Non"),1,0) -> 0 | DU14: =IF(AND($T14<=3,$O14="SSc cutanée limitée",$W14="Oui",$Y14="PID extensive",$Z14="Non"),1,0) -> 0 | DV14: =IF(AND($T14<=3,$O14="SSc cutanée limitée",$W14="Non",$Z14="Oui"),1,0) -> 0 | DW14: =IF(AND($T14<=3,$O14="SSc cutanée limitée",$W14="Oui",$Z14="Oui"),1,0) -> 0 | DX14: =IF(AND($T14<=3,$O14="SSc cutanée diffuse",$W14="Non",$Z14="Non"),1,0) -> 0 | DY14: =IF(AND($T14<=3,$O14="SSc cutanée diffuse",$W14="Oui",$Y14="PID limitée",$Z14="Non"),1,0) -> 0 | DZ14: =IF(AND($T14<=3,$O14="SSc cutanée diffuse",$W14="Oui",$Y14="PID extensive",$Z14="Non"),1,0) -> 0 | EA14: =IF(AND($T14<=3,$O14="SSc cutanée diffuse",$W14="Non",$Z14="Oui"),1,0) -> 0 | EB14: =IF(AND($T14<=3,$O14="SSc cutanée diffuse",$W14="Oui",$Z14="Oui"),1,0) -> 0
A15: 299 | B15: 1 | C15: nom14 | D15: pat14 | E15: pre14 | F15: Femme | G15: 1985-07-19 | H15: 36 | I15: 2021-03-16 | J15: Oui | K15: Oui | L15: Oui | M15: Oui | N15: 2021-03-16 | O15: SSc cutanée limitée | P15: 2021 | R15: 2019 | T15: =YEAR(N15)-R15 -> 2 | U15: 2021 | W15: Non | Z15: Non | AD15: Non | AE15: Oui | CB15: oui | CC15: AMLOR | CD15: 5 | DB15: Fait | DC15: 2021-03-16 | DF15: Fait | DG15: 2021-03-16 | DH15: Non | DI15: =IF(AND(T15>3,O15="SSc cutanée limitée",W15="Non",Z15="Non"),1,0) -> 0 | DJ15: =IF(AND(T15>3,O15="SSc cutanée limitée",W15="Oui",Y15="PID limitée",Z15="Non"),1,0) -> 0 | DK15: =IF(AND(T15>3,O15="SSc cutanée limitée",W15="Oui",Y15="PID extensive",Z15="Non"),1,0) -> 0 | DL15: =IF(AND(T15>3,O15="SSc cutanée limitée",W15="Non",Z15="Oui"),1,0) -> 0 | DM15: =IF(AND(T15>3,O15="SSc cutanée limitée",W15="Oui",Z15="Oui"),1,0) -> 0 | DN15: =IF(AND($T15>3,$O15="SSc cutanée diffuse",$W15="Non",$Z15="Non"),1,0) -> 0 | DO15: =IF(AND($T15>3,$O15="SSc cutanée diffuse",$W15="Oui",$Y15="PID limitée",$Z15="Non"),1,0) -> 0 | DP15: =IF(AND($T15>3,$O15="SSc cutanée diffuse",$W15="Oui",$Y15="PID extensive",$Z15="Non"),1,0) -> 0 | DQ15: =IF(AND($T15>3,$O15="SSc cutanée diffuse",$W15="Non",$Z15="Oui"),1,0) -> 0 | DR15: =IF(AND($T15>3,$O15="SSc cutanée diffuse",$W15="Oui",$Z15="Oui"),1,0) -> 0 | DS15: =IF(AND($T15<=3,$O15="SSc cutanée limitée",$W15="Non",$Z15="Non"),1,0) -> 1 | DT15: =IF(AND($T15<=3,$O15="SSc cutanée limitée",$W15="Oui",$Y15="PID limitée",$Z15="Non"),1,0) -> 0 | DU15: =IF(AND($T15<=3,$O15="SSc cutanée limitée",$W15="Oui",$Y15="PID extensive",$Z15="Non"),1,0) -> 0 | DV15: =IF(AND($T15<=3,$O15="SSc cutanée limitée",$W15="Non",$Z15="Oui"),1,0) -> 0 | DW15: =IF(AND($T15<=3,$O15="SSc cutanée limitée",$W15="Oui",$Z15="Oui"),1,0) -> 0 | DX15: =IF(AND($T15<=3,$O15="SSc cutanée diffuse",$W15="Non",$Z15="Non"),1,0) -> 0 | DY15: =IF(AND($T15<=3,$O15="SSc cutanée diffuse",$W15="Oui",$Y15="PID limitée",$Z15="Non"),1,0) -> 0 | DZ15: =IF(AND($T15<=3,$O15="SSc cutanée diffuse",$W15="Oui",$Y15="PID extensive",$Z15="Non"),1,0) -> 0 | EA15: =IF(AND($T15<=3,$O15="SSc cutanée diffuse",$W15="Non",$Z15="Oui"),1,0) -> 0 | EB15: =IF(AND($T15<=3,$O15="SSc cutanée diffuse",$W15="Oui",$Z15="Oui"),1,0) -> 0
A16: 305 | B16: 1 | C16: nom15 | D16: pat15 | E16: pre15 | F16: Femme | G16: 1988-10-07 | H16: 33 | I16: 2021-03-19 | J16: Oui | K16: Oui | L16: Oui | M16: Oui | N16: 2021-03-19 | O16: SSc cutanée limitée | R16: 2016 | T16: =YEAR(N16)-R16 -> 5 | W16: Non | Z16: Oui | AA16: groupe 1 (hypertension artérielle pulmonaire) | AC16: 2013 | AD16: Oui | AE16: Oui | AF16: oui | AN16: oui | AO16: CELLCEPT 500 | AP16: 2000 | CB16: oui | CC16: NIFEDIPINE | CD16: 30 | CE16: oui | CF16: PERINDOPRIL | CG16: 4 | CR16: oui | CS16: TRACLEER 125 | CT16: 250 | DB16: Fait | DC16: 2021-03-19 | DF16: Fait | DG16: 2021-04-29 | DH16: Oui | DI16: =IF(AND(T16>3,O16="SSc cutanée limitée",W16="Non",Z16="Non"),1,0) -> 0 | DJ16: =IF(AND(T16>3,O16="SSc cutanée limitée",W16="Oui",Y16="PID limitée",Z16="Non"),1,0) -> 0 | DK16: =IF(AND(T16>3,O16="SSc cutanée limitée",W16="Oui",Y16="PID extensive",Z16="Non"),1,0) -> 0 | DL16: =IF(AND(T16>3,O16="SSc cutanée limitée",W16="Non",Z16="Oui"),1,0) -> 1 | DM16: =IF(AND(T16>3,O16="SSc cutanée limitée",W16="Oui",Z16="Oui"),1,0) -> 0 | DN16: =IF(AND($T16>3,$O16="SSc cutanée diffuse",$W16="Non",$Z16="Non"),1,0) -> 0 | DO16: =IF(AND($T16>3,$O16="SSc cutanée diffuse",$W16="Oui",$Y16="PID limitée",$Z16="Non"),1,0) -> 0 | DP16: =IF(AND($T16>3,$O16="SSc cutanée diffuse",$W16="Oui",$Y16="PID extensive",$Z16="Non"),1,0) -> 0 | DQ16: =IF(AND($T16>3,$O16="SSc cutanée diffuse",$W16="Non",$Z16="Oui"),1,0) -> 0 | DR16: =IF(AND($T16>3,$O16="SSc cutanée diffuse",$W16="Oui",$Z16="Oui"),1,0) -> 0 | DS16: =IF(AND($T16<=3,$O16="SSc cutanée limitée",$W16="Non",$Z16="Non"),1,0) -> 0 | DT16: =IF(AND($T16<=3,$O16="SSc cutanée limitée",$W16="Oui",$Y16="PID limitée",$Z16="Non"),1,0) -> 0 | DU16: =IF(AND($T16<=3,$O16="SSc cutanée limitée",$W16="Oui",$Y16="PID extensive",$Z16="Non"),1,0) -> 0 | DV16: =IF(AND($T16<=3,$O16="SSc cutanée limitée",$W16="Non",$Z16="Oui"),1,0) -> 0 | DW16: =IF(AND($T16<=3,$O16="SSc cutanée limitée",$W16="Oui",$Z16="Oui"),1,0) -> 0 | DX16: =IF(AND($T16<=3,$O16="SSc cutanée diffuse",$W16="Non",$Z16="Non"),1,0) -> 0 | DY16: =IF(AND($T16<=3,$O16="SSc cutanée diffuse",$W16="Oui",$Y16="PID limitée",$Z16="Non"),1,0) -> 0 | DZ16: =IF(AND($T16<=3,$O16="SSc cutanée diffuse",$W16="Oui",$Y16="PID extensive",$Z16="Non"),1,0) -> 0 | EA16: =IF(AND($T16<=3,$O16="SSc cutanée diffuse",$W16="Non",$Z16="Oui"),1,0) -> 0 | EB16: =IF(AND($T16<=3,$O16="SSc cutanée diffuse",$W16="Oui",$Z16="Oui"),1,0) -> 0
A17: 307 | B17: 1 | C17: nom16 | D17: pat16 | E17: pre16 | F17: Femme | G17: 1961-06-23 | H17: 60 | I17: 2021-03-22 | J17: Oui | K17: Oui | L17: Oui | M17: Oui | N17: 2021-06-22 | O17: SSc cutanée diffuse | P17: 2017 | R17: 2017 | T17: =YEAR(N17)-R17 -> 4 | U17: 2017 | W17: Oui | X17: 2017 | Y17: PID extensive | Z17: Non | DC17: 2021-06-23 | DG17: 2021-06-23 | DI17: =IF(AND(T17>3,O17="SSc cutanée limitée",W17="Non",Z17="Non"),1,0) -> 0 | DJ17: =IF(AND(T17>3,O17="SSc cutanée limitée",W17="Oui",Y17="PID limitée",Z17="Non"),1,0) -> 0 | DK17: =IF(AND(T17>3,O17="SSc cutanée limitée",W17="Oui",Y17="PID extensive",Z17="Non"),1,0) -> 0 | DL17: =IF(AND(T17>3,O17="SSc cutanée limitée",W17="Non",Z17="Oui"),1,0) -> 0 | DM17: =IF(AND(T17>3,O17="SSc cutanée limitée",W17="Oui",Z17="Oui"),1,0) -> 0 | DN17: =IF(AND($T17>3,$O17="SSc cutanée diffuse",$W17="Non",$Z17="Non"),1,0) -> 0 | DO17: =IF(AND($T17>3,$O17="SSc cutanée diffuse",$W17="Oui",$Y17="PID limitée",$Z17="Non"),1,0) -> 0 | DP17: =IF(AND($T17>3,$O17="SSc cutanée diffuse",$W17="Oui",$Y17="PID extensive",$Z17="Non"),1,0) -> 1 | DQ17: =IF(AND($T17>3,$O17="SSc cutanée diffuse",$W17="Non",$Z17="Oui"),1,0) -> 0 | DR17: =IF(AND($T17>3,$O17="SSc cutanée diffuse",$W17="Oui",$Z17="Oui"),1,0) -> 0 | DS17: =IF(AND($T17<=3,$O17="SSc cutanée limitée",$W17="Non",$Z17="Non"),1,0) -> 0 | DT17: =IF(AND($T17<=3,$O17="SSc cutanée limitée",$W17="Oui",$Y17="PID limitée",$Z17="Non"),1,0) -> 0 | DU17: =IF(AND($T17<=3,$O17="SSc cutanée limitée",$W17="Oui",$Y17="PID extensive",$Z17="Non"),1,0) -> 0 | DV17: =IF(AND($T17<=3,$O17="SSc cutanée limitée",$W17="Non",$Z17="Oui"),1,0) -> 0 | DW17: =IF(AND($T17<=3,$O17="SSc cutanée limitée",$W17="Oui",$Z17="Oui"),1,0) -> 0 | DX17: =IF(AND($T17<=3,$O17="SSc cutanée diffuse",$W17="Non",$Z17="Non"),1,0) -> 0 | DY17: =IF(AND($T17<=3,$O17="SSc cutanée diffuse",$W17="Oui",$Y17="PID limitée",$Z17="Non"),1,0) -> 0 | DZ17: =IF(AND($T17<=3,$O17="SSc cutanée diffuse",$W17="Oui",$Y17="PID extensive",$Z17="Non"),1,0) -> 0 | EA17: =IF(AND($T17<=3,$O17="SSc cutanée diffuse",$W17="Non",$Z17="Oui"),1,0) -> 0 | EB17: =IF(AND($T17<=3,$O17="SSc cutanée diffuse",$W17="Oui",$Z17="Oui"),1,0) -> 0
A18: 309 | B18: 1 | C18: nom17 | D18: pat17 | E18: pre17 | F18: Femme | G18: 1956-09-05 | H18: 65 | I18: 2021-03-22 | J18: Oui | K18: Oui | L18: Oui | M18: Oui | N18: 2021-03-22 | O18: SSc cutanée limitée | P18: 2000 | R18: 1980 | T18: =YEAR(N18)-R18 -> 41 | V18: non connue | W18: Oui | X18: 2008 | Y18: PID limitée | Z18: Non | AD18: Oui | AE18: Non | AF18: oui | CL18: oui | CM18: SOTALOL | CN18: 80 mg ½ cp matin et soir arrêté depuis 7 jours. | DB18: Non fait | DF18: Fait | DG18: 2021-03-22 | DH18: Non | DI18: =IF(AND(T18>3,O18="SSc cutanée limitée",W18="Non",Z18="Non"),1,0) -> 0 | DJ18: =IF(AND(T18>3,O18="SSc cutanée limitée",W18="Oui",Y18="PID limitée",Z18="Non"),1,0) -> 1 | DK18: =IF(AND(T18>3,O18="SSc cutanée limitée",W18="Oui",Y18="PID extensive",Z18="Non"),1,0) -> 0 | DL18: =IF(AND(T18>3,O18="SSc cutanée limitée",W18="Non",Z18="Oui"),1,0) -> 0 | DM18: =IF(AND(T18>3,O18="SSc cutanée limitée",W18="Oui",Z18="Oui"),1,0) -> 0 | DN18: =IF(AND($T18>3,$O18="SSc cutanée diffuse",$W18="Non",$Z18="Non"),1,0) -> 0 | DO18: =IF(AND($T18>3,$O18="SSc cutanée diffuse",$W18="Oui",$Y18="PID limitée",$Z18="Non"),1,0) -> 0 | DP18: =IF(AND($T18>3,$O18="SSc cutanée diffuse",$W18="Oui",$Y18="PID extensive",$Z18="Non"),1,0) -> 0 | DQ18: =IF(AND($T18>3,$O18="SSc cutanée diffuse",$W18="Non",$Z18="Oui"),1,0) -> 0 | DR18: =IF(AND($T18>3,$O18="SSc cutanée diffuse",$W18="Oui",$Z18="Oui"),1,0) -> 0 | DS18: =IF(AND($T18<=3,$O18="SSc cutanée limitée",$W18="Non",$Z18="Non"),1,0) -> 0 | DT18: =IF(AND($T18<=3,$O18="SSc cutanée limitée",$W18="Oui",$Y18="PID limitée",$Z18="Non"),1,0) -> 0 | DU18: =IF(AND($T18<=3,$O18="SSc cutanée limitée",$W18="Oui",$Y18="PID extensive",$Z18="Non"),1,0) -> 0 | DV18: =IF(AND($T18<=3,$O18="SSc cutanée limitée",$W18="Non",$Z18="Oui"),1,0) -> 0 | DW18: =IF(AND($T18<=3,$O18="SSc cutanée limitée",$W18="Oui",$Z18="Oui"),1,0) -> 0 | DX18: =IF(AND($T18<=3,$O18="SSc cutanée diffuse",$W18="Non",$Z18="Non"),1,0) -> 0 | DY18: =IF(AND($T18<=3,$O18="SSc cutanée diffuse",$W18="Oui",$Y18="PID limitée",$Z18="Non"),1,0) -> 0 | DZ18: =IF(AND($T18<=3,$O18="SSc cutanée diffuse",$W18="Oui",$Y18="PID extensive",$Z18="Non"),1,0) -> 0 | EA18: =IF(AND($T18<=3,$O18="SSc cutanée diffuse",$W18="Non",$Z18="Oui"),1,0) -> 0 | EB18: =IF(AND($T18<=3,$O18="SSc cutanée diffuse",$W18="Oui",$Z18="Oui"),1,0) -> 0
A19: 332 | B19: 1 | C19: nom18 | D19: pat18 | E19: pre18 | F19: Femme | G19: 1946-06-19 | H19: 75 | I19: 2021-04-01 | J19: Oui | K19: Oui | L19: Oui | M19: Oui | N19: 2021-04-01 | O19: SSc cutanée limitée | P19: 1999 | R19: 1999 | T19: =YEAR(N19)-R19 -> 22 | U19: 1999 | W19: Oui | X19: 1999 | Y19: PID limitée | Z19: Oui | AA19: groupe 2 (HTP post-capillaire sur atteinte cardiaque gauche) | AC19: 2018 | AD19: Non | AE19: Oui | CB19: oui | CC19: AMLOR | CD19: 10 | DB19: Non fait | DF19: Fait | DG19: 2021-04-01 | DH19: Oui | DI19: =IF(AND(T19>3,O19="SSc cutanée limitée",W19="Non",Z19="Non"),1,0) -> 0 | DJ19: =IF(AND(T19>3,O19="SSc cutanée limitée",W19="Oui",Y19="PID limitée",Z19="Non"),1,0) -> 0 | DK19: =IF(AND(T19>3,O19="SSc cutanée limitée",W19="Oui",Y19="PID extensive",Z19="Non"),1,0) -> 0 | DL19: =IF(AND(T19>3,O19="SSc cutanée limitée",W19="Non",Z19="Oui"),1,0) -> 0 | DM19: =IF(AND(T19>3,O19="SSc cutanée limitée",W19="Oui",Z19="Oui"),1,0) -> 1 | DN19: =IF(AND($T19>3,$O19="SSc cutanée diffuse",$W19="Non",$Z19="Non"),1,0) -> 0 | DO19: =IF(AND($T19>3,$O19="SSc cutanée diffuse",$W19="Oui",$Y19="PID limitée",$Z19="Non"),1,0) -> 0 | DP19: =IF(AND($T19>3,$O19="SSc cutanée diffuse",$W19="Oui",$Y19="PID extensive",$Z19="Non"),1,0) -> 0 | DQ19: =IF(AND($T19>3,$O19="SSc cutanée diffuse",$W19="Non",$Z19="Oui"),1,0) -> 0 | DR19: =IF(AND($T19>3,$O19="SSc cutanée diffuse",$W19="Oui",$Z19="Oui"),1,0) -> 0 | DS19: =IF(AND($T19<=3,$O19="SSc cutanée limitée",$W19="Non",$Z19="Non"),1,0) -> 0 | DT19: =IF(AND($T19<=3,$O19="SSc cutanée limitée",$W19="Oui",$Y19="PID limitée",$Z19="Non"),1,0) -> 0 | DU19: =IF(AND($T19<=3,$O19="SSc cutanée limitée",$W19="Oui",$Y19="PID extensive",$Z19="Non"),1,0) -> 0 | DV19: =IF(AND($T19<=3,$O19="SSc cutanée limitée",$W19="Non",$Z19="Oui"),1,0) -> 0 | DW19: =IF(AND($T19<=3,$O19="SSc cutanée limitée",$W19="Oui",$Z19="Oui"),1,0) -> 0 | DX19: =IF(AND($T19<=3,$O19="SSc cutanée diffuse",$W19="Non",$Z19="Non"),1,0) -> 0 | DY19: =IF(AND($T19<=3,$O19="SSc cutanée diffuse",$W19="Oui",$Y19="PID limitée",$Z19="Non"),1,0) -> 0 | DZ19: =IF(AND($T19<=3,$O19="SSc cutanée diffuse",$W19="Oui",$Y19="PID extensive",$Z19="Non"),1,0) -> 0 | EA19: =IF(AND($T19<=3,$O19="SSc cutanée diffuse",$W19="Non",$Z19="Oui"),1,0) -> 0 | EB19: =IF(AND($T19<=3,$O19="SSc cutanée diffuse",$W19="Oui",$Z19="Oui"),1,0) -> 0
A20: 334 | B20: 1 | C20: nom19 | D20: pat19 | E20: pre19 | F20: Femme | G20: 1962-07-04 | H20: 59 | I20: 2021-04-01 | J20: Oui | K20: Oui | L20: Oui | M20: Oui | N20: 2021-04-01 | O20: SSc cutanée limitée | P20: 2008 | T20: =YEAR(N20)-R20 -> 2021 | W20: Non | Z20: Non | AD20: Oui | AE20: Oui | AF20: oui | CB20: oui | CC20: AMLODIPINE | CD20: 5 | DB20: Non fait | DF20: Fait | DG20: 2021-04-01 | DH20: Non | DI20: =IF(AND(T20>3,O20="SSc cutanée limitée",W20="Non",Z20="Non"),1,0) -> 1 | DJ20: =IF(AND(T20>3,O20="SSc cutanée limitée",W20="Oui",Y20="PID limitée",Z20="Non"),1,0) -> 0 | DK20: =IF(AND(T20>3,O20="SSc cutanée limitée",W20="Oui",Y20="PID extensive",Z20="Non"),1,0) -> 0 | DL20: =IF(AND(T20>3,O20="SSc cutanée limitée",W20="Non",Z20="Oui"),1,0) -> 0 | DM20: =IF(AND(T20>3,O20="SSc cutanée limitée",W20="Oui",Z20="Oui"),1,0) -> 0 | DN20: =IF(AND($T20>3,$O20="SSc cutanée diffuse",$W20="Non",$Z20="Non"),1,0) -> 0 | DO20: =IF(AND($T20>3,$O20="SSc cutanée diffuse",$W20="Oui",$Y20="PID limitée",$Z20="Non"),1,0) -> 0 | DP20: =IF(AND($T20>3,$O20="SSc cutanée diffuse",$W20="Oui",$Y20="PID extensive",$Z20="Non"),1,0) -> 0 | DQ20: =IF(AND($T20>3,$O20="SSc cutanée diffuse",$W20="Non",$Z20="Oui"),1,0) -> 0 | DR20: =IF(AND($T20>3,$O20="SSc cutanée diffuse",$W20="Oui",$Z20="Oui"),1,0) -> 0 | DS20: =IF(AND($T20<=3,$O20="SSc cutanée limitée",$W20="Non",$Z20="Non"),1,0) -> 0 | DT20: =IF(AND($T20<=3,$O20="SSc cutanée limitée",$W20="Oui",$Y20="PID limitée",$Z20="Non"),1,0) -> 0 | DU20: =IF(AND($T20<=3,$O20="SSc cutanée limitée",$W20="Oui",$Y20="PID extensive",$Z20="Non"),1,0) -> 0 | DV20: =IF(AND($T20<=3,$O20="SSc cutanée limitée",$W20="Non",$Z20="Oui"),1,0) -> 0 | DW20: =IF(AND($T20<=3,$O20="SSc cutanée limitée",$W20="Oui",$Z20="Oui"),1,0) -> 0 | DX20: =IF(AND($T20<=3,$O20="SSc cutanée diffuse",$W20="Non",$Z20="Non"),1,0) -> 0 | DY20: =IF(AND($T20<=3,$O20="SSc cutanée diffuse",$W20="Oui",$Y20="PID limitée",$Z20="Non"),1,0) -> 0 | DZ20: =IF(AND($T20<=3,$O20="SSc cutanée diffuse",$W20="Oui",$Y20="PID extensive",$Z20="Non"),1,0) -> 0 | EA20: =IF(AND($T20<=3,$O20="SSc cutanée diffuse",$W20="Non",$Z20="Oui"),1,0) -> 0 | EB20: =IF(AND($T20<=3,$O20="SSc cutanée diffuse",$W20="Oui",$Z20="Oui"),1,0) -> 0
A21: 340 | B21: 1 | C21: nom20 | D21: pat20 | E21: pre20 | F21: Femme | G21: 1943-05-13 | H21: 78 | I21: 2021-04-12 | J21: Oui | K21: Oui | L21: Oui | M21: Oui | N21: 2021-04-12 | O21: SSc cutanée limitée | P21: 1998 | R21: 1998 | T21: =YEAR(N21)-R21 -> 23 | U21: 1998 | W21: Non | Z21: Non | AD21: Oui | AE21: Non | AF21: oui | DB21: Non fait | DF21: Fait | DG21: 2021-04-12 | DH21: Non | DI21: =IF(AND(T21>3,O21="SSc cutanée limitée",W21="Non",Z21="Non"),1,0) -> 1 | DJ21: =IF(AND(T21>3,O21="SSc cutanée limitée",W21="Oui",Y21="PID limitée",Z21="Non"),1,0) -> 0 | DK21: =IF(AND(T21>3,O21="SSc cutanée limitée",W21="Oui",Y21="PID extensive",Z21="Non"),1,0) -> 0 | DL21: =IF(AND(T21>3,O21="SSc cutanée limitée",W21="Non",Z21="Oui"),1,0) -> 0 | DM21: =IF(AND(T21>3,O21="SSc cutanée limitée",W21="Oui",Z21="Oui"),1,0) -> 0 | DN21: =IF(AND($T21>3,$O21="SSc cutanée diffuse",$W21="Non",$Z21="Non"),1,0) -> 0 | DO21: =IF(AND($T21>3,$O21="SSc cutanée diffuse",$W21="Oui",$Y21="PID limitée",$Z21="Non"),1,0) -> 0 | DP21: =IF(AND($T21>3,$O21="SSc cutanée diffuse",$W21="Oui",$Y21="PID extensive",$Z21="Non"),1,0) -> 0 | DQ21: =IF(AND($T21>3,$O21="SSc cutanée diffuse",$W21="Non",$Z21="Oui"),1,0) -> 0 | DR21: =IF(AND($T21>3,$O21="SSc cutanée diffuse",$W21="Oui",$Z21="Oui"),1,0) -> 0 | DS21: =IF(AND($T21<=3,$O21="SSc cutanée limitée",$W21="Non",$Z21="Non"),1,0) -> 0 | DT21: =IF(AND($T21<=3,$O21="SSc cutanée limitée",$W21="Oui",$Y21="PID limitée",$Z21="Non"),1,0) -> 0 | DU21: =IF(AND($T21<=3,$O21="SSc cutanée limitée",$W21="Oui",$Y21="PID extensive",$Z21="Non"),1,0) -> 0 | DV21: =IF(AND($T21<=3,$O21="SSc cutanée limitée",$W21="Non",$Z21="Oui"),1,0) -> 0 | DW21: =IF(AND($T21<=3,$O21="SSc cutanée limitée",$W21="Oui",$Z21="Oui"),1,0) -> 0 | DX21: =IF(AND($T21<=3,$O21="SSc cutanée diffuse",$W21="Non",$Z21="Non"),1,0) -> 0 | DY21: =IF(AND($T21<=3,$O21="SSc cutanée diffuse",$W21="Oui",$Y21="PID limitée",$Z21="Non"),1,0) -> 0 | DZ21: =IF(AND($T21<=3,$O21="SSc cutanée diffuse",$W21="Oui",$Y21="PID extensive",$Z21="Non"),1,0) -> 0 | EA21: =IF(AND($T21<=3,$O21="SSc cutanée diffuse",$W21="Non",$Z21="Oui"),1,0) -> 0 | EB21: =IF(AND($T21<=3,$O21="SSc cutanée diffuse",$W21="Oui",$Z21="Oui"),1,0) -> 0
A22: 344 | B22: 1 | C22: nom21 | D22: pat21 | E22: pre21 | F22: Femme | G22: 1959-05-05 | H22: 62 | I22: 2021-04-14 | J22: Oui | K22: Oui | L22: Oui | M22: Oui | N22: 2021-04-14 | O22: SSc cutanée limitée | P22: 2009 | R22: 2003 | T22: =YEAR(N22)-R22 -> 18 | U22: 2009 | W22: Oui | X22: 2012 | Y22: PID extensive | Z22: Oui | AA22: groupe 1 (hypertension artérielle pulmonaire) | AC22: 2015 | AD22: Non | AE22: Oui | CH22: oui | CI22: furosemide | CJ22: 40 2*/jour | CK22: PO | CO22: oui | CP22: sildenafil | CQ22: 20 3*/jour | CR22: oui | CS22: macitentan | CT22: 10 | DB22: Non fait | DF22: Fait | DG22: 2021-04-14 | DH22: Oui | DI22: =IF(AND(T22>3,O22="SSc cutanée limitée",W22="Non",Z22="Non"),1,0) -> 0 | DJ22: =IF(AND(T22>3,O22="SSc cutanée limitée",W22="Oui",Y22="PID limitée",Z22="Non"),1,0) -> 0 | DK22: =IF(AND(T22>3,O22="SSc cutanée limitée",W22="Oui",Y22="PID extensive",Z22="Non"),1,0) -> 0 | DL22: =IF(AND(T22>3,O22="SSc cutanée limitée",W22="Non",Z22="Oui"),1,0) -> 0 | DM22: =IF(AND(T22>3,O22="SSc cutanée limitée",W22="Oui",Z22="Oui"),1,0) -> 1 | DN22: =IF(AND($T22>3,$O22="SSc cutanée diffuse",$W22="Non",$Z22="Non"),1,0) -> 0 | DO22: =IF(AND($T22>3,$O22="SSc cutanée diffuse",$W22="Oui",$Y22="PID limitée",$Z22="Non"),1,0) -> 0 | DP22: =IF(AND($T22>3,$O22="SSc cutanée diffuse",$W22="Oui",$Y22="PID extensive",$Z22="Non"),1,0) -> 0 | DQ22: =IF(AND($T22>3,$O22="SSc cutanée diffuse",$W22="Non",$Z22="Oui"),1,0) -> 0 | DR22: =IF(AND($T22>3,$O22="SSc cutanée diffuse",$W22="Oui",$Z22="Oui"),1,0) -> 0 | DS22: =IF(AND($T22<=3,$O22="SSc cutanée limitée",$W22="Non",$Z22="Non"),1,0) -> 0 | DT22: =IF(AND($T22<=3,$O22="SSc cutanée limitée",$W22="Oui",$Y22="PID limitée",$Z22="Non"),1,0) -> 0 | DU22: =IF(AND($T22<=3,$O22="SSc cutanée limitée",$W22="Oui",$Y22="PID extensive",$Z22="Non"),1,0) -> 0 | DV22: =IF(AND($T22<=3,$O22="SSc cutanée limitée",$W22="Non",$Z22="Oui"),1,0) -> 0 | DW22: =IF(AND($T22<=3,$O22="SSc cutanée limitée",$W22="Oui",$Z22="Oui"),1,0) -> 0 | DX22: =IF(AND($T22<=3,$O22="SSc cutanée diffuse",$W22="Non",$Z22="Non"),1,0) -> 0 | DY22: =IF(AND($T22<=3,$O22="SSc cutanée diffuse",$W22="Oui",$Y22="PID limitée",$Z22="Non"),1,0) -> 0 | DZ22: =IF(AND($T22<=3,$O22="SSc cutanée diffuse",$W22="Oui",$Y22="PID extensive",$Z22="Non"),1,0) -> 0 | EA22: =IF(AND($T22<=3,$O22="SSc cutanée diffuse",$W22="Non",$Z22="Oui"),1,0) -> 0 | EB22: =IF(AND($T22<=3,$O22="SSc cutanée diffuse",$W22="Oui",$Z22="Oui"),1,0) -> 0
A23: 356 | B23: 1 | C23: nom22 | D23: pat22 | E23: pre22 | F23: Homme | G23: 1961-02-23 | H23: 60 | I23: 2021-04-20 | J23: Oui | K23: Oui | L23: Oui | M23: Oui | N23: 2021-04-20 | O23: SSc cutanée diffuse | P23: 2010 | R23: 2008 | T23: =YEAR(N23)-R23 -> 13 | U23: 2008 | W23: Oui | X23: 2010 | Y23: PID extensive | Z23: Oui | AA23: groupe 3 (HTP pré-capillaire sur pathologie respiratoire chronique) | AC23: 2015 | AD23: Oui | AE23: Oui | AF23: oui | AN23: oui | AO23: cellcept 2 cp*2/jour | AP23: 500 | CB23: oui | CC23: amlor | CD23: 10 | DB23: Non fait | DF23: Non fait | DI23: =IF(AND(T23>3,O23="SSc cutanée limitée",W23="Non",Z23="Non"),1,0) -> 0 | DJ23: =IF(AND(T23>3,O23="SSc cutanée limitée",W23="Oui",Y23="PID limitée",Z23="Non"),1,0) -> 0 | DK23: =IF(AND(T23>3,O23="SSc cutanée limitée",W23="Oui",Y23="PID extensive",Z23="Non"),1,0) -> 0 | DL23: =IF(AND(T23>3,O23="SSc cutanée limitée",W23="Non",Z23="Oui"),1,0) -> 0 | DM23: =IF(AND(T23>3,O23="SSc cutanée limitée",W23="Oui",Z23="Oui"),1,0) -> 0 | DN23: =IF(AND($T23>3,$O23="SSc cutanée diffuse",$W23="Non",$Z23="Non"),1,0) -> 0 | DO23: =IF(AND($T23>3,$O23="SSc cutanée diffuse",$W23="Oui",$Y23="PID limitée",$Z23="Non"),1,0) -> 0 | DP23: =IF(AND($T23>3,$O23="SSc cutanée diffuse",$W23="Oui",$Y23="PID extensive",$Z23="Non"),1,0) -> 0 | DQ23: =IF(AND($T23>3,$O23="SSc cutanée diffuse",$W23="Non",$Z23="Oui"),1,0) -> 0 | DR23: =IF(AND($T23>3,$O23="SSc cutanée diffuse",$W23="Oui",$Z23="Oui"),1,0) -> 1 | DS23: =IF(AND($T23<=3,$O23="SSc cutanée limitée",$W23="Non",$Z23="Non"),1,0) -> 0 | DT23: =IF(AND($T23<=3,$O23="SSc cutanée limitée",$W23="Oui",$Y23="PID limitée",$Z23="Non"),1,0) -> 0 | DU23: =IF(AND($T23<=3,$O23="SSc cutanée limitée",$W23="Oui",$Y23="PID extensive",$Z23="Non"),1,0) -> 0 | DV23: =IF(AND($T23<=3,$O23="SSc cutanée limitée",$W23="Non",$Z23="Oui"),1,0) -> 0 | DW23: =IF(AND($T23<=3,$O23="SSc cutanée limitée",$W23="Oui",$Z23="Oui"),1,0) -> 0 | DX23: =IF(AND($T23<=3,$O23="SSc cutanée diffuse",$W23="Non",$Z23="Non"),1,0) -> 0 | DY23: =IF(AND($T23<=3,$O23="SSc cutanée diffuse",$W23="Oui",$Y23="PID limitée",$Z23="Non"),1,0) -> 0 | DZ23: =IF(AND($T23<=3,$O23="SSc cutanée diffuse",$W23="Oui",$Y23="PID extensive",$Z23="Non"),1,0) -> 0 | EA23: =IF(AND($T23<=3,$O23="SSc cutanée diffuse",$W23="Non",$Z23="Oui"),1,0) -> 0 | EB23: =IF(AND($T23<=3,$O23="SSc cutanée diffuse",$W23="Oui",$Z23="Oui"),1,0) -> 0
A24: 360 | B24: 1 | C24: nom23 | D24: pat23 | E24: pre23 | F24: Femme | G24: 1946-03-08 | H24: 75 | I24: 2021-04-21 | J24: Oui | K24: Oui | L24: Oui | M24: Oui | N24: 2021-06-18 | O24: SSc cutanée limitée | P24: 2021 | T24: =YEAR(N24)-R24 -> 2021 | U24: 2019 | W24: Non | Z24: Non | AD24: Non | AE24: Non | DB24: Non fait | DF24: Fait | DG24: 2021-04-21 | DH24: Non | DI24: =IF(AND(T24>3,O24="SSc cutanée limitée",W24="Non",Z24="Non"),1,0) -> 1 | DJ24: =IF(AND(T24>3,O24="SSc cutanée limitée",W24="Oui",Y24="PID limitée",Z24="Non"),1,0) -> 0 | DK24: =IF(AND(T24>3,O24="SSc cutanée limitée",W24="Oui",Y24="PID extensive",Z24="Non"),1,0) -> 0 | DL24: =IF(AND(T24>3,O24="SSc cutanée limitée",W24="Non",Z24="Oui"),1,0) -> 0 | DM24: =IF(AND(T24>3,O24="SSc cutanée limitée",W24="Oui",Z24="Oui"),1,0) -> 0 | DN24: =IF(AND($T24>3,$O24="SSc cutanée diffuse",$W24="Non",$Z24="Non"),1,0) -> 0 | DO24: =IF(AND($T24>3,$O24="SSc cutanée diffuse",$W24="Oui",$Y24="PID limitée",$Z24="Non"),1,0) -> 0 | DP24: =IF(AND($T24>3,$O24="SSc cutanée diffuse",$W24="Oui",$Y24="PID extensive",$Z24="Non"),1,0) -> 0 | DQ24: =IF(AND($T24>3,$O24="SSc cutanée diffuse",$W24="Non",$Z24="Oui"),1,0) -> 0 | DR24: =IF(AND($T24>3,$O24="SSc cutanée diffuse",$W24="Oui",$Z24="Oui"),1,0) -> 0 | DS24: =IF(AND($T24<=3,$O24="SSc cutanée limitée",$W24="Non",$Z24="Non"),1,0) -> 0 | DT24: =IF(AND($T24<=3,$O24="SSc cutanée limitée",$W24="Oui",$Y24="PID limitée",$Z24="Non"),1,0) -> 0 | DU24: =IF(AND($T24<=3,$O24="SSc cutanée limitée",$W24="Oui",$Y24="PID extensive",$Z24="Non"),1,0) -> 0 | DV24: =IF(AND($T24<=3,$O24="SSc cutanée limitée",$W24="Non",$Z24="Oui"),1,0) -> 0 | DW24: =IF(AND($T24<=3,$O24="SSc cutanée limitée",$W24="Oui",$Z24="Oui"),1,0) -> 0 | DX24: =IF(AND($T24<=3,$O24="SSc cutanée diffuse",$W24="Non",$Z24="Non"),1,0) -> 0 | DY24: =IF(AND($T24<=3,$O24="SSc cutanée diffuse",$W24="Oui",$Y24="PID limitée",$Z24="Non"),1,0) -> 0 | DZ24: =IF(AND($T24<=3,$O24="SSc cutanée diffuse",$W24="Oui",$Y24="PID extensive",$Z24="Non"),1,0) -> 0 | EA24: =IF(AND($T24<=3,$O24="SSc cutanée diffuse",$W24="Non",$Z24="Oui"),1,0) -> 0 | EB24: =IF(AND($T24<=3,$O24="SSc cutanée diffuse",$W24="Oui",$Z24="Oui"),1,0) -> 0
A25: 366 | B25: 1 | C25: nom24 | D25: pat24 | E25: pre24 | F25: Homme | G25: 1942-03-14 | H25: 79 | I25: 2021-04-22 | J25: Oui | K25: Oui | L25: Oui | M25: Oui | N25: 2021-04-22 | O25: SSc cutanée limitée | T25: =YEAR(N25)-R25 -> 2021 | DI25: =IF(AND(T25>3,O25="SSc cutanée limitée",W25="Non",Z25="Non"),1,0) -> 0 | DJ25: =IF(AND(T25>3,O25="SSc cutanée limitée",W25="Oui",Y25="PID limitée",Z25="Non"),1,0) -> 0 | DK25: =IF(AND(T25>3,O25="SSc cutanée limitée",W25="Oui",Y25="PID extensive",Z25="Non"),1,0) -> 0 | DL25: =IF(AND(T25>3,O25="SSc cutanée limitée",W25="Non",Z25="Oui"),1,0) -> 0 | DM25: =IF(AND(T25>3,O25="SSc cutanée limitée",W25="Oui",Z25="Oui"),1,0) -> 0 | DN25: =IF(AND($T25>3,$O25="SSc cutanée diffuse",$W25="Non",$Z25="Non"),1,0) -> 0 | DO25: =IF(AND($T25>3,$O25="SSc cutanée diffuse",$W25="Oui",$Y25="PID limitée",$Z25="Non"),1,0) -> 0 | DP25: =IF(AND($T25>3,$O25="SSc cutanée diffuse",$W25="Oui",$Y25="PID extensive",$Z25="Non"),1,0) -> 0 | DQ25: =IF(AND($T25>3,$O25="SSc cutanée diffuse",$W25="Non",$Z25="Oui"),1,0) -> 0 | DR25: =IF(AND($T25>3,$O25="SSc cutanée diffuse",$W25="Oui",$Z25="Oui"),1,0) -> 0 | DS25: =IF(AND($T25<=3,$O25="SSc cutanée limitée",$W25="Non",$Z25="Non"),1,0) -> 0 | DT25: =IF(AND($T25<=3,$O25="SSc cutanée limitée",$W25="Oui",$Y25="PID limitée",$Z25="Non"),1,0) -> 0 | DU25: =IF(AND($T25<=3,$O25="SSc cutanée limitée",$W25="Oui",$Y25="PID extensive",$Z25="Non"),1,0) -> 0 | DV25: =IF(AND($T25<=3,$O25="SSc cutanée limitée",$W25="Non",$Z25="Oui"),1,0) -> 0 | DW25: =IF(AND($T25<=3,$O25="SSc cutanée limitée",$W25="Oui",$Z25="Oui"),1,0) -> 0 | DX25: =IF(AND($T25<=3,$O25="SSc cutanée diffuse",$W25="Non",$Z25="Non"),1,0) -> 0 | DY25: =IF(AND($T25<=3,$O25="SSc cutanée diffuse",$W25="Oui",$Y25="PID limitée",$Z25="Non"),1,0) -> 0 | DZ25: =IF(AND($T25<=3,$O25="SSc cutanée diffuse",$W25="Oui",$Y25="PID extensive",$Z25="Non"),1,0) -> 0 | EA25: =IF(AND($T25<=3,$O25="SSc cutanée diffuse",$W25="Non",$Z25="Oui"),1,0) -> 0 | EB25: =IF(AND($T25<=3,$O25="SSc cutanée diffuse",$W25="Oui",$Z25="Oui"),1,0) -> 0
A26: 374 | B26: 1 | C26: nom25 | D26: pat25 | E26: pre25 | F26: Homme | G26: 1994-03-09 | H26: 27 | I26: 2021-04-26 | J26: Oui | K26: Oui | L26: Oui | M26: Oui | N26: 2021-03-12 | O26: SSc cutanée limitée | P26: 2021 | R26: 2019 | T26: =YEAR(N26)-R26 -> 2 | U26: 2020 | W26: Non | Z26: Non | AD26: Oui | AE26: Oui | AF26: oui | AN26: oui | AO26: CELLCEPT | AP26: 2000 | AY26: oui | AZ26: AMLOR | BA26: 5 | BX26: oui | BY26: TOCILIZUMAB | BZ26: 8mg/kg | CA26: IV | CE26: oui | CF26: RAMIPRIL | CG26: 10 | DB26: Fait | DC26: 2021-03-12 | DF26: Fait | DG26: 2021-03-12 | DH26: Non | DI26: =IF(AND(T26>3,O26="SSc cutanée limitée",W26="Non",Z26="Non"),1,0) -> 0 | DJ26: =IF(AND(T26>3,O26="SSc cutanée limitée",W26="Oui",Y26="PID limitée",Z26="Non"),1,0) -> 0 | DK26: =IF(AND(T26>3,O26="SSc cutanée limitée",W26="Oui",Y26="PID extensive",Z26="Non"),1,0) -> 0 | DL26: =IF(AND(T26>3,O26="SSc cutanée limitée",W26="Non",Z26="Oui"),1,0) -> 0 | DM26: =IF(AND(T26>3,O26="SSc cutanée limitée",W26="Oui",Z26="Oui"),1,0) -> 0 | DN26: =IF(AND($T26>3,$O26="SSc cutanée diffuse",$W26="Non",$Z26="Non"),1,0) -> 0 | DO26: =IF(AND($T26>3,$O26="SSc cutanée diffuse",$W26="Oui",$Y26="PID limitée",$Z26="Non"),1,0) -> 0 | DP26: =IF(AND($T26>3,$O26="SSc cutanée diffuse",$W26="Oui",$Y26="PID extensive",$Z26="Non"),1,0) -> 0 | DQ26: =IF(AND($T26>3,$O26="SSc cutanée diffuse",$W26="Non",$Z26="Oui"),1,0) -> 0 | DR26: =IF(AND($T26>3,$O26="SSc cutanée diffuse",$W26="Oui",$Z26="Oui"),1,0) -> 0 | DS26: =IF(AND($T26<=3,$O26="SSc cutanée limitée",$W26="Non",$Z26="Non"),1,0) -> 1 | DT26: =IF(AND($T26<=3,$O26="SSc cutanée limitée",$W26="Oui",$Y26="PID limitée",$Z26="Non"),1,0) -> 0 | DU26: =IF(AND($T26<=3,$O26="SSc cutanée limitée",$W26="Oui",$Y26="PID extensive",$Z26="Non"),1,0) -> 0 | DV26: =IF(AND($T26<=3,$O26="SSc cutanée limitée",$W26="Non",$Z26="Oui"),1,0) -> 0 | DW26: =IF(AND($T26<=3,$O26="SSc cutanée limitée",$W26="Oui",$Z26="Oui"),1,0) -> 0 | DX26: =IF(AND($T26<=3,$O26="SSc cutanée diffuse",$W26="Non",$Z26="Non"),1,0) -> 0 | DY26: =IF(AND($T26<=3,$O26="SSc cutanée diffuse",$W26="Oui",$Y26="PID limitée",$Z26="Non"),1,0) -> 0 | DZ26: =IF(AND($T26<=3,$O26="SSc cutanée diffuse",$W26="Oui",$Y26="PID extensive",$Z26="Non"),1,0) -> 0 | EA26: =IF(AND($T26<=3,$O26="SSc cutanée diffuse",$W26="Non",$Z26="Oui"),1,0) -> 0 | EB26: =IF(AND($T26<=3,$O26="SSc cutanée diffuse",$W26="Oui",$Z26="Oui"),1,0) -> 0
