Workbook

Sheet base
A1: Identifiant | B1: pat_ipp | C1: pat_nom | D1: pat_nomjf | E1: pat_prenom | F1: pat_sexe | G1: pat_ddn | H1: age | I1: csmt_date | J1: csmt_collect_donnees | K1: csmt_sang | L1: csmt_genetique | M1: csmt_reutil_sang | N1: date_visite | O1: diag_type | P1: diag_date | Q1: diag_date_nc | R1: rayn_date | S1: rayn_date_nc | T1: rayn_delai | U1: pshr_date | V1: pshr_date_nc | W1: pid | X1: pid_diag_an | Y1: pid_etendue | Z1: htp_kt | AA1: htp_type | AB1: htp_gpe_5_p | AC1: htp_diag_date | AD1: ttt_ant_cortico_is | AE1: ttt_ant_vaso | AF1: ttt_cortico | AG1: ttt_cortico_nom | AH1: ttt_cortico_poso | AI1: ttt_cortico_voie | AJ1: ttt_cyclo | AK1: ttt_cyclo_poso_mg | AL1: ttt_cyclo_poso_sem | AM1: ttt_cyclo_voie | AN1: ttt_mmf_mpa | AO1: ttt_mmf_mpa_nom | AP1: ttt_mmf_mpa_poso | AQ1: ttt_aza | AR1: ttt_aza_nom | AS1: ttt_aza_poso | AT1: ttt_aza_voie | AU1: ttt_metho | AV1: ttt_metho_nom | AW1: ttt_metho_poso | AX1: ttt_metho_voie | AY1: ttt_anti_calci | AZ1: ttt_anti_calci_nom | BA1: ttt_anti_calci_poso | BB1: ttt_d_penicill | BC1: ttt_d_penicill_nom | BD1: ttt_d_penicill_poso | BE1: ttt_anti_palu | BF1: ttt_anti_palu_nom | BG1: ttt_anti_palu_poso_js | BH1: ttt_anti_palu_poso_mg | BI1: ttt_igiv_subs | BJ1: ttt_igiv_subs_nom | BK1: ttt_igiv_subs_poso_text | BL1: ttt_igiv_subs_voie | BM1: ttt_igiv_immuno | BN1: ttt_igiv_immuno_nom | BO1: ttt_igiv_immuno_poso_text | BP1: ttt_igiv_immuno_voie | BQ1: ttt_anticd20 | BR1: ttt_anti_cd20_nom | BS1: ttt_anti_cd20_poso_text | BT1: ttt_anti_tnf | BU1: ttt_anti_tnf_nom | BV1: ttt_anti_tnf_poso_text | BW1: ttt_anti_tnf_voie | BX1: ttt_anti_il6 | BY1: ttt_anti_il6_nom | BZ1: ttt_anti_il6_poso_text | CA1: ttt_anti_il6_voie | CB1: ttt_inhib_calc | CC1: ttt_inhib_calc_nom | CD1: ttt_inhib_calc_poso_text | CE1: ttt_iec_ara2 | CF1: ttt_iec_ara2_nom | CG1: ttt_iec_ara2_poso_text | CH1: ttt_diuretiques | CI1: ttt_diuretiques_nom | CJ1: ttt_diuretiques_poso_text | CK1: ttt_diuretiques_voie | CL1: ttt_b_bloquant | CM1: ttt_b_bloquant_nom | CN1: ttt_b_bloquant_poso_text | CO1: ttt_ipde5 | CP1: ttt_ipde5_nom | CQ1: ttt_ipde5_poso_text | CR1: ttt_anti_recep_endo | CS1: ttt_anti_recep_endo_nom | CT1: ttt_anti_recep_endo_poso_text | CU1: ttt_prostacycl | CV1: ttt_prostacycl_nom | CW1: ttt_prostacycl_poso_text | CX1: ttt_prostacycl_voie | CY1: ttt_inhib_guanyl | CZ1: ttt_inhib_guanyl_nom | DA1: ttt_inhib_guanyl_poso_text | DB1: scan_fait | DC1: scan_date | DD1: scan_pid | DE1: scan_pid_etendue | DF1: ett_fait | DG1: ett_date | DH1: htp_ett | DI1: gpe1 | DJ1: gpe2 | DK1: gpe3 | DL1: gpe4 | DM1: gpe5 | DN1: gpe6 | DO1: gpe7 | DP1: gpe8 | DQ1: gpe9 | DR1: gpe10 | DS1: gpe11 | DT1: gpe12 | DU1: gpe13 | DV1: gpe14 | DW1: gpe15 | DX1: gpe16 | DY1: gpe17 | DZ1: gpe18 | EA1: gpe19 | EB1: gpe20
A2: 194 | B2: 1 | C2: nom1 | D2: pat1 | E2: pre1 | F2: Homme | G2: 1947-07-29 | H2: 73 | I2: 2020-09-17 | J2: Oui | K2: Oui | L2: Oui | M2: Oui | N2: 2020-09-17 | O2: SSc cutanée diffuse | P2: 2020 | R2: 2015 | T2: =YEAR(N2)-R2 -> 5 | U2: 2015 | W2: Oui | X2: 2020 | Y2: PID limitée | Z2: Oui | AA2: groupe 1 (hypertension artérielle pulmonaire) | AC2: 2020 | AD2: Non | AE2: Non | CL2: oui | CM2: BISOPROLOL | CN2: 5 | CO2: oui | CP2: TADALAFIL | CQ2: 40 | DB2: Fait | DC2: 2020-09-15 | DD2: Oui | DE2: Ne sait pas | DF2: Non fait | DI2: =IF(AND($T2>3,$O2="SSc cutanée limitée",$W2="Non",$Z2="Non"),1,0) -> 0 | DJ2: =IF(AND($T2>3,$O2="SSc cutanée limitée",$W2="Oui",$Y2="PID limitée",$Z2="Non"),1,0) -> 0 | DK2: =IF(AND($T2>3,$O2="SSc cutanée limitée",$W2="Oui",$Y2="PID extensive",$Z2="Non"),1,0) -> 0 | DL2: =IF(AND($T2>3,$O2="SSc cutanée limitée",$W2="Non",$Z2="Oui"),1,0) -> 0 | DM2: =IF(AND($T2>3,$O2="SSc cutanée limitée",$W2="Oui",$Z2="Oui"),1,0) -> 0 | DN2: =IF(AND($T2>3,$O2="SSc cutanée diffuse",$W2="Non",$Z2="Non"),1,0) -> 0 | DO2: =IF(AND($T2>3,$O2="SSc cutanée diffuse",$W2="Oui",$Y2="PID limitée",$Z2="Non"),1,0) -> 0 | DP2: =IF(AND($T2>3,$O2="SSc cutanée diffuse",$W2="Oui",$Y2="PID extensive",$Z2="Non"),1,0) -> 0 | DQ2: =IF(AND($T2>3,$O2="SSc cutanée diffuse",$W2="Non",$Z2="Oui"),1,0) -> 0 | DR2: =IF(AND($T2>3,$O2="SSc cutanée diffuse",$W2="Oui",$Z2="Oui"),1,0) -> 1 | DS2: =IF(AND($T2<=3,$O2="SSc cutanée limitée",$W2="Non",$Z2="Non"),1,0) -> 0 | DT2: =IF(AND($T2<=3,$O2="SSc cutanée limitée",$W2="Oui",$Y2="PID limitée",$Z2="Non"),1,0) -> 0 | DU2: =IF(AND($T2<=3,$O2="SSc cutanée limitée",$W2="Oui",$Y2="PID extensive",$Z2="Non"),1,0) -> 0 | DV2: =IF(AND($T2<=3,$O2="SSc cutanée limitée",$W2="Non",$Z2="Oui"),1,0) -> 0 | DW2: =IF(AND($T2<=3,$O2="SSc cutanée limitée",$W2="Oui",$Z2="Oui"),1,0) -> 0 | DX2: =IF(AND($T2<=3,$O2="SSc cutanée diffuse",$W2="Non",$Z2="Non"),1,0) -> 0 | DY2: =IF(AND($T2<=3,$O2="SSc cutanée diffuse",$W2="Oui",$Y2="PID limitée",$Z2="Non"),1,0) -> 0 | DZ2: =IF(AND($T2<=3,$O2="SSc cutanée diffuse",$W2="Oui",$Y2="PID extensive",$Z2="Non"),1,0) -> 0 | EA2: =IF(AND($T2<=3,$O2="SSc cutanée diffuse",$W2="Non",$Z2="Oui"),1,0) -> 0 | EB2: =IF(AND($T2<=3,$O2="SSc cutanée diffuse",$W2="Oui",$Z2="Oui"),1,0) -> 0
A3: 229 | B3: 1 | C3: nom2 | D3: pat2 | E3: pre2 | F3: Homme | G3: 1948-07-23 | H3: 72 | I3: 2020-12-23 | J3: Oui | K3: Oui | L3: Oui | M3: Oui | N3: 2020-12-23 | O3: SSc cutanée diffuse | P3: 2011 | R3: 2011 | T3: =YEAR(N3)-R3 -> 9 | U3: 2011 | W3: Oui | X3: 2011 | Y3: PID limitée | Z3: Non | AD3: Non | AE3: Oui | AF3: oui | AN3: oui | AO3: MYFORTIC | AP3: 720 | BE3: oui | BF3: PLAQUENIL | BG3: 7 | BH3: 200 | CB3: oui | CC3: Amlodipine | CD3: 5 | DC3: 2020-12-23 | DG3: 2020-12-23 | DI3: =IF(AND(T3>3,O3="SSc cutanée limitée",W3="Non",Z3="Non"),1,0) -> 0 | DJ3: =IF(AND(T3>3,O3="SSc cutanée limitée",W3="Oui",Y3="PID limitée",Z3="Non"),1,0) -> 0 | DK3: =IF(AND(T3>3,O3="SSc cutanée limitée",W3="Oui",Y3="PID extensive",Z3="Non"),1,0) -> 0 | DL3: =IF(AND(T3>3,O3="SSc cutanée limitée",W3="Non",Z3="Oui"),1,0) -> 0 | DM3: =IF(AND(T3>3,O3="SSc cutanée limitée",W3="Oui",Z3="Oui"),1,0) -> 0 | DN3: =IF(AND($T3>3,$O3="SSc cutanée diffuse",$W3="Non",$Z3="Non"),1,0) -> 0 | DO3: =IF(AND($T3>3,$O3="SSc cutanée diffuse",$W3="Oui",$Y3="PID limitée",$Z3="Non"),1,0) -> 1 | DP3: =IF(AND($T3>3,$O3="SSc cutanée diffuse",$W3="Oui",$Y3="PID extensive",$Z3="Non"),1,0) -> 0 | DQ3: =IF(AND($T3>3,$O3="SSc cutanée diffuse",$W3="Non",$Z3="Oui"),1,0) -> 0 | DR3: =IF(AND($T3>3,$O3="SSc cutanée diffuse",$W3="Oui",$Z3="Oui"),1,0) -> 0 | DS3: =IF(AND($T3<=3,$O3="SSc cutanée limitée",$W3="Non",$Z3="Non"),1,0) -> 0 | DT3: =IF(AND($T3<=3,$O3="SSc cutanée limitée",$W3="Oui",$Y3="PID limitée",$Z3="Non"),1,0) -> 0 | DU3: =IF(AND($T3<=3,$O3="SSc cutanée limitée",$W3="Oui",$Y3="PID extensive",$Z3="Non"),1,0) -> 0 | DV3: =IF(AND($T3<=3,$O3="SSc cutanée limitée",$W3="Non",$Z3="Oui"),1,0) -> 0 | DW3: =IF(AND($T3<=3,$O3="SSc cutanée limitée",$W3="Oui",$Z3="Oui"),1,0) -> 0 | DX3: =IF(AND($T3<=3,$O3="SSc cutanée diffuse",$W3="Non",$Z3="Non"),1,0) -> 0 | DY3: =IF(AND($T3<=3,$O3="SSc cutanée diffuse",$W3="Oui",$Y3="PID limitée",$Z3="Non"),1,0) -> 0 | DZ3: =IF(AND($T3<=3,$O3="SSc cutanée diffuse",$W3="Oui",$Y3="PID extensive",$Z3="Non"),1,0) -> 0 | EA3: =IF(AND($T3<=3,$O3="SSc cutanée diffuse",$W3="Non",$Z3="Oui"),1,0) -> 0 | EB3: =IF(AND($T3<=3,$O3="SSc cutanée diffuse",$W3="Oui",$Z3="Oui"),1,0) -> 0
A4: 229 | B4: 1 | C4: nom3 | D4: pat3 | E4: pre3 | F4: Homme | G4: 1948-07-23 | H4: 73 | I4: 2020-12-23 | J4: Oui | K4: Oui | L4: Oui | M4: Oui | N4: 2021-10-07 | O4: SSc cutanée diffuse | P4: 2011 | R4: 2011 | T4: =YEAR(N4)-R4 -> 10 | U4: 2011 | W4: Oui | X4: 2011 | Y4: PID limitée | Z4: Non | AF4: oui | AN4: oui | CB4: oui | DB4: Non fait | DC4: 2021-10-07 | DF4: Fait | DG4: 2021-10-07 | DI4: =IF(AND(T4>3,O4="SSc cutanée limitée",W4="Non",Z4="Non"),1,0) -> 0 | DJ4: =IF(AND(T4>3,O4="SSc cutanée limitée",W4="Oui",Y4="PID limitée",Z4="Non"),1,0) -> 0 | DK4: =IF(AND(T4>3,O4="SSc cutanée limitée",W4="Oui",Y4="PID extensive",Z4="Non"),1,0) -> 0 | DL4: =IF(AND(T4>3,O4="SSc cutanée limitée",W4="Non",Z4="Oui"),1,0) -> 0 | DM4: =IF(AND(T4>3,O4="SSc cutanée limitée",W4="Oui",Z4="Oui"),1,0) -> 0 | DN4: =IF(AND($T4>3,$O4="SSc cutanée diffuse",$W4="Non",$Z4="Non"),1,0) -> 0 | DO4: =IF(AND($T4>3,$O4="SSc cutanée diffuse",$W4="Oui",$Y4="PID limitée",$Z4="Non"),1,0) -> 1 | DP4: =IF(AND($T4>3,$O4="SSc cutanée diffuse",$W4="Oui",$Y4="PID extensive",$Z4="Non"),1,0) -> 0 | DQ4: =IF(AND($T4>3,$O4="SSc cutanée diffuse",$W4="Non",$Z4="Oui"),1,0) -> 0 | DR4: =IF(AND($T4>3,$O4="SSc cutanée diffuse",$W4="Oui",$Z4="Oui"),1,0) -> 0 | DS4: =IF(AND($T4<=3,$O4="SSc cutanée limitée",$W4="Non",$Z4="Non"),1,0) -> 0 | DT4: =IF(AND($T4<=3,$O4="SSc cutanée limitée",$W4="Oui",$Y4="PID limitée",$Z4="Non"),1,0) -> 0 | DU4: =IF(AND($T4<=3,$O4="SSc cutanée limitée",$W4="Oui",$Y4="PID extensive",$Z4="Non"),1,0) -> 0 | DV4: =IF(AND($T4<=3,$O4="SSc cutanée limitée",$W4="Non",$Z4="Oui"),1,0) -> 0 | DW4: =IF(AND($T4<=3,$O4="SSc cutanée limitée",$W4="Oui",$Z4="Oui"),1,0) -> 0 | DX4: =IF(AND($T4<=3,$O4="SSc cutanée diffuse",$W4="Non",$Z4="Non"),1,0) -> 0 | DY4: =IF(AND($T4<=3,$O4="SSc cutanée diffuse",$W4="Oui",$Y4="PID limitée",$Z4="Non"),1,0) -> 0 | DZ4: =IF(AND($T4<=3,$O4="SSc cutanée diffuse",$W4="Oui",$Y4="PID extensive",$Z4="Non"),1,0) -> 0 | EA4: =IF(AND($T4<=3,$O4="SSc cutanée diffuse",$W4="Non",$Z4="Oui"),1,0) -> 0 | EB4: =IF(AND($T4<=3,$O4="SSc cutanée diffuse",$W4="Oui",$Z4="Oui"),1,0) -> 0
A5: 253 | B5: 1 | C5: nom4 | D5: pat4 | E5: pre4 | F5: Homme | G5: 1966-08-18 | H5: 55 | I5: 2021-02-17 | J5: Oui | K5: Oui | L5: Oui | M5: Oui | N5: 2021-02-17 | O5: SSc cutanée diffuse | P5: 2013 | R5: 2012 | T5: =YEAR(N5)-R5 -> 9 | U5: 2013 | W5: Oui | X5: 2016 | Y5: PID limitée | Z5: Non | AD5: Oui | AE5: Oui | AF5: oui | AN5: oui | AO5: CELLCEPT 500 | AP5: 2000 | CB5: oui | CC5: DILTIAZEM LP 90 | CD5: 180 | CE5: oui | CF5: RAMIPRIL 5 | CG5: 10 | DB5: Non fait | DF5: Fait | DG5: 2021-01-28 | DH5: Non | DI5: =IF(AND(T5>3,O5="SSc cutanée limitée",W5="Non",Z5="Non"),1,0) -> 0 | DJ5: =IF(AND(T5>3,O5="SSc cutanée limitée",W5="Oui",Y5="PID limitée",Z5="Non"),1,0) -> 0 | DK5: =IF(AND(T5>3,O5="SSc cutanée limitée",W5="Oui",Y5="PID extensive",Z5="Non"),1,0) -> 0 | DL5: =IF(AND(T5>3,O5="SSc cutanée limitée",W5="Non",Z5="Oui"),1,0) -> 0 | DM5: =IF(AND(T5>3,O5="SSc cutanée limitée",W5="Oui",Z5="Oui"),1,0) -> 0 | DN5: =IF(AND($T5>3,$O5="SSc cutanée diffuse",$W5="Non",$Z5="Non"),1,0) -> 0 | DO5: =IF(AND($T5>3,$O5="SSc cutanée diffuse",$W5="Oui",$Y5="PID limitée",$Z5="Non"),1,0) -> 1 | DP5: =IF(AND($T5>3,$O5="SSc cutanée diffuse",$W5="Oui",$Y5="PID extensive",$Z5="Non"),1,0) -> 0 | DQ5: =IF(AND($T5>3,$O5="SSc cutanée diffuse",$W5="Non",$Z5="Oui"),1,0) -> 0 | DR5: =IF(AND($T5>3,$O5="SSc cutanée diffuse",$W5="Oui",$Z5="Oui"),1,0) -> 0 | DS5: =IF(AND($T5<=3,$O5="SSc cutanée limitée",$W5="Non",$Z5="Non"),1,0) -> 0 | DT5: =IF(AND($T5<=3,$O5="SSc cutanée limitée",$W5="Oui",$Y5="PID limitée",$Z5="Non"),1,0) -> 0 | DU5: =IF(AND($T5<=3,$O5="SSc cutanée limitée",$W5="Oui",$Y5="PID extensive",$Z5="Non"),1,0) -> 0 | DV5: =IF(AND($T5<=3,$O5="SSc cutanée limitée",$W5="Non",$Z5="Oui"),1,0) -> 0 | DW5: =IF(AND($T5<=3,$O5="SSc cutanée limitée",$W5="Oui",$Z5="Oui"),1,0) -> 0 | DX5: =IF(AND($T5<=3,$O5="SSc cutanée diffuse",$W5="Non",$Z5="Non"),1,0) -> 0 | DY5: =IF(AND($T5<=3,$O5="SSc cutanée diffuse",$W5="Oui",$Y5="PID limitée",$Z5="Non"),1,0) -> 0 | DZ5: =IF(AND($T5<=3,$O5="SSc cutanée diffuse",$W5="Oui",$Y5="PID extensive",$Z5="Non"),1,0) -> 0 | EA5: =IF(AND($T5<=3,$O5="SSc cutanée diffuse",$W5="Non",$Z5="Oui"),1,0) -> 0 | EB5: =IF(AND($T5<=3,$O5="SSc cutanée diffuse",$W5="Oui",$Z5="Oui"),1,0) -> 0
A6: 255 | B6: 1 | C6: nom5 | D6: pat5 | E6: pre5 | F6: Femme | G6: 1965-04-06 | H6: 56 | I6: 2021-02-17 | J6: Oui | K6: Oui | L6: Oui | M6: Oui | T6: =YEAR(N6)-R6 -> 1900 | DI6: =IF(AND(T6>3,O6="SSc cutanée limitée",W6="Non",Z6="Non"),1,0) -> 0 | DJ6: =IF(AND(T6>3,O6="SSc cutanée limitée",W6="Oui",Y6="PID limitée",Z6="Non"),1,0) -> 0 | DK6: =IF(AND(T6>3,O6="SSc cutanée limitée",W6="Oui",Y6="PID extensive",Z6="Non"),1,0) -> 0 | DL6: =IF(AND(T6>3,O6="SSc cutanée limitée",W6="Non",Z6="Oui"),1,0) -> 0 | DM6: =IF(AND(T6>3,O6="SSc cutanée limitée",W6="Oui",Z6="Oui"),1,0) -> 0 | DN6: =IF(AND($T6>3,$O6="SSc cutanée diffuse",$W6="Non",$Z6="Non"),1,0) -> 0 | DO6: =IF(AND($T6>3,$O6="SSc cutanée diffuse",$W6="Oui",$Y6="PID limitée",$Z6="Non"),1,0) -> 0 | DP6: =IF(AND($T6>3,$O6="SSc cutanée diffuse",$W6="Oui",$Y6="PID extensive",$Z6="Non"),1,0) -> 0 | DQ6: =IF(AND($T6>3,$O6="SSc cutanée diffuse",$W6="Non",$Z6="Oui"),1,0) -> 0 | DR6: =IF(AND($T6>3,$O6="SSc cutanée diffuse",$W6="Oui",$Z6="Oui"),1,0) -> 0 | DS6: =IF(AND($T6<=3,$O6="SSc cutanée limitée",$W6="Non",$Z6="Non"),1,0) -> 0 | DT6: =IF(AND($T6<=3,$O6="SSc cutanée limitée",$W6="Oui",$Y6="PID limitée",$Z6="Non"),1,0) -> 0 | DU6: =IF(AND($T6<=3,$O6="SSc cutanée limitée",$W6="Oui",$Y6="PID extensive",$Z6="Non"),1,0) -> 0 | DV6: =IF(AND($T6<=3,$O6="SSc cutanée limitée",$W6="Non",$Z6="Oui"),1,0) -> 0 | DW6: =IF(AND($T6<=3,$O6="SSc cutanée limitée",$W6="Oui",$Z6="Oui"),1,0) -> 0 | DX6: =IF(AND($T6<=3,$O6="SSc cutanée diffuse",$W6="Non",$Z6="Non"),1,0) -> 0 | DY6: =IF(AND($T6<=3,$O6="SSc cutanée diffuse",$W6="Oui",$Y6="PID limitée",$Z6="Non"),1,0) -> 0 | DZ6: =IF(AND($T6<=3,$O6="SSc cutanée diffuse",$W6="Oui",$Y6="PID extensive",$Z6="Non"),1,0) -> 0 | EA6: =IF(AND($T6<=3,$O6="SSc cutanée diffuse",$W6="Non",$Z6="Oui"),1,0) -> 0 | EB6: =IF(AND($T6<=3,$O6="SSc cutanée diffuse",$W6="Oui",$Z6="Oui"),1,0) -> 0
A7: 261 | B7: 1 | C7: nom6 | D7: pat6 | E7: pre6 | F7: Femme | G7: 1969-08-05 | H7: 52 | I7: 2021-02-18 | J7: Oui | K7: Oui | L7: Oui | M7: Oui | N7: 2021-02-18 | O7: SSc cutanée diffuse | P7: 2020 | R7: 2017 | T7: =YEAR(N7)-R7 -> 4 | U7: 2019 | W7: Oui | X7: 2019 | Y7: PID extensive | Z7: Non | AD7: Oui | AE7: Oui | AF7: oui | AJ7: oui | AM7: IV | CB7: oui | CC7: AMLOR | CD7: 10 | DB7: Non fait | DF7: Non fait | DI7: =IF(AND(T7>3,O7="SSc cutanée limitée",W7="Non",Z7="Non"),1,0) -> 0 | DJ7: =IF(AND(T7>3,O7="SSc cutanée limitée",W7="Oui",Y7="PID limitée",Z7="Non"),1,0) -> 0 | DK7: =IF(AND(T7>3,O7="SSc cutanée limitée",W7="Oui",Y7="PID extensive",Z7="Non"),1,0) -> 0 | DL7: =IF(AND(T7>3,O7="SSc cutanée limitée",W7="Non",Z7="Oui"),1,0) -> 0 | DM7: =IF(AND(T7>3,O7="SSc cutanée limitée",W7="Oui",Z7="Oui"),1,0) -> 0 | DN7: =IF(AND($T7>3,$O7="SSc cutanée diffuse",$W7="Non",$Z7="Non"),1,0) -> 0 | DO7: =IF(AND($T7>3,$O7="SSc cutanée diffuse",$W7="Oui",$Y7="PID limitée",$Z7="Non"),1,0) -> 0 | DP7: =IF(AND($T7>3,$O7="SSc cutanée diffuse",$W7="Oui",$Y7="PID extensive",$Z7="Non"),1,0) -> 1 | DQ7: =IF(AND($T7>3,$O7="SSc cutanée diffuse",$W7="Non",$Z7="Oui"),1,0) -> 0 | DR7: =IF(AND($T7>3,$O7="SSc cutanée diffuse",$W7="Oui",$Z7="Oui"),1,0) -> 0 | DS7: =IF(AND($T7<=3,$O7="SSc cutanée limitée",$W7="Non",$Z7="Non"),1,0) -> 0 | DT7: =IF(AND($T7<=3,$O7="SSc cutanée limitée",$W7="Oui",$Y7="PID limitée",$Z7="Non"),1,0) -> 0 | DU7: =IF(AND($T7<=3,$O7="SSc cutanée limitée",$W7="Oui",$Y7="PID extensive",$Z7="Non"),1,0) -> 0 | DV7: =IF(AND($T7<=3,$O7="SSc cutanée limitée",$W7="Non",$Z7="Oui"),1,0) -> 0 | DW7: =IF(AND($T7<=3,$O7="SSc cutanée limitée",$W7="Oui",$Z7="Oui"),1,0) -> 0 | DX7: =IF(AND($T7<=3,$O7="SSc cutanée diffuse",$W7="Non",$Z7="Non"),1,0) -> 0 | DY7: =IF(AND($T7<=3,$O7="SSc cutanée diffuse",$W7="Oui",$Y7="PID limitée",$Z7="Non"),1,0) -> 0 | DZ7: =IF(AND($T7<=3,$O7="SSc cutanée diffuse",$W7="Oui",$Y7="PID extensive",$Z7="Non"),1,0) -> 0 | EA7: =IF(AND($T7<=3,$O7="SSc cutanée diffuse",$W7="Non",$Z7="Oui"),1,0) -> 0 | EB7: =IF(AND($T7<=3,$O7="SSc cutanée diffuse",$W7="Oui",$Z7="Oui"),1,0) -> 0
A8: 263 | B8: 1 | C8: nom7 | D8: pat7 | E8: pre7 | F8: Femme | G8: 1963-05-03 | H8: 58 | I8: 2021-02-19 | J8: Oui | K8: Oui | L8: Oui | M8: Oui | N8: 2021-02-19 | O8: SSc cutanée limitée | P8: 2018 | R8: 2014 | T8: =YEAR(N8)-R8 -> 7 | U8: 2018 | W8: Oui | X8: 2018 | Y8: PID extensive | Z8: Non | AD8: Non | AE8: Oui | AF8: oui | AN8: oui | AO8: CELLCEPT 500 | AP8: 1500 | CB8: oui | CC8: VERAPAMIL LP 240 | CD8: 240 | CE8: oui | CF8: VALSARTAN 160 | CG8: 160 | DB8: Non fait | DG8: 2021-04-29 | DI8: =IF(AND(T8>3,O8="SSc cutanée limitée",W8="Non",Z8="Non"),1,0) -> 0 | DJ8: =IF(AND(T8>3,O8="SSc cutanée limitée",W8="Oui",Y8="PID limitée",Z8="Non"),1,0) -> 0 | DK8: =IF(AND(T8>3,O8="SSc cutanée limitée",W8="Oui",Y8="PID extensive",Z8="Non"),1,0) -> 1 | DL8: =IF(AND(T8>3,O8="SSc cutanée limitée",W8="Non",Z8="Oui"),1,0) -> 0 | DM8: =IF(AND(T8>3,O8="SSc cutanée limitée",W8="Oui",Z8="Oui"),1,0) -> 0 | DN8: =IF(AND($T8>3,$O8="SSc cutanée diffuse",$W8="Non",$Z8="Non"),1,0) -> 0 | DO8: =IF(AND($T8>3,$O8="SSc cutanée diffuse",$W8="Oui",$Y8="PID limitée",$Z8="Non"),1,0) -> 0 | DP8: =IF(AND($T8>3,$O8="SSc cutanée diffuse",$W8="Oui",$Y8="PID extensive",$Z8="Non"),1,0) -> 0 | DQ8: =IF(AND($T8>3,$O8="SSc cutanée diffuse",$W8="Non",$Z8="Oui"),1,0) -> 0 | DR8: =IF(AND($T8>3,$O8="SSc cutanée diffuse",$W8="Oui",$Z8="Oui"),1,0) -> 0 | DS8: =IF(AND($T8<=3,$O8="SSc cutanée limitée",$W8="Non",$Z8="Non"),1,0) -> 0 | DT8: =IF(AND($T8<=3,$O8="SSc cutanée limitée",$W8="Oui",$Y8="PID limitée",$Z8="Non"),1,0) -> 0 | DU8: =IF(AND($T8<=3,$O8="SSc cutanée limitée",$W8="Oui",$Y8="PID extensive",$Z8="Non"),1,0) -> 0 | DV8: =IF(AND($T8<=3,$O8="SSc cutanée limitée",$W8="Non",$Z8="Oui"),1,0) -> 0 | DW8: =IF(AND($T8<=3,$O8="SSc cutanée limitée",$W8="Oui",$Z8="Oui"),1,0) -> 0 | DX8: =IF(AND($T8<=3,$O8="SSc cutanée diffuse",$W8="Non",$Z8="Non"),1,0) -> 0 | DY8: =IF(AND($T8<=3,$O8="SSc cutanée diffuse",$W8="Oui",$Y8="PID limitée",$Z8="Non"),1,0) -> 0 | DZ8: =IF(AND($T8<=3,$O8="SSc cutanée diffuse",$W8="Oui",$Y8="PID extensive",$Z8="Non"),1,0) -> 0 | EA8: =IF(AND($T8<=3,$O8="SSc cutanée diffuse",$W8="Non",$Z8="Oui"),1,0) -> 0 | EB8: =IF(AND($T8<=3,$O8="SSc cutanée diffuse",$W8="Oui",$Z8="Oui"),1,0) -> 0
A9: 265 | B9: 1 | C9: nom8 | D9: pat8 | E9: pre8 | F9: Femme | G9: 1967-06-09 | H9: 54 | I9: 2021-02-19 | J9: Oui | K9: Oui | L9: Oui | M9: Oui | N9: 2021-02-19 | O9: SSc cutanée limitée | P9: 2004 | R9: 2004 | T9: =YEAR(N9)-R9 -> 17 | U9: 2004 | W9: Non | Z9: Non | AD9: Non | AE9: Non | CR9: oui | CS9: TRACLEER 120 | CT9: 250 | DB9: Non fait | DG9: 2021-04-29 | DI9: =IF(AND(T9>3,O9="SSc cutanée limitée",W9="Non",Z9="Non"),1,0) -> 1 | DJ9: =IF(AND(T9>3,O9="SSc cutanée limitée",W9="Oui",Y9="PID limitée",Z9="Non"),1,0) -> 0 | DK9: =IF(AND(T9>3,O9="SSc cutanée limitée",W9="Oui",Y9="PID extensive",Z9="Non"),1,0) -> 0 | DL9: =IF(AND(T9>3,O9="SSc cutanée limitée",W9="Non",Z9="Oui"),1,0) -> 0 | DM9: =IF(AND(T9>3,O9="SSc cutanée limitée",W9="Oui",Z9="Oui"),1,0) -> 0 | DN9: =IF(AND($T9>3,$O9="SSc cutanée diffuse",$W9="Non",$Z9="Non"),1,0) -> 0 | DO9: =IF(AND($T9>3,$O9="SSc cutanée diffuse",$W9="Oui",$Y9="PID limitée",$Z9="Non"),1,0) -> 0 | DP9: =IF(AND($T9>3,$O9="SSc cutanée diffuse",$W9="Oui",$Y9="PID extensive",$Z9="Non"),1,0) -> 0 | DQ9: =IF(AND($T9>3,$O9="SSc cutanée diffuse",$W9="Non",$Z9="Oui"),1,0) -> 0 | DR9: =IF(AND($T9>3,$O9="SSc cutanée diffuse",$W9="Oui",$Z9="Oui"),1,0) -> 0 | DS9: =IF(AND($T9<=3,$O9="SSc cutanée limitée",$W9="Non",$Z9="Non"),1,0) -> 0 | DT9: =IF(AND($T9<=3,$O9="SSc cutanée limitée",$W9="Oui",$Y9="PID limitée",$Z9="Non"),1,0) -> 0 | DU9: =IF(AND($T9<=3,$O9="SSc cutanée limitée",$W9="Oui",$Y9="PID extensive",$Z9="Non"),1,0) -> 0 | DV9: =IF(AND($T9<=3,$O9="SSc cutanée limitée",$W9="Non",$Z9="Oui"),1,0) -> 0 | DW9: =IF(AND($T9<=3,$O9="SSc cutanée limitée",$W9="Oui",$Z9="Oui"),1,0) -> 0 | DX9: =IF(AND($T9<=3,$O9="SSc cutanée diffuse",$W9="Non",$Z9="Non"),1,0) -> 0 | DY9: =IF(AND($T9<=3,$O9="SSc cutanée diffuse",$W9="Oui",$Y9="PID limitée",$Z9="Non"),1,0) -> 0 | DZ9: =IF(AND($T9<=3,$O9="SSc cutanée diffuse",$W9="Oui",$Y9="PID extensive",$Z9="Non"),1,0) -> 0 | EA9: =IF(AND($T9<=3,$O9="SSc cutanée diffuse",$W9="Non",$Z9="Oui"),1,0) -> 0 | EB9: =IF(AND($T9<=3,$O9="SSc cutanée diffuse",$W9="Oui",$Z9="Oui"),1,0) -> 0
A10: 271 | B10: 1 | C10: nom9 | D10: pat9 | E10: pre9 | F10: Femme | G10: 1975-09-23 | H10: 46 | I10: 2021-03-01 | J10: Oui | K10: Oui | L10: Oui | M10: Oui | N10: 2021-03-01 | T10: =YEAR(N10)-R10 -> 2021 | DI10: =IF(AND(T10>3,O10="SSc cutanée limitée",W10="Non",Z10="Non"),1,0) -> 0 | DJ10: =IF(AND(T10>3,O10="SSc cutanée limitée",W10="Oui",Y10="PID limitée",Z10="Non"),1,0) -> 0 | DK10: =IF(AND(T10>3,O10="SSc cutanée limitée",W10="Oui",Y10="PID extensive",Z10="Non"),1,0) -> 0 | DL10: =IF(AND(T10>3,O10="SSc cutanée limitée",W10="Non",Z10="Oui"),1,0) -> 0 | DM10: =IF(AND(T10>3,O10="SSc cutanée limitée",W10="Oui",Z10="Oui"),1,0) -> 0 | DN10: =IF(AND($T10>3,$O10="SSc cutanée diffuse",$W10="Non",$Z10="Non"),1,0) -> 0 | DO10: =IF(AND($T10>3,$O10="SSc cutanée diffuse",$W10="Oui",$Y10="PID limitée",$Z10="Non"),1,0) -> 0 | DP10: =IF(AND($T10>3,$O10="SSc cutanée diffuse",$W10="Oui",$Y10="PID extensive",$Z10="Non"),1,0) -> 0 | DQ10: =IF(AND($T10>3,$O10="SSc cutanée diffuse",$W10="Non",$Z10="Oui"),1,0) -> 0 | DR10: =IF(AND($T10>3,$O10="SSc cutanée diffuse",$W10="Oui",$Z10="Oui"),1,0) -> 0 | DS10: =IF(AND($T10<=3,$O10="SSc cutanée limitée",$W10="Non",$Z10="Non"),1,0) -> 0 | DT10: =IF(AND($T10<=3,$O10="SSc cutanée limitée",$W10="Oui",$Y10="PID limitée",$Z10="Non"),1,0) -> 0 | DU10: =IF(AND($T10<=3,$O10="SSc cutanée limitée",$W10="Oui",$Y10="PID extensive",$Z10="Non"),1,0) -> 0 | DV10: =IF(AND($T10<=3,$O10="SSc cutanée limitée",$W10="Non",$Z10="Oui"),1,0) -> 0 | DW10: =IF(AND($T10<=3,$O10="SSc cutanée limitée",$W10="Oui",$Z10="Oui"),1,0) -> 0 | DX10: =IF(AND($T10<=3,$O10="SSc cutanée diffuse",$W10="Non",$Z10="Non"),1,0) -> 0 | DY10: =IF(AND($T10<=3,$O10="SSc cutanée diffuse",$W10="Oui",$Y10="PID limitée",$Z10="Non"),1,0) -> 0 | DZ10: =IF(AND($T10<=3,$O10="SSc cutanée diffuse",$W10="Oui",$Y10="PID extensive",$Z10="Non"),1,0) -> 0 | EA10: =IF(AND($T10<=3,$O10="SSc cutanée diffuse",$W10="Non",$Z10="Oui"),1,0) -> 0 | EB10: =IF(AND($T10<=3,$O10="SSc cutanée diffuse",$W10="Oui",$Z10="Oui"),1,0) -> 0
A11: 277 | B11: 1 | C11: nom10 | D11: pat10 | E11: pre10 | F11: Homme | G11: 1955-05-30 | H11: 66 | I11: 2021-03-04 | J11: Oui | K11: Oui | L11: Oui | M11: Oui | N11: 2021-03-04 | O11: SSc cutanée limitée | P11: 2009 | R11: 2008 | T11: =YEAR(N11)-R11 -> 13 | U11: 2009 | W11: Oui | X11: 2009 | Y11: PID extensive | Z11: Non | AD11: NSP | AE11: Oui | CB11: oui | CC11: AMLOR | CD11: 5 | DB11: Fait | DC11: 2015-01-09 | DD11: Oui | DE11: Ne sait pas | DF11: Fait | DG11: 2021-03-04 | DH11: Non | DI11: =IF(AND(T11>3,O11="SSc cutanée limitée",W11="Non",Z11="Non"),1,0) -> 0 | DJ11: =IF(AND(T11>3,O11="SSc cutanée limitée",W11="Oui",Y11="PID limitée",Z11="Non"),1,0) -> 0 | DK11: =IF(AND(T11>3,O11="SSc cutanée limitée",W11="Oui",Y11="PID extensive",Z11="Non"),1,0) -> 1 | DL11: =IF(AND(T11>3,O11="SSc cutanée limitée",W11="Non",Z11="Oui"),1,0) -> 0 | DM11: =IF(AND(T11>3,O11="SSc cutanée limitée",W11="Oui",Z11="Oui"),1,0) -> 0 | DN11: =IF(AND($T11>3,$O11="SSc cutanée diffuse",$W11="Non",$Z11="Non"),1,0) -> 0 | DO11: =IF(AND($T11>3,$O11="SSc cutanée diffuse",$W11="Oui",$Y11="PID limitée",$Z11="Non"),1,0) -> 0 | DP11: =IF(AND($T11>3,$O11="SSc cutanée diffuse",$W11="Oui",$Y11="PID extensive",$Z11="Non"),1,0) -> 0 | DQ11: =IF(AND($T11>3,$O11="SSc cutanée diffuse",$W11="Non",$Z11="Oui"),1,0) -> 0 | DR11: =IF(AND($T11>3,$O11="SSc cutanée diffuse",$W11="Oui",$Z11="Oui"),1,0) -> 0 | DS11: =IF(AND($T11<=3,$O11="SSc cutanée limitée",$W11="Non",$Z11="Non"),1,0) -> 0 | DT11: =IF(AND($T11<=3,$O11="SSc cutanée limitée",$W11="Oui",$Y11="PID limitée",$Z11="Non"),1,0) -> 0 | DU11: =IF(AND($T11<=3,$O11="SSc cutanée limitée",$W11="Oui",$Y11="PID extensive",$Z11="Non"),1,0) -> 0 | DV11: =IF(AND($T11<=3,$O11="SSc cutanée limitée",$W11="Non",$Z11="Oui"),1,0) -> 0 | DW11: =IF(AND($T11<=3,$O11="SSc cutanée limitée",$W11="Oui",$Z11="Oui"),1,0) -> 0 | DX11: =IF(AND($T11<=3,$O11="SSc cutanée diffuse",$W11="Non",$Z11="Non"),1,0) -> 0 | DY11: =IF(AND($T11<=3,$O11="SSc cutanée diffuse",$W11="Oui",$Y11="PID limitée",$Z11="Non"),1,0) -> 0 | DZ11: =IF(AND($T11<=3,$O11="SSc cutanée diffuse",$W11="Oui",$Y11="PID extensive",$Z11="Non"),1,0) -> 0 | EA11: =IF(AND($T11<=3,$O11="SSc cutanée diffuse",$W11="Non",$Z11="Oui"),1,0) -> 0 | EB11: =IF(AND($T11<=3,$O11="SSc cutanée diffuse",$W11="Oui",$Z11="Oui"),1,0) -> 0
A12: 283 | B12: 1 | C12: nom11 | D12: pat11 | E12: pre11 | F12: Femme | G12: 1969-09-09 | H12: 52 | I12: 2021-03-04 | J12: Oui | K12: Oui | L12: Oui | M12: Oui | N12: 2021-03-04 | O12: SSc cutanée diffuse | P12: 2014 | R12: 1992 | T12: =YEAR(N12)-R12 -> 29 | U12: 2010 | W12: Non | Z12: Non | AD12: Non | AE12: Oui | CB12: oui | CD12: 20 | DB12: Fait | DC12: 2020-02-27 | DF12: Fait | DG12: 2021-03-04 | DH12: Non | DI12: =IF(AND(T12>3,O12="SSc cutanée limitée",W12="Non",Z12="Non"),1,0) -> 0 | DJ12: =IF(AND(T12>3,O12="SSc cutanée limitée",W12="Oui",Y12="PID limitée",Z12="Non"),1,0) -> 0 | DK12: =IF(AND(T12>3,O12="SSc cutanée limitée",W12="Oui",Y12="PID extensive",Z12="Non"),1,0) -> 0 | DL12: =IF(AND(T12>3,O12="SSc cutanée limitée",W12="Non",Z12="Oui"),1,0) -> 0 | DM12: =IF(AND(T12>3,O12="SSc cutanée limitée",W12="Oui",Z12="Oui"),1,0) -> 0 | DN12: =IF(AND($T12>3,$O12="SSc cutanée diffuse",$W12="Non",$Z12="Non"),1,0) -> 1 | DO12: =IF(AND($T12>3,$O12="SSc cutanée diffuse",$W12="Oui",$Y12="PID limitée",$Z12="Non"),1,0) -> 0 | DP12: =IF(AND($T12>3,$O12="SSc cutanée diffuse",$W12="Oui",$Y12="PID extensive",$Z12="Non"),1,0) -> 0 | DQ12: =IF(AND($T12>3,$O12="SSc cutanée diffuse",$W12="Non",$Z12="Oui"),1,0) -> 0 | DR12: =IF(AND($T12>3,$O12="SSc cutanée diffuse",$W12="Oui",$Z12="Oui"),1,0) -> 0 | DS12: =IF(AND($T12<=3,$O12="SSc cutanée limitée",$W12="Non",$Z12="Non"),1,0) -> 0 | DT12: =IF(AND($T12<=3,$O12="SSc cutanée limitée",$W12="Oui",$Y12="PID limitée",$Z12="Non"),1,0) -> 0 | DU12: =IF(AND($T12<=3,$O12="SSc cutanée limitée",$W12="Oui",$Y12="PID extensive",$Z12="Non"),1,0) -> 0 | DV12: =IF(AND($T12<=3,$O12="SSc cutanée limitée",$W12="Non",$Z12="Oui"),1,0) -> 0 | DW12: =IF(AND($T12<=3,$O12="SSc cutanée limitée",$W12="Oui",$Z12="Oui"),1,0) -> 0 | DX12: =IF(AND($T12<=3,$O12="SSc cutanée diffuse",$W12="Non",$Z12="Non"),1,0) -> 0 | DY12: =IF(AND($T12<=3,$O12="SSc cutanée diffuse",$W12="Oui",$Y12="PID limitée",$Z12="Non"),1,0) -> 0 | DZ12: =IF(AND($T12<=3,$O12="SSc cutanée diffuse",$W12="Oui",$Y12="PID extensive",$Z12="Non"),1,0) -> 0 | EA12: =IF(AND($T12<=3,$O12="SSc cutanée diffuse",$W12="Non",$Z12="Oui"),1,0) -> 0 | EB12: =IF(AND($T12<=3,$O12="SSc cutanée diffuse",$W12="Oui",$Z12="Oui"),1,0) -> 0
A13: 293 | B13: 1 | C13: nom12 | D13: pat12 | E13: pre12 | F13: Femme | G13: 1972-04-04 | H13: 49 | I13: 2021-03-11 | J13: Oui | K13: Oui | L13: Oui | M13: Oui | N13: 2021-03-11 | O13: SSc cutanée limitée | P13: 2019 | R13: 2019 | T13: =YEAR(N13)-R13 -> 2 | U13: 2019 | W13: Non | Z13: Non | AD13: Non | AE13: Oui | CB13: oui | CC13: AMLOR | CD13: 5 | DB13: Fait | DC13: 2021-03-11 | DF13: Non fait | DI13: =IF(AND(T13>3,O13="SSc cutanée limitée",W13="Non",Z13="Non"),1,0) -> 0 | DJ13: =IF(AND(T13>3,O13="SSc cutanée limitée",W13="Oui",Y13="PID limitée",Z13="Non"),1,0) -> 0 | DK13: =IF(AND(T13>3,O13="SSc cutanée limitée",W13="Oui",Y13="PID extensive",Z13="Non"),1,0) -> 0 | DL13: =IF(AND(T13>3,O13="SSc cutanée limitée",W13="Non",Z13="Oui"),1,0) -> 0 | DM13: =IF(AND(T13>3,O13="SSc cutanée limitée",W13="Oui",Z13="Oui"),1,0) -> 0 | DN13: =IF(AND($T13>3,$O13="SSc cutanée diffuse",$W13="Non",$Z13="Non"),1,0) -> 0 | DO13: =IF(AND($T13>3,$O13="SSc cutanée diffuse",$W13="Oui",$Y13="PID limitée",$Z13="Non"),1,0) -> 0 | DP13: =IF(AND($T13>3,$O13="SSc cutanée diffuse",$W13="Oui",$Y13="PID extensive",$Z13="Non"),1,0) -> 0 | DQ13: =IF(AND($T13>3,$O13="SSc cutanée diffuse",$W13="Non",$Z13="Oui"),1,0) -> 0 | DR13: =IF(AND($T13>3,$O13="SSc cutanée diffuse",$W13="Oui",$Z13="Oui"),1,0) -> 0 | DS13: =IF(AND($T13<=3,$O13="SSc cutanée limitée",$W13="Non",$Z13="Non"),1,0) -> 1 | DT13: =IF(AND($T13<=3,$O13="SSc cutanée limitée",$W13="Oui",$Y13="PID limitée",$Z13="Non"),1,0) -> 0 | DU13: =IF(AND($T13<=3,$O13="SSc cutanée limitée",$W13="Oui",$Y13="PID extensive",$Z13="Non"),1,0) -> 0 | DV13: =IF(AND($T13<=3,$O13="SSc cutanée limitée",$W13="Non",$Z13="Oui"),1,0) -> 0 | DW13: =IF(AND($T13<=3,$O13="SSc cutanée limitée",$W13="Oui",$Z13="Oui"),1,0) -> 0 | DX13: =IF(AND($T13<=3,$O13="SSc cutanée diffuse",$W13="Non",$Z13="Non"),1,0) -> 0 | DY13: =IF(AND($T13<=3,$O13="SSc cutanée diffuse",$W13="Oui",$Y13="PID limitée",$Z13="Non"),1,0) -> 0 | DZ13: =IF(AND($T13<=3,$O13="SSc cutanée diffuse",$W13="Oui",$Y13="PID extensive",$Z13="Non"),1,0) -> 0 | EA13: =IF(AND($T13<=3,$O13="SSc cutanée diffuse",$W13="Non",$Z13="Oui"),1,0) -> 0 | EB13: =IF(AND($T13<=3,$O13="SSc cutanée diffuse",$W13="Oui",$Z13="Oui"),1,0) -> 0
A14: 295 | B14: 1 | C14: nom13 | D14: pat13 | E14: pre13 | F14: Femme | G14: 1965-07-19 | H14: 56 | I14: 2021-03-12 | J14: Oui | K14: Oui | L14: Oui | M14: Oui | N14: 2021-03-12 | O14: SSc cutanée limitée | T14: =YEAR(N14)-R14 -> 2021 | DI14: =IF(AND(T14>3,O14="SSc cutanée limitée",W14="Non",Z14="Non"),1,0) -> 0 | DJ14: =IF(AND(T14>3,O14="SSc cutanée limitée",W14="Oui",Y14="PID limitée",Z14="Non"),1,0) -> 0 | DK14: =IF(AND(T14>3,O14="SSc cutanée limitée",W14="Oui",Y14="PID extensive",Z14="Non"),1,0) -> 0 | DL14: =IF(AND(T14>3,O14="SSc cutanée limitée",W14="Non",Z14="Oui"),1,0) -> 0 | DM14: =IF(AND(T14>3,O14="SSc cutanée limitée",W14="Oui",Z14="Oui"),1,0) -> 0 | DN14: =IF(AND($T14>3,$O14="SSc cutanée diffuse",$W14="Non",$Z14="Non"),1,0) -> 0 | DO14: =IF(AND($T14>3,$O14="SSc cutanée diffuse",$W14="Oui",$Y14="PID limitée",$Z14="Non"),1,0) -> 0 | DP14: =IF(AND($T14>3,$O14="SSc cutanée diffuse",$W14="Oui",$Y14="PID extensive",$Z14="Non"),1,0) -> 0 | DQ14: =IF(AND($T14>3,$O14="SSc cutanée diffuse",$W14="Non",$Z14="Oui"),1,0) -> 0 | DR14: =IF(AND($T14>3,$O14="SSc cutanée diffuse",$W14="Oui",$Z14="Oui"),1,0) -> 0 | DS14: =IF(AND($T14<=3,$O14="SSc cutanée limitée",$W14="Non",$Z14="Non"),1,0) -> 0 | DT14: =IF(AND($T14<=3,$O14="SSc cutanée limitée",$W14="Oui",$Y14="PID limitée",$Z14="Non"),1,0) -> 0 | DU14: =IF(AND($T14<=3,$O14="SSc cutanée limitée",$W14="Oui",$Y14="PID extensive",$Z14="Non"),1,0) -> 0 | DV14: =IF(AND($T14<=3,$O14="SSc cutanée limitée",$W14="Non",$Z14="Oui"),1,0) -> 0 | DW14: =IF(AND($T14<=3,$O14="SSc cutanée limitée",$W14="Oui",$Z14="Oui"),1,0) -> 0 | DX14: =IF(AND($T14<=3,$O14="SSc cutanée diffuse",$W14="Non",$Z14="Non"),1,0) -> 0 | DY14: =IF(AND($T14<=3,$O14="SSc cutanée diffuse",$W14="Oui",$Y14="PID limitée",$Z14="Non"),1,0) -> 0 | DZ14: =IF(AND($T14<=3,$O14="SSc cutanée diffuse",$W14="Oui",$Y14="PID extensive",$Z14="Non"),1,0) -> 0 | EA14: =IF(AND($T14<=3,$O14="SSc cutanée diffuse",$W14="Non",$Z14="Oui"),1,0) -> 0 | EB14: =IF(AND($T14<=3,$O14="SSc cutanée diffuse",$W14="Oui",$Z14="Oui"),1,0) -> 0
A15: 299 | B15: 1 | C15: nom14 | D15: pat14 | E15: pre14 | F15: Femme | G15: 1985-07-19 | H15: 36 | I15: 2021-03-16 | J15: Oui | K15: Oui | L15: Oui | M15: Oui | N15: 2021-03-16 | O15: SSc cutanée limitée | P15: 2021 | R15: 2019 | T15: =YEAR(N15)-R15 -> 2 | U15: 2021 | W15: Non | Z15: Non | AD15: Non | AE15: Oui | CB15: oui | CC15: AMLOR | CD15: 5 | DB15: Fait | DC15: 2021-03-16 | DF15: Fait | DG15: 2021-03-16 | DH15: Non | DI15: =IF(AND(T15>3,O15="SSc cutanée limitée",W15="Non",Z15="Non"),1,0) -> 0 | DJ15: =IF(AND(T15>3,O15="SSc cutanée limitée",W15="Oui",Y15="PID limitée",Z15="Non"),1,0) -> 0 | DK15: =IF(AND(T15>3,O15="SSc cutanée limitée",W15="Oui",Y15="PID extensive",Z15="Non"),1,0) -> 0 | DL15: =IF(AND(T15>3,O15="SSc cutanée limitée",W15="Non",Z15="Oui"),1,0) -> 0 | DM15: =IF(AND(T15>3,O15="SSc cutanée limitée",W15="Oui",Z15="Oui"),1,0) -> 0 | DN15: =IF(AND($T15>3,$O15="SSc cutanée diffuse",$W15="Non",$Z15="Non"),1,0) -> 0 | DO15: =IF(AND($T15>3,$O15="SSc cutanée diffuse",$W15="Oui",$Y15="PID limitée",$Z15="Non"),1,0) -> 0 | DP15: =IF(AND($T15>3,$O15="SSc cutanée diffuse",$W15="Oui",$Y15="PID extensive",$Z15="Non"),1,0) -> 0 | DQ15: =IF(AND($T15>3,$O15="SSc cutanée diffuse",$W15="Non",$Z15="Oui"),1,0) -> 0 | DR15: =IF(AND($T15>3,$O15="SSc cutanée diffuse",$W15="Oui",$Z15="Oui"),1,0) -> 0 | DS15: =IF(AND($T15<=3,$O15="SSc cutanée limitée",$W15="Non",$Z15="Non"),1,0) -> 1 | DT15: =IF(AND($T15<=3,$O15="SSc cutanée limitée",$W15="Oui",$Y15="PID limitée",$Z15="Non"),1,0) -> 0 | DU15: =IF(AND($T15<=3,$O15="SSc cutanée limitée",$W15="Oui",$Y15="PID extensive",$Z15="Non"),1,0) -> 0 | DV15: =IF(AND($T15<=3,$O15="SSc cutanée limitée",$W15="Non",$Z15="Oui"),1,0) -> 0 | DW15: =IF(AND($T15<=3,$O15="SSc cutanée limitée",$W15="Oui",$Z15="Oui"),1,0) -> 0 | DX15: =IF(AND($T15<=3,$O15="SSc cutanée diffuse",$W15="Non",$Z15="Non"),1,0) -> 0 | DY15: =IF(AND($T15<=3,$O15="SSc cutanée diffuse",$W15="Oui",$Y15="PID limitée",$Z15="Non"),1,0) -> 0 | DZ15: =IF(AND($T15<=3,$O15="SSc cutanée diffuse",$W15="Oui",$Y15="PID extensive",$Z15="Non"),1,0) -> 0 | EA15: =IF(AND($T15<=3,$O15="SSc cutanée diffuse",$W15="Non",$Z15="Oui"),1,0) -> 0 | EB15: =IF(AND($T15<=3,$O15="SSc cutanée diffuse",$W15="Oui",$Z15="Oui"),1,0) -> 0
A16: 305 | B16: 1 | C16: nom15 | D16: pat15 | E16: pre15 | F16: Femme | G16: 1988-10-07 | H16: 33 | I16: 2021-03-19 | J16: Oui | K16: Oui | L16: Oui | M16: Oui | N16: 2021-03-19 | O16: SSc cutanée limitée | R16: 2016 | T16: =YEAR(N16)-R16 -> 5 | W16: Non | Z16: Oui | AA16: groupe 1 (hypertension artérielle pulmonaire) | AC16: 2013 | AD16: Oui | AE16: Oui | AF16: oui | AN16: oui | AO16: CELLCEPT 500 | AP16: 2000 | CB16: oui | CC16: NIFEDIPINE | CD16: 30 | CE16: oui | CF16: PERINDOPRIL | CG16: 4 | CR16: oui | CS16: TRACLEER 125 | CT16: 250 | DB16: Fait | DC16: 2021-03-19 | DF16: Fait | DG16: 2021-04-29 | DH16: Oui | DI16: =IF(AND(T16>3,O16="SSc cutanée limitée",W16="Non",Z16="Non"),1,0) -> 0 | DJ16: =IF(AND(T16>3,O16="SSc cutanée limitée",W16="Oui",Y16="PID limitée",Z16="Non"),1,0) -> 0 | DK16: =IF(AND(T16>3,O16="SSc cutanée limitée",W16="Oui",Y16="PID extensive",Z16="Non"),1,0) -> 0 | DL16: =IF(AND(T16>3,O16="SSc cutanée limitée",W16="Non",Z16="Oui"),1,0) -> 1 | DM16: =IF(AND(T16>3,O16="SSc cutanée limitée",W16="Oui",Z16="Oui"),1,0) -> 0 | DN16: =IF(AND($T16>3,$O16="SSc cutanée diffuse",$W16="Non",$Z16="Non"),1,0) -> 0 | DO16: =IF(AND($T16>3,$O16="SSc cutanée diffuse",$W16="Oui",$Y16="PID limitée",$Z16="Non"),1,0) -> 0 | DP16: =IF(AND($T16>3,$O16="SSc cutanée diffuse",$W16="Oui",$Y16="PID extensive",$Z16="Non"),1,0) -> 0 | DQ16: =IF(AND($T16>3,$O16="SSc cutanée diffuse",$W16="Non",$Z16="Oui"),1,0) -> 0 | DR16: =IF(AND($T16>3,$O16="SSc cutanée diffuse",$W16="Oui",$Z16="Oui"),1,0) -> 0 | DS16: =IF(AND($T16<=3,$O16="SSc cutanée limitée",$W16="Non",$Z16="Non"),1,0) -> 0 | DT16: =IF(AND($T16<=3,$O16="SSc cutanée limitée",$W16="Oui",$Y16="PID limitée",$Z16="Non"),1,0) -> 0 | DU16: =IF(AND($T16<=3,$O16="SSc cutanée limitée",$W16="Oui",$Y16="PID extensive",$Z16="Non"),1,0) -> 0 | DV16: =IF(AND($T16<=3,$O16="SSc cutanée limitée",$W16="Non",$Z16="Oui"),1,0) -> 0 | DW16: =IF(AND($T16<=3,$O16="SSc cutanée limitée",$W16="Oui",$Z16="Oui"),1,0) -> 0 | DX16: =IF(AND($T16<=3,$O16="SSc cutanée diffuse",$W16="Non",$Z16="Non"),1,0) -> 0 | DY16: =IF(AND($T16<=3,$O16="SSc cutanée diffuse",$W16="Oui",$Y16="PID limitée",$Z16="Non"),1,0) -> 0 | DZ16: =IF(AND($T16<=3,$O16="SSc cutanée diffuse",$W16="Oui",$Y16="PID extensive",$Z16="Non"),1,0) -> 0 | EA16: =IF(AND($T16<=3,$O16="SSc cutanée diffuse",$W16="Non",$Z16="Oui"),1,0) -> 0 | EB16: =IF(AND($T16<=3,$O16="SSc cutanée diffuse",$W16="Oui",$Z16="Oui"),1,0) -> 0
A17: 307 | B17: 1 | C17: nom16 | D17: pat16 | E17: pre16 | F17: Femme | G17: 1961-06-23 | H17: 60 | I17: 2021-03-22 | J17: Oui | K17: Oui | L17: Oui | M17: Oui | N17: 2021-06-22 | O17: SSc cutanée diffuse | P17: 2017 | R17: 2017 | T17: =YEAR(N17)-R17 -> 4 | U17: 2017 | W17: Oui | X17: 2017 | Y17: PID extensive | Z17: Non | DC17: 2021-06-23 | DG17: 2021-06-23 | DI17: =IF(AND(T17>3,O17="SSc cutanée limitée",W17="Non",Z17="Non"),1,0) -> 0 | DJ17: =IF(AND(T17>3,O17="SSc cutanée limitée",W17="Oui",Y17="PID limitée",Z17="Non"),1,0) -> 0 | DK17: =IF(AND(T17>3,O17="SSc cutanée limitée",W17="Oui",Y17="PID extensive",Z17="Non"),1,0) -> 0 | DL17: =IF(AND(T17>3,O17="SSc cutanée limitée",W17="Non",Z17="Oui"),1,0) -> 0 | DM17: =IF(AND(T17>3,O17="SSc cutanée limitée",W17="Oui",Z17="Oui"),1,0) -> 0 | DN17: =IF(AND($T17>3,$O17="SSc cutanée diffuse",$W17="Non",$Z17="Non"),1,0) -> 0 | DO17: =IF(AND($T17>3,$O17="SSc cutanée diffuse",$W17="Oui",$Y17="PID limitée",$Z17="Non"),1,0) -> 0 | DP17: =IF(AND($T17>3,$O17="SSc cutanée diffuse",$W17="Oui",$Y17="PID extensive",$Z17="Non"),1,0) -> 1 | DQ17: =IF(AND($T17>3,$O17="SSc cutanée diffuse",$W17="Non",$Z17="Oui"),1,0) -> 0 | DR17: =IF(AND($T17>3,$O17="SSc cutanée diffuse",$W17="Oui",$Z17="Oui"),1,0) -> 0 | DS17: =IF(AND($T17<=3,$O17="SSc cutanée limitée",$W17="Non",$Z17="Non"),1,0) -> 0 | DT17: =IF(AND($T17<=3,$O17="SSc cutanée limitée",$W17="Oui",$Y17="PID limitée",$Z17="Non"),1,0) -> 0 | DU17: =IF(AND($T17<=3,$O17="SSc cutanée limitée",$W17="Oui",$Y17="PID extensive",$Z17="Non"),1,0) -> 0 | DV17: =IF(AND($T17<=3,$O17="SSc cutanée limitée",$W17="Non",$Z17="Oui"),1,0) -> 0 | DW17: =IF(AND($T17<=3,$O17="SSc cutanée limitée",$W17="Oui",$Z17="Oui"),1,0) -> 0 | DX17: =IF(AND($T17<=3,$O17="SSc cutanée diffuse",$W17="Non",$Z17="Non"),1,0) -> 0 | DY17: =IF(AND($T17<=3,$O17="SSc cutanée diffuse",$W17="Oui",$Y17="PID limitée",$Z17="Non"),1,0) -> 0 | DZ17: =IF(AND($T17<=3,$O17="SSc cutanée diffuse",$W17="Oui",$Y17="PID extensive",$Z17="Non"),1,0) -> 0 | EA17: =IF(AND($T17<=3,$O17="SSc cutanée diffuse",$W17="Non",$Z17="Oui"),1,0) -> 0 | EB17: =IF(AND($T17<=3,$O17="SSc cutanée diffuse",$W17="Oui",$Z17="Oui"),1,0) -> 0
A18: 309 | B18: 1 | C18: nom17 | D18: pat17 | E18: pre17 | F18: Femme | G18: 1956-09-05 | H18: 65 | I18: 2021-03-22 | J18: Oui | K18: Oui | L18: Oui | M18: Oui | N18: 2021-03-22 | O18: SSc cutanée limitée | P18: 2000 | R18: 1980 | T18: =YEAR(N18)-R18 -> 41 | V18: non connue | W18: Oui | X18: 2008 | Y18: PID limitée | Z18: Non | AD18: Oui | AE18: Non | AF18: oui | CL18: oui | CM18: SOTALOL | CN18: 80 mg ½ cp matin et soir arrêté depuis 7 jours. | DB18: Non fait | DF18: Fait | DG18: 2021-03-22 | DH18: Non | DI18: =IF(AND(T18>3,O18="SSc cutanée limitée",W18="Non",Z18="Non"),1,0) -> 0 | DJ18: =IF(AND(T18>3,O18="SSc cutanée limitée",W18="Oui",Y18="PID limitée",Z18="Non"),1,0) -> 1 | DK18: =IF(AND(T18>3,O18="SSc cutanée limitée",W18="Oui",Y18="PID extensive",Z18="Non"),1,0) -> 0 | DL18: =IF(AND(T18>3,O18="SSc cutanée limitée",W18="Non",Z18="Oui"),1,0) -> 0 | DM18: =IF(AND(T18>3,O18="SSc cutanée limitée",W18="Oui",Z18="Oui"),1,0) -> 0 | DN18: =IF(AND($T18>3,$O18="SSc cutanée diffuse",$W18="Non",$Z18="Non"),1,0) -> 0 | DO18: =IF(AND($T18>3,$O18="SSc cutanée diffuse",$W18="Oui",$Y18="PID limitée",$Z18="Non"),1,0) -> 0 | DP18: =IF(AND($T18>3,$O18="SSc cutanée diffuse",$W18="Oui",$Y18="PID extensive",$Z18="Non"),1,0) -> 0 | DQ18: =IF(AND($T18>3,$O18="SSc cutanée diffuse",$W18="Non",$Z18="Oui"),1,0) -> 0 | DR18: =IF(AND($T18>3,$O18="SSc cutanée diffuse",$W18="Oui",$Z18="Oui"),1,0) -> 0 | DS18: =IF(AND($T18<=3,$O18="SSc cutanée limitée",$W18="Non",$Z18="Non"),1,0) -> 0 | DT18: =IF(AND($T18<=3,$O18="SSc cutanée limitée",$W18="Oui",$Y18="PID limitée",$Z18="Non"),1,0) -> 0 | DU18: =IF(AND($T18<=3,$O18="SSc cutanée limitée",$W18="Oui",$Y18="PID extensive",$Z18="Non"),1,0) -> 0 | DV18: =IF(AND($T18<=3,$O18="SSc cutanée limitée",$W18="Non",$Z18="Oui"),1,0) -> 0 | DW18: =IF(AND($T18<=3,$O18="SSc cutanée limitée",$W18="Oui",$Z18="Oui"),1,0) -> 0 | DX18: =IF(AND($T18<=3,$O18="SSc cutanée diffuse",$W18="Non",$Z18="Non"),1,0) -> 0 | DY18: =IF(AND($T18<=3,$O18="SSc cutanée diffuse",$W18="Oui",$Y18="PID limitée",$Z18="Non"),1,0) -> 0 | DZ18: =IF(AND($T18<=3,$O18="SSc cutanée diffuse",$W18="Oui",$Y18="PID extensive",$Z18="Non"),1,0) -> 0 | EA18: =IF(AND($T18<=3,$O18="SSc cutanée diffuse",$W18="Non",$Z18="Oui"),1,0) -> 0 | EB18: =IF(AND($T18<=3,$O18="SSc cutanée diffuse",$W18="Oui",$Z18="Oui"),1,0) -> 0
A19: 332 | B19: 1 | C19: nom18 | D19: pat18 | E19: pre18 | F19: Femme | G19: 1946-06-19 | H19: 75 | I19: 2021-04-01 | J19: Oui | K19: Oui | L19: Oui | M19: Oui | N19: 2021-04-01 | O19: SSc cutanée limitée | P19: 1999 | R19: 1999 | T19: =YEAR(N19)-R19 -> 22 | U19: 1999 | W19: Oui | X19: 1999 | Y19: PID limitée | Z19: Oui | AA19: groupe 2 (HTP post-capillaire sur atteinte cardiaque gauche) | AC19: 2018 | AD19: Non | AE19: Oui | CB19: oui | CC19: AMLOR | CD19: 10 | DB19: Non fait | DF19: Fait | DG19: 2021-04-01 | DH19: Oui | DI19: =IF(AND(T19>3,O19="SSc cutanée limitée",W19="Non",Z19="Non"),1,0) -> 0 | DJ19: =IF(AND(T19>3,O19="SSc cutanée limitée",W19="Oui",Y19="PID limitée",Z19="Non"),1,0) -> 0 | DK19: =IF(AND(T19>3,O19="SSc cutanée limitée",W19="Oui",Y19="PID extensive",Z19="Non"),1,0) -> 0 | DL19: =IF(AND(T19>3,O19="SSc cutanée limitée",W19="Non",Z19="Oui"),1,0) -> 0 | DM19: =IF(AND(T19>3,O19="SSc cutanée limitée",W19="Oui",Z19="Oui"),1,0) -> 1 | DN19: =IF(AND($T19>3,$O19="SSc cutanée diffuse",$W19="Non",$Z19="Non"),1,0) -> 0 | DO19: =IF(AND($T19>3,$O19="SSc cutanée diffuse",$W19="Oui",$Y19="PID limitée",$Z19="Non"),1,0) -> 0 | DP19: =IF(AND($T19>3,$O19="SSc cutanée diffuse",$W19="Oui",$Y19="PID extensive",$Z19="Non"),1,0) -> 0 | DQ19: =IF(AND($T19>3,$O19="SSc cutanée diffuse",$W19="Non",$Z19="Oui"),1,0) -> 0 | DR19: =IF(AND($T19>3,$O19="SSc cutanée diffuse",$W19="Oui",$Z19="Oui"),1,0) -> 0 | DS19: =IF(AND($T19<=3,$O19="SSc cutanée limitée",$W19="Non",$Z19="Non"),1,0) -> 0 | DT19: =IF(AND($T19<=3,$O19="SSc cutanée limitée",$W19="Oui",$Y19="PID limitée",$Z19="Non"),1,0) -> 0 | DU19: =IF(AND($T19<=3,$O19="SSc cutanée limitée",$W19="Oui",$Y19="PID extensive",$Z19="Non"),1,0) -> 0 | DV19: =IF(AND($T19<=3,$O19="SSc cutanée limitée",$W19="Non",$Z19="Oui"),1,0) -> 0 | DW19: =IF(AND($T19<=3,$O19="SSc cutanée limitée",$W19="Oui",$Z19="Oui"),1,0) -> 0 | DX19: =IF(AND($T19<=3,$O19="SSc cutanée diffuse",$W19="Non",$Z19="Non"),1,0) -> 0 | DY19: =IF(AND($T19<=3,$O19="SSc cutanée diffuse",$W19="Oui",$Y19="PID limitée",$Z19="Non"),1,0) -> 0 | DZ19: =IF(AND($T19<=3,$O19="SSc cutanée diffuse",$W19="Oui",$Y19="PID extensive",$Z19="Non"),1,0) -> 0 | EA19: =IF(AND($T19<=3,$O19="SSc cutanée diffuse",$W19="Non",$Z19="Oui"),1,0) -> 0 | EB19: =IF(AND($T19<=3,$O19="SSc cutanée diffuse",$W19="Oui",$Z19="Oui"),1,0) -> 0
A20: 334 | B20: 1 | C20: nom19 | D20: pat19 | E20: pre19 | F20: Femme | G20: 1962-07-04 | H20: 59 | I20: 2021-04-01 | J20: Oui | K20: Oui | L20: Oui | M20: Oui | N20: 2021-04-01 | O20: SSc cutanée limitée | P20: 2008 | T20: =YEAR(N20)-R20 -> 2021 | W20: Non | Z20: Non | AD20: Oui | AE20: Oui | AF20: oui | CB20: oui | CC20: AMLODIPINE | CD20: 5 | DB20: Non fait | DF20: Fait | DG20: 2021-04-01 | DH20: Non | DI20: =IF(AND(T20>3,O20="SSc cutanée limitée",W20="Non",Z20="Non"),1,0) -> 1 | DJ20: =IF(AND(T20>3,O20="SSc cutanée limitée",W20="Oui",Y20="PID limitée",Z20="Non"),1,0) -> 0 | DK20: =IF(AND(T20>3,O20="SSc cutanée limitée",W20="Oui",Y20="PID extensive",Z20="Non"),1,0) -> 0 | DL20: =IF(AND(T20>3,O20="SSc cutanée limitée",W20="Non",Z20="Oui"),1,0) -> 0 | DM20: =IF(AND(T20>3,O20="SSc cutanée limitée",W20="Oui",Z20="Oui"),1,0) -> 0 | DN20: =IF(AND($T20>3,$O20="SSc cutanée diffuse",$W20="Non",$Z20="Non"),1,0) -> 0 | DO20: =IF(AND($T20>3,$O20="SSc cutanée diffuse",$W20="Oui",$Y20="PID limitée",$Z20="Non"),1,0) -> 0 | DP20: =IF(AND($T20>3,$O20="SSc cutanée diffuse",$W20="Oui",$Y20="PID extensive",$Z20="Non"),1,0) -> 0 | DQ20: =IF(AND($T20>3,$O20="SSc cutanée diffuse",$W20="Non",$Z20="Oui"),1,0) -> 0 | DR20: =IF(AND($T20>3,$O20="SSc cutanée diffuse",$W20="Oui",$Z20="Oui"),1,0) -> 0 | DS20: =IF(AND($T20<=3,$O20="SSc cutanée limitée",$W20="Non",$Z20="Non"),1,0) -> 0 | DT20: =IF(AND($T20<=3,$O20="SSc cutanée limitée",$W20="Oui",$Y20="PID limitée",$Z20="Non"),1,0) -> 0 | DU20: =IF(AND($T20<=3,$O20="SSc cutanée limitée",$W20="Oui",$Y20="PID extensive",$Z20="Non"),1,0) -> 0 | DV20: =IF(AND($T20<=3,$O20="SSc cutanée limitée",$W20="Non",$Z20="Oui"),1,0) -> 0 | DW20: =IF(AND($T20<=3,$O20="SSc cutanée limitée",$W20="Oui",$Z20="Oui"),1,0) -> 0 | DX20: =IF(AND($T20<=3,$O20="SSc cutanée diffuse",$W20="Non",$Z20="Non"),1,0) -> 0 | DY20: =IF(AND($T20<=3,$O20="SSc cutanée diffuse",$W20="Oui",$Y20="PID limitée",$Z20="Non"),1,0) -> 0 | DZ20: =IF(AND($T20<=3,$O20="SSc cutanée diffuse",$W20="Oui",$Y20="PID extensive",$Z20="Non"),1,0) -> 0 | EA20: =IF(AND($T20<=3,$O20="SSc cutanée diffuse",$W20="Non",$Z20="Oui"),1,0) -> 0 | EB20: =IF(AND($T20<=3,$O20="SSc cutanée diffuse",$W20="Oui",$Z20="Oui"),1,0) -> 0
A21: 340 | B21: 1 | C21: nom20 | D21: pat20 | E21: pre20 | F21: Femme | G21: 1943-05-13 | H21: 78 | I21: 2021-04-12 | J21: Oui | K21: Oui | L21: Oui | M21: Oui | N21: 2021-04-12 | O21: SSc cutanée limitée | P21: 1998 | R21: 1998 | T21: =YEAR(N21)-R21 -> 23 | U21: 1998 | W21: Non | Z21: Non | AD21: Oui | AE21: Non | AF21: oui | DB21: Non fait | DF21: Fait | DG21: 2021-04-12 | DH21: Non | DI21: =IF(AND(T21>3,O21="SSc cutanée limitée",W21="Non",Z21="Non"),1,0) -> 1 | DJ21: =IF(AND(T21>3,O21="SSc cutanée limitée",W21="Oui",Y21="PID limitée",Z21="Non"),1,0) -> 0 | DK21: =IF(AND(T21>3,O21="SSc cutanée limitée",W21="Oui",Y21="PID extensive",Z21="Non"),1,0) -> 0 | DL21: =IF(AND(T21>3,O21="SSc cutanée limitée",W21="Non",Z21="Oui"),1,0) -> 0 | DM21: =IF(AND(T21>3,O21="SSc cutanée limitée",W21="Oui",Z21="Oui"),1,0) -> 0 | DN21: =IF(AND($T21>3,$O21="SSc cutanée diffuse",$W21="Non",$Z21="Non"),1,0) -> 0 | DO21: =IF(AND($T21>3,$O21="SSc cutanée diffuse",$W21="Oui",$Y21="PID limitée",$Z21="Non"),1,0) -> 0 | DP21: =IF(AND($T21>3,$O21="SSc cutanée diffuse",$W21="Oui",$Y21="PID extensive",$Z21="Non"),1,0) -> 0 | DQ21: =IF(AND($T21>3,$O21="SSc cutanée diffuse",$W21="Non",$Z21="Oui"),1,0) -> 0 | DR21: =IF(AND($T21>3,$O21="SSc cutanée diffuse",$W21="Oui",$Z21="Oui"),1,0) -> 0 | DS21: =IF(AND($T21<=3,$O21="SSc cutanée limitée",$W21="Non",$Z21="Non"),1,0) -> 0 | DT21: =IF(AND($T21<=3,$O21="SSc cutanée limitée",$W21="Oui",$Y21="PID limitée",$Z21="Non"),1,0) -> 0 | DU21: =IF(AND($T21<=3,$O21="SSc cutanée limitée",$W21="Oui",$Y21="PID extensive",$Z21="Non"),1,0) -> 0 | DV21: =IF(AND($T21<=3,$O21="SSc cutanée limitée",$W21="Non",$Z21="Oui"),1,0) -> 0 | DW21: =IF(AND($T21<=3,$O21="SSc cutanée limitée",$W21="Oui",$Z21="Oui"),1,0) -> 0 | DX21: =IF(AND($T21<=3,$O21="SSc cutanée diffuse",$W21="Non",$Z21="Non"),1,0) -> 0 | DY21: =IF(AND($T21<=3,$O21="SSc cutanée diffuse",$W21="Oui",$Y21="PID limitée",$Z21="Non"),1,0) -> 0 | DZ21: =IF(AND($T21<=3,$O21="SSc cutanée diffuse",$W21="Oui",$Y21="PID extensive",$Z21="Non"),1,0) -> 0 | EA21: =IF(AND($T21<=3,$O21="SSc cutanée diffuse",$W21="Non",$Z21="Oui"),1,0) -> 0 | EB21: =IF(AND($T21<=3,$O21="SSc cutanée diffuse",$W21="Oui",$Z21="Oui"),1,0) -> 0
A22: 344 | B22: 1 | C22: nom21 | D22: pat21 | E22: pre21 | F22: Femme | G22: 1959-05-05 | H22: 62 | I22: 2021-04-14 | J22: Oui | K22: Oui | L22: Oui | M22: Oui | N22: 2021-04-14 | O22: SSc cutanée limitée | P22: 2009 | R22: 2003 | T22: =YEAR(N22)-R22 -> 18 | U22: 2009 | W22: Oui | X22: 2012 | Y22: PID extensive | Z22: Oui | AA22: groupe 1 (hypertension artérielle pulmonaire) | AC22: 2015 | AD22: Non | AE22: Oui | CH22: oui | CI22: furosemide | CJ22: 40 2*/jour | CK22: PO | CO22: oui | CP22: sildenafil | CQ22: 20 3*/jour | CR22: oui | CS22: macitentan | CT22: 10 | DB22: Non fait | DF22: Fait | DG22: 2021-04-14 | DH22: Oui | DI22: =IF(AND(T22>3,O22="SSc cutanée limitée",W22="Non",Z22="Non"),1,0) -> 0 | DJ22: =IF(AND(T22>3,O22="SSc cutanée limitée",W22="Oui",Y22="PID limitée",Z22="Non"),1,0) -> 0 | DK22: =IF(AND(T22>3,O22="SSc cutanée limitée",W22="Oui",Y22="PID extensive",Z22="Non"),1,0) -> 0 | DL22: =IF(AND(T22>3,O22="SSc cutanée limitée",W22="Non",Z22="Oui"),1,0) -> 0 | DM22: =IF(AND(T22>3,O22="SSc cutanée limitée",W22="Oui",Z22="Oui"),1,0) -> 1 | DN22: =IF(AND($T22>3,$O22="SSc cutanée diffuse",$W22="Non",$Z22="Non"),1,0) -> 0 | DO22: =IF(AND($T22>3,$O22="SSc cutanée diffuse",$W22="Oui",$Y22="PID limitée",$Z22="Non"),1,0) -> 0 | DP22: =IF(AND($T22>3,$O22="SSc cutanée diffuse",$W22="Oui",$Y22="PID extensive",$Z22="Non"),1,0) -> 0 | DQ22: =IF(AND($T22>3,$O22="SSc cutanée diffuse",$W22="Non",$Z22="Oui"),1,0) -> 0 | DR22: =IF(AND($T22>3,$O22="SSc cutanée diffuse",$W22="Oui",$Z22="Oui"),1,0) -> 0 | DS22: =IF(AND($T22<=3,$O22="SSc cutanée limitée",$W22="Non",$Z22="Non"),1,0) -> 0 | DT22: =IF(AND($T22<=3,$O22="SSc cutanée limitée",$W22="Oui",$Y22="PID limitée",$Z22="Non"),1,0) -> 0 | DU22: =IF(AND($T22<=3,$O22="SSc cutanée limitée",$W22="Oui",$Y22="PID extensive",$Z22="Non"),1,0) -> 0 | DV22: =IF(AND($T22<=3,$O22="SSc cutanée limitée",$W22="Non",$Z22="Oui"),1,0) -> 0 | DW22: =IF(AND($T22<=3,$O22="SSc cutanée limitée",$W22="Oui",$Z22="Oui"),1,0) -> 0 | DX22: =IF(AND($T22<=3,$O22="SSc cutanée diffuse",$W22="Non",$Z22="Non"),1,0) -> 0 | DY22: =IF(AND($T22<=3,$O22="SSc cutanée diffuse",$W22="Oui",$Y22="PID limitée",$Z22="Non"),1,0) -> 0 | DZ22: =IF(AND($T22<=3,$O22="SSc cutanée diffuse",$W22="Oui",$Y22="PID extensive",$Z22="Non"),1,0) -> 0 | EA22: =IF(AND($T22<=3,$O22="SSc cutanée diffuse",$W22="Non",$Z22="Oui"),1,0) -> 0 | EB22: =IF(AND($T22<=3,$O22="SSc cutanée diffuse",$W22="Oui",$Z22="Oui"),1,0) -> 0
A23: 356 | B23: 1 | C23: nom22 | D23: pat22 | E23: pre22 | F23: Homme | G23: 1961-02-23 | H23: 60 | I23: 2021-04-20 | J23: Oui | K23: Oui | L23: Oui | M23: Oui | N23: 2021-04-20 | O23: SSc cutanée diffuse | P23: 2010 | R23: 2008 | T23: =YEAR(N23)-R23 -> 13 | U23: 2008 | W23: Oui | X23: 2010 | Y23: PID extensive | Z23: Oui | AA23: groupe 3 (HTP pré-capillaire sur pathologie respiratoire chronique) | AC23: 2015 | AD23: Oui | AE23: Oui | AF23: oui | AN23: oui | AO23: cellcept 2 cp*2/jour | AP23: 500 | CB23: oui | CC23: amlor | CD23: 10 | DB23: Non fait | DF23: Non fait | DI23: =IF(AND(T23>3,O23="SSc cutanée limitée",W23="Non",Z23="Non"),1,0) -> 0 | DJ23: =IF(AND(T23>3,O23="SSc cutanée limitée",W23="Oui",Y23="PID limitée",Z23="Non"),1,0) -> 0 | DK23: =IF(AND(T23>3,O23="SSc cutanée limitée",W23="Oui",Y23="PID extensive",Z23="Non"),1,0) -> 0 | DL23: =IF(AND(T23>3,O23="SSc cutanée limitée",W23="Non",Z23="Oui"),1,0) -> 0 | DM23: =IF(AND(T23>3,O23="SSc cutanée limitée",W23="Oui",Z23="Oui"),1,0) -> 0 | DN23: =IF(AND($T23>3,$O23="SSc cutanée diffuse",$W23="Non",$Z23="Non"),1,0) -> 0 | DO23: =IF(AND($T23>3,$O23="SSc cutanée diffuse",$W23="Oui",$Y23="PID limitée",$Z23="Non"),1,0) -> 0 | DP23: =IF(AND($T23>3,$O23="SSc cutanée diffuse",$W23="Oui",$Y23="PID extensive",$Z23="Non"),1,0) -> 0 | DQ23: =IF(AND($T23>3,$O23="SSc cutanée diffuse",$W23="Non",$Z23="Oui"),1,0) -> 0 | DR23: =IF(AND($T23>3,$O23="SSc cutanée diffuse",$W23="Oui",$Z23="Oui"),1,0) -> 1 | DS23: =IF(AND($T23<=3,$O23="SSc cutanée limitée",$W23="Non",$Z23="Non"),1,0) -> 0 | DT23: =IF(AND($T23<=3,$O23="SSc cutanée limitée",$W23="Oui",$Y23="PID limitée",$Z23="Non"),1,0) -> 0 | DU23: =IF(AND($T23<=3,$O23="SSc cutanée limitée",$W23="Oui",$Y23="PID extensive",$Z23="Non"),1,0) -> 0 | DV23: =IF(AND($T23<=3,$O23="SSc cutanée limitée",$W23="Non",$Z23="Oui"),1,0) -> 0 | DW23: =IF(AND($T23<=3,$O23="SSc cutanée limitée",$W23="Oui",$Z23="Oui"),1,0) -> 0 | DX23: =IF(AND($T23<=3,$O23="SSc cutanée diffuse",$W23="Non",$Z23="Non"),1,0) -> 0 | DY23: =IF(AND($T23<=3,$O23="SSc cutanée diffuse",$W23="Oui",$Y23="PID limitée",$Z23="Non"),1,0) -> 0 | DZ23: =IF(AND($T23<=3,$O23="SSc cutanée diffuse",$W23="Oui",$Y23="PID extensive",$Z23="Non"),1,0) -> 0 | EA23: =IF(AND($T23<=3,$O23="SSc cutanée diffuse",$W23="Non",$Z23="Oui"),1,0) -> 0 | EB23: =IF(AND($T23<=3,$O23="SSc cutanée diffuse",$W23="Oui",$Z23="Oui"),1,0) -> 0
A24: 360 | B24: 1 | C24: nom23 | D24: pat23 | E24: pre23 | F24: Femme | G24: 1946-03-08 | H24: 75 | I24: 2021-04-21 | J24: Oui | K24: Oui | L24: Oui | M24: Oui | N24: 2021-06-18 | O24: SSc cutanée limitée | P24: 2021 | T24: =YEAR(N24)-R24 -> 2021 | U24: 2019 | W24: Non | Z24: Non | AD24: Non | AE24: Non | DB24: Non fait | DF24: Fait | DG24: 2021-04-21 | DH24: Non | DI24: =IF(AND(T24>3,O24="SSc cutanée limitée",W24="Non",Z24="Non"),1,0) -> 1 | DJ24: =IF(AND(T24>3,O24="SSc cutanée limitée",W24="Oui",Y24="PID limitée",Z24="Non"),1,0) -> 0 | DK24: =IF(AND(T24>3,O24="SSc cutanée limitée",W24="Oui",Y24="PID extensive",Z24="Non"),1,0) -> 0 | DL24: =IF(AND(T24>3,O24="SSc cutanée limitée",W24="Non",Z24="Oui"),1,0) -> 0 | DM24: =IF(AND(T24>3,O24="SSc cutanée limitée",W24="Oui",Z24="Oui"),1,0) -> 0 | DN24: =IF(AND($T24>3,$O24="SSc cutanée diffuse",$W24="Non",$Z24="Non"),1,0) -> 0 | DO24: =IF(AND($T24>3,$O24="SSc cutanée diffuse",$W24="Oui",$Y24="PID limitée",$Z24="Non"),1,0) -> 0 | DP24: =IF(AND($T24>3,$O24="SSc cutanée diffuse",$W24="Oui",$Y24="PID extensive",$Z24="Non"),1,0) -> 0 | DQ24: =IF(AND($T24>3,$O24="SSc cutanée diffuse",$W24="Non",$Z24="Oui"),1,0) -> 0 | DR24: =IF(AND($T24>3,$O24="SSc cutanée diffuse",$W24="Oui",$Z24="Oui"),1,0) -> 0 | DS24: =IF(AND($T24<=3,$O24="SSc cutanée limitée",$W24="Non",$Z24="Non"),1,0) -> 0 | DT24: =IF(AND($T24<=3,$O24="SSc cutanée limitée",$W24="Oui",$Y24="PID limitée",$Z24="Non"),1,0) -> 0 | DU24: =IF(AND($T24<=3,$O24="SSc cutanée limitée",$W24="Oui",$Y24="PID extensive",$Z24="Non"),1,0) -> 0 | DV24: =IF(AND($T24<=3,$O24="SSc cutanée limitée",$W24="Non",$Z24="Oui"),1,0) -> 0 | DW24: =IF(AND($T24<=3,$O24="SSc cutanée limitée",$W24="Oui",$Z24="Oui"),1,0) -> 0 | DX24: =IF(AND($T24<=3,$O24="SSc cutanée diffuse",$W24="Non",$Z24="Non"),1,0) -> 0 | DY24: =IF(AND($T24<=3,$O24="SSc cutanée diffuse",$W24="Oui",$Y24="PID limitée",$Z24="Non"),1,0) -> 0 | DZ24: =IF(AND($T24<=3,$O24="SSc cutanée diffuse",$W24="Oui",$Y24="PID extensive",$Z24="Non"),1,0) -> 0 | EA24: =IF(AND($T24<=3,$O24="SSc cutanée diffuse",$W24="Non",$Z24="Oui"),1,0) -> 0 | EB24: =IF(AND($T24<=3,$O24="SSc cutanée diffuse",$W24="Oui",$Z24="Oui"),1,0) -> 0
A25: 366 | B25: 1 | C25: nom24 | D25: pat24 | E25: pre24 | F25: Homme | G25: 1942-03-14 | H25: 79 | I25: 2021-04-22 | J25: Oui | K25: Oui | L25: Oui | M25: Oui | N25: 2021-04-22 | O25: SSc cutanée limitée | T25: =YEAR(N25)-R25 -> 2021 | DI25: =IF(AND(T25>3,O25="SSc cutanée limitée",W25="Non",Z25="Non"),1,0) -> 0 | DJ25: =IF(AND(T25>3,O25="SSc cutanée limitée",W25="Oui",Y25="PID limitée",Z25="Non"),1,0) -> 0 | DK25: =IF(AND(T25>3,O25="SSc cutanée limitée",W25="Oui",Y25="PID extensive",Z25="Non"),1,0) -> 0 | DL25: =IF(AND(T25>3,O25="SSc cutanée limitée",W25="Non",Z25="Oui"),1,0) -> 0 | DM25: =IF(AND(T25>3,O25="SSc cutanée limitée",W25="Oui",Z25="Oui"),1,0) -> 0 | DN25: =IF(AND($T25>3,$O25="SSc cutanée diffuse",$W25="Non",$Z25="Non"),1,0) -> 0 | DO25: =IF(AND($T25>3,$O25="SSc cutanée diffuse",$W25="Oui",$Y25="PID limitée",$Z25="Non"),1,0) -> 0 | DP25: =IF(AND($T25>3,$O25="SSc cutanée diffuse",$W25="Oui",$Y25="PID extensive",$Z25="Non"),1,0) -> 0 | DQ25: =IF(AND($T25>3,$O25="SSc cutanée diffuse",$W25="Non",$Z25="Oui"),1,0) -> 0 | DR25: =IF(AND($T25>3,$O25="SSc cutanée diffuse",$W25="Oui",$Z25="Oui"),1,0) -> 0 | DS25: =IF(AND($T25<=3,$O25="SSc cutanée limitée",$W25="Non",$Z25="Non"),1,0) -> 0 | DT25: =IF(AND($T25<=3,$O25="SSc cutanée limitée",$W25="Oui",$Y25="PID limitée",$Z25="Non"),1,0) -> 0 | DU25: =IF(AND($T25<=3,$O25="SSc cutanée limitée",$W25="Oui",$Y25="PID extensive",$Z25="Non"),1,0) -> 0 | DV25: =IF(AND($T25<=3,$O25="SSc cutanée limitée",$W25="Non",$Z25="Oui"),1,0) -> 0 | DW25: =IF(AND($T25<=3,$O25="SSc cutanée limitée",$W25="Oui",$Z25="Oui"),1,0) -> 0 | DX25: =IF(AND($T25<=3,$O25="SSc cutanée diffuse",$W25="Non",$Z25="Non"),1,0) -> 0 | DY25: =IF(AND($T25<=3,$O25="SSc cutanée diffuse",$W25="Oui",$Y25="PID limitée",$Z25="Non"),1,0) -> 0 | DZ25: =IF(AND($T25<=3,$O25="SSc cutanée diffuse",$W25="Oui",$Y25="PID extensive",$Z25="Non"),1,0) -> 0 | EA25: =IF(AND($T25<=3,$O25="SSc cutanée diffuse",$W25="Non",$Z25="Oui"),1,0) -> 0 | EB25: =IF(AND($T25<=3,$O25="SSc cutanée diffuse",$W25="Oui",$Z25="Oui"),1,0) -> 0
A26: 374 | B26: 1 | C26: nom25 | D26: pat25 | E26: pre25 | F26: Homme | G26: 1994-03-09 | H26: 27 | I26: 2021-04-26 | J26: Oui | K26: Oui | L26: Oui | M26: Oui | N26: 2021-03-12 | O26: SSc cutanée limitée | P26: 2021 | R26: 2019 | T26: =YEAR(N26)-R26 -> 2 | U26: 2020 | W26: Non | Z26: Non | AD26: Oui | AE26: Oui | AF26: oui | AN26: oui | AO26: CELLCEPT | AP26: 2000 | AY26: oui | AZ26: AMLOR | BA26: 5 | BX26: oui | BY26: TOCILIZUMAB | BZ26: 8mg/kg | CA26: IV | CE26: oui | CF26: RAMIPRIL | CG26: 10 | DB26: Fait | DC26: 2021-03-12 | DF26: Fait | DG26: 2021-03-12 | DH26: Non | DI26: =IF(AND(T26>3,O26="SSc cutanée limitée",W26="Non",Z26="Non"),1,0) -> 0 | DJ26: =IF(AND(T26>3,O26="SSc cutanée limitée",W26="Oui",Y26="PID limitée",Z26="Non"),1,0) -> 0 | DK26: =IF(AND(T26>3,O26="SSc cutanée limitée",W26="Oui",Y26="PID extensive",Z26="Non"),1,0) -> 0 | DL26: =IF(AND(T26>3,O26="SSc cutanée limitée",W26="Non",Z26="Oui"),1,0) -> 0 | DM26: =IF(AND(T26>3,O26="SSc cutanée limitée",W26="Oui",Z26="Oui"),1,0) -> 0 | DN26: =IF(AND($T26>3,$O26="SSc cutanée diffuse",$W26="Non",$Z26="Non"),1,0) -> 0 | DO26: =IF(AND($T26>3,$O26="SSc cutanée diffuse",$W26="Oui",$Y26="PID limitée",$Z26="Non"),1,0) -> 0 | DP26: =IF(AND($T26>3,$O26="SSc cutanée diffuse",$W26="Oui",$Y26="PID extensive",$Z26="Non"),1,0) -> 0 | DQ26: =IF(AND($T26>3,$O26="SSc cutanée diffuse",$W26="Non",$Z26="Oui"),1,0) -> 0 | DR26: =IF(AND($T26>3,$O26="SSc cutanée diffuse",$W26="Oui",$Z26="Oui"),1,0) -> 0 | DS26: =IF(AND($T26<=3,$O26="SSc cutanée limitée",$W26="Non",$Z26="Non"),1,0) -> 1 | DT26: =IF(AND($T26<=3,$O26="SSc cutanée limitée",$W26="Oui",$Y26="PID limitée",$Z26="Non"),1,0) -> 0 | DU26: =IF(AND($T26<=3,$O26="SSc cutanée limitée",$W26="Oui",$Y26="PID extensive",$Z26="Non"),1,0) -> 0 | DV26: =IF(AND($T26<=3,$O26="SSc cutanée limitée",$W26="Non",$Z26="Oui"),1,0) -> 0 | DW26: =IF(AND($T26<=3,$O26="SSc cutanée limitée",$W26="Oui",$Z26="Oui"),1,0) -> 0 | DX26: =IF(AND($T26<=3,$O26="SSc cutanée diffuse",$W26="Non",$Z26="Non"),1,0) -> 0 | DY26: =IF(AND($T26<=3,$O26="SSc cutanée diffuse",$W26="Oui",$Y26="PID limitée",$Z26="Non"),1,0) -> 0 | DZ26: =IF(AND($T26<=3,$O26="SSc cutanée diffuse",$W26="Oui",$Y26="PID extensive",$Z26="Non"),1,0) -> 0 | EA26: =IF(AND($T26<=3,$O26="SSc cutanée diffuse",$W26="Non",$Z26="Oui"),1,0) -> 0 | EB26: =IF(AND($T26<=3,$O26="SSc cutanée diffuse",$W26="Oui",$Z26="Oui"),1,0) -> 0
A27: 380 | B27: 1 | C27: nom26 | D27: pat26 | E27: pre26 | F27: Femme | G27: 1974-08-16 | H27: 47 | I27: 2021-04-30 | J27: Oui | K27: Oui | L27: Oui | M27: Oui | N27: 2021-04-30 | O27: SSc cutanée limitée | P27: 2004 | R27: 2002 | T27: =YEAR(N27)-R27 -> 19 | U27: 2002 | W27: Non | Z27: Oui | AA27: groupe 1’ (maladie veino-occlusive) | AC27: 2020 | AD27: Non | AE27: Oui | CB27: oui | CC27: diltiazem | CD27: 180 | CH27: oui | CI27: FUROSEMIDE | CJ27: 100 mg/jour | CK27: PO | CO27: oui | CP27: TADALAFIL | CQ27: 20 | CR27: oui | CS27: VOLIBRIS | CT27: 10 | DB27: Non fait | DF27: Fait | DG27: 2021-04-30 | DH27: Oui | DI27: =IF(AND(T27>3,O27="SSc cutanée limitée",W27="Non",Z27="Non"),1,0) -> 0 | DJ27: =IF(AND(T27>3,O27="SSc cutanée limitée",W27="Oui",Y27="PID limitée",Z27="Non"),1,0) -> 0 | DK27: =IF(AND(T27>3,O27="SSc cutanée limitée",W27="Oui",Y27="PID extensive",Z27="Non"),1,0) -> 0 | DL27: =IF(AND(T27>3,O27="SSc cutanée limitée",W27="Non",Z27="Oui"),1,0) -> 1 | DM27: =IF(AND(T27>3,O27="SSc cutanée limitée",W27="Oui",Z27="Oui"),1,0) -> 0 | DN27: =IF(AND($T27>3,$O27="SSc cutanée diffuse",$W27="Non",$Z27="Non"),1,0) -> 0 | DO27: =IF(AND($T27>3,$O27="SSc cutanée diffuse",$W27="Oui",$Y27="PID limitée",$Z27="Non"),1,0) -> 0 | DP27: =IF(AND($T27>3,$O27="SSc cutanée diffuse",$W27="Oui",$Y27="PID extensive",$Z27="Non"),1,0) -> 0 | DQ27: =IF(AND($T27>3,$O27="SSc cutanée diffuse",$W27="Non",$Z27="Oui"),1,0) -> 0 | DR27: =IF(AND($T27>3,$O27="SSc cutanée diffuse",$W27="Oui",$Z27="Oui"),1,0) -> 0 | DS27: =IF(AND($T27<=3,$O27="SSc cutanée limitée",$W27="Non",$Z27="Non"),1,0) -> 0 | DT27: =IF(AND($T27<=3,$O27="SSc cutanée limitée",$W27="Oui",$Y27="PID limitée",$Z27="Non"),1,0) -> 0 | DU27: =IF(AND($T27<=3,$O27="SSc cutanée limitée",$W27="Oui",$Y27="PID extensive",$Z27="Non"),1,0) -> 0 | DV27: =IF(AND($T27<=3,$O27="SSc cutanée limitée",$W27="Non",$Z27="Oui"),1,0) -> 0 | DW27: =IF(AND($T27<=3,$O27="SSc cutanée limitée",$W27="Oui",$Z27="Oui"),1,0) -> 0 | DX27: =IF(AND($T27<=3,$O27="SSc cutanée diffuse",$W27="Non",$Z27="Non"),1,0) -> 0 | DY27: =IF(AND($T27<=3,$O27="SSc cutanée diffuse",$W27="Oui",$Y27="PID limitée",$Z27="Non"),1,0) -> 0 | DZ27: =IF(AND($T27<=3,$O27="SSc cutanée diffuse",$W27="Oui",$Y27="PID extensive",$Z27="Non"),1,0) -> 0 | EA27: =IF(AND($T27<=3,$O27="SSc cutanée diffuse",$W27="Non",$Z27="Oui"),1,0) -> 0 | EB27: =IF(AND($T27<=3,$O27="SSc cutanée diffuse",$W27="Oui",$Z27="Oui"),1,0) -> 0
A28: 388 | B28: 1 | C28: nom27 | D28: pat27 | E28: pre27 | F28: Femme | G28: 1977-06-03 | H28: 44 | I28: 2021-05-11 | J28: Oui | K28: Oui | L28: Oui | M28: Oui | N28: 2021-05-11 | O28: SSc cutanée limitée | P28: 2015 | R28: 2016 | T28: =YEAR(N28)-R28 -> 5 | U28: 2016 | W28: Non | Z28: Non | AD28: Oui | AE28: Oui | AF28: oui | AN28: oui | AO28: CELLCEPT | AP28: 3000 | CB28: oui | CC28: AMLOR | CD28: 5 | DB28: Fait | DC28: 2021-05-11 | DF28: Fait | DG28: 2021-05-14 | DH28: Non | DI28: =IF(AND(T28>3,O28="SSc cutanée limitée",W28="Non",Z28="Non"),1,0) -> 1 | DJ28: =IF(AND(T28>3,O28="SSc cutanée limitée",W28="Oui",Y28="PID limitée",Z28="Non"),1,0) -> 0 | DK28: =IF(AND(T28>3,O28="SSc cutanée limitée",W28="Oui",Y28="PID extensive",Z28="Non"),1,0) -> 0 | DL28: =IF(AND(T28>3,O28="SSc cutanée limitée",W28="Non",Z28="Oui"),1,0) -> 0 | DM28: =IF(AND(T28>3,O28="SSc cutanée limitée",W28="Oui",Z28="Oui"),1,0) -> 0 | DN28: =IF(AND($T28>3,$O28="SSc cutanée diffuse",$W28="Non",$Z28="Non"),1,0) -> 0 | DO28: =IF(AND($T28>3,$O28="SSc cutanée diffuse",$W28="Oui",$Y28="PID limitée",$Z28="Non"),1,0) -> 0 | DP28: =IF(AND($T28>3,$O28="SSc cutanée diffuse",$W28="Oui",$Y28="PID extensive",$Z28="Non"),1,0) -> 0 | DQ28: =IF(AND($T28>3,$O28="SSc cutanée diffuse",$W28="Non",$Z28="Oui"),1,0) -> 0 | DR28: =IF(AND($T28>3,$O28="SSc cutanée diffuse",$W28="Oui",$Z28="Oui"),1,0) -> 0 | DS28: =IF(AND($T28<=3,$O28="SSc cutanée limitée",$W28="Non",$Z28="Non"),1,0) -> 0 | DT28: =IF(AND($T28<=3,$O28="SSc cutanée limitée",$W28="Oui",$Y28="PID limitée",$Z28="Non"),1,0) -> 0 | DU28: =IF(AND($T28<=3,$O28="SSc cutanée limitée",$W28="Oui",$Y28="PID extensive",$Z28="Non"),1,0) -> 0 | DV28: =IF(AND($T28<=3,$O28="SSc cutanée limitée",$W28="Non",$Z28="Oui"),1,0) -> 0 | DW28: =IF(AND($T28<=3,$O28="SSc cutanée limitée",$W28="Oui",$Z28="Oui"),1,0) -> 0 | DX28: =IF(AND($T28<=3,$O28="SSc cutanée diffuse",$W28="Non",$Z28="Non"),1,0) -> 0 | DY28: =IF(AND($T28<=3,$O28="SSc cutanée diffuse",$W28="Oui",$Y28="PID limitée",$Z28="Non"),1,0) -> 0 | DZ28: =IF(AND($T28<=3,$O28="SSc cutanée diffuse",$W28="Oui",$Y28="PID extensive",$Z28="Non"),1,0) -> 0 | EA28: =IF(AND($T28<=3,$O28="SSc cutanée diffuse",$W28="Non",$Z28="Oui"),1,0) -> 0 | EB28: =IF(AND($T28<=3,$O28="SSc cutanée diffuse",$W28="Oui",$Z28="Oui"),1,0) -> 0
A29: 390 | B29: 1 | C29: nom28 | D29: pat28 | E29: pre28 | F29: Femme | G29: 1959-02-26 | H29: 62 | I29: 2021-05-10 | J29: Oui | K29: Oui | L29: Oui | M29: Oui | N29: 2021-05-10 | O29: SSc cutanée limitée | P29: 2014 | R29: 2014 | T29: =YEAR(N29)-R29 -> 7 | U29: 2018 | W29: Non | Z29: Oui | AA29: groupe 1 (hypertension artérielle pulmonaire) | AC29: 2020 | AD29: Non | AE29: Oui | CH29: oui | CI29: Furosémide | CJ29: 80 | CK29: PO | CO29: oui | CP29: Talmanco | CQ29: 20 | DB29: Fait | DC29: 2021-05-10 | DD29: Oui | DE29: Ne sait pas | DF29: Fait | DG29: 2021-05-10 | DH29: Oui | DI29: =IF(AND(T29>3,O29="SSc cutanée limitée",W29="Non",Z29="Non"),1,0) -> 0 | DJ29: =IF(AND(T29>3,O29="SSc cutanée limitée",W29="Oui",Y29="PID limitée",Z29="Non"),1,0) -> 0 | DK29: =IF(AND(T29>3,O29="SSc cutanée limitée",W29="Oui",Y29="PID extensive",Z29="Non"),1,0) -> 0 | DL29: =IF(AND(T29>3,O29="SSc cutanée limitée",W29="Non",Z29="Oui"),1,0) -> 1 | DM29: =IF(AND(T29>3,O29="SSc cutanée limitée",W29="Oui",Z29="Oui"),1,0) -> 0 | DN29: =IF(AND($T29>3,$O29="SSc cutanée diffuse",$W29="Non",$Z29="Non"),1,0) -> 0 | DO29: =IF(AND($T29>3,$O29="SSc cutanée diffuse",$W29="Oui",$Y29="PID limitée",$Z29="Non"),1,0) -> 0 | DP29: =IF(AND($T29>3,$O29="SSc cutanée diffuse",$W29="Oui",$Y29="PID extensive",$Z29="Non"),1,0) -> 0 | DQ29: =IF(AND($T29>3,$O29="SSc cutanée diffuse",$W29="Non",$Z29="Oui"),1,0) -> 0 | DR29: =IF(AND($T29>3,$O29="SSc cutanée diffuse",$W29="Oui",$Z29="Oui"),1,0) -> 0 | DS29: =IF(AND($T29<=3,$O29="SSc cutanée limitée",$W29="Non",$Z29="Non"),1,0) -> 0 | DT29: =IF(AND($T29<=3,$O29="SSc cutanée limitée",$W29="Oui",$Y29="PID limitée",$Z29="Non"),1,0) -> 0 | DU29: =IF(AND($T29<=3,$O29="SSc cutanée limitée",$W29="Oui",$Y29="PID extensive",$Z29="Non"),1,0) -> 0 | DV29: =IF(AND($T29<=3,$O29="SSc cutanée limitée",$W29="Non",$Z29="Oui"),1,0) -> 0 | DW29: =IF(AND($T29<=3,$O29="SSc cutanée limitée",$W29="Oui",$Z29="Oui"),1,0) -> 0 | DX29: =IF(AND($T29<=3,$O29="SSc cutanée diffuse",$W29="Non",$Z29="Non"),1,0) -> 0 | DY29: =IF(AND($T29<=3,$O29="SSc cutanée diffuse",$W29="Oui",$Y29="PID limitée",$Z29="Non"),1,0) -> 0 | DZ29: =IF(AND($T29<=3,$O29="SSc cutanée diffuse",$W29="Oui",$Y29="PID extensive",$Z29="Non"),1,0) -> 0 | EA29: =IF(AND($T29<=3,$O29="SSc cutanée diffuse",$W29="Non",$Z29="Oui"),1,0) -> 0 | EB29: =IF(AND($T29<=3,$O29="SSc cutanée diffuse",$W29="Oui",$Z29="Oui"),1,0) -> 0
A30: 392 | B30: 1 | C30: nom29 | D30: pat29 | E30: pre29 | F30: Femme | G30: 1973-06-20 | H30: 48 | I30: 2021-05-12 | J30: Oui | K30: Oui | L30: Oui | M30: Oui | N30: 2021-05-12 | O30: SSc cutanée limitée | P30: 2008 | S30: non connue | T30: =YEAR(N30)-R30 -> 2021 | U30: 2008 | W30: Non | Z30: Non | AD30: Non | AE30: Oui | CB30: oui | CC30: AMLOR | CD30: 5 | DB30: Non fait | DF30: Fait | DG30: 2021-05-12 | DH30: Non | DI30: =IF(AND(T30>3,O30="SSc cutanée limitée",W30="Non",Z30="Non"),1,0) -> 1 | DJ30: =IF(AND(T30>3,O30="SSc cutanée limitée",W30="Oui",Y30="PID limitée",Z30="Non"),1,0) -> 0 | DK30: =IF(AND(T30>3,O30="SSc cutanée limitée",W30="Oui",Y30="PID extensive",Z30="Non"),1,0) -> 0 | DL30: =IF(AND(T30>3,O30="SSc cutanée limitée",W30="Non",Z30="Oui"),1,0) -> 0 | DM30: =IF(AND(T30>3,O30="SSc cutanée limitée",W30="Oui",Z30="Oui"),1,0) -> 0 | DN30: =IF(AND($T30>3,$O30="SSc cutanée diffuse",$W30="Non",$Z30="Non"),1,0) -> 0 | DO30: =IF(AND($T30>3,$O30="SSc cutanée diffuse",$W30="Oui",$Y30="PID limitée",$Z30="Non"),1,0) -> 0 | DP30: =IF(AND($T30>3,$O30="SSc cutanée diffuse",$W30="Oui",$Y30="PID extensive",$Z30="Non"),1,0) -> 0 | DQ30: =IF(AND($T30>3,$O30="SSc cutanée diffuse",$W30="Non",$Z30="Oui"),1,0) -> 0 | DR30: =IF(AND($T30>3,$O30="SSc cutanée diffuse",$W30="Oui",$Z30="Oui"),1,0) -> 0 | DS30: =IF(AND($T30<=3,$O30="SSc cutanée limitée",$W30="Non",$Z30="Non"),1,0) -> 0 | DT30: =IF(AND($T30<=3,$O30="SSc cutanée limitée",$W30="Oui",$Y30="PID limitée",$Z30="Non"),1,0) -> 0 | DU30: =IF(AND($T30<=3,$O30="SSc cutanée limitée",$W30="Oui",$Y30="PID extensive",$Z30="Non"),1,0) -> 0 | DV30: =IF(AND($T30<=3,$O30="SSc cutanée limitée",$W30="Non",$Z30="Oui"),1,0) -> 0 | DW30: =IF(AND($T30<=3,$O30="SSc cutanée limitée",$W30="Oui",$Z30="Oui"),1,0) -> 0 | DX30: =IF(AND($T30<=3,$O30="SSc cutanée diffuse",$W30="Non",$Z30="Non"),1,0) -> 0 | DY30: =IF(AND($T30<=3,$O30="SSc cutanée diffuse",$W30="Oui",$Y30="PID limitée",$Z30="Non"),1,0) -> 0 | DZ30: =IF(AND($T30<=3,$O30="SSc cutanée diffuse",$W30="Oui",$Y30="PID extensive",$Z30="Non"),1,0) -> 0 | EA30: =IF(AND($T30<=3,$O30="SSc cutanée diffuse",$W30="Non",$Z30="Oui"),1,0) -> 0 | EB30: =IF(AND($T30<=3,$O30="SSc cutanée diffuse",$W30="Oui",$Z30="Oui"),1,0) -> 0
A31: 394 | B31: 1 | C31: nom30 | D31: pat30 | E31: pre30 | F31: Femme | G31: 1962-04-01 | H31: 59 | I31: 2021-05-19 | J31: Oui | K31: Oui | L31: Oui | M31: Oui | N31: 2021-05-19 | O31: SSc cutanée limitée | P31: 2005 | R31: 2004 | T31: =YEAR(N31)-R31 -> 17 | U31: 2009 | W31: Non | Z31: Non | AD31: Non | AE31: Oui | CB31: oui | CC31: DILTIAZEM | CD31: 60 | DB31: Non fait | DF31: Fait | DG31: 2021-05-19 | DH31: Non | DI31: =IF(AND(T31>3,O31="SSc cutanée limitée",W31="Non",Z31="Non"),1,0) -> 1 | DJ31: =IF(AND(T31>3,O31="SSc cutanée limitée",W31="Oui",Y31="PID limitée",Z31="Non"),1,0) -> 0 | DK31: =IF(AND(T31>3,O31="SSc cutanée limitée",W31="Oui",Y31="PID extensive",Z31="Non"),1,0) -> 0 | DL31: =IF(AND(T31>3,O31="SSc cutanée limitée",W31="Non",Z31="Oui"),1,0) -> 0 | DM31: =IF(AND(T31>3,O31="SSc cutanée limitée",W31="Oui",Z31="Oui"),1,0) -> 0 | DN31: =IF(AND($T31>3,$O31="SSc cutanée diffuse",$W31="Non",$Z31="Non"),1,0) -> 0 | DO31: =IF(AND($T31>3,$O31="SSc cutanée diffuse",$W31="Oui",$Y31="PID limitée",$Z31="Non"),1,0) -> 0 | DP31: =IF(AND($T31>3,$O31="SSc cutanée diffuse",$W31="Oui",$Y31="PID extensive",$Z31="Non"),1,0) -> 0 | DQ31: =IF(AND($T31>3,$O31="SSc cutanée diffuse",$W31="Non",$Z31="Oui"),1,0) -> 0 | DR31: =IF(AND($T31>3,$O31="SSc cutanée diffuse",$W31="Oui",$Z31="Oui"),1,0) -> 0 | DS31: =IF(AND($T31<=3,$O31="SSc cutanée limitée",$W31="Non",$Z31="Non"),1,0) -> 0 | DT31: =IF(AND($T31<=3,$O31="SSc cutanée limitée",$W31="Oui",$Y31="PID limitée",$Z31="Non"),1,0) -> 0 | DU31: =IF(AND($T31<=3,$O31="SSc cutanée limitée",$W31="Oui",$Y31="PID extensive",$Z31="Non"),1,0) -> 0 | DV31: =IF(AND($T31<=3,$O31="SSc cutanée limitée",$W31="Non",$Z31="Oui"),1,0) -> 0 | DW31: =IF(AND($T31<=3,$O31="SSc cutanée limitée",$W31="Oui",$Z31="Oui"),1,0) -> 0 | DX31: =IF(AND($T31<=3,$O31="SSc cutanée diffuse",$W31="Non",$Z31="Non"),1,0) -> 0 | DY31: =IF(AND($T31<=3,$O31="SSc cutanée diffuse",$W31="Oui",$Y31="PID limitée",$Z31="Non"),1,0) -> 0 | DZ31: =IF(AND($T31<=3,$O31="SSc cutanée diffuse",$W31="Oui",$Y31="PID extensive",$Z31="Non"),1,0) -> 0 | EA31: =IF(AND($T31<=3,$O31="SSc cutanée diffuse",$W31="Non",$Z31="Oui"),1,0) -> 0 | EB31: =IF(AND($T31<=3,$O31="SSc cutanée diffuse",$W31="Oui",$Z31="Oui"),1,0) -> 0
A32: 396 | B32: 1 | C32: nom31 | D32: pat31 | E32: pre31 | F32: Femme | G32: 1956-01-09 | H32: 65 | I32: 2021-05-20 | J32: Oui | K32: Oui | L32: Oui | M32: Oui | N32: 2021-05-20 | O32: SSc cutanée limitée | P32: 2009 | R32: 2008 | T32: =YEAR(N32)-R32 -> 13 | U32: 2009 | W32: Non | Z32: Non | AD32: Non | AE32: Oui | CB32: oui | CC32: BI TILDIEM | CD32: 180 | DB32: Non fait | DF32: Fait | DG32: 2021-05-20 | DH32: Non | DI32: =IF(AND(T32>3,O32="SSc cutanée limitée",W32="Non",Z32="Non"),1,0) -> 1 | DJ32: =IF(AND(T32>3,O32="SSc cutanée limitée",W32="Oui",Y32="PID limitée",Z32="Non"),1,0) -> 0 | DK32: =IF(AND(T32>3,O32="SSc cutanée limitée",W32="Oui",Y32="PID extensive",Z32="Non"),1,0) -> 0 | DL32: =IF(AND(T32>3,O32="SSc cutanée limitée",W32="Non",Z32="Oui"),1,0) -> 0 | DM32: =IF(AND(T32>3,O32="SSc cutanée limitée",W32="Oui",Z32="Oui"),1,0) -> 0 | DN32: =IF(AND($T32>3,$O32="SSc cutanée diffuse",$W32="Non",$Z32="Non"),1,0) -> 0 | DO32: =IF(AND($T32>3,$O32="SSc cutanée diffuse",$W32="Oui",$Y32="PID limitée",$Z32="Non"),1,0) -> 0 | DP32: =IF(AND($T32>3,$O32="SSc cutanée diffuse",$W32="Oui",$Y32="PID extensive",$Z32="Non"),1,0) -> 0 | DQ32: =IF(AND($T32>3,$O32="SSc cutanée diffuse",$W32="Non",$Z32="Oui"),1,0) -> 0 | DR32: =IF(AND($T32>3,$O32="SSc cutanée diffuse",$W32="Oui",$Z32="Oui"),1,0) -> 0 | DS32: =IF(AND($T32<=3,$O32="SSc cutanée limitée",$W32="Non",$Z32="Non"),1,0) -> 0 | DT32: =IF(AND($T32<=3,$O32="SSc cutanée limitée",$W32="Oui",$Y32="PID limitée",$Z32="Non"),1,0) -> 0 | DU32: =IF(AND($T32<=3,$O32="SSc cutanée limitée",$W32="Oui",$Y32="PID extensive",$Z32="Non"),1,0) -> 0 | DV32: =IF(AND($T32<=3,$O32="SSc cutanée limitée",$W32="Non",$Z32="Oui"),1,0) -> 0 | DW32: =IF(AND($T32<=3,$O32="SSc cutanée limitée",$W32="Oui",$Z32="Oui"),1,0) -> 0 | DX32: =IF(AND($T32<=3,$O32="SSc cutanée diffuse",$W32="Non",$Z32="Non"),1,0) -> 0 | DY32: =IF(AND($T32<=3,$O32="SSc cutanée diffuse",$W32="Oui",$Y32="PID limitée",$Z32="Non"),1,0) -> 0 | DZ32: =IF(AND($T32<=3,$O32="SSc cutanée diffuse",$W32="Oui",$Y32="PID extensive",$Z32="Non"),1,0) -> 0 | EA32: =IF(AND($T32<=3,$O32="SSc cutanée diffuse",$W32="Non",$Z32="Oui"),1,0) -> 0 | EB32: =IF(AND($T32<=3,$O32="SSc cutanée diffuse",$W32="Oui",$Z32="Oui"),1,0) -> 0
A33: 414 | B33: 1 | C33: nom32 | D33: pat32 | E33: pre32 | F33: Femme | G33: 1973-08-19 | H33: 48 | I33: 2021-05-25 | J33: Oui | K33: Oui | L33: Oui | M33: Oui | N33: 2021-05-25 | O33: SSc cutanée limitée | P33: 2018 | R33: 2015 | T33: =YEAR(N33)-R33 -> 6 | U33: 2018 | W33: Oui | X33: 2018 | Y33: PID extensive | Z33: Non | AD33: Oui | AE33: Oui | AF33: oui | AN33: oui | AO33: CELLCEPT | CB33: oui | CC33: ZANEXTRA | CD33: 20 | CE33: oui | CF33: ZANEXTRA | CG33: 20 | CL33: oui | CM33: BISOCE | CN33: 5 | DB33: Fait | DC33: 2021-05-25 | DD33: Oui | DE33: Ne sait pas | DF33: Non fait | DI33: =IF(AND(T33>3,O33="SSc cutanée limitée",W33="Non",Z33="Non"),1,0) -> 0 | DJ33: =IF(AND(T33>3,O33="SSc cutanée limitée",W33="Oui",Y33="PID limitée",Z33="Non"),1,0) -> 0 | DK33: =IF(AND(T33>3,O33="SSc cutanée limitée",W33="Oui",Y33="PID extensive",Z33="Non"),1,0) -> 1 | DL33: =IF(AND(T33>3,O33="SSc cutanée limitée",W33="Non",Z33="Oui"),1,0) -> 0 | DM33: =IF(AND(T33>3,O33="SSc cutanée limitée",W33="Oui",Z33="Oui"),1,0) -> 0 | DN33: =IF(AND($T33>3,$O33="SSc cutanée diffuse",$W33="Non",$Z33="Non"),1,0) -> 0 | DO33: =IF(AND($T33>3,$O33="SSc cutanée diffuse",$W33="Oui",$Y33="PID limitée",$Z33="Non"),1,0) -> 0 | DP33: =IF(AND($T33>3,$O33="SSc cutanée diffuse",$W33="Oui",$Y33="PID extensive",$Z33="Non"),1,0) -> 0 | DQ33: =IF(AND($T33>3,$O33="SSc cutanée diffuse",$W33="Non",$Z33="Oui"),1,0) -> 0 | DR33: =IF(AND($T33>3,$O33="SSc cutanée diffuse",$W33="Oui",$Z33="Oui"),1,0) -> 0 | DS33: =IF(AND($T33<=3,$O33="SSc cutanée limitée",$W33="Non",$Z33="Non"),1,0) -> 0 | DT33: =IF(AND($T33<=3,$O33="SSc cutanée limitée",$W33="Oui",$Y33="PID limitée",$Z33="Non"),1,0) -> 0 | DU33: =IF(AND($T33<=3,$O33="SSc cutanée limitée",$W33="Oui",$Y33="PID extensive",$Z33="Non"),1,0) -> 0 | DV33: =IF(AND($T33<=3,$O33="SSc cutanée limitée",$W33="Non",$Z33="Oui"),1,0) -> 0 | DW33: =IF(AND($T33<=3,$O33="SSc cutanée limitée",$W33="Oui",$Z33="Oui"),1,0) -> 0 | DX33: =IF(AND($T33<=3,$O33="SSc cutanée diffuse",$W33="Non",$Z33="Non"),1,0) -> 0 | DY33: =IF(AND($T33<=3,$O33="SSc cutanée diffuse",$W33="Oui",$Y33="PID limitée",$Z33="Non"),1,0) -> 0 | DZ33: =IF(AND($T33<=3,$O33="SSc cutanée diffuse",$W33="Oui",$Y33="PID extensive",$Z33="Non"),1,0) -> 0 | EA33: =IF(AND($T33<=3,$O33="SSc cutanée diffuse",$W33="Non",$Z33="Oui"),1,0) -> 0 | EB33: =IF(AND($T33<=3,$O33="SSc cutanée diffuse",$W33="Oui",$Z33="Oui"),1,0) -> 0
A34: 416 | B34: 1 | C34: nom33 | D34: pat33 | E34: pre33 | F34: Femme | G34: 1973-02-26 | H34: 48 | I34: 2021-05-26 | J34: Oui | K34: Oui | L34: Oui | M34: Oui | N34: 2021-05-26 | O34: SSc cutanée limitée | P34: 2016 | S34: non connue | T34: =YEAR(N34)-R34 -> 2021 | U34: 2015 | W34: Non | Z34: Non | AD34: Non | AE34: Non | DB34: Fait | DC34: 2021-05-26 | DF34: Fait | DG34: 2021-05-26 | DH34: Non | DI34: =IF(AND(T34>3,O34="SSc cutanée limitée",W34="Non",Z34="Non"),1,0) -> 1 | DJ34: =IF(AND(T34>3,O34="SSc cutanée limitée",W34="Oui",Y34="PID limitée",Z34="Non"),1,0) -> 0 | DK34: =IF(AND(T34>3,O34="SSc cutanée limitée",W34="Oui",Y34="PID extensive",Z34="Non"),1,0) -> 0 | DL34: =IF(AND(T34>3,O34="SSc cutanée limitée",W34="Non",Z34="Oui"),1,0) -> 0 | DM34: =IF(AND(T34>3,O34="SSc cutanée limitée",W34="Oui",Z34="Oui"),1,0) -> 0 | DN34: =IF(AND($T34>3,$O34="SSc cutanée diffuse",$W34="Non",$Z34="Non"),1,0) -> 0 | DO34: =IF(AND($T34>3,$O34="SSc cutanée diffuse",$W34="Oui",$Y34="PID limitée",$Z34="Non"),1,0) -> 0 | DP34: =IF(AND($T34>3,$O34="SSc cutanée diffuse",$W34="Oui",$Y34="PID extensive",$Z34="Non"),1,0) -> 0 | DQ34: =IF(AND($T34>3,$O34="SSc cutanée diffuse",$W34="Non",$Z34="Oui"),1,0) -> 0 | DR34: =IF(AND($T34>3,$O34="SSc cutanée diffuse",$W34="Oui",$Z34="Oui"),1,0) -> 0 | DS34: =IF(AND($T34<=3,$O34="SSc cutanée limitée",$W34="Non",$Z34="Non"),1,0) -> 0 | DT34: =IF(AND($T34<=3,$O34="SSc cutanée limitée",$W34="Oui",$Y34="PID limitée",$Z34="Non"),1,0) -> 0 | DU34: =IF(AND($T34<=3,$O34="SSc cutanée limitée",$W34="Oui",$Y34="PID extensive",$Z34="Non"),1,0) -> 0 | DV34: =IF(AND($T34<=3,$O34="SSc cutanée limitée",$W34="Non",$Z34="Oui"),1,0) -> 0 | DW34: =IF(AND($T34<=3,$O34="SSc cutanée limitée",$W34="Oui",$Z34="Oui"),1,0) -> 0 | DX34: =IF(AND($T34<=3,$O34="SSc cutanée diffuse",$W34="Non",$Z34="Non"),1,0) -> 0 | DY34: =IF(AND($T34<=3,$O34="SSc cutanée diffuse",$W34="Oui",$Y34="PID limitée",$Z34="Non"),1,0) -> 0 | DZ34: =IF(AND($T34<=3,$O34="SSc cutanée diffuse",$W34="Oui",$Y34="PID extensive",$Z34="Non"),1,0) -> 0 | EA34: =IF(AND($T34<=3,$O34="SSc cutanée diffuse",$W34="Non",$Z34="Oui"),1,0) -> 0 | EB34: =IF(AND($T34<=3,$O34="SSc cutanée diffuse",$W34="Oui",$Z34="Oui"),1,0) -> 0
A35: 420 | B35: 1 | C35: nom34 | D35: pat34 | E35: pre34 | F35: Femme | G35: 1973-09-02 | H35: 48 | I35: 2021-05-25 | J35: Oui | K35: Oui | L35: Oui | M35: Oui | O35: SSc cutanée limitée | T35: =YEAR(N35)-R35 -> 1900 | DI35: =IF(AND(T35>3,O35="SSc cutanée limitée",W35="Non",Z35="Non"),1,0) -> 0 | DJ35: =IF(AND(T35>3,O35="SSc cutanée limitée",W35="Oui",Y35="PID limitée",Z35="Non"),1,0) -> 0 | DK35: =IF(AND(T35>3,O35="SSc cutanée limitée",W35="Oui",Y35="PID extensive",Z35="Non"),1,0) -> 0 | DL35: =IF(AND(T35>3,O35="SSc cutanée limitée",W35="Non",Z35="Oui"),1,0) -> 0 | DM35: =IF(AND(T35>3,O35="SSc cutanée limitée",W35="Oui",Z35="Oui"),1,0) -> 0 | DN35: =IF(AND($T35>3,$O35="SSc cutanée diffuse",$W35="Non",$Z35="Non"),1,0) -> 0 | DO35: =IF(AND($T35>3,$O35="SSc cutanée diffuse",$W35="Oui",$Y35="PID limitée",$Z35="Non"),1,0) -> 0 | DP35: =IF(AND($T35>3,$O35="SSc cutanée diffuse",$W35="Oui",$Y35="PID extensive",$Z35="Non"),1,0) -> 0 | DQ35: =IF(AND($T35>3,$O35="SSc cutanée diffuse",$W35="Non",$Z35="Oui"),1,0) -> 0 | DR35: =IF(AND($T35>3,$O35="SSc cutanée diffuse",$W35="Oui",$Z35="Oui"),1,0) -> 0 | DS35: =IF(AND($T35<=3,$O35="SSc cutanée limitée",$W35="Non",$Z35="Non"),1,0) -> 0 | DT35: =IF(AND($T35<=3,$O35="SSc cutanée limitée",$W35="Oui",$Y35="PID limitée",$Z35="Non"),1,0) -> 0 | DU35: =IF(AND($T35<=3,$O35="SSc cutanée limitée",$W35="Oui",$Y35="PID extensive",$Z35="Non"),1,0) -> 0 | DV35: =IF(AND($T35<=3,$O35="SSc cutanée limitée",$W35="Non",$Z35="Oui"),1,0) -> 0 | DW35: =IF(AND($T35<=3,$O35="SSc cutanée limitée",$W35="Oui",$Z35="Oui"),1,0) -> 0 | DX35: =IF(AND($T35<=3,$O35="SSc cutanée diffuse",$W35="Non",$Z35="Non"),1,0) -> 0 | DY35: =IF(AND($T35<=3,$O35="SSc cutanée diffuse",$W35="Oui",$Y35="PID limitée",$Z35="Non"),1,0) -> 0 | DZ35: =IF(AND($T35<=3,$O35="SSc cutanée diffuse",$W35="Oui",$Y35="PID extensive",$Z35="Non"),1,0) -> 0 | EA35: =IF(AND($T35<=3,$O35="SSc cutanée diffuse",$W35="Non",$Z35="Oui"),1,0) -> 0 | EB35: =IF(AND($T35<=3,$O35="SSc cutanée diffuse",$W35="Oui",$Z35="Oui"),1,0) -> 0
A36: 422 | B36: 1 | C36: nom35 | D36: pat35 | E36: pre35 | F36: Femme | G36: 1954-12-11 | H36: 67 | I36: 2021-05-26 | J36: Oui | K36: Oui | L36: Oui | M36: Oui | N36: 2021-05-28 | O36: SSc cutanée limitée | Q36: non connue | R36: 1992 | T36: =YEAR(N36)-R36 -> 29 | V36: non connue | W36: Oui | X36: 2021 | Y36: PID limitée | Z36: Non | AD36: Non | AE36: Non | DB36: Fait | DC36: 2021-05-28 | DD36: Oui | DF36: Fait | DG36: 2021-05-28 | DH36: Non | DI36: =IF(AND(T36>3,O36="SSc cutanée limitée",W36="Non",Z36="Non"),1,0) -> 0 | DJ36: =IF(AND(T36>3,O36="SSc cutanée limitée",W36="Oui",Y36="PID limitée",Z36="Non"),1,0) -> 1 | DK36: =IF(AND(T36>3,O36="SSc cutanée limitée",W36="Oui",Y36="PID extensive",Z36="Non"),1,0) -> 0 | DL36: =IF(AND(T36>3,O36="SSc cutanée limitée",W36="Non",Z36="Oui"),1,0) -> 0 | DM36: =IF(AND(T36>3,O36="SSc cutanée limitée",W36="Oui",Z36="Oui"),1,0) -> 0 | DN36: =IF(AND($T36>3,$O36="SSc cutanée diffuse",$W36="Non",$Z36="Non"),1,0) -> 0 | DO36: =IF(AND($T36>3,$O36="SSc cutanée diffuse",$W36="Oui",$Y36="PID limitée",$Z36="Non"),1,0) -> 0 | DP36: =IF(AND($T36>3,$O36="SSc cutanée diffuse",$W36="Oui",$Y36="PID extensive",$Z36="Non"),1,0) -> 0 | DQ36: =IF(AND($T36>3,$O36="SSc cutanée diffuse",$W36="Non",$Z36="Oui"),1,0) -> 0 | DR36: =IF(AND($T36>3,$O36="SSc cutanée diffuse",$W36="Oui",$Z36="Oui"),1,0) -> 0 | DS36: =IF(AND($T36<=3,$O36="SSc cutanée limitée",$W36="Non",$Z36="Non"),1,0) -> 0 | DT36: =IF(AND($T36<=3,$O36="SSc cutanée limitée",$W36="Oui",$Y36="PID limitée",$Z36="Non"),1,0) -> 0 | DU36: =IF(AND($T36<=3,$O36="SSc cutanée limitée",$W36="Oui",$Y36="PID extensive",$Z36="Non"),1,0) -> 0 | DV36: =IF(AND($T36<=3,$O36="SSc cutanée limitée",$W36="Non",$Z36="Oui"),1,0) -> 0 | DW36: =IF(AND($T36<=3,$O36="SSc cutanée limitée",$W36="Oui",$Z36="Oui"),1,0) -> 0 | DX36: =IF(AND($T36<=3,$O36="SSc cutanée diffuse",$W36="Non",$Z36="Non"),1,0) -> 0 | DY36: =IF(AND($T36<=3,$O36="SSc cutanée diffuse",$W36="Oui",$Y36="PID limitée",$Z36="Non"),1,0) -> 0 | DZ36: =IF(AND($T36<=3,$O36="SSc cutanée diffuse",$W36="Oui",$Y36="PID extensive",$Z36="Non"),1,0) -> 0 | EA36: =IF(AND($T36<=3,$O36="SSc cutanée diffuse",$W36="Non",$Z36="Oui"),1,0) -> 0 | EB36: =IF(AND($T36<=3,$O36="SSc cutanée diffuse",$W36="Oui",$Z36="Oui"),1,0) -> 0
A37: 436 | B37: 1 | C37: nom36 | D37: pat36 | E37: pre36 | F37: Femme | G37: 1969-04-24 | H37: 52 | I37: 2021-06-01 | J37: Oui | K37: Oui | L37: Oui | M37: Oui | N37: 2021-06-01 | O37: SSc cutanée limitée | P37: 1990 | R37: 1984 | T37: =YEAR(N37)-R37 -> 37 | U37: 1990 | W37: Non | Z37: Oui | AA37: groupe 1 (hypertension artérielle pulmonaire) | AC37: 2020 | AD37: Non | AE37: Oui | DB37: Non fait | DF37: Fait | DG37: 2021-06-01 | DH37: Oui | DI37: =IF(AND(T37>3,O37="SSc cutanée limitée",W37="Non",Z37="Non"),1,0) -> 0 | DJ37: =IF(AND(T37>3,O37="SSc cutanée limitée",W37="Oui",Y37="PID limitée",Z37="Non"),1,0) -> 0 | DK37: =IF(AND(T37>3,O37="SSc cutanée limitée",W37="Oui",Y37="PID extensive",Z37="Non"),1,0) -> 0 | DL37: =IF(AND(T37>3,O37="SSc cutanée limitée",W37="Non",Z37="Oui"),1,0) -> 1 | DM37: =IF(AND(T37>3,O37="SSc cutanée limitée",W37="Oui",Z37="Oui"),1,0) -> 0 | DN37: =IF(AND($T37>3,$O37="SSc cutanée diffuse",$W37="Non",$Z37="Non"),1,0) -> 0 | DO37: =IF(AND($T37>3,$O37="SSc cutanée diffuse",$W37="Oui",$Y37="PID limitée",$Z37="Non"),1,0) -> 0 | DP37: =IF(AND($T37>3,$O37="SSc cutanée diffuse",$W37="Oui",$Y37="PID extensive",$Z37="Non"),1,0) -> 0 | DQ37: =IF(AND($T37>3,$O37="SSc cutanée diffuse",$W37="Non",$Z37="Oui"),1,0) -> 0 | DR37: =IF(AND($T37>3,$O37="SSc cutanée diffuse",$W37="Oui",$Z37="Oui"),1,0) -> 0 | DS37: =IF(AND($T37<=3,$O37="SSc cutanée limitée",$W37="Non",$Z37="Non"),1,0) -> 0 | DT37: =IF(AND($T37<=3,$O37="SSc cutanée limitée",$W37="Oui",$Y37="PID limitée",$Z37="Non"),1,0) -> 0 | DU37: =IF(AND($T37<=3,$O37="SSc cutanée limitée",$W37="Oui",$Y37="PID extensive",$Z37="Non"),1,0) -> 0 | DV37: =IF(AND($T37<=3,$O37="SSc cutanée limitée",$W37="Non",$Z37="Oui"),1,0) -> 0 | DW37: =IF(AND($T37<=3,$O37="SSc cutanée limitée",$W37="Oui",$Z37="Oui"),1,0) -> 0 | DX37: =IF(AND($T37<=3,$O37="SSc cutanée diffuse",$W37="Non",$Z37="Non"),1,0) -> 0 | DY37: =IF(AND($T37<=3,$O37="SSc cutanée diffuse",$W37="Oui",$Y37="PID limitée",$Z37="Non"),1,0) -> 0 | DZ37: =IF(AND($T37<=3,$O37="SSc cutanée diffuse",$W37="Oui",$Y37="PID extensive",$Z37="Non"),1,0) -> 0 | EA37: =IF(AND($T37<=3,$O37="SSc cutanée diffuse",$W37="Non",$Z37="Oui"),1,0) -> 0 | EB37: =IF(AND($T37<=3,$O37="SSc cutanée diffuse",$W37="Oui",$Z37="Oui"),1,0) -> 0
A38: 442 | B38: 1 | C38: nom37 | D38: pat37 | E38: pre37 | F38: Femme | G38: 1948-05-22 | H38: 73 | I38: 2021-06-02 | J38: Oui | K38: Oui | L38: Oui | M38: Oui | N38: 2021-06-02 | O38: SSc sine scleroderma | P38: 2014 | R38: 2014 | T38: =YEAR(N38)-R38 -> 7 | U38: 2014 | W38: Non | Z38: Non | AD38: Non | AE38: Non | CE38: oui | CF38: TRANDOLAPRIL | CG38: 2 | DB38: Fait | DC38: 2021-06-02 | DD38: Non | DF38: Fait | DG38: 2021-06-02 | DH38: Non | DI38: =IF(AND(T38>3,O38="SSc cutanée limitée",W38="Non",Z38="Non"),1,0) -> 0 | DJ38: =IF(AND(T38>3,O38="SSc cutanée limitée",W38="Oui",Y38="PID limitée",Z38="Non"),1,0) -> 0 | DK38: =IF(AND(T38>3,O38="SSc cutanée limitée",W38="Oui",Y38="PID extensive",Z38="Non"),1,0) -> 0 | DL38: =IF(AND(T38>3,O38="SSc cutanée limitée",W38="Non",Z38="Oui"),1,0) -> 0 | DM38: =IF(AND(T38>3,O38="SSc cutanée limitée",W38="Oui",Z38="Oui"),1,0) -> 0 | DN38: =IF(AND($T38>3,$O38="SSc cutanée diffuse",$W38="Non",$Z38="Non"),1,0) -> 0 | DO38: =IF(AND($T38>3,$O38="SSc cutanée diffuse",$W38="Oui",$Y38="PID limitée",$Z38="Non"),1,0) -> 0 | DP38: =IF(AND($T38>3,$O38="SSc cutanée diffuse",$W38="Oui",$Y38="PID extensive",$Z38="Non"),1,0) -> 0 | DQ38: =IF(AND($T38>3,$O38="SSc cutanée diffuse",$W38="Non",$Z38="Oui"),1,0) -> 0 | DR38: =IF(AND($T38>3,$O38="SSc cutanée diffuse",$W38="Oui",$Z38="Oui"),1,0) -> 0 | DS38: =IF(AND($T38<=3,$O38="SSc cutanée limitée",$W38="Non",$Z38="Non"),1,0) -> 0 | DT38: =IF(AND($T38<=3,$O38="SSc cutanée limitée",$W38="Oui",$Y38="PID limitée",$Z38="Non"),1,0) -> 0 | DU38: =IF(AND($T38<=3,$O38="SSc cutanée limitée",$W38="Oui",$Y38="PID extensive",$Z38="Non"),1,0) -> 0 | DV38: =IF(AND($T38<=3,$O38="SSc cutanée limitée",$W38="Non",$Z38="Oui"),1,0) -> 0 | DW38: =IF(AND($T38<=3,$O38="SSc cutanée limitée",$W38="Oui",$Z38="Oui"),1,0) -> 0 | DX38: =IF(AND($T38<=3,$O38="SSc cutanée diffuse",$W38="Non",$Z38="Non"),1,0) -> 0 | DY38: =IF(AND($T38<=3,$O38="SSc cutanée diffuse",$W38="Oui",$Y38="PID limitée",$Z38="Non"),1,0) -> 0 | DZ38: =IF(AND($T38<=3,$O38="SSc cutanée diffuse",$W38="Oui",$Y38="PID extensive",$Z38="Non"),1,0) -> 0 | EA38: =IF(AND($T38<=3,$O38="SSc cutanée diffuse",$W38="Non",$Z38="Oui"),1,0) -> 0 | EB38: =IF(AND($T38<=3,$O38="SSc cutanée diffuse",$W38="Oui",$Z38="Oui"),1,0) -> 0
A39: 456 | B39: 1 | C39: nom38 | D39: pat38 | E39: pre38 | F39: Homme | G39: 1981-08-19 | H39: 40 | I39: 2021-06-07 | J39: Oui | K39: Oui | L39: Oui | M39: Oui | N39: 2021-06-07 | O39: SSc cutanée diffuse | P39: 2020 | R39: 2020 | T39: =YEAR(N39)-R39 -> 1 | U39: 2020 | W39: Non | Z39: Non | AD39: Oui | AE39: Oui | AF39: oui | AN39: oui | AO39: CELLCEPT | AP39: 3000 | CB39: oui | CC39: AMLODIPINE | CD39: 10 | DB39: Fait | DC39: 2021-06-07 | DF39: Fait | DG39: 2021-06-07 | DH39: Non | DI39: =IF(AND(T39>3,O39="SSc cutanée limitée",W39="Non",Z39="Non"),1,0) -> 0 | DJ39: =IF(AND(T39>3,O39="SSc cutanée limitée",W39="Oui",Y39="PID limitée",Z39="Non"),1,0) -> 0 | DK39: =IF(AND(T39>3,O39="SSc cutanée limitée",W39="Oui",Y39="PID extensive",Z39="Non"),1,0) -> 0 | DL39: =IF(AND(T39>3,O39="SSc cutanée limitée",W39="Non",Z39="Oui"),1,0) -> 0 | DM39: =IF(AND(T39>3,O39="SSc cutanée limitée",W39="Oui",Z39="Oui"),1,0) -> 0 | DN39: =IF(AND($T39>3,$O39="SSc cutanée diffuse",$W39="Non",$Z39="Non"),1,0) -> 0 | DO39: =IF(AND($T39>3,$O39="SSc cutanée diffuse",$W39="Oui",$Y39="PID limitée",$Z39="Non"),1,0) -> 0 | DP39: =IF(AND($T39>3,$O39="SSc cutanée diffuse",$W39="Oui",$Y39="PID extensive",$Z39="Non"),1,0) -> 0 | DQ39: =IF(AND($T39>3,$O39="SSc cutanée diffuse",$W39="Non",$Z39="Oui"),1,0) -> 0 | DR39: =IF(AND($T39>3,$O39="SSc cutanée diffuse",$W39="Oui",$Z39="Oui"),1,0) -> 0 | DS39: =IF(AND($T39<=3,$O39="SSc cutanée limitée",$W39="Non",$Z39="Non"),1,0) -> 0 | DT39: =IF(AND($T39<=3,$O39="SSc cutanée limitée",$W39="Oui",$Y39="PID limitée",$Z39="Non"),1,0) -> 0 | DU39: =IF(AND($T39<=3,$O39="SSc cutanée limitée",$W39="Oui",$Y39="PID extensive",$Z39="Non"),1,0) -> 0 | DV39: =IF(AND($T39<=3,$O39="SSc cutanée limitée",$W39="Non",$Z39="Oui"),1,0) -> 0 | DW39: =IF(AND($T39<=3,$O39="SSc cutanée limitée",$W39="Oui",$Z39="Oui"),1,0) -> 0 | DX39: =IF(AND($T39<=3,$O39="SSc cutanée diffuse",$W39="Non",$Z39="Non"),1,0) -> 1 | DY39: =IF(AND($T39<=3,$O39="SSc cutanée diffuse",$W39="Oui",$Y39="PID limitée",$Z39="Non"),1,0) -> 0 | DZ39: =IF(AND($T39<=3,$O39="SSc cutanée diffuse",$W39="Oui",$Y39="PID extensive",$Z39="Non"),1,0) -> 0 | EA39: =IF(AND($T39<=3,$O39="SSc cutanée diffuse",$W39="Non",$Z39="Oui"),1,0) -> 0 | EB39: =IF(AND($T39<=3,$O39="SSc cutanée diffuse",$W39="Oui",$Z39="Oui"),1,0) -> 0
A40: 458 | B40: 1 | C40: nom39 | D40: pat39 | E40: pre39 | F40: Femme | G40: 1979-06-27 | H40: 42 | I40: 2021-06-08 | J40: Oui | K40: Oui | L40: Oui | M40: Oui | N40: 2021-06-08 | O40: SSc cutanée limitée | P40: 2016 | R40: 1992 | T40: =YEAR(N40)-R40 -> 29 | U40: 2006 | W40: Non | Z40: Non | AD40: Non | AE40: Non | AF40: oui | DB40: Non fait | DF40: Fait | DG40: 2021-06-08 | DH40: Non | DI40: =IF(AND(T40>3,O40="SSc cutanée limitée",W40="Non",Z40="Non"),1,0) -> 1 | DJ40: =IF(AND(T40>3,O40="SSc cutanée limitée",W40="Oui",Y40="PID limitée",Z40="Non"),1,0) -> 0 | DK40: =IF(AND(T40>3,O40="SSc cutanée limitée",W40="Oui",Y40="PID extensive",Z40="Non"),1,0) -> 0 | DL40: =IF(AND(T40>3,O40="SSc cutanée limitée",W40="Non",Z40="Oui"),1,0) -> 0 | DM40: =IF(AND(T40>3,O40="SSc cutanée limitée",W40="Oui",Z40="Oui"),1,0) -> 0 | DN40: =IF(AND($T40>3,$O40="SSc cutanée diffuse",$W40="Non",$Z40="Non"),1,0) -> 0 | DO40: =IF(AND($T40>3,$O40="SSc cutanée diffuse",$W40="Oui",$Y40="PID limitée",$Z40="Non"),1,0) -> 0 | DP40: =IF(AND($T40>3,$O40="SSc cutanée diffuse",$W40="Oui",$Y40="PID extensive",$Z40="Non"),1,0) -> 0 | DQ40: =IF(AND($T40>3,$O40="SSc cutanée diffuse",$W40="Non",$Z40="Oui"),1,0) -> 0 | DR40: =IF(AND($T40>3,$O40="SSc cutanée diffuse",$W40="Oui",$Z40="Oui"),1,0) -> 0 | DS40: =IF(AND($T40<=3,$O40="SSc cutanée limitée",$W40="Non",$Z40="Non"),1,0) -> 0 | DT40: =IF(AND($T40<=3,$O40="SSc cutanée limitée",$W40="Oui",$Y40="PID limitée",$Z40="Non"),1,0) -> 0 | DU40: =IF(AND($T40<=3,$O40="SSc cutanée limitée",$W40="Oui",$Y40="PID extensive",$Z40="Non"),1,0) -> 0 | DV40: =IF(AND($T40<=3,$O40="SSc cutanée limitée",$W40="Non",$Z40="Oui"),1,0) -> 0 | DW40: =IF(AND($T40<=3,$O40="SSc cutanée limitée",$W40="Oui",$Z40="Oui"),1,0) -> 0 | DX40: =IF(AND($T40<=3,$O40="SSc cutanée diffuse",$W40="Non",$Z40="Non"),1,0) -> 0 | DY40: =IF(AND($T40<=3,$O40="SSc cutanée diffuse",$W40="Oui",$Y40="PID limitée",$Z40="Non"),1,0) -> 0 | DZ40: =IF(AND($T40<=3,$O40="SSc cutanée diffuse",$W40="Oui",$Y40="PID extensive",$Z40="Non"),1,0) -> 0 | EA40: =IF(AND($T40<=3,$O40="SSc cutanée diffuse",$W40="Non",$Z40="Oui"),1,0) -> 0 | EB40: =IF(AND($T40<=3,$O40="SSc cutanée diffuse",$W40="Oui",$Z40="Oui"),1,0) -> 0
A41: 460 | B41: 1 | C41: nom40 | D41: pat40 | E41: pre40 | F41: Homme | G41: 1968-05-23 | H41: 53 | I41: 2021-06-09 | J41: Oui | K41: Oui | L41: Oui | M41: Oui | N41: 2021-06-09 | O41: SSc cutanée diffuse | P41: 2018 | R41: 2016 | T41: =YEAR(N41)-R41 -> 5 | V41: non connue | W41: Oui | X41: 2018 | Y41: PID limitée | Z41: Non | AD41: Oui | AE41: Oui | AF41: oui | AN41: oui | AO41: Cellcept | AP41: 2000 | BX41: oui | BY41: Tocilizumab | BZ41: 162 | CA41: SC | CR41: oui | CS41: Tracleer | CT41: 250 | DB41: Fait | DC41: 2021-06-09 | DD41: Oui | DE41: Ne sait pas | DF41: Non fait | DI41: =IF(AND(T41>3,O41="SSc cutanée limitée",W41="Non",Z41="Non"),1,0) -> 0 | DJ41: =IF(AND(T41>3,O41="SSc cutanée limitée",W41="Oui",Y41="PID limitée",Z41="Non"),1,0) -> 0 | DK41: =IF(AND(T41>3,O41="SSc cutanée limitée",W41="Oui",Y41="PID extensive",Z41="Non"),1,0) -> 0 | DL41: =IF(AND(T41>3,O41="SSc cutanée limitée",W41="Non",Z41="Oui"),1,0) -> 0 | DM41: =IF(AND(T41>3,O41="SSc cutanée limitée",W41="Oui",Z41="Oui"),1,0) -> 0 | DN41: =IF(AND($T41>3,$O41="SSc cutanée diffuse",$W41="Non",$Z41="Non"),1,0) -> 0 | DO41: =IF(AND($T41>3,$O41="SSc cutanée diffuse",$W41="Oui",$Y41="PID limitée",$Z41="Non"),1,0) -> 1 | DP41: =IF(AND($T41>3,$O41="SSc cutanée diffuse",$W41="Oui",$Y41="PID extensive",$Z41="Non"),1,0) -> 0 | DQ41: =IF(AND($T41>3,$O41="SSc cutanée diffuse",$W41="Non",$Z41="Oui"),1,0) -> 0 | DR41: =IF(AND($T41>3,$O41="SSc cutanée diffuse",$W41="Oui",$Z41="Oui"),1,0) -> 0 | DS41: =IF(AND($T41<=3,$O41="SSc cutanée limitée",$W41="Non",$Z41="Non"),1,0) -> 0 | DT41: =IF(AND($T41<=3,$O41="SSc cutanée limitée",$W41="Oui",$Y41="PID limitée",$Z41="Non"),1,0) -> 0 | DU41: =IF(AND($T41<=3,$O41="SSc cutanée limitée",$W41="Oui",$Y41="PID extensive",$Z41="Non"),1,0) -> 0 | DV41: =IF(AND($T41<=3,$O41="SSc cutanée limitée",$W41="Non",$Z41="Oui"),1,0) -> 0 | DW41: =IF(AND($T41<=3,$O41="SSc cutanée limitée",$W41="Oui",$Z41="Oui"),1,0) -> 0 | DX41: =IF(AND($T41<=3,$O41="SSc cutanée diffuse",$W41="Non",$Z41="Non"),1,0) -> 0 | DY41: =IF(AND($T41<=3,$O41="SSc cutanée diffuse",$W41="Oui",$Y41="PID limitée",$Z41="Non"),1,0) -> 0 | DZ41: =IF(AND($T41<=3,$O41="SSc cutanée diffuse",$W41="Oui",$Y41="PID extensive",$Z41="Non"),1,0) -> 0 | EA41: =IF(AND($T41<=3,$O41="SSc cutanée diffuse",$W41="Non",$Z41="Oui"),1,0) -> 0 | EB41: =IF(AND($T41<=3,$O41="SSc cutanée diffuse",$W41="Oui",$Z41="Oui"),1,0) -> 0
A42: 462 | B42: 1 | C42: nom41 | D42: pat41 | E42: pre41 | F42: Femme | G42: 1964-10-19 | H42: 57 | I42: 2021-06-09 | J42: Oui | K42: Oui | L42: Oui | M42: Oui | N42: 2021-06-09 | O42: SSc cutanée diffuse | P42: 1999 | R42: 1996 | T42: =YEAR(N42)-R42 -> 25 | U42: 2002 | W42: Oui | X42: 2013 | Y42: PID extensive | Z42: Non | AD42: Oui | AE42: Non | AF42: oui | DB42: Fait | DC42: 2021-06-09 | DD42: Oui | DE42: > 30% du parenchyme pulmonaire | DF42: Fait | DG42: 2021-06-09 | DH42: Non | DI42: =IF(AND(T42>3,O42="SSc cutanée limitée",W42="Non",Z42="Non"),1,0) -> 0 | DJ42: =IF(AND(T42>3,O42="SSc cutanée limitée",W42="Oui",Y42="PID limitée",Z42="Non"),1,0) -> 0 | DK42: =IF(AND(T42>3,O42="SSc cutanée limitée",W42="Oui",Y42="PID extensive",Z42="Non"),1,0) -> 0 | DL42: =IF(AND(T42>3,O42="SSc cutanée limitée",W42="Non",Z42="Oui"),1,0) -> 0 | DM42: =IF(AND(T42>3,O42="SSc cutanée limitée",W42="Oui",Z42="Oui"),1,0) -> 0 | DN42: =IF(AND($T42>3,$O42="SSc cutanée diffuse",$W42="Non",$Z42="Non"),1,0) -> 0 | DO42: =IF(AND($T42>3,$O42="SSc cutanée diffuse",$W42="Oui",$Y42="PID limitée",$Z42="Non"),1,0) -> 0 | DP42: =IF(AND($T42>3,$O42="SSc cutanée diffuse",$W42="Oui",$Y42="PID extensive",$Z42="Non"),1,0) -> 1 | DQ42: =IF(AND($T42>3,$O42="SSc cutanée diffuse",$W42="Non",$Z42="Oui"),1,0) -> 0 | DR42: =IF(AND($T42>3,$O42="SSc cutanée diffuse",$W42="Oui",$Z42="Oui"),1,0) -> 0 | DS42: =IF(AND($T42<=3,$O42="SSc cutanée limitée",$W42="Non",$Z42="Non"),1,0) -> 0 | DT42: =IF(AND($T42<=3,$O42="SSc cutanée limitée",$W42="Oui",$Y42="PID limitée",$Z42="Non"),1,0) -> 0 | DU42: =IF(AND($T42<=3,$O42="SSc cutanée limitée",$W42="Oui",$Y42="PID extensive",$Z42="Non"),1,0) -> 0 | DV42: =IF(AND($T42<=3,$O42="SSc cutanée limitée",$W42="Non",$Z42="Oui"),1,0) -> 0 | DW42: =IF(AND($T42<=3,$O42="SSc cutanée limitée",$W42="Oui",$Z42="Oui"),1,0) -> 0 | DX42: =IF(AND($T42<=3,$O42="SSc cutanée diffuse",$W42="Non",$Z42="Non"),1,0) -> 0 | DY42: =IF(AND($T42<=3,$O42="SSc cutanée diffuse",$W42="Oui",$Y42="PID limitée",$Z42="Non"),1,0) -> 0 | DZ42: =IF(AND($T42<=3,$O42="SSc cutanée diffuse",$W42="Oui",$Y42="PID extensive",$Z42="Non"),1,0) -> 0 | EA42: =IF(AND($T42<=3,$O42="SSc cutanée diffuse",$W42="Non",$Z42="Oui"),1,0) -> 0 | EB42: =IF(AND($T42<=3,$O42="SSc cutanée diffuse",$W42="Oui",$Z42="Oui"),1,0) -> 0
A43: 464 | B43: 1 | C43: nom42 | D43: pat42 | E43: pre42 | F43: Homme | G43: 1973-12-28 | H43: 48 | I43: 2021-06-11 | J43: Oui | K43: Oui | L43: Oui | M43: Oui | N43: 2021-06-11 | O43: SSc cutanée limitée | P43: 2020 | R43: 2020 | T43: =YEAR(N43)-R43 -> 1 | U43: 2020 | W43: Oui | X43: 2020 | Y43: PID limitée | Z43: Non | AD43: Oui | AE43: Oui | CB43: oui | CC43: AMLODIPINE | CD43: 5 | DB43: Fait | DC43: 2021-06-11 | DF43: Fait | DG43: 2021-06-11 | DH43: Non | DI43: =IF(AND(T43>3,O43="SSc cutanée limitée",W43="Non",Z43="Non"),1,0) -> 0 | DJ43: =IF(AND(T43>3,O43="SSc cutanée limitée",W43="Oui",Y43="PID limitée",Z43="Non"),1,0) -> 0 | DK43: =IF(AND(T43>3,O43="SSc cutanée limitée",W43="Oui",Y43="PID extensive",Z43="Non"),1,0) -> 0 | DL43: =IF(AND(T43>3,O43="SSc cutanée limitée",W43="Non",Z43="Oui"),1,0) -> 0 | DM43: =IF(AND(T43>3,O43="SSc cutanée limitée",W43="Oui",Z43="Oui"),1,0) -> 0 | DN43: =IF(AND($T43>3,$O43="SSc cutanée diffuse",$W43="Non",$Z43="Non"),1,0) -> 0 | DO43: =IF(AND($T43>3,$O43="SSc cutanée diffuse",$W43="Oui",$Y43="PID limitée",$Z43="Non"),1,0) -> 0 | DP43: =IF(AND($T43>3,$O43="SSc cutanée diffuse",$W43="Oui",$Y43="PID extensive",$Z43="Non"),1,0) -> 0 | DQ43: =IF(AND($T43>3,$O43="SSc cutanée diffuse",$W43="Non",$Z43="Oui"),1,0) -> 0 | DR43: =IF(AND($T43>3,$O43="SSc cutanée diffuse",$W43="Oui",$Z43="Oui"),1,0) -> 0 | DS43: =IF(AND($T43<=3,$O43="SSc cutanée limitée",$W43="Non",$Z43="Non"),1,0) -> 0 | DT43: =IF(AND($T43<=3,$O43="SSc cutanée limitée",$W43="Oui",$Y43="PID limitée",$Z43="Non"),1,0) -> 1 | DU43: =IF(AND($T43<=3,$O43="SSc cutanée limitée",$W43="Oui",$Y43="PID extensive",$Z43="Non"),1,0) -> 0 | DV43: =IF(AND($T43<=3,$O43="SSc cutanée limitée",$W43="Non",$Z43="Oui"),1,0) -> 0 | DW43: =IF(AND($T43<=3,$O43="SSc cutanée limitée",$W43="Oui",$Z43="Oui"),1,0) -> 0 | DX43: =IF(AND($T43<=3,$O43="SSc cutanée diffuse",$W43="Non",$Z43="Non"),1,0) -> 0 | DY43: =IF(AND($T43<=3,$O43="SSc cutanée diffuse",$W43="Oui",$Y43="PID limitée",$Z43="Non"),1,0) -> 0 | DZ43: =IF(AND($T43<=3,$O43="SSc cutanée diffuse",$W43="Oui",$Y43="PID extensive",$Z43="Non"),1,0) -> 0 | EA43: =IF(AND($T43<=3,$O43="SSc cutanée diffuse",$W43="Non",$Z43="Oui"),1,0) -> 0 | EB43: =IF(AND($T43<=3,$O43="SSc cutanée diffuse",$W43="Oui",$Z43="Oui"),1,0) -> 0
A44: 468 | B44: 1 | C44: nom43 | D44: pat43 | E44: pre43 | F44: Femme | G44: 1974-10-24 | H44: 47 | I44: 2021-06-10 | J44: Oui | K44: Oui | L44: Oui | M44: Oui | N44: 2021-06-10 | O44: SSc cutanée diffuse | P44: 1987 | R44: 1986 | T44: =YEAR(N44)-R44 -> 35 | U44: 1987 | W44: Oui | X44: 1993 | Y44: PID limitée | Z44: Non | AD44: Non | AE44: Non | DB44: Non fait | DC44: 2021-06-10 | DF44: Fait | DG44: 2021-06-10 | DH44: Non | DI44: =IF(AND(T44>3,O44="SSc cutanée limitée",W44="Non",Z44="Non"),1,0) -> 0 | DJ44: =IF(AND(T44>3,O44="SSc cutanée limitée",W44="Oui",Y44="PID limitée",Z44="Non"),1,0) -> 0 | DK44: =IF(AND(T44>3,O44="SSc cutanée limitée",W44="Oui",Y44="PID extensive",Z44="Non"),1,0) -> 0 | DL44: =IF(AND(T44>3,O44="SSc cutanée limitée",W44="Non",Z44="Oui"),1,0) -> 0 | DM44: =IF(AND(T44>3,O44="SSc cutanée limitée",W44="Oui",Z44="Oui"),1,0) -> 0 | DN44: =IF(AND($T44>3,$O44="SSc cutanée diffuse",$W44="Non",$Z44="Non"),1,0) -> 0 | DO44: =IF(AND($T44>3,$O44="SSc cutanée diffuse",$W44="Oui",$Y44="PID limitée",$Z44="Non"),1,0) -> 1 | DP44: =IF(AND($T44>3,$O44="SSc cutanée diffuse",$W44="Oui",$Y44="PID extensive",$Z44="Non"),1,0) -> 0 | DQ44: =IF(AND($T44>3,$O44="SSc cutanée diffuse",$W44="Non",$Z44="Oui"),1,0) -> 0 | DR44: =IF(AND($T44>3,$O44="SSc cutanée diffuse",$W44="Oui",$Z44="Oui"),1,0) -> 0 | DS44: =IF(AND($T44<=3,$O44="SSc cutanée limitée",$W44="Non",$Z44="Non"),1,0) -> 0 | DT44: =IF(AND($T44<=3,$O44="SSc cutanée limitée",$W44="Oui",$Y44="PID limitée",$Z44="Non"),1,0) -> 0 | DU44: =IF(AND($T44<=3,$O44="SSc cutanée limitée",$W44="Oui",$Y44="PID extensive",$Z44="Non"),1,0) -> 0 | DV44: =IF(AND($T44<=3,$O44="SSc cutanée limitée",$W44="Non",$Z44="Oui"),1,0) -> 0 | DW44: =IF(AND($T44<=3,$O44="SSc cutanée limitée",$W44="Oui",$Z44="Oui"),1,0) -> 0 | DX44: =IF(AND($T44<=3,$O44="SSc cutanée diffuse",$W44="Non",$Z44="Non"),1,0) -> 0 | DY44: =IF(AND($T44<=3,$O44="SSc cutanée diffuse",$W44="Oui",$Y44="PID limitée",$Z44="Non"),1,0) -> 0 | DZ44: =IF(AND($T44<=3,$O44="SSc cutanée diffuse",$W44="Oui",$Y44="PID extensive",$Z44="Non"),1,0) -> 0 | EA44: =IF(AND($T44<=3,$O44="SSc cutanée diffuse",$W44="Non",$Z44="Oui"),1,0) -> 0 | EB44: =IF(AND($T44<=3,$O44="SSc cutanée diffuse",$W44="Oui",$Z44="Oui"),1,0) -> 0
A45: 470 | B45: 1 | C45: nom44 | D45: pat44 | E45: pre44 | F45: Femme | G45: 1967-03-02 | H45: 54 | I45: 2021-06-10 | J45: Oui | K45: Oui | L45: Oui | M45: Oui | N45: 2021-06-10 | O45: SSc cutanée limitée | P45: 2011 | R45: 2011 | T45: =YEAR(N45)-R45 -> 10 | U45: 2011 | W45: Oui | X45: 2012 | Y45: PID extensive | Z45: Non | AD45: Oui | AE45: Non | AF45: oui | DB45: Non fait | DF45: Fait | DG45: 2021-06-10 | DH45: Non | DI45: =IF(AND(T45>3,O45="SSc cutanée limitée",W45="Non",Z45="Non"),1,0) -> 0 | DJ45: =IF(AND(T45>3,O45="SSc cutanée limitée",W45="Oui",Y45="PID limitée",Z45="Non"),1,0) -> 0 | DK45: =IF(AND(T45>3,O45="SSc cutanée limitée",W45="Oui",Y45="PID extensive",Z45="Non"),1,0) -> 1 | DL45: =IF(AND(T45>3,O45="SSc cutanée limitée",W45="Non",Z45="Oui"),1,0) -> 0 | DM45: =IF(AND(T45>3,O45="SSc cutanée limitée",W45="Oui",Z45="Oui"),1,0) -> 0 | DN45: =IF(AND($T45>3,$O45="SSc cutanée diffuse",$W45="Non",$Z45="Non"),1,0) -> 0 | DO45: =IF(AND($T45>3,$O45="SSc cutanée diffuse",$W45="Oui",$Y45="PID limitée",$Z45="Non"),1,0) -> 0 | DP45: =IF(AND($T45>3,$O45="SSc cutanée diffuse",$W45="Oui",$Y45="PID extensive",$Z45="Non"),1,0) -> 0 | DQ45: =IF(AND($T45>3,$O45="SSc cutanée diffuse",$W45="Non",$Z45="Oui"),1,0) -> 0 | DR45: =IF(AND($T45>3,$O45="SSc cutanée diffuse",$W45="Oui",$Z45="Oui"),1,0) -> 0 | DS45: =IF(AND($T45<=3,$O45="SSc cutanée limitée",$W45="Non",$Z45="Non"),1,0) -> 0 | DT45: =IF(AND($T45<=3,$O45="SSc cutanée limitée",$W45="Oui",$Y45="PID limitée",$Z45="Non"),1,0) -> 0 | DU45: =IF(AND($T45<=3,$O45="SSc cutanée limitée",$W45="Oui",$Y45="PID extensive",$Z45="Non"),1,0) -> 0 | DV45: =IF(AND($T45<=3,$O45="SSc cutanée limitée",$W45="Non",$Z45="Oui"),1,0) -> 0 | DW45: =IF(AND($T45<=3,$O45="SSc cutanée limitée",$W45="Oui",$Z45="Oui"),1,0) -> 0 | DX45: =IF(AND($T45<=3,$O45="SSc cutanée diffuse",$W45="Non",$Z45="Non"),1,0) -> 0 | DY45: =IF(AND($T45<=3,$O45="SSc cutanée diffuse",$W45="Oui",$Y45="PID limitée",$Z45="Non"),1,0) -> 0 | DZ45: =IF(AND($T45<=3,$O45="SSc cutanée diffuse",$W45="Oui",$Y45="PID extensive",$Z45="Non"),1,0) -> 0 | EA45: =IF(AND($T45<=3,$O45="SSc cutanée diffuse",$W45="Non",$Z45="Oui"),1,0) -> 0 | EB45: =IF(AND($T45<=3,$O45="SSc cutanée diffuse",$W45="Oui",$Z45="Oui"),1,0) -> 0
A46: 476 | B46: 1 | C46: nom45 | D46: pat45 | E46: pre45 | F46: Homme | G46: 1967-10-08 | H46: 54 | I46: 2021-06-14 | J46: Oui | K46: Oui | L46: Oui | M46: Oui | N46: 2021-06-14 | O46: SSc cutanée limitée | P46: 2012 | R46: 2008 | T46: =YEAR(N46)-R46 -> 13 | U46: 2012 | W46: Oui | X46: 2012 | Y46: PID limitée | Z46: Non | AD46: Non | AE46: Non | DB46: Fait | DC46: 2021-06-14 | DD46: Oui | DE46: Ne sait pas | DF46: Fait | DG46: 2021-06-14 | DH46: Oui | DI46: =IF(AND(T46>3,O46="SSc cutanée limitée",W46="Non",Z46="Non"),1,0) -> 0 | DJ46: =IF(AND(T46>3,O46="SSc cutanée limitée",W46="Oui",Y46="PID limitée",Z46="Non"),1,0) -> 1 | DK46: =IF(AND(T46>3,O46="SSc cutanée limitée",W46="Oui",Y46="PID extensive",Z46="Non"),1,0) -> 0 | DL46: =IF(AND(T46>3,O46="SSc cutanée limitée",W46="Non",Z46="Oui"),1,0) -> 0 | DM46: =IF(AND(T46>3,O46="SSc cutanée limitée",W46="Oui",Z46="Oui"),1,0) -> 0 | DN46: =IF(AND($T46>3,$O46="SSc cutanée diffuse",$W46="Non",$Z46="Non"),1,0) -> 0 | DO46: =IF(AND($T46>3,$O46="SSc cutanée diffuse",$W46="Oui",$Y46="PID limitée",$Z46="Non"),1,0) -> 0 | DP46: =IF(AND($T46>3,$O46="SSc cutanée diffuse",$W46="Oui",$Y46="PID extensive",$Z46="Non"),1,0) -> 0 | DQ46: =IF(AND($T46>3,$O46="SSc cutanée diffuse",$W46="Non",$Z46="Oui"),1,0) -> 0 | DR46: =IF(AND($T46>3,$O46="SSc cutanée diffuse",$W46="Oui",$Z46="Oui"),1,0) -> 0 | DS46: =IF(AND($T46<=3,$O46="SSc cutanée limitée",$W46="Non",$Z46="Non"),1,0) -> 0 | DT46: =IF(AND($T46<=3,$O46="SSc cutanée limitée",$W46="Oui",$Y46="PID limitée",$Z46="Non"),1,0) -> 0 | DU46: =IF(AND($T46<=3,$O46="SSc cutanée limitée",$W46="Oui",$Y46="PID extensive",$Z46="Non"),1,0) -> 0 | DV46: =IF(AND($T46<=3,$O46="SSc cutanée limitée",$W46="Non",$Z46="Oui"),1,0) -> 0 | DW46: =IF(AND($T46<=3,$O46="SSc cutanée limitée",$W46="Oui",$Z46="Oui"),1,0) -> 0 | DX46: =IF(AND($T46<=3,$O46="SSc cutanée diffuse",$W46="Non",$Z46="Non"),1,0) -> 0 | DY46: =IF(AND($T46<=3,$O46="SSc cutanée diffuse",$W46="Oui",$Y46="PID limitée",$Z46="Non"),1,0) -> 0 | DZ46: =IF(AND($T46<=3,$O46="SSc cutanée diffuse",$W46="Oui",$Y46="PID extensive",$Z46="Non"),1,0) -> 0 | EA46: =IF(AND($T46<=3,$O46="SSc cutanée diffuse",$W46="Non",$Z46="Oui"),1,0) -> 0 | EB46: =IF(AND($T46<=3,$O46="SSc cutanée diffuse",$W46="Oui",$Z46="Oui"),1,0) -> 0
A47: 478 | B47: 1 | C47: nom46 | D47: pat46 | E47: pre46 | F47: Homme | G47: 1943-12-10 | H47: 78 | I47: 2021-06-14 | J47: Oui | K47: Oui | L47: Oui | M47: Oui | N47: 2021-06-14 | O47: SSc cutanée diffuse | P47: 2019 | R47: 2019 | T47: =YEAR(N47)-R47 -> 2 | U47: 1998 | W47: Oui | X47: 1998 | Y47: PID extensive | Z47: Non | AD47: Oui | AE47: Non | AF47: oui | AN47: oui | AO47: CELLCEPT | AP47: 2500 | CE47: oui | CF47: ramipril | CG47: 5 | CL47: oui | CM47: bisoprolol | CN47: 5 | DB47: Fait | DC47: 2021-06-14 | DD47: Oui | DE47: 10-30% du parenchyme pulmonaire ou étendue incertaine | DF47: Fait | DG47: 2021-06-14 | DH47: Oui | DI47: =IF(AND(T47>3,O47="SSc cutanée limitée",W47="Non",Z47="Non"),1,0) -> 0 | DJ47: =IF(AND(T47>3,O47="SSc cutanée limitée",W47="Oui",Y47="PID limitée",Z47="Non"),1,0) -> 0 | DK47: =IF(AND(T47>3,O47="SSc cutanée limitée",W47="Oui",Y47="PID extensive",Z47="Non"),1,0) -> 0 | DL47: =IF(AND(T47>3,O47="SSc cutanée limitée",W47="Non",Z47="Oui"),1,0) -> 0 | DM47: =IF(AND(T47>3,O47="SSc cutanée limitée",W47="Oui",Z47="Oui"),1,0) -> 0 | DN47: =IF(AND($T47>3,$O47="SSc cutanée diffuse",$W47="Non",$Z47="Non"),1,0) -> 0 | DO47: =IF(AND($T47>3,$O47="SSc cutanée diffuse",$W47="Oui",$Y47="PID limitée",$Z47="Non"),1,0) -> 0 | DP47: =IF(AND($T47>3,$O47="SSc cutanée diffuse",$W47="Oui",$Y47="PID extensive",$Z47="Non"),1,0) -> 0 | DQ47: =IF(AND($T47>3,$O47="SSc cutanée diffuse",$W47="Non",$Z47="Oui"),1,0) -> 0 | DR47: =IF(AND($T47>3,$O47="SSc cutanée diffuse",$W47="Oui",$Z47="Oui"),1,0) -> 0 | DS47: =IF(AND($T47<=3,$O47="SSc cutanée limitée",$W47="Non",$Z47="Non"),1,0) -> 0 | DT47: =IF(AND($T47<=3,$O47="SSc cutanée limitée",$W47="Oui",$Y47="PID limitée",$Z47="Non"),1,0) -> 0 | DU47: =IF(AND($T47<=3,$O47="SSc cutanée limitée",$W47="Oui",$Y47="PID extensive",$Z47="Non"),1,0) -> 0 | DV47: =IF(AND($T47<=3,$O47="SSc cutanée limitée",$W47="Non",$Z47="Oui"),1,0) -> 0 | DW47: =IF(AND($T47<=3,$O47="SSc cutanée limitée",$W47="Oui",$Z47="Oui"),1,0) -> 0 | DX47: =IF(AND($T47<=3,$O47="SSc cutanée diffuse",$W47="Non",$Z47="Non"),1,0) -> 0 | DY47: =IF(AND($T47<=3,$O47="SSc cutanée diffuse",$W47="Oui",$Y47="PID limitée",$Z47="Non"),1,0) -> 0 | DZ47: =IF(AND($T47<=3,$O47="SSc cutanée diffuse",$W47="Oui",$Y47="PID extensive",$Z47="Non"),1,0) -> 1 | EA47: =IF(AND($T47<=3,$O47="SSc cutanée diffuse",$W47="Non",$Z47="Oui"),1,0) -> 0 | EB47: =IF(AND($T47<=3,$O47="SSc cutanée diffuse",$W47="Oui",$Z47="Oui"),1,0) -> 0
A48: 480 | B48: 1 | C48: nom47 | D48: pat47 | E48: pre47 | F48: Homme | G48: 1979-02-09 | H48: 42 | I48: 2021-06-14 | J48: Oui | K48: Oui | L48: Oui | M48: Oui | N48: 2021-12-08 | O48: SSc cutanée diffuse | P48: 2006 | R48: 2004 | T48: =YEAR(N48)-R48 -> 17 | U48: 2005 | W48: Oui | X48: 2008 | Y48: PID extensive | Z48: Non | AD48: Oui | AE48: Oui | AF48: oui | AN48: oui | AO48: CELLCEPT | AP48: 720 | DB48: Non fait | DF48: Non fait | DI48: =IF(AND(T48>3,O48="SSc cutanée limitée",W48="Non",Z48="Non"),1,0) -> 0 | DJ48: =IF(AND(T48>3,O48="SSc cutanée limitée",W48="Oui",Y48="PID limitée",Z48="Non"),1,0) -> 0 | DK48: =IF(AND(T48>3,O48="SSc cutanée limitée",W48="Oui",Y48="PID extensive",Z48="Non"),1,0) -> 0 | DL48: =IF(AND(T48>3,O48="SSc cutanée limitée",W48="Non",Z48="Oui"),1,0) -> 0 | DM48: =IF(AND(T48>3,O48="SSc cutanée limitée",W48="Oui",Z48="Oui"),1,0) -> 0 | DN48: =IF(AND($T48>3,$O48="SSc cutanée diffuse",$W48="Non",$Z48="Non"),1,0) -> 0 | DO48: =IF(AND($T48>3,$O48="SSc cutanée diffuse",$W48="Oui",$Y48="PID limitée",$Z48="Non"),1,0) -> 0 | DP48: =IF(AND($T48>3,$O48="SSc cutanée diffuse",$W48="Oui",$Y48="PID extensive",$Z48="Non"),1,0) -> 1 | DQ48: =IF(AND($T48>3,$O48="SSc cutanée diffuse",$W48="Non",$Z48="Oui"),1,0) -> 0 | DR48: =IF(AND($T48>3,$O48="SSc cutanée diffuse",$W48="Oui",$Z48="Oui"),1,0) -> 0 | DS48: =IF(AND($T48<=3,$O48="SSc cutanée limitée",$W48="Non",$Z48="Non"),1,0) -> 0 | DT48: =IF(AND($T48<=3,$O48="SSc cutanée limitée",$W48="Oui",$Y48="PID limitée",$Z48="Non"),1,0) -> 0 | DU48: =IF(AND($T48<=3,$O48="SSc cutanée limitée",$W48="Oui",$Y48="PID extensive",$Z48="Non"),1,0) -> 0 | DV48: =IF(AND($T48<=3,$O48="SSc cutanée limitée",$W48="Non",$Z48="Oui"),1,0) -> 0 | DW48: =IF(AND($T48<=3,$O48="SSc cutanée limitée",$W48="Oui",$Z48="Oui"),1,0) -> 0 | DX48: =IF(AND($T48<=3,$O48="SSc cutanée diffuse",$W48="Non",$Z48="Non"),1,0) -> 0 | DY48: =IF(AND($T48<=3,$O48="SSc cutanée diffuse",$W48="Oui",$Y48="PID limitée",$Z48="Non"),1,0) -> 0 | DZ48: =IF(AND($T48<=3,$O48="SSc cutanée diffuse",$W48="Oui",$Y48="PID extensive",$Z48="Non"),1,0) -> 0 | EA48: =IF(AND($T48<=3,$O48="SSc cutanée diffuse",$W48="Non",$Z48="Oui"),1,0) -> 0 | EB48: =IF(AND($T48<=3,$O48="SSc cutanée diffuse",$W48="Oui",$Z48="Oui"),1,0) -> 0
A49: 482 | B49: 1 | C49: nom48 | D49: pat48 | E49: pre48 | F49: Femme | G49: 1953-02-21 | H49: 68 | I49: 2021-06-15 | J49: Oui | K49: Oui | L49: Oui | M49: Oui | N49: 2021-06-15 | O49: SSc cutanée limitée | P49: 2020 | R49: 2005 | T49: =YEAR(N49)-R49 -> 16 | U49: 2019 | W49: Non | Z49: Oui | AA49: groupe 1 (hypertension artérielle pulmonaire),groupe 1’ (maladie veino-occlusive) | AC49: 2019 | AD49: Non | AE49: Oui | CH49: oui | CI49: Furosémide | CJ49: 40mg | CK49: PO | CO49: oui | CP49: Sildenafil | CQ49: 60 | CR49: oui | CS49: bosentan | CT49: 250 | DB49: Non fait | DF49: Fait | DG49: 2021-06-15 | DH49: Oui | DI49: =IF(AND(T49>3,O49="SSc cutanée limitée",W49="Non",Z49="Non"),1,0) -> 0 | DJ49: =IF(AND(T49>3,O49="SSc cutanée limitée",W49="Oui",Y49="PID limitée",Z49="Non"),1,0) -> 0 | DK49: =IF(AND(T49>3,O49="SSc cutanée limitée",W49="Oui",Y49="PID extensive",Z49="Non"),1,0) -> 0 | DL49: =IF(AND(T49>3,O49="SSc cutanée limitée",W49="Non",Z49="Oui"),1,0) -> 1 | DM49: =IF(AND(T49>3,O49="SSc cutanée limitée",W49="Oui",Z49="Oui"),1,0) -> 0 | DN49: =IF(AND($T49>3,$O49="SSc cutanée diffuse",$W49="Non",$Z49="Non"),1,0) -> 0 | DO49: =IF(AND($T49>3,$O49="SSc cutanée diffuse",$W49="Oui",$Y49="PID limitée",$Z49="Non"),1,0) -> 0 | DP49: =IF(AND($T49>3,$O49="SSc cutanée diffuse",$W49="Oui",$Y49="PID extensive",$Z49="Non"),1,0) -> 0 | DQ49: =IF(AND($T49>3,$O49="SSc cutanée diffuse",$W49="Non",$Z49="Oui"),1,0) -> 0 | DR49: =IF(AND($T49>3,$O49="SSc cutanée diffuse",$W49="Oui",$Z49="Oui"),1,0) -> 0 | DS49: =IF(AND($T49<=3,$O49="SSc cutanée limitée",$W49="Non",$Z49="Non"),1,0) -> 0 | DT49: =IF(AND($T49<=3,$O49="SSc cutanée limitée",$W49="Oui",$Y49="PID limitée",$Z49="Non"),1,0) -> 0 | DU49: =IF(AND($T49<=3,$O49="SSc cutanée limitée",$W49="Oui",$Y49="PID extensive",$Z49="Non"),1,0) -> 0 | DV49: =IF(AND($T49<=3,$O49="SSc cutanée limitée",$W49="Non",$Z49="Oui"),1,0) -> 0 | DW49: =IF(AND($T49<=3,$O49="SSc cutanée limitée",$W49="Oui",$Z49="Oui"),1,0) -> 0 | DX49: =IF(AND($T49<=3,$O49="SSc cutanée diffuse",$W49="Non",$Z49="Non"),1,0) -> 0 | DY49: =IF(AND($T49<=3,$O49="SSc cutanée diffuse",$W49="Oui",$Y49="PID limitée",$Z49="Non"),1,0) -> 0 | DZ49: =IF(AND($T49<=3,$O49="SSc cutanée diffuse",$W49="Oui",$Y49="PID extensive",$Z49="Non"),1,0) -> 0 | EA49: =IF(AND($T49<=3,$O49="SSc cutanée diffuse",$W49="Non",$Z49="Oui"),1,0) -> 0 | EB49: =IF(AND($T49<=3,$O49="SSc cutanée diffuse",$W49="Oui",$Z49="Oui"),1,0) -> 0
A50: 488 | B50: 1 | C50: nom49 | D50: pat49 | E50: pre49 | F50: Femme | G50: 1948-02-11 | H50: 73 | I50: 2021-06-16 | J50: Oui | K50: Oui | L50: Oui | M50: Oui | N50: 2021-06-16 | O50: SSc cutanée limitée | P50: 2001 | R50: 1999 | T50: =YEAR(N50)-R50 -> 22 | U50: 2001 | W50: Non | Z50: Non | AD50: Non | AE50: Non | AF50: oui | DB50: Non fait | DF50: Fait | DG50: 2021-06-16 | DH50: Non | DI50: =IF(AND(T50>3,O50="SSc cutanée limitée",W50="Non",Z50="Non"),1,0) -> 1 | DJ50: =IF(AND(T50>3,O50="SSc cutanée limitée",W50="Oui",Y50="PID limitée",Z50="Non"),1,0) -> 0 | DK50: =IF(AND(T50>3,O50="SSc cutanée limitée",W50="Oui",Y50="PID extensive",Z50="Non"),1,0) -> 0 | DL50: =IF(AND(T50>3,O50="SSc cutanée limitée",W50="Non",Z50="Oui"),1,0) -> 0 | DM50: =IF(AND(T50>3,O50="SSc cutanée limitée",W50="Oui",Z50="Oui"),1,0) -> 0 | DN50: =IF(AND($T50>3,$O50="SSc cutanée diffuse",$W50="Non",$Z50="Non"),1,0) -> 0 | DO50: =IF(AND($T50>3,$O50="SSc cutanée diffuse",$W50="Oui",$Y50="PID limitée",$Z50="Non"),1,0) -> 0 | DP50: =IF(AND($T50>3,$O50="SSc cutanée diffuse",$W50="Oui",$Y50="PID extensive",$Z50="Non"),1,0) -> 0 | DQ50: =IF(AND($T50>3,$O50="SSc cutanée diffuse",$W50="Non",$Z50="Oui"),1,0) -> 0 | DR50: =IF(AND($T50>3,$O50="SSc cutanée diffuse",$W50="Oui",$Z50="Oui"),1,0) -> 0 | DS50: =IF(AND($T50<=3,$O50="SSc cutanée limitée",$W50="Non",$Z50="Non"),1,0) -> 0 | DT50: =IF(AND($T50<=3,$O50="SSc cutanée limitée",$W50="Oui",$Y50="PID limitée",$Z50="Non"),1,0) -> 0 | DU50: =IF(AND($T50<=3,$O50="SSc cutanée limitée",$W50="Oui",$Y50="PID extensive",$Z50="Non"),1,0) -> 0 | DV50: =IF(AND($T50<=3,$O50="SSc cutanée limitée",$W50="Non",$Z50="Oui"),1,0) -> 0 | DW50: =IF(AND($T50<=3,$O50="SSc cutanée limitée",$W50="Oui",$Z50="Oui"),1,0) -> 0 | DX50: =IF(AND($T50<=3,$O50="SSc cutanée diffuse",$W50="Non",$Z50="Non"),1,0) -> 0 | DY50: =IF(AND($T50<=3,$O50="SSc cutanée diffuse",$W50="Oui",$Y50="PID limitée",$Z50="Non"),1,0) -> 0 | DZ50: =IF(AND($T50<=3,$O50="SSc cutanée diffuse",$W50="Oui",$Y50="PID extensive",$Z50="Non"),1,0) -> 0 | EA50: =IF(AND($T50<=3,$O50="SSc cutanée diffuse",$W50="Non",$Z50="Oui"),1,0) -> 0 | EB50: =IF(AND($T50<=3,$O50="SSc cutanée diffuse",$W50="Oui",$Z50="Oui"),1,0) -> 0
A51: 490 | B51: 1 | C51: nom50 | D51: pat50 | E51: pre50 | F51: Femme | G51: 1948-12-25 | H51: 73 | I51: 2021-06-16 | J51: Oui | K51: Oui | L51: Oui | M51: Oui | N51: 2021-06-16 | O51: SSc cutanée limitée | P51: 1998 | R51: 1994 | T51: =YEAR(N51)-R51 -> 27 | U51: 1994 | W51: Oui | X51: 2004 | Y51: PID limitée | Z51: Non | AD51: Non | AE51: Oui | CB51: oui | CC51: MONOTILDIEM | CD51: 300 | CH51: oui | CI51: HYDROCHLOROTHIAZIDE | CJ51: 300 | CK51: PO | DB51: Non fait | DF51: Fait | DG51: 2021-06-16 | DH51: Non | DI51: =IF(AND(T51>3,O51="SSc cutanée limitée",W51="Non",Z51="Non"),1,0) -> 0 | DJ51: =IF(AND(T51>3,O51="SSc cutanée limitée",W51="Oui",Y51="PID limitée",Z51="Non"),1,0) -> 1 | DK51: =IF(AND(T51>3,O51="SSc cutanée limitée",W51="Oui",Y51="PID extensive",Z51="Non"),1,0) -> 0 | DL51: =IF(AND(T51>3,O51="SSc cutanée limitée",W51="Non",Z51="Oui"),1,0) -> 0 | DM51: =IF(AND(T51>3,O51="SSc cutanée limitée",W51="Oui",Z51="Oui"),1,0) -> 0 | DN51: =IF(AND($T51>3,$O51="SSc cutanée diffuse",$W51="Non",$Z51="Non"),1,0) -> 0 | DO51: =IF(AND($T51>3,$O51="SSc cutanée diffuse",$W51="Oui",$Y51="PID limitée",$Z51="Non"),1,0) -> 0 | DP51: =IF(AND($T51>3,$O51="SSc cutanée diffuse",$W51="Oui",$Y51="PID extensive",$Z51="Non"),1,0) -> 0 | DQ51: =IF(AND($T51>3,$O51="SSc cutanée diffuse",$W51="Non",$Z51="Oui"),1,0) -> 0 | DR51: =IF(AND($T51>3,$O51="SSc cutanée diffuse",$W51="Oui",$Z51="Oui"),1,0) -> 0 | DS51: =IF(AND($T51<=3,$O51="SSc cutanée limitée",$W51="Non",$Z51="Non"),1,0) -> 0 | DT51: =IF(AND($T51<=3,$O51="SSc cutanée limitée",$W51="Oui",$Y51="PID limitée",$Z51="Non"),1,0) -> 0 | DU51: =IF(AND($T51<=3,$O51="SSc cutanée limitée",$W51="Oui",$Y51="PID extensive",$Z51="Non"),1,0) -> 0 | DV51: =IF(AND($T51<=3,$O51="SSc cutanée limitée",$W51="Non",$Z51="Oui"),1,0) -> 0 | DW51: =IF(AND($T51<=3,$O51="SSc cutanée limitée",$W51="Oui",$Z51="Oui"),1,0) -> 0 | DX51: =IF(AND($T51<=3,$O51="SSc cutanée diffuse",$W51="Non",$Z51="Non"),1,0) -> 0 | DY51: =IF(AND($T51<=3,$O51="SSc cutanée diffuse",$W51="Oui",$Y51="PID limitée",$Z51="Non"),1,0) -> 0 | DZ51: =IF(AND($T51<=3,$O51="SSc cutanée diffuse",$W51="Oui",$Y51="PID extensive",$Z51="Non"),1,0) -> 0 | EA51: =IF(AND($T51<=3,$O51="SSc cutanée diffuse",$W51="Non",$Z51="Oui"),1,0) -> 0 | EB51: =IF(AND($T51<=3,$O51="SSc cutanée diffuse",$W51="Oui",$Z51="Oui"),1,0) -> 0
A52: 492 | B52: 1 | C52: nom51 | D52: pat51 | E52: pre51 | F52: Femme | G52: 1972-02-29 | H52: 49 | I52: 2021-06-17 | J52: Oui | K52: Oui | L52: Oui | M52: Oui | N52: 2021-06-17 | O52: SSc cutanée diffuse | P52: 2016 | R52: 2015 | T52: =YEAR(N52)-R52 -> 6 | U52: 2015 | W52: Oui | X52: 2016 | Y52: PID limitée | Z52: Non | AD52: Oui | AE52: Non | AF52: oui | AN52: oui | AO52: CELLCEPT | AP52: 500 | DB52: Non fait | DF52: Fait | DG52: 2021-06-18 | DH52: Non | DI52: =IF(AND(T52>3,O52="SSc cutanée limitée",W52="Non",Z52="Non"),1,0) -> 0 | DJ52: =IF(AND(T52>3,O52="SSc cutanée limitée",W52="Oui",Y52="PID limitée",Z52="Non"),1,0) -> 0 | DK52: =IF(AND(T52>3,O52="SSc cutanée limitée",W52="Oui",Y52="PID extensive",Z52="Non"),1,0) -> 0 | DL52: =IF(AND(T52>3,O52="SSc cutanée limitée",W52="Non",Z52="Oui"),1,0) -> 0 | DM52: =IF(AND(T52>3,O52="SSc cutanée limitée",W52="Oui",Z52="Oui"),1,0) -> 0 | DN52: =IF(AND($T52>3,$O52="SSc cutanée diffuse",$W52="Non",$Z52="Non"),1,0) -> 0 | DO52: =IF(AND($T52>3,$O52="SSc cutanée diffuse",$W52="Oui",$Y52="PID limitée",$Z52="Non"),1,0) -> 1 | DP52: =IF(AND($T52>3,$O52="SSc cutanée diffuse",$W52="Oui",$Y52="PID extensive",$Z52="Non"),1,0) -> 0 | DQ52: =IF(AND($T52>3,$O52="SSc cutanée diffuse",$W52="Non",$Z52="Oui"),1,0) -> 0 | DR52: =IF(AND($T52>3,$O52="SSc cutanée diffuse",$W52="Oui",$Z52="Oui"),1,0) -> 0 | DS52: =IF(AND($T52<=3,$O52="SSc cutanée limitée",$W52="Non",$Z52="Non"),1,0) -> 0 | DT52: =IF(AND($T52<=3,$O52="SSc cutanée limitée",$W52="Oui",$Y52="PID limitée",$Z52="Non"),1,0) -> 0 | DU52: =IF(AND($T52<=3,$O52="SSc cutanée limitée",$W52="Oui",$Y52="PID extensive",$Z52="Non"),1,0) -> 0 | DV52: =IF(AND($T52<=3,$O52="SSc cutanée limitée",$W52="Non",$Z52="Oui"),1,0) -> 0 | DW52: =IF(AND($T52<=3,$O52="SSc cutanée limitée",$W52="Oui",$Z52="Oui"),1,0) -> 0 | DX52: =IF(AND($T52<=3,$O52="SSc cutanée diffuse",$W52="Non",$Z52="Non"),1,0) -> 0 | DY52: =IF(AND($T52<=3,$O52="SSc cutanée diffuse",$W52="Oui",$Y52="PID limitée",$Z52="Non"),1,0) -> 0 | DZ52: =IF(AND($T52<=3,$O52="SSc cutanée diffuse",$W52="Oui",$Y52="PID extensive",$Z52="Non"),1,0) -> 0 | EA52: =IF(AND($T52<=3,$O52="SSc cutanée diffuse",$W52="Non",$Z52="Oui"),1,0) -> 0 | EB52: =IF(AND($T52<=3,$O52="SSc cutanée diffuse",$W52="Oui",$Z52="Oui"),1,0) -> 0
A53: 496 | B53: 1 | C53: nom52 | D53: pat52 | E53: pre52 | F53: Femme | G53: 1955-06-07 | H53: 66 | I53: 2021-06-17 | J53: Oui | K53: Oui | L53: Oui | M53: Oui | N53: 2021-06-17 | O53: SSc cutanée limitée | P53: 2014 | R53: 2008 | T53: =YEAR(N53)-R53 -> 13 | U53: 2013 | W53: Non | Z53: Non | AD53: Non | AE53: Oui | CE53: oui | CF53: PERINDOPRIL | CG53: 5 | CH53: oui | CI53: indapamide | CJ53: 1.25 | CK53: PO | DB53: Non fait | DF53: Fait | DG53: 2021-06-17 | DH53: Non | DI53: =IF(AND(T53>3,O53="SSc cutanée limitée",W53="Non",Z53="Non"),1,0) -> 1 | DJ53: =IF(AND(T53>3,O53="SSc cutanée limitée",W53="Oui",Y53="PID limitée",Z53="Non"),1,0) -> 0 | DK53: =IF(AND(T53>3,O53="SSc cutanée limitée",W53="Oui",Y53="PID extensive",Z53="Non"),1,0) -> 0 | DL53: =IF(AND(T53>3,O53="SSc cutanée limitée",W53="Non",Z53="Oui"),1,0) -> 0 | DM53: =IF(AND(T53>3,O53="SSc cutanée limitée",W53="Oui",Z53="Oui"),1,0) -> 0 | DN53: =IF(AND($T53>3,$O53="SSc cutanée diffuse",$W53="Non",$Z53="Non"),1,0) -> 0 | DO53: =IF(AND($T53>3,$O53="SSc cutanée diffuse",$W53="Oui",$Y53="PID limitée",$Z53="Non"),1,0) -> 0 | DP53: =IF(AND($T53>3,$O53="SSc cutanée diffuse",$W53="Oui",$Y53="PID extensive",$Z53="Non"),1,0) -> 0 | DQ53: =IF(AND($T53>3,$O53="SSc cutanée diffuse",$W53="Non",$Z53="Oui"),1,0) -> 0 | DR53: =IF(AND($T53>3,$O53="SSc cutanée diffuse",$W53="Oui",$Z53="Oui"),1,0) -> 0 | DS53: =IF(AND($T53<=3,$O53="SSc cutanée limitée",$W53="Non",$Z53="Non"),1,0) -> 0 | DT53: =IF(AND($T53<=3,$O53="SSc cutanée limitée",$W53="Oui",$Y53="PID limitée",$Z53="Non"),1,0) -> 0 | DU53: =IF(AND($T53<=3,$O53="SSc cutanée limitée",$W53="Oui",$Y53="PID extensive",$Z53="Non"),1,0) -> 0 | DV53: =IF(AND($T53<=3,$O53="SSc cutanée limitée",$W53="Non",$Z53="Oui"),1,0) -> 0 | DW53: =IF(AND($T53<=3,$O53="SSc cutanée limitée",$W53="Oui",$Z53="Oui"),1,0) -> 0 | DX53: =IF(AND($T53<=3,$O53="SSc cutanée diffuse",$W53="Non",$Z53="Non"),1,0) -> 0 | DY53: =IF(AND($T53<=3,$O53="SSc cutanée diffuse",$W53="Oui",$Y53="PID limitée",$Z53="Non"),1,0) -> 0 | DZ53: =IF(AND($T53<=3,$O53="SSc cutanée diffuse",$W53="Oui",$Y53="PID extensive",$Z53="Non"),1,0) -> 0 | EA53: =IF(AND($T53<=3,$O53="SSc cutanée diffuse",$W53="Non",$Z53="Oui"),1,0) -> 0 | EB53: =IF(AND($T53<=3,$O53="SSc cutanée diffuse",$W53="Oui",$Z53="Oui"),1,0) -> 0
A54: 498 | B54: 1 | C54: nom53 | D54: pat53 | E54: pre53 | F54: Femme | G54: 1970-01-30 | H54: 51 | I54: 2021-06-22 | J54: Oui | K54: Oui | L54: Oui | M54: Oui | N54: 2021-06-22 | O54: SSc cutanée limitée | P54: 2013 | R54: 1993 | T54: =YEAR(N54)-R54 -> 28 | U54: 2012 | W54: Non | Z54: Non | AD54: Non | AE54: Non | DB54: Non fait | DF54: Fait | DG54: 2021-06-22 | DH54: Non | DI54: =IF(AND(T54>3,O54="SSc cutanée limitée",W54="Non",Z54="Non"),1,0) -> 1 | DJ54: =IF(AND(T54>3,O54="SSc cutanée limitée",W54="Oui",Y54="PID limitée",Z54="Non"),1,0) -> 0 | DK54: =IF(AND(T54>3,O54="SSc cutanée limitée",W54="Oui",Y54="PID extensive",Z54="Non"),1,0) -> 0 | DL54: =IF(AND(T54>3,O54="SSc cutanée limitée",W54="Non",Z54="Oui"),1,0) -> 0 | DM54: =IF(AND(T54>3,O54="SSc cutanée limitée",W54="Oui",Z54="Oui"),1,0) -> 0 | DN54: =IF(AND($T54>3,$O54="SSc cutanée diffuse",$W54="Non",$Z54="Non"),1,0) -> 0 | DO54: =IF(AND($T54>3,$O54="SSc cutanée diffuse",$W54="Oui",$Y54="PID limitée",$Z54="Non"),1,0) -> 0 | DP54: =IF(AND($T54>3,$O54="SSc cutanée diffuse",$W54="Oui",$Y54="PID extensive",$Z54="Non"),1,0) -> 0 | DQ54: =IF(AND($T54>3,$O54="SSc cutanée diffuse",$W54="Non",$Z54="Oui"),1,0) -> 0 | DR54: =IF(AND($T54>3,$O54="SSc cutanée diffuse",$W54="Oui",$Z54="Oui"),1,0) -> 0 | DS54: =IF(AND($T54<=3,$O54="SSc cutanée limitée",$W54="Non",$Z54="Non"),1,0) -> 0 | DT54: =IF(AND($T54<=3,$O54="SSc cutanée limitée",$W54="Oui",$Y54="PID limitée",$Z54="Non"),1,0) -> 0 | DU54: =IF(AND($T54<=3,$O54="SSc cutanée limitée",$W54="Oui",$Y54="PID extensive",$Z54="Non"),1,0) -> 0 | DV54: =IF(AND($T54<=3,$O54="SSc cutanée limitée",$W54="Non",$Z54="Oui"),1,0) -> 0 | DW54: =IF(AND($T54<=3,$O54="SSc cutanée limitée",$W54="Oui",$Z54="Oui"),1,0) -> 0 | DX54: =IF(AND($T54<=3,$O54="SSc cutanée diffuse",$W54="Non",$Z54="Non"),1,0) -> 0 | DY54: =IF(AND($T54<=3,$O54="SSc cutanée diffuse",$W54="Oui",$Y54="PID limitée",$Z54="Non"),1,0) -> 0 | DZ54: =IF(AND($T54<=3,$O54="SSc cutanée diffuse",$W54="Oui",$Y54="PID extensive",$Z54="Non"),1,0) -> 0 | EA54: =IF(AND($T54<=3,$O54="SSc cutanée diffuse",$W54="Non",$Z54="Oui"),1,0) -> 0 | EB54: =IF(AND($T54<=3,$O54="SSc cutanée diffuse",$W54="Oui",$Z54="Oui"),1,0) -> 0
A55: 500 | B55: 1 | C55: nom54 | D55: pat54 | E55: pre54 | F55: Femme | G55: 1962-12-04 | H55: 59 | I55: 2021-06-23 | J55: Oui | K55: Oui | L55: Oui | M55: Oui | N55: 2021-06-23 | O55: SSc cutanée limitée | P55: 2012 | R55: 2006 | T55: =YEAR(N55)-R55 -> 15 | U55: 2010 | W55: Non | Z55: Non | AD55: Non | AE55: Oui | CB55: oui | CC55: monotildiem | CD55: 200 | CR55: oui | CS55: bosentan | CT55: 250 | DB55: Non fait | DF55: Fait | DG55: 2021-06-23 | DH55: Non | DI55: =IF(AND(T55>3,O55="SSc cutanée limitée",W55="Non",Z55="Non"),1,0) -> 1 | DJ55: =IF(AND(T55>3,O55="SSc cutanée limitée",W55="Oui",Y55="PID limitée",Z55="Non"),1,0) -> 0 | DK55: =IF(AND(T55>3,O55="SSc cutanée limitée",W55="Oui",Y55="PID extensive",Z55="Non"),1,0) -> 0 | DL55: =IF(AND(T55>3,O55="SSc cutanée limitée",W55="Non",Z55="Oui"),1,0) -> 0 | DM55: =IF(AND(T55>3,O55="SSc cutanée limitée",W55="Oui",Z55="Oui"),1,0) -> 0 | DN55: =IF(AND($T55>3,$O55="SSc cutanée diffuse",$W55="Non",$Z55="Non"),1,0) -> 0 | DO55: =IF(AND($T55>3,$O55="SSc cutanée diffuse",$W55="Oui",$Y55="PID limitée",$Z55="Non"),1,0) -> 0 | DP55: =IF(AND($T55>3,$O55="SSc cutanée diffuse",$W55="Oui",$Y55="PID extensive",$Z55="Non"),1,0) -> 0 | DQ55: =IF(AND($T55>3,$O55="SSc cutanée diffuse",$W55="Non",$Z55="Oui"),1,0) -> 0 | DR55: =IF(AND($T55>3,$O55="SSc cutanée diffuse",$W55="Oui",$Z55="Oui"),1,0) -> 0 | DS55: =IF(AND($T55<=3,$O55="SSc cutanée limitée",$W55="Non",$Z55="Non"),1,0) -> 0 | DT55: =IF(AND($T55<=3,$O55="SSc cutanée limitée",$W55="Oui",$Y55="PID limitée",$Z55="Non"),1,0) -> 0 | DU55: =IF(AND($T55<=3,$O55="SSc cutanée limitée",$W55="Oui",$Y55="PID extensive",$Z55="Non"),1,0) -> 0 | DV55: =IF(AND($T55<=3,$O55="SSc cutanée limitée",$W55="Non",$Z55="Oui"),1,0) -> 0 | DW55: =IF(AND($T55<=3,$O55="SSc cutanée limitée",$W55="Oui",$Z55="Oui"),1,0) -> 0 | DX55: =IF(AND($T55<=3,$O55="SSc cutanée diffuse",$W55="Non",$Z55="Non"),1,0) -> 0 | DY55: =IF(AND($T55<=3,$O55="SSc cutanée diffuse",$W55="Oui",$Y55="PID limitée",$Z55="Non"),1,0) -> 0 | DZ55: =IF(AND($T55<=3,$O55="SSc cutanée diffuse",$W55="Oui",$Y55="PID extensive",$Z55="Non"),1,0) -> 0 | EA55: =IF(AND($T55<=3,$O55="SSc cutanée diffuse",$W55="Non",$Z55="Oui"),1,0) -> 0 | EB55: =IF(AND($T55<=3,$O55="SSc cutanée diffuse",$W55="Oui",$Z55="Oui"),1,0) -> 0
A56: 502 | B56: 1 | C56: nom55 | D56: pat55 | E56: pre55 | F56: Homme | G56: 1947-05-09 | H56: 74 | I56: 2021-06-24 | J56: Oui | K56: Oui | L56: Oui | M56: Oui | N56: 2021-06-24 | O56: SSc cutanée limitée | P56: 2016 | T56: =YEAR(N56)-R56 -> 2021 | U56: 2015 | W56: Oui | X56: 2016 | Y56: PID limitée | Z56: Non | AD56: Oui | AE56: Non | AF56: oui | DB56: Non fait | DF56: Fait | DG56: 2021-06-24 | DH56: Oui | DI56: =IF(AND(T56>3,O56="SSc cutanée limitée",W56="Non",Z56="Non"),1,0) -> 0 | DJ56: =IF(AND(T56>3,O56="SSc cutanée limitée",W56="Oui",Y56="PID limitée",Z56="Non"),1,0) -> 1 | DK56: =IF(AND(T56>3,O56="SSc cutanée limitée",W56="Oui",Y56="PID extensive",Z56="Non"),1,0) -> 0 | DL56: =IF(AND(T56>3,O56="SSc cutanée limitée",W56="Non",Z56="Oui"),1,0) -> 0 | DM56: =IF(AND(T56>3,O56="SSc cutanée limitée",W56="Oui",Z56="Oui"),1,0) -> 0 | DN56: =IF(AND($T56>3,$O56="SSc cutanée diffuse",$W56="Non",$Z56="Non"),1,0) -> 0 | DO56: =IF(AND($T56>3,$O56="SSc cutanée diffuse",$W56="Oui",$Y56="PID limitée",$Z56="Non"),1,0) -> 0 | DP56: =IF(AND($T56>3,$O56="SSc cutanée diffuse",$W56="Oui",$Y56="PID extensive",$Z56="Non"),1,0) -> 0 | DQ56: =IF(AND($T56>3,$O56="SSc cutanée diffuse",$W56="Non",$Z56="Oui"),1,0) -> 0 | DR56: =IF(AND($T56>3,$O56="SSc cutanée diffuse",$W56="Oui",$Z56="Oui"),1,0) -> 0 | DS56: =IF(AND($T56<=3,$O56="SSc cutanée limitée",$W56="Non",$Z56="Non"),1,0) -> 0 | DT56: =IF(AND($T56<=3,$O56="SSc cutanée limitée",$W56="Oui",$Y56="PID limitée",$Z56="Non"),1,0) -> 0 | DU56: =IF(AND($T56<=3,$O56="SSc cutanée limitée",$W56="Oui",$Y56="PID extensive",$Z56="Non"),1,0) -> 0 | DV56: =IF(AND($T56<=3,$O56="SSc cutanée limitée",$W56="Non",$Z56="Oui"),1,0) -> 0 | DW56: =IF(AND($T56<=3,$O56="SSc cutanée limitée",$W56="Oui",$Z56="Oui"),1,0) -> 0 | DX56: =IF(AND($T56<=3,$O56="SSc cutanée diffuse",$W56="Non",$Z56="Non"),1,0) -> 0 | DY56: =IF(AND($T56<=3,$O56="SSc cutanée diffuse",$W56="Oui",$Y56="PID limitée",$Z56="Non"),1,0) -> 0 | DZ56: =IF(AND($T56<=3,$O56="SSc cutanée diffuse",$W56="Oui",$Y56="PID extensive",$Z56="Non"),1,0) -> 0 | EA56: =IF(AND($T56<=3,$O56="SSc cutanée diffuse",$W56="Non",$Z56="Oui"),1,0) -> 0 | EB56: =IF(AND($T56<=3,$O56="SSc cutanée diffuse",$W56="Oui",$Z56="Oui"),1,0) -> 0
A57: 504 | B57: 1 | C57: nom56 | D57: pat56 | E57: pre56 | F57: Femme | G57: 1965-12-12 | H57: 56 | I57: 2021-06-24 | J57: Oui | K57: Oui | L57: Oui | M57: Oui | N57: 2021-06-24 | O57: SSc sine scleroderma | P57: 2016 | R57: 2012 | T57: =YEAR(N57)-R57 -> 9 | U57: 2016 | W57: Oui | X57: 2016 | Y57: PID limitée | Z57: Non | AD57: Non | AE57: Non | DB57: Non fait | DF57: Fait | DG57: 2021-06-24 | DH57: Non | DI57: =IF(AND(T57>3,O57="SSc cutanée limitée",W57="Non",Z57="Non"),1,0) -> 0 | DJ57: =IF(AND(T57>3,O57="SSc cutanée limitée",W57="Oui",Y57="PID limitée",Z57="Non"),1,0) -> 0 | DK57: =IF(AND(T57>3,O57="SSc cutanée limitée",W57="Oui",Y57="PID extensive",Z57="Non"),1,0) -> 0 | DL57: =IF(AND(T57>3,O57="SSc cutanée limitée",W57="Non",Z57="Oui"),1,0) -> 0 | DM57: =IF(AND(T57>3,O57="SSc cutanée limitée",W57="Oui",Z57="Oui"),1,0) -> 0 | DN57: =IF(AND($T57>3,$O57="SSc cutanée diffuse",$W57="Non",$Z57="Non"),1,0) -> 0 | DO57: =IF(AND($T57>3,$O57="SSc cutanée diffuse",$W57="Oui",$Y57="PID limitée",$Z57="Non"),1,0) -> 0 | DP57: =IF(AND($T57>3,$O57="SSc cutanée diffuse",$W57="Oui",$Y57="PID extensive",$Z57="Non"),1,0) -> 0 | DQ57: =IF(AND($T57>3,$O57="SSc cutanée diffuse",$W57="Non",$Z57="Oui"),1,0) -> 0 | DR57: =IF(AND($T57>3,$O57="SSc cutanée diffuse",$W57="Oui",$Z57="Oui"),1,0) -> 0 | DS57: =IF(AND($T57<=3,$O57="SSc cutanée limitée",$W57="Non",$Z57="Non"),1,0) -> 0 | DT57: =IF(AND($T57<=3,$O57="SSc cutanée limitée",$W57="Oui",$Y57="PID limitée",$Z57="Non"),1,0) -> 0 | DU57: =IF(AND($T57<=3,$O57="SSc cutanée limitée",$W57="Oui",$Y57="PID extensive",$Z57="Non"),1,0) -> 0 | DV57: =IF(AND($T57<=3,$O57="SSc cutanée limitée",$W57="Non",$Z57="Oui"),1,0) -> 0 | DW57: =IF(AND($T57<=3,$O57="SSc cutanée limitée",$W57="Oui",$Z57="Oui"),1,0) -> 0 | DX57: =IF(AND($T57<=3,$O57="SSc cutanée diffuse",$W57="Non",$Z57="Non"),1,0) -> 0 | DY57: =IF(AND($T57<=3,$O57="SSc cutanée diffuse",$W57="Oui",$Y57="PID limitée",$Z57="Non"),1,0) -> 0 | DZ57: =IF(AND($T57<=3,$O57="SSc cutanée diffuse",$W57="Oui",$Y57="PID extensive",$Z57="Non"),1,0) -> 0 | EA57: =IF(AND($T57<=3,$O57="SSc cutanée diffuse",$W57="Non",$Z57="Oui"),1,0) -> 0 | EB57: =IF(AND($T57<=3,$O57="SSc cutanée diffuse",$W57="Oui",$Z57="Oui"),1,0) -> 0
A58: 506 | B58: 1 | C58: nom57 | D58: pat57 | E58: pre57 | F58: Femme | G58: 1983-02-22 | H58: 38 | I58: 2021-06-25 | J58: Oui | K58: Oui | L58: Oui | M58: Oui | N58: 2021-06-25 | O58: SSc cutanée limitée | P58: 2018 | R58: 2013 | T58: =YEAR(N58)-R58 -> 8 | U58: 2018 | W58: Oui | X58: 2018 | Z58: Non | DI58: =IF(AND(T58>3,O58="SSc cutanée limitée",W58="Non",Z58="Non"),1,0) -> 0 | DJ58: =IF(AND(T58>3,O58="SSc cutanée limitée",W58="Oui",Y58="PID limitée",Z58="Non"),1,0) -> 0 | DK58: =IF(AND(T58>3,O58="SSc cutanée limitée",W58="Oui",Y58="PID extensive",Z58="Non"),1,0) -> 0 | DL58: =IF(AND(T58>3,O58="SSc cutanée limitée",W58="Non",Z58="Oui"),1,0) -> 0 | DM58: =IF(AND(T58>3,O58="SSc cutanée limitée",W58="Oui",Z58="Oui"),1,0) -> 0 | DN58: =IF(AND($T58>3,$O58="SSc cutanée diffuse",$W58="Non",$Z58="Non"),1,0) -> 0 | DO58: =IF(AND($T58>3,$O58="SSc cutanée diffuse",$W58="Oui",$Y58="PID limitée",$Z58="Non"),1,0) -> 0 | DP58: =IF(AND($T58>3,$O58="SSc cutanée diffuse",$W58="Oui",$Y58="PID extensive",$Z58="Non"),1,0) -> 0 | DQ58: =IF(AND($T58>3,$O58="SSc cutanée diffuse",$W58="Non",$Z58="Oui"),1,0) -> 0 | DR58: =IF(AND($T58>3,$O58="SSc cutanée diffuse",$W58="Oui",$Z58="Oui"),1,0) -> 0 | DS58: =IF(AND($T58<=3,$O58="SSc cutanée limitée",$W58="Non",$Z58="Non"),1,0) -> 0 | DT58: =IF(AND($T58<=3,$O58="SSc cutanée limitée",$W58="Oui",$Y58="PID limitée",$Z58="Non"),1,0) -> 0 | DU58: =IF(AND($T58<=3,$O58="SSc cutanée limitée",$W58="Oui",$Y58="PID extensive",$Z58="Non"),1,0) -> 0 | DV58: =IF(AND($T58<=3,$O58="SSc cutanée limitée",$W58="Non",$Z58="Oui"),1,0) -> 0 | DW58: =IF(AND($T58<=3,$O58="SSc cutanée limitée",$W58="Oui",$Z58="Oui"),1,0) -> 0 | DX58: =IF(AND($T58<=3,$O58="SSc cutanée diffuse",$W58="Non",$Z58="Non"),1,0) -> 0 | DY58: =IF(AND($T58<=3,$O58="SSc cutanée diffuse",$W58="Oui",$Y58="PID limitée",$Z58="Non"),1,0) -> 0 | DZ58: =IF(AND($T58<=3,$O58="SSc cutanée diffuse",$W58="Oui",$Y58="PID extensive",$Z58="Non"),1,0) -> 0 | EA58: =IF(AND($T58<=3,$O58="SSc cutanée diffuse",$W58="Non",$Z58="Oui"),1,0) -> 0 | EB58: =IF(AND($T58<=3,$O58="SSc cutanée diffuse",$W58="Oui",$Z58="Oui"),1,0) -> 0
A59: 516 | B59: 1 | C59: nom58 | D59: pat58 | E59: pre58 | F59: Femme | G59: 1964-01-17 | H59: 57 | I59: 2021-06-30 | J59: Oui | K59: Oui | L59: Oui | M59: Oui | N59: 2021-06-30 | O59: SSc cutanée limitée | P59: 2020 | R59: 2019 | T59: =YEAR(N59)-R59 -> 2 | U59: 2020 | W59: Oui | X59: 2018 | Y59: PID extensive | Z59: Oui | AA59: groupe 3 (HTP pré-capillaire sur pathologie respiratoire chronique) | AC59: 2020 | AD59: Oui | AE59: Oui | AF59: oui | AN59: oui | AO59: CELLCEPT | AP59: 3000 | CB59: oui | CC59: AMLOR | CD59: 10 | DB59: Fait | DC59: 2021-06-30 | DD59: Oui | DE59: > 30% du parenchyme pulmonaire | DF59: Fait | DG59: 2021-06-30 | DH59: Oui | DI59: =IF(AND(T59>3,O59="SSc cutanée limitée",W59="Non",Z59="Non"),1,0) -> 0 | DJ59: =IF(AND(T59>3,O59="SSc cutanée limitée",W59="Oui",Y59="PID limitée",Z59="Non"),1,0) -> 0 | DK59: =IF(AND(T59>3,O59="SSc cutanée limitée",W59="Oui",Y59="PID extensive",Z59="Non"),1,0) -> 0 | DL59: =IF(AND(T59>3,O59="SSc cutanée limitée",W59="Non",Z59="Oui"),1,0) -> 0 | DM59: =IF(AND(T59>3,O59="SSc cutanée limitée",W59="Oui",Z59="Oui"),1,0) -> 0 | DN59: =IF(AND($T59>3,$O59="SSc cutanée diffuse",$W59="Non",$Z59="Non"),1,0) -> 0 | DO59: =IF(AND($T59>3,$O59="SSc cutanée diffuse",$W59="Oui",$Y59="PID limitée",$Z59="Non"),1,0) -> 0 | DP59: =IF(AND($T59>3,$O59="SSc cutanée diffuse",$W59="Oui",$Y59="PID extensive",$Z59="Non"),1,0) -> 0 | DQ59: =IF(AND($T59>3,$O59="SSc cutanée diffuse",$W59="Non",$Z59="Oui"),1,0) -> 0 | DR59: =IF(AND($T59>3,$O59="SSc cutanée diffuse",$W59="Oui",$Z59="Oui"),1,0) -> 0 | DS59: =IF(AND($T59<=3,$O59="SSc cutanée limitée",$W59="Non",$Z59="Non"),1,0) -> 0 | DT59: =IF(AND($T59<=3,$O59="SSc cutanée limitée",$W59="Oui",$Y59="PID limitée",$Z59="Non"),1,0) -> 0 | DU59: =IF(AND($T59<=3,$O59="SSc cutanée limitée",$W59="Oui",$Y59="PID extensive",$Z59="Non"),1,0) -> 0 | DV59: =IF(AND($T59<=3,$O59="SSc cutanée limitée",$W59="Non",$Z59="Oui"),1,0) -> 0 | DW59: =IF(AND($T59<=3,$O59="SSc cutanée limitée",$W59="Oui",$Z59="Oui"),1,0) -> 1 | DX59: =IF(AND($T59<=3,$O59="SSc cutanée diffuse",$W59="Non",$Z59="Non"),1,0) -> 0 | DY59: =IF(AND($T59<=3,$O59="SSc cutanée diffuse",$W59="Oui",$Y59="PID limitée",$Z59="Non"),1,0) -> 0 | DZ59: =IF(AND($T59<=3,$O59="SSc cutanée diffuse",$W59="Oui",$Y59="PID extensive",$Z59="Non"),1,0) -> 0 | EA59: =IF(AND($T59<=3,$O59="SSc cutanée diffuse",$W59="Non",$Z59="Oui"),1,0) -> 0 | EB59: =IF(AND($T59<=3,$O59="SSc cutanée diffuse",$W59="Oui",$Z59="Oui"),1,0) -> 0
A60: 524 | B60: 1 | C60: nom59 | D60: pat59 | E60: pre59 | F60: Femme | G60: 1944-09-05 | H60: 77 | I60: 2021-07-01 | J60: Oui | K60: Oui | L60: Oui | M60: Oui | N60: 2021-07-01 | O60: SSc cutanée limitée | P60: 2008 | R60: 1990 | T60: =YEAR(N60)-R60 -> 31 | U60: 2008 | W60: Non | Z60: Non | AD60: Non | AE60: Non | DB60: Non fait | DF60: Non fait | DI60: =IF(AND(T60>3,O60="SSc cutanée limitée",W60="Non",Z60="Non"),1,0) -> 1 | DJ60: =IF(AND(T60>3,O60="SSc cutanée limitée",W60="Oui",Y60="PID limitée",Z60="Non"),1,0) -> 0 | DK60: =IF(AND(T60>3,O60="SSc cutanée limitée",W60="Oui",Y60="PID extensive",Z60="Non"),1,0) -> 0 | DL60: =IF(AND(T60>3,O60="SSc cutanée limitée",W60="Non",Z60="Oui"),1,0) -> 0 | DM60: =IF(AND(T60>3,O60="SSc cutanée limitée",W60="Oui",Z60="Oui"),1,0) -> 0 | DN60: =IF(AND($T60>3,$O60="SSc cutanée diffuse",$W60="Non",$Z60="Non"),1,0) -> 0 | DO60: =IF(AND($T60>3,$O60="SSc cutanée diffuse",$W60="Oui",$Y60="PID limitée",$Z60="Non"),1,0) -> 0 | DP60: =IF(AND($T60>3,$O60="SSc cutanée diffuse",$W60="Oui",$Y60="PID extensive",$Z60="Non"),1,0) -> 0 | DQ60: =IF(AND($T60>3,$O60="SSc cutanée diffuse",$W60="Non",$Z60="Oui"),1,0) -> 0 | DR60: =IF(AND($T60>3,$O60="SSc cutanée diffuse",$W60="Oui",$Z60="Oui"),1,0) -> 0 | DS60: =IF(AND($T60<=3,$O60="SSc cutanée limitée",$W60="Non",$Z60="Non"),1,0) -> 0 | DT60: =IF(AND($T60<=3,$O60="SSc cutanée limitée",$W60="Oui",$Y60="PID limitée",$Z60="Non"),1,0) -> 0 | DU60: =IF(AND($T60<=3,$O60="SSc cutanée limitée",$W60="Oui",$Y60="PID extensive",$Z60="Non"),1,0) -> 0 | DV60: =IF(AND($T60<=3,$O60="SSc cutanée limitée",$W60="Non",$Z60="Oui"),1,0) -> 0 | DW60: =IF(AND($T60<=3,$O60="SSc cutanée limitée",$W60="Oui",$Z60="Oui"),1,0) -> 0 | DX60: =IF(AND($T60<=3,$O60="SSc cutanée diffuse",$W60="Non",$Z60="Non"),1,0) -> 0 | DY60: =IF(AND($T60<=3,$O60="SSc cutanée diffuse",$W60="Oui",$Y60="PID limitée",$Z60="Non"),1,0) -> 0 | DZ60: =IF(AND($T60<=3,$O60="SSc cutanée diffuse",$W60="Oui",$Y60="PID extensive",$Z60="Non"),1,0) -> 0 | EA60: =IF(AND($T60<=3,$O60="SSc cutanée diffuse",$W60="Non",$Z60="Oui"),1,0) -> 0 | EB60: =IF(AND($T60<=3,$O60="SSc cutanée diffuse",$W60="Oui",$Z60="Oui"),1,0) -> 0
A61: 526 | B61: 1 | C61: nom60 | D61: pat60 | E61: pre60 | F61: Femme | G61: 1973-03-17 | H61: 48 | I61: 2021-07-02 | J61: Oui | K61: Oui | L61: Oui | M61: Oui | N61: 2021-07-02 | O61: SSc cutanée diffuse | P61: 2016 | R61: 2011 | T61: =YEAR(N61)-R61 -> 10 | U61: 2016 | W61: Oui | X61: 2016 | Y61: PID limitée | Z61: Non | AD61: Oui | AE61: Non | AF61: oui | AN61: oui | AO61: CELLCEPT | AP61: 1500 | CE61: oui | CF61: RAMIPRIL | CG61: 7 | CH61: oui | CI61: FUROSEMIDE | CJ61: 40 mg | CK61: PO | CL61: oui | CM61: CARDENSIEL | CN61: 5 | DB61: Non fait | DF61: Fait | DG61: 2021-07-02 | DH61: Non | DI61: =IF(AND(T61>3,O61="SSc cutanée limitée",W61="Non",Z61="Non"),1,0) -> 0 | DJ61: =IF(AND(T61>3,O61="SSc cutanée limitée",W61="Oui",Y61="PID limitée",Z61="Non"),1,0) -> 0 | DK61: =IF(AND(T61>3,O61="SSc cutanée limitée",W61="Oui",Y61="PID extensive",Z61="Non"),1,0) -> 0 | DL61: =IF(AND(T61>3,O61="SSc cutanée limitée",W61="Non",Z61="Oui"),1,0) -> 0 | DM61: =IF(AND(T61>3,O61="SSc cutanée limitée",W61="Oui",Z61="Oui"),1,0) -> 0 | DN61: =IF(AND($T61>3,$O61="SSc cutanée diffuse",$W61="Non",$Z61="Non"),1,0) -> 0 | DO61: =IF(AND($T61>3,$O61="SSc cutanée diffuse",$W61="Oui",$Y61="PID limitée",$Z61="Non"),1,0) -> 1 | DP61: =IF(AND($T61>3,$O61="SSc cutanée diffuse",$W61="Oui",$Y61="PID extensive",$Z61="Non"),1,0) -> 0 | DQ61: =IF(AND($T61>3,$O61="SSc cutanée diffuse",$W61="Non",$Z61="Oui"),1,0) -> 0 | DR61: =IF(AND($T61>3,$O61="SSc cutanée diffuse",$W61="Oui",$Z61="Oui"),1,0) -> 0 | DS61: =IF(AND($T61<=3,$O61="SSc cutanée limitée",$W61="Non",$Z61="Non"),1,0) -> 0 | DT61: =IF(AND($T61<=3,$O61="SSc cutanée limitée",$W61="Oui",$Y61="PID limitée",$Z61="Non"),1,0) -> 0 | DU61: =IF(AND($T61<=3,$O61="SSc cutanée limitée",$W61="Oui",$Y61="PID extensive",$Z61="Non"),1,0) -> 0 | DV61: =IF(AND($T61<=3,$O61="SSc cutanée limitée",$W61="Non",$Z61="Oui"),1,0) -> 0 | DW61: =IF(AND($T61<=3,$O61="SSc cutanée limitée",$W61="Oui",$Z61="Oui"),1,0) -> 0 | DX61: =IF(AND($T61<=3,$O61="SSc cutanée diffuse",$W61="Non",$Z61="Non"),1,0) -> 0 | DY61: =IF(AND($T61<=3,$O61="SSc cutanée diffuse",$W61="Oui",$Y61="PID limitée",$Z61="Non"),1,0) -> 0 | DZ61: =IF(AND($T61<=3,$O61="SSc cutanée diffuse",$W61="Oui",$Y61="PID extensive",$Z61="Non"),1,0) -> 0 | EA61: =IF(AND($T61<=3,$O61="SSc cutanée diffuse",$W61="Non",$Z61="Oui"),1,0) -> 0 | EB61: =IF(AND($T61<=3,$O61="SSc cutanée diffuse",$W61="Oui",$Z61="Oui"),1,0) -> 0
A62: 528 | B62: 1 | C62: nom61 | D62: pat61 | E62: pre61 | F62: Femme | G62: 1967-09-09 | H62: 54 | I62: 2021-07-02 | J62: Oui | K62: Oui | L62: Oui | M62: Oui | N62: 2021-07-02 | O62: SSc cutanée limitée | P62: 2011 | R62: 2001 | T62: =YEAR(N62)-R62 -> 20 | U62: 2011 | W62: Non | Z62: Non | AD62: Non | AE62: Oui | DB62: Non fait | DF62: Fait | DG62: 2021-07-02 | DH62: Non | DI62: =IF(AND(T62>3,O62="SSc cutanée limitée",W62="Non",Z62="Non"),1,0) -> 1 | DJ62: =IF(AND(T62>3,O62="SSc cutanée limitée",W62="Oui",Y62="PID limitée",Z62="Non"),1,0) -> 0 | DK62: =IF(AND(T62>3,O62="SSc cutanée limitée",W62="Oui",Y62="PID extensive",Z62="Non"),1,0) -> 0 | DL62: =IF(AND(T62>3,O62="SSc cutanée limitée",W62="Non",Z62="Oui"),1,0) -> 0 | DM62: =IF(AND(T62>3,O62="SSc cutanée limitée",W62="Oui",Z62="Oui"),1,0) -> 0 | DN62: =IF(AND($T62>3,$O62="SSc cutanée diffuse",$W62="Non",$Z62="Non"),1,0) -> 0 | DO62: =IF(AND($T62>3,$O62="SSc cutanée diffuse",$W62="Oui",$Y62="PID limitée",$Z62="Non"),1,0) -> 0 | DP62: =IF(AND($T62>3,$O62="SSc cutanée diffuse",$W62="Oui",$Y62="PID extensive",$Z62="Non"),1,0) -> 0 | DQ62: =IF(AND($T62>3,$O62="SSc cutanée diffuse",$W62="Non",$Z62="Oui"),1,0) -> 0 | DR62: =IF(AND($T62>3,$O62="SSc cutanée diffuse",$W62="Oui",$Z62="Oui"),1,0) -> 0 | DS62: =IF(AND($T62<=3,$O62="SSc cutanée limitée",$W62="Non",$Z62="Non"),1,0) -> 0 | DT62: =IF(AND($T62<=3,$O62="SSc cutanée limitée",$W62="Oui",$Y62="PID limitée",$Z62="Non"),1,0) -> 0 | DU62: =IF(AND($T62<=3,$O62="SSc cutanée limitée",$W62="Oui",$Y62="PID extensive",$Z62="Non"),1,0) -> 0 | DV62: =IF(AND($T62<=3,$O62="SSc cutanée limitée",$W62="Non",$Z62="Oui"),1,0) -> 0 | DW62: =IF(AND($T62<=3,$O62="SSc cutanée limitée",$W62="Oui",$Z62="Oui"),1,0) -> 0 | DX62: =IF(AND($T62<=3,$O62="SSc cutanée diffuse",$W62="Non",$Z62="Non"),1,0) -> 0 | DY62: =IF(AND($T62<=3,$O62="SSc cutanée diffuse",$W62="Oui",$Y62="PID limitée",$Z62="Non"),1,0) -> 0 | DZ62: =IF(AND($T62<=3,$O62="SSc cutanée diffuse",$W62="Oui",$Y62="PID extensive",$Z62="Non"),1,0) -> 0 | EA62: =IF(AND($T62<=3,$O62="SSc cutanée diffuse",$W62="Non",$Z62="Oui"),1,0) -> 0 | EB62: =IF(AND($T62<=3,$O62="SSc cutanée diffuse",$W62="Oui",$Z62="Oui"),1,0) -> 0
A63: 540 | B63: 1 | C63: nom62 | D63: pat62 | E63: pre62 | F63: Femme | G63: 1974-11-08 | H63: 47 | I63: 2021-07-09 | J63: Oui | K63: Oui | L63: Oui | M63: Oui | N63: 2021-07-09 | O63: SSc cutanée diffuse | P63: 2017 | R63: 2015 | T63: =YEAR(N63)-R63 -> 6 | U63: 2016 | W63: Non | Z63: Non | AD63: Oui | AE63: Non | AF63: oui | DB63: Non fait | DF63: Fait | DG63: 2021-07-09 | DH63: Non | DI63: =IF(AND(T63>3,O63="SSc cutanée limitée",W63="Non",Z63="Non"),1,0) -> 0 | DJ63: =IF(AND(T63>3,O63="SSc cutanée limitée",W63="Oui",Y63="PID limitée",Z63="Non"),1,0) -> 0 | DK63: =IF(AND(T63>3,O63="SSc cutanée limitée",W63="Oui",Y63="PID extensive",Z63="Non"),1,0) -> 0 | DL63: =IF(AND(T63>3,O63="SSc cutanée limitée",W63="Non",Z63="Oui"),1,0) -> 0 | DM63: =IF(AND(T63>3,O63="SSc cutanée limitée",W63="Oui",Z63="Oui"),1,0) -> 0 | DN63: =IF(AND($T63>3,$O63="SSc cutanée diffuse",$W63="Non",$Z63="Non"),1,0) -> 1 | DO63: =IF(AND($T63>3,$O63="SSc cutanée diffuse",$W63="Oui",$Y63="PID limitée",$Z63="Non"),1,0) -> 0 | DP63: =IF(AND($T63>3,$O63="SSc cutanée diffuse",$W63="Oui",$Y63="PID extensive",$Z63="Non"),1,0) -> 0 | DQ63: =IF(AND($T63>3,$O63="SSc cutanée diffuse",$W63="Non",$Z63="Oui"),1,0) -> 0 | DR63: =IF(AND($T63>3,$O63="SSc cutanée diffuse",$W63="Oui",$Z63="Oui"),1,0) -> 0 | DS63: =IF(AND($T63<=3,$O63="SSc cutanée limitée",$W63="Non",$Z63="Non"),1,0) -> 0 | DT63: =IF(AND($T63<=3,$O63="SSc cutanée limitée",$W63="Oui",$Y63="PID limitée",$Z63="Non"),1,0) -> 0 | DU63: =IF(AND($T63<=3,$O63="SSc cutanée limitée",$W63="Oui",$Y63="PID extensive",$Z63="Non"),1,0) -> 0 | DV63: =IF(AND($T63<=3,$O63="SSc cutanée limitée",$W63="Non",$Z63="Oui"),1,0) -> 0 | DW63: =IF(AND($T63<=3,$O63="SSc cutanée limitée",$W63="Oui",$Z63="Oui"),1,0) -> 0 | DX63: =IF(AND($T63<=3,$O63="SSc cutanée diffuse",$W63="Non",$Z63="Non"),1,0) -> 0 | DY63: =IF(AND($T63<=3,$O63="SSc cutanée diffuse",$W63="Oui",$Y63="PID limitée",$Z63="Non"),1,0) -> 0 | DZ63: =IF(AND($T63<=3,$O63="SSc cutanée diffuse",$W63="Oui",$Y63="PID extensive",$Z63="Non"),1,0) -> 0 | EA63: =IF(AND($T63<=3,$O63="SSc cutanée diffuse",$W63="Non",$Z63="Oui"),1,0) -> 0 | EB63: =IF(AND($T63<=3,$O63="SSc cutanée diffuse",$W63="Oui",$Z63="Oui"),1,0) -> 0
A64: 542 | B64: 1 | C64: nom63 | D64: pat63 | E64: pre63 | F64: Homme | G64: 1987-07-25 | H64: 34 | I64: 2021-07-07 | J64: Oui | K64: Oui | L64: Oui | M64: Oui | N64: 2021-07-07 | O64: SSc cutanée diffuse | T64: =YEAR(N64)-R64 -> 2021 | DI64: =IF(AND(T64>3,O64="SSc cutanée limitée",W64="Non",Z64="Non"),1,0) -> 0 | DJ64: =IF(AND(T64>3,O64="SSc cutanée limitée",W64="Oui",Y64="PID limitée",Z64="Non"),1,0) -> 0 | DK64: =IF(AND(T64>3,O64="SSc cutanée limitée",W64="Oui",Y64="PID extensive",Z64="Non"),1,0) -> 0 | DL64: =IF(AND(T64>3,O64="SSc cutanée limitée",W64="Non",Z64="Oui"),1,0) -> 0 | DM64: =IF(AND(T64>3,O64="SSc cutanée limitée",W64="Oui",Z64="Oui"),1,0) -> 0 | DN64: =IF(AND($T64>3,$O64="SSc cutanée diffuse",$W64="Non",$Z64="Non"),1,0) -> 0 | DO64: =IF(AND($T64>3,$O64="SSc cutanée diffuse",$W64="Oui",$Y64="PID limitée",$Z64="Non"),1,0) -> 0 | DP64: =IF(AND($T64>3,$O64="SSc cutanée diffuse",$W64="Oui",$Y64="PID extensive",$Z64="Non"),1,0) -> 0 | DQ64: =IF(AND($T64>3,$O64="SSc cutanée diffuse",$W64="Non",$Z64="Oui"),1,0) -> 0 | DR64: =IF(AND($T64>3,$O64="SSc cutanée diffuse",$W64="Oui",$Z64="Oui"),1,0) -> 0 | DS64: =IF(AND($T64<=3,$O64="SSc cutanée limitée",$W64="Non",$Z64="Non"),1,0) -> 0 | DT64: =IF(AND($T64<=3,$O64="SSc cutanée limitée",$W64="Oui",$Y64="PID limitée",$Z64="Non"),1,0) -> 0 | DU64: =IF(AND($T64<=3,$O64="SSc cutanée limitée",$W64="Oui",$Y64="PID extensive",$Z64="Non"),1,0) -> 0 | DV64: =IF(AND($T64<=3,$O64="SSc cutanée limitée",$W64="Non",$Z64="Oui"),1,0) -> 0 | DW64: =IF(AND($T64<=3,$O64="SSc cutanée limitée",$W64="Oui",$Z64="Oui"),1,0) -> 0 | DX64: =IF(AND($T64<=3,$O64="SSc cutanée diffuse",$W64="Non",$Z64="Non"),1,0) -> 0 | DY64: =IF(AND($T64<=3,$O64="SSc cutanée diffuse",$W64="Oui",$Y64="PID limitée",$Z64="Non"),1,0) -> 0 | DZ64: =IF(AND($T64<=3,$O64="SSc cutanée diffuse",$W64="Oui",$Y64="PID extensive",$Z64="Non"),1,0) -> 0 | EA64: =IF(AND($T64<=3,$O64="SSc cutanée diffuse",$W64="Non",$Z64="Oui"),1,0) -> 0 | EB64: =IF(AND($T64<=3,$O64="SSc cutanée diffuse",$W64="Oui",$Z64="Oui"),1,0) -> 0
A65: 546 | B65: 1 | C65: nom64 | D65: pat64 | E65: pre64 | F65: Femme | G65: 1973-08-10 | H65: 48 | I65: 2021-07-13 | J65: Oui | K65: Oui | L65: Oui | M65: Oui | N65: 2021-07-13 | O65: SSc cutanée diffuse | P65: 2009 | R65: 2008 | T65: =YEAR(N65)-R65 -> 13 | U65: 2008 | W65: Non | Z65: Non | AD65: Non | AE65: Non | CB65: oui | CC65: FELODIPINE | CD65: 10 | DB65: Non fait | DF65: Fait | DG65: 2021-07-13 | DH65: Non | DI65: =IF(AND(T65>3,O65="SSc cutanée limitée",W65="Non",Z65="Non"),1,0) -> 0 | DJ65: =IF(AND(T65>3,O65="SSc cutanée limitée",W65="Oui",Y65="PID limitée",Z65="Non"),1,0) -> 0 | DK65: =IF(AND(T65>3,O65="SSc cutanée limitée",W65="Oui",Y65="PID extensive",Z65="Non"),1,0) -> 0 | DL65: =IF(AND(T65>3,O65="SSc cutanée limitée",W65="Non",Z65="Oui"),1,0) -> 0 | DM65: =IF(AND(T65>3,O65="SSc cutanée limitée",W65="Oui",Z65="Oui"),1,0) -> 0 | DN65: =IF(AND($T65>3,$O65="SSc cutanée diffuse",$W65="Non",$Z65="Non"),1,0) -> 1 | DO65: =IF(AND($T65>3,$O65="SSc cutanée diffuse",$W65="Oui",$Y65="PID limitée",$Z65="Non"),1,0) -> 0 | DP65: =IF(AND($T65>3,$O65="SSc cutanée diffuse",$W65="Oui",$Y65="PID extensive",$Z65="Non"),1,0) -> 0 | DQ65: =IF(AND($T65>3,$O65="SSc cutanée diffuse",$W65="Non",$Z65="Oui"),1,0) -> 0 | DR65: =IF(AND($T65>3,$O65="SSc cutanée diffuse",$W65="Oui",$Z65="Oui"),1,0) -> 0 | DS65: =IF(AND($T65<=3,$O65="SSc cutanée limitée",$W65="Non",$Z65="Non"),1,0) -> 0 | DT65: =IF(AND($T65<=3,$O65="SSc cutanée limitée",$W65="Oui",$Y65="PID limitée",$Z65="Non"),1,0) -> 0 | DU65: =IF(AND($T65<=3,$O65="SSc cutanée limitée",$W65="Oui",$Y65="PID extensive",$Z65="Non"),1,0) -> 0 | DV65: =IF(AND($T65<=3,$O65="SSc cutanée limitée",$W65="Non",$Z65="Oui"),1,0) -> 0 | DW65: =IF(AND($T65<=3,$O65="SSc cutanée limitée",$W65="Oui",$Z65="Oui"),1,0) -> 0 | DX65: =IF(AND($T65<=3,$O65="SSc cutanée diffuse",$W65="Non",$Z65="Non"),1,0) -> 0 | DY65: =IF(AND($T65<=3,$O65="SSc cutanée diffuse",$W65="Oui",$Y65="PID limitée",$Z65="Non"),1,0) -> 0 | DZ65: =IF(AND($T65<=3,$O65="SSc cutanée diffuse",$W65="Oui",$Y65="PID extensive",$Z65="Non"),1,0) -> 0 | EA65: =IF(AND($T65<=3,$O65="SSc cutanée diffuse",$W65="Non",$Z65="Oui"),1,0) -> 0 | EB65: =IF(AND($T65<=3,$O65="SSc cutanée diffuse",$W65="Oui",$Z65="Oui"),1,0) -> 0
A66: 566 | B66: 1 | C66: nom65 | D66: pat65 | E66: pre65 | F66: Femme | G66: 1955-03-18 | H66: 66 | I66: 2021-07-21 | J66: Oui | K66: Oui | L66: Oui | M66: Oui | N66: 2021-07-21 | O66: SSc cutanée diffuse | P66: 2003 | R66: 2003 | T66: =YEAR(N66)-R66 -> 18 | U66: 2003 | W66: Oui | X66: 2004 | Y66: PID limitée | Z66: Non | AD66: Oui | AE66: Oui | AF66: oui | CE66: oui | CF66: TRIATEC | DB66: Non fait | DF66: Fait | DG66: 2021-07-21 | DH66: Non | DI66: =IF(AND(T66>3,O66="SSc cutanée limitée",W66="Non",Z66="Non"),1,0) -> 0 | DJ66: =IF(AND(T66>3,O66="SSc cutanée limitée",W66="Oui",Y66="PID limitée",Z66="Non"),1,0) -> 0 | DK66: =IF(AND(T66>3,O66="SSc cutanée limitée",W66="Oui",Y66="PID extensive",Z66="Non"),1,0) -> 0 | DL66: =IF(AND(T66>3,O66="SSc cutanée limitée",W66="Non",Z66="Oui"),1,0) -> 0 | DM66: =IF(AND(T66>3,O66="SSc cutanée limitée",W66="Oui",Z66="Oui"),1,0) -> 0 | DN66: =IF(AND($T66>3,$O66="SSc cutanée diffuse",$W66="Non",$Z66="Non"),1,0) -> 0 | DO66: =IF(AND($T66>3,$O66="SSc cutanée diffuse",$W66="Oui",$Y66="PID limitée",$Z66="Non"),1,0) -> 1 | DP66: =IF(AND($T66>3,$O66="SSc cutanée diffuse",$W66="Oui",$Y66="PID extensive",$Z66="Non"),1,0) -> 0 | DQ66: =IF(AND($T66>3,$O66="SSc cutanée diffuse",$W66="Non",$Z66="Oui"),1,0) -> 0 | DR66: =IF(AND($T66>3,$O66="SSc cutanée diffuse",$W66="Oui",$Z66="Oui"),1,0) -> 0 | DS66: =IF(AND($T66<=3,$O66="SSc cutanée limitée",$W66="Non",$Z66="Non"),1,0) -> 0 | DT66: =IF(AND($T66<=3,$O66="SSc cutanée limitée",$W66="Oui",$Y66="PID limitée",$Z66="Non"),1,0) -> 0 | DU66: =IF(AND($T66<=3,$O66="SSc cutanée limitée",$W66="Oui",$Y66="PID extensive",$Z66="Non"),1,0) -> 0 | DV66: =IF(AND($T66<=3,$O66="SSc cutanée limitée",$W66="Non",$Z66="Oui"),1,0) -> 0 | DW66: =IF(AND($T66<=3,$O66="SSc cutanée limitée",$W66="Oui",$Z66="Oui"),1,0) -> 0 | DX66: =IF(AND($T66<=3,$O66="SSc cutanée diffuse",$W66="Non",$Z66="Non"),1,0) -> 0 | DY66: =IF(AND($T66<=3,$O66="SSc cutanée diffuse",$W66="Oui",$Y66="PID limitée",$Z66="Non"),1,0) -> 0 | DZ66: =IF(AND($T66<=3,$O66="SSc cutanée diffuse",$W66="Oui",$Y66="PID extensive",$Z66="Non"),1,0) -> 0 | EA66: =IF(AND($T66<=3,$O66="SSc cutanée diffuse",$W66="Non",$Z66="Oui"),1,0) -> 0 | EB66: =IF(AND($T66<=3,$O66="SSc cutanée diffuse",$W66="Oui",$Z66="Oui"),1,0) -> 0
A67: 570 | B67: 1 | C67: nom66 | D67: pat66 | E67: pre66 | F67: Femme | G67: 1995-12-04 | H67: 26 | I67: 2021-07-23 | J67: Oui | K67: Oui | L67: Oui | M67: Oui | N67: 2021-07-23 | O67: SSc cutanée diffuse | P67: 2019 | T67: =YEAR(N67)-R67 -> 2021 | AD67: Oui | AE67: Non | DI67: =IF(AND(T67>3,O67="SSc cutanée limitée",W67="Non",Z67="Non"),1,0) -> 0 | DJ67: =IF(AND(T67>3,O67="SSc cutanée limitée",W67="Oui",Y67="PID limitée",Z67="Non"),1,0) -> 0 | DK67: =IF(AND(T67>3,O67="SSc cutanée limitée",W67="Oui",Y67="PID extensive",Z67="Non"),1,0) -> 0 | DL67: =IF(AND(T67>3,O67="SSc cutanée limitée",W67="Non",Z67="Oui"),1,0) -> 0 | DM67: =IF(AND(T67>3,O67="SSc cutanée limitée",W67="Oui",Z67="Oui"),1,0) -> 0 | DN67: =IF(AND($T67>3,$O67="SSc cutanée diffuse",$W67="Non",$Z67="Non"),1,0) -> 0 | DO67: =IF(AND($T67>3,$O67="SSc cutanée diffuse",$W67="Oui",$Y67="PID limitée",$Z67="Non"),1,0) -> 0 | DP67: =IF(AND($T67>3,$O67="SSc cutanée diffuse",$W67="Oui",$Y67="PID extensive",$Z67="Non"),1,0) -> 0 | DQ67: =IF(AND($T67>3,$O67="SSc cutanée diffuse",$W67="Non",$Z67="Oui"),1,0) -> 0 | DR67: =IF(AND($T67>3,$O67="SSc cutanée diffuse",$W67="Oui",$Z67="Oui"),1,0) -> 0 | DS67: =IF(AND($T67<=3,$O67="SSc cutanée limitée",$W67="Non",$Z67="Non"),1,0) -> 0 | DT67: =IF(AND($T67<=3,$O67="SSc cutanée limitée",$W67="Oui",$Y67="PID limitée",$Z67="Non"),1,0) -> 0 | DU67: =IF(AND($T67<=3,$O67="SSc cutanée limitée",$W67="Oui",$Y67="PID extensive",$Z67="Non"),1,0) -> 0 | DV67: =IF(AND($T67<=3,$O67="SSc cutanée limitée",$W67="Non",$Z67="Oui"),1,0) -> 0 | DW67: =IF(AND($T67<=3,$O67="SSc cutanée limitée",$W67="Oui",$Z67="Oui"),1,0) -> 0 | DX67: =IF(AND($T67<=3,$O67="SSc cutanée diffuse",$W67="Non",$Z67="Non"),1,0) -> 0 | DY67: =IF(AND($T67<=3,$O67="SSc cutanée diffuse",$W67="Oui",$Y67="PID limitée",$Z67="Non"),1,0) -> 0 | DZ67: =IF(AND($T67<=3,$O67="SSc cutanée diffuse",$W67="Oui",$Y67="PID extensive",$Z67="Non"),1,0) -> 0 | EA67: =IF(AND($T67<=3,$O67="SSc cutanée diffuse",$W67="Non",$Z67="Oui"),1,0) -> 0 | EB67: =IF(AND($T67<=3,$O67="SSc cutanée diffuse",$W67="Oui",$Z67="Oui"),1,0) -> 0
A68: 578 | B68: 1 | C68: nom67 | D68: pat67 | E68: pre67 | F68: Femme | G68: 1990-11-30 | H68: 31 | I68: 2021-07-29 | J68: Oui | K68: Oui | L68: Oui | M68: Oui | N68: 2021-07-29 | O68: SSc cutanée diffuse | P68: 2021 | R68: 2018 | T68: =YEAR(N68)-R68 -> 3 | U68: 2021 | W68: Non | Z68: Non | AD68: Non | AE68: Non | DB68: Fait | DC68: 2021-07-29 | DF68: Fait | DG68: 2021-07-29 | DH68: Non | DI68: =IF(AND(T68>3,O68="SSc cutanée limitée",W68="Non",Z68="Non"),1,0) -> 0 | DJ68: =IF(AND(T68>3,O68="SSc cutanée limitée",W68="Oui",Y68="PID limitée",Z68="Non"),1,0) -> 0 | DK68: =IF(AND(T68>3,O68="SSc cutanée limitée",W68="Oui",Y68="PID extensive",Z68="Non"),1,0) -> 0 | DL68: =IF(AND(T68>3,O68="SSc cutanée limitée",W68="Non",Z68="Oui"),1,0) -> 0 | DM68: =IF(AND(T68>3,O68="SSc cutanée limitée",W68="Oui",Z68="Oui"),1,0) -> 0 | DN68: =IF(AND($T68>3,$O68="SSc cutanée diffuse",$W68="Non",$Z68="Non"),1,0) -> 0 | DO68: =IF(AND($T68>3,$O68="SSc cutanée diffuse",$W68="Oui",$Y68="PID limitée",$Z68="Non"),1,0) -> 0 | DP68: =IF(AND($T68>3,$O68="SSc cutanée diffuse",$W68="Oui",$Y68="PID extensive",$Z68="Non"),1,0) -> 0 | DQ68: =IF(AND($T68>3,$O68="SSc cutanée diffuse",$W68="Non",$Z68="Oui"),1,0) -> 0 | DR68: =IF(AND($T68>3,$O68="SSc cutanée diffuse",$W68="Oui",$Z68="Oui"),1,0) -> 0 | DS68: =IF(AND($T68<=3,$O68="SSc cutanée limitée",$W68="Non",$Z68="Non"),1,0) -> 0 | DT68: =IF(AND($T68<=3,$O68="SSc cutanée limitée",$W68="Oui",$Y68="PID limitée",$Z68="Non"),1,0) -> 0 | DU68: =IF(AND($T68<=3,$O68="SSc cutanée limitée",$W68="Oui",$Y68="PID extensive",$Z68="Non"),1,0) -> 0 | DV68: =IF(AND($T68<=3,$O68="SSc cutanée limitée",$W68="Non",$Z68="Oui"),1,0) -> 0 | DW68: =IF(AND($T68<=3,$O68="SSc cutanée limitée",$W68="Oui",$Z68="Oui"),1,0) -> 0 | DX68: =IF(AND($T68<=3,$O68="SSc cutanée diffuse",$W68="Non",$Z68="Non"),1,0) -> 1 | DY68: =IF(AND($T68<=3,$O68="SSc cutanée diffuse",$W68="Oui",$Y68="PID limitée",$Z68="Non"),1,0) -> 0 | DZ68: =IF(AND($T68<=3,$O68="SSc cutanée diffuse",$W68="Oui",$Y68="PID extensive",$Z68="Non"),1,0) -> 0 | EA68: =IF(AND($T68<=3,$O68="SSc cutanée diffuse",$W68="Non",$Z68="Oui"),1,0) -> 0 | EB68: =IF(AND($T68<=3,$O68="SSc cutanée diffuse",$W68="Oui",$Z68="Oui"),1,0) -> 0
A69: 580 | B69: 1 | C69: nom68 | D69: pat68 | E69: pre68 | F69: Femme | G69: 1959-03-28 | H69: 62 | I69: 2021-07-30 | J69: Oui | K69: Oui | L69: Oui | M69: Oui | N69: 2021-07-30 | O69: SSc cutanée diffuse | P69: 1999 | R69: 1998 | T69: =YEAR(N69)-R69 -> 23 | U69: 1999 | W69: Non | Z69: Non | AD69: Non | AE69: Non | DB69: Non fait | DF69: Fait | DG69: 2021-07-30 | DH69: Non | DI69: =IF(AND(T69>3,O69="SSc cutanée limitée",W69="Non",Z69="Non"),1,0) -> 0 | DJ69: =IF(AND(T69>3,O69="SSc cutanée limitée",W69="Oui",Y69="PID limitée",Z69="Non"),1,0) -> 0 | DK69: =IF(AND(T69>3,O69="SSc cutanée limitée",W69="Oui",Y69="PID extensive",Z69="Non"),1,0) -> 0 | DL69: =IF(AND(T69>3,O69="SSc cutanée limitée",W69="Non",Z69="Oui"),1,0) -> 0 | DM69: =IF(AND(T69>3,O69="SSc cutanée limitée",W69="Oui",Z69="Oui"),1,0) -> 0 | DN69: =IF(AND($T69>3,$O69="SSc cutanée diffuse",$W69="Non",$Z69="Non"),1,0) -> 1 | DO69: =IF(AND($T69>3,$O69="SSc cutanée diffuse",$W69="Oui",$Y69="PID limitée",$Z69="Non"),1,0) -> 0 | DP69: =IF(AND($T69>3,$O69="SSc cutanée diffuse",$W69="Oui",$Y69="PID extensive",$Z69="Non"),1,0) -> 0 | DQ69: =IF(AND($T69>3,$O69="SSc cutanée diffuse",$W69="Non",$Z69="Oui"),1,0) -> 0 | DR69: =IF(AND($T69>3,$O69="SSc cutanée diffuse",$W69="Oui",$Z69="Oui"),1,0) -> 0 | DS69: =IF(AND($T69<=3,$O69="SSc cutanée limitée",$W69="Non",$Z69="Non"),1,0) -> 0 | DT69: =IF(AND($T69<=3,$O69="SSc cutanée limitée",$W69="Oui",$Y69="PID limitée",$Z69="Non"),1,0) -> 0 | DU69: =IF(AND($T69<=3,$O69="SSc cutanée limitée",$W69="Oui",$Y69="PID extensive",$Z69="Non"),1,0) -> 0 | DV69: =IF(AND($T69<=3,$O69="SSc cutanée limitée",$W69="Non",$Z69="Oui"),1,0) -> 0 | DW69: =IF(AND($T69<=3,$O69="SSc cutanée limitée",$W69="Oui",$Z69="Oui"),1,0) -> 0 | DX69: =IF(AND($T69<=3,$O69="SSc cutanée diffuse",$W69="Non",$Z69="Non"),1,0) -> 0 | DY69: =IF(AND($T69<=3,$O69="SSc cutanée diffuse",$W69="Oui",$Y69="PID limitée",$Z69="Non"),1,0) -> 0 | DZ69: =IF(AND($T69<=3,$O69="SSc cutanée diffuse",$W69="Oui",$Y69="PID extensive",$Z69="Non"),1,0) -> 0 | EA69: =IF(AND($T69<=3,$O69="SSc cutanée diffuse",$W69="Non",$Z69="Oui"),1,0) -> 0 | EB69: =IF(AND($T69<=3,$O69="SSc cutanée diffuse",$W69="Oui",$Z69="Oui"),1,0) -> 0
A70: 600 | B70: 1 | C70: nom69 | D70: pat69 | E70: pre69 | F70: Femme | G70: 1955-04-21 | H70: 66 | I70: 2021-08-10 | J70: Oui | K70: Oui | L70: Oui | M70: Oui | N70: 2021-08-10 | O70: SSc cutanée diffuse | P70: 1999 | R70: 1995 | T70: =YEAR(N70)-R70 -> 26 | U70: 1998 | W70: Non | Z70: Non | AD70: Non | AE70: Non | BE70: oui | BF70: PLAQUENIL | BG70: 5 | BH70: 400 | CE70: oui | CF70: VALSARTAN | CG70: 160 | DB70: Non fait | DF70: Fait | DG70: 2021-08-10 | DH70: Non | DI70: =IF(AND(T70>3,O70="SSc cutanée limitée",W70="Non",Z70="Non"),1,0) -> 0 | DJ70: =IF(AND(T70>3,O70="SSc cutanée limitée",W70="Oui",Y70="PID limitée",Z70="Non"),1,0) -> 0 | DK70: =IF(AND(T70>3,O70="SSc cutanée limitée",W70="Oui",Y70="PID extensive",Z70="Non"),1,0) -> 0 | DL70: =IF(AND(T70>3,O70="SSc cutanée limitée",W70="Non",Z70="Oui"),1,0) -> 0 | DM70: =IF(AND(T70>3,O70="SSc cutanée limitée",W70="Oui",Z70="Oui"),1,0) -> 0 | DN70: =IF(AND($T70>3,$O70="SSc cutanée diffuse",$W70="Non",$Z70="Non"),1,0) -> 1 | DO70: =IF(AND($T70>3,$O70="SSc cutanée diffuse",$W70="Oui",$Y70="PID limitée",$Z70="Non"),1,0) -> 0 | DP70: =IF(AND($T70>3,$O70="SSc cutanée diffuse",$W70="Oui",$Y70="PID extensive",$Z70="Non"),1,0) -> 0 | DQ70: =IF(AND($T70>3,$O70="SSc cutanée diffuse",$W70="Non",$Z70="Oui"),1,0) -> 0 | DR70: =IF(AND($T70>3,$O70="SSc cutanée diffuse",$W70="Oui",$Z70="Oui"),1,0) -> 0 | DS70: =IF(AND($T70<=3,$O70="SSc cutanée limitée",$W70="Non",$Z70="Non"),1,0) -> 0 | DT70: =IF(AND($T70<=3,$O70="SSc cutanée limitée",$W70="Oui",$Y70="PID limitée",$Z70="Non"),1,0) -> 0 | DU70: =IF(AND($T70<=3,$O70="SSc cutanée limitée",$W70="Oui",$Y70="PID extensive",$Z70="Non"),1,0) -> 0 | DV70: =IF(AND($T70<=3,$O70="SSc cutanée limitée",$W70="Non",$Z70="Oui"),1,0) -> 0 | DW70: =IF(AND($T70<=3,$O70="SSc cutanée limitée",$W70="Oui",$Z70="Oui"),1,0) -> 0 | DX70: =IF(AND($T70<=3,$O70="SSc cutanée diffuse",$W70="Non",$Z70="Non"),1,0) -> 0 | DY70: =IF(AND($T70<=3,$O70="SSc cutanée diffuse",$W70="Oui",$Y70="PID limitée",$Z70="Non"),1,0) -> 0 | DZ70: =IF(AND($T70<=3,$O70="SSc cutanée diffuse",$W70="Oui",$Y70="PID extensive",$Z70="Non"),1,0) -> 0 | EA70: =IF(AND($T70<=3,$O70="SSc cutanée diffuse",$W70="Non",$Z70="Oui"),1,0) -> 0 | EB70: =IF(AND($T70<=3,$O70="SSc cutanée diffuse",$W70="Oui",$Z70="Oui"),1,0) -> 0
A71: 602 | B71: 1 | C71: nom70 | D71: pat70 | E71: pre70 | F71: Femme | G71: 1939-11-25 | H71: 82 | I71: 2021-08-11 | J71: Oui | K71: Oui | L71: Oui | M71: Oui | N71: 2021-08-11 | O71: SSc cutanée diffuse | P71: 2020 | R71: 2000 | T71: =YEAR(N71)-R71 -> 21 | U71: 2020 | W71: Non | Z71: Non | AD71: Non | AE71: Oui | DI71: =IF(AND(T71>3,O71="SSc cutanée limitée",W71="Non",Z71="Non"),1,0) -> 0 | DJ71: =IF(AND(T71>3,O71="SSc cutanée limitée",W71="Oui",Y71="PID limitée",Z71="Non"),1,0) -> 0 | DK71: =IF(AND(T71>3,O71="SSc cutanée limitée",W71="Oui",Y71="PID extensive",Z71="Non"),1,0) -> 0 | DL71: =IF(AND(T71>3,O71="SSc cutanée limitée",W71="Non",Z71="Oui"),1,0) -> 0 | DM71: =IF(AND(T71>3,O71="SSc cutanée limitée",W71="Oui",Z71="Oui"),1,0) -> 0 | DN71: =IF(AND($T71>3,$O71="SSc cutanée diffuse",$W71="Non",$Z71="Non"),1,0) -> 1 | DO71: =IF(AND($T71>3,$O71="SSc cutanée diffuse",$W71="Oui",$Y71="PID limitée",$Z71="Non"),1,0) -> 0 | DP71: =IF(AND($T71>3,$O71="SSc cutanée diffuse",$W71="Oui",$Y71="PID extensive",$Z71="Non"),1,0) -> 0 | DQ71: =IF(AND($T71>3,$O71="SSc cutanée diffuse",$W71="Non",$Z71="Oui"),1,0) -> 0 | DR71: =IF(AND($T71>3,$O71="SSc cutanée diffuse",$W71="Oui",$Z71="Oui"),1,0) -> 0 | DS71: =IF(AND($T71<=3,$O71="SSc cutanée limitée",$W71="Non",$Z71="Non"),1,0) -> 0 | DT71: =IF(AND($T71<=3,$O71="SSc cutanée limitée",$W71="Oui",$Y71="PID limitée",$Z71="Non"),1,0) -> 0 | DU71: =IF(AND($T71<=3,$O71="SSc cutanée limitée",$W71="Oui",$Y71="PID extensive",$Z71="Non"),1,0) -> 0 | DV71: =IF(AND($T71<=3,$O71="SSc cutanée limitée",$W71="Non",$Z71="Oui"),1,0) -> 0 | DW71: =IF(AND($T71<=3,$O71="SSc cutanée limitée",$W71="Oui",$Z71="Oui"),1,0) -> 0 | DX71: =IF(AND($T71<=3,$O71="SSc cutanée diffuse",$W71="Non",$Z71="Non"),1,0) -> 0 | DY71: =IF(AND($T71<=3,$O71="SSc cutanée diffuse",$W71="Oui",$Y71="PID limitée",$Z71="Non"),1,0) -> 0 | DZ71: =IF(AND($T71<=3,$O71="SSc cutanée diffuse",$W71="Oui",$Y71="PID extensive",$Z71="Non"),1,0) -> 0 | EA71: =IF(AND($T71<=3,$O71="SSc cutanée diffuse",$W71="Non",$Z71="Oui"),1,0) -> 0 | EB71: =IF(AND($T71<=3,$O71="SSc cutanée diffuse",$W71="Oui",$Z71="Oui"),1,0) -> 0
A72: 606 | B72: 1 | C72: nom71 | D72: pat71 | E72: pre71 | F72: Homme | G72: 1953-02-28 | H72: 68 | I72: 2021-08-11 | J72: Oui | K72: Oui | L72: Oui | M72: Oui | N72: 2021-08-11 | O72: SSc cutanée diffuse | P72: 2019 | S72: non connue | T72: =YEAR(N72)-R72 -> 2021 | V72: non connue | W72: Oui | X72: 2019 | Y72: PID limitée | Z72: Non | AD72: Oui | AE72: Oui | AF72: oui | AN72: oui | AO72: CELLCEPT | AP72: 2000 | CB72: oui | CC72: AMLOR | CD72: 5 | CE72: oui | CF72: CANDESARTAN | CG72: 16 | CL72: oui | CM72: NEBIVOLOL | CN72: 5 | DB72: Non fait | DF72: Fait | DG72: 2021-08-11 | DH72: Non | DI72: =IF(AND(T72>3,O72="SSc cutanée limitée",W72="Non",Z72="Non"),1,0) -> 0 | DJ72: =IF(AND(T72>3,O72="SSc cutanée limitée",W72="Oui",Y72="PID limitée",Z72="Non"),1,0) -> 0 | DK72: =IF(AND(T72>3,O72="SSc cutanée limitée",W72="Oui",Y72="PID extensive",Z72="Non"),1,0) -> 0 | DL72: =IF(AND(T72>3,O72="SSc cutanée limitée",W72="Non",Z72="Oui"),1,0) -> 0 | DM72: =IF(AND(T72>3,O72="SSc cutanée limitée",W72="Oui",Z72="Oui"),1,0) -> 0 | DN72: =IF(AND($T72>3,$O72="SSc cutanée diffuse",$W72="Non",$Z72="Non"),1,0) -> 0 | DO72: =IF(AND($T72>3,$O72="SSc cutanée diffuse",$W72="Oui",$Y72="PID limitée",$Z72="Non"),1,0) -> 1 | DP72: =IF(AND($T72>3,$O72="SSc cutanée diffuse",$W72="Oui",$Y72="PID extensive",$Z72="Non"),1,0) -> 0 | DQ72: =IF(AND($T72>3,$O72="SSc cutanée diffuse",$W72="Non",$Z72="Oui"),1,0) -> 0 | DR72: =IF(AND($T72>3,$O72="SSc cutanée diffuse",$W72="Oui",$Z72="Oui"),1,0) -> 0 | DS72: =IF(AND($T72<=3,$O72="SSc cutanée limitée",$W72="Non",$Z72="Non"),1,0) -> 0 | DT72: =IF(AND($T72<=3,$O72="SSc cutanée limitée",$W72="Oui",$Y72="PID limitée",$Z72="Non"),1,0) -> 0 | DU72: =IF(AND($T72<=3,$O72="SSc cutanée limitée",$W72="Oui",$Y72="PID extensive",$Z72="Non"),1,0) -> 0 | DV72: =IF(AND($T72<=3,$O72="SSc cutanée limitée",$W72="Non",$Z72="Oui"),1,0) -> 0 | DW72: =IF(AND($T72<=3,$O72="SSc cutanée limitée",$W72="Oui",$Z72="Oui"),1,0) -> 0 | DX72: =IF(AND($T72<=3,$O72="SSc cutanée diffuse",$W72="Non",$Z72="Non"),1,0) -> 0 | DY72: =IF(AND($T72<=3,$O72="SSc cutanée diffuse",$W72="Oui",$Y72="PID limitée",$Z72="Non"),1,0) -> 0 | DZ72: =IF(AND($T72<=3,$O72="SSc cutanée diffuse",$W72="Oui",$Y72="PID extensive",$Z72="Non"),1,0) -> 0 | EA72: =IF(AND($T72<=3,$O72="SSc cutanée diffuse",$W72="Non",$Z72="Oui"),1,0) -> 0 | EB72: =IF(AND($T72<=3,$O72="SSc cutanée diffuse",$W72="Oui",$Z72="Oui"),1,0) -> 0
A73: 610 | B73: 1 | C73: nom72 | D73: pat72 | E73: pre72 | F73: Femme | G73: 1965-07-06 | H73: 56 | I73: 2021-08-12 | J73: Oui | K73: Oui | L73: Oui | M73: Oui | N73: 2021-08-12 | O73: Ne sait pas | Q73: non connue | R73: 2000 | T73: =YEAR(N73)-R73 -> 21 | U73: 1985 | W73: Non | Z73: Non | AD73: Non | AE73: Non | DB73: Non fait | DF73: Non fait | DI73: =IF(AND(T73>3,O73="SSc cutanée limitée",W73="Non",Z73="Non"),1,0) -> 0 | DJ73: =IF(AND(T73>3,O73="SSc cutanée limitée",W73="Oui",Y73="PID limitée",Z73="Non"),1,0) -> 0 | DK73: =IF(AND(T73>3,O73="SSc cutanée limitée",W73="Oui",Y73="PID extensive",Z73="Non"),1,0) -> 0 | DL73: =IF(AND(T73>3,O73="SSc cutanée limitée",W73="Non",Z73="Oui"),1,0) -> 0 | DM73: =IF(AND(T73>3,O73="SSc cutanée limitée",W73="Oui",Z73="Oui"),1,0) -> 0 | DN73: =IF(AND($T73>3,$O73="SSc cutanée diffuse",$W73="Non",$Z73="Non"),1,0) -> 0 | DO73: =IF(AND($T73>3,$O73="SSc cutanée diffuse",$W73="Oui",$Y73="PID limitée",$Z73="Non"),1,0) -> 0 | DP73: =IF(AND($T73>3,$O73="SSc cutanée diffuse",$W73="Oui",$Y73="PID extensive",$Z73="Non"),1,0) -> 0 | DQ73: =IF(AND($T73>3,$O73="SSc cutanée diffuse",$W73="Non",$Z73="Oui"),1,0) -> 0 | DR73: =IF(AND($T73>3,$O73="SSc cutanée diffuse",$W73="Oui",$Z73="Oui"),1,0) -> 0 | DS73: =IF(AND($T73<=3,$O73="SSc cutanée limitée",$W73="Non",$Z73="Non"),1,0) -> 0 | DT73: =IF(AND($T73<=3,$O73="SSc cutanée limitée",$W73="Oui",$Y73="PID limitée",$Z73="Non"),1,0) -> 0 | DU73: =IF(AND($T73<=3,$O73="SSc cutanée limitée",$W73="Oui",$Y73="PID extensive",$Z73="Non"),1,0) -> 0 | DV73: =IF(AND($T73<=3,$O73="SSc cutanée limitée",$W73="Non",$Z73="Oui"),1,0) -> 0 | DW73: =IF(AND($T73<=3,$O73="SSc cutanée limitée",$W73="Oui",$Z73="Oui"),1,0) -> 0 | DX73: =IF(AND($T73<=3,$O73="SSc cutanée diffuse",$W73="Non",$Z73="Non"),1,0) -> 0 | DY73: =IF(AND($T73<=3,$O73="SSc cutanée diffuse",$W73="Oui",$Y73="PID limitée",$Z73="Non"),1,0) -> 0 | DZ73: =IF(AND($T73<=3,$O73="SSc cutanée diffuse",$W73="Oui",$Y73="PID extensive",$Z73="Non"),1,0) -> 0 | EA73: =IF(AND($T73<=3,$O73="SSc cutanée diffuse",$W73="Non",$Z73="Oui"),1,0) -> 0 | EB73: =IF(AND($T73<=3,$O73="SSc cutanée diffuse",$W73="Oui",$Z73="Oui"),1,0) -> 0
A74: 612 | B74: 1 | C74: nom73 | D74: pat73 | E74: pre73 | F74: Femme | G74: 1965-08-10 | H74: 56 | I74: 2021-08-13 | J74: Oui | K74: Oui | L74: Oui | M74: Oui | N74: 2021-08-13 | O74: SSc cutanée limitée | P74: 2012 | R74: 2010 | T74: =YEAR(N74)-R74 -> 11 | U74: 2012 | W74: Non | Z74: Non | AD74: Non | AE74: Non | DB74: Non fait | DF74: Fait | DG74: 2021-08-17 | DH74: Non | DI74: =IF(AND(T74>3,O74="SSc cutanée limitée",W74="Non",Z74="Non"),1,0) -> 1 | DJ74: =IF(AND(T74>3,O74="SSc cutanée limitée",W74="Oui",Y74="PID limitée",Z74="Non"),1,0) -> 0 | DK74: =IF(AND(T74>3,O74="SSc cutanée limitée",W74="Oui",Y74="PID extensive",Z74="Non"),1,0) -> 0 | DL74: =IF(AND(T74>3,O74="SSc cutanée limitée",W74="Non",Z74="Oui"),1,0) -> 0 | DM74: =IF(AND(T74>3,O74="SSc cutanée limitée",W74="Oui",Z74="Oui"),1,0) -> 0 | DN74: =IF(AND($T74>3,$O74="SSc cutanée diffuse",$W74="Non",$Z74="Non"),1,0) -> 0 | DO74: =IF(AND($T74>3,$O74="SSc cutanée diffuse",$W74="Oui",$Y74="PID limitée",$Z74="Non"),1,0) -> 0 | DP74: =IF(AND($T74>3,$O74="SSc cutanée diffuse",$W74="Oui",$Y74="PID extensive",$Z74="Non"),1,0) -> 0 | DQ74: =IF(AND($T74>3,$O74="SSc cutanée diffuse",$W74="Non",$Z74="Oui"),1,0) -> 0 | DR74: =IF(AND($T74>3,$O74="SSc cutanée diffuse",$W74="Oui",$Z74="Oui"),1,0) -> 0 | DS74: =IF(AND($T74<=3,$O74="SSc cutanée limitée",$W74="Non",$Z74="Non"),1,0) -> 0 | DT74: =IF(AND($T74<=3,$O74="SSc cutanée limitée",$W74="Oui",$Y74="PID limitée",$Z74="Non"),1,0) -> 0 | DU74: =IF(AND($T74<=3,$O74="SSc cutanée limitée",$W74="Oui",$Y74="PID extensive",$Z74="Non"),1,0) -> 0 | DV74: =IF(AND($T74<=3,$O74="SSc cutanée limitée",$W74="Non",$Z74="Oui"),1,0) -> 0 | DW74: =IF(AND($T74<=3,$O74="SSc cutanée limitée",$W74="Oui",$Z74="Oui"),1,0) -> 0 | DX74: =IF(AND($T74<=3,$O74="SSc cutanée diffuse",$W74="Non",$Z74="Non"),1,0) -> 0 | DY74: =IF(AND($T74<=3,$O74="SSc cutanée diffuse",$W74="Oui",$Y74="PID limitée",$Z74="Non"),1,0) -> 0 | DZ74: =IF(AND($T74<=3,$O74="SSc cutanée diffuse",$W74="Oui",$Y74="PID extensive",$Z74="Non"),1,0) -> 0 | EA74: =IF(AND($T74<=3,$O74="SSc cutanée diffuse",$W74="Non",$Z74="Oui"),1,0) -> 0 | EB74: =IF(AND($T74<=3,$O74="SSc cutanée diffuse",$W74="Oui",$Z74="Oui"),1,0) -> 0
A75: 614 | B75: 1 | C75: nom74 | D75: pat74 | E75: pre74 | F75: Femme | G75: 1959-09-05 | H75: 62 | I75: 2021-08-13 | J75: Oui | K75: Oui | L75: Oui | M75: Oui | N75: 2021-08-13 | O75: SSc cutanée limitée | P75: 1994 | R75: 1976 | T75: =YEAR(N75)-R75 -> 45 | U75: 1994 | W75: Non | Z75: Non | AD75: Non | AE75: Oui | DI75: =IF(AND(T75>3,O75="SSc cutanée limitée",W75="Non",Z75="Non"),1,0) -> 1 | DJ75: =IF(AND(T75>3,O75="SSc cutanée limitée",W75="Oui",Y75="PID limitée",Z75="Non"),1,0) -> 0 | DK75: =IF(AND(T75>3,O75="SSc cutanée limitée",W75="Oui",Y75="PID extensive",Z75="Non"),1,0) -> 0 | DL75: =IF(AND(T75>3,O75="SSc cutanée limitée",W75="Non",Z75="Oui"),1,0) -> 0 | DM75: =IF(AND(T75>3,O75="SSc cutanée limitée",W75="Oui",Z75="Oui"),1,0) -> 0 | DN75: =IF(AND($T75>3,$O75="SSc cutanée diffuse",$W75="Non",$Z75="Non"),1,0) -> 0 | DO75: =IF(AND($T75>3,$O75="SSc cutanée diffuse",$W75="Oui",$Y75="PID limitée",$Z75="Non"),1,0) -> 0 | DP75: =IF(AND($T75>3,$O75="SSc cutanée diffuse",$W75="Oui",$Y75="PID extensive",$Z75="Non"),1,0) -> 0 | DQ75: =IF(AND($T75>3,$O75="SSc cutanée diffuse",$W75="Non",$Z75="Oui"),1,0) -> 0 | DR75: =IF(AND($T75>3,$O75="SSc cutanée diffuse",$W75="Oui",$Z75="Oui"),1,0) -> 0 | DS75: =IF(AND($T75<=3,$O75="SSc cutanée limitée",$W75="Non",$Z75="Non"),1,0) -> 0 | DT75: =IF(AND($T75<=3,$O75="SSc cutanée limitée",$W75="Oui",$Y75="PID limitée",$Z75="Non"),1,0) -> 0 | DU75: =IF(AND($T75<=3,$O75="SSc cutanée limitée",$W75="Oui",$Y75="PID extensive",$Z75="Non"),1,0) -> 0 | DV75: =IF(AND($T75<=3,$O75="SSc cutanée limitée",$W75="Non",$Z75="Oui"),1,0) -> 0 | DW75: =IF(AND($T75<=3,$O75="SSc cutanée limitée",$W75="Oui",$Z75="Oui"),1,0) -> 0 | DX75: =IF(AND($T75<=3,$O75="SSc cutanée diffuse",$W75="Non",$Z75="Non"),1,0) -> 0 | DY75: =IF(AND($T75<=3,$O75="SSc cutanée diffuse",$W75="Oui",$Y75="PID limitée",$Z75="Non"),1,0) -> 0 | DZ75: =IF(AND($T75<=3,$O75="SSc cutanée diffuse",$W75="Oui",$Y75="PID extensive",$Z75="Non"),1,0) -> 0 | EA75: =IF(AND($T75<=3,$O75="SSc cutanée diffuse",$W75="Non",$Z75="Oui"),1,0) -> 0 | EB75: =IF(AND($T75<=3,$O75="SSc cutanée diffuse",$W75="Oui",$Z75="Oui"),1,0) -> 0
A76: 618 | B76: 1 | C76: nom75 | D76: pat75 | E76: pre75 | F76: Femme | G76: 1949-02-12 | H76: 72 | I76: 2021-08-16 | J76: Oui | K76: Oui | L76: Oui | M76: Oui | N76: 2021-08-16 | O76: SSc cutanée limitée | P76: 2017 | R76: 1989 | T76: =YEAR(N76)-R76 -> 32 | U76: 2017 | W76: Oui | X76: 2017 | Y76: PID limitée | Z76: Oui | AA76: groupe 2 (HTP post-capillaire sur atteinte cardiaque gauche) | AC76: 2020 | AD76: Non | AE76: Oui | CB76: oui | CC76: AMLODIPINE | CD76: 5 | DB76: Fait | DC76: 2020-08-28 | DD76: Oui | DE76: < 10% du parenchyme pulmonaire | DF76: Fait | DG76: 2021-08-16 | DH76: Non | DI76: =IF(AND(T76>3,O76="SSc cutanée limitée",W76="Non",Z76="Non"),1,0) -> 0 | DJ76: =IF(AND(T76>3,O76="SSc cutanée limitée",W76="Oui",Y76="PID limitée",Z76="Non"),1,0) -> 0 | DK76: =IF(AND(T76>3,O76="SSc cutanée limitée",W76="Oui",Y76="PID extensive",Z76="Non"),1,0) -> 0 | DL76: =IF(AND(T76>3,O76="SSc cutanée limitée",W76="Non",Z76="Oui"),1,0) -> 0 | DM76: =IF(AND(T76>3,O76="SSc cutanée limitée",W76="Oui",Z76="Oui"),1,0) -> 1 | DN76: =IF(AND($T76>3,$O76="SSc cutanée diffuse",$W76="Non",$Z76="Non"),1,0) -> 0 | DO76: =IF(AND($T76>3,$O76="SSc cutanée diffuse",$W76="Oui",$Y76="PID limitée",$Z76="Non"),1,0) -> 0 | DP76: =IF(AND($T76>3,$O76="SSc cutanée diffuse",$W76="Oui",$Y76="PID extensive",$Z76="Non"),1,0) -> 0 | DQ76: =IF(AND($T76>3,$O76="SSc cutanée diffuse",$W76="Non",$Z76="Oui"),1,0) -> 0 | DR76: =IF(AND($T76>3,$O76="SSc cutanée diffuse",$W76="Oui",$Z76="Oui"),1,0) -> 0 | DS76: =IF(AND($T76<=3,$O76="SSc cutanée limitée",$W76="Non",$Z76="Non"),1,0) -> 0 | DT76: =IF(AND($T76<=3,$O76="SSc cutanée limitée",$W76="Oui",$Y76="PID limitée",$Z76="Non"),1,0) -> 0 | DU76: =IF(AND($T76<=3,$O76="SSc cutanée limitée",$W76="Oui",$Y76="PID extensive",$Z76="Non"),1,0) -> 0 | DV76: =IF(AND($T76<=3,$O76="SSc cutanée limitée",$W76="Non",$Z76="Oui"),1,0) -> 0 | DW76: =IF(AND($T76<=3,$O76="SSc cutanée limitée",$W76="Oui",$Z76="Oui"),1,0) -> 0 | DX76: =IF(AND($T76<=3,$O76="SSc cutanée diffuse",$W76="Non",$Z76="Non"),1,0) -> 0 | DY76: =IF(AND($T76<=3,$O76="SSc cutanée diffuse",$W76="Oui",$Y76="PID limitée",$Z76="Non"),1,0) -> 0 | DZ76: =IF(AND($T76<=3,$O76="SSc cutanée diffuse",$W76="Oui",$Y76="PID extensive",$Z76="Non"),1,0) -> 0 | EA76: =IF(AND($T76<=3,$O76="SSc cutanée diffuse",$W76="Non",$Z76="Oui"),1,0) -> 0 | EB76: =IF(AND($T76<=3,$O76="SSc cutanée diffuse",$W76="Oui",$Z76="Oui"),1,0) -> 0
A77: 630 | B77: 1 | C77: nom76 | D77: pat76 | E77: pre76 | F77: Femme | G77: 1975-05-05 | H77: 46 | I77: 2021-08-19 | J77: Oui | K77: Oui | L77: Oui | M77: Oui | N77: 2021-08-19 | O77: SSc cutanée limitée | P77: 2003 | R77: 2003 | T77: =YEAR(N77)-R77 -> 18 | U77: 2003 | W77: Non | Z77: Non | AD77: Non | AE77: Non | CB77: oui | CC77: MONOTILDIEM | CL77: oui | CM77: PROPRANOLOL | CN77: 40 2x/j | DB77: Non fait | DF77: Fait | DG77: 2021-08-19 | DI77: =IF(AND(T77>3,O77="SSc cutanée limitée",W77="Non",Z77="Non"),1,0) -> 1 | DJ77: =IF(AND(T77>3,O77="SSc cutanée limitée",W77="Oui",Y77="PID limitée",Z77="Non"),1,0) -> 0 | DK77: =IF(AND(T77>3,O77="SSc cutanée limitée",W77="Oui",Y77="PID extensive",Z77="Non"),1,0) -> 0 | DL77: =IF(AND(T77>3,O77="SSc cutanée limitée",W77="Non",Z77="Oui"),1,0) -> 0 | DM77: =IF(AND(T77>3,O77="SSc cutanée limitée",W77="Oui",Z77="Oui"),1,0) -> 0 | DN77: =IF(AND($T77>3,$O77="SSc cutanée diffuse",$W77="Non",$Z77="Non"),1,0) -> 0 | DO77: =IF(AND($T77>3,$O77="SSc cutanée diffuse",$W77="Oui",$Y77="PID limitée",$Z77="Non"),1,0) -> 0 | DP77: =IF(AND($T77>3,$O77="SSc cutanée diffuse",$W77="Oui",$Y77="PID extensive",$Z77="Non"),1,0) -> 0 | DQ77: =IF(AND($T77>3,$O77="SSc cutanée diffuse",$W77="Non",$Z77="Oui"),1,0) -> 0 | DR77: =IF(AND($T77>3,$O77="SSc cutanée diffuse",$W77="Oui",$Z77="Oui"),1,0) -> 0 | DS77: =IF(AND($T77<=3,$O77="SSc cutanée limitée",$W77="Non",$Z77="Non"),1,0) -> 0 | DT77: =IF(AND($T77<=3,$O77="SSc cutanée limitée",$W77="Oui",$Y77="PID limitée",$Z77="Non"),1,0) -> 0 | DU77: =IF(AND($T77<=3,$O77="SSc cutanée limitée",$W77="Oui",$Y77="PID extensive",$Z77="Non"),1,0) -> 0 | DV77: =IF(AND($T77<=3,$O77="SSc cutanée limitée",$W77="Non",$Z77="Oui"),1,0) -> 0 | DW77: =IF(AND($T77<=3,$O77="SSc cutanée limitée",$W77="Oui",$Z77="Oui"),1,0) -> 0 | DX77: =IF(AND($T77<=3,$O77="SSc cutanée diffuse",$W77="Non",$Z77="Non"),1,0) -> 0 | DY77: =IF(AND($T77<=3,$O77="SSc cutanée diffuse",$W77="Oui",$Y77="PID limitée",$Z77="Non"),1,0) -> 0 | DZ77: =IF(AND($T77<=3,$O77="SSc cutanée diffuse",$W77="Oui",$Y77="PID extensive",$Z77="Non"),1,0) -> 0 | EA77: =IF(AND($T77<=3,$O77="SSc cutanée diffuse",$W77="Non",$Z77="Oui"),1,0) -> 0 | EB77: =IF(AND($T77<=3,$O77="SSc cutanée diffuse",$W77="Oui",$Z77="Oui"),1,0) -> 0
A78: 704 | B78: 1 | C78: nom77 | D78: pat77 | E78: pre77 | F78: Homme | G78: 1972-09-28 | H78: 49 | I78: 2021-09-21 | J78: Oui | K78: Oui | L78: Oui | M78: Oui | N78: 2021-09-21 | O78: SSc cutanée limitée | P78: 2016 | R78: 2007 | T78: =YEAR(N78)-R78 -> 14 | U78: 2014 | W78: Non | Z78: Non | AD78: Non | AE78: Non | CB78: oui | CC78: amlodipine | CD78: 5 | DB78: Non fait | DF78: Fait | DG78: 2021-09-21 | DH78: Non | DI78: =IF(AND(T78>3,O78="SSc cutanée limitée",W78="Non",Z78="Non"),1,0) -> 1 | DJ78: =IF(AND(T78>3,O78="SSc cutanée limitée",W78="Oui",Y78="PID limitée",Z78="Non"),1,0) -> 0 | DK78: =IF(AND(T78>3,O78="SSc cutanée limitée",W78="Oui",Y78="PID extensive",Z78="Non"),1,0) -> 0 | DL78: =IF(AND(T78>3,O78="SSc cutanée limitée",W78="Non",Z78="Oui"),1,0) -> 0 | DM78: =IF(AND(T78>3,O78="SSc cutanée limitée",W78="Oui",Z78="Oui"),1,0) -> 0 | DN78: =IF(AND($T78>3,$O78="SSc cutanée diffuse",$W78="Non",$Z78="Non"),1,0) -> 0 | DO78: =IF(AND($T78>3,$O78="SSc cutanée diffuse",$W78="Oui",$Y78="PID limitée",$Z78="Non"),1,0) -> 0 | DP78: =IF(AND($T78>3,$O78="SSc cutanée diffuse",$W78="Oui",$Y78="PID extensive",$Z78="Non"),1,0) -> 0 | DQ78: =IF(AND($T78>3,$O78="SSc cutanée diffuse",$W78="Non",$Z78="Oui"),1,0) -> 0 | DR78: =IF(AND($T78>3,$O78="SSc cutanée diffuse",$W78="Oui",$Z78="Oui"),1,0) -> 0 | DS78: =IF(AND($T78<=3,$O78="SSc cutanée limitée",$W78="Non",$Z78="Non"),1,0) -> 0 | DT78: =IF(AND($T78<=3,$O78="SSc cutanée limitée",$W78="Oui",$Y78="PID limitée",$Z78="Non"),1,0) -> 0 | DU78: =IF(AND($T78<=3,$O78="SSc cutanée limitée",$W78="Oui",$Y78="PID extensive",$Z78="Non"),1,0) -> 0 | DV78: =IF(AND($T78<=3,$O78="SSc cutanée limitée",$W78="Non",$Z78="Oui"),1,0) -> 0 | DW78: =IF(AND($T78<=3,$O78="SSc cutanée limitée",$W78="Oui",$Z78="Oui"),1,0) -> 0 | DX78: =IF(AND($T78<=3,$O78="SSc cutanée diffuse",$W78="Non",$Z78="Non"),1,0) -> 0 | DY78: =IF(AND($T78<=3,$O78="SSc cutanée diffuse",$W78="Oui",$Y78="PID limitée",$Z78="Non"),1,0) -> 0 | DZ78: =IF(AND($T78<=3,$O78="SSc cutanée diffuse",$W78="Oui",$Y78="PID extensive",$Z78="Non"),1,0) -> 0 | EA78: =IF(AND($T78<=3,$O78="SSc cutanée diffuse",$W78="Non",$Z78="Oui"),1,0) -> 0 | EB78: =IF(AND($T78<=3,$O78="SSc cutanée diffuse",$W78="Oui",$Z78="Oui"),1,0) -> 0
A79: 708 | B79: 1 | C79: nom78 | D79: pat78 | E79: pre78 | F79: Homme | G79: 1962-08-18 | H79: 59 | I79: 2021-09-21 | J79: Oui | K79: Oui | L79: Oui | M79: Oui | N79: 2021-09-21 | O79: SSc cutanée diffuse | R79: 2005 | T79: =YEAR(N79)-R79 -> 16 | U79: 2015 | W79: Non | Z79: Non | AD79: Non | AE79: Oui | AF79: oui | CB79: oui | CR79: oui | DB79: Non fait | DF79: Fait | DG79: 2021-09-21 | DI79: =IF(AND(T79>3,O79="SSc cutanée limitée",W79="Non",Z79="Non"),1,0) -> 0 | DJ79: =IF(AND(T79>3,O79="SSc cutanée limitée",W79="Oui",Y79="PID limitée",Z79="Non"),1,0) -> 0 | DK79: =IF(AND(T79>3,O79="SSc cutanée limitée",W79="Oui",Y79="PID extensive",Z79="Non"),1,0) -> 0 | DL79: =IF(AND(T79>3,O79="SSc cutanée limitée",W79="Non",Z79="Oui"),1,0) -> 0 | DM79: =IF(AND(T79>3,O79="SSc cutanée limitée",W79="Oui",Z79="Oui"),1,0) -> 0 | DN79: =IF(AND($T79>3,$O79="SSc cutanée diffuse",$W79="Non",$Z79="Non"),1,0) -> 1 | DO79: =IF(AND($T79>3,$O79="SSc cutanée diffuse",$W79="Oui",$Y79="PID limitée",$Z79="Non"),1,0) -> 0 | DP79: =IF(AND($T79>3,$O79="SSc cutanée diffuse",$W79="Oui",$Y79="PID extensive",$Z79="Non"),1,0) -> 0 | DQ79: =IF(AND($T79>3,$O79="SSc cutanée diffuse",$W79="Non",$Z79="Oui"),1,0) -> 0 | DR79: =IF(AND($T79>3,$O79="SSc cutanée diffuse",$W79="Oui",$Z79="Oui"),1,0) -> 0 | DS79: =IF(AND($T79<=3,$O79="SSc cutanée limitée",$W79="Non",$Z79="Non"),1,0) -> 0 | DT79: =IF(AND($T79<=3,$O79="SSc cutanée limitée",$W79="Oui",$Y79="PID limitée",$Z79="Non"),1,0) -> 0 | DU79: =IF(AND($T79<=3,$O79="SSc cutanée limitée",$W79="Oui",$Y79="PID extensive",$Z79="Non"),1,0) -> 0 | DV79: =IF(AND($T79<=3,$O79="SSc cutanée limitée",$W79="Non",$Z79="Oui"),1,0) -> 0 | DW79: =IF(AND($T79<=3,$O79="SSc cutanée limitée",$W79="Oui",$Z79="Oui"),1,0) -> 0 | DX79: =IF(AND($T79<=3,$O79="SSc cutanée diffuse",$W79="Non",$Z79="Non"),1,0) -> 0 | DY79: =IF(AND($T79<=3,$O79="SSc cutanée diffuse",$W79="Oui",$Y79="PID limitée",$Z79="Non"),1,0) -> 0 | DZ79: =IF(AND($T79<=3,$O79="SSc cutanée diffuse",$W79="Oui",$Y79="PID extensive",$Z79="Non"),1,0) -> 0 | EA79: =IF(AND($T79<=3,$O79="SSc cutanée diffuse",$W79="Non",$Z79="Oui"),1,0) -> 0 | EB79: =IF(AND($T79<=3,$O79="SSc cutanée diffuse",$W79="Oui",$Z79="Oui"),1,0) -> 0
A80: 714 | B80: 1 | C80: nom79 | D80: pat79 | E80: pre79 | F80: Femme | G80: 1949-10-17 | H80: 72 | I80: 2021-09-23 | J80: Oui | K80: Oui | L80: Oui | M80: Oui | N80: 2021-09-23 | O80: SSc cutanée limitée | P80: 2002 | R80: 2000 | T80: =YEAR(N80)-R80 -> 21 | U80: 2002 | W80: Oui | X80: 2002 | Y80: PID limitée | Z80: Non | AD80: Oui | AE80: Non | DB80: Fait | DC80: 2021-09-23 | DF80: Fait | DG80: 2021-09-23 | DH80: Non | DI80: =IF(AND(T80>3,O80="SSc cutanée limitée",W80="Non",Z80="Non"),1,0) -> 0 | DJ80: =IF(AND(T80>3,O80="SSc cutanée limitée",W80="Oui",Y80="PID limitée",Z80="Non"),1,0) -> 1 | DK80: =IF(AND(T80>3,O80="SSc cutanée limitée",W80="Oui",Y80="PID extensive",Z80="Non"),1,0) -> 0 | DL80: =IF(AND(T80>3,O80="SSc cutanée limitée",W80="Non",Z80="Oui"),1,0) -> 0 | DM80: =IF(AND(T80>3,O80="SSc cutanée limitée",W80="Oui",Z80="Oui"),1,0) -> 0 | DN80: =IF(AND($T80>3,$O80="SSc cutanée diffuse",$W80="Non",$Z80="Non"),1,0) -> 0 | DO80: =IF(AND($T80>3,$O80="SSc cutanée diffuse",$W80="Oui",$Y80="PID limitée",$Z80="Non"),1,0) -> 0 | DP80: =IF(AND($T80>3,$O80="SSc cutanée diffuse",$W80="Oui",$Y80="PID extensive",$Z80="Non"),1,0) -> 0 | DQ80: =IF(AND($T80>3,$O80="SSc cutanée diffuse",$W80="Non",$Z80="Oui"),1,0) -> 0 | DR80: =IF(AND($T80>3,$O80="SSc cutanée diffuse",$W80="Oui",$Z80="Oui"),1,0) -> 0 | DS80: =IF(AND($T80<=3,$O80="SSc cutanée limitée",$W80="Non",$Z80="Non"),1,0) -> 0 | DT80: =IF(AND($T80<=3,$O80="SSc cutanée limitée",$W80="Oui",$Y80="PID limitée",$Z80="Non"),1,0) -> 0 | DU80: =IF(AND($T80<=3,$O80="SSc cutanée limitée",$W80="Oui",$Y80="PID extensive",$Z80="Non"),1,0) -> 0 | DV80: =IF(AND($T80<=3,$O80="SSc cutanée limitée",$W80="Non",$Z80="Oui"),1,0) -> 0 | DW80: =IF(AND($T80<=3,$O80="SSc cutanée limitée",$W80="Oui",$Z80="Oui"),1,0) -> 0 | DX80: =IF(AND($T80<=3,$O80="SSc cutanée diffuse",$W80="Non",$Z80="Non"),1,0) -> 0 | DY80: =IF(AND($T80<=3,$O80="SSc cutanée diffuse",$W80="Oui",$Y80="PID limitée",$Z80="Non"),1,0) -> 0 | DZ80: =IF(AND($T80<=3,$O80="SSc cutanée diffuse",$W80="Oui",$Y80="PID extensive",$Z80="Non"),1,0) -> 0 | EA80: =IF(AND($T80<=3,$O80="SSc cutanée diffuse",$W80="Non",$Z80="Oui"),1,0) -> 0 | EB80: =IF(AND($T80<=3,$O80="SSc cutanée diffuse",$W80="Oui",$Z80="Oui"),1,0) -> 0
A81: 716 | B81: 1 | C81: nom80 | D81: pat80 | E81: pre80 | F81: Homme | G81: 1969-11-16 | H81: 52 | I81: 2021-09-23 | J81: Oui | K81: Oui | L81: Oui | M81: Oui | N81: 2021-09-23 | O81: SSc cutanée limitée | P81: 2016 | R81: 2015 | T81: =YEAR(N81)-R81 -> 6 | U81: 2016 | W81: Non | Z81: Non | AD81: Non | AE81: Non | CB81: oui | CC81: ADALATE | CD81: 20 | DB81: Non fait | DF81: Fait | DG81: 2021-09-23 | DH81: Non | DI81: =IF(AND(T81>3,O81="SSc cutanée limitée",W81="Non",Z81="Non"),1,0) -> 1 | DJ81: =IF(AND(T81>3,O81="SSc cutanée limitée",W81="Oui",Y81="PID limitée",Z81="Non"),1,0) -> 0 | DK81: =IF(AND(T81>3,O81="SSc cutanée limitée",W81="Oui",Y81="PID extensive",Z81="Non"),1,0) -> 0 | DL81: =IF(AND(T81>3,O81="SSc cutanée limitée",W81="Non",Z81="Oui"),1,0) -> 0 | DM81: =IF(AND(T81>3,O81="SSc cutanée limitée",W81="Oui",Z81="Oui"),1,0) -> 0 | DN81: =IF(AND($T81>3,$O81="SSc cutanée diffuse",$W81="Non",$Z81="Non"),1,0) -> 0 | DO81: =IF(AND($T81>3,$O81="SSc cutanée diffuse",$W81="Oui",$Y81="PID limitée",$Z81="Non"),1,0) -> 0 | DP81: =IF(AND($T81>3,$O81="SSc cutanée diffuse",$W81="Oui",$Y81="PID extensive",$Z81="Non"),1,0) -> 0 | DQ81: =IF(AND($T81>3,$O81="SSc cutanée diffuse",$W81="Non",$Z81="Oui"),1,0) -> 0 | DR81: =IF(AND($T81>3,$O81="SSc cutanée diffuse",$W81="Oui",$Z81="Oui"),1,0) -> 0 | DS81: =IF(AND($T81<=3,$O81="SSc cutanée limitée",$W81="Non",$Z81="Non"),1,0) -> 0 | DT81: =IF(AND($T81<=3,$O81="SSc cutanée limitée",$W81="Oui",$Y81="PID limitée",$Z81="Non"),1,0) -> 0 | DU81: =IF(AND($T81<=3,$O81="SSc cutanée limitée",$W81="Oui",$Y81="PID extensive",$Z81="Non"),1,0) -> 0 | DV81: =IF(AND($T81<=3,$O81="SSc cutanée limitée",$W81="Non",$Z81="Oui"),1,0) -> 0 | DW81: =IF(AND($T81<=3,$O81="SSc cutanée limitée",$W81="Oui",$Z81="Oui"),1,0) -> 0 | DX81: =IF(AND($T81<=3,$O81="SSc cutanée diffuse",$W81="Non",$Z81="Non"),1,0) -> 0 | DY81: =IF(AND($T81<=3,$O81="SSc cutanée diffuse",$W81="Oui",$Y81="PID limitée",$Z81="Non"),1,0) -> 0 | DZ81: =IF(AND($T81<=3,$O81="SSc cutanée diffuse",$W81="Oui",$Y81="PID extensive",$Z81="Non"),1,0) -> 0 | EA81: =IF(AND($T81<=3,$O81="SSc cutanée diffuse",$W81="Non",$Z81="Oui"),1,0) -> 0 | EB81: =IF(AND($T81<=3,$O81="SSc cutanée diffuse",$W81="Oui",$Z81="Oui"),1,0) -> 0
A82: 718 | B82: 1 | C82: nom81 | D82: pat81 | E82: pre81 | F82: Femme | G82: 1949-05-13 | H82: 72 | I82: 2021-09-24 | J82: Oui | K82: Oui | L82: Oui | M82: Oui | N82: 2021-09-24 | O82: SSc cutanée limitée | P82: 2017 | R82: 2017 | T82: =YEAR(N82)-R82 -> 4 | U82: 2016 | W82: Oui | X82: 2016 | Y82: PID extensive | Z82: Non | AD82: Non | AE82: Non | AF82: oui | DB82: Non fait | DF82: Fait | DG82: 2021-09-24 | DH82: Oui | DI82: =IF(AND(T82>3,O82="SSc cutanée limitée",W82="Non",Z82="Non"),1,0) -> 0 | DJ82: =IF(AND(T82>3,O82="SSc cutanée limitée",W82="Oui",Y82="PID limitée",Z82="Non"),1,0) -> 0 | DK82: =IF(AND(T82>3,O82="SSc cutanée limitée",W82="Oui",Y82="PID extensive",Z82="Non"),1,0) -> 1 | DL82: =IF(AND(T82>3,O82="SSc cutanée limitée",W82="Non",Z82="Oui"),1,0) -> 0 | DM82: =IF(AND(T82>3,O82="SSc cutanée limitée",W82="Oui",Z82="Oui"),1,0) -> 0 | DN82: =IF(AND($T82>3,$O82="SSc cutanée diffuse",$W82="Non",$Z82="Non"),1,0) -> 0 | DO82: =IF(AND($T82>3,$O82="SSc cutanée diffuse",$W82="Oui",$Y82="PID limitée",$Z82="Non"),1,0) -> 0 | DP82: =IF(AND($T82>3,$O82="SSc cutanée diffuse",$W82="Oui",$Y82="PID extensive",$Z82="Non"),1,0) -> 0 | DQ82: =IF(AND($T82>3,$O82="SSc cutanée diffuse",$W82="Non",$Z82="Oui"),1,0) -> 0 | DR82: =IF(AND($T82>3,$O82="SSc cutanée diffuse",$W82="Oui",$Z82="Oui"),1,0) -> 0 | DS82: =IF(AND($T82<=3,$O82="SSc cutanée limitée",$W82="Non",$Z82="Non"),1,0) -> 0 | DT82: =IF(AND($T82<=3,$O82="SSc cutanée limitée",$W82="Oui",$Y82="PID limitée",$Z82="Non"),1,0) -> 0 | DU82: =IF(AND($T82<=3,$O82="SSc cutanée limitée",$W82="Oui",$Y82="PID extensive",$Z82="Non"),1,0) -> 0 | DV82: =IF(AND($T82<=3,$O82="SSc cutanée limitée",$W82="Non",$Z82="Oui"),1,0) -> 0 | DW82: =IF(AND($T82<=3,$O82="SSc cutanée limitée",$W82="Oui",$Z82="Oui"),1,0) -> 0 | DX82: =IF(AND($T82<=3,$O82="SSc cutanée diffuse",$W82="Non",$Z82="Non"),1,0) -> 0 | DY82: =IF(AND($T82<=3,$O82="SSc cutanée diffuse",$W82="Oui",$Y82="PID limitée",$Z82="Non"),1,0) -> 0 | DZ82: =IF(AND($T82<=3,$O82="SSc cutanée diffuse",$W82="Oui",$Y82="PID extensive",$Z82="Non"),1,0) -> 0 | EA82: =IF(AND($T82<=3,$O82="SSc cutanée diffuse",$W82="Non",$Z82="Oui"),1,0) -> 0 | EB82: =IF(AND($T82<=3,$O82="SSc cutanée diffuse",$W82="Oui",$Z82="Oui"),1,0) -> 0
A83: 720 | B83: 1 | C83: nom82 | D83: pat82 | E83: pre82 | F83: Femme | G83: 1985-11-03 | H83: 36 | I83: 2021-09-24 | J83: Oui | K83: Oui | L83: Oui | M83: Oui | N83: 2021-09-24 | O83: SSc cutanée limitée | P83: 2014 | R83: 2006 | T83: =YEAR(N83)-R83 -> 15 | U83: 2013 | W83: Non | Z83: Non | AD83: Non | AE83: Non | CB83: oui | CC83: BITILDIEM | CD83: 180 | DB83: Non fait | DF83: Fait | DG83: 2021-09-24 | DH83: Non | DI83: =IF(AND(T83>3,O83="SSc cutanée limitée",W83="Non",Z83="Non"),1,0) -> 1 | DJ83: =IF(AND(T83>3,O83="SSc cutanée limitée",W83="Oui",Y83="PID limitée",Z83="Non"),1,0) -> 0 | DK83: =IF(AND(T83>3,O83="SSc cutanée limitée",W83="Oui",Y83="PID extensive",Z83="Non"),1,0) -> 0 | DL83: =IF(AND(T83>3,O83="SSc cutanée limitée",W83="Non",Z83="Oui"),1,0) -> 0 | DM83: =IF(AND(T83>3,O83="SSc cutanée limitée",W83="Oui",Z83="Oui"),1,0) -> 0 | DN83: =IF(AND($T83>3,$O83="SSc cutanée diffuse",$W83="Non",$Z83="Non"),1,0) -> 0 | DO83: =IF(AND($T83>3,$O83="SSc cutanée diffuse",$W83="Oui",$Y83="PID limitée",$Z83="Non"),1,0) -> 0 | DP83: =IF(AND($T83>3,$O83="SSc cutanée diffuse",$W83="Oui",$Y83="PID extensive",$Z83="Non"),1,0) -> 0 | DQ83: =IF(AND($T83>3,$O83="SSc cutanée diffuse",$W83="Non",$Z83="Oui"),1,0) -> 0 | DR83: =IF(AND($T83>3,$O83="SSc cutanée diffuse",$W83="Oui",$Z83="Oui"),1,0) -> 0 | DS83: =IF(AND($T83<=3,$O83="SSc cutanée limitée",$W83="Non",$Z83="Non"),1,0) -> 0 | DT83: =IF(AND($T83<=3,$O83="SSc cutanée limitée",$W83="Oui",$Y83="PID limitée",$Z83="Non"),1,0) -> 0 | DU83: =IF(AND($T83<=3,$O83="SSc cutanée limitée",$W83="Oui",$Y83="PID extensive",$Z83="Non"),1,0) -> 0 | DV83: =IF(AND($T83<=3,$O83="SSc cutanée limitée",$W83="Non",$Z83="Oui"),1,0) -> 0 | DW83: =IF(AND($T83<=3,$O83="SSc cutanée limitée",$W83="Oui",$Z83="Oui"),1,0) -> 0 | DX83: =IF(AND($T83<=3,$O83="SSc cutanée diffuse",$W83="Non",$Z83="Non"),1,0) -> 0 | DY83: =IF(AND($T83<=3,$O83="SSc cutanée diffuse",$W83="Oui",$Y83="PID limitée",$Z83="Non"),1,0) -> 0 | DZ83: =IF(AND($T83<=3,$O83="SSc cutanée diffuse",$W83="Oui",$Y83="PID extensive",$Z83="Non"),1,0) -> 0 | EA83: =IF(AND($T83<=3,$O83="SSc cutanée diffuse",$W83="Non",$Z83="Oui"),1,0) -> 0 | EB83: =IF(AND($T83<=3,$O83="SSc cutanée diffuse",$W83="Oui",$Z83="Oui"),1,0) -> 0
A84: 726 | B84: 1 | C84: nom83 | D84: pat83 | E84: pre83 | F84: Femme | G84: 1968-07-14 | H84: 53 | I84: 2021-09-29 | J84: Oui | K84: Oui | L84: Oui | M84: Oui | N84: 2021-09-29 | O84: SSc cutanée diffuse | P84: 2015 | R84: 2014 | T84: =YEAR(N84)-R84 -> 7 | U84: 2015 | W84: Oui | X84: 2017 | Y84: PID limitée | Z84: Non | AD84: Oui | AE84: Oui | AN84: oui | AO84: Myfortic | AP84: 1440 | CB84: oui | CC84: amlpodipine | CD84: 10 | DB84: Non fait | DF84: Fait | DG84: 2021-09-29 | DH84: Non | DI84: =IF(AND(T84>3,O84="SSc cutanée limitée",W84="Non",Z84="Non"),1,0) -> 0 | DJ84: =IF(AND(T84>3,O84="SSc cutanée limitée",W84="Oui",Y84="PID limitée",Z84="Non"),1,0) -> 0 | DK84: =IF(AND(T84>3,O84="SSc cutanée limitée",W84="Oui",Y84="PID extensive",Z84="Non"),1,0) -> 0 | DL84: =IF(AND(T84>3,O84="SSc cutanée limitée",W84="Non",Z84="Oui"),1,0) -> 0 | DM84: =IF(AND(T84>3,O84="SSc cutanée limitée",W84="Oui",Z84="Oui"),1,0) -> 0 | DN84: =IF(AND($T84>3,$O84="SSc cutanée diffuse",$W84="Non",$Z84="Non"),1,0) -> 0 | DO84: =IF(AND($T84>3,$O84="SSc cutanée diffuse",$W84="Oui",$Y84="PID limitée",$Z84="Non"),1,0) -> 1 | DP84: =IF(AND($T84>3,$O84="SSc cutanée diffuse",$W84="Oui",$Y84="PID extensive",$Z84="Non"),1,0) -> 0 | DQ84: =IF(AND($T84>3,$O84="SSc cutanée diffuse",$W84="Non",$Z84="Oui"),1,0) -> 0 | DR84: =IF(AND($T84>3,$O84="SSc cutanée diffuse",$W84="Oui",$Z84="Oui"),1,0) -> 0 | DS84: =IF(AND($T84<=3,$O84="SSc cutanée limitée",$W84="Non",$Z84="Non"),1,0) -> 0 | DT84: =IF(AND($T84<=3,$O84="SSc cutanée limitée",$W84="Oui",$Y84="PID limitée",$Z84="Non"),1,0) -> 0 | DU84: =IF(AND($T84<=3,$O84="SSc cutanée limitée",$W84="Oui",$Y84="PID extensive",$Z84="Non"),1,0) -> 0 | DV84: =IF(AND($T84<=3,$O84="SSc cutanée limitée",$W84="Non",$Z84="Oui"),1,0) -> 0 | DW84: =IF(AND($T84<=3,$O84="SSc cutanée limitée",$W84="Oui",$Z84="Oui"),1,0) -> 0 | DX84: =IF(AND($T84<=3,$O84="SSc cutanée diffuse",$W84="Non",$Z84="Non"),1,0) -> 0 | DY84: =IF(AND($T84<=3,$O84="SSc cutanée diffuse",$W84="Oui",$Y84="PID limitée",$Z84="Non"),1,0) -> 0 | DZ84: =IF(AND($T84<=3,$O84="SSc cutanée diffuse",$W84="Oui",$Y84="PID extensive",$Z84="Non"),1,0) -> 0 | EA84: =IF(AND($T84<=3,$O84="SSc cutanée diffuse",$W84="Non",$Z84="Oui"),1,0) -> 0 | EB84: =IF(AND($T84<=3,$O84="SSc cutanée diffuse",$W84="Oui",$Z84="Oui"),1,0) -> 0
A85: 730 | B85: 1 | C85: nom84 | D85: pat84 | E85: pre84 | F85: Femme | G85: 1951-10-03 | H85: 70 | I85: 2021-09-30 | J85: Oui | K85: Oui | L85: Oui | M85: Oui | N85: 2021-09-30 | O85: SSc cutanée limitée | P85: 2018 | R85: 2010 | T85: =YEAR(N85)-R85 -> 11 | U85: 2018 | W85: Non | Z85: Non | AD85: Non | AE85: Non | DB85: Non fait | DF85: Fait | DG85: 2021-09-30 | DH85: Oui | DI85: =IF(AND(T85>3,O85="SSc cutanée limitée",W85="Non",Z85="Non"),1,0) -> 1 | DJ85: =IF(AND(T85>3,O85="SSc cutanée limitée",W85="Oui",Y85="PID limitée",Z85="Non"),1,0) -> 0 | DK85: =IF(AND(T85>3,O85="SSc cutanée limitée",W85="Oui",Y85="PID extensive",Z85="Non"),1,0) -> 0 | DL85: =IF(AND(T85>3,O85="SSc cutanée limitée",W85="Non",Z85="Oui"),1,0) -> 0 | DM85: =IF(AND(T85>3,O85="SSc cutanée limitée",W85="Oui",Z85="Oui"),1,0) -> 0 | DN85: =IF(AND($T85>3,$O85="SSc cutanée diffuse",$W85="Non",$Z85="Non"),1,0) -> 0 | DO85: =IF(AND($T85>3,$O85="SSc cutanée diffuse",$W85="Oui",$Y85="PID limitée",$Z85="Non"),1,0) -> 0 | DP85: =IF(AND($T85>3,$O85="SSc cutanée diffuse",$W85="Oui",$Y85="PID extensive",$Z85="Non"),1,0) -> 0 | DQ85: =IF(AND($T85>3,$O85="SSc cutanée diffuse",$W85="Non",$Z85="Oui"),1,0) -> 0 | DR85: =IF(AND($T85>3,$O85="SSc cutanée diffuse",$W85="Oui",$Z85="Oui"),1,0) -> 0 | DS85: =IF(AND($T85<=3,$O85="SSc cutanée limitée",$W85="Non",$Z85="Non"),1,0) -> 0 | DT85: =IF(AND($T85<=3,$O85="SSc cutanée limitée",$W85="Oui",$Y85="PID limitée",$Z85="Non"),1,0) -> 0 | DU85: =IF(AND($T85<=3,$O85="SSc cutanée limitée",$W85="Oui",$Y85="PID extensive",$Z85="Non"),1,0) -> 0 | DV85: =IF(AND($T85<=3,$O85="SSc cutanée limitée",$W85="Non",$Z85="Oui"),1,0) -> 0 | DW85: =IF(AND($T85<=3,$O85="SSc cutanée limitée",$W85="Oui",$Z85="Oui"),1,0) -> 0 | DX85: =IF(AND($T85<=3,$O85="SSc cutanée diffuse",$W85="Non",$Z85="Non"),1,0) -> 0 | DY85: =IF(AND($T85<=3,$O85="SSc cutanée diffuse",$W85="Oui",$Y85="PID limitée",$Z85="Non"),1,0) -> 0 | DZ85: =IF(AND($T85<=3,$O85="SSc cutanée diffuse",$W85="Oui",$Y85="PID extensive",$Z85="Non"),1,0) -> 0 | EA85: =IF(AND($T85<=3,$O85="SSc cutanée diffuse",$W85="Non",$Z85="Oui"),1,0) -> 0 | EB85: =IF(AND($T85<=3,$O85="SSc cutanée diffuse",$W85="Oui",$Z85="Oui"),1,0) -> 0
A86: 732 | B86: 1 | C86: nom85 | D86: pat85 | E86: pre85 | F86: Femme | G86: 1961-04-12 | H86: 60 | I86: 2021-10-01 | J86: Oui | K86: Oui | L86: Oui | M86: Oui | N86: 2021-10-01 | O86: SSc cutanée limitée | P86: 2000 | R86: 1993 | T86: =YEAR(N86)-R86 -> 28 | U86: 2000 | W86: Non | Z86: Non | AD86: Non | AE86: Non | DB86: Non fait | DF86: Fait | DG86: 2021-10-01 | DH86: Non | DI86: =IF(AND(T86>3,O86="SSc cutanée limitée",W86="Non",Z86="Non"),1,0) -> 1 | DJ86: =IF(AND(T86>3,O86="SSc cutanée limitée",W86="Oui",Y86="PID limitée",Z86="Non"),1,0) -> 0 | DK86: =IF(AND(T86>3,O86="SSc cutanée limitée",W86="Oui",Y86="PID extensive",Z86="Non"),1,0) -> 0 | DL86: =IF(AND(T86>3,O86="SSc cutanée limitée",W86="Non",Z86="Oui"),1,0) -> 0 | DM86: =IF(AND(T86>3,O86="SSc cutanée limitée",W86="Oui",Z86="Oui"),1,0) -> 0 | DN86: =IF(AND($T86>3,$O86="SSc cutanée diffuse",$W86="Non",$Z86="Non"),1,0) -> 0 | DO86: =IF(AND($T86>3,$O86="SSc cutanée diffuse",$W86="Oui",$Y86="PID limitée",$Z86="Non"),1,0) -> 0 | DP86: =IF(AND($T86>3,$O86="SSc cutanée diffuse",$W86="Oui",$Y86="PID extensive",$Z86="Non"),1,0) -> 0 | DQ86: =IF(AND($T86>3,$O86="SSc cutanée diffuse",$W86="Non",$Z86="Oui"),1,0) -> 0 | DR86: =IF(AND($T86>3,$O86="SSc cutanée diffuse",$W86="Oui",$Z86="Oui"),1,0) -> 0 | DS86: =IF(AND($T86<=3,$O86="SSc cutanée limitée",$W86="Non",$Z86="Non"),1,0) -> 0 | DT86: =IF(AND($T86<=3,$O86="SSc cutanée limitée",$W86="Oui",$Y86="PID limitée",$Z86="Non"),1,0) -> 0 | DU86: =IF(AND($T86<=3,$O86="SSc cutanée limitée",$W86="Oui",$Y86="PID extensive",$Z86="Non"),1,0) -> 0 | DV86: =IF(AND($T86<=3,$O86="SSc cutanée limitée",$W86="Non",$Z86="Oui"),1,0) -> 0 | DW86: =IF(AND($T86<=3,$O86="SSc cutanée limitée",$W86="Oui",$Z86="Oui"),1,0) -> 0 | DX86: =IF(AND($T86<=3,$O86="SSc cutanée diffuse",$W86="Non",$Z86="Non"),1,0) -> 0 | DY86: =IF(AND($T86<=3,$O86="SSc cutanée diffuse",$W86="Oui",$Y86="PID limitée",$Z86="Non"),1,0) -> 0 | DZ86: =IF(AND($T86<=3,$O86="SSc cutanée diffuse",$W86="Oui",$Y86="PID extensive",$Z86="Non"),1,0) -> 0 | EA86: =IF(AND($T86<=3,$O86="SSc cutanée diffuse",$W86="Non",$Z86="Oui"),1,0) -> 0 | EB86: =IF(AND($T86<=3,$O86="SSc cutanée diffuse",$W86="Oui",$Z86="Oui"),1,0) -> 0
A87: 742 | B87: 1 | C87: nom86 | D87: pat86 | E87: pre86 | F87: Femme | G87: 1944-02-29 | H87: 77 | I87: 2021-10-04 | J87: Oui | K87: Oui | L87: Oui | M87: Oui | N87: 2021-10-04 | O87: SSc sine scleroderma | P87: 2005 | R87: 1994 | T87: =YEAR(N87)-R87 -> 27 | U87: 2005 | W87: Non | Z87: Non | AD87: Non | AE87: Non | CB87: oui | CC87: LERCANIDIPINE | CD87: 20 | DB87: Non fait | DF87: Fait | DG87: 2021-10-04 | DH87: Non | DI87: =IF(AND(T87>3,O87="SSc cutanée limitée",W87="Non",Z87="Non"),1,0) -> 0 | DJ87: =IF(AND(T87>3,O87="SSc cutanée limitée",W87="Oui",Y87="PID limitée",Z87="Non"),1,0) -> 0 | DK87: =IF(AND(T87>3,O87="SSc cutanée limitée",W87="Oui",Y87="PID extensive",Z87="Non"),1,0) -> 0 | DL87: =IF(AND(T87>3,O87="SSc cutanée limitée",W87="Non",Z87="Oui"),1,0) -> 0 | DM87: =IF(AND(T87>3,O87="SSc cutanée limitée",W87="Oui",Z87="Oui"),1,0) -> 0 | DN87: =IF(AND($T87>3,$O87="SSc cutanée diffuse",$W87="Non",$Z87="Non"),1,0) -> 0 | DO87: =IF(AND($T87>3,$O87="SSc cutanée diffuse",$W87="Oui",$Y87="PID limitée",$Z87="Non"),1,0) -> 0 | DP87: =IF(AND($T87>3,$O87="SSc cutanée diffuse",$W87="Oui",$Y87="PID extensive",$Z87="Non"),1,0) -> 0 | DQ87: =IF(AND($T87>3,$O87="SSc cutanée diffuse",$W87="Non",$Z87="Oui"),1,0) -> 0 | DR87: =IF(AND($T87>3,$O87="SSc cutanée diffuse",$W87="Oui",$Z87="Oui"),1,0) -> 0 | DS87: =IF(AND($T87<=3,$O87="SSc cutanée limitée",$W87="Non",$Z87="Non"),1,0) -> 0 | DT87: =IF(AND($T87<=3,$O87="SSc cutanée limitée",$W87="Oui",$Y87="PID limitée",$Z87="Non"),1,0) -> 0 | DU87: =IF(AND($T87<=3,$O87="SSc cutanée limitée",$W87="Oui",$Y87="PID extensive",$Z87="Non"),1,0) -> 0 | DV87: =IF(AND($T87<=3,$O87="SSc cutanée limitée",$W87="Non",$Z87="Oui"),1,0) -> 0 | DW87: =IF(AND($T87<=3,$O87="SSc cutanée limitée",$W87="Oui",$Z87="Oui"),1,0) -> 0 | DX87: =IF(AND($T87<=3,$O87="SSc cutanée diffuse",$W87="Non",$Z87="Non"),1,0) -> 0 | DY87: =IF(AND($T87<=3,$O87="SSc cutanée diffuse",$W87="Oui",$Y87="PID limitée",$Z87="Non"),1,0) -> 0 | DZ87: =IF(AND($T87<=3,$O87="SSc cutanée diffuse",$W87="Oui",$Y87="PID extensive",$Z87="Non"),1,0) -> 0 | EA87: =IF(AND($T87<=3,$O87="SSc cutanée diffuse",$W87="Non",$Z87="Oui"),1,0) -> 0 | EB87: =IF(AND($T87<=3,$O87="SSc cutanée diffuse",$W87="Oui",$Z87="Oui"),1,0) -> 0
A88: 744 | B88: 1 | C88: nom87 | D88: pat87 | E88: pre87 | F88: Femme | G88: 1971-06-09 | H88: 50 | I88: 2021-10-05 | J88: Oui | K88: Oui | L88: Oui | M88: Oui | N88: 2021-10-05 | O88: SSc cutanée limitée | P88: 2010 | R88: 2002 | T88: =YEAR(N88)-R88 -> 19 | U88: 2010 | W88: Non | Z88: Non | AD88: Oui | AE88: Non | AF88: oui | DB88: Non fait | DF88: Fait | DG88: 2021-10-05 | DI88: =IF(AND(T88>3,O88="SSc cutanée limitée",W88="Non",Z88="Non"),1,0) -> 1 | DJ88: =IF(AND(T88>3,O88="SSc cutanée limitée",W88="Oui",Y88="PID limitée",Z88="Non"),1,0) -> 0 | DK88: =IF(AND(T88>3,O88="SSc cutanée limitée",W88="Oui",Y88="PID extensive",Z88="Non"),1,0) -> 0 | DL88: =IF(AND(T88>3,O88="SSc cutanée limitée",W88="Non",Z88="Oui"),1,0) -> 0 | DM88: =IF(AND(T88>3,O88="SSc cutanée limitée",W88="Oui",Z88="Oui"),1,0) -> 0 | DN88: =IF(AND($T88>3,$O88="SSc cutanée diffuse",$W88="Non",$Z88="Non"),1,0) -> 0 | DO88: =IF(AND($T88>3,$O88="SSc cutanée diffuse",$W88="Oui",$Y88="PID limitée",$Z88="Non"),1,0) -> 0 | DP88: =IF(AND($T88>3,$O88="SSc cutanée diffuse",$W88="Oui",$Y88="PID extensive",$Z88="Non"),1,0) -> 0 | DQ88: =IF(AND($T88>3,$O88="SSc cutanée diffuse",$W88="Non",$Z88="Oui"),1,0) -> 0 | DR88: =IF(AND($T88>3,$O88="SSc cutanée diffuse",$W88="Oui",$Z88="Oui"),1,0) -> 0 | DS88: =IF(AND($T88<=3,$O88="SSc cutanée limitée",$W88="Non",$Z88="Non"),1,0) -> 0 | DT88: =IF(AND($T88<=3,$O88="SSc cutanée limitée",$W88="Oui",$Y88="PID limitée",$Z88="Non"),1,0) -> 0 | DU88: =IF(AND($T88<=3,$O88="SSc cutanée limitée",$W88="Oui",$Y88="PID extensive",$Z88="Non"),1,0) -> 0 | DV88: =IF(AND($T88<=3,$O88="SSc cutanée limitée",$W88="Non",$Z88="Oui"),1,0) -> 0 | DW88: =IF(AND($T88<=3,$O88="SSc cutanée limitée",$W88="Oui",$Z88="Oui"),1,0) -> 0 | DX88: =IF(AND($T88<=3,$O88="SSc cutanée diffuse",$W88="Non",$Z88="Non"),1,0) -> 0 | DY88: =IF(AND($T88<=3,$O88="SSc cutanée diffuse",$W88="Oui",$Y88="PID limitée",$Z88="Non"),1,0) -> 0 | DZ88: =IF(AND($T88<=3,$O88="SSc cutanée diffuse",$W88="Oui",$Y88="PID extensive",$Z88="Non"),1,0) -> 0 | EA88: =IF(AND($T88<=3,$O88="SSc cutanée diffuse",$W88="Non",$Z88="Oui"),1,0) -> 0 | EB88: =IF(AND($T88<=3,$O88="SSc cutanée diffuse",$W88="Oui",$Z88="Oui"),1,0) -> 0
A89: 746 | B89: 1 | C89: nom88 | D89: pat88 | E89: pre88 | F89: Femme | G89: 1960-11-07 | H89: 61 | I89: 2021-10-05 | J89: Oui | K89: Oui | L89: Oui | M89: Oui | N89: 2021-10-05 | O89: SSc cutanée limitée | P89: 1999 | R89: 1997 | T89: =YEAR(N89)-R89 -> 24 | U89: 1999 | W89: Non | Z89: Oui | AA89: groupe 2 (HTP post-capillaire sur atteinte cardiaque gauche),groupe 3 (HTP pré-capillaire sur pathologie respiratoire chronique) | AD89: Non | AE89: Oui | DB89: Non fait | DF89: Fait | DG89: 2021-10-05 | DH89: Oui | DI89: =IF(AND(T89>3,O89="SSc cutanée limitée",W89="Non",Z89="Non"),1,0) -> 0 | DJ89: =IF(AND(T89>3,O89="SSc cutanée limitée",W89="Oui",Y89="PID limitée",Z89="Non"),1,0) -> 0 | DK89: =IF(AND(T89>3,O89="SSc cutanée limitée",W89="Oui",Y89="PID extensive",Z89="Non"),1,0) -> 0 | DL89: =IF(AND(T89>3,O89="SSc cutanée limitée",W89="Non",Z89="Oui"),1,0) -> 1 | DM89: =IF(AND(T89>3,O89="SSc cutanée limitée",W89="Oui",Z89="Oui"),1,0) -> 0 | DN89: =IF(AND($T89>3,$O89="SSc cutanée diffuse",$W89="Non",$Z89="Non"),1,0) -> 0 | DO89: =IF(AND($T89>3,$O89="SSc cutanée diffuse",$W89="Oui",$Y89="PID limitée",$Z89="Non"),1,0) -> 0 | DP89: =IF(AND($T89>3,$O89="SSc cutanée diffuse",$W89="Oui",$Y89="PID extensive",$Z89="Non"),1,0) -> 0 | DQ89: =IF(AND($T89>3,$O89="SSc cutanée diffuse",$W89="Non",$Z89="Oui"),1,0) -> 0 | DR89: =IF(AND($T89>3,$O89="SSc cutanée diffuse",$W89="Oui",$Z89="Oui"),1,0) -> 0 | DS89: =IF(AND($T89<=3,$O89="SSc cutanée limitée",$W89="Non",$Z89="Non"),1,0) -> 0 | DT89: =IF(AND($T89<=3,$O89="SSc cutanée limitée",$W89="Oui",$Y89="PID limitée",$Z89="Non"),1,0) -> 0 | DU89: =IF(AND($T89<=3,$O89="SSc cutanée limitée",$W89="Oui",$Y89="PID extensive",$Z89="Non"),1,0) -> 0 | DV89: =IF(AND($T89<=3,$O89="SSc cutanée limitée",$W89="Non",$Z89="Oui"),1,0) -> 0 | DW89: =IF(AND($T89<=3,$O89="SSc cutanée limitée",$W89="Oui",$Z89="Oui"),1,0) -> 0 | DX89: =IF(AND($T89<=3,$O89="SSc cutanée diffuse",$W89="Non",$Z89="Non"),1,0) -> 0 | DY89: =IF(AND($T89<=3,$O89="SSc cutanée diffuse",$W89="Oui",$Y89="PID limitée",$Z89="Non"),1,0) -> 0 | DZ89: =IF(AND($T89<=3,$O89="SSc cutanée diffuse",$W89="Oui",$Y89="PID extensive",$Z89="Non"),1,0) -> 0 | EA89: =IF(AND($T89<=3,$O89="SSc cutanée diffuse",$W89="Non",$Z89="Oui"),1,0) -> 0 | EB89: =IF(AND($T89<=3,$O89="SSc cutanée diffuse",$W89="Oui",$Z89="Oui"),1,0) -> 0
