Workbook

Sheet Feuil1
A1: ID | B1: GENE | C1: Gène_Exons | D1: Taille pb | E1: Amorces | F1: M13 | G1: Taq | H1: Hybridation
B2: POMT1 | C2: {=IFERROR(INDEX(Feuil2!B:B,SMALL(IF(ISNUMBER(SEARCH($B$2,Feuil2!$A$2:$A$30)),ROW(Feuil2!$A$2:$A$30)),ROWS($1:1))),"")} -> POMT1_EX2 | D2: {=IFERROR(INDEX(Feuil2!C:C,SMALL(IF(ISNUMBER(SEARCH($B$2,Feuil2!$A$2:$A$30)),ROW(Feuil2!$A$2:$A$30)),ROWS($1:1))),"")} -> 368 | E2: {=IFERROR(INDEX(Feuil2!D:D,SMALL(IF(ISNUMBER(SEARCH($B$2,Feuil2!$A$2:$A$30)),ROW(Feuil2!$A$2:$A$30)),ROWS($1:1))),"")} -> 2Sbis_2R | F2: {=IFERROR(INDEX(Feuil2!E:E,SMALL(IF(ISNUMBER(SEARCH($B$2,Feuil2!$A$2:$A$30)),ROW(Feuil2!$A$2:$A$30)),ROWS($1:1))),"")} -> O | G2: {=IFERROR(INDEX(Feuil2!F:F,SMALL(IF(ISNUMBER(SEARCH($B$2,Feuil2!$A$2:$A$30)),ROW(Feuil2!$A$2:$A$30)),ROWS($1:1))),"")} -> TAQ_360_1 | H2: {=IFERROR(INDEX(Feuil2!G:G,SMALL(IF(ISNUMBER(SEARCH($B$2,Feuil2!$A$2:$A$30)),ROW(Feuil2!$A$2:$A$30)),ROWS($1:1))),"")} -> 62°C
C3: {=IFERROR(INDEX(Feuil2!B:B,SMALL(IF(ISNUMBER(SEARCH($B$2,Feuil2!$A$2:$A$30)),ROW(Feuil2!$A$2:$A$30)),ROWS($1:2))),"")} -> POMT1_EX3,4 | D3: {=IFERROR(INDEX(Feuil2!C:C,SMALL(IF(ISNUMBER(SEARCH($B$2,Feuil2!$A$2:$A$30)),ROW(Feuil2!$A$2:$A$30)),ROWS($1:2))),"")} -> 512 | E3: {=IFERROR(INDEX(Feuil2!D:D,SMALL(IF(ISNUMBER(SEARCH($B$2,Feuil2!$A$2:$A$30)),ROW(Feuil2!$A$2:$A$30)),ROWS($1:2))),"")} -> 3S_4R | F3: {=IFERROR(INDEX(Feuil2!E:E,SMALL(IF(ISNUMBER(SEARCH($B$2,Feuil2!$A$2:$A$30)),ROW(Feuil2!$A$2:$A$30)),ROWS($1:2))),"")} -> O | G3: {=IFERROR(INDEX(Feuil2!F:F,SMALL(IF(ISNUMBER(SEARCH($B$2,Feuil2!$A$2:$A$30)),ROW(Feuil2!$A$2:$A$30)),ROWS($1:2))),"")} -> TAQ_360_1 | H3: {=IFERROR(INDEX(Feuil2!G:G,SMALL(IF(ISNUMBER(SEARCH($B$2,Feuil2!$A$2:$A$30)),ROW(Feuil2!$A$2:$A$30)),ROWS($1:2))),"")} -> 62°C
C4: {=IFERROR(INDEX(Feuil2!B:B,SMALL(IF(ISNUMBER(SEARCH($B$2,Feuil2!$A$2:$A$30)),ROW(Feuil2!$A$2:$A$30)),ROWS($1:3))),"")} -> POMT1_EX5 | D4: {=IFERROR(INDEX(Feuil2!C:C,SMALL(IF(ISNUMBER(SEARCH($B$2,Feuil2!$A$2:$A$30)),ROW(Feuil2!$A$2:$A$30)),ROWS($1:3))),"")} -> 376 | E4: {=IFERROR(INDEX(Feuil2!D:D,SMALL(IF(ISNUMBER(SEARCH($B$2,Feuil2!$A$2:$A$30)),ROW(Feuil2!$A$2:$A$30)),ROWS($1:3))),"")} -> 5Sbis_5R | F4: {=IFERROR(INDEX(Feuil2!E:E,SMALL(IF(ISNUMBER(SEARCH($B$2,Feuil2!$A$2:$A$30)),ROW(Feuil2!$A$2:$A$30)),ROWS($1:3))),"")} -> O | G4: {=IFERROR(INDEX(Feuil2!F:F,SMALL(IF(ISNUMBER(SEARCH($B$2,Feuil2!$A$2:$A$30)),ROW(Feuil2!$A$2:$A$30)),ROWS($1:3))),"")} -> TAQ_360_1 | H4: {=IFERROR(INDEX(Feuil2!G:G,SMALL(IF(ISNUMBER(SEARCH($B$2,Feuil2!$A$2:$A$30)),ROW(Feuil2!$A$2:$A$30)),ROWS($1:3))),"")} -> 62°C
C5: {=IFERROR(INDEX(Feuil2!B:B,SMALL(IF(ISNUMBER(SEARCH($B$2,Feuil2!$A$2:$A$30)),ROW(Feuil2!$A$2:$A$30)),ROWS($1:4))),"")} -> POMT1_EX6 | D5: {=IFERROR(INDEX(Feuil2!C:C,SMALL(IF(ISNUMBER(SEARCH($B$2,Feuil2!$A$2:$A$30)),ROW(Feuil2!$A$2:$A$30)),ROWS($1:4))),"")} -> 316 | E5: {=IFERROR(INDEX(Feuil2!D:D,SMALL(IF(ISNUMBER(SEARCH($B$2,Feuil2!$A$2:$A$30)),ROW(Feuil2!$A$2:$A$30)),ROWS($1:4))),"")} -> 6S_6R | F5: {=IFERROR(INDEX(Feuil2!E:E,SMALL(IF(ISNUMBER(SEARCH($B$2,Feuil2!$A$2:$A$30)),ROW(Feuil2!$A$2:$A$30)),ROWS($1:4))),"")} -> O | G5: {=IFERROR(INDEX(Feuil2!F:F,SMALL(IF(ISNUMBER(SEARCH($B$2,Feuil2!$A$2:$A$30)),ROW(Feuil2!$A$2:$A$30)),ROWS($1:4))),"")} -> TAQ_360_1 | H5: {=IFERROR(INDEX(Feuil2!G:G,SMALL(IF(ISNUMBER(SEARCH($B$2,Feuil2!$A$2:$A$30)),ROW(Feuil2!$A$2:$A$30)),ROWS($1:4))),"")} -> 62°C
C6: {=IFERROR(INDEX(Feuil2!B:B,SMALL(IF(ISNUMBER(SEARCH($B$2,Feuil2!$A$2:$A$30)),ROW(Feuil2!$A$2:$A$30)),ROWS($1:5))),"")} -> POMT1_EX7,8,9 | D6: {=IFERROR(INDEX(Feuil2!C:C,SMALL(IF(ISNUMBER(SEARCH($B$2,Feuil2!$A$2:$A$30)),ROW(Feuil2!$A$2:$A$30)),ROWS($1:5))),"")} -> 890 | E6: {=IFERROR(INDEX(Feuil2!D:D,SMALL(IF(ISNUMBER(SEARCH($B$2,Feuil2!$A$2:$A$30)),ROW(Feuil2!$A$2:$A$30)),ROWS($1:5))),"")} -> 7S_9R | F6: {=IFERROR(INDEX(Feuil2!E:E,SMALL(IF(ISNUMBER(SEARCH($B$2,Feuil2!$A$2:$A$30)),ROW(Feuil2!$A$2:$A$30)),ROWS($1:5))),"")} -> O | G6: {=IFERROR(INDEX(Feuil2!F:F,SMALL(IF(ISNUMBER(SEARCH($B$2,Feuil2!$A$2:$A$30)),ROW(Feuil2!$A$2:$A$30)),ROWS($1:5))),"")} -> TAQ_360_1 | H6: {=IFERROR(INDEX(Feuil2!G:G,SMALL(IF(ISNUMBER(SEARCH($B$2,Feuil2!$A$2:$A$30)),ROW(Feuil2!$A$2:$A$30)),ROWS($1:5))),"")} -> 62°C
C7: {=IFERROR(INDEX(Feuil2!B:B,SMALL(IF(ISNUMBER(SEARCH($B$2,Feuil2!$A$2:$A$30)),ROW(Feuil2!$A$2:$A$30)),ROWS($1:6))),"")} -> POMT1_EX10,11 | D7: {=IFERROR(INDEX(Feuil2!C:C,SMALL(IF(ISNUMBER(SEARCH($B$2,Feuil2!$A$2:$A$30)),ROW(Feuil2!$A$2:$A$30)),ROWS($1:6))),"")} -> 1015 | E7: {=IFERROR(INDEX(Feuil2!D:D,SMALL(IF(ISNUMBER(SEARCH($B$2,Feuil2!$A$2:$A$30)),ROW(Feuil2!$A$2:$A$30)),ROWS($1:6))),"")} -> 10S_11R | F7: {=IFERROR(INDEX(Feuil2!E:E,SMALL(IF(ISNUMBER(SEARCH($B$2,Feuil2!$A$2:$A$30)),ROW(Feuil2!$A$2:$A$30)),ROWS($1:6))),"")} -> O | G7: {=IFERROR(INDEX(Feuil2!F:F,SMALL(IF(ISNUMBER(SEARCH($B$2,Feuil2!$A$2:$A$30)),ROW(Feuil2!$A$2:$A$30)),ROWS($1:6))),"")} -> TAQ_360_1 | H7: {=IFERROR(INDEX(Feuil2!G:G,SMALL(IF(ISNUMBER(SEARCH($B$2,Feuil2!$A$2:$A$30)),ROW(Feuil2!$A$2:$A$30)),ROWS($1:6))),"")} -> 62°C
C8: {=IFERROR(INDEX(Feuil2!B:B,SMALL(IF(ISNUMBER(SEARCH($B$2,Feuil2!$A$2:$A$30)),ROW(Feuil2!$A$2:$A$30)),ROWS($1:7))),"")} -> POMT1_EX12 | D8: {=IFERROR(INDEX(Feuil2!C:C,SMALL(IF(ISNUMBER(SEARCH($B$2,Feuil2!$A$2:$A$30)),ROW(Feuil2!$A$2:$A$30)),ROWS($1:7))),"")} -> 222 | E8: {=IFERROR(INDEX(Feuil2!D:D,SMALL(IF(ISNUMBER(SEARCH($B$2,Feuil2!$A$2:$A$30)),ROW(Feuil2!$A$2:$A$30)),ROWS($1:7))),"")} -> 12S_12R | F8: {=IFERROR(INDEX(Feuil2!E:E,SMALL(IF(ISNUMBER(SEARCH($B$2,Feuil2!$A$2:$A$30)),ROW(Feuil2!$A$2:$A$30)),ROWS($1:7))),"")} -> O | G8: {=IFERROR(INDEX(Feuil2!F:F,SMALL(IF(ISNUMBER(SEARCH($B$2,Feuil2!$A$2:$A$30)),ROW(Feuil2!$A$2:$A$30)),ROWS($1:7))),"")} -> TAQ_360_1 | H8: {=IFERROR(INDEX(Feuil2!G:G,SMALL(IF(ISNUMBER(SEARCH($B$2,Feuil2!$A$2:$A$30)),ROW(Feuil2!$A$2:$A$30)),ROWS($1:7))),"")} -> 62°C
C9: {=IFERROR(INDEX(Feuil2!B:B,SMALL(IF(ISNUMBER(SEARCH($B$2,Feuil2!$A$2:$A$30)),ROW(Feuil2!$A$2:$A$30)),ROWS($1:8))),"")} -> POMT1_EX13 | D9: {=IFERROR(INDEX(Feuil2!C:C,SMALL(IF(ISNUMBER(SEARCH($B$2,Feuil2!$A$2:$A$30)),ROW(Feuil2!$A$2:$A$30)),ROWS($1:8))),"")} -> 356 | E9: {=IFERROR(INDEX(Feuil2!D:D,SMALL(IF(ISNUMBER(SEARCH($B$2,Feuil2!$A$2:$A$30)),ROW(Feuil2!$A$2:$A$30)),ROWS($1:8))),"")} -> 13S_13R | F9: {=IFERROR(INDEX(Feuil2!E:E,SMALL(IF(ISNUMBER(SEARCH($B$2,Feuil2!$A$2:$A$30)),ROW(Feuil2!$A$2:$A$30)),ROWS($1:8))),"")} -> O | G9: {=IFERROR(INDEX(Feuil2!F:F,SMALL(IF(ISNUMBER(SEARCH($B$2,Feuil2!$A$2:$A$30)),ROW(Feuil2!$A$2:$A$30)),ROWS($1:8))),"")} -> TAQ_360_1 | H9: {=IFERROR(INDEX(Feuil2!G:G,SMALL(IF(ISNUMBER(SEARCH($B$2,Feuil2!$A$2:$A$30)),ROW(Feuil2!$A$2:$A$30)),ROWS($1:8))),"")} -> 62°C
C10: {=IFERROR(INDEX(Feuil2!B:B,SMALL(IF(ISNUMBER(SEARCH($B$2,Feuil2!$A$2:$A$30)),ROW(Feuil2!$A$2:$A$30)),ROWS($1:9))),"")} -> POMT1_EX14,15 | D10: {=IFERROR(INDEX(Feuil2!C:C,SMALL(IF(ISNUMBER(SEARCH($B$2,Feuil2!$A$2:$A$30)),ROW(Feuil2!$A$2:$A$30)),ROWS($1:9))),"")} -> 717 | E10: {=IFERROR(INDEX(Feuil2!D:D,SMALL(IF(ISNUMBER(SEARCH($B$2,Feuil2!$A$2:$A$30)),ROW(Feuil2!$A$2:$A$30)),ROWS($1:9))),"")} -> 14Sbis_15R | F10: {=IFERROR(INDEX(Feuil2!E:E,SMALL(IF(ISNUMBER(SEARCH($B$2,Feuil2!$A$2:$A$30)),ROW(Feuil2!$A$2:$A$30)),ROWS($1:9))),"")} -> O | G10: {=IFERROR(INDEX(Feuil2!F:F,SMALL(IF(ISNUMBER(SEARCH($B$2,Feuil2!$A$2:$A$30)),ROW(Feuil2!$A$2:$A$30)),ROWS($1:9))),"")} -> TAQ_360_1 | H10: {=IFERROR(INDEX(Feuil2!G:G,SMALL(IF(ISNUMBER(SEARCH($B$2,Feuil2!$A$2:$A$30)),ROW(Feuil2!$A$2:$A$30)),ROWS($1:9))),"")} -> 62°C
C11: {=IFERROR(INDEX(Feuil2!B:B,SMALL(IF(ISNUMBER(SEARCH($B$2,Feuil2!$A$2:$A$30)),ROW(Feuil2!$A$2:$A$30)),ROWS($1:10))),"")} -> POMT1_EX16,17 | D11: {=IFERROR(INDEX(Feuil2!C:C,SMALL(IF(ISNUMBER(SEARCH($B$2,Feuil2!$A$2:$A$30)),ROW(Feuil2!$A$2:$A$30)),ROWS($1:10))),"")} -> 1011 | E11: {=IFERROR(INDEX(Feuil2!D:D,SMALL(IF(ISNUMBER(SEARCH($B$2,Feuil2!$A$2:$A$30)),ROW(Feuil2!$A$2:$A$30)),ROWS($1:10))),"")} -> 16S_17R | F11: {=IFERROR(INDEX(Feuil2!E:E,SMALL(IF(ISNUMBER(SEARCH($B$2,Feuil2!$A$2:$A$30)),ROW(Feuil2!$A$2:$A$30)),ROWS($1:10))),"")} -> O | G11: {=IFERROR(INDEX(Feuil2!F:F,SMALL(IF(ISNUMBER(SEARCH($B$2,Feuil2!$A$2:$A$30)),ROW(Feuil2!$A$2:$A$30)),ROWS($1:10))),"")} -> TAQ_360_1 | H11: {=IFERROR(INDEX(Feuil2!G:G,SMALL(IF(ISNUMBER(SEARCH($B$2,Feuil2!$A$2:$A$30)),ROW(Feuil2!$A$2:$A$30)),ROWS($1:10))),"")} -> 62°C
C12: {=IFERROR(INDEX(Feuil2!B:B,SMALL(IF(ISNUMBER(SEARCH($B$2,Feuil2!$A$2:$A$30)),ROW(Feuil2!$A$2:$A$30)),ROWS($1:11))),"")} -> POMT1_EX18,19 | D12: {=IFERROR(INDEX(Feuil2!C:C,SMALL(IF(ISNUMBER(SEARCH($B$2,Feuil2!$A$2:$A$30)),ROW(Feuil2!$A$2:$A$30)),ROWS($1:11))),"")} -> 1108 | E12: {=IFERROR(INDEX(Feuil2!D:D,SMALL(IF(ISNUMBER(SEARCH($B$2,Feuil2!$A$2:$A$30)),ROW(Feuil2!$A$2:$A$30)),ROWS($1:11))),"")} -> 18S_19R | F12: {=IFERROR(INDEX(Feuil2!E:E,SMALL(IF(ISNUMBER(SEARCH($B$2,Feuil2!$A$2:$A$30)),ROW(Feuil2!$A$2:$A$30)),ROWS($1:11))),"")} -> O | G12: {=IFERROR(INDEX(Feuil2!F:F,SMALL(IF(ISNUMBER(SEARCH($B$2,Feuil2!$A$2:$A$30)),ROW(Feuil2!$A$2:$A$30)),ROWS($1:11))),"")} -> TAQ_360_1 | H12: {=IFERROR(INDEX(Feuil2!G:G,SMALL(IF(ISNUMBER(SEARCH($B$2,Feuil2!$A$2:$A$30)),ROW(Feuil2!$A$2:$A$30)),ROWS($1:11))),"")} -> 62°C
C13: {=IFERROR(INDEX(Feuil2!B:B,SMALL(IF(ISNUMBER(SEARCH($B$2,Feuil2!$A$2:$A$30)),ROW(Feuil2!$A$2:$A$30)),ROWS($1:12))),"")} -> POMT1_EX20 | D13: {=IFERROR(INDEX(Feuil2!C:C,SMALL(IF(ISNUMBER(SEARCH($B$2,Feuil2!$A$2:$A$30)),ROW(Feuil2!$A$2:$A$30)),ROWS($1:12))),"")} -> 418 | E13: {=IFERROR(INDEX(Feuil2!D:D,SMALL(IF(ISNUMBER(SEARCH($B$2,Feuil2!$A$2:$A$30)),ROW(Feuil2!$A$2:$A$30)),ROWS($1:12))),"")} -> 20S_20R | F13: {=IFERROR(INDEX(Feuil2!E:E,SMALL(IF(ISNUMBER(SEARCH($B$2,Feuil2!$A$2:$A$30)),ROW(Feuil2!$A$2:$A$30)),ROWS($1:12))),"")} -> O | G13: {=IFERROR(INDEX(Feuil2!F:F,SMALL(IF(ISNUMBER(SEARCH($B$2,Feuil2!$A$2:$A$30)),ROW(Feuil2!$A$2:$A$30)),ROWS($1:12))),"")} -> TAQ_360_1 | H13: {=IFERROR(INDEX(Feuil2!G:G,SMALL(IF(ISNUMBER(SEARCH($B$2,Feuil2!$A$2:$A$30)),ROW(Feuil2!$A$2:$A$30)),ROWS($1:12))),"")} -> 62°C
C14: {=IFERROR(INDEX(Feuil2!B:B,SMALL(IF(ISNUMBER(SEARCH($B$2,Feuil2!$A$2:$A$30)),ROW(Feuil2!$A$2:$A$30)),ROWS($1:13))),"")} | D14: {=IFERROR(INDEX(Feuil2!C:C,SMALL(IF(ISNUMBER(SEARCH($B$2,Feuil2!$A$2:$A$30)),ROW(Feuil2!$A$2:$A$30)),ROWS($1:13))),"")} | E14: {=IFERROR(INDEX(Feuil2!D:D,SMALL(IF(ISNUMBER(SEARCH($B$2,Feuil2!$A$2:$A$30)),ROW(Feuil2!$A$2:$A$30)),ROWS($1:13))),"")} | F14: {=IFERROR(INDEX(Feuil2!E:E,SMALL(IF(ISNUMBER(SEARCH($B$2,Feuil2!$A$2:$A$30)),ROW(Feuil2!$A$2:$A$30)),ROWS($1:13))),"")} | G14: {=IFERROR(INDEX(Feuil2!F:F,SMALL(IF(ISNUMBER(SEARCH($B$2,Feuil2!$A$2:$A$30)),ROW(Feuil2!$A$2:$A$30)),ROWS($1:13))),"")} | H14: {=IFERROR(INDEX(Feuil2!G:G,SMALL(IF(ISNUMBER(SEARCH($B$2,Feuil2!$A$2:$A$30)),ROW(Feuil2!$A$2:$A$30)),ROWS($1:13))),"")}
C15: {=IFERROR(INDEX(Feuil2!B:B,SMALL(IF(ISNUMBER(SEARCH($B$2,Feuil2!$A$2:$A$30)),ROW(Feuil2!$A$2:$A$30)),ROWS($1:14))),"")} | D15: {=IFERROR(INDEX(Feuil2!C:C,SMALL(IF(ISNUMBER(SEARCH($B$2,Feuil2!$A$2:$A$30)),ROW(Feuil2!$A$2:$A$30)),ROWS($1:14))),"")} | E15: {=IFERROR(INDEX(Feuil2!D:D,SMALL(IF(ISNUMBER(SEARCH($B$2,Feuil2!$A$2:$A$30)),ROW(Feuil2!$A$2:$A$30)),ROWS($1:14))),"")} | F15: {=IFERROR(INDEX(Feuil2!E:E,SMALL(IF(ISNUMBER(SEARCH($B$2,Feuil2!$A$2:$A$30)),ROW(Feuil2!$A$2:$A$30)),ROWS($1:14))),"")} | G15: {=IFERROR(INDEX(Feuil2!F:F,SMALL(IF(ISNUMBER(SEARCH($B$2,Feuil2!$A$2:$A$30)),ROW(Feuil2!$A$2:$A$30)),ROWS($1:14))),"")} | H15: {=IFERROR(INDEX(Feuil2!G:G,SMALL(IF(ISNUMBER(SEARCH($B$2,Feuil2!$A$2:$A$30)),ROW(Feuil2!$A$2:$A$30)),ROWS($1:14))),"")}
C16: {=IFERROR(INDEX(Feuil2!B:B,SMALL(IF(ISNUMBER(SEARCH($B$2,Feuil2!$A$2:$A$30)),ROW(Feuil2!$A$2:$A$30)),ROWS($1:15))),"")} | D16: {=IFERROR(INDEX(Feuil2!C:C,SMALL(IF(ISNUMBER(SEARCH($B$2,Feuil2!$A$2:$A$30)),ROW(Feuil2!$A$2:$A$30)),ROWS($1:15))),"")} | E16: {=IFERROR(INDEX(Feuil2!D:D,SMALL(IF(ISNUMBER(SEARCH($B$2,Feuil2!$A$2:$A$30)),ROW(Feuil2!$A$2:$A$30)),ROWS($1:15))),"")} | F16: {=IFERROR(INDEX(Feuil2!E:E,SMALL(IF(ISNUMBER(SEARCH($B$2,Feuil2!$A$2:$A$30)),ROW(Feuil2!$A$2:$A$30)),ROWS($1:15))),"")} | G16: {=IFERROR(INDEX(Feuil2!F:F,SMALL(IF(ISNUMBER(SEARCH($B$2,Feuil2!$A$2:$A$30)),ROW(Feuil2!$A$2:$A$30)),ROWS($1:15))),"")} | H16: {=IFERROR(INDEX(Feuil2!G:G,SMALL(IF(ISNUMBER(SEARCH($B$2,Feuil2!$A$2:$A$30)),ROW(Feuil2!$A$2:$A$30)),ROWS($1:15))),"")}
C17: {=IFERROR(INDEX(Feuil2!B:B,SMALL(IF(ISNUMBER(SEARCH($B$2,Feuil2!$A$2:$A$30)),ROW(Feuil2!$A$2:$A$30)),ROWS($1:16))),"")} | D17: {=IFERROR(INDEX(Feuil2!C:C,SMALL(IF(ISNUMBER(SEARCH($B$2,Feuil2!$A$2:$A$30)),ROW(Feuil2!$A$2:$A$30)),ROWS($1:16))),"")} | E17: {=IFERROR(INDEX(Feuil2!D:D,SMALL(IF(ISNUMBER(SEARCH($B$2,Feuil2!$A$2:$A$30)),ROW(Feuil2!$A$2:$A$30)),ROWS($1:16))),"")} | F17: {=IFERROR(INDEX(Feuil2!E:E,SMALL(IF(ISNUMBER(SEARCH($B$2,Feuil2!$A$2:$A$30)),ROW(Feuil2!$A$2:$A$30)),ROWS($1:16))),"")} | G17: {=IFERROR(INDEX(Feuil2!F:F,SMALL(IF(ISNUMBER(SEARCH($B$2,Feuil2!$A$2:$A$30)),ROW(Feuil2!$A$2:$A$30)),ROWS($1:16))),"")} | H17: {=IFERROR(INDEX(Feuil2!G:G,SMALL(IF(ISNUMBER(SEARCH($B$2,Feuil2!$A$2:$A$30)),ROW(Feuil2!$A$2:$A$30)),ROWS($1:16))),"")}
C18: {=IFERROR(INDEX(Feuil2!B:B,SMALL(IF(ISNUMBER(SEARCH($B$2,Feuil2!$A$2:$A$30)),ROW(Feuil2!$A$2:$A$30)),ROWS($1:17))),"")} | D18: {=IFERROR(INDEX(Feuil2!C:C,SMALL(IF(ISNUMBER(SEARCH($B$2,Feuil2!$A$2:$A$30)),ROW(Feuil2!$A$2:$A$30)),ROWS($1:17))),"")} | E18: {=IFERROR(INDEX(Feuil2!D:D,SMALL(IF(ISNUMBER(SEARCH($B$2,Feuil2!$A$2:$A$30)),ROW(Feuil2!$A$2:$A$30)),ROWS($1:17))),"")} | F18: {=IFERROR(INDEX(Feuil2!E:E,SMALL(IF(ISNUMBER(SEARCH($B$2,Feuil2!$A$2:$A$30)),ROW(Feuil2!$A$2:$A$30)),ROWS($1:17))),"")} | G18: {=IFERROR(INDEX(Feuil2!F:F,SMALL(IF(ISNUMBER(SEARCH($B$2,Feuil2!$A$2:$A$30)),ROW(Feuil2!$A$2:$A$30)),ROWS($1:17))),"")} | H18: {=IFERROR(INDEX(Feuil2!G:G,SMALL(IF(ISNUMBER(SEARCH($B$2,Feuil2!$A$2:$A$30)),ROW(Feuil2!$A$2:$A$30)),ROWS($1:17))),"")}
C19: {=IFERROR(INDEX(Feuil2!B:B,SMALL(IF(ISNUMBER(SEARCH($B$2,Feuil2!$A$2:$A$30)),ROW(Feuil2!$A$2:$A$30)),ROWS($1:18))),"")} | D19: {=IFERROR(INDEX(Feuil2!C:C,SMALL(IF(ISNUMBER(SEARCH($B$2,Feuil2!$A$2:$A$30)),ROW(Feuil2!$A$2:$A$30)),ROWS($1:18))),"")} | E19: {=IFERROR(INDEX(Feuil2!D:D,SMALL(IF(ISNUMBER(SEARCH($B$2,Feuil2!$A$2:$A$30)),ROW(Feuil2!$A$2:$A$30)),ROWS($1:18))),"")} | F19: {=IFERROR(INDEX(Feuil2!E:E,SMALL(IF(ISNUMBER(SEARCH($B$2,Feuil2!$A$2:$A$30)),ROW(Feuil2!$A$2:$A$30)),ROWS($1:18))),"")} | G19: {=IFERROR(INDEX(Feuil2!F:F,SMALL(IF(ISNUMBER(SEARCH($B$2,Feuil2!$A$2:$A$30)),ROW(Feuil2!$A$2:$A$30)),ROWS($1:18))),"")} | H19: {=IFERROR(INDEX(Feuil2!G:G,SMALL(IF(ISNUMBER(SEARCH($B$2,Feuil2!$A$2:$A$30)),ROW(Feuil2!$A$2:$A$30)),ROWS($1:18))),"")}

Sheet Feuil2
A1: Gène | B1: Gène_Exons | C1: Taille pb | D1: Amorces | E1: M13 | F1: Taq | G1: Hybridation
A2: POMT1 | B2: POMT1_EX2 | C2: 368 | D2: 2Sbis_2R | E2: O | F2: TAQ_360_1 | G2: 62°C
A3: POMT1 | B3: POMT1_EX3,4 | C3: 512 | D3: 3S_4R | E3: O | F3: TAQ_360_1 | G3: 62°C
A4: POMT1 | B4: POMT1_EX5 | C4: 376 | D4: 5Sbis_5R | E4: O | F4: TAQ_360_1 | G4: 62°C
A5: POMT1 | B5: POMT1_EX6 | C5: 316 | D5: 6S_6R | E5: O | F5: TAQ_360_1 | G5: 62°C
A6: POMT1 | B6: POMT1_EX7,8,9 | C6: 890 | D6: 7S_9R | E6: O | F6: TAQ_360_1 | G6: 62°C
A7: POMT1 | B7: POMT1_EX10,11 | C7: 1015 | D7: 10S_11R | E7: O | F7: TAQ_360_1 | G7: 62°C
A8: POMT1 | B8: POMT1_EX12 | C8: 222 | D8: 12S_12R | E8: O | F8: TAQ_360_1 | G8: 62°C
A9: POMT1 | B9: POMT1_EX13 | C9: 356 | D9: 13S_13R | E9: O | F9: TAQ_360_1 | G9: 62°C
A10: POMT1 | B10: POMT1_EX14,15 | C10: 717 | D10: 14Sbis_15R | E10: O | F10: TAQ_360_1 | G10: 62°C
A11: POMT1 | B11: POMT1_EX16,17 | C11: 1011 | D11: 16S_17R | E11: O | F11: TAQ_360_1 | G11: 62°C
A12: POMT1 | B12: POMT1_EX18,19 | C12: 1108 | D12: 18S_19R | E12: O | F12: TAQ_360_1 | G12: 62°C
A13: POMT1 | B13: POMT1_EX20 | C13: 418 | D13: 20S_20R | E13: O | F13: TAQ_360_1 | G13: 62°C
... A29: FKTN | B29: FKTN_POLYA | C29: 595 | D29: POLYAS_POLYAR | E29: N | F29: TAQ_GOLD | G29: 59°C
A30: TERT | B30: TERT_EX1 | C30: 541 | D30: 1F_1R | E30: N | F30: TAQ_QIAGEN

Sheet Feuil3
A1: LISTE DE GENES
A3: POMT1
A4: FKRP
A5: FKTN
A6: POMGNT1
A7: POMGNT2
A8: LARGE
