Workbook
Name datamenu: data!$E$2:$E$16
Name datatexture: data!$B$2:$B$16

Sheet Bd
A2: Ordre | B2: Identification | C2: adresse | D2: tél. | E2: INFO | F2: =UPPER(LEFT(TEXT(WEEKDAY(F3),"jjjj"),1)) -> L | G2: =UPPER(LEFT(TEXT(WEEKDAY(G3),"jjjj"),1)) -> M | H2: =UPPER(LEFT(TEXT(WEEKDAY(H3),"jjjj"),1)) -> M | I2: =UPPER(LEFT(TEXT(WEEKDAY(I3),"jjjj"),1)) -> J | J2: =UPPER(LEFT(TEXT(WEEKDAY(J3),"jjjj"),1)) -> V | K2: =UPPER(LEFT(TEXT(WEEKDAY(K3),"jjjj"),1)) -> S | L2: =UPPER(LEFT(TEXT(WEEKDAY(L3),"jjjj"),1)) -> D | M2: =UPPER(LEFT(TEXT(WEEKDAY(M3),"jjjj"),1)) -> L | ... CI2: =UPPER(LEFT(TEXT(WEEKDAY(CI3),"jjjj"),1)) -> V
F3: 45173 | G3: =F3+1 -> 45174 | H3: =G3+1 -> 45175 | I3: =H3+1 -> 45176 | J3: =I3+1 -> 45177 | K3: =J3+1 -> 45178 | L3: =K3+1 -> 45179 | M3: =L3+1 -> 45180 | N3: =M3+1 -> 45181 | ... CI3: =CH3+1 -> 45254
A4: 1 | B4: ANDRE | C4: 26 Rue Roussy | D4: 6898756 | E4: Dia | F4: A | G4: A | H4: A | I4: A | J4: A | M4: A | N4: A | O4: A | P4: A | Q4: B | T4: A | U4: A | V4: A | W4: A | X4: A | AA4: A | AB4: A | AC4: A | AD4: A | AE4: A
A5: 2 | B5: PIERRE | C5: 29 avenue Jules Ferry | D5: 6453987 | E5: 0 | F5: A | G5: A | H5: A | I5: A | J5: A | M5: A | N5: A | O5: A | P5: A | Q5: A | T5: A | U5: A | V5: A | W5: A | X5: A | AA5: A | AB5: A | AC5: A | AD5: A | AE5: A
A6: 3 | B6: Angélique | C6: 39 rue de la Boétie | D6: 6963258 | E6: 0 | F6: B | G6: B | H6: B | I6: B | J6: B | M6: B | N6: B | O6: B | P6: B | Q6: B | T6: B | U6: B | V6: B | W6: B | X6: B | AA6: B | AB6: B | AC6: B | AD6: B | AE6: B
A7: 4 | B7: amelle | C7: 24 rue Michel Ange | D7: 6741258 | E7: 0 | F7: B | G7: B | H7: B | I7: B | J7: B | M7: B | N7: B | O7: B | P7: B | Q7: B | T7: B | U7: B | V7: B | W7: B | X7: B | AA7: B | AB7: B | AC7: B | AD7: B | AE7: B
A8: 5 | B8: steve | C8: 99 rue Victor Hugo | D8: 6789574 | E8: 0 | F8: A | G8: x | H8: A | I8: x | J8: B | M8: x | N8: B | O8: x | P8: x | Q8: B | T8: A | U8: x | V8: A | W8: x | X8: B | AA8: A | AB8: x | AC8: A | AD8: x | AE8: B
A9: 6 | B9: adam | C9: 20 Avenue des Tuileries | D9: 6854321 | E9: 0 | F9: B | G9: B | H9: B | I9: B | J9: B | M9: B | N9: B | O9: B | P9: B | Q9: B | T9: B | U9: B | V9: B | W9: B | X9: B | AA9: B | AB9: B | AC9: B | AD9: B | AE9: B
A10: 7 | B10: martine | C10: 34 Quai des Belges | D10: 6582582 | E10: 0 | F10: B | G10: B | H10: B | I10: B | J10: B | M10: B | N10: B | O10: B | P10: B | Q10: B | T10: B | U10: B | V10: B | W10: B | X10: B | AA10: B | AB10: B | AC10: B | AD10: B | AE10: B
A11: 8 | B11: isabelle | C11: 15 rue Pierre De Coubertin | D11: 6325985 | E11: 0 | F11: A | G11: x | H11: A | I11: B | J11: A | M11: x | N11: x | O11: A | P11: x | Q11: x | T11: A | U11: x | V11: A | W11: B | X11: A | AA11: A | AB11: x | AC11: A | AD11: B | AE11: A
A12: 9 | B12: arnaud | C12: 21 rue des Coudriers | D12: 6452854 | E12: 0 | F12: B | G12: B | H12: B | I12: B | J12: B | M12: B | N12: B | O12: B | P12: B | Q12: B | T12: B | U12: B | V12: B | W12: B | X12: B | AA12: B | AB12: B | AC12: B | AD12: B | AE12: B
A13: 11 | B13: julian | C13: 85 rue de Penthièvre | D13: 6456654 | E13: 0 | F13: A | G13: A | H13: A | I13: A | J13: A | M13: A | N13: A | O13: A | P13: A | Q13: A | T13: A | U13: A | V13: A | W13: A | X13: A | AA13: A | AB13: A | AC13: A | AD13: A | AE13: A
A14: 12 | B14: julien | C14: 54 avenue Voltaire | D14: 6753357 | E14: 0 | F14: B | G14: B | H14: B | I14: B | J14: B | M14: B | N14: B | O14: B | P14: B | Q14: B | T14: B | U14: B | V14: B | W14: B | X14: B | AA14: B | AB14: B | AC14: B | AD14: B | AE14: B
A15: 13 | B15: ANDRE | C15: 27 Rue Roussy | D15: 6898756 | E15: 0 | F15: B | G15: B | H15: B | I15: B | J15: B | M15: B | N15: B | O15: B | P15: B | Q15: B | T15: B | U15: B | V15: B | W15: B | X15: B | AA15: B | AB15: B | AC15: B | AD15: B | AE15: B
A16: 14 | B16: PIERRE | C16: 30 avenue Jules Ferry | D16: 6453987 | E16: 0 | F16: x | G16: x | H16: x | I16: x | J16: x | M16: x | N16: x | O16: x | P16: x | Q16: x | T16: x | U16: x | V16: x | W16: x | X16: x | AA16: x | AB16: x | AC16: x | AD16: x | AE16: x
... A50: 48 | B50: Angélique | C50: 43 rue de la Boétie | D50: 7643466 | E50: 0 | F50: B | G50: B | H50: B | I50: B | J50: B | M50: B | N50: B | O50: B | P50: B | Q50: B | T50: B | U50: B | V50: B | W50: B | X50: B | AA50: B | AB50: B | AC50: B | AD50: B | AE50: B

Sheet f2
A1: Ordre | B1: Identification | C1: adresse | D1: tél. | E1: INFO | F1: 45182
A2: =IF(Bd!A4="","",Bd!A4) -> 1 | B2: =IF(A2<>"",Bd!B4,"") -> ANDRE | C2: =IF(B2<>"",Bd!C4,"") -> 26 Rue Roussy | D2: =IF(C2<>"",Bd!D4,"") -> 6898756 | E2: =IF(D2<>"",Bd!E4,"") -> Dia | F2: =IF(A2="","",INDEX(Bd!$1:$1048576,MATCH('f2'!A2,Bd!A:A,0),MATCH(F$1,Bd!$3:$3,0))) -> A

Sheet data
B1: texture | C1: N° semaine | D1: date semaine | E1: menu
B2: 0 | C2: semaine 1 | E2: A
B3: N | C3: semaine 2 | E3: B
B4: C | C4: semaine 3 | E4: x
B5: M | C5: semaine 4 | E5: x
B6: Dia | C6: semaine 5 | E6: x
B7: SS | C7: semaine 6 | E7: x
B8: AL | C8: semaine 7 | E8: x
B9: VG | C9: semaine 8 | E9: x
B10: DiaSS | C10: semaine 9 | E10: x
B11: DiaC | C11: semaine 10 | E11: x
B12: DiaCSS | C12: semaine 11 | E12: x
B13: DiaM | C13: semaine 12 | E13: x
B14: ALC | C14: semaine 13 | E14: x
B15: CSS | C15: semaine 14 | E15: x
B16: MSS | E16: x
