Workbook
Name COFFLONG: PARAM!$A$16
Name HAUTEURS: PARAM!$O$8:$O$11
Name PUISSANCES: PARAM!$C$8:$C$11
Name TOTAUX: 'SYNOPTIQUE DISTRIBUTION'!$E$9:$G$22
Name TYPES: PARAM!$B$8:$B$12

Sheet SYNOPTIQUE DISTRIBUTION
B2: Armoire | E2: Puissance Totale Dép. | F2: Longueur Tot. Cables | G2: Section Câble Mini | I2: Départ | L2: Distribution
B5: ARMOIRE Epxx | P5: Arxx-D1-01 | T5: Arxx-D1-04 | X5: Arxx-D1-05 | AB5: Arxx-D1-05 | AF5: Arxx-D1-15 | AJ5: Arxx-D1-14 | AN5: Arxx-D1-08 | AR5: Arxx-D1-07
D6: Départ 1 | E6: =P7+T7+X7+AB7+P13+AF7+AJ7+AN7+AR7+#REF!+#REF! -> #VALUE! | F6: =O7+S7+W7+AA7+AE7+AI7+O14+S14 -> 300 | G6: 5G10mm² | I6: Départ EP Place | O6: 5G10mm² | P6: Type C | S6: 5G10mm² | T6: Type B | W6: 5G10mm² | X6: Type B | AA6: 5G10mm² | AB6: Type B | AE6: 5G10mm² | AF6: Type A | AI6: 5G10mm² | AJ6: Type A | AM6: 5G6mm² | AN6: Type A | AQ6: 5G6mm² | AR6: Type A
N7: Long. | O7: =O8*COFFLONG -> 45.6 | P7: =VLOOKUP(P6,PARAM!$B$8:$C$11,2,FALSE) -> 159 | R7: Long. | S7: =S8*COFFLONG -> 58.8 | T7: =VLOOKUP(T6,PARAM!$B$8:$C$11,2,FALSE) -> 156 | V7: Long. | W7: =W8*COFFLONG -> 42 | X7: =VLOOKUP(X6,PARAM!$B$8:$C$11,2,FALSE) -> 156 | Z7: Long. | AA7: =AA8*COFFLONG -> 43.2 | AB7: 106 | AD7: Long. | AE7: =AE8*COFFLONG -> 24 | AF7: =VLOOKUP(AF6,PARAM!$B$8:$C$11,2,FALSE) -> 47 | AH7: Long. | AI7: =AI8*COFFLONG -> 18 | AJ7: =VLOOKUP(AJ6,PARAM!$B$8:$C$11,2,FALSE) -> 47 | AL7: Long. | AM7: =AM8*COFFLONG -> 40.8 | AN7: =VLOOKUP(AN6,PARAM!$B$8:$C$11,2,FALSE) -> 47 | AP7: Long. | AQ7: =AQ8*COFFLONG -> 34.8 | AR7: =VLOOKUP(AR6,PARAM!$B$8:$C$11,2,FALSE) -> 47
F8: =AC10+AK10+AM14+AQ14+AQ7+AM7+AM21+AK17 -> 315.6 | G8: 5G6mm² | O8: 38 | P8: L1-N | S8: 49 | T8: L2-N | W8: 35 | X8: L3-N | AA8: 36 | AB8: L1-N | AE8: 20 | AF8: L2-N | AI8: 15 | AJ8: L3-N | AM8: 34 | AN8: L3-N | AQ8: 29 | AR8: L3-N
AC9: 5G6mm² | AK9: 5G6mm²
AB10: Long. | AC10: =AC11*COFFLONG -> 36 | AJ10: Long. | AK10: =AK11*COFFLONG -> 37.2
AC11: 30 | AK11: 31
P12: Arxx-D1-02 | T12: Arxx-D1-03 | AB12: Arxx-D1-06 | AJ12: Arxx-D1-09 | AN12: Arxx-D1-13 | AR12: Arxx-D1-12
O13: 5G10mm² | P13: Type C | S13: 5G10mm² | T13: Type C | AB13: Type C | AJ13: Type A | AM13: 5G6mm² | AN13: Type A | AQ13: 5G6mm² | AR13: Type A
N14: Long. | O14: =O15*COFFLONG -> 33.6 | P14: =VLOOKUP(P13,PARAM!$B$8:$C$11,2,FALSE) -> 159 | R14: Long. | S14: =S15*COFFLONG -> 34.8 | T14: =VLOOKUP(T13,PARAM!$B$8:$C$11,2,FALSE) -> 159 | AB14: =VLOOKUP(AB13,PARAM!$B$8:$C$11,2,FALSE) -> 159 | AJ14: =VLOOKUP(AJ13,PARAM!$B$8:$C$11,2,FALSE) -> 47 | AL14: Long. | AM14: =AM15*COFFLONG -> 50.4 | AN14: =VLOOKUP(AN13,PARAM!$B$8:$C$11,2,FALSE) -> 47 | AP14: Long. | AQ14: =AQ15*COFFLONG -> 42 | AR14: =VLOOKUP(AR13,PARAM!$B$8:$C$11,2,FALSE) -> 47
O15: 28 | P15: L2-N | S15: 29 | T15: L3-N | AB15: L3-N | AJ15: L3-N | AM15: 42 | AN15: L3-N | AQ15: 35 | AR15: L3-N
AK16: 5G6mm²
AJ17: Long. | AK17: =AK18*COFFLONG -> 43.2
AK18: 36
AJ19: Arxx-D1-10 | AN19: Arxx-D1-11
AJ20: Type A | AM20: 5G6mm² | AN20: Type A
AJ21: =VLOOKUP(AJ20,PARAM!$B$8:$C$11,2,FALSE) -> 47 | AL21: Long. | AM21: =AM22*COFFLONG -> 31.2 | AN21: =VLOOKUP(AN20,PARAM!$B$8:$C$11,2,FALSE) -> 47
AM22: 26
P27: Arxx-D2-01 | T27: Arxx-D2-17 | X27: Arxx-D2-16 | AB27: Arxx-D2-15
D28: Départ 2 | E28: =P29+T29+X29+AB29+AF29 -> 188 | F28: =O29+S29+W29+AA29+AE29 -> 139.2 | G28: 5G6mm² | I28: Départ EP Est | O28: 5G6mm² | P28: Type A | S28: 5G6mm² | T28: Type A | W28: 5G6mm² | X28: Type A | AA28: 5G6mm² | AB28: Type A
N29: Long. | O29: =O30*COFFLONG -> 43.2 | P29: =VLOOKUP(P28,PARAM!$B$8:$C$11,2,FALSE) -> 47 | R29: Long. | S29: =S30*COFFLONG -> 16.8 | T29: =VLOOKUP(T28,PARAM!$B$8:$C$11,2,FALSE) -> 47 | V29: Long. | W29: =W30*COFFLONG -> 34.8 | X29: =VLOOKUP(X28,PARAM!$B$8:$C$11,2,FALSE) -> 47 | Z29: Long. | AA29: =AA30*COFFLONG -> 44.4 | AB29: =VLOOKUP(AB28,TYPES:PUISSANCES,2,FALSE) -> 47
O30: 36 | P30: L1-N | S30: 14 | T30: L1-N | W30: 29 | X30: L3-N | AA30: 37 | AB30: L1-N
K31: =SUM(O30:AG30) -> 116 | Q31: 5G6mm²
K32: 5G6mm² | P32: Long. | Q32: =Q33*COFFLONG -> 40.8
Q33: 34
P34: Arxx-D2-02 | T34: Arxx-D2-03 | X34: Arxx-D2-04 | AB34: Arxx-D2-06 | AF34: Arxx-D2-10 | AJ34: Arxx-D2-11 | AN34: Arxx-D2-12 | AR34: Arxx-D2-13 | AV34: Arxx-D2-14
P35: Type A | S35: 5G6mm² | T35: Type A | W35: 5G6mm² | X35: Type A | AA35: 5G6mm² | AB35: Type A | AE35: 5G6mm² | AF35: Type A | AI35: 5G6mm² | AJ35: Type A | AM35: 5G6mm² | AN35: Type A | AQ35: 5G6mm² | AR35: Type A | AU35: 5G6mm² | AV35: Type A
P36: =VLOOKUP(P35,PARAM!$B$8:$C$11,2,FALSE) -> 47 | R36: Long. | S36: =S37*COFFLONG -> 43.2 | T36: =VLOOKUP(T35,PARAM!$B$8:$C$11,2,FALSE) -> 47 | V36: Long. | W36: =W37*COFFLONG -> 30 | X36: =VLOOKUP(X35,PARAM!$B$8:$C$11,2,FALSE) -> 47 | Z36: Long. | AA36: =AA37*COFFLONG -> 37.2 | AB36: =VLOOKUP(AB35,PARAM!$B$8:$C$11,2,FALSE) -> 47 | AD36: Long. | AE36: =AE37*COFFLONG -> 34.8 | AF36: =VLOOKUP(AF35,PARAM!$B$8:$C$11,2,FALSE) -> 47 | AH36: Long. | AI36: =AI37*COFFLONG -> 37.2 | AJ36: =VLOOKUP(AJ35,PARAM!$B$8:$C$11,2,FALSE) -> 47 | AL36: Long. | AM36: =AM37*COFFLONG -> 36 | AN36: =VLOOKUP(AN35,PARAM!$B$8:$C$11,2,FALSE) -> 47 | AP36: Long. | AQ36: =AQ37*COFFLONG -> 36 | AR36: =VLOOKUP(AR35,PARAM!$B$8:$C$11,2,FALSE) -> 47 | AT36: Long. | AU36: =AU37*COFFLONG -> 33.6 | AV36: =VLOOKUP(AV35,PARAM!$B$8:$C$11,2,FALSE) -> 47
P37: L3-N | S37: 36 | T37: L3-N | W37: 25 | X37: L3-N | AA37: 31 | AB37: L3-N | AE37: 29 | AF37: L3-N | AI37: 31 | AJ37: L3-N | AM37: 30 | AN37: L3-N | AQ37: 30 | AR37: L3-N | AU37: 28 | AV37: L3-N
Y38: 5G6mm² | AC38: 5G6mm²
X39: Long. | Y39: =Y40*COFFLONG -> 24 | AB39: Long. | AC39: =AC40*COFFLONG -> 14.4
Y40: 20 | AC40: 12
X41: Arxx-D2-05 | AB41: Arxx-D2-07 | AF41: Arxx-D2-08 | AJ41: Arxx-D2-09
X42: Type A | AB42: Type A | AE42: 5G6mm² | AF42: Type A | AI42: 5G6mm² | AJ42: Type A
I43: =SUM(IF($G$28=O28,O29," ")) -> 43.2 | X43: =VLOOKUP(X42,PARAM!$B$8:$C$11,2,FALSE) -> 47 | AB43: =VLOOKUP(AB42,PARAM!$B$8:$C$11,2,FALSE) -> 47 | AD43: Long. | AE43: =AE44*COFFLONG -> 18 | AF43: =VLOOKUP(AF42,PARAM!$B$8:$C$11,2,FALSE) -> 47 | AH43: Long. | AI43: =AI44*COFFLONG -> 32.4 | AJ43: =VLOOKUP(AJ42,PARAM!$B$8:$C$11,2,FALSE) -> 47
I44: =SUMIFS((W39:AJ39),IF((W38:AJ38)=G28,1,0),(W39:AJ39)) -> #VALUE! | L44: SOMME(RECHERCHEH(G28;S35:AU36;2;FAUX)) | X44: L3-N | AB44: L3-N | AE44: 15 | AF44: L3-N | AI44: 27 | AJ44: L3-N
I45: =IF($G$28=O28,O29," ") -> 43.2 | L45: ='SYNOPTIQUE DISTRIBUTION'!N63 -> 0
I46: =W38:AJ38 -> #VALUE! | L46: =SUMPRODUCT((S35:AU35=G28)*ISNONTEXT((S36:AU36))*(S36:AU36)) -> #VALUE!
E55: RECAPITULATIF SECTIONS DES CABLES (Avec marge de 15%)
E57: 4x4mm² | F57: =SUMIFS($F$5:$F$22,$G$5:$G$22,$E57) -> 0
E59: 5G6mm² | F59: =SUMIFS($F$5:$F$22,$G$5:$G$22,$E59) -> 315.6
E61: 5G10mm² | F61: =SUMIFS($F$5:$F$22,$G$5:$G$22,$E61) -> 300
E63: 4x16mm² | F63: =SUMIFS($F$5:$F$22,$G$5:$G$22,$E63) -> 0
E65: 4x10mm² | F65: =SUMIFS($F$5:$F$22,$G$5:$G$22,$E65) -> 0
E67: TOTAUX | F67: =SUM(F57:G66) -> 615.6

Sheet PARAM
D2: LUMINAIRES
D3: Philips | E3: Philips | F3: Philips | G3: Philips | H3: existant
D4: Citysoul2 BGP531 | E4: Citysoul2 BGP531 | F4: Citysoul2 BGP531 | G4: Citysoul2 BGP532 | H4: SHP
D5: 3000K / 7600lm | E5: 3000K / 12500lm | F5: 3000K / 8600lm | G5: 3000K / 4500lm
D6: 47 | E6: 78 | F6: 53 | G6: 30 | H6: 100
B7: TYPES | C7: PUISSANCES | D7: QUANTITE UNITAIRE | O7: HAUTEURS | P7: QUANTITES SUR PROJET
B8: Type A | C8: =(D8*$D$6)+(E8*$E$6)+(F8*$F$6)+(H8*$H$6)+(I8*$I$6)+(G8*$G$6)+(J8*$J$6) +(K8*$K$6)+(L8*$L$6)+(M8*$M$6)+(N8*$N$6) -> 47 | D8: 1 | O8: 5 | P8: 9
B9: Type B | C9: =(D9*$D$6)+(E9*$E$6)+(F9*$F$6)+(H9*$H$6)+(I9*$I$6)+(G9*$G$6)+(J9*$J$6) +(K9*$K$6)+(L9*$L$6)+(M9*$M$6)+(N9*$N$6) -> 156 | E9: 2 | O9: 5 | P9: 11
B10: Type C | C10: =(D10*$D$6)+(E10*$E$6)+(F10*$F$6)+(H10*$H$6)+(I10*$I$6)+(G10*$G$6)+(J10*$J$6) +(K10*$K$6)+(L10*$L$6)+(M10*$M$6)+(N10*$N$6) -> 159 | F10: 3 | O10: 4.5 | P10: 5
B11: Type D | C11: =(D11*$D$6)+(E11*$E$6)+(F11*$F$6)+(H11*$H$6)+(I11*$I$6)+(G11*$G$6)+(J11*$J$6) +(K11*$K$6)+(L11*$L$6)+(M11*$M$6)+(N11*$N$6) -> 30 | G11: 1 | O11: 8m | P11: 1
B12: EXIST E | C12: =(D12*$D$6)+(E12*$E$6)+(F12*$F$6)+(H12*$H$6)+(I12*$I$6)+(G12*$G$6)+(J12*$J$6) +(K12*$K$6)+(L12*$L$6)+(M12*$M$6)+(N12*$N$6) -> 100 | H12: 1
A15: COEFF LONGUEUR
A16: 1.2
