Workbook
Name BU: Voeux!$E$140
Name BZ: Voeux!$BY$63
Name GH40R1: Voeux!$GH$66

Sheet Voeux
C1: Classes | D1: 3eme 1 | AA1: 3eme 2 | AV1: 3eme 3 | BR1: 3eme 4 | CO1: 3eme 5 | DB1: 3eme 6 | DX1: 3eme 7 | ES1: 3eme 8 | FO1: 3eme 9 | GK1: 4 eme 7 | GZ1: 4 eme
C2: Nom des élèves | D2: étudiant 1 | E2: étudiant 2 | F2: étudiant 3 | G2: étudiant 4 | H2: étudiant 5 | I2: étudiant 6 | J2: étudiant 7 | K2: étudiant 8 | L2: étudiant 9 | M2: étudiant 10 | N2: étudiant 11 | O2: étudiant 12 | P2: étudiant 13 | Q2: étudiant 14 | R2: étudiant 15 | S2: étudiant 16 | T2: étudiant 17 | U2: étudiant 18 | V2: étudiant 19 | W2: étudiant 20 | X2: étudiant 21 | Y2: étudiant 22 | Z2: étudiant 23 | AA2: étudiant 24 | AB2: étudiant 25 | AC2: étudiant 26 | AD2: étudiant 27 | AE2: étudiant 28 | AF2: étudiant 29 | AG2: étudiant 30 | AH2: étudiant 31 | AI2: étudiant 32 | AJ2: étudiant 33 | AK2: étudiant 34 | AL2: étudiant 35 | AM2: étudiant 36 | AN2: étudiant 37 | AO2: étudiant 38 | AP2: étudiant 39 | AQ2: étudiant 40 | AR2: étudiant 41 | AS2: étudiant 42 | AT2: étudiant 43 | AU2: étudiant 44 | AV2: étudiant 45 | AW2: étudiant 46 | AX2: étudiant 47 | AY2: étudiant 48 | AZ2: étudiant 49 | BA2: étudiant 50 | BB2: étudiant 51 | BC2: étudiant 52 | BD2: étudiant 53 | BE2: étudiant 54 | BF2: étudiant 55 | BG2: étudiant 56 | BH2: étudiant 57 | BI2: étudiant 58 | BJ2: étudiant 59 | BK2: étudiant 60 | BL2: étudiant 61 | BM2: étudiant 62 | BN2: étudiant 63 | BO2: étudiant 64 | BP2: étudiant 65 | BQ2: étudiant 66 | BR2: étudiant 67 | BS2: étudiant 68 | BT2: étudiant 69 | BU2: étudiant 70 | BV2: étudiant 71 | BW2: étudiant 72 | BX2: étudiant 73 | BY2: étudiant 74 | BZ2: étudiant 75 | CA2: étudiant 76 | CB2: étudiant 77 | CC2: étudiant 78 | CD2: étudiant 79 | CE2: étudiant 80 | CF2: étudiant 81 | CG2: étudiant 82 | CH2: étudiant 83 | CI2: étudiant 84 | CJ2: étudiant 85 | CK2: étudiant 86 | CL2: étudiant 87 | CM2: étudiant 88 | CN2: étudiant 89 | CO2: étudiant 90 | CP2: étudiant 91 | CQ2: étudiant 92 | CR2: étudiant 93 | CS2: étudiant 94 | CT2: étudiant 95 | CU2: étudiant 96 | CV2: étudiant 97 | CW2: étudiant 98 | CX2: étudiant 99 | CY2: étudiant 100 | CZ2: étudiant 101 | DA2: étudiant 102 | DB2: étudiant 103 | DC2: étudiant 104 | DD2: étudiant 105 | DE2: étudiant 106 | DF2: étudiant 107 | DG2: étudiant 108 | DH2: étudiant 109 | DI2: étudiant 110 | DJ2: étudiant 111 | DK2: étudiant 112 | DL2: étudiant 113 | DM2: étudiant 114 | DN2: étudiant 115 | DO2: étudiant 116 | DP2: étudiant 117 | DQ2: étudiant 118 | DR2: étudiant 119 | DS2: étudiant 120 | DT2: étudiant 121 | DU2: étudiant 122 | DV2: étudiant 123 | DW2: étudiant 124 | DX2: étudiant 125 | DY2: étudiant 126 | DZ2: étudiant 127 | EA2: étudiant 128 | EB2: étudiant 129 | EC2: étudiant 130 | ED2: étudiant 131 | EE2: étudiant 132 | EF2: étudiant 133 | EG2: étudiant 134 | EH2: étudiant 135 | EI2: étudiant 136 | EJ2: étudiant 137 | EK2: étudiant 138 | EL2: étudiant 139 | EM2: étudiant 140 | EN2: étudiant 141 | EO2: étudiant 142 | EP2: étudiant 143 | EQ2: étudiant 144 | ER2: étudiant 145 | ES2: étudiant 146 | ET2: étudiant 147 | EU2: étudiant 148 | EV2: étudiant 149 | EW2: étudiant 150 | EX2: étudiant 151 | EY2: étudiant 152 | EZ2: étudiant 153 | FA2: étudiant 154 | FB2: étudiant 155 | FC2: étudiant 156 | FD2: étudiant 157 | FE2: étudiant 158 | FF2: étudiant 159 | FG2: étudiant 160 | FH2: étudiant 161 | FI2: étudiant 162 | FJ2: étudiant 163 | FK2: étudiant 164 | FL2: étudiant 165 | FM2: étudiant 166 | FN2: étudiant 167 | FO2: étudiant 168 | FP2: étudiant 169 | FQ2: étudiant 170 | FR2: étudiant 171 | FS2: étudiant 172 | FT2: étudiant 173 | FU2: étudiant 174 | FV2: étudiant 175 | FW2: étudiant 176 | FX2: étudiant 177 | FY2: étudiant 178 | FZ2: étudiant 179 | GA2: étudiant 180 | GB2: étudiant 181 | GC2: étudiant 182 | GD2: étudiant 183 | GE2: étudiant 184 | GF2: étudiant 185 | GG2: étudiant 186 | GH2: étudiant 187 | GI2: étudiant 188 | GJ2: étudiant 189 | GK2: étudiant 190 | GL2: étudiant 191 | GM2: étudiant 192 | GN2: étudiant 193 | GO2: étudiant 194 | GP2: étudiant 195 | GQ2: étudiant 196 | GR2: étudiant 197 | GS2: étudiant 198 | GT2: étudiant 199 | GU2: étudiant 200 | GV2: étudiant 201 | GW2: étudiant 202 | GX2: étudiant 203 | GY2: étudiant 204 | GZ2: étudiant 205 | HA2: étudiant 206 | HB2: étudiant 207 | HC2: étudiant 208 | HD2: étudiant 209
A3: Domaine | B3: NB d'entretien total | C3: intervenant Nb d'entretien total | D3: =COUNTA(D4:D127) -> 6 | E3: =COUNTA(E4:E127) -> 3 | F3: =COUNTA(F4:F127) -> 6 | G3: =COUNTA(G4:G127) -> 3 | H3: =COUNTA(H4:H127) -> 6 | I3: =COUNTA(I4:I127) -> 6 | J3: =COUNTA(J4:J127) -> 3 | K3: =COUNTA(K4:K127) -> 6 | ... HK3: =COUNTA(HK4:HK127) -> 0 | HL3: =CONCATENATE(Voeux!HL5:HL198) -> #VALUE! | HM3: =CONCATENATE(Voeux!HM5:HM198) -> #VALUE! | HN3: =CONCATENATE(Voeux!HN5:HN198) -> #VALUE! | HO3: =CONCATENATE(Voeux!HO5:HO198) -> #VALUE! | HP3: =CONCATENATE(Voeux!HP5:HP198) -> #VALUE! | HQ3: =CONCATENATE(Voeux!HQ5:HQ198) -> #VALUE! | HR3: =CONCATENATE(Voeux!HR5:HR198) -> #VALUE! | HS3: =CONCATENATE(Voeux!HS5:HS198) -> #VALUE! | ... IQ3: =CONCATENATE(Voeux!IQ5:IQ198) -> #VALUE! | IR3: R3R4R2R3R1R1R2R4 | IS3: =CONCATENATE(Voeux!IS5:IS198) -> #VALUE! | IT3: =CONCATENATE(Voeux!IT5:IT198) -> #VALUE! | IU3: =CONCATENATE(Voeux!IU5:IU198) -> #VALUE! | IV3: =CONCATENATE(Voeux!IV5:IV198) -> #VALUE! | IW3: =CONCATENATE(Voeux!IW5:IW198) -> #VALUE! | IX3: =CONCATENATE(Voeux!IX5:IX198) -> #VALUE! | IY3: =CONCATENATE(Voeux!IY5:IY198) -> #VALUE! | IZ3: =CONCATENATE(Voeux!IZ5:IZ198) -> #VALUE! | ... LE3: =CONCATENATE(Voeux!LE5:LE198) -> #VALUE!
A4: Audiovisuel/information/Communication | B4: =COUNTA(D4:GJ4) -> 9 | C4: Intervenant1 | O4: R6 | Y4: R2 | AG4: R3 | AV4: R4 | BW4: R3 | DD4: R1 | DN4: R4 | DX4: R1 | EW4: R2 | HA4: R2
A5: Audiovisuel/information/Communication | B5: =COUNTA(D5:GJ5) -> 8 | C5: Intervenant2 | I5: R6 | AH5: R2 | BB5: R4 | BS5: R2 | BT5: R1 | CJ5: R3 | CK5: R3 | FD5: R1
A6: Audiovisuel/information/Communication | B6: =COUNTA(D6:GJ6) -> 8 | C6: Intervenant3 | F6: R4 | H6: R6 | L6: R4 | DJ6: R1 | DW6: R6 | EY6: R3 | FG6: R2 | GF6: R3
A7: Banque/Assurance/Immobilier | B7: =COUNTA(D7:GJ7) -> 12 | C7: Intervenant4 | L7: R6 | M7: R6 | N7: R4 | O7: R5 | AA7: R4 | BF7: R1 | CQ7: R3 | DL7: R2 | DO7: R2 | EJ7: R3 | FG7: R4 | GB7: R5 | HB7: R1
A8: Banque/Assurance/Immobilier | B8: =COUNTA(D8:GJ8) -> 7 | C8: Intervenant5 | G8: R1 | X8: R2 | AZ8: R2 | CA8: R4 | CO8: R3 | EM8: R3 | FK8: R1 | GU8: R4
A9: Banque/Assurance/Immobilier | B9: =COUNTA(D9:GJ9) -> 8 | C9: Intervenant6 | F9: R3 | Q9: R3 | AE9: R1 | BI9: R2 | CK9: R4 | DB9: R1 | DI9: R2 | FT9: R4
A10: Banque/Assurance/Immobilier | B10: =COUNTA(D10:GJ10) -> 7 | C10: Intervenant7 | R10: R3 | AJ10: R1 | AW10: R3 | BL10: R1 | CC10: R2 | CE10: R2 | FE10: R4
A11: Banque/Assurance/Immobilier | B11: =COUNTA(D11:GJ11) -> 9 | C11: Intervenant8 | V11: R3 | W11: R6 | AR11: R2 | AS11: R2 | BG11: R1 | BN11: R1 | DU11: R4 | DY11: R2 | FJ11: R3 | GT11: R1
A12: Banque/Assurance/Immobilier | B12: =COUNTA(D12:GJ12) -> 9 | C12: Intervenant9 | J12: R3 | S12: R5 | BC12: R1 | BD12: R1 | CJ12: R4 | EU12: R2 | EZ12: R2 | FN12: R3 | FR12: R4
A13: Banque/Assurance/Immobilier | B13: =COUNTA(D13:GJ13) -> 8 | C13: Intervenant10 | H13: R2 | Z13: R2 | BO13: R1 | BQ13: R3 | CG13: R3 | DZ13: R5 | EO13: R5 | GJ13: R1
A14: BTP/Artisanat | B14: =COUNTA(D14:GJ14) -> 0 | C14: Intervenant11 | HC14: R3 | HD14: R2
A15: BTP/Artisanat | B15: =COUNTA(D15:GJ15) -> 0 | C15: Intervenant12 | GO15: R1 | GR15: R1
A16: BTP/Artisanat | B16: =COUNTA(D16:GJ16) -> 5 | C16: Intervenant13 | AP16: R1 | BY16: R1 | CU16: R2 | DU16: R2 | EU16: R3
A17: BTP/Artisanat | B17: =COUNTA(D17:GJ17) -> 0 | C17: Intervenant14
A18: BTP/Artisanat | B18: =COUNTA(D18:GJ18) -> 3 | C18: Intervenant15 | DA18: R1 | DM18: R3 | GC18: R2 | HA18: R3 | HB18: R2
A19: BTP/Artisanat | B19: =COUNTA(D19:GJ19) -> 3 | C19: Intervenant16 | I19: R2 | DF19: R2 | FK19: R3
A20: BTP/Artisanat | B20: =COUNTA(D20:GJ20) -> 2 | C20: Intervenant17 | AW20: R2 | CT20: R1
A21: BTP/Artisanat | B21: =COUNTA(D21:GJ21) -> 4 | C21: Intervenant18 | P21: R2 | DG21: R3 | DM21: R4 | ES21: R1
A22: BTP/Artisanat | B22: =COUNTA(D22:GJ22) -> 2 | C22: Intervenant19 | FO22: R2 | FQ22: R1
A23: BTP/Artisanat | B23: =COUNTA(D23:GJ23) -> 5 | C23: Intervenant20 | CF23: R1 | CX23: R2 | DN23: R1 | DV23: R2 | EZ23: R3
A24: BTP/Artisanat | B24: =COUNTA(D24:GJ24) -> 3 | C24: Intervenant21 | BV24: R1 | CP24: R1 | DM24: R2
A25: BTP/Artisanat | B25: =COUNTA(D25:GJ25) -> 2 | C25: Intervenant22 | CV25: R1 | DM25: R1 | GM25: R2
A26: Coiffure/ Esthetique/ Bien être | B26: =COUNTA(D26:GJ26) -> 12 | C26: Intervenant23 | N26: R6 | X26: R5 | BA26: R1 | BH26: R1 | BO26: R2 | BU26: R2 | CY26: R3 | DC26: R4 | DR26: R4 | EN26: R5 | EO26: R3 | FX26: R5 | GK26: R6 | GW26: R1
A27: Coiffure/ Esthetique/ Bien être | B27: =COUNTA(D27:GJ27) -> 11 | C27: Intervenant24 | D27: R2 | W27: R1 | AC27: R2 | AF27: R3 | BE27: R3 | CC27: R1 | CZ27: R4 | EB27: R2 | ET27: R4 | GD27: R5 | GE27: R5 | GN27: R6 | GP27: R2 | GV27: R3
A28: Coiffure/ Esthetique/ Bien être | B28: =COUNTA(D28:GJ28) -> 11 | C28: Intervenant25 | AL28: R3 | CG28: R2 | CR28: R2 | CW28: R3 | DI28: R4 | DQ28: R4 | DV28: R1 | EI28: R1 | FU28: R5 | GH28: R5 | GI28: R6 | GO28: R3 | GQ28: R2 | HC28: R6
A29: Commerce/Marketing/Vente/Logistique | B29: =COUNTA(D29:GJ29) -> 12 | C29: Intervenant26 | AV29: R1 | BB29: R2 | BC29: R2 | BG29: R3 | BI29: R3 | BQ29: R4 | BZ29: R4 | CO29: R5 | CV29: R5 | CX29: R1 | DB29: R6 | DY29: R6
A30: Commerce/Marketing/Vente/Logistique | B30: =COUNTA(D30:GJ30) -> 9 | C30: Intervenant27 | D30: R6 | I30: R1 | M30: R1 | AX30: R2 | BS30: R3 | EE30: R2 | EM30: R4 | EV30: R4 | FW30: R3 | GZ30: R5
A31: Commerce/Marketing/Vente/Logistique | B31: =COUNTA(D31:GJ31) -> 9 | C31: Intervenant28 | H31: R3 | J31: R1 | AA31: R2 | BA31: R2 | BX31: R3 | CD31: R1 | ES31: R5 | EU31: R4 | FY31: R4 | GU31: R5
A32: Commerce/Marketing/Vente/Logistique | B32: =COUNTA(D32:GJ32) -> 9 | C32: Intervenant29 | CE32: R1 | CT32: R3 | DI32: R1 | DK32: R3 | DN32: R2 | EC32: R2 | ET32: R6 | FB32: R4 | GC32: R4 | GT32: R3 | GX32: R1
A33: Commerce/Marketing/Vente/Logistique | B33: =COUNTA(D33:GJ33) -> 10 | C33: Intervenant30 | O33: R2 | P33: R3 | AB33: R3 | AC33: R5 | BK33: R4 | CG33: R1 | DA33: R4 | DH33: R5 | DT33: R1 | GF33: R2
A34: Commerce/Marketing/Vente/Logistique | B34: =COUNTA(D34:GJ34) -> 9 | C34: Intervenant31 | AP34: R4 | CA34: R1 | CB34: R4 | CJ34: R1 | EF34: R2 | EJ34: R2 | EQ34: R3 | ER34: R3 | FQ34: R4
A35: Commerce/Marketing/Vente/Logistique | B35: =COUNTA(D35:GJ35) -> 0 | C35: Intervenant32
A36: Commerce/Marketing/Vente/Logistique | B36: =COUNTA(D36:GJ36) -> 7 | C36: Intervenant33 | E36: R2 | T36: R3 | BM36: R3 | CK36: R1 | CP36: R2 | CQ36: R1 | EA36: R5 | HB36: R4
A37: Commerce/Marketing/Vente/Logistique | B37: =COUNTA(D37:GJ37) -> 6 | C37: Intervenant34 | AL37: R1 | BH37: R2 | BU37: R3 | CS37: R1 | EH37: R2 | GA37: R3
A38: Commerce/Marketing/Vente/Logistique | B38: =COUNTA(D38:GJ38) -> 10 | C38: Intervenant35 | F38: R6 | U38: R2 | BT38: R3 | CN38: R3 | DA38: R2 | DW38: R1 | EL38: R4 | EY38: R1 | FK38: R4 | GG38: R5
A39: Commerce/Marketing/Vente/Logistique | B39: =COUNTA(D39:GJ39) -> 9 | C39: Intervenant36 | K39: R2 | S39: R6 | X39: R3 | AR39: R4 | BE39: R1 | DO39: R1 | DQ39: R3 | EP39: R4 | FT39: R2
A40: Culture | B40: =COUNTA(D40:GJ40) -> 5 | C40: Intervenant37 | AM40: R1 | AO40: R1 | BW40: R2 | DZ40: R2 | FE40: R3 | GN40: R3
...

Sheet total rotation
B1: Classes
B2: Nom des élèves
B3: intervenant
A4: Audiovisuel/information/Communication | B4: intervenant 1 | C4: =CONCATENATE(Voeux!D4:HD4) -> #VALUE! | E4: 2 | F4: 3 | G4: 4 | H4: 3 | I4: 1 | J4: 4 | K4: 1 | L4: 2 | M4: R6 | Q4: R2
A5: Audiovisuel/information/Communication | B5: intervenant 2 | C5: =CONCATENATE(Voeux!D5:HD5) -> #VALUE! | E5: 2 | F5: 4 | G5: 2 | H5: 1 | I5: 3 | J5: 3 | K5: 1 | L5: R6
A6: Audiovisuel/information/Communication | B6: intervenant 3 | C6: =CONCATENATE(Voeux!D6:HD6) -> #VALUE! | E6: R1 | F6: R6 | G6: R3 | H6: R2 | I6: R3 | J6: R4 | K6: R4 | L6: R6
A7: Banque/Assurance/Immobilier | B7: intervenant 4 | C7: =CONCATENATE(Voeux!D7:HD7) -> #VALUE! | E7: 4 | F7: 1 | G7: 3 | H7: 2 | I7: 2 | J7: 3 | K7: 4 | L7: R5 | M7: R1 | N7: R6 | O7: R6 | P7: R5
A8: Banque/Assurance/Immobilier | B8: intervenant 5 | C8: =CONCATENATE(Voeux!D8:HD8) -> #VALUE! | E8: 1 | F8: 2 | G8: 2 | H8: 4 | I8: 3 | J8: 3 | K8: 1 | L8: R4
A9: Banque/Assurance/Immobilier | B9: intervenant 6 | C9: =CONCATENATE(Voeux!D9:HD9) -> #VALUE! | E9: 3 | F9: 3 | G9: 1 | H9: 2 | I9: 4 | J9: 1 | K9: 2 | L9: R4
A10: Banque/Assurance/Immobilier | B10: intervenant 7 | C10: =CONCATENATE(Voeux!D10:HD10) -> #VALUE! | E10: 3 | F10: 1 | G10: 3 | H10: 1 | I10: 2 | J10: 2 | K10: R4 | L10: R4
A11: Banque/Assurance/Immobilier | B11: intervenant 8 | C11: =CONCATENATE(Voeux!D11:HD11) -> #VALUE! | E11: 3 | F11: 2 | G11: 1 | H11: 1 | I11: 2 | J11: 3 | K11: r4 | L11: R1 | M11: R6 | N11: R2
A12: Banque/Assurance/Immobilier | B12: intervenant 9 | C12: =CONCATENATE(Voeux!D12:HD12) -> #VALUE! | E12: 3 | F12: 1 | G12: 1 | H12: 4 | I12: 2 | J12: 2 | K12: R3 | L12: R4 | M12: R5
A13: Banque/Assurance/Immobilier | B13: intervenant 10 | C13: =CONCATENATE(Voeux!D13:HD13) -> #VALUE! | E13: 2 | F13: 2 | G13: 1 | H13: 3 | I13: 3 | J13: 1 | K13: R5 | L13: R5
A14: BTP/Artisanat | B14: intervenant 11 | C14: =CONCATENATE(Voeux!D14:HD14) -> #VALUE! | E14: R2 | F14: R3
A15: BTP/Artisanat | B15: intervenant 12 | C15: =CONCATENATE(Voeux!D15:HD15) -> #VALUE! | E15: R1 | F15: R1
A16: BTP/Artisanat | B16: intervenant 13 | C16: =CONCATENATE(Voeux!D16:HD16) -> #VALUE! | E16: 1 | F16: 1 | G16: 2 | H16: 2 | I16: 3
A17: BTP/Artisanat | B17: intervenant 14 | C17: =CONCATENATE(Voeux!D17:HD17) -> #VALUE!
A18: BTP/Artisanat | B18: intervenant 15 | C18: =CONCATENATE(Voeux!D18:HD18) -> #VALUE! | E18: 1 | F18: 2 | G18: R3 | H18: R2 | I18: R3
A19: BTP/Artisanat | B19: intervenant 16 | C19: =CONCATENATE(Voeux!D19:HD19) -> #VALUE! | E19: 2 | F19: 2 | G19: 3
A20: BTP/Artisanat | B20: intervenant 17 | C20: =CONCATENATE(Voeux!D20:HD20) -> #VALUE! | E20: 2 | F20: 1
A21: BTP/Artisanat | B21: intervenant 18 | C21: =CONCATENATE(Voeux!D21:HD21) -> #VALUE! | E21: 2 | F21: 1 | G21: R3 | H21: r4
A22: BTP/Artisanat | B22: intervenant 19 | C22: =CONCATENATE(Voeux!D22:HD22) -> #VALUE! | E22: 2 | F22: 1
A23: BTP/Artisanat | B23: intervenant 20 | C23: =CONCATENATE(Voeux!D23:HD23) -> #VALUE! | E23: 1 | F23: 2 | G23: 1 | H23: 2 | I23: 3
A24: BTP/Artisanat | B24: intervenant 21 | C24: =CONCATENATE(Voeux!D24:HD24) -> #VALUE! | E24: 1 | F24: 1 | G24: R2
A25: BTP/Artisanat | B25: intervenant 22 | C25: =CONCATENATE(Voeux!D25:HD25) -> #VALUE! | E25: 1 | F25: R1 | G25: R2
A26: Coiffure/ Esthetique/ Bien être | B26: intervenant 23 | C26: =CONCATENATE(Voeux!D26:HD26) -> #VALUE! | E26: 1 | F26: 1 | G26: 2 | H26: 2 | I26: 3 | J26: 3 | K26: R4 | L26: r4 | M26: R5 | N26: R5 | O26: R6 | P26: R6 | Q26: R1 | R26: R5
A27: Coiffure/ Esthetique/ Bien être | B27: intervenant 24 | C27: =CONCATENATE(Voeux!D27:HD27) -> #VALUE! | E27: 1 | F27: 2 | G27: 3 | H27: 3 | I27: 1 | J27: 4 | K27: R2 | L27: R4 | M27: R5 | N27: R5 | O27: R6 | Q27: R3 | R27: R2
A28: Coiffure/ Esthetique/ Bien être | B28: intervenant 25 | C28: =CONCATENATE(Voeux!D28:HD28) -> #VALUE! | E28: 3 | F28: 2 | G28: 2 | H28: 3 | I28: 1 | J28: 1 | K28: R4 | L28: r4 | M28: R5 | N28: R5 | O28: R6 | P28: R6 | Q28: R2 | R28: R3
A29: Commerce/Marketing/Vente/Logistique | B29: intervenant 26 | C29: =CONCATENATE(Voeux!D29:HD29) -> #VALUE! | E29: 1 | F29: 2 | G29: 2 | H29: 3 | I29: 3 | J29: 4 | K29: 4 | L29: 5 | M29: 5 | N29: 6 | O29: R6 | P29: R1
A30: Commerce/Marketing/Vente/Logistique | B30: intervenant 27 | C30: =CONCATENATE(Voeux!D30:HD30) -> #VALUE! | E30: 1 | F30: 1 | G30: 2 | H30: 3 | I30: 2 | J30: 3 | K30: R4 | L30: R4 | M30: R5 | N30: R6
A31: Commerce/Marketing/Vente/Logistique | B31: intervenant 28 | C31: =CONCATENATE(Voeux!D31:HD31) -> #VALUE! | E31: 3 | F31: 1 | G31: 2 | H31: 2 | I31: 3 | J31: 1 | K31: R4 | L31: R5 | M31: R4 | N31: R5
A32: Commerce/Marketing/Vente/Logistique | B32: intervenant 29 | C32: =CONCATENATE(Voeux!D32:HD32) -> #VALUE! | E32: 1 | F32: 3 | G32: 1 | H32: 2 | I32: 2 | J32: r3 | K32: R6 | L32: R4 | M32: R4 | Q32: R1 | R32: R3
A33: Commerce/Marketing/Vente/Logistique | B33: intervenant 30 | C33: =CONCATENATE(Voeux!D33:HD33) -> #VALUE! | E33: 2 | F33: 3 | G33: 3 | H33: 5 | I33: 4 | J33: 1 | K33: 4 | L33: 1 | M33: 2 | N33: R5
A34: Commerce/Marketing/Vente/Logistique | B34: intervenant 31 | C34: =CONCATENATE(Voeux!D34:HD34) -> #VALUE! | E34: 4 | F34: 1 | G34: 4 | H34: 1 | I34: 2 | J34: 3 | K34: 3 | L34: R2 | M34: R5
A35: Commerce/Marketing/Vente/Logistique | B35: intervenant 32 | C35: =CONCATENATE(Voeux!D35:HD35) -> #VALUE!
A36: Commerce/Marketing/Vente/Logistique | B36: intervenant 33 | C36: =CONCATENATE(Voeux!D36:HD36) -> #VALUE! | E36: 2 | F36: 3 | G36: 3 | H36: 2 | I36: 1 | J36: R5 | K36: R1 | L36: R4
A37: Commerce/Marketing/Vente/Logistique | B37: intervenant 34 | C37: =CONCATENATE(Voeux!D37:HD37) -> #VALUE! | E37: 1 | F37: 2 | G37: 3 | H37: 1 | I37: 2 | J37: 3
A38: Commerce/Marketing/Vente/Logistique | B38: intervenant 35 | C38: =CONCATENATE(Voeux!D38:HD38) -> #VALUE! | E38: 2 | F38: 3 | G38: 3 | H38: 2 | I38: 1 | J38: 1 | K38: R4 | L38: R5 | M38: R6
A39: Commerce/Marketing/Vente/Logistique | B39: intervenant 36 | C39: =CONCATENATE(Voeux!D39:HD39) -> #VALUE! | E39: 2 | F39: 3 | G39: 4 | H39: 1 | I39: 1 | J39: 2 | K39: R4 | L39: R3 | M39: R6
A40: Culture | B40: intervenant 37 | C40: =CONCATENATE(Voeux!D40:HD40) -> #VALUE! | E40: 1 | F40: 1 | G40: 2 | H40: 2 | I40: 3 | J40: R3
...
