Workbook

Sheet Export
A1: Objet | B1: Désignation | C1: Qté Stock | D1: Qté Caisse | E1: Qté Mag | F1: ECARTS
A2: 2000001059 | B2: MODULE FRANCEL REF 133612 | C2: 1 | D2: =IFERROR(VLOOKUP(A2,'Gazfio&Francel'!$E$6:$F$209,2,0),"") -> 2 | F2: =IFERROR(C2-(E2+D2),"") -> -1
A3: 2000082351 | B3: CLAPET FRANCEL REF 144526 | C3: 1 | D3: =IFERROR(VLOOKUP(A3,'Gazfio&Francel'!$E$6:$F$209,2,0),"") | F3: =IFERROR(C3-(E3+D3),"")
A4: 2000001056 | B4: MODULE FRANCEL REF 133107 | C4: 1 | D4: =IFERROR(VLOOKUP(A4,'Gazfio&Francel'!$E$6:$F$209,2,0),"") -> 2 | F4: =IFERROR(C4-(E4+D4),"") -> -1
A5: 2000087703 | B5: KIT REV V2 SOUP PVS 782 DN 50 PF4905548 | C5: 6 | D5: =IFERROR(VLOOKUP(A5,'Gazfio&Francel'!$E$6:$F$209,2,0),"") | F5: =IFERROR(C5-(E5+D5),"")
A6: 2000070818 | B6: MODULE 130 FRANCEL REF 137745 | C6: 1 | D6: =IFERROR(VLOOKUP(A6,'Gazfio&Francel'!$E$6:$F$209,2,0),"") -> 1 | F6: =IFERROR(C6-(E6+D6),"") -> 0
A7: 2000001092 | B7: MODULE FRANCEL REF 133680 | C7: 1 | D7: =IFERROR(VLOOKUP(A7,'Gazfio&Francel'!$E$6:$F$209,2,0),"") -> 1 | F7: =IFERROR(C7-(E7+D7),"") -> 0
A8: 2000058623 | B8: RECHAUFFEUR RPE ATEX FRANCEL REF 197519 | C8: 1 | D8: =IFERROR(VLOOKUP(A8,'Gazfio&Francel'!$E$6:$F$209,2,0),"") | F8: =IFERROR(C8-(E8+D8),"")
A9: 2000082350 | B9: CLAPET FRANCEL REF 144521 | C9: 1 | D9: =IFERROR(VLOOKUP(A9,'Gazfio&Francel'!$E$6:$F$209,2,0),"") | F9: =IFERROR(C9-(E9+D9),"")
A10: 2000064198 | B10: KIT DE REPARATION GAZFIO REF 4902281 | C10: 1 | D10: =IFERROR(VLOOKUP(A10,'Gazfio&Francel'!$E$6:$F$209,2,0),"") | F10: =IFERROR(C10-(E10+D10),"")
A11: 2000067300 | B11: BLOC PILOTE D4 FRANCEL REF180372 | C11: 8 | D11: =IFERROR(VLOOKUP(A11,'Gazfio&Francel'!$E$6:$F$209,2,0),"") | F11: =IFERROR(C11-(E11+D11),"")
A12: 2000001181 | B12: CLAPET FRANCEL REF 131699 | C12: 1 | D12: =IFERROR(VLOOKUP(A12,'Gazfio&Francel'!$E$6:$F$209,2,0),"") -> 0 | F12: =IFERROR(C12-(E12+D12),"") -> 1
A13: 2000002522 | B13: MODULE POREUX FRANCEL REF 134239 | C13: 1 | D13: =IFERROR(VLOOKUP(A13,'Gazfio&Francel'!$E$6:$F$209,2,0),"") -> 1 | F13: =IFERROR(C13-(E13+D13),"") -> 0
... A27: 2000001774 | B27: CLAPET 50 FRANCEL REF 139319 | C27: 1 | D27: =IFERROR(VLOOKUP(A27,'Gazfio&Francel'!$E$6:$F$209,2,0),"") | F27: =IFERROR(C27-(E27+D27),"")
A28: 2000083973 | B28: ROB SPH Ø1/4" NPT F/M SWAG 43GM4F4LH | C28: 8 | D28: =IFERROR(VLOOKUP(A28,'Gazfio&Francel'!$E$6:$F$209,2,0),"") | E28: 10 | F28: =IFERROR(C28-(E28+D28),"")
A29: 2000073140 | B29: CLAPET GAZFIO REF 7686362 | C29: 1 | D29: =IFERROR(VLOOKUP(A29,'Gazfio&Francel'!$E$6:$F$209,2,0),"") | F29: =IFERROR(C29-(E29+D29),"")
A30: 2000002845 | B30: MEMBRANE GAZFIO REF 7656227 | C30: 1 | D30: =IFERROR(VLOOKUP(A30,'Gazfio&Francel'!$E$6:$F$209,2,0),"") | F30: =IFERROR(C30-(E30+D30),"")
A31: 2000001147 | B31: CLAPET FRANCEL REF 129707 | C31: 1 | D31: =IFERROR(VLOOKUP(A31,'Gazfio&Francel'!$E$6:$F$209,2,0),"") -> 2 | F31: =IFERROR(C31-(E31+D31),"") -> -1
A32: 2000001058 | B32: CLAPET FRANCEL REF 133610 | C32: 1 | D32: =IFERROR(VLOOKUP(A32,'Gazfio&Francel'!$E$6:$F$209,2,0),"") -> 1 | F32: =IFERROR(C32-(E32+D32),"") -> 0
A33: 2000001085 | B33: SIEGE FRANCEL REF 133153 | C33: 2 | D33: =IFERROR(VLOOKUP(A33,'Gazfio&Francel'!$E$6:$F$209,2,0),"") -> 1 | F33: =IFERROR(C33-(E33+D33),"") -> 1
A34: 2000001908 | B34: DISQUE ATTENUATION FRANCEL REF 140171 | C34: 2 | D34: =IFERROR(VLOOKUP(A34,'Gazfio&Francel'!$E$6:$F$209,2,0),"") -> 1 | F34: =IFERROR(C34-(E34+D34),"") -> 1
A35: 2000001086 | B35: CLAPET FRANCEL REF 133486 | C35: 2 | D35: =IFERROR(VLOOKUP(A35,'Gazfio&Francel'!$E$6:$F$209,2,0),"") -> 2 | F35: =IFERROR(C35-(E35+D35),"") -> 0
A36: 2000001204 | B36: CLAPET FRANCEL REF 127811 | C36: 1 | D36: =IFERROR(VLOOKUP(A36,'Gazfio&Francel'!$E$6:$F$209,2,0),"") -> 2 | F36: =IFERROR(C36-(E36+D36),"") -> -1
A37: 2000000910 | B37: ROBINET SPHERIQUE PI DN80 PN20 B LEV | C37: 1 | D37: =IFERROR(VLOOKUP(A37,'Gazfio&Francel'!$E$6:$F$209,2,0),"") | F37: =IFERROR(C37-(E37+D37),"")
A38: 2000060415 | B38: CARTOUCHE F. Ø600X405H615 METAL RENFORCE | C38: 2 | D38: =IFERROR(VLOOKUP(A38,'Gazfio&Francel'!$E$6:$F$209,2,0),"") | F38: =IFERROR(C38-(E38+D38),"")
A39: 2000062609 | B39: BOITIER MANOMETRIQUE FRANCEL REF 196630 | C39: 3 | D39: =IFERROR(VLOOKUP(A39,'Gazfio&Francel'!$E$6:$F$209,2,0),"") | F39: =IFERROR(C39-(E39+D39),"")
A40: 2000001297 | B40: CLAPET DE SECURITE FRANCEL REF 130377 | C40: 1 | D40: =IFERROR(VLOOKUP(A40,'Gazfio&Francel'!$E$6:$F$209,2,0),"") -> 1 | F40: =IFERROR(C40-(E40+D40),"") -> 0
... A45: 2000001188 | B45: SIEGE FRANCEL REF 130559 | C45: 1 | D45: =IFERROR(VLOOKUP(A45,'Gazfio&Francel'!$E$6:$F$209,2,0),"") -> 0 | F45: =IFERROR(C45-(E45+D45),"") -> 1
A46: 2000083969 | B46: ROB SPH Ø1/4" NPT FEMELLE SWAG 43GF4LH | C46: 6 | D46: =IFERROR(VLOOKUP(A46,'Gazfio&Francel'!$E$6:$F$209,2,0),"") | E46: 5 | F46: =IFERROR(C46-(E46+D46),"")
A47: 2000001168 | B47: SIEGE FRANCEL REF 130782A | C47: 1 | D47: =IFERROR(VLOOKUP(A47,'Gazfio&Francel'!$E$6:$F$209,2,0),"") -> 1 | F47: =IFERROR(C47-(E47+D47),"") -> 0
A48: 2000058385 | B48: JOINT GAZFIO REF 2622288 | C48: 2 | D48: =IFERROR(VLOOKUP(A48,'Gazfio&Francel'!$E$6:$F$209,2,0),"") | F48: =IFERROR(C48-(E48+D48),"")
A49: 2000061649 | B49: SIEGE GAZFIO REF 7121445/7121396 | C49: 2 | D49: =IFERROR(VLOOKUP(A49,'Gazfio&Francel'!$E$6:$F$209,2,0),"") | F49: =IFERROR(C49-(E49+D49),"")
A50: 2000058785 | B50: CLAPET DE SECURITE FRANCEL REF 144579 | C50: 1 | D50: =IFERROR(VLOOKUP(A50,'Gazfio&Francel'!$E$6:$F$209,2,0),"") -> 1 | F50: =IFERROR(C50-(E50+D50),"") -> 0
A51: 2000001192 | B51: SIEGE FRANCEL REF 129476 | C51: 1 | D51: =IFERROR(VLOOKUP(A51,'Gazfio&Francel'!$E$6:$F$209,2,0),"") -> 1 | F51: =IFERROR(C51-(E51+D51),"") -> 0
A52: 2000001065 | B52: TIGE DE COMMANDE FRANCEL REF 137406 | C52: 1 | D52: =IFERROR(VLOOKUP(A52,'Gazfio&Francel'!$E$6:$F$209,2,0),"") -> 1 | F52: =IFERROR(C52-(E52+D52),"") -> 0
A53: 2000089262 | B53: PATCH PAD TRENTON 150MMX150MM | C53: 40 | D53: =IFERROR(VLOOKUP(A53,'Gazfio&Francel'!$E$6:$F$209,2,0),"") | F53: =IFERROR(C53-(E53+D53),"")
A54: 2000043694 | B54: CADENAS DENY MOD99611 - ORG 11052 REP W | C54: 3 | D54: =IFERROR(VLOOKUP(A54,'Gazfio&Francel'!$E$6:$F$209,2,0),"") | F54: =IFERROR(C54-(E54+D54),"")
A55: 2000001242 | B55: CLAPET SECURITE 50 FRANCEL REF 130274 | C55: 1 | D55: =IFERROR(VLOOKUP(A55,'Gazfio&Francel'!$E$6:$F$209,2,0),"") -> 1 | F55: =IFERROR(C55-(E55+D55),"") -> 0
A56: 2000054992 | B56: SIEGE GAZFIO REF 7121565/7121520 | C56: 1 | D56: =IFERROR(VLOOKUP(A56,'Gazfio&Francel'!$E$6:$F$209,2,0),"") | F56: =IFERROR(C56-(E56+D56),"")
A57: 2000001210 | B57: SIEGE FRANCEL REF 130357 | C57: 1 | D57: =IFERROR(VLOOKUP(A57,'Gazfio&Francel'!$E$6:$F$209,2,0),"") -> 1 | F57: =IFERROR(C57-(E57+D57),"") -> 0
...

Sheet Gazfio&Francel
A1: G
B3: GAZFIO | E3: FRANCEL
C4: Qté | F4: Qté
B5: 2000002858 | C5: 1 | E5: 2000067471 | F5: 0
B6: 2000002021 | C6: 6 | E6: 2000001046 | F6: 1
B7: 2000001859 | C7: 7 | E7: 2000001051 | F7: 0
B8: 2000043256 | C8: 1 | E8: 2000001052 | F8: 2
B9: 2000001986 | C9: 6 | E9: 2000001056 | F9: 2
B10: 2000002008 | C10: 11 | E10: 2000001058 | F10: 1
B11: 2000002006 | C11: 1 | E11: 2000001059 | F11: 2
B12: 2000002163 | C12: 4 | E12: 2000001061 | F12: 1
B13: 2000010573 | C13: 1 | E13: 2000001064 | F13: 2
B14: 2000001875 | C14: 4 | E14: 2000001065 | F14: 1
B15: 2000002553 | C15: 2 | E15: 2000001067 | F15: 1
B16: 2000043260 | C16: 0 | E16: 2000001068 | F16: 1
... B187: 2000056952 | C187: 0 | E187: 2000084977 | F187: 0
E188: 2000084978 | F188: 0
E189: 2000084994 | F189: 0
E190: 2000084995 | F190: 0
E191: 2000084996 | F191: 0
E192: 2000085017 | F192: 1
E193: 2000085031 | F193: 1
E194: 2000085032 | F194: 0
E195: 2000085449 | F195: 0
E196: 2000085828 | F196: 0
E197: 2000008899 | F197: 0
E198: 2000008900 | F198: 1
E199: 2000009270 | F199: 1
... E201: 2000009381 | F201: 4
E202: Pas de ref | F202: 0
E203: Pas de réf | F203: 0
E204: Pas de réf | F204: 0
E205: 200001573 | F205: 200401652
E206: 200001782 | F206: 200401797
E207: 200001791 | F207: 200402999
E208: 200001774 | F208: 200141094
E209: 200001211 | F209: 200001213
