Workbook

Sheet Export
A1: Objet | B1: Désignation | C1: Qté Stock | D1: Qté Caisse | E1: Qté Mag | F1: ECARTS
A2: 2000001059 | B2: MODULE FRANCEL REF 133612 | C2: 1 | D2: =IFERROR(VLOOKUP(A2,'Gazfio&Francel'!$E$6:$F$209,2,0),"") -> 2 | F2: =IFERROR(C2-(E2+D2),"") -> -1
A3: 2000082351 | B3: CLAPET FRANCEL REF 144526 | C3: 1 | D3: =IFERROR(VLOOKUP(A3,'Gazfio&Francel'!$E$6:$F$209,2,0),"") | F3: =IFERROR(C3-(E3+D3),"")
A4: 2000001056 | B4: MODULE FRANCEL REF 133107 | C4: 1 | D4: =IFERROR(VLOOKUP(A4,'Gazfio&Francel'!$E$6:$F$209,2,0),"") -> 2 | F4: =IFERROR(C4-(E4+D4),"") -> -1
A5: 2000087703 | B5: KIT REV V2 SOUP PVS 782 DN 50 PF4905548 | C5: 6 | D5: =IFERROR(VLOOKUP(A5,'Gazfio&Francel'!$E$6:$F$209,2,0),"") | F5: =IFERROR(C5-(E5+D5),"")
A6: 2000070818 | B6: MODULE 130 FRANCEL REF 137745 | C6: 1 | D6: =IFERROR(VLOOKUP(A6,'Gazfio&Francel'!$E$6:$F$209,2,0),"") -> 1 | F6: =IFERROR(C6-(E6+D6),"") -> 0
A7: 2000001092 | B7: MODULE FRANCEL REF 133680 | C7: 1 | D7: =IFERROR(VLOOKUP(A7,'Gazfio&Francel'!$E$6:$F$209,2,0),"") -> 1 | F7: =IFERROR(C7-(E7+D7),"") -> 0
A8: 2000058623 | B8: RECHAUFFEUR RPE ATEX FRANCEL REF 197519 | C8: 1 | D8: =IFERROR(VLOOKUP(A8,'Gazfio&Francel'!$E$6:$F$209,2,0),"") | F8: =IFERROR(C8-(E8+D8),"")
A9: 2000082350 | B9: CLAPET FRANCEL REF 144521 | C9: 1 | D9: =IFERROR(VLOOKUP(A9,'Gazfio&Francel'!$E$6:$F$209,2,0),"") | F9: =IFERROR(C9-(E9+D9),"")
A10: 2000064198 | B10: KIT DE REPARATION GAZFIO REF 4902281 | C10: 1 | D10: =IFERROR(VLOOKUP(A10,'Gazfio&Francel'!$E$6:$F$209,2,0),"") | F10: =IFERROR(C10-(E10+D10),"")
A11: 2000067300 | B11: BLOC PILOTE D4 FRANCEL REF180372 | C11: 8 | D11: =IFERROR(VLOOKUP(A11,'Gazfio&Francel'!$E$6:$F$209,2,0),"") | F11: =IFERROR(C11-(E11+D11),"")
A12: 2000001181 | B12: CLAPET FRANCEL REF 131699 | C12: 1 | D12: =IFERROR(VLOOKUP(A12,'Gazfio&Francel'!$E$6:$F$209,2,0),"") -> 0 | F12: =IFERROR(C12-(E12+D12),"") -> 1
A13: 2000002522 | B13: MODULE POREUX FRANCEL REF 134239 | C13: 1 | D13: =IFERROR(VLOOKUP(A13,'Gazfio&Francel'!$E$6:$F$209,2,0),"") -> 1 | F13: =IFERROR(C13-(E13+D13),"") -> 0
... A27: 2000001774 | B27: CLAPET 50 FRANCEL REF 139319 | C27: 1 | D27: =IFERROR(VLOOKUP(A27,'Gazfio&Francel'!$E$6:$F$209,2,0),"") | F27: =IFERROR(C27-(E27+D27),"")
A28: 2000083973 | B28: ROB SPH Ø1/4" NPT F/M SWAG 43GM4F4LH | C28: 8 | D28: =IFERROR(VLOOKUP(A28,'Gazfio&Francel'!$E$6:$F$209,2,0),"") | E28: 10 | F28: =IFERROR(C28-(E28+D28),"")
A29: 2000073140 | B29: CLAPET GAZFIO REF 7686362 | C29: 1 | D29: =IFERROR(VLOOKUP(A29,'Gazfio&Francel'!$E$6:$F$209,2,0),"") | F29: =IFERROR(C29-(E29+D29),"")
A30: 2000002845 | B30: MEMBRANE GAZFIO REF 7656227 | C30: 1 | D30: =IFERROR(VLOOKUP(A30,'Gazfio&Francel'!$E$6:$F$209,2,0),"") | F30: =IFERROR(C30-(E30+D30),"")
A31: 2000001147 | B31: CLAPET FRANCEL REF 129707 | C31: 1 | D31: =IFERROR(VLOOKUP(A31,'Gazfio&Francel'!$E$6:$F$209,2,0),"") -> 2 | F31: =IFERROR(C31-(E31+D31),"") -> -1
A32: 2000001058 | B32: CLAPET FRANCEL REF 133610 | C32: 1 | D32: =IFERROR(VLOOKUP(A32,'Gazfio&Francel'!$E$6:$F$209,2,0),"") -> 1 | F32: =IFERROR(C32-(E32+D32),"") -> 0
A33: 2000001085 | B33: SIEGE FRANCEL REF 133153 | C33: 2 | D33: =IFERROR(VLOOKUP(A33,'Gazfio&Francel'!$E$6:$F$209,2,0),"") -> 1 | F33: =IFERROR(C33-(E33+D33),"") -> 1
A34: 2000001908 | B34: DISQUE ATTENUATION FRANCEL REF 140171 | C34: 2 | D34: =IFERROR(VLOOKUP(A34,'Gazfio&Francel'!$E$6:$F$209,2,0),"") -> 1 | F34: =IFERROR(C34-(E34+D34),"") -> 1
A35: 2000001086 | B35: CLAPET FRANCEL REF 133486 | C35: 2 | D35: =IFERROR(VLOOKUP(A35,'Gazfio&Francel'!$E$6:$F$209,2,0),"") -> 2 | F35: =IFERROR(C35-(E35+D35),"") -> 0
A36: 2000001204 | B36: CLAPET FRANCEL REF 127811 | C36: 1 | D36: =IFERROR(VLOOKUP(A36,'Gazfio&Francel'!$E$6:$F$209,2,0),"") -> 2 | F36: =IFERROR(C36-(E36+D36),"") -> -1
A37: 2000000910 | B37: ROBINET SPHERIQUE PI DN80 PN20 B LEV | C37: 1 | D37: =IFERROR(VLOOKUP(A37,'Gazfio&Francel'!$E$6:$F$209,2,0),"") | F37: =IFERROR(C37-(E37+D37),"")
A38: 2000060415 | B38: CARTOUCHE F. Ø600X405H615 METAL RENFORCE | C38: 2 | D38: =IFERROR(VLOOKUP(A38,'Gazfio&Francel'!$E$6:$F$209,2,0),"") | F38: =IFERROR(C38-(E38+D38),"")
A39: 2000062609 | B39: BOITIER MANOMETRIQUE FRANCEL REF 196630 | C39: 3 | D39: =IFERROR(VLOOKUP(A39,'Gazfio&Francel'!$E$6:$F$209,2,0),"") | F39: =IFERROR(C39-(E39+D39),"")
A40: 2000001297 | B40: CLAPET DE SECURITE FRANCEL REF 130377 | C40: 1 | D40: =IFERROR(VLOOKUP(A40,'Gazfio&Francel'!$E$6:$F$209,2,0),"") -> 1 | F40: =IFERROR(C40-(E40+D40),"") -> 0
... A45: 2000001188 | B45: SIEGE FRANCEL REF 130559 | C45: 1 | D45: =IFERROR(VLOOKUP(A45,'Gazfio&Francel'!$E$6:$F$209,2,0),"") -> 0 | F45: =IFERROR(C45-(E45+D45),"") -> 1
A46: 2000083969 | B46: ROB SPH Ø1/4" NPT FEMELLE SWAG 43GF4LH | C46: 6 | D46: =IFERROR(VLOOKUP(A46,'Gazfio&Francel'!$E$6:$F$209,2,0),"") | E46: 5 | F46: =IFERROR(C46-(E46+D46),"")
A47: 2000001168 | B47: SIEGE FRANCEL REF 130782A | C47: 1 | D47: =IFERROR(VLOOKUP(A47,'Gazfio&Francel'!$E$6:$F$209,2,0),"") -> 1 | F47: =IFERROR(C47-(E47+D47),"") -> 0
A48: 2000058385 | B48: JOINT GAZFIO REF 2622288 | C48: 2 | D48: =IFERROR(VLOOKUP(A48,'Gazfio&Francel'!$E$6:$F$209,2,0),"") | F48: =IFERROR(C48-(E48+D48),"")
A49: 2000061649 | B49: SIEGE GAZFIO REF 7121445/7121396 | C49: 2 | D49: =IFERROR(VLOOKUP(A49,'Gazfio&Francel'!$E$6:$F$209,2,0),"") | F49: =IFERROR(C49-(E49+D49),"")
A50: 2000058785 | B50: CLAPET DE SECURITE FRANCEL REF 144579 | C50: 1 | D50: =IFERROR(VLOOKUP(A50,'Gazfio&Francel'!$E$6:$F$209,2,0),"") -> 1 | F50: =IFERROR(C50-(E50+D50),"") -> 0
A51: 2000001192 | B51: SIEGE FRANCEL REF 129476 | C51: 1 | D51: =IFERROR(VLOOKUP(A51,'Gazfio&Francel'!$E$6:$F$209,2,0),"") -> 1 | F51: =IFERROR(C51-(E51+D51),"") -> 0
A52: 2000001065 | B52: TIGE DE COMMANDE FRANCEL REF 137406 | C52: 1 | D52: =IFERROR(VLOOKUP(A52,'Gazfio&Francel'!$E$6:$F$209,2,0),"") -> 1 | F52: =IFERROR(C52-(E52+D52),"") -> 0
A53: 2000089262 | B53: PATCH PAD TRENTON 150MMX150MM | C53: 40 | D53: =IFERROR(VLOOKUP(A53,'Gazfio&Francel'!$E$6:$F$209,2,0),"") | F53: =IFERROR(C53-(E53+D53),"")
A54: 2000043694 | B54: CADENAS DENY MOD99611 - ORG 11052 REP W | C54: 3 | D54: =IFERROR(VLOOKUP(A54,'Gazfio&Francel'!$E$6:$F$209,2,0),"") | F54: =IFERROR(C54-(E54+D54),"")
A55: 2000001242 | B55: CLAPET SECURITE 50 FRANCEL REF 130274 | C55: 1 | D55: =IFERROR(VLOOKUP(A55,'Gazfio&Francel'!$E$6:$F$209,2,0),"") -> 1 | F55: =IFERROR(C55-(E55+D55),"") -> 0
A56: 2000054992 | B56: SIEGE GAZFIO REF 7121565/7121520 | C56: 1 | D56: =IFERROR(VLOOKUP(A56,'Gazfio&Francel'!$E$6:$F$209,2,0),"") | F56: =IFERROR(C56-(E56+D56),"")
A57: 2000001210 | B57: SIEGE FRANCEL REF 130357 | C57: 1 | D57: =IFERROR(VLOOKUP(A57,'Gazfio&Francel'!$E$6:$F$209,2,0),"") -> 1 | F57: =IFERROR(C57-(E57+D57),"") -> 0
A58: 2000058832 | B58: SOUPAPE PIL 20/70B+FILTRE FRANCEL 181257 | C58: 3 | D58: =IFERROR(VLOOKUP(A58,'Gazfio&Francel'!$E$6:$F$209,2,0),"") | F58: =IFERROR(C58-(E58+D58),"")
... A90: 2000077081 | B90: CLAPET SPS 50 FRANCEL REF 197921 | C90: 1 | D90: =IFERROR(VLOOKUP(A90,'Gazfio&Francel'!$E$6:$F$209,2,0),"") | F90: =IFERROR(C90-(E90+D90),"")
A91: 2000008037 | B91: CROIX UNION INOX 10MM SWAG 10M04 | C91: 8 | D91: =IFERROR(VLOOKUP(A91,'Gazfio&Francel'!$E$6:$F$209,2,0),"") | E91: 5 | F91: =IFERROR(C91-(E91+D91),"")
A92: 2000002871 | B92: JOINT GAZFIO REF 7600200 | C92: 2 | D92: =IFERROR(VLOOKUP(A92,'Gazfio&Francel'!$E$6:$F$209,2,0),"") | F92: =IFERROR(C92-(E92+D92),"")
A93: 2000045935 | B93: HORLOGERIE MECAN. PR ENREG. MAXANT 1MOIS | C93: 1 | D93: =IFERROR(VLOOKUP(A93,'Gazfio&Francel'!$E$6:$F$209,2,0),"") | F93: =IFERROR(C93-(E93+D93),"")
A94: 2000002405 | B94: TIGE DE COMMANDE FRANCEL REF 133489 | C94: 1 | D94: =IFERROR(VLOOKUP(A94,'Gazfio&Francel'!$E$6:$F$209,2,0),"") -> 1 | F94: =IFERROR(C94-(E94+D94),"") -> 0
A95: 2000078611 | B95: CARTOUCHE CDO 40/12 120X80H300 A221492 | C95: 2 | D95: =IFERROR(VLOOKUP(A95,'Gazfio&Francel'!$E$6:$F$209,2,0),"") | F95: =IFERROR(C95-(E95+D95),"")
A96: 2000086317 | B96: ROB SPH PI Ø1/4" PN150 NPT -46°C | C96: 6 | D96: =IFERROR(VLOOKUP(A96,'Gazfio&Francel'!$E$6:$F$209,2,0),"") | F96: =IFERROR(C96-(E96+D96),"")
A97: 2000002310 | B97: SOUFFLET FRANCEL REF 180275/180922 | C97: 1 | D97: =IFERROR(VLOOKUP(A97,'Gazfio&Francel'!$E$6:$F$209,2,0),"") -> 0 | F97: =IFERROR(C97-(E97+D97),"") -> 1
A98: 2000076867 | B98: ROB POINTEAU INOX SWAG REF SS_1RS10MM | C98: 4 | D98: =IFERROR(VLOOKUP(A98,'Gazfio&Francel'!$E$6:$F$209,2,0),"") | E98: 3 | F98: =IFERROR(C98-(E98+D98),"")
A99: 2000001164 | B99: MEMBRANE DIA375 FRANCEL REF105245B | C99: 1 | D99: =IFERROR(VLOOKUP(A99,'Gazfio&Francel'!$E$6:$F$209,2,0),"") -> 2 | F99: =IFERROR(C99-(E99+D99),"") -> -1
A100: 2000002019 | B100: GARNITURE GAZFIO REF 7121221 | C100: 2 | D100: =IFERROR(VLOOKUP(A100,'Gazfio&Francel'!$E$6:$F$209,2,0),"") | F100: =IFERROR(C100-(E100+D100),"")
A101: 2000060384 | B101: CARTOUCHE F. Ø305X205H413 METAL RENFORCE | C101: 3 | D101: =IFERROR(VLOOKUP(A101,'Gazfio&Francel'!$E$6:$F$209,2,0),"") | F101: =IFERROR(C101-(E101+D101),"")
A102: 2000001185 | B102: TIGE DE COMMANDE FRANCEL REF 133222 | C102: 1 | D102: =IFERROR(VLOOKUP(A102,'Gazfio&Francel'!$E$6:$F$209,2,0),"") | F102: =IFERROR(C102-(E102+D102),"")
A103: 2000043818 | B103: CLAPET GAZFIO REF 7818014 | C103: 1 | D103: =IFERROR(VLOOKUP(A103,'Gazfio&Francel'!$E$6:$F$209,2,0),"") | F103: =IFERROR(C103-(E103+D103),"")
A104: 2000060346 | B104: CARTOUCHE F. Ø255X155H620 METAL RENFORCE | C104: 2 | D104: =IFERROR(VLOOKUP(A104,'Gazfio&Francel'!$E$6:$F$209,2,0),"") | F104: =IFERROR(C104-(E104+D104),"")
A105: 2000081705 | B105: S/E CLAPET EZH SO DN80 FA199438X12 | C105: 1 | D105: =IFERROR(VLOOKUP(A105,'Gazfio&Francel'!$E$6:$F$209,2,0),"") -> 1 | F105: =IFERROR(C105-(E105+D105),"") -> 0
A106: 2000088202 | B106: COUDE UNION INOX 10X1/4"NPTM SWAG 10M024 | C106: 20 | D106: =IFERROR(VLOOKUP(A106,'Gazfio&Francel'!$E$6:$F$209,2,0),"") | F106: =IFERROR(C106-(E106+D106),"")
A107: 2000001285 | B107: SIEGE FRANCEL REF 130276 | C107: 1 | D107: =IFERROR(VLOOKUP(A107,'Gazfio&Francel'!$E$6:$F$209,2,0),"") -> 1 | F107: =IFERROR(C107-(E107+D107),"") -> 0
A108: 2000083968 | B108: ROB SPH PAS REDUIT 10MM SWAG 43GS10MMLH | C108: 3 | D108: =IFERROR(VLOOKUP(A108,'Gazfio&Francel'!$E$6:$F$209,2,0),"") | E108: 1 | F108: =IFERROR(C108-(E108+D108),"")
A109: 2000001298 | B109: TIGE DE COMMANDE FRANCEL REF 133005 | C109: 1 | D109: =IFERROR(VLOOKUP(A109,'Gazfio&Francel'!$E$6:$F$209,2,0),"") -> 1 | F109: =IFERROR(C109-(E109+D109),"") -> 0
A110: 2000001061 | B110: SIEGE FRANCEL REF 133613 | C110: 1 | D110: =IFERROR(VLOOKUP(A110,'Gazfio&Francel'!$E$6:$F$209,2,0),"") -> 1 | F110: =IFERROR(C110-(E110+D110),"") -> 0
A111: 2000085433 | B111: MAMELON GAZFIO REF 7730023 | C111: 10 | D111: =IFERROR(VLOOKUP(A111,'Gazfio&Francel'!$E$6:$F$209,2,0),"") | F111: =IFERROR(C111-(E111+D111),"")
A112: 2000002177 | B112: MEMBRANE GAZFIO REF 7656027 | C112: 11 | D112: =IFERROR(VLOOKUP(A112,'Gazfio&Francel'!$E$6:$F$209,2,0),"") | F112: =IFERROR(C112-(E112+D112),"")
A113: 2000001081 | B113: TIGE DE COMMANDE FRANCEL REF 128304 | C113: 1 | D113: =IFERROR(VLOOKUP(A113,'Gazfio&Francel'!$E$6:$F$209,2,0),"") -> 1 | F113: =IFERROR(C113-(E113+D113),"") -> 0
A114: 2000001925 | B114: SOUFFLET 227/180924A/180330/195758 | C114: 1 | D114: =IFERROR(VLOOKUP(A114,'Gazfio&Francel'!$E$6:$F$209,2,0),"") -> 0 | F114: =IFERROR(C114-(E114+D114),"") -> 1
A115: 2000001097 | B115: TIGE DE COMMANDE FRANCEL REF 134511 | C115: 1 | D115: =IFERROR(VLOOKUP(A115,'Gazfio&Francel'!$E$6:$F$209,2,0),"") -> 0 | F115: =IFERROR(C115-(E115+D115),"") -> 1
A116: 2000002090 | B116: SIEGE GAZFIO REF 7121007 | C116: 10 | D116: =IFERROR(VLOOKUP(A116,'Gazfio&Francel'!$E$6:$F$209,2,0),"") | F116: =IFERROR(C116-(E116+D116),"")
A117: 2000011534 | B117: HUILE COMPTEUR ISOFLEX PDP38 BIDON 1L | C117: 2 | D117: =IFERROR(VLOOKUP(A117,'Gazfio&Francel'!$E$6:$F$209,2,0),"") | F117: =IFERROR(C117-(E117+D117),"")
A118: 2000002878 | B118: JOINT GAZFIO REF 7600196 | C118: 4 | D118: =IFERROR(VLOOKUP(A118,'Gazfio&Francel'!$E$6:$F$209,2,0),"") | F118: =IFERROR(C118-(E118+D118),"")
A119: 2000086544 | B119: KIT REV BOITIER BMS 071 REF199692 | C119: 6 | D119: =IFERROR(VLOOKUP(A119,'Gazfio&Francel'!$E$6:$F$209,2,0),"") | F119: =IFERROR(C119-(E119+D119),"")
A120: 2000031420 | B120: TIGE FILETEE+2 ECR ZI SG_M193 M33x230 | C120: 40 | D120: =IFERROR(VLOOKUP(A120,'Gazfio&Francel'!$E$6:$F$209,2,0),"") | F120: =IFERROR(C120-(E120+D120),"")
... A124: 2000021313 | B124: SIEGE GAZFIO REF 7770654 | C124: 1 | D124: =IFERROR(VLOOKUP(A124,'Gazfio&Francel'!$E$6:$F$209,2,0),"") | F124: =IFERROR(C124-(E124+D124),"")
A125: 2000083978 | B125: ROB SPHERIQUE INOX AVC TIRANT 1/2"NPT FE | C125: 2 | D125: =IFERROR(VLOOKUP(A125,'Gazfio&Francel'!$E$6:$F$209,2,0),"") | E125: 5 | F125: =IFERROR(C125-(E125+D125),"")
A126: 2000009521 | B126: GARNITURE GAZFIO REF 7121001 | C126: 11 | D126: =IFERROR(VLOOKUP(A126,'Gazfio&Francel'!$E$6:$F$209,2,0),"") | F126: =IFERROR(C126-(E126+D126),"")
A127: 2000058828 | B127: ROBINET AR73 REF PILO1440 | C127: 1 | D127: =IFERROR(VLOOKUP(A127,'Gazfio&Francel'!$E$6:$F$209,2,0),"") | F127: =IFERROR(C127-(E127+D127),"")
A128: 2000001559 | B128: MEMBRANE FRANCEL REF 139824/142280C | C128: 1 | D128: =IFERROR(VLOOKUP(A128,'Gazfio&Francel'!$E$6:$F$209,2,0),"") | F128: =IFERROR(C128-(E128+D128),"")
A129: 2000002506 | B129: CLAPET GAZFIO REF 7818051 | C129: 1 | D129: =IFERROR(VLOOKUP(A129,'Gazfio&Francel'!$E$6:$F$209,2,0),"") | F129: =IFERROR(C129-(E129+D129),"")
A130: 2000060796 | B130: PRESSE ETOUPE+TIGE FRANCEL REF 181040 | C130: 2 | D130: =IFERROR(VLOOKUP(A130,'Gazfio&Francel'!$E$6:$F$209,2,0),"") | F130: =IFERROR(C130-(E130+D130),"")
A131: 2000002568 | B131: SIEGE GAZFIO REF 7770653 (EX 7770650) | C131: 1 | D131: =IFERROR(VLOOKUP(A131,'Gazfio&Francel'!$E$6:$F$209,2,0),"") | F131: =IFERROR(C131-(E131+D131),"")
A132: 2000001799 | B132: FILTRE POREUX FRANCEL REF 118926B | C132: 9 | D132: =IFERROR(VLOOKUP(A132,'Gazfio&Francel'!$E$6:$F$209,2,0),"") -> 0 | F132: =IFERROR(C132-(E132+D132),"") -> 9
A133: 2000085017 | B133: SIEGE FRANCEL REF ERAA05563A0 | C133: 1 | D133: =IFERROR(VLOOKUP(A133,'Gazfio&Francel'!$E$6:$F$209,2,0),"") -> 1 | F133: =IFERROR(C133-(E133+D133),"") -> 0
A134: 2000002137 | B134: CLAPET GAZFIO REF 7200003 | C134: 7 | D134: =IFERROR(VLOOKUP(A134,'Gazfio&Francel'!$E$6:$F$209,2,0),"") | F134: =IFERROR(C134-(E134+D134),"")
A135: 2000007881 | B135: SERRURE SIMPLE CANON SS GACHE REF 12185 | C135: 3 | D135: =IFERROR(VLOOKUP(A135,'Gazfio&Francel'!$E$6:$F$209,2,0),"") | F135: =IFERROR(C135-(E135+D135),"")
A136: 2000001857 | B136: GARNITURE GAZFIO REF 7121401 | C136: 1 | D136: =IFERROR(VLOOKUP(A136,'Gazfio&Francel'!$E$6:$F$209,2,0),"") | F136: =IFERROR(C136-(E136+D136),"")
A137: 2000008035 | B137: COUDE UNION INOX 10X1/2"NPTM SWAG 10M028 | C137: 10 | D137: =IFERROR(VLOOKUP(A137,'Gazfio&Francel'!$E$6:$F$209,2,0),"") | E137: 11 | F137: =IFERROR(C137-(E137+D137),"")
A138: 2000001327 | B138: MEMBRANE FRANCEL REF 142434/139569 | C138: 2 | D138: =IFERROR(VLOOKUP(A138,'Gazfio&Francel'!$E$6:$F$209,2,0),"") -> 1 | F138: =IFERROR(C138-(E138+D138),"") -> 1
A139: 2000008032 | B139: UNION INOX 10MM X 1/2"NPTM SWAG 10M018 | C139: 20 | D139: =IFERROR(VLOOKUP(A139,'Gazfio&Francel'!$E$6:$F$209,2,0),"") | E139: 16 | F139: =IFERROR(C139-(E139+D139),"")
A140: 2000003686 | B140: REDUCT H M_F A350LF2 3000 Ø3/8"X1/2" NPT | C140: 8 | D140: =IFERROR(VLOOKUP(A140,'Gazfio&Francel'!$E$6:$F$209,2,0),"") | F140: =IFERROR(C140-(E140+D140),"")
A141: 2000043403 | B141: SIEGE GAZFIO REF 7121336 | C141: 1 | D141: =IFERROR(VLOOKUP(A141,'Gazfio&Francel'!$E$6:$F$209,2,0),"") | F141: =IFERROR(C141-(E141+D141),"")
A142: 2000058299 | B142: DEGRAISSANT ID.RED ZEP AEROSOL 600ML | C142: 16 | D142: =IFERROR(VLOOKUP(A142,'Gazfio&Francel'!$E$6:$F$209,2,0),"") | F142: =IFERROR(C142-(E142+D142),"")
A143: 2000066877 | B143: TIGE GAZFIO REF 7805518 | C143: 1 | D143: =IFERROR(VLOOKUP(A143,'Gazfio&Francel'!$E$6:$F$209,2,0),"") | F143: =IFERROR(C143-(E143+D143),"")
A144: 2000087701 | B144: KIT REV V1 ACCELERATEUR M/A1 PF4901895 | C144: 1 | D144: =IFERROR(VLOOKUP(A144,'Gazfio&Francel'!$E$6:$F$209,2,0),"") | F144: =IFERROR(C144-(E144+D144),"")
A145: 2000009343 | B145: JOINT FRANCEL REF 401019 | C145: 3 | D145: =IFERROR(VLOOKUP(A145,'Gazfio&Francel'!$E$6:$F$209,2,0),"") | F145: =IFERROR(C145-(E145+D145),"")
A146: 2000063713 | B146: MEMBRANE FRANCEL REF REG_0192090 | C146: 2 | D146: =IFERROR(VLOOKUP(A146,'Gazfio&Francel'!$E$6:$F$209,2,0),"") -> 1 | F146: =IFERROR(C146-(E146+D146),"") -> 1
A147: 2000040345 | B147: LUBRIFIANT VANNE DESCO600 LUBE POT 5KG | C147: 1 | D147: =IFERROR(VLOOKUP(A147,'Gazfio&Francel'!$E$6:$F$209,2,0),"") | F147: =IFERROR(C147-(E147+D147),"")
A148: 2000062568 | B148: CARTOUCHE F. Ø225X105H485 METAL RENFORCE | C148: 2 | D148: =IFERROR(VLOOKUP(A148,'Gazfio&Francel'!$E$6:$F$209,2,0),"") | F148: =IFERROR(C148-(E148+D148),"")
A149: 2000016838 | B149: BOITE A CLEF DENY REF 18817 | C149: 2 | D149: =IFERROR(VLOOKUP(A149,'Gazfio&Francel'!$E$6:$F$209,2,0),"") | F149: =IFERROR(C149-(E149+D149),"")
A150: 2000083947 | B150: VIS SECURITE CULASSE MOLRY-CHIMIE M16 | C150: 1 | D150: =IFERROR(VLOOKUP(A150,'Gazfio&Francel'!$E$6:$F$209,2,0),"") | F150: =IFERROR(C150-(E150+D150),"")
A151: 2000002576 | B151: SIEGE GAZFIO 7121220 | C151: 1 | D151: =IFERROR(VLOOKUP(A151,'Gazfio&Francel'!$E$6:$F$209,2,0),"") | F151: =IFERROR(C151-(E151+D151),"")
...

Sheet Gazfio&Francel
A1: G
B3: GAZFIO | E3: FRANCEL
C4: Qté | F4: Qté
B5: 2000002858 | C5: 1 | E5: 2000067471 | F5: 0
B6: 2000002021 | C6: 6 | E6: 2000001046 | F6: 1
B7: 2000001859 | C7: 7 | E7: 2000001051 | F7: 0
B8: 2000043256 | C8: 1 | E8: 2000001052 | F8: 2
B9: 2000001986 | C9: 6 | E9: 2000001056 | F9: 2
B10: 2000002008 | C10: 11 | E10: 2000001058 | F10: 1
B11: 2000002006 | C11: 1 | E11: 2000001059 | F11: 2
B12: 2000002163 | C12: 4 | E12: 2000001061 | F12: 1
B13: 2000010573 | C13: 1 | E13: 2000001064 | F13: 2
B14: 2000001875 | C14: 4 | E14: 2000001065 | F14: 1
B15: 2000002553 | C15: 2 | E15: 2000001067 | F15: 1
B16: 2000043260 | C16: 0 | E16: 2000001068 | F16: 1
... B187: 2000056952 | C187: 0 | E187: 2000084977 | F187: 0
E188: 2000084978 | F188: 0
E189: 2000084994 | F189: 0
E190: 2000084995 | F190: 0
E191: 2000084996 | F191: 0
E192: 2000085017 | F192: 1
E193: 2000085031 | F193: 1
E194: 2000085032 | F194: 0
E195: 2000085449 | F195: 0
E196: 2000085828 | F196: 0
E197: 2000008899 | F197: 0
E198: 2000008900 | F198: 1
E199: 2000009270 | F199: 1
... E201: 2000009381 | F201: 4
E202: Pas de ref | F202: 0
E203: Pas de réf | F203: 0
E204: Pas de réf | F204: 0
E205: 200001573 | F205: 200401652
E206: 200001782 | F206: 200401797
E207: 200001791 | F207: 200402999
E208: 200001774 | F208: 200141094
E209: 200001211 | F209: 200001213
