Workbook

Sheet Sale_Purchase
A1: S.No | B1: Product Name | C1: Type | D1: Quantity | E1: Price | F1: Amount | G1: Date | H1: Profit
A2: =ROW()-1 -> 1 | B2: Product1 | C2: Purchase | D2: 43 | E2: 24.84 | F2: 1068.12 | G2: 43866 | H2: NA
A3: =ROW()-1 -> 2 | B3: Product2 | C3: Purchase | D3: 57 | E3: 19.71 | F3: 1123.47 | G3: 43867 | H3: NA
A4: =ROW()-1 -> 3 | B4: Product3 | C4: Purchase | D4: 40 | E4: 20.88 | F4: 835.2 | G4: 43868 | H4: NA
A5: =ROW()-1 -> 4 | B5: Product4 | C5: Purchase | D5: 41 | E5: 17.92 | F5: 734.72 | G5: 43869 | H5: NA
A6: =ROW()-1 -> 5 | B6: Product5 | C6: Purchase | D6: 44 | E6: 29.25 | F6: 1287 | G6: 43870 | H6: NA
A7: =ROW()-1 -> 6 | B7: Product6 | C7: Purchase | D7: 60 | E7: 16.64 | F7: 998.4 | G7: 43871 | H7: NA
A8: =ROW()-1 -> 7 | B8: Product7 | C8: Purchase | D8: 54 | E8: 24.48 | F8: 1321.92 | G8: 43872 | H8: NA
A9: =ROW()-1 -> 8 | B9: Product8 | C9: Purchase | D9: 70 | E9: 24.48 | F9: 1713.6 | G9: 43873 | H9: NA
A10: =ROW()-1 -> 9 | B10: Product9 | C10: Purchase | D10: 46 | E10: 13.02 | F10: 598.92 | G10: 43874 | H10: NA
A11: =ROW()-1 -> 10 | B11: Product10 | C11: Purchase | D11: 32 | E11: 16.28 | F11: 520.96 | G11: 43875 | H11: NA
A12: =ROW()-1 -> 11 | B12: Product11 | C12: Purchase | D12: 51 | E12: 26.6 | F12: 1356.6 | G12: 43876 | H12: NA
A13: =ROW()-1 -> 12 | B13: Product12 | C13: Purchase | D13: 34 | E13: 15.96 | F13: 542.64 | G13: 43877 | H13: NA
... A15: =ROW()-1 -> 14 | B15: Product14 | C15: Purchase | D15: 69 | E15: 15.12 | F15: 1043.28 | G15: 43879 | H15: NA
A16: =ROW()-1 -> 15 | B16: Product1 | C16: Sale | D16: 24 | E16: 36 | F16: 864 | G16: 43880 | H16: 267.84
A17: =ROW()-1 -> 16 | B17: Product2 | C17: Sale | D17: 22 | E17: 27 | F17: 594 | G17: 43881 | H17: 160.38
A18: =ROW()-1 -> 17 | B18: Product3 | C18: Sale | D18: 22 | E18: 29 | F18: 638 | G18: 43882 | H18: 178.64
A19: =ROW()-1 -> 18 | B19: Product4 | C19: Sale | D19: 21 | E19: 28.35 | F19: 595.35 | G19: 43883 | H19: 219.03
A20: =ROW()-1 -> 19 | B20: Product5 | C20: Sale | D20: 21 | E20: 39 | F20: 819 | G20: 43884 | H20: 204.75
A21: =ROW()-1 -> 20 | B21: Product6 | C21: Sale | D21: 12 | E21: 26 | F21: 312 | G21: 43885 | H21: 112.32
A22: =ROW()-1 -> 21 | B22: Product7 | C22: Sale | D22: 16 | E22: 34 | F22: 544 | G22: 43886 | H22: 152.32
A23: =ROW()-1 -> 22 | B23: Product8 | C23: Sale | D23: 14 | E23: 36 | F23: 504 | G23: 43887 | H23: 161.28
A24: =ROW()-1 -> 23 | B24: Product9 | C24: Sale | D24: 14 | E24: 21 | F24: 294 | G24: 43888 | H24: 111.72
A25: =ROW()-1 -> 24 | B25: Product10 | C25: Sale | D25: 25 | E25: 22 | F25: 550 | G25: 43889 | H25: 143
A26: =ROW()-1 -> 25 | B26: Product11 | C26: Sale | D26: 14 | E26: 38 | F26: 532 | G26: 43890 | H26: 159.6
A27: =ROW()-1 -> 26 | B27: Product12 | C27: Sale | D27: 18 | E27: 21 | F27: 378 | G27: 43891 | H27: 90.72
... A29: =ROW()-1 -> 28 | B29: Product14 | C29: Sale | D29: 25 | E29: 21 | F29: 525 | G29: 43893 | H29: 147
A30: =ROW()-1 -> 29 | B30: Product10 | C30: Purchase | D30: 100 | E30: 16.28 | F30: 1628 | G30: 43894 | H30: NA
A31: =ROW()-1 -> 30 | B31: Product10 | C31: Sale | D31: 5 | E31: 22 | F31: 110 | G31: 43895 | H31: 28.6
A32: =ROW()-1 -> 31 | B32: Notebook | C32: Purchase | D32: 50 | E32: 10.35 | F32: 517.5 | G32: 43896 | H32: NA
A33: =ROW()-1 -> 32 | B33: Product7 | C33: Sale | D33: 20 | E33: 40 | F33: 800 | G33: 43897 | H33: 310.4
A34: =ROW()-1 -> 33 | B34: Product20 | C34: Purchase | D34: 20 | E34: 21,60 | F34: 432 | G34: 43898 | H34: NA
A35: =ROW()-1 -> 34 | B35: Product15 | C35: Purchase | D35: 15 | E35: 20,00 | F35: 300 | G35: 43899 | H35: NA

Sheet Report
B1: Start Date | C1: 43595
B2: End Date | C2: 43961
B4: Type | C4: Amount
B5: Purchase | C5: =SUMIFS(Sale_Purchase!F:F,Sale_Purchase!C:C,Report!B5,Sale_Purchase!G:G,">="&$C$1,Sale_Purchase!G:G,"<="&$C$2) -> 17100.51 | F5: =SOMME.SI.ENS(Sale_Purchase!F:F;Sale_Purchase!C:C;Report!B5;Sale_Purchase!G:G;">="&$C$1;Sale_Purchase!G:G;"<="&$C$2)
B6: Sale | C6: =SUMIFS(Sale_Purchase!F:F,Sale_Purchase!C:C,Report!B6,Sale_Purchase!G:G,">="&$C$1,Sale_Purchase!G:G,"<="&$C$2) -> 8540.35
B7: Profit | C7: =SUMIFS(Sale_Purchase!F:F,Sale_Purchase!C:C,Report!B7,Sale_Purchase!G:G,">="&$C$1,Sale_Purchase!G:G,"<="&$C$2) -> 0
B8: Inventory Quantity | C8: =SUM(Inventory!D:D) -> 503
B9: Inventory Value | C9: =SUM(Inventory!$E:$E) -> 13933

Sheet Inventory
A1: Product Name | B1: Purchase | C1: Sale | D1: Available Stocks | E1: Stocks Value
A2: Product16 | B2: 0 | C2: 0 | D2: 0 | E2: 0
A3: Product17 | B3: 0 | C3: 0 | D3: 0 | E3: 0
A4: Product18 | B4: 0 | C4: 0 | D4: 0 | E4: 0
A5: Product19 | B5: 0 | C5: 0 | D5: 0 | E5: 0
A6: Product21 | B6: 0 | C6: 0 | D6: 0 | E6: 0
A7: Product22 | B7: 0 | C7: 0 | D7: 0 | E7: 0
A8: Product15 | B8: 15 | C8: 0 | D8: 15 | E8: 420
A9: Product12 | B9: 34 | C9: 18 | D9: 16 | E9: 336
A10: Product3 | B10: 40 | C10: 22 | D10: 18 | E10: 522
A11: Product7 | B11: 54 | C11: 36 | D11: 18 | E11: 612
A12: Product1 | B12: 43 | C12: 24 | D12: 19 | E12: 684
A13: Product4 | B13: 41 | C13: 21 | D13: 20 | E13: 567
... A22: Product10 | B22: 132 | C22: 30 | D22: 102 | E22: 2244
