Workbook

Sheet Données
A1: Nom | B1: Site
A2: Pierre | B2: A
A3: Paul | B3: B
A4: Jacques | B4: C
A5: André | B5: A
A6: Mathilde | B6: B
A7: Jeanne | B7: C
A8: Thierry | B8: A
A9: Jonas | B9: B
A10: Sarah | B10: C
A11: Andrew | B11: A
A12: Barbara | B12: B

Sheet Site A
A1: Liste des membres
A2: =IF(Données!B2="A",Données!A2,"") -> Pierre
A3: =IF(Données!B3="A",Données!A3,"")
A4: =IF(Données!B4="A",Données!A4,"")
A5: =IF(Données!B5="A",Données!A5,"") -> André
A6: =IF(Données!B6="A",Données!A6,"")
A7: =IF(Données!B7="A",Données!A7,"")
A8: =IF(Données!B8="A",Données!A8,"") -> Thierry
A9: =IF(Données!B9="A",Données!A9,"")
A10: =IF(Données!B10="A",Données!A10,"")
A11: =IF(Données!B11="A",Données!A11,"") -> Andrew
A12: =IF(Données!B12="A",Données!A12,"")
A13: =IF(Données!B13="A",Données!A13,"")
... A15: =IF(Données!B15="A",Données!A15,"")

Sheet Site B
A1: Liste des membres
A2: =IF(Données!B2="B",Données!A2,"")
A3: =IF(Données!B3="B",Données!A3,"") -> Paul
A4: =IF(Données!B4="B",Données!A4,"")
A5: =IF(Données!B5="B",Données!A5,"")
A6: =IF(Données!B6="B",Données!A6,"") -> Mathilde
A7: =IF(Données!B7="B",Données!A7,"")
A8: =IF(Données!B8="B",Données!A8,"")
A9: =IF(Données!B9="B",Données!A9,"") -> Jonas
A10: =IF(Données!B10="B",Données!A10,"")
A11: =IF(Données!B11="B",Données!A11,"")
A12: =IF(Données!B12="B",Données!A12,"") -> Barbara
A13: =IF(Données!B13="B",Données!A13,"")
A14: =IF(Données!B14="B",Données!A14,"")

Sheet Site C
A1: Liste des membres
A2: =IF(Données!B2="C",Données!A2,"")
A3: =IF(Données!B3="C",Données!A3,"")
A4: =IF(Données!B4="C",Données!A4,"") -> Jacques
A5: =IF(Données!B5="C",Données!A5,"")
A6: =IF(Données!B6="C",Données!A6,"")
A7: =IF(Données!B7="C",Données!A7,"") -> Jeanne
A8: =IF(Données!B8="C",Données!A8,"")
A9: =IF(Données!B9="C",Données!A9,"")
A10: =IF(Données!B10="C",Données!A10,"") -> Sarah
A11: =IF(Données!B11="C",Données!A11,"")
A12: =IF(Données!B12="C",Données!A12,"")
A13: =IF(Données!B13="C",Données!A13,"")
... A15: =IF(Données!B15="C",Données!A15,"")
