Workbook

Sheet Vos données
A1: Outil de facturation WikiCréa
A3: Vos données
A4: Saisir dans les cases vertes uniquement
H5: oui
H6: non
A7: Votre nom ou raison sociale : | B7: ELINEA | D7: Moyens de règlement clients :
A8: Complément raison sociale : | B8: S.A.R.L. au capital de … | D8: chèque
A9: Adresse de votre siège : | B9: 15 côte du Ruis | D9: virement
A10: Code postal : | B10: 64000 | D10: carte bancaire
A11: Ville : | B11: Clermont-Ferrand | D11: espèces
A12: Téléphone : | B12: 06 27 71 00 00
A13: Numéro Siret : | B13: 519 787 999 00011
A14: Numéro de TVA intracommunautaire (si applicable) : | B14: FR895645875
A17: Taux de TVA :
A18: Taux 0 | B18: 0
A19: Taux 1 | B19: 0.055
A20: Taux 2 | B20: 0.1
A21: Taux 3 | B21: 0.2
A23: Etes-vous exonéré de TVA ? (par exemple oui si vous êtes en micro-entreprise)
A24: non

Sheet Base Interprète
A1: Base interprètes
A2: Saisissez vos interprètes ici (cases vertes uniquement)
A3: Pour trouver un interprète ou une langue plus rapidement, faire Ctrl + touche F et saisissez votre recherche
A5: Numéro Interprète | B5: Type | C5: Nom prénom ou raison sociale | D5: Adresse | E5: C. postal | F5: Ville | G5: Téléphone | H5: Portable | I5: Site internet | J5: E-mail | K5: Langue 1 | L5: Remarques
A6: I00001 | B6: =IF(VLOOKUP(H2,'Base Interprète'!B6,3,FALSE),"",VLOOKUP(Planning!H2,'Base Interventions'!A8:F607,1,FALSE)) -> 0 | C6: David Durand | D6: 8 Boulevard Michelet | E6: 01200 | F6: Nantes | G6: 02 60 60 60 60 | H6: 660606060
A7: I00002 | B7: Indépendant | C7: SARL Dubois | D7: 7 avenue des Croates | E7: 12000 | F7: Rodez | G7: 05 60 60 60 60 | H7: 660606060
A8: I00003
A9: I00004
A10: I00005
A11: I00006
A12: I00007
A13: I00008
A14: I00009
A15: I00010
A16: I00011
A17: I00012
A18: I00013
A19: I00014
... A736: I00731

Sheet Base Interventions
A1: Base Intervntions
A2: Saisir dans les cases vertes uniquement
A3: Ne pas intercaler de ligne ; ne pas laisser de ligne vierge
A5: Produits et services | H5: Etude de la marge :
A7: Date d'intervention | B7: Langue, lieu, journée 1, 2 ou 3 | C7: Perçu par partenaires € HT | D7: Taux TVA | E7: Remarques | F7: Interprète | G7: Rappel du Nom et Prénom interprète | H7: versement interprètes | I7: Coeff. marge
A8: 44197 | B8: Arabe, Cergy, J2 | C8: 130 | D8: 0.055 | F8: I00001 | G8: =VLOOKUP(F8,'Base Interprète'!A6:C736,3,FALSE) -> David Durand | H8: 100 | I8: 2
A9: 44197 | B9: Vietnamien, Montreuil, J1 | C9: 140 | D9: 0.055 | E9: facturer tarif anglais | H9: 100 | I9: 1.67
A10: 44197
A11: 44197
A12: 44197
A13: 44197
A14: 44197
A15: 44197
A16: 44197
A17: 44197
A18: 44197
A19: 44197
A20: 44197
A21: 44197
... A607: 44197

Sheet Planning
B2: Onglet automatique, ne pas modifier | E2: Sélectionnez le numéro d'interprète : | H2: I00001
B3: Vous pouvez consulter, imprimer ou transformer en PDF cette facture
E6: Interprète | G6: =H2 -> I00001
F7: Date : | G7: =HLOOKUP($H$2,'[1]Base facturation'!$C$5:$ALN$61,4,0) -> #N/A
C10: =IF(ISBLANK('[1]Vos données'!B7),"",'[1]Vos données'!B7) -> ELINEA | E10: A : | F10: =IF(ISERROR(VLOOKUP(#REF!,'Base Interprète'!$C$6:$L$736,1,0)),"",VLOOKUP(#REF!,'Base Interprète'!$C$6:$L$736,1,0))
C11: =IF(ISBLANK('[1]Vos données'!B8),"",'[1]Vos données'!B8) -> S.A.R.L. au capital de … | E11: Adresse : | F11: =VLOOKUP(H2,'Base Interprète'!$A$6:$H$7,4,0) -> 8 Boulevard Michelet
C12: =IF(ISBLANK('[1]Vos données'!B9),"",'[1]Vos données'!B9) -> 15 côte du Ruis | F12: =VLOOKUP(H2,'Base Interprète'!$A$6:$H$7,5,0)&" "&VLOOKUP(H2,'Base Interprète'!$A$6:$H$7,6,0) -> 01200 Nantes | G12: =IF(ISERROR(VLOOKUP(#REF!,'Base Interprète'!$C$6:$L$736,4,0)),"",VLOOKUP(#REF!,'Base Interprète'!$C$6:$L$736,4,0))
C13: =IF(ISBLANK('[1]Vos données'!B10),"",'[1]Vos données'!B10) -> 64000 | D13: =IF(ISBLANK('[1]Vos données'!B11),"",'[1]Vos données'!B11) -> Clermont-Ferrand | F13: =IF(IF(ISERROR(VLOOKUP(#REF!,'[1]Base clients'!$A$6:$L$736,7,0)),"",VLOOKUP(#REF!,'[1]Base clients'!$A$6:$L$736,7,0))=0,"",IF(ISERROR(VLOOKUP(#REF!,'[1]Base clients'!$A$6:$L$736,7,0)),"",VLOOKUP(#REF!,'[1]Base clients'!$A$6:$L$736,7,0)))
C14: ="Téléphone : "&IF(ISBLANK('[1]Vos données'!B12),"",'[1]Vos données'!B12) -> Téléphone : 06 27 71 00 00 | F14: =IF(IF(ISERROR(VLOOKUP(#REF!,'[1]Base clients'!$A$6:$L$736,8,0)),"",VLOOKUP(#REF!,'[1]Base clients'!$A$6:$L$736,8,0))=0,"",IF(ISERROR(VLOOKUP(#REF!,'[1]Base clients'!$A$6:$L$736,8,0)),"",VLOOKUP(#REF!,'[1]Base clients'!$A$6:$L$736,8,0)))
C15: ="Siret : "&IF(ISBLANK('[1]Vos données'!B13),"",'[1]Vos données'!B13) -> Siret : 519 787 999 00011 | E15: Interprète : | F15: =VLOOKUP(H2,'Base Interprète'!$A$6:$H$7,3,0) -> David Durand
C16: =IF(ISBLANK('[1]Vos données'!B14),"","N° TVA : "&'[1]Vos données'!B14) -> N° TVA : FR895645875
C20: Date d'intervention | D20: Langue, lieu, journée 1, 2 ou 3
A22: 5 | C22: =INDEX('Base Interventions'!$A$7:$G$24,MATCH(Planning!$H$2,'Base Interventions'!$F$7:$F$24,0),MATCH(Planning!$C$20,'Base Interventions'!$A$7:$G$7,0)) -> 44197 | D22: =INDEX('Base Interventions'!$A$7:$G$24,MATCH(Planning!$H$2,'Base Interventions'!$F$7:$F$24,0),MATCH($D$20,'Base Interventions'!$A$7:$G$7,0)) -> Arabe, Cergy, J2
C23: =IF(VLOOKUP($H$2,'Base Interprète'!$B$6,1,FALSE),"",VLOOKUP(Planning!$H$2,'Base Interventions'!$A$8:$F$607,1,FALSE)) -> 0 | D23: =IF(ISERROR(VLOOKUP(C23,'[1]Base produits'!$A$8:$H$607,2,0)),"",VLOOKUP(C23,'[1]Base produits'!$A$8:$H$607,2,0))
C24: =IF(VLOOKUP(H4,'Base Interprète'!B8,3,FALSE),"",VLOOKUP(Planning!H4,'Base Interventions'!A10:F609,1,FALSE)) -> #N/A | D24: =IF(ISERROR(VLOOKUP(C24,'[1]Base produits'!$A$8:$H$607,2,0)),"",VLOOKUP(C24,'[1]Base produits'!$A$8:$H$607,2,0))
C25: =IF(VLOOKUP(H5,'Base Interprète'!B9,3,FALSE),"",VLOOKUP(Planning!H5,'Base Interventions'!A11:F610,1,FALSE)) -> #N/A | D25: =IF(ISERROR(VLOOKUP(C25,'[1]Base produits'!$A$8:$H$607,2,0)),"",VLOOKUP(C25,'[1]Base produits'!$A$8:$H$607,2,0))
C26: =IF(VLOOKUP(H6,'Base Interprète'!B10,3,FALSE),"",VLOOKUP(Planning!H6,'Base Interventions'!A12:F611,1,FALSE)) -> #N/A | D26: =IF(ISERROR(VLOOKUP(C26,'[1]Base produits'!$A$8:$H$607,2,0)),"",VLOOKUP(C26,'[1]Base produits'!$A$8:$H$607,2,0))
C27: =HLOOKUP($H$2,#REF!,3,FALSE) -> #REF! | D27: =IF(ISERROR(VLOOKUP(C27,'[1]Base produits'!$A$8:$H$607,2,0)),"",VLOOKUP(C27,'[1]Base produits'!$A$8:$H$607,2,0))
C28: =HLOOKUP($H$2,#REF!,3,FALSE) -> #REF! | D28: =IF(ISERROR(VLOOKUP(C28,'[1]Base produits'!$A$8:$H$607,2,0)),"",VLOOKUP(C28,'[1]Base produits'!$A$8:$H$607,2,0))
C29: =HLOOKUP($H$2,#REF!,3,FALSE) -> #REF! | D29: =IF(ISERROR(VLOOKUP(C29,'[1]Base produits'!$A$8:$H$607,2,0)),"",VLOOKUP(C29,'[1]Base produits'!$A$8:$H$607,2,0))
C30: =HLOOKUP($H$2,#REF!,3,FALSE) -> #REF! | D30: =IF(ISERROR(VLOOKUP(C30,'[1]Base produits'!$A$8:$H$607,2,0)),"",VLOOKUP(C30,'[1]Base produits'!$A$8:$H$607,2,0))
C31: =HLOOKUP($H$2,#REF!,3,FALSE) -> #REF! | D31: =IF(ISERROR(VLOOKUP(C31,'[1]Base produits'!$A$8:$H$607,2,0)),"",VLOOKUP(C31,'[1]Base produits'!$A$8:$H$607,2,0))
C32: =HLOOKUP($H$2,#REF!,3,FALSE) -> #REF! | D32: =IF(ISERROR(VLOOKUP(C32,'[1]Base produits'!$A$8:$H$607,2,0)),"",VLOOKUP(C32,'[1]Base produits'!$A$8:$H$607,2,0))
C33: =HLOOKUP($H$2,#REF!,3,FALSE) -> #REF! | D33: =IF(ISERROR(VLOOKUP(C33,'[1]Base produits'!$A$8:$H$607,2,0)),"",VLOOKUP(C33,'[1]Base produits'!$A$8:$H$607,2,0))
C34: =HLOOKUP($H$2,#REF!,3,FALSE) -> #REF! | D34: =IF(ISERROR(VLOOKUP(C34,'[1]Base produits'!$A$8:$H$607,2,0)),"",VLOOKUP(C34,'[1]Base produits'!$A$8:$H$607,2,0))
C35: =HLOOKUP($H$2,#REF!,3,FALSE) -> #REF! | D35: =IF(ISERROR(VLOOKUP(C35,'[1]Base produits'!$A$8:$H$607,2,0)),"",VLOOKUP(C35,'[1]Base produits'!$A$8:$H$607,2,0))
C36: =HLOOKUP($H$2,#REF!,3,FALSE) -> #REF! | D36: =IF(ISERROR(VLOOKUP(C36,'[1]Base produits'!$A$8:$H$607,2,0)),"",VLOOKUP(C36,'[1]Base produits'!$A$8:$H$607,2,0))
C37: =IF(ISERROR(VLOOKUP(#REF!,$K$22:$O$196,2,0)),"",VLOOKUP(#REF!,$K$22:$O$196,2,0)) | D37: =IF(ISERROR(VLOOKUP(C37,'[1]Base produits'!$A$8:$H$607,2,0)),"",VLOOKUP(C37,'[1]Base produits'!$A$8:$H$607,2,0))
C38: =IF(ISERROR(VLOOKUP(#REF!,$K$22:$O$196,2,0)),"",VLOOKUP(#REF!,$K$22:$O$196,2,0)) | D38: =IF(ISERROR(VLOOKUP(C38,'[1]Base produits'!$A$8:$H$607,2,0)),"",VLOOKUP(C38,'[1]Base produits'!$A$8:$H$607,2,0))
C39: =IF(ISERROR(VLOOKUP(#REF!,$K$22:$O$196,2,0)),"",VLOOKUP(#REF!,$K$22:$O$196,2,0)) | D39: =IF(ISERROR(VLOOKUP(C39,'[1]Base produits'!$A$8:$H$607,2,0)),"",VLOOKUP(C39,'[1]Base produits'!$A$8:$H$607,2,0))
C40: =IF(ISERROR(VLOOKUP(#REF!,$K$22:$O$196,2,0)),"",VLOOKUP(#REF!,$K$22:$O$196,2,0)) | D40: =IF(ISERROR(VLOOKUP(C40,'[1]Base produits'!$A$8:$H$607,2,0)),"",VLOOKUP(C40,'[1]Base produits'!$A$8:$H$607,2,0))
C41: =IF(ISERROR(VLOOKUP(#REF!,$K$22:$O$196,2,0)),"",VLOOKUP(#REF!,$K$22:$O$196,2,0)) | D41: =IF(ISERROR(VLOOKUP(C41,'[1]Base produits'!$A$8:$H$607,2,0)),"",VLOOKUP(C41,'[1]Base produits'!$A$8:$H$607,2,0))
C42: =IF(ISERROR(VLOOKUP(#REF!,$K$22:$O$196,2,0)),"",VLOOKUP(#REF!,$K$22:$O$196,2,0)) | D42: =IF(ISERROR(VLOOKUP(C42,'[1]Base produits'!$A$8:$H$607,2,0)),"",VLOOKUP(C42,'[1]Base produits'!$A$8:$H$607,2,0))
C43: =IF(ISERROR(VLOOKUP(#REF!,$K$22:$O$196,2,0)),"",VLOOKUP(#REF!,$K$22:$O$196,2,0)) | D43: =IF(ISERROR(VLOOKUP(C43,'[1]Base produits'!$A$8:$H$607,2,0)),"",VLOOKUP(C43,'[1]Base produits'!$A$8:$H$607,2,0))
C44: =IF(ISERROR(VLOOKUP(#REF!,$K$22:$O$196,2,0)),"",VLOOKUP(#REF!,$K$22:$O$196,2,0)) | D44: =IF(ISERROR(VLOOKUP(C44,'[1]Base produits'!$A$8:$H$607,2,0)),"",VLOOKUP(C44,'[1]Base produits'!$A$8:$H$607,2,0))
C45: =IF(ISERROR(VLOOKUP(#REF!,$K$22:$O$196,2,0)),"",VLOOKUP(#REF!,$K$22:$O$196,2,0)) | D45: =IF(ISERROR(VLOOKUP(C45,'[1]Base produits'!$A$8:$H$607,2,0)),"",VLOOKUP(C45,'[1]Base produits'!$A$8:$H$607,2,0))
C46: =IF(ISERROR(VLOOKUP(#REF!,$K$22:$O$196,2,0)),"",VLOOKUP(#REF!,$K$22:$O$196,2,0)) | D46: =IF(ISERROR(VLOOKUP(C46,'[1]Base produits'!$A$8:$H$607,2,0)),"",VLOOKUP(C46,'[1]Base produits'!$A$8:$H$607,2,0))
C47: =IF(ISERROR(VLOOKUP(#REF!,$K$22:$O$196,2,0)),"",VLOOKUP(#REF!,$K$22:$O$196,2,0)) | D47: =IF(ISERROR(VLOOKUP(C47,'[1]Base produits'!$A$8:$H$607,2,0)),"",VLOOKUP(C47,'[1]Base produits'!$A$8:$H$607,2,0))
C48: =IF(ISERROR(VLOOKUP(#REF!,$K$22:$O$196,2,0)),"",VLOOKUP(#REF!,$K$22:$O$196,2,0)) | D48: =IF(ISERROR(VLOOKUP(C48,'[1]Base produits'!$A$8:$H$607,2,0)),"",VLOOKUP(C48,'[1]Base produits'!$A$8:$H$607,2,0))
... C195: =IF(ISERROR(VLOOKUP(#REF!,$K$22:$O$196,2,0)),"",VLOOKUP(#REF!,$K$22:$O$196,2,0)) | D195: =IF(ISERROR(VLOOKUP(C195,'[1]Base produits'!$A$8:$H$607,2,0)),"",VLOOKUP(C195,'[1]Base produits'!$A$8:$H$607,2,0))
...

Sheet Chiffre d'affaire
A1: ='[1]Base facturation'!C614 -> 4 | B1: ='[1]Base facturation'!D614 -> 1 | C1: ='[1]Base facturation'!E614 | D1: ='[1]Base facturation'!F614 | E1: ='[1]Base facturation'!G614 | F1: ='[1]Base facturation'!H614 | G1: ='[1]Base facturation'!I614 | H1: ='[1]Base facturation'!J614 | ... ALL1: ='[1]Base facturation'!ALN614
A2: ='[1]Base facturation'!C613 -> 540 | B2: ='[1]Base facturation'!D613 -> 4 | C2: ='[1]Base facturation'!E613 -> 0 | D2: ='[1]Base facturation'!F613 -> 0 | E2: ='[1]Base facturation'!G613 -> 0 | F2: ='[1]Base facturation'!H613 -> 0 | G2: ='[1]Base facturation'!I613 -> 0 | H2: ='[1]Base facturation'!J613 -> 0 | ... ALL2: ='[1]Base facturation'!ALN613 -> 0
B3: Chiffre d'affaires
B4: Ceci est un onglet de consultation, pas de modification possible
C6: Chiffre d'affaires
A7: 1 | B7: JANVIER | C7: =SUMIF($A$1:$ALL$2,A7,$A$2:$ALL$2) -> 4
A8: 2 | B8: FÉVRIER | C8: =SUMIF($A$1:$ALL$2,A8,$A$2:$ALL$2) -> 0
A9: 3 | B9: MARS | C9: =SUMIF($A$1:$ALL$2,A9,$A$2:$ALL$2) -> 0
A10: 4 | B10: AVRIL | C10: =SUMIF($A$1:$ALL$2,A10,$A$2:$ALL$2) -> 540
A11: 5 | B11: MAI | C11: =SUMIF($A$1:$ALL$2,A11,$A$2:$ALL$2) -> 0
A12: 6 | B12: JUIN | C12: =SUMIF($A$1:$ALL$2,A12,$A$2:$ALL$2) -> 0
A13: 7 | B13: JUILLET | C13: =SUMIF($A$1:$ALL$2,A13,$A$2:$ALL$2) -> 0
A14: 8 | B14: AOÛT | C14: =SUMIF($A$1:$ALL$2,A14,$A$2:$ALL$2) -> 0
A15: 9 | B15: SEPTEMBRE | C15: =SUMIF($A$1:$ALL$2,A15,$A$2:$ALL$2) -> 0
A16: 10 | B16: OCTOBRE | C16: =SUMIF($A$1:$ALL$2,A16,$A$2:$ALL$2) -> 0
A17: 11 | B17: NOVEMBRE | C17: =SUMIF($A$1:$ALL$2,A17,$A$2:$ALL$2) -> 0
A18: 12 | B18: DÉCEMBRE | C18: =SUMIF($A$1:$ALL$2,A18,$A$2:$ALL$2) -> 0
B20: TOTAL | C20: =SUM(C7:C18) -> 544
B26: Besoin du mot de passe pour déverrouiller ce document ? Cliquez ici
