Workbook

Sheet Horaire-Membre 1
A1: Membre 1 | B1: LUNDI | C1: MARDI | D1: MERCREDI | E1: JEUDI | F1: VENDREDI | G1: SAMEDI | H1: DIMANCHE | J1: TOTAL
A2: 00H - 01H | J2: =COUNTIF(B2:H2,"X")*2 -> 0
A3: 01H - 02H | J3: =COUNTIF(B3:H3,"X")*2 -> 0
A4: O2H - 03H | J4: =COUNTIF(B4:H4,"X")*2 -> 0
A5: 03H - 04H | J5: =COUNTIF(B5:H5,"X")*2 -> 0
A6: 04H - 05H | J6: =COUNTIF(B6:H6,"X")*2 -> 0
A7: 05H - 06H | J7: =COUNTIF(B7:H7,"X")*2 -> 0
A8: O6H - 07H | J8: =COUNTIF(B8:H8,"X")*2 -> 0
A9: 07H - 08H | J9: =COUNTIF(B9:H9,"X")*2 -> 0
A10: 08H - 09H | B10: X | C10: X | G10: X | H10: X | J10: =COUNTIF(B10:H10,"X")*2 -> 8
A11: 09H - 10H | B11: X | C11: X | D11: X | E11: X | F11: X | G11: X | H11: X | J11: =COUNTIF(B11:H11,"X")*2 -> 14
A12: 10H - 11H | B12: X | C12: X | D12: X | E12: X | F12: X | G12: X | H12: X | J12: =COUNTIF(B12:H12,"X")*2 -> 14
A13: 11H - 12H | G13: X | H13: X | J13: =COUNTIF(B13:H13,"X")*2 -> 4
A14: 12H - 13H | G14: X | H14: X | J14: =COUNTIF(B14:H14,"X")*2 -> 4
A15: 13H - 14H | G15: X | H15: X | J15: =COUNTIF(B15:H15,"X")*2 -> 4
A16: 14H - 15H | G16: X | H16: X | J16: =COUNTIF(B16:H16,"X")*2 -> 4
A17: 15H - 16H | G17: X | H17: X | J17: =COUNTIF(B17:H17,"X")*2 -> 4
A18: 16H - 17H | B18: X | C18: X | D18: X | E18: X | F18: X | G18: X | H18: X | J18: =COUNTIF(B18:H18,"X")*2 -> 14
A19: 17H - 18H | B19: X | C19: X | D19: X | E19: X | F19: X | G19: X | H19: X | J19: =COUNTIF(B19:H19,"X")*2 -> 14
A20: 18H - 19H | B20: X | C20: X | D20: X | E20: X | F20: X | G20: X | H20: X | J20: =COUNTIF(B20:H20,"X")*2 -> 14
A21: 19H - 20H | B21: X | C21: X | D21: X | E21: X | F21: X | G21: X | H21: X | J21: =COUNTIF(B21:H21,"X")*2 -> 14
A22: 20H - 21H | B22: X | C22: X | D22: X | E22: X | F22: X | G22: X | H22: X | J22: =COUNTIF(B22:H22,"X")*2 -> 14
A23: 21H - 22H | B23: X | C23: X | D23: X | E23: X | F23: X | G23: X | H23: X | J23: =COUNTIF(B23:H23,"X")*2 -> 14
A24: 22H - 23H | B24: X | C24: X | D24: X | E24: X | F24: X | G24: X | H24: X | J24: =COUNTIF(B24:H24,"X")*2 -> 14
A25: 23H - 00H | B25: X | C25: X | D25: X | E25: X | F25: X | G25: X | H25: X | J25: =COUNTIF(B25:H25,"X")*2 -> 14

Sheet Horaire-Membre 2
A1: Membre 2 | B1: LUNDI | C1: MARDI | D1: MERCREDI | E1: JEUDI | F1: VENDREDI | G1: SAMEDI | H1: DIMANCHE | J1: TOTAL
A2: 00H - 01H | J2: =COUNTIF(B2:H2,"X")*2 -> 0
A3: 01H - 02H | J3: =COUNTIF(B3:H3,"X")*2 -> 0
A4: O2H - 03H | J4: =COUNTIF(B4:H4,"X")*2 -> 0
A5: 03H - 04H | J5: =COUNTIF(B5:H5,"X")*2 -> 0
A6: 04H - 05H | J6: =COUNTIF(B6:H6,"X")*2 -> 0
A7: 05H - 06H | J7: =COUNTIF(B7:H7,"X")*2 -> 0
A8: O6H - 07H | J8: =COUNTIF(B8:H8,"X")*2 -> 0
A9: 07H - 08H | J9: =COUNTIF(B9:H9,"X")*2 -> 0
A10: 08H - 09H | B10: X | C10: X | D10: X | E10: X | F10: X | G10: X | H10: X | J10: =COUNTIF(B10:H10,"X")*2 -> 14
A11: 09H - 10H | B11: X | G11: X | H11: X | J11: =COUNTIF(B11:H11,"X")*2 -> 6
A12: 10H - 11H | B12: X | C12: X | D12: X | E12: X | F12: X | G12: X | H12: X | J12: =COUNTIF(B12:H12,"X")*2 -> 14
A13: 11H - 12H | B13: X | C13: X | D13: X | E13: X | F13: X | G13: X | H13: X | J13: =COUNTIF(B13:H13,"X")*2 -> 14
A14: 12H - 13H | B14: X | C14: X | D14: X | G14: X | H14: X | J14: =COUNTIF(B14:H14,"X")*2 -> 10
A15: 13H - 14H | B15: X | C15: X | D15: X | G15: X | H15: X | J15: =COUNTIF(B15:H15,"X")*2 -> 10
A16: 14H - 15H | B16: X | C16: X | D16: X | G16: X | H16: X | J16: =COUNTIF(B16:H16,"X")*2 -> 10
A17: 15H - 16H | B17: X | C17: X | D17: X | G17: X | H17: X | J17: =COUNTIF(B17:H17,"X")*2 -> 10
A18: 16H - 17H | B18: X | D18: X | G18: X | H18: X | J18: =COUNTIF(B18:H18,"X")*2 -> 8
A19: 17H - 18H | B19: X | D19: X | E19: X | F19: X | G19: X | H19: X | J19: =COUNTIF(B19:H19,"X")*2 -> 12
A20: 18H - 19H | B20: X | D20: X | E20: X | F20: X | G20: X | H20: X | J20: =COUNTIF(B20:H20,"X")*2 -> 12
A21: 19H - 20H | B21: X | D21: X | E21: X | F21: X | G21: X | H21: X | J21: =COUNTIF(B21:H21,"X")*2 -> 12
A22: 20H - 21H | B22: X | C22: X | D22: X | E22: X | F22: X | G22: X | H22: X | J22: =COUNTIF(B22:H22,"X")*2 -> 14
A23: 21H - 22H | B23: X | C23: X | D23: X | E23: X | F23: X | G23: X | H23: X | J23: =COUNTIF(B23:H23,"X")*2 -> 14
A24: 22H - 23H | B24: X | C24: X | D24: X | E24: X | F24: X | G24: X | H24: X | J24: =COUNTIF(B24:H24,"X")*2 -> 14
A25: 23H - 00H | B25: X | C25: X | D25: X | E25: X | F25: X | G25: X | H25: X | J25: =COUNTIF(B25:H25,"X")*2 -> 14

Sheet Horaire-Membre 3 
A1: Membre 3 | B1: LUNDI | C1: MARDI | D1: MERCREDI | E1: JEUDI | F1: VENDREDI | G1: SAMEDI | H1: DIMANCHE | J1: TOTAL
A2: 00H - 01H | J2: =COUNTIF(B2:H2,"X")*2 -> 0
A3: 01H - 02H | J3: =COUNTIF(B3:H3,"X")*2 -> 0
A4: O2H - 03H | J4: =COUNTIF(B4:H4,"X")*2 -> 0
A5: 03H - 04H | J5: =COUNTIF(B5:H5,"X")*2 -> 0
A6: 04H - 05H | J6: =COUNTIF(B6:H6,"X")*2 -> 0
A7: 05H - 06H | J7: =COUNTIF(B7:H7,"X")*2 -> 0
A8: O6H - 07H | J8: =COUNTIF(B8:H8,"X")*2 -> 0
A9: 07H - 08H | J9: =COUNTIF(B9:H9,"X")*2 -> 0
A10: 08H - 09H | B10: X | C10: X | D10: X | E10: X | F10: X | J10: =COUNTIF(B10:H10,"X")*2 -> 10
A11: 09H - 10H | B11: X | C11: X | D11: X | E11: X | F11: X | J11: =COUNTIF(B11:H11,"X")*2 -> 10
A12: 10H - 11H | D12: X | E12: X | F12: X | J12: =COUNTIF(B12:H12,"X")*2 -> 6
A13: 11H - 12H | B13: X | C13: X | D13: X | E13: X | F13: X | J13: =COUNTIF(B13:H13,"X")*2 -> 10
A14: 12H - 13H | B14: X | C14: X | D14: X | E14: X | F14: X | J14: =COUNTIF(B14:H14,"X")*2 -> 10
A15: 13H - 14H | E15: X | F15: X | G15: X | H15: X | J15: =COUNTIF(B15:H15,"X")*2 -> 8
A16: 14H - 15H | B16: X | C16: X | D16: X | E16: X | F16: X | G16: X | H16: X | J16: =COUNTIF(B16:H16,"X")*2 -> 14
A17: 15H - 16H | B17: X | C17: X | D17: X | E17: X | F17: X | G17: X | H17: X | J17: =COUNTIF(B17:H17,"X")*2 -> 14
A18: 16H - 17H | B18: X | C18: X | D18: X | E18: X | F18: X | G18: X | H18: X | J18: =COUNTIF(B18:H18,"X")*2 -> 14
A19: 17H - 18H | B19: X | C19: X | D19: X | E19: X | F19: X | G19: X | H19: X | J19: =COUNTIF(B19:H19,"X")*2 -> 14
A20: 18H - 19H | B20: X | F20: X | G20: X | H20: X | J20: =COUNTIF(B20:H20,"X")*2 -> 8
A21: 19H - 20H | B21: X | C21: X | D21: X | E21: X | F21: X | G21: X | H21: X | J21: =COUNTIF(B21:H21,"X")*2 -> 14
A22: 20H - 21H | B22: X | C22: X | D22: X | E22: X | F22: X | G22: X | H22: X | J22: =COUNTIF(B22:H22,"X")*2 -> 14
A23: 21H - 22H | B23: X | C23: X | D23: X | E23: X | F23: X | G23: X | H23: X | J23: =COUNTIF(B23:H23,"X")*2 -> 14
A24: 22H - 23H | B24: X | C24: X | D24: X | E24: X | F24: X | G24: X | H24: X | J24: =COUNTIF(B24:H24,"X")*2 -> 14
A25: 23H - 00H | B25: X | C25: X | D25: X | E25: X | F25: X | G25: X | H25: X | J25: =COUNTIF(B25:H25,"X")*2 -> 14

Sheet Horaire-Membre 4  
A1: Membre 4 | B1: LUNDI | C1: MARDI | D1: MERCREDI | E1: JEUDI | F1: VENDREDI | G1: SAMEDI | H1: DIMANCHE | J1: TOTAL
A2: 00H - 01H | J2: =COUNTIF(B2:H2,"X")*2 -> 0
A3: 01H - 02H | J3: =COUNTIF(B3:H3,"X")*2 -> 0
A4: O2H - 03H | J4: =COUNTIF(B4:H4,"X")*2 -> 0
A5: 03H - 04H | J5: =COUNTIF(B5:H5,"X")*2 -> 0
A6: 04H - 05H | J6: =COUNTIF(B6:H6,"X")*2 -> 0
A7: 05H - 06H | J7: =COUNTIF(B7:H7,"X")*2 -> 0
A8: O6H - 07H | J8: =COUNTIF(B8:H8,"X")*2 -> 0
A9: 07H - 08H | J9: =COUNTIF(B9:H9,"X")*2 -> 0
A10: 08H - 09H | F10: X | G10: X | H10: X | J10: =COUNTIF(B10:H10,"X")*2 -> 6
A11: 09H - 10H | F11: X | G11: X | H11: X | J11: =COUNTIF(B11:H11,"X")*2 -> 6
A12: 10H - 11H | B12: X | C12: X | D12: X | E12: X | F12: X | G12: X | H12: X | J12: =COUNTIF(B12:H12,"X")*2 -> 14
A13: 11H - 12H | B13: X | C13: X | D13: X | E13: X | F13: X | G13: X | H13: X | J13: =COUNTIF(B13:H13,"X")*2 -> 14
A14: 12H - 13H | B14: X | C14: X | D14: X | E14: X | F14: X | G14: X | H14: X | J14: =COUNTIF(B14:H14,"X")*2 -> 14
A15: 13H - 14H | B15: X | C15: X | D15: X | E15: X | F15: X | G15: X | H15: X | J15: =COUNTIF(B15:H15,"X")*2 -> 14
A16: 14H - 15H | B16: X | C16: X | D16: X | E16: X | F16: X | G16: X | H16: X | J16: =COUNTIF(B16:H16,"X")*2 -> 14
A17: 15H - 16H | B17: X | C17: X | D17: X | E17: X | F17: X | G17: X | H17: X | J17: =COUNTIF(B17:H17,"X")*2 -> 14
A18: 16H - 17H | B18: X | C18: X | J18: =COUNTIF(B18:H18,"X")*2 -> 4
A19: 17H - 18H | B19: X | C19: X | J19: =COUNTIF(B19:H19,"X")*2 -> 4
A20: 18H - 19H | C20: X | D20: X | E20: X | F20: X | G20: X | H20: X | J20: =COUNTIF(B20:H20,"X")*2 -> 12
A21: 19H - 20H | C21: X | D21: X | E21: X | F21: X | G21: X | H21: X | J21: =COUNTIF(B21:H21,"X")*2 -> 12
A22: 20H - 21H | C22: X | D22: X | E22: X | F22: X | G22: X | H22: X | J22: =COUNTIF(B22:H22,"X")*2 -> 12
A23: 21H - 22H | C23: X | D23: X | E23: X | F23: X | G23: X | H23: X | J23: =COUNTIF(B23:H23,"X")*2 -> 12
A24: 22H - 23H | B24: X | C24: X | D24: X | E24: X | F24: X | G24: X | H24: X | J24: =COUNTIF(B24:H24,"X")*2 -> 14
A25: 23H - 00H | B25: X | C25: X | D25: X | E25: X | F25: X | G25: X | H25: X | J25: =COUNTIF(B25:H25,"X")*2 -> 14

Sheet Horaire-Membre 5
A1: Membre 5 | B1: LUNDI | C1: MARDI | D1: MERCREDI | E1: JEUDI | F1: VENDREDI | G1: SAMEDI | H1: DIMANCHE | J1: TOTAL
A2: 00H - 01H | J2: =COUNTIF(B2:H2,"X")*2 -> 0
A3: 01H - 02H | J3: =COUNTIF(B3:H3,"X")*2 -> 0
A4: O2H - 03H | J4: =COUNTIF(B4:H4,"X")*2 -> 0
A5: 03H - 04H | J5: =COUNTIF(B5:H5,"X")*2 -> 0
A6: 04H - 05H | J6: =COUNTIF(B6:H6,"X")*2 -> 0
A7: 05H - 06H | J7: =COUNTIF(B7:H7,"X")*2 -> 0
A8: O6H - 07H | J8: =COUNTIF(B8:H8,"X")*2 -> 0
A9: 07H - 08H | J9: =COUNTIF(B9:H9,"X")*2 -> 0
A10: 08H - 09H | B10: X | C10: X | D10: X | E10: X | F10: X | G10: X | H10: X | J10: =COUNTIF(B10:H10,"X")*2 -> 14
A11: 09H - 10H | B11: X | C11: X | D11: X | E11: X | F11: X | G11: X | H11: X | J11: =COUNTIF(B11:H11,"X")*2 -> 14
A12: 10H - 11H | B12: X | C12: X | D12: X | E12: X | F12: X | G12: X | H12: X | J12: =COUNTIF(B12:H12,"X")*2 -> 14
A13: 11H - 12H | B13: X | C13: X | D13: X | E13: X | F13: X | G13: X | H13: X | J13: =COUNTIF(B13:H13,"X")*2 -> 14
A14: 12H - 13H | B14: X | C14: X | D14: X | E14: X | F14: X | G14: X | H14: X | J14: =COUNTIF(B14:H14,"X")*2 -> 14
A15: 13H - 14H | B15: X | C15: X | D15: X | E15: X | F15: X | G15: X | H15: X | J15: =COUNTIF(B15:H15,"X")*2 -> 14
A16: 14H - 15H | B16: X | C16: X | D16: X | E16: X | F16: X | G16: X | H16: X | J16: =COUNTIF(B16:H16,"X")*2 -> 14
A17: 15H - 16H | B17: X | C17: X | D17: X | E17: X | H17: X | J17: =COUNTIF(B17:H17,"X")*2 -> 10
A18: 16H - 17H | B18: X | C18: X | D18: X | E18: X | H18: X | J18: =COUNTIF(B18:H18,"X")*2 -> 10
A19: 17H - 18H | B19: X | C19: X | D19: X | E19: X | H19: X | J19: =COUNTIF(B19:H19,"X")*2 -> 10
A20: 18H - 19H | B20: X | C20: X | D20: X | E20: X | H20: X | J20: =COUNTIF(B20:H20,"X")*2 -> 10
A21: 19H - 20H | B21: X | C21: X | D21: X | E21: X | H21: X | J21: =COUNTIF(B21:H21,"X")*2 -> 10
A22: 20H - 21H | B22: X | C22: X | D22: X | E22: X | F22: X | G22: X | H22: X | J22: =COUNTIF(B22:H22,"X")*2 -> 14
A23: 21H - 22H | B23: X | C23: X | D23: X | E23: X | F23: X | G23: X | H23: X | J23: =COUNTIF(B23:H23,"X")*2 -> 14
A24: 22H - 23H | H24: X | J24: =COUNTIF(B24:H24,"X")*2 -> 2
A25: 23H - 00H | H25: X | J25: =COUNTIF(B25:H25,"X")*2 -> 2

Sheet Total
A1: Total | C1: TOTAL
A2: 00H - 01H | C2: =COUNTIF('Horaire-Membre 1'!B2:H2,"X")+COUNTIF('Horaire-Membre 2'!B2:H2,"X")+COUNTIF('Horaire-Membre 3 '!B2:H2,"X")+COUNTIF('Horaire-Membre 4 '!B2:H2,"X")+COUNTIF('Horaire-Membre 5'!B2:H2,"X") -> 0
A3: 01H - 02H | C3: =COUNTIF('Horaire-Membre 1'!B3:H3,"X")+COUNTIF('Horaire-Membre 2'!B3:H3,"X")+COUNTIF('Horaire-Membre 3 '!B3:H3,"X")+COUNTIF('Horaire-Membre 4 '!B3:H3,"X")+COUNTIF('Horaire-Membre 5'!B3:H3,"X") -> 0
A4: O2H - 03H | C4: =COUNTIF('Horaire-Membre 1'!B4:H4,"X")+COUNTIF('Horaire-Membre 2'!B4:H4,"X")+COUNTIF('Horaire-Membre 3 '!B4:H4,"X")+COUNTIF('Horaire-Membre 4 '!B4:H4,"X")+COUNTIF('Horaire-Membre 5'!B4:H4,"X") -> 0
A5: 03H - 04H | C5: =COUNTIF('Horaire-Membre 1'!B5:H5,"X")+COUNTIF('Horaire-Membre 2'!B5:H5,"X")+COUNTIF('Horaire-Membre 3 '!B5:H5,"X")+COUNTIF('Horaire-Membre 4 '!B5:H5,"X")+COUNTIF('Horaire-Membre 5'!B5:H5,"X") -> 0
A6: 04H - 05H | C6: =COUNTIF('Horaire-Membre 1'!B6:H6,"X")+COUNTIF('Horaire-Membre 2'!B6:H6,"X")+COUNTIF('Horaire-Membre 3 '!B6:H6,"X")+COUNTIF('Horaire-Membre 4 '!B6:H6,"X")+COUNTIF('Horaire-Membre 5'!B6:H6,"X") -> 0
A7: 05H - 06H | C7: =COUNTIF('Horaire-Membre 1'!B7:H7,"X")+COUNTIF('Horaire-Membre 2'!B7:H7,"X")+COUNTIF('Horaire-Membre 3 '!B7:H7,"X")+COUNTIF('Horaire-Membre 4 '!B7:H7,"X")+COUNTIF('Horaire-Membre 5'!B7:H7,"X") -> 0
A8: O6H - 07H | C8: =COUNTIF('Horaire-Membre 1'!B8:H8,"X")+COUNTIF('Horaire-Membre 2'!B8:H8,"X")+COUNTIF('Horaire-Membre 3 '!B8:H8,"X")+COUNTIF('Horaire-Membre 4 '!B8:H8,"X")+COUNTIF('Horaire-Membre 5'!B8:H8,"X") -> 0
A9: 07H - 08H | C9: =COUNTIF('Horaire-Membre 1'!B9:H9,"X")+COUNTIF('Horaire-Membre 2'!B9:H9,"X")+COUNTIF('Horaire-Membre 3 '!B9:H9,"X")+COUNTIF('Horaire-Membre 4 '!B9:H9,"X")+COUNTIF('Horaire-Membre 5'!B9:H9,"X") -> 0
A10: 08H - 09H | C10: =COUNTIF('Horaire-Membre 1'!B10:H10,"X")+COUNTIF('Horaire-Membre 2'!B10:H10,"X")+COUNTIF('Horaire-Membre 3 '!B10:H10,"X")+COUNTIF('Horaire-Membre 4 '!B10:H10,"X")+COUNTIF('Horaire-Membre 5'!B10:H10,"X") -> 26
A11: 09H - 10H | C11: =COUNTIF('Horaire-Membre 1'!B11:H11,"X")+COUNTIF('Horaire-Membre 2'!B11:H11,"X")+COUNTIF('Horaire-Membre 3 '!B11:H11,"X")+COUNTIF('Horaire-Membre 4 '!B11:H11,"X")+COUNTIF('Horaire-Membre 5'!B11:H11,"X") -> 25
A12: 10H - 11H | C12: =COUNTIF('Horaire-Membre 1'!B12:H12,"X")+COUNTIF('Horaire-Membre 2'!B12:H12,"X")+COUNTIF('Horaire-Membre 3 '!B12:H12,"X")+COUNTIF('Horaire-Membre 4 '!B12:H12,"X")+COUNTIF('Horaire-Membre 5'!B12:H12,"X") -> 31
A13: 11H - 12H | C13: =COUNTIF('Horaire-Membre 1'!B13:H13,"X")+COUNTIF('Horaire-Membre 2'!B13:H13,"X")+COUNTIF('Horaire-Membre 3 '!B13:H13,"X")+COUNTIF('Horaire-Membre 4 '!B13:H13,"X")+COUNTIF('Horaire-Membre 5'!B13:H13,"X") -> 28
... A25: 23H - 00H | C25: =COUNTIF('Horaire-Membre 1'!B25:H25,"X")+COUNTIF('Horaire-Membre 2'!B25:H25,"X")+COUNTIF('Horaire-Membre 3 '!B25:H25,"X")+COUNTIF('Horaire-Membre 4 '!B25:H25,"X")+COUNTIF('Horaire-Membre 5'!B25:H25,"X") -> 29

Sheet Membre
B2: Membre 1
B3: Membre 2
B4: Membre 3
B5: Membre 4
B6: Membre 5
B7: Membre 6
B8: Membre 7
B9: Membre 8
B10: Membre 9
B11: Membre 10
B12: Membre 11
B13: Membre 12
... B16: Membre 15
