Workbook

Sheet orders_export_1(1)
A1: Shipping Zip | B1: DEPARTEMENT | C1: REGION
A2: 69300 | B2: =IFERROR(VALUE(LEFT(A2,2)),"") -> 69 | C2: =IFERROR(VLOOKUP(B2,'Liste des départements français'!$B$2:$C$102,2,FALSE),"") -> Auvergne-Rhône-Alpes
A3: 69300 | B3: =IFERROR(VALUE(LEFT(A3,2)),"") -> 69 | C3: =IFERROR(VLOOKUP(B3,'Liste des départements français'!$B$2:$C$102,2,FALSE),"") -> Auvergne-Rhône-Alpes
B4: =IFERROR(VALUE(LEFT(A4,2)),"") | C4: =IFERROR(VLOOKUP(B4,'Liste des départements français'!$B$2:$C$102,2,FALSE),"")
A5: 50140 | B5: =IFERROR(VALUE(LEFT(A5,2)),"") -> 50 | C5: =IFERROR(VLOOKUP(B5,'Liste des départements français'!$B$2:$C$102,2,FALSE),"") -> Normandie
A6: 4460 | B6: =IFERROR(VALUE(LEFT(A6,2)),"") -> 44 | C6: =IFERROR(VLOOKUP(B6,'Liste des départements français'!$B$2:$C$102,2,FALSE),"") -> Pays de la Loire
A7: 49100 | B7: =IFERROR(VALUE(LEFT(A7,2)),"") -> 49 | C7: =IFERROR(VLOOKUP(B7,'Liste des départements français'!$B$2:$C$102,2,FALSE),"") -> Pays de la Loire
B8: =IFERROR(VALUE(LEFT(A8,2)),"") | C8: =IFERROR(VLOOKUP(B8,'Liste des départements français'!$B$2:$C$102,2,FALSE),"")
A9: 66240 | B9: =IFERROR(VALUE(LEFT(A9,2)),"") -> 66 | C9: =IFERROR(VLOOKUP(B9,'Liste des départements français'!$B$2:$C$102,2,FALSE),"") -> Occitanie
A10: 38300 | B10: =IFERROR(VALUE(LEFT(A10,2)),"") -> 38 | C10: =IFERROR(VLOOKUP(B10,'Liste des départements français'!$B$2:$C$102,2,FALSE),"") -> Auvergne-Rhône-Alpes
B11: =IFERROR(VALUE(LEFT(A11,2)),"") | C11: =IFERROR(VLOOKUP(B11,'Liste des départements français'!$B$2:$C$102,2,FALSE),"")
A12: 6800 | B12: =IFERROR(VALUE(LEFT(A12,2)),"") -> 68 | C12: =IFERROR(VLOOKUP(B12,'Liste des départements français'!$B$2:$C$102,2,FALSE),"") -> Grand Est
A13: 54800 | B13: =IFERROR(VALUE(LEFT(A13,2)),"") -> 54 | C13: =IFERROR(VLOOKUP(B13,'Liste des départements français'!$B$2:$C$102,2,FALSE),"") -> Grand Est
B14: =IFERROR(VALUE(LEFT(A14,2)),"") | C14: =IFERROR(VLOOKUP(B14,'Liste des départements français'!$B$2:$C$102,2,FALSE),"")
A15: 31600 | B15: =IFERROR(VALUE(LEFT(A15,2)),"") -> 31 | C15: =IFERROR(VLOOKUP(B15,'Liste des départements français'!$B$2:$C$102,2,FALSE),"") -> Occitanie
A16: 13590 | B16: =IFERROR(VALUE(LEFT(A16,2)),"") -> 13 | C16: =IFERROR(VLOOKUP(B16,'Liste des départements français'!$B$2:$C$102,2,FALSE),"") -> Provence-Alpes-Côte d'Azur
A17: 84430 | B17: =IFERROR(VALUE(LEFT(A17,2)),"") -> 84 | C17: =IFERROR(VLOOKUP(B17,'Liste des départements français'!$B$2:$C$102,2,FALSE),"") -> Provence-Alpes-Côte d'Azur
A18: 54380 | B18: =IFERROR(VALUE(LEFT(A18,2)),"") -> 54 | C18: =IFERROR(VLOOKUP(B18,'Liste des départements français'!$B$2:$C$102,2,FALSE),"") -> Grand Est
A19: 86400 | B19: =IFERROR(VALUE(LEFT(A19,2)),"") -> 86 | C19: =IFERROR(VLOOKUP(B19,'Liste des départements français'!$B$2:$C$102,2,FALSE),"") -> Nouvelle-Aquitaine
A20: 91150 | B20: =IFERROR(VALUE(LEFT(A20,2)),"") -> 91 | C20: =IFERROR(VLOOKUP(B20,'Liste des départements français'!$B$2:$C$102,2,FALSE),"") -> Ile-de-France
A21: 97490 | B21: =IFERROR(VALUE(LEFT(A21,2)),"") -> 97 | C21: =IFERROR(VLOOKUP(B21,'Liste des départements français'!$B$2:$C$102,2,FALSE),"")
A22: 59278 | B22: =IFERROR(VALUE(LEFT(A22,2)),"") -> 59 | C22: =IFERROR(VLOOKUP(B22,'Liste des départements français'!$B$2:$C$102,2,FALSE),"") -> Hauts-de-France
A23: 34130 | B23: =IFERROR(VALUE(LEFT(A23,2)),"") -> 34 | C23: =IFERROR(VLOOKUP(B23,'Liste des départements français'!$B$2:$C$102,2,FALSE),"") -> Occitanie
A24: 25150 | B24: =IFERROR(VALUE(LEFT(A24,2)),"") -> 25 | C24: =IFERROR(VLOOKUP(B24,'Liste des départements français'!$B$2:$C$102,2,FALSE),"") -> Bourgogne-Franche-Comté
A25: 88650 | B25: =IFERROR(VALUE(LEFT(A25,2)),"") -> 88 | C25: =IFERROR(VLOOKUP(B25,'Liste des départements français'!$B$2:$C$102,2,FALSE),"") -> Grand Est
A26: 78150 | B26: =IFERROR(VALUE(LEFT(A26,2)),"") -> 78 | C26: =IFERROR(VLOOKUP(B26,'Liste des départements français'!$B$2:$C$102,2,FALSE),"") -> Ile-de-France
B27: =IFERROR(VALUE(LEFT(A27,2)),"") | C27: =IFERROR(VLOOKUP(B27,'Liste des départements français'!$B$2:$C$102,2,FALSE),"")
B28: =IFERROR(VALUE(LEFT(A28,2)),"") | C28: =IFERROR(VLOOKUP(B28,'Liste des départements français'!$B$2:$C$102,2,FALSE),"")
A29: 37000 | B29: =IFERROR(VALUE(LEFT(A29,2)),"") -> 37 | C29: =IFERROR(VLOOKUP(B29,'Liste des départements français'!$B$2:$C$102,2,FALSE),"") -> Centre-Val de Loire
B30: =IFERROR(VALUE(LEFT(A30,2)),"") | C30: =IFERROR(VLOOKUP(B30,'Liste des départements français'!$B$2:$C$102,2,FALSE),"")
A31: 75011 | B31: =IFERROR(VALUE(LEFT(A31,2)),"") -> 75 | C31: =IFERROR(VLOOKUP(B31,'Liste des départements français'!$B$2:$C$102,2,FALSE),"") -> Ile-de-France
A32: 3420 | B32: =IFERROR(VALUE(LEFT(A32,2)),"") -> 34 | C32: =IFERROR(VLOOKUP(B32,'Liste des départements français'!$B$2:$C$102,2,FALSE),"") -> Occitanie
A33: 33700 | B33: =IFERROR(VALUE(LEFT(A33,2)),"") -> 33 | C33: =IFERROR(VLOOKUP(B33,'Liste des départements français'!$B$2:$C$102,2,FALSE),"") -> Nouvelle-Aquitaine
A34: 67660 | B34: =IFERROR(VALUE(LEFT(A34,2)),"") -> 67 | C34: =IFERROR(VLOOKUP(B34,'Liste des départements français'!$B$2:$C$102,2,FALSE),"") -> Grand Est
A35: 69150 | B35: =IFERROR(VALUE(LEFT(A35,2)),"") -> 69 | C35: =IFERROR(VLOOKUP(B35,'Liste des départements français'!$B$2:$C$102,2,FALSE),"") -> Auvergne-Rhône-Alpes
B36: =IFERROR(VALUE(LEFT(A36,2)),"") | C36: =IFERROR(VLOOKUP(B36,'Liste des départements français'!$B$2:$C$102,2,FALSE),"")
B37: =IFERROR(VALUE(LEFT(A37,2)),"") | C37: =IFERROR(VLOOKUP(B37,'Liste des départements français'!$B$2:$C$102,2,FALSE),"")
A38: 44520 | B38: =IFERROR(VALUE(LEFT(A38,2)),"") -> 44 | C38: =IFERROR(VLOOKUP(B38,'Liste des départements français'!$B$2:$C$102,2,FALSE),"") -> Pays de la Loire
A39: 92400 | B39: =IFERROR(VALUE(LEFT(A39,2)),"") -> 92 | C39: =IFERROR(VLOOKUP(B39,'Liste des départements français'!$B$2:$C$102,2,FALSE),"") -> Ile-de-France
A40: 44470 | B40: =IFERROR(VALUE(LEFT(A40,2)),"") -> 44 | C40: =IFERROR(VLOOKUP(B40,'Liste des départements français'!$B$2:$C$102,2,FALSE),"") -> Pays de la Loire
...

Sheet Liste des départements français
A1: NOM | B1: NUMÉRO | C1: REGION | D1: CHEF LIEU | E1: SUPERFICIE (km²) | F1: POPULATION | G1: DENSITE (habitants/km2)
A2: Ain | B2: 1 | C2: Auvergne-Rhône-Alpes | D2: Bourg-en-Bresse | E2: 5762 | F2: 631877 | G2: 109.7
A3: Aisne | B3: 2 | C3: Hauts-de-France | D3: Laon | E3: 7369 | F3: 538659 | G3: 73.1
A4: Allier | B4: 3 | C4: Auvergne-Rhône-Alpes | D4: Moulins | E4: 7340 | F4: 341613 | G4: 46.5
A5: Alpes-de-Haute-Provence | B5: 4 | C5: Provence-Alpes-Côte d'Azur | D5: Digne | E5: 6925 | F5: 161799 | G5: 23.4
A6: Hautes-Alpes | B6: 5 | C6: Provence-Alpes-Côte d'Azur | D6: Gap | E6: 5549 | F6: 140916 | G6: 25.4
A7: Alpes-Maritimes | B7: 6 | C7: Provence-Alpes-Côte d'Azur | D7: Nice | E7: 4299 | F7: 1082440 | G7: 251.8
A8: Ardèche | B8: 7 | C8: Auvergne-Rhône-Alpes | D8: Privas | E8: 5529 | F8: 324209 | G8: 58.6
A9: Ardennes | B9: 8 | C9: Grand Est | D9: Charleville-Mézières | E9: 5229 | F9: 277752 | G9: 53.1
A10: Ariège | B10: 9 | C10: Occitanie | D10: Foix | E10: 4890 | F10: 152499 | G10: 31.2
A11: Aube | B11: 10 | C11: Grand Est | D11: Troyes | E11: 6004 | F11: 309056 | G11: 51.5
A12: Aude | B12: 11 | C12: Occitanie | D12: Carcassonne | E12: 6139 | F12: 366957 | G12: 59.8
A13: Aveyron | B13: 12 | C13: Occitanie | D13: Rodez | E13: 8735 | F13: 279169 | G13: 32
... A20: Corrèze | B20: 19 | C20: Nouvelle-Aquitaine | D20: Tulle | E20: 5857 | F20: 241871 | G20: 41.3
A21: Corse-du-Sud | B21: 2A | C21: Corse | D21: Ajaccio | E21: 4014 | F21: 152730 | G21: 38
A22: Haute-Corse | B22: 2B | C22: Corse | D22: Bastia | E22: 4666 | F22: 174553 | G22: 37.4
A23: Côte-d'Or | B23: 21 | C23: Bourgogne-Franche-Comté | D23: Dijon | E23: 8763 | F23: 533147 | G23: 60.8
A24: Côtes-d'Armor | B24: 22 | C24: Bretagne | D24: Saint-Brieuc | E24: 6878 | F24: 598357 | G24: 87
A25: Creuse | B25: 23 | C25: Nouvelle-Aquitaine | D25: Guéret | E25: 5565 | F25: 120365 | G25: 21.6
A26: Dordogne | B26: 24 | C26: Nouvelle-Aquitaine | D26: Périgueux | E26: 9060 | F26: 415417 | G26: 45.9
A27: Doubs | B27: 25 | C27: Bourgogne-Franche-Comté | D27: Besançon | E27: 5233 | F27: 536959 | G27: 102.6
A28: Drôme | B28: 26 | C28: Auvergne-Rhône-Alpes | D28: Valence | E28: 6530 | F28: 504637 | G28: 77.3
A29: Eure | B29: 27 | C29: Normandie | D29: Évreux | E29: 6040 | F29: 601948 | G29: 99.7
A30: Eure-et-Loir | B30: 28 | C30: Centre-Val de Loire | D30: Chartres | E30: 5880 | F30: 434035 | G30: 73.8
A31: Finistère | B31: 29 | C31: Bretagne | D31: Quimper | E31: 6733 | F31: 907796 | G31: 134.8
A32: Gard | B32: 30 | C32: Occitanie | D32: Nîmes | E32: 5853 | F32: 738189 | G32: 126.1
A33: Haute-Garonne | B33: 31 | C33: Occitanie | D33: Toulouse | E33: 6309 | F33: 1335103 | G33: 211.6
A34: Gers | B34: 32 | C34: Occitanie | D34: Auch | E34: 6257 | F34: 190932 | G34: 30.5
... A102: Mayotte | B102: 976 | C102: Mayotte | D102: Dzaoudzi | E102: 376 | F102: 256518 | G102: 682.2
B104: fichier téléchargé depuis le site regions-et-departements.fr
