Workbook

Sheet Compta
A3: Employé | B3: Maladie | C3: Congé | D3: Récup | E3: Maladie restant | F3: Congé Restant | G3: Récup restante
A4: =IF(Config!A4<>"",Config!A4,"") -> Employé 1 | B4: =IFERROR(SUM(Janvier:Décembre!C12),"") -> 0 | C4: =IFERROR(SUM(Janvier:Décembre!D12),"") -> 0 | D4: =IFERROR(SUM(Janvier:Décembre!E12),"") -> 0 | E4: =Config!$G$4-Tableau5[[#This Row],[Maladie]] -> 30 | F4: =Config!$H$4-Tableau5[[#This Row],[Congé]] -> 20 | G4: =Config!$I$4-Tableau5[[#This Row],[Récup]] -> 12
A5: =IF(Config!A5<>"",Config!A5,"") -> Employé 2 | B5: =IFERROR(SUM(Janvier:Décembre!C13),"") -> 0 | C5: =IFERROR(SUM(Janvier:Décembre!D13),"") -> 0 | D5: =IFERROR(SUM(Janvier:Décembre!E13),"") -> 0 | E5: =Config!$G$4-Tableau5[[#This Row],[Maladie]] -> 30 | F5: =Config!$H$4-Tableau5[[#This Row],[Congé]] -> 20 | G5: =Config!$I$4-Tableau5[[#This Row],[Récup]] -> 12
A6: =IF(Config!A6<>"",Config!A6,"") -> Employé 3 | B6: =IFERROR(SUM(Janvier:Décembre!C14),"") -> 0 | C6: =IFERROR(SUM(Janvier:Décembre!D14),"") -> 0 | D6: =IFERROR(SUM(Janvier:Décembre!E14),"") -> 0 | E6: =Config!$G$4-Tableau5[[#This Row],[Maladie]] -> 30 | F6: =Config!$H$4-Tableau5[[#This Row],[Congé]] -> 20 | G6: =Config!$I$4-Tableau5[[#This Row],[Récup]] -> 12
A7: =IF(Config!A7<>"",Config!A7,"") -> Employé 4 | B7: =IFERROR(SUM(Janvier:Décembre!C15),"") -> 0 | C7: =IFERROR(SUM(Janvier:Décembre!D15),"") -> 0 | D7: =IFERROR(SUM(Janvier:Décembre!E15),"") -> 0 | E7: =Config!$G$4-Tableau5[[#This Row],[Maladie]] -> 30 | F7: =Config!$H$4-Tableau5[[#This Row],[Congé]] -> 20 | G7: =Config!$I$4-Tableau5[[#This Row],[Récup]] -> 12
A8: =IF(Config!A8<>"",Config!A8,"") -> Employé 5 | B8: =IFERROR(SUM(Janvier:Décembre!C16),"") -> 0 | C8: =IFERROR(SUM(Janvier:Décembre!D16),"") -> 0 | D8: =IFERROR(SUM(Janvier:Décembre!E16),"") -> 0 | E8: =Config!$G$4-Tableau5[[#This Row],[Maladie]] -> 30 | F8: =Config!$H$4-Tableau5[[#This Row],[Congé]] -> 20 | G8: =Config!$I$4-Tableau5[[#This Row],[Récup]] -> 12
A9: =IF(Config!A9<>"",Config!A9,"") -> Employé 6 | B9: =IFERROR(SUM(Janvier:Décembre!C17),"") -> 0 | C9: =IFERROR(SUM(Janvier:Décembre!D17),"") -> 0 | D9: =IFERROR(SUM(Janvier:Décembre!E17),"") -> 0 | E9: =Config!$G$4-Tableau5[[#This Row],[Maladie]] -> 30 | F9: =Config!$H$4-Tableau5[[#This Row],[Congé]] -> 20 | G9: =Config!$I$4-Tableau5[[#This Row],[Récup]] -> 12
A10: =IF(Config!A10<>"",Config!A10,"") -> Employé 7 | B10: =IFERROR(SUM(Janvier:Décembre!C18),"") -> 0 | C10: =IFERROR(SUM(Janvier:Décembre!D18),"") -> 0 | D10: =IFERROR(SUM(Janvier:Décembre!E18),"") -> 0 | E10: =Config!$G$4-Tableau5[[#This Row],[Maladie]] -> 30 | F10: =Config!$H$4-Tableau5[[#This Row],[Congé]] -> 20 | G10: =Config!$I$4-Tableau5[[#This Row],[Récup]] -> 12
A11: =IF(Config!A11<>"",Config!A11,"") -> Employé 8 | B11: =IFERROR(SUM(Janvier:Décembre!C19),"") -> 0 | C11: =IFERROR(SUM(Janvier:Décembre!D19),"") -> 0 | D11: =IFERROR(SUM(Janvier:Décembre!E19),"") -> 0 | E11: =Config!$G$4-Tableau5[[#This Row],[Maladie]] -> 30 | F11: =Config!$H$4-Tableau5[[#This Row],[Congé]] -> 20 | G11: =Config!$I$4-Tableau5[[#This Row],[Récup]] -> 12
A12: =IF(Config!A12<>"",Config!A12,"") -> Employé 9 | B12: =IFERROR(SUM(Janvier:Décembre!C20),"") -> 0 | C12: =IFERROR(SUM(Janvier:Décembre!D20),"") -> 0 | D12: =IFERROR(SUM(Janvier:Décembre!E20),"") -> 0 | E12: =Config!$G$4-Tableau5[[#This Row],[Maladie]] -> 30 | F12: =Config!$H$4-Tableau5[[#This Row],[Congé]] -> 20 | G12: =Config!$I$4-Tableau5[[#This Row],[Récup]] -> 12
A13: =IF(Config!A13<>"",Config!A13,"") -> Employé 10 | B13: =IFERROR(SUM(Janvier:Décembre!C21),"") -> 0 | C13: =IFERROR(SUM(Janvier:Décembre!D21),"") -> 0 | D13: =IFERROR(SUM(Janvier:Décembre!E21),"") -> 0 | E13: =Config!$G$4-Tableau5[[#This Row],[Maladie]] -> 30 | F13: =Config!$H$4-Tableau5[[#This Row],[Congé]] -> 20 | G13: =Config!$I$4-Tableau5[[#This Row],[Récup]] -> 12
A14: =IF(Config!A14<>"",Config!A14,"") -> Employé 11 | B14: =IFERROR(SUM(Janvier:Décembre!C22),"") -> 0 | C14: =IFERROR(SUM(Janvier:Décembre!D22),"") -> 0 | D14: =IFERROR(SUM(Janvier:Décembre!E22),"") -> 0 | E14: =Config!$G$4-Tableau5[[#This Row],[Maladie]] -> 30 | F14: =Config!$H$4-Tableau5[[#This Row],[Congé]] -> 20 | G14: =Config!$I$4-Tableau5[[#This Row],[Récup]] -> 12

Sheet Config
A3: Employé | C3: Date d'entrée | D3: 44562 | G3: Régime maladie | H3: Congé | I3: Récup
A4: Employé 1 | G4: 30 | H4: 20 | I4: 12
A5: Employé 2 | D5: Début | E5: Fin
A6: Employé 3 | C6: Janvier | D6: =D3 -> 44562 | E6: =EOMONTH(D6,0) -> 44592
A7: Employé 4 | C7: Février | D7: =EDATE(D6,1) -> 44593 | E7: =EOMONTH(D7,0) -> 44620
A8: Employé 5 | C8: Mars | D8: =EDATE(D7,1) -> 44621 | E8: =EOMONTH(D8,0) -> 44651
A9: Employé 6 | C9: Avril | D9: =EDATE(D8,1) -> 44652 | E9: =EOMONTH(D9,0) -> 44681
A10: Employé 7 | C10: Mai | D10: =EDATE(D9,1) -> 44682 | E10: =EOMONTH(D10,0) -> 44712
A11: Employé 8 | C11: Juin | D11: =EDATE(D10,1) -> 44713 | E11: =EOMONTH(D11,0) -> 44742
A12: Employé 9 | C12: Juillet | D12: =EDATE(D11,1) -> 44743 | E12: =EOMONTH(D12,0) -> 44773
A13: Employé 10 | C13: Août | D13: =EDATE(D12,1) -> 44774 | E13: =EOMONTH(D13,0) -> 44804
A14: Employé 11 | C14: Septembre | D14: =EDATE(D13,1) -> 44805 | E14: =EOMONTH(D14,0) -> 44834
C15: Octobre | D15: =EDATE(D14,1) -> 44835 | E15: =EOMONTH(D15,0) -> 44865
C16: Novembre | D16: =EDATE(D15,1) -> 44866 | E16: =EOMONTH(D16,0) -> 44895
C17: Décembre | D17: =EDATE(D16,1) -> 44896 | E17: =EOMONTH(D17,0) -> 44926

Sheet Janvier
A1: =Config!D6 -> 44562
A2: =Config!E6 -> 44592
F3: =A1 -> 44562 | G3: =F3+1 -> 44563 | H3: =G3+1 -> 44564 | I3: =H3+1 -> 44565 | J3: =I3+1 -> 44566 | K3: =J3+1 -> 44567 | L3: =K3+1 -> 44568 | M3: =L3+1 -> 44569 | N3: =M3+1 -> 44570 | ... AJ3: =AI3+1 -> 44592 | AK3: =IFERROR(IF(AJ3+1>$A$2,"",AJ3+1),"")
B5: =TEXT(A1,"Mmmm Aaaa") -> janvier 2022
F10: =DAY(F3) -> 1 | G10: =DAY(G3) -> 2 | H10: =DAY(H3) -> 3 | I10: =DAY(I3) -> 4 | J10: =DAY(J3) -> 5 | K10: =DAY(K3) -> 6 | L10: =DAY(L3) -> 7 | M10: =DAY(M3) -> 8 | ... AF10: =DAY(AF3) -> 27 | AG10: =IFERROR(DAY(AG3),"") -> 28 | AH10: =IFERROR(DAY(AH3),"") -> 29 | AI10: =IFERROR(DAY(AI3),"") -> 30 | AJ10: =IFERROR(DAY(AJ3),"") -> 31
B11: Employé | C11: Maladie | D11: Congé | E11: Récup | F11: =WEEKDAY(F3) -> 7 | G11: =WEEKDAY(G3) -> 1 | H11: =WEEKDAY(H3) -> 2 | I11: =WEEKDAY(I3) -> 3 | J11: =WEEKDAY(J3) -> 4 | K11: =WEEKDAY(K3) -> 5 | L11: =WEEKDAY(L3) -> 6 | M11: =WEEKDAY(M3) -> 7 | ... AF11: =WEEKDAY(AF3) -> 5 | AG11: =IFERROR(WEEKDAY(AG3),"") -> 6 | AH11: =IFERROR(WEEKDAY(AH3),"") -> 7 | AI11: =IFERROR(WEEKDAY(AI3),"") -> 1 | AJ11: =IFERROR(WEEKDAY(AJ3),"") -> 2
A12: =IF(E12<=1,"","L") | B12: =IF(Config!A4<>"",Config!A4,"") -> Employé 1 | C12: =COUNTIF(F12:AJ12,$L$24) -> 0 | D12: =COUNTIF(F12:AJ12,$F$24) -> 0 | E12: =COUNTIF(F12:AJ12,$I$24) -> 0
A13: =IF(E13<=1,"","L") | B13: =IF(Config!A5<>"",Config!A5,"") -> Employé 2 | C13: =COUNTIF(F13:AJ13,$L$24) -> 0 | D13: =COUNTIF(F13:AJ13,$F$24) -> 0 | E13: =COUNTIF(F13:AJ13,$I$24) -> 0
A14: =IF(E14<=1,"","L") | B14: =IF(Config!A6<>"",Config!A6,"") -> Employé 3 | C14: =COUNTIF(F14:AJ14,$L$24) -> 0 | D14: =COUNTIF(F14:AJ14,$F$24) -> 0 | E14: =COUNTIF(F14:AJ14,$I$24) -> 0
A15: =IF(E15<=1,"","L") | B15: =IF(Config!A7<>"",Config!A7,"") -> Employé 4 | C15: =COUNTIF(F15:AJ15,$L$24) -> 0 | D15: =COUNTIF(F15:AJ15,$F$24) -> 0 | E15: =COUNTIF(F15:AJ15,$I$24) -> 0
A16: =IF(E16<=1,"","L") | B16: =IF(Config!A8<>"",Config!A8,"") -> Employé 5 | C16: =COUNTIF(F16:AJ16,$L$24) -> 0 | D16: =COUNTIF(F16:AJ16,$F$24) -> 0 | E16: =COUNTIF(F16:AJ16,$I$24) -> 0
A17: =IF(E17<=1,"","L") | B17: =IF(Config!A9<>"",Config!A9,"") -> Employé 6 | C17: =COUNTIF(F17:AJ17,$L$24) -> 0 | D17: =COUNTIF(F17:AJ17,$F$24) -> 0 | E17: =COUNTIF(F17:AJ17,$I$24) -> 0
A18: =IF(E18<=1,"","L") | B18: =IF(Config!A10<>"",Config!A10,"") -> Employé 7 | C18: =COUNTIF(F18:AJ18,$L$24) -> 0 | D18: =COUNTIF(F18:AJ18,$F$24) -> 0 | E18: =COUNTIF(F18:AJ18,$I$24) -> 0
A19: =IF(E19<=1,"","L") | B19: Employé 8 | C19: =COUNTIF(F19:AJ19,$L$24) -> 0 | D19: =COUNTIF(F19:AJ19,$F$24) -> 0 | E19: =COUNTIF(F19:AJ19,$I$24) -> 0
A20: =IF(E20<=1,"","L") | B20: Employé 9 | C20: =COUNTIF(F20:AJ20,$L$24) -> 0 | D20: =COUNTIF(F20:AJ20,$F$24) -> 0 | E20: =COUNTIF(F20:AJ20,$I$24) -> 0
A21: =IF(E21<=1,"","L") | B21: Employé 10 | C21: =COUNTIF(F21:AJ21,$L$24) -> 0 | D21: =COUNTIF(F21:AJ21,$F$24) -> 0 | E21: =COUNTIF(F21:AJ21,$I$24) -> 0
A22: =IF(E22<=1,"","L") | B22: Employé 11 | C22: =COUNTIF(F22:AJ22,$L$24) -> 0 | D22: =COUNTIF(F22:AJ22,$F$24) -> 0 | E22: =COUNTIF(F22:AJ22,$I$24) -> 0
D24: =IF(SUM(D12:D22)+SUM(E12:E22)>=20,"STOP","") | F24: C | G24: Congé | I24: R | J24: Récup | L24: M | M24: Maladie
F26: =IF(COUNTIF(F$12:F$22,$F$24)+COUNTIF(F$12:F$22,$I$24)+COUNTIF(F$12:F$22,$L$24)<=3,"","STOP") | G26: =IF(COUNTIF(G$12:G$22,$F$24)+COUNTIF(G$12:G$22,$I$24)<=3,"","STOP") | H26: =IF(COUNTIF(H$12:H$22,$F$24)+COUNTIF(H$12:H$22,$I$24)<=3,"","STOP") | I26: =IF(COUNTIF(I$12:I$22,$F$24)+COUNTIF(I$12:I$22,$I$24)<=3,"","STOP") | J26: =IF(COUNTIF(J$12:J$22,$F$24)+COUNTIF(J$12:J$22,$I$24)<=3,"","STOP") | K26: =IF(COUNTIF(K$12:K$22,$F$24)+COUNTIF(K$12:K$22,$I$24)<=3,"","STOP") | L26: =IF(COUNTIF(L$12:L$22,$F$24)+COUNTIF(L$12:L$22,$I$24)<=3,"","STOP") | M26: =IF(COUNTIF(M$12:M$22,$F$24)+COUNTIF(M$12:M$22,$I$24)<=3,"","STOP") | N26: =IF(COUNTIF(N$12:N$22,$F$24)+COUNTIF(N$12:N$22,$I$24)<=3,"","STOP") | ... AJ26: =IF(COUNTIF(AJ$12:AJ$22,$F$24)+COUNTIF(AJ$12:AJ$22,$I$24)<=3,"","STOP")
J27: =IF(COUNTIF($F$12:$L$22,$F$24)+COUNTIF($F$12:$L$22,$I$24)<=10,"","STOP") | Q27: =IF(COUNTIF($M$12:$S$22,$F$24)+COUNTIF($M$12:$S$22,$I$24)<=10,"","STOP") | X27: =IF(COUNTIF($T$12:$Z$22,$F$24)+COUNTIF($T$12:$Z$22,$I$24)<=10,"","STOP") | AE27: =IF(COUNTIF($AA$12:$AG$22,$F$24)+COUNTIF($AA$12:$AG$22,$I$24)<=10,"","STOP")

Sheet Février
A1: =Config!D7 -> 44593
A2: =Config!E7 -> 44620
F3: =A1 -> 44593 | G3: =F3+1 -> 44594 | H3: =G3+1 -> 44595 | I3: =H3+1 -> 44596 | J3: =I3+1 -> 44597 | K3: =J3+1 -> 44598 | L3: =K3+1 -> 44599 | M3: =L3+1 -> 44600 | N3: =M3+1 -> 44601 | ... AF3: =AE3+1 -> 44619 | AG3: =IFERROR(IF(AF3+1>$A$2,"",AF3+1),"") -> 44620 | AH3: =IFERROR(IF(AG3+1>$A$2,"",AG3+1),"") | AI3: =IFERROR(IF(AH3+1>$A$2,"",AH3+1),"") | AJ3: =IFERROR(IF(AI3+1>$A$2,"",AI3+1),"") | AK3: =IFERROR(IF(AJ3+1>$A$2,"",AJ3+1),"")
B5: =TEXT(A1,"Mmmm Aaaa") -> février 2022
F10: =DAY(F3) -> 1 | G10: =DAY(G3) -> 2 | H10: =DAY(H3) -> 3 | I10: =DAY(I3) -> 4 | J10: =DAY(J3) -> 5 | K10: =DAY(K3) -> 6 | L10: =DAY(L3) -> 7 | M10: =DAY(M3) -> 8 | ... AF10: =DAY(AF3) -> 27 | AG10: =IFERROR(DAY(AG3),"") -> 28 | AH10: =IFERROR(DAY(AH3),"") | AI10: =IFERROR(DAY(AI3),"") | AJ10: =IFERROR(DAY(AJ3),"")
B11: Employé | C11: Maladie | D11: Congé | E11: Récup | F11: =WEEKDAY(F3) -> 3 | G11: =WEEKDAY(G3) -> 4 | H11: =WEEKDAY(H3) -> 5 | I11: =WEEKDAY(I3) -> 6 | J11: =WEEKDAY(J3) -> 7 | K11: =WEEKDAY(K3) -> 1 | L11: =WEEKDAY(L3) -> 2 | M11: =WEEKDAY(M3) -> 3 | ... AF11: =WEEKDAY(AF3) -> 1 | AG11: =IFERROR(WEEKDAY(AG3),"") -> 2 | AH11: =IFERROR(WEEKDAY(AH3),"") | AI11: =IFERROR(WEEKDAY(AI3),"") | AJ11: =IFERROR(WEEKDAY(AJ3),"")
A12: =IF(E12<=1,"","L") | B12: =IF(Config!A4<>"",Config!A4,"") -> Employé 1 | C12: =COUNTIF(F12:AH12,$L$24) -> 0 | D12: =COUNTIF(F12:AH12,$F$24) -> 0 | E12: =COUNTIF(F12:AH12,$I$24) -> 0
A13: =IF(E13<=1,"","L") | B13: =IF(Config!A5<>"",Config!A5,"") -> Employé 2 | C13: =COUNTIF(F13:AH13,$L$24) -> 0 | D13: =COUNTIF(F13:AH13,$F$24) -> 0 | E13: =COUNTIF(F13:AH13,$I$24) -> 0
A14: =IF(E14<=1,"","L") | B14: =IF(Config!A6<>"",Config!A6,"") -> Employé 3 | C14: =COUNTIF(F14:AH14,$L$24) -> 0 | D14: =COUNTIF(F14:AH14,$F$24) -> 0 | E14: =COUNTIF(F14:AH14,$I$24) -> 0
A15: =IF(E15<=1,"","L") | B15: =IF(Config!A7<>"",Config!A7,"") -> Employé 4 | C15: =COUNTIF(F15:AH15,$L$24) -> 0 | D15: =COUNTIF(F15:AH15,$F$24) -> 0 | E15: =COUNTIF(F15:AH15,$I$24) -> 0
A16: =IF(E16<=1,"","L") | B16: =IF(Config!A8<>"",Config!A8,"") -> Employé 5 | C16: =COUNTIF(F16:AH16,$L$24) -> 0 | D16: =COUNTIF(F16:AH16,$F$24) -> 0 | E16: =COUNTIF(F16:AH16,$I$24) -> 0
A17: =IF(E17<=1,"","L") | B17: =IF(Config!A9<>"",Config!A9,"") -> Employé 6 | C17: =COUNTIF(F17:AH17,$L$24) -> 0 | D17: =COUNTIF(F17:AH17,$F$24) -> 0 | E17: =COUNTIF(F17:AH17,$I$24) -> 0
A18: =IF(E18<=1,"","L") | B18: =IF(Config!A10<>"",Config!A10,"") -> Employé 7 | C18: =COUNTIF(F18:AH18,$L$24) -> 0 | D18: =COUNTIF(F18:AH18,$F$24) -> 0 | E18: =COUNTIF(F18:AH18,$I$24) -> 0
A19: =IF(E19<=1,"","L") | B19: Employé 8 | C19: =COUNTIF(F19:AH19,$L$24) -> 0 | D19: =COUNTIF(F19:AH19,$F$24) -> 0 | E19: =COUNTIF(F19:AH19,$I$24) -> 0
A20: =IF(E20<=1,"","L") | B20: Employé 9 | C20: =COUNTIF(F20:AH20,$L$24) -> 0 | D20: =COUNTIF(F20:AH20,$F$24) -> 0 | E20: =COUNTIF(F20:AH20,$I$24) -> 0
A21: =IF(E21<=1,"","L") | B21: Employé 10 | C21: =COUNTIF(F21:AH21,$L$24) -> 0 | D21: =COUNTIF(F21:AH21,$F$24) -> 0 | E21: =COUNTIF(F21:AH21,$I$24) -> 0
A22: =IF(E22<=1,"","L") | B22: Employé 11 | C22: =COUNTIF(F22:AH22,$L$24) -> 0 | D22: =COUNTIF(F22:AH22,$F$24) -> 0 | E22: =COUNTIF(F22:AH22,$I$24) -> 0
D24: =IF(SUM(D12:D22)+SUM(E12:E22)>=20,"STOP","") | F24: C | G24: Congé | I24: R | J24: Récup | L24: M | M24: Maladie
F26: =IF(COUNTIF(F$12:F$22,$F$24)+COUNTIF(F$12:F$22,$I$24)+COUNTIF(F$12:F$22,$L$24)<=3,"","STOP") | G26: =IF(COUNTIF(G$12:G$22,$F$24)+COUNTIF(G$12:G$22,$I$24)<=3,"","STOP") | H26: =IF(COUNTIF(H$12:H$22,$F$24)+COUNTIF(H$12:H$22,$I$24)<=3,"","STOP") | I26: =IF(COUNTIF(I$12:I$22,$F$24)+COUNTIF(I$12:I$22,$I$24)<=3,"","STOP") | J26: =IF(COUNTIF(J$12:J$22,$F$24)+COUNTIF(J$12:J$22,$I$24)<=3,"","STOP") | K26: =IF(COUNTIF(K$12:K$22,$F$24)+COUNTIF(K$12:K$22,$I$24)<=3,"","STOP") | L26: =IF(COUNTIF(L$12:L$22,$F$24)+COUNTIF(L$12:L$22,$I$24)<=3,"","STOP") | M26: =IF(COUNTIF(M$12:M$22,$F$24)+COUNTIF(M$12:M$22,$I$24)<=3,"","STOP") | N26: =IF(COUNTIF(N$12:N$22,$F$24)+COUNTIF(N$12:N$22,$I$24)<=3,"","STOP") | ... AJ26: =IF(COUNTIF(AJ$12:AJ$22,$F$24)+COUNTIF(AJ$12:AJ$22,$I$24)<=3,"","STOP")
J27: =IF(COUNTIF(Janvier!AH12:'Février'!I22,Février!$F$24)+COUNTIF(Janvier!AH12:'Février'!I22,I24)<=10,"","STOP") -> #VALUE! | Q27: =IF(COUNTIF($M$12:$S$22,$F$24)+COUNTIF($M$12:$S$22,$I$24)<=10,"","STOP") | X27: =IF(COUNTIF($T$12:$Z$22,$F$24)+COUNTIF($T$12:$Z$22,$I$24)<=10,"","STOP") | AE27: =IF(COUNTIF($AA$12:$AG$22,$F$24)+COUNTIF($AA$12:$AG$22,$I$24)<=10,"","STOP")

Sheet Mars
A1: =Config!D8 -> 44621
A2: =Config!E8 -> 44651
F3: =A1 -> 44621 | G3: =F3+1 -> 44622 | H3: =G3+1 -> 44623 | I3: =H3+1 -> 44624 | J3: =I3+1 -> 44625 | K3: =J3+1 -> 44626 | L3: =K3+1 -> 44627 | M3: =L3+1 -> 44628 | N3: =M3+1 -> 44629 | ... AJ3: =AI3+1 -> 44651 | AK3: =IFERROR(IF(AJ3+1>$A$2,"",AJ3+1),"")
B5: =TEXT(A1,"Mmmm Aaaa") -> mars 2022
F10: =DAY(F3) -> 1 | G10: =DAY(G3) -> 2 | H10: =DAY(H3) -> 3 | I10: =DAY(I3) -> 4 | J10: =DAY(J3) -> 5 | K10: =DAY(K3) -> 6 | L10: =DAY(L3) -> 7 | M10: =DAY(M3) -> 8 | ... AF10: =DAY(AF3) -> 27 | AG10: =IFERROR(DAY(AG3),"") -> 28 | AH10: =IFERROR(DAY(AH3),"") -> 29 | AI10: =IFERROR(DAY(AI3),"") -> 30 | AJ10: =IFERROR(DAY(AJ3),"") -> 31
B11: Employé | C11: Maladie | D11: Congé | E11: Récup | F11: =WEEKDAY(F3) -> 3 | G11: =WEEKDAY(G3) -> 4 | H11: =WEEKDAY(H3) -> 5 | I11: =WEEKDAY(I3) -> 6 | J11: =WEEKDAY(J3) -> 7 | K11: =WEEKDAY(K3) -> 1 | L11: =WEEKDAY(L3) -> 2 | M11: =WEEKDAY(M3) -> 3 | ... AF11: =WEEKDAY(AF3) -> 1 | AG11: =IFERROR(WEEKDAY(AG3),"") -> 2 | AH11: =IFERROR(WEEKDAY(AH3),"") -> 3 | AI11: =IFERROR(WEEKDAY(AI3),"") -> 4 | AJ11: =IFERROR(WEEKDAY(AJ3),"") -> 5
A12: =IF(E12<=1,"","L") | B12: =IF(Config!A4<>"",Config!A4,"") -> Employé 1 | C12: =COUNTIF(F12:AJ12,$L$24) -> 0 | D12: =COUNTIF(F12:AJ12,$F$24) -> 0 | E12: =COUNTIF(F12:AJ12,$I$24) -> 0
A13: =IF(E13<=1,"","L") | B13: =IF(Config!A5<>"",Config!A5,"") -> Employé 2 | C13: =COUNTIF(F13:AJ13,$L$24) -> 0 | D13: =COUNTIF(F13:AJ13,$F$24) -> 0 | E13: =COUNTIF(F13:AJ13,$I$24) -> 0
A14: =IF(E14<=1,"","L") | B14: =IF(Config!A6<>"",Config!A6,"") -> Employé 3 | C14: =COUNTIF(F14:AJ14,$L$24) -> 0 | D14: =COUNTIF(F14:AJ14,$F$24) -> 0 | E14: =COUNTIF(F14:AJ14,$I$24) -> 0
A15: =IF(E15<=1,"","L") | B15: =IF(Config!A7<>"",Config!A7,"") -> Employé 4 | C15: =COUNTIF(F15:AJ15,$L$24) -> 0 | D15: =COUNTIF(F15:AJ15,$F$24) -> 0 | E15: =COUNTIF(F15:AJ15,$I$24) -> 0
A16: =IF(E16<=1,"","L") | B16: =IF(Config!A8<>"",Config!A8,"") -> Employé 5 | C16: =COUNTIF(F16:AJ16,$L$24) -> 0 | D16: =COUNTIF(F16:AJ16,$F$24) -> 0 | E16: =COUNTIF(F16:AJ16,$I$24) -> 0
A17: =IF(E17<=1,"","L") | B17: =IF(Config!A9<>"",Config!A9,"") -> Employé 6 | C17: =COUNTIF(F17:AJ17,$L$24) -> 0 | D17: =COUNTIF(F17:AJ17,$F$24) -> 0 | E17: =COUNTIF(F17:AJ17,$I$24) -> 0
A18: =IF(E18<=1,"","L") | B18: =IF(Config!A10<>"",Config!A10,"") -> Employé 7 | C18: =COUNTIF(F18:AJ18,$L$24) -> 0 | D18: =COUNTIF(F18:AJ18,$F$24) -> 0 | E18: =COUNTIF(F18:AJ18,$I$24) -> 0
A19: =IF(E19<=1,"","L") | B19: Employé 8 | C19: =COUNTIF(F19:AJ19,$L$24) -> 0 | D19: =COUNTIF(F19:AJ19,$F$24) -> 0 | E19: =COUNTIF(F19:AJ19,$I$24) -> 0
A20: =IF(E20<=1,"","L") | B20: Employé 9 | C20: =COUNTIF(F20:AJ20,$L$24) -> 0 | D20: =COUNTIF(F20:AJ20,$F$24) -> 0 | E20: =COUNTIF(F20:AJ20,$I$24) -> 0
A21: =IF(E21<=1,"","L") | B21: Employé 10 | C21: =COUNTIF(F21:AJ21,$L$24) -> 0 | D21: =COUNTIF(F21:AJ21,$F$24) -> 0 | E21: =COUNTIF(F21:AJ21,$I$24) -> 0
A22: =IF(E22<=1,"","L") | B22: Employé 11 | C22: =COUNTIF(F22:AJ22,$L$24) -> 0 | D22: =COUNTIF(F22:AJ22,$F$24) -> 0 | E22: =COUNTIF(F22:AJ22,$I$24) -> 0
D24: =IF(SUM(D12:D22)+SUM(E12:E22)>=20,"STOP","") | F24: C | G24: Congé | I24: R | J24: Récup | L24: M | M24: Maladie
F26: =IF(COUNTIF(F$12:F$22,$F$24)+COUNTIF(F$12:F$22,$I$24)+COUNTIF(F$12:F$22,$L$24)<=3,"","STOP") | G26: =IF(COUNTIF(G$12:G$22,$F$24)+COUNTIF(G$12:G$22,$I$24)<=3,"","STOP") | H26: =IF(COUNTIF(H$12:H$22,$F$24)+COUNTIF(H$12:H$22,$I$24)<=3,"","STOP") | I26: =IF(COUNTIF(I$12:I$22,$F$24)+COUNTIF(I$12:I$22,$I$24)<=3,"","STOP") | J26: =IF(COUNTIF(J$12:J$22,$F$24)+COUNTIF(J$12:J$22,$I$24)<=3,"","STOP") | K26: =IF(COUNTIF(K$12:K$22,$F$24)+COUNTIF(K$12:K$22,$I$24)<=3,"","STOP") | L26: =IF(COUNTIF(L$12:L$22,$F$24)+COUNTIF(L$12:L$22,$I$24)<=3,"","STOP") | M26: =IF(COUNTIF(M$12:M$22,$F$24)+COUNTIF(M$12:M$22,$I$24)<=3,"","STOP") | N26: =IF(COUNTIF(N$12:N$22,$F$24)+COUNTIF(N$12:N$22,$I$24)<=3,"","STOP") | ... AJ26: =IF(COUNTIF(AJ$12:AJ$22,$F$24)+COUNTIF(AJ$12:AJ$22,$I$24)<=3,"","STOP")
J27: =IF(COUNTIF($F$12:$L$22,$F$24)+COUNTIF($F$12:$L$22,$I$24)<=10,"","STOP") | Q27: =IF(COUNTIF($M$12:$S$22,$F$24)+COUNTIF($M$12:$S$22,$I$24)<=10,"","STOP") | X27: =IF(COUNTIF($T$12:$Z$22,$F$24)+COUNTIF($T$12:$Z$22,$I$24)<=10,"","STOP") | AE27: =IF(COUNTIF($AA$12:$AG$22,$F$24)+COUNTIF($AA$12:$AG$22,$I$24)<=10,"","STOP")

Sheet Avril
A1: =Config!D9 -> 44652
A2: =Config!E9 -> 44681
F3: =A1 -> 44652 | G3: =F3+1 -> 44653 | H3: =G3+1 -> 44654 | I3: =H3+1 -> 44655 | J3: =I3+1 -> 44656 | K3: =J3+1 -> 44657 | L3: =K3+1 -> 44658 | M3: =L3+1 -> 44659 | N3: =M3+1 -> 44660 | ... AF3: =AE3+1 -> 44678 | AG3: =IFERROR(IF(AF3+1>$A$2,"",AF3+1),"") -> 44679 | AH3: =IFERROR(IF(AG3+1>$A$2,"",AG3+1),"") -> 44680 | AI3: =IFERROR(IF(AH3+1>$A$2,"",AH3+1),"") -> 44681 | AJ3: =IFERROR(IF(AI3+1>$A$2,"",AI3+1),"")
B5: =TEXT(A1,"Mmmm Aaaa") -> avril 2022
F10: =DAY(F3) -> 1 | G10: =DAY(G3) -> 2 | H10: =DAY(H3) -> 3 | I10: =DAY(I3) -> 4 | J10: =DAY(J3) -> 5 | K10: =DAY(K3) -> 6 | L10: =DAY(L3) -> 7 | M10: =DAY(M3) -> 8 | ... AF10: =DAY(AF3) -> 27 | AG10: =IFERROR(DAY(AG3),"") -> 28 | AH10: =IFERROR(DAY(AH3),"") -> 29 | AI10: =IFERROR(DAY(AI3),"") -> 30 | AJ10: =IFERROR(DAY(AJ3),"")
B11: Employé | C11: Maladie | D11: Congé | E11: Récup | F11: =WEEKDAY(F3) -> 6 | G11: =WEEKDAY(G3) -> 7 | H11: =WEEKDAY(H3) -> 1 | I11: =WEEKDAY(I3) -> 2 | J11: =WEEKDAY(J3) -> 3 | K11: =WEEKDAY(K3) -> 4 | L11: =WEEKDAY(L3) -> 5 | M11: =WEEKDAY(M3) -> 6 | ... AF11: =WEEKDAY(AF3) -> 4 | AG11: =IFERROR(WEEKDAY(AG3),"") -> 5 | AH11: =IFERROR(WEEKDAY(AH3),"") -> 6 | AI11: =IFERROR(WEEKDAY(AI3),"") -> 7 | AJ11: =IFERROR(WEEKDAY(AJ3),"")
A12: =IF(E12<=1,"","L") | B12: =IF(Config!A4<>"",Config!A4,"") -> Employé 1 | C12: =COUNTIF(F12:AI12,$L$24) -> 0 | D12: =COUNTIF(F12:AI12,$F$24) -> 0 | E12: =COUNTIF(F12:AI12,$I$24) -> 0
A13: =IF(E13<=1,"","L") | B13: =IF(Config!A5<>"",Config!A5,"") -> Employé 2 | C13: =COUNTIF(F13:AI13,$L$24) -> 0 | D13: =COUNTIF(F13:AI13,$F$24) -> 0 | E13: =COUNTIF(F13:AI13,$I$24) -> 0
A14: =IF(E14<=1,"","L") | B14: =IF(Config!A6<>"",Config!A6,"") -> Employé 3 | C14: =COUNTIF(F14:AI14,$L$24) -> 0 | D14: =COUNTIF(F14:AI14,$F$24) -> 0 | E14: =COUNTIF(F14:AI14,$I$24) -> 0
A15: =IF(E15<=1,"","L") | B15: =IF(Config!A7<>"",Config!A7,"") -> Employé 4 | C15: =COUNTIF(F15:AI15,$L$24) -> 0 | D15: =COUNTIF(F15:AI15,$F$24) -> 0 | E15: =COUNTIF(F15:AI15,$I$24) -> 0
A16: =IF(E16<=1,"","L") | B16: =IF(Config!A8<>"",Config!A8,"") -> Employé 5 | C16: =COUNTIF(F16:AI16,$L$24) -> 0 | D16: =COUNTIF(F16:AI16,$F$24) -> 0 | E16: =COUNTIF(F16:AI16,$I$24) -> 0
A17: =IF(E17<=1,"","L") | B17: =IF(Config!A9<>"",Config!A9,"") -> Employé 6 | C17: =COUNTIF(F17:AI17,$L$24) -> 0 | D17: =COUNTIF(F17:AI17,$F$24) -> 0 | E17: =COUNTIF(F17:AI17,$I$24) -> 0
A18: =IF(E18<=1,"","L") | B18: =IF(Config!A10<>"",Config!A10,"") -> Employé 7 | C18: =COUNTIF(F18:AI18,$L$24) -> 0 | D18: =COUNTIF(F18:AI18,$F$24) -> 0 | E18: =COUNTIF(F18:AI18,$I$24) -> 0
A19: =IF(E19<=1,"","L") | B19: Employé 8 | C19: =COUNTIF(F19:AI19,$L$24) -> 0 | D19: =COUNTIF(F19:AI19,$F$24) -> 0 | E19: =COUNTIF(F19:AI19,$I$24) -> 0
A20: =IF(E20<=1,"","L") | B20: Employé 9 | C20: =COUNTIF(F20:AI20,$L$24) -> 0 | D20: =COUNTIF(F20:AI20,$F$24) -> 0 | E20: =COUNTIF(F20:AI20,$I$24) -> 0
A21: =IF(E21<=1,"","L") | B21: Employé 10 | C21: =COUNTIF(F21:AI21,$L$24) -> 0 | D21: =COUNTIF(F21:AI21,$F$24) -> 0 | E21: =COUNTIF(F21:AI21,$I$24) -> 0
A22: =IF(E22<=1,"","L") | B22: Employé 11 | C22: =COUNTIF(F22:AI22,$L$24) -> 0 | D22: =COUNTIF(F22:AI22,$F$24) -> 0 | E22: =COUNTIF(F22:AI22,$I$24) -> 0
D24: =IF(SUM(D12:D22)+SUM(E12:E22)>=20,"STOP","") | F24: C | G24: Congé | I24: R | J24: Récup | L24: M | M24: Maladie
F26: =IF(COUNTIF(F$12:F$22,$F$24)+COUNTIF(F$12:F$22,$I$24)+COUNTIF(F$12:F$22,$L$24)<=3,"","STOP") | G26: =IF(COUNTIF(G$12:G$22,$F$24)+COUNTIF(G$12:G$22,$I$24)<=3,"","STOP") | H26: =IF(COUNTIF(H$12:H$22,$F$24)+COUNTIF(H$12:H$22,$I$24)<=3,"","STOP") | I26: =IF(COUNTIF(I$12:I$22,$F$24)+COUNTIF(I$12:I$22,$I$24)<=3,"","STOP") | J26: =IF(COUNTIF(J$12:J$22,$F$24)+COUNTIF(J$12:J$22,$I$24)<=3,"","STOP") | K26: =IF(COUNTIF(K$12:K$22,$F$24)+COUNTIF(K$12:K$22,$I$24)<=3,"","STOP") | L26: =IF(COUNTIF(L$12:L$22,$F$24)+COUNTIF(L$12:L$22,$I$24)<=3,"","STOP") | M26: =IF(COUNTIF(M$12:M$22,$F$24)+COUNTIF(M$12:M$22,$I$24)<=3,"","STOP") | N26: =IF(COUNTIF(N$12:N$22,$F$24)+COUNTIF(N$12:N$22,$I$24)<=3,"","STOP") | ... AJ26: =IF(COUNTIF(AJ$12:AJ$22,$F$24)+COUNTIF(AJ$12:AJ$22,$I$24)<=3,"","STOP")
J27: =IF(COUNTIF($F$12:$L$22,$F$24)+COUNTIF($F$12:$L$22,$I$24)<=10,"","STOP") | Q27: =IF(COUNTIF($M$12:$S$22,$F$24)+COUNTIF($M$12:$S$22,$I$24)<=10,"","STOP") | X27: =IF(COUNTIF($T$12:$Z$22,$F$24)+COUNTIF($T$12:$Z$22,$I$24)<=10,"","STOP") | AE27: =IF(COUNTIF($AA$12:$AG$22,$F$24)+COUNTIF($AA$12:$AG$22,$I$24)<=10,"","STOP")

Sheet Mai
A1: =Config!D10 -> 44682
A2: =Config!E10 -> 44712
F3: =A1 -> 44682 | G3: =F3+1 -> 44683 | H3: =G3+1 -> 44684 | I3: =H3+1 -> 44685 | J3: =I3+1 -> 44686 | K3: =J3+1 -> 44687 | L3: =K3+1 -> 44688 | M3: =L3+1 -> 44689 | N3: =M3+1 -> 44690 | ... AJ3: =AI3+1 -> 44712 | AK3: =IFERROR(IF(AJ3+1>$A$2,"",AJ3+1),"")
B5: =TEXT(A1,"Mmmm Aaaa") -> mai 2022
F10: =DAY(F3) -> 1 | G10: =DAY(G3) -> 2 | H10: =DAY(H3) -> 3 | I10: =DAY(I3) -> 4 | J10: =DAY(J3) -> 5 | K10: =DAY(K3) -> 6 | L10: =DAY(L3) -> 7 | M10: =DAY(M3) -> 8 | ... AF10: =DAY(AF3) -> 27 | AG10: =IFERROR(DAY(AG3),"") -> 28 | AH10: =IFERROR(DAY(AH3),"") -> 29 | AI10: =IFERROR(DAY(AI3),"") -> 30 | AJ10: =IFERROR(DAY(AJ3),"") -> 31
B11: Employé | C11: Maladie | D11: Congé | E11: Récup | F11: =WEEKDAY(F3) -> 1 | G11: =WEEKDAY(G3) -> 2 | H11: =WEEKDAY(H3) -> 3 | I11: =WEEKDAY(I3) -> 4 | J11: =WEEKDAY(J3) -> 5 | K11: =WEEKDAY(K3) -> 6 | L11: =WEEKDAY(L3) -> 7 | M11: =WEEKDAY(M3) -> 1 | ... AF11: =WEEKDAY(AF3) -> 6 | AG11: =IFERROR(WEEKDAY(AG3),"") -> 7 | AH11: =IFERROR(WEEKDAY(AH3),"") -> 1 | AI11: =IFERROR(WEEKDAY(AI3),"") -> 2 | AJ11: =IFERROR(WEEKDAY(AJ3),"") -> 3
A12: =IF(E12<=1,"","L") | B12: =IF(Config!A4<>"",Config!A4,"") -> Employé 1 | C12: =COUNTIF(F12:AJ12,$L$24) -> 0 | D12: =COUNTIF(F12:AJ12,$F$24) -> 0 | E12: =COUNTIF(F12:AJ12,$I$24) -> 0
A13: =IF(E13<=1,"","L") | B13: =IF(Config!A5<>"",Config!A5,"") -> Employé 2 | C13: =COUNTIF(F13:AJ13,$L$24) -> 0 | D13: =COUNTIF(F13:AJ13,$F$24) -> 0 | E13: =COUNTIF(F13:AJ13,$I$24) -> 0
A14: =IF(E14<=1,"","L") | B14: =IF(Config!A6<>"",Config!A6,"") -> Employé 3 | C14: =COUNTIF(F14:AJ14,$L$24) -> 0 | D14: =COUNTIF(F14:AJ14,$F$24) -> 0 | E14: =COUNTIF(F14:AJ14,$I$24) -> 0
A15: =IF(E15<=1,"","L") | B15: =IF(Config!A7<>"",Config!A7,"") -> Employé 4 | C15: =COUNTIF(F15:AJ15,$L$24) -> 0 | D15: =COUNTIF(F15:AJ15,$F$24) -> 0 | E15: =COUNTIF(F15:AJ15,$I$24) -> 0
A16: =IF(E16<=1,"","L") | B16: =IF(Config!A8<>"",Config!A8,"") -> Employé 5 | C16: =COUNTIF(F16:AJ16,$L$24) -> 0 | D16: =COUNTIF(F16:AJ16,$F$24) -> 0 | E16: =COUNTIF(F16:AJ16,$I$24) -> 0
A17: =IF(E17<=1,"","L") | B17: =IF(Config!A9<>"",Config!A9,"") -> Employé 6 | C17: =COUNTIF(F17:AJ17,$L$24) -> 0 | D17: =COUNTIF(F17:AJ17,$F$24) -> 0 | E17: =COUNTIF(F17:AJ17,$I$24) -> 0
A18: =IF(E18<=1,"","L") | B18: =IF(Config!A10<>"",Config!A10,"") -> Employé 7 | C18: =COUNTIF(F18:AJ18,$L$24) -> 0 | D18: =COUNTIF(F18:AJ18,$F$24) -> 0 | E18: =COUNTIF(F18:AJ18,$I$24) -> 0
A19: =IF(E19<=1,"","L") | B19: Employé 8 | C19: =COUNTIF(F19:AJ19,$L$24) -> 0 | D19: =COUNTIF(F19:AJ19,$F$24) -> 0 | E19: =COUNTIF(F19:AJ19,$I$24) -> 0
A20: =IF(E20<=1,"","L") | B20: Employé 9 | C20: =COUNTIF(F20:AJ20,$L$24) -> 0 | D20: =COUNTIF(F20:AJ20,$F$24) -> 0 | E20: =COUNTIF(F20:AJ20,$I$24) -> 0
A21: =IF(E21<=1,"","L") | B21: Employé 10 | C21: =COUNTIF(F21:AJ21,$L$24) -> 0 | D21: =COUNTIF(F21:AJ21,$F$24) -> 0 | E21: =COUNTIF(F21:AJ21,$I$24) -> 0
A22: =IF(E22<=1,"","L") | B22: Employé 11 | C22: =COUNTIF(F22:AJ22,$L$24) -> 0 | D22: =COUNTIF(F22:AJ22,$F$24) -> 0 | E22: =COUNTIF(F22:AJ22,$I$24) -> 0
D24: =IF(SUM(D12:D22)+SUM(E12:E22)>=20,"STOP","") | F24: C | G24: Congé | I24: R | J24: Récup | L24: M | M24: Maladie
F26: =IF(COUNTIF(F$12:F$22,$F$24)+COUNTIF(F$12:F$22,$I$24)+COUNTIF(F$12:F$22,$L$24)<=3,"","STOP") | G26: =IF(COUNTIF(G$12:G$22,$F$24)+COUNTIF(G$12:G$22,$I$24)<=3,"","STOP") | H26: =IF(COUNTIF(H$12:H$22,$F$24)+COUNTIF(H$12:H$22,$I$24)<=3,"","STOP") | I26: =IF(COUNTIF(I$12:I$22,$F$24)+COUNTIF(I$12:I$22,$I$24)<=3,"","STOP") | J26: =IF(COUNTIF(J$12:J$22,$F$24)+COUNTIF(J$12:J$22,$I$24)<=3,"","STOP") | K26: =IF(COUNTIF(K$12:K$22,$F$24)+COUNTIF(K$12:K$22,$I$24)<=3,"","STOP") | L26: =IF(COUNTIF(L$12:L$22,$F$24)+COUNTIF(L$12:L$22,$I$24)<=3,"","STOP") | M26: =IF(COUNTIF(M$12:M$22,$F$24)+COUNTIF(M$12:M$22,$I$24)<=3,"","STOP") | N26: =IF(COUNTIF(N$12:N$22,$F$24)+COUNTIF(N$12:N$22,$I$24)<=3,"","STOP") | ... AJ26: =IF(COUNTIF(AJ$12:AJ$22,$F$24)+COUNTIF(AJ$12:AJ$22,$I$24)<=3,"","STOP")
J27: =IF(COUNTIF($F$12:$L$22,$F$24)+COUNTIF($F$12:$L$22,$I$24)<=10,"","STOP") | Q27: =IF(COUNTIF($M$12:$S$22,$F$24)+COUNTIF($M$12:$S$22,$I$24)<=10,"","STOP") | X27: =IF(COUNTIF($T$12:$Z$22,$F$24)+COUNTIF($T$12:$Z$22,$I$24)<=10,"","STOP") | AE27: =IF(COUNTIF($AA$12:$AG$22,$F$24)+COUNTIF($AA$12:$AG$22,$I$24)<=10,"","STOP")

Sheet Juin
A1: =Config!D11 -> 44713
A2: =Config!E11 -> 44742
F3: =A1 -> 44713 | G3: =F3+1 -> 44714 | H3: =G3+1 -> 44715 | I3: =H3+1 -> 44716 | J3: =I3+1 -> 44717 | K3: =J3+1 -> 44718 | L3: =K3+1 -> 44719 | M3: =L3+1 -> 44720 | N3: =M3+1 -> 44721 | ... AF3: =AE3+1 -> 44739 | AG3: =IFERROR(IF(AF3+1>$A$2,"",AF3+1),"") -> 44740 | AH3: =IFERROR(IF(AG3+1>$A$2,"",AG3+1),"") -> 44741 | AI3: =IFERROR(IF(AH3+1>$A$2,"",AH3+1),"") -> 44742 | AJ3: =IFERROR(IF(AI3+1>$A$2,"",AI3+1),"") | AK3: =IFERROR(IF(AJ3+1>$A$2,"",AJ3+1),"")
B5: =TEXT(A1,"Mmmm Aaaa") -> juin 2022
F10: =DAY(F3) -> 1 | G10: =DAY(G3) -> 2 | H10: =DAY(H3) -> 3 | I10: =DAY(I3) -> 4 | J10: =DAY(J3) -> 5 | K10: =DAY(K3) -> 6 | L10: =DAY(L3) -> 7 | M10: =DAY(M3) -> 8 | ... AF10: =DAY(AF3) -> 27 | AG10: =IFERROR(DAY(AG3),"") -> 28 | AH10: =IFERROR(DAY(AH3),"") -> 29 | AI10: =IFERROR(DAY(AI3),"") -> 30 | AJ10: =IFERROR(DAY(AJ3),"")
B11: Employé | C11: Maladie | D11: Congé | E11: Récup | F11: =WEEKDAY(F3) -> 4 | G11: =WEEKDAY(G3) -> 5 | H11: =WEEKDAY(H3) -> 6 | I11: =WEEKDAY(I3) -> 7 | J11: =WEEKDAY(J3) -> 1 | K11: =WEEKDAY(K3) -> 2 | L11: =WEEKDAY(L3) -> 3 | M11: =WEEKDAY(M3) -> 4 | ... AF11: =WEEKDAY(AF3) -> 2 | AG11: =IFERROR(WEEKDAY(AG3),"") -> 3 | AH11: =IFERROR(WEEKDAY(AH3),"") -> 4 | AI11: =IFERROR(WEEKDAY(AI3),"") -> 5 | AJ11: =IFERROR(WEEKDAY(AJ3),"")
A12: =IF(E12<=1,"","L") | B12: =IF(Config!A4<>"",Config!A4,"") -> Employé 1 | C12: =COUNTIF(F12:AI12,$L$24) -> 0 | D12: =COUNTIF(F12:AI12,$F$24) -> 0 | E12: =COUNTIF(F12:AI12,$I$24) -> 0
A13: =IF(E13<=1,"","L") | B13: =IF(Config!A5<>"",Config!A5,"") -> Employé 2 | C13: =COUNTIF(F13:AI13,$L$24) -> 0 | D13: =COUNTIF(F13:AI13,$F$24) -> 0 | E13: =COUNTIF(F13:AI13,$I$24) -> 0
A14: =IF(E14<=1,"","L") | B14: =IF(Config!A6<>"",Config!A6,"") -> Employé 3 | C14: =COUNTIF(F14:AI14,$L$24) -> 0 | D14: =COUNTIF(F14:AI14,$F$24) -> 0 | E14: =COUNTIF(F14:AI14,$I$24) -> 0
A15: =IF(E15<=1,"","L") | B15: =IF(Config!A7<>"",Config!A7,"") -> Employé 4 | C15: =COUNTIF(F15:AI15,$L$24) -> 0 | D15: =COUNTIF(F15:AI15,$F$24) -> 0 | E15: =COUNTIF(F15:AI15,$I$24) -> 0
A16: =IF(E16<=1,"","L") | B16: =IF(Config!A8<>"",Config!A8,"") -> Employé 5 | C16: =COUNTIF(F16:AI16,$L$24) -> 0 | D16: =COUNTIF(F16:AI16,$F$24) -> 0 | E16: =COUNTIF(F16:AI16,$I$24) -> 0
A17: =IF(E17<=1,"","L") | B17: =IF(Config!A9<>"",Config!A9,"") -> Employé 6 | C17: =COUNTIF(F17:AI17,$L$24) -> 0 | D17: =COUNTIF(F17:AI17,$F$24) -> 0 | E17: =COUNTIF(F17:AI17,$I$24) -> 0
A18: =IF(E18<=1,"","L") | B18: =IF(Config!A10<>"",Config!A10,"") -> Employé 7 | C18: =COUNTIF(F18:AI18,$L$24) -> 0 | D18: =COUNTIF(F18:AI18,$F$24) -> 0 | E18: =COUNTIF(F18:AI18,$I$24) -> 0
A19: =IF(E19<=1,"","L") | B19: Employé 8 | C19: =COUNTIF(F19:AI19,$L$24) -> 0 | D19: =COUNTIF(F19:AI19,$F$24) -> 0 | E19: =COUNTIF(F19:AI19,$I$24) -> 0
A20: =IF(E20<=1,"","L") | B20: Employé 9 | C20: =COUNTIF(F20:AI20,$L$24) -> 0 | D20: =COUNTIF(F20:AI20,$F$24) -> 0 | E20: =COUNTIF(F20:AI20,$I$24) -> 0
A21: =IF(E21<=1,"","L") | B21: Employé 10 | C21: =COUNTIF(F21:AI21,$L$24) -> 0 | D21: =COUNTIF(F21:AI21,$F$24) -> 0 | E21: =COUNTIF(F21:AI21,$I$24) -> 0
A22: =IF(E22<=1,"","L") | B22: Employé 11 | C22: =COUNTIF(F22:AI22,$L$24) -> 0 | D22: =COUNTIF(F22:AI22,$F$24) -> 0 | E22: =COUNTIF(F22:AI22,$I$24) -> 0
D24: =IF(SUM(D12:D22)+SUM(E12:E22)>=20,"STOP","") | F24: C | G24: Congé | I24: R | J24: Récup | L24: M | M24: Maladie
F26: =IF(COUNTIF(F$12:F$22,$F$24)+COUNTIF(F$12:F$22,$I$24)+COUNTIF(F$12:F$22,$L$24)<=3,"","STOP") | G26: =IF(COUNTIF(G$12:G$22,$F$24)+COUNTIF(G$12:G$22,$I$24)<=3,"","STOP") | H26: =IF(COUNTIF(H$12:H$22,$F$24)+COUNTIF(H$12:H$22,$I$24)<=3,"","STOP") | I26: =IF(COUNTIF(I$12:I$22,$F$24)+COUNTIF(I$12:I$22,$I$24)<=3,"","STOP") | J26: =IF(COUNTIF(J$12:J$22,$F$24)+COUNTIF(J$12:J$22,$I$24)<=3,"","STOP") | K26: =IF(COUNTIF(K$12:K$22,$F$24)+COUNTIF(K$12:K$22,$I$24)<=3,"","STOP") | L26: =IF(COUNTIF(L$12:L$22,$F$24)+COUNTIF(L$12:L$22,$I$24)<=3,"","STOP") | M26: =IF(COUNTIF(M$12:M$22,$F$24)+COUNTIF(M$12:M$22,$I$24)<=3,"","STOP") | N26: =IF(COUNTIF(N$12:N$22,$F$24)+COUNTIF(N$12:N$22,$I$24)<=3,"","STOP") | ... AJ26: =IF(COUNTIF(AJ$12:AJ$22,$F$24)+COUNTIF(AJ$12:AJ$22,$I$24)<=3,"","STOP")
J27: =IF(COUNTIF($F$12:$L$22,$F$24)+COUNTIF($F$12:$L$22,$I$24)<=10,"","STOP") | Q27: =IF(COUNTIF($M$12:$S$22,$F$24)+COUNTIF($M$12:$S$22,$I$24)<=10,"","STOP") | X27: =IF(COUNTIF($T$12:$Z$22,$F$24)+COUNTIF($T$12:$Z$22,$I$24)<=10,"","STOP") | AE27: =IF(COUNTIF($AA$12:$AG$22,$F$24)+COUNTIF($AA$12:$AG$22,$I$24)<=10,"","STOP")

Sheet Juillet
A1: =Config!D12 -> 44743
A2: =Config!E12 -> 44773
F3: =A1 -> 44743 | G3: =F3+1 -> 44744 | H3: =G3+1 -> 44745 | I3: =H3+1 -> 44746 | J3: =I3+1 -> 44747 | K3: =J3+1 -> 44748 | L3: =K3+1 -> 44749 | M3: =L3+1 -> 44750 | N3: =M3+1 -> 44751 | ... AJ3: =AI3+1 -> 44773 | AK3: =IFERROR(IF(AJ3+1>$A$2,"",AJ3+1),"")
B5: =TEXT(A1,"Mmmm Aaaa") -> juillet 2022
F10: =DAY(F3) -> 1 | G10: =DAY(G3) -> 2 | H10: =DAY(H3) -> 3 | I10: =DAY(I3) -> 4 | J10: =DAY(J3) -> 5 | K10: =DAY(K3) -> 6 | L10: =DAY(L3) -> 7 | M10: =DAY(M3) -> 8 | ... AF10: =DAY(AF3) -> 27 | AG10: =IFERROR(DAY(AG3),"") -> 28 | AH10: =IFERROR(DAY(AH3),"") -> 29 | AI10: =IFERROR(DAY(AI3),"") -> 30 | AJ10: =IFERROR(DAY(AJ3),"") -> 31
B11: Employé | C11: Maladie | D11: Congé | E11: Récup | F11: =WEEKDAY(F3) -> 6 | G11: =WEEKDAY(G3) -> 7 | H11: =WEEKDAY(H3) -> 1 | I11: =WEEKDAY(I3) -> 2 | J11: =WEEKDAY(J3) -> 3 | K11: =WEEKDAY(K3) -> 4 | L11: =WEEKDAY(L3) -> 5 | M11: =WEEKDAY(M3) -> 6 | ... AF11: =WEEKDAY(AF3) -> 4 | AG11: =IFERROR(WEEKDAY(AG3),"") -> 5 | AH11: =IFERROR(WEEKDAY(AH3),"") -> 6 | AI11: =IFERROR(WEEKDAY(AI3),"") -> 7 | AJ11: =IFERROR(WEEKDAY(AJ3),"") -> 1
A12: =IF(E12<=1,"","L") | B12: =IF(Config!A4<>"",Config!A4,"") -> Employé 1 | C12: =COUNTIF(F12:AJ12,$L$24) -> 0 | D12: =COUNTIF(F12:AJ12,$F$24) -> 0 | E12: =COUNTIF(F12:AJ12,$I$24) -> 0
A13: =IF(E13<=1,"","L") | B13: =IF(Config!A5<>"",Config!A5,"") -> Employé 2 | C13: =COUNTIF(F13:AJ13,$L$24) -> 0 | D13: =COUNTIF(F13:AJ13,$F$24) -> 0 | E13: =COUNTIF(F13:AJ13,$I$24) -> 0
A14: =IF(E14<=1,"","L") | B14: =IF(Config!A6<>"",Config!A6,"") -> Employé 3 | C14: =COUNTIF(F14:AJ14,$L$24) -> 0 | D14: =COUNTIF(F14:AJ14,$F$24) -> 0 | E14: =COUNTIF(F14:AJ14,$I$24) -> 0
A15: =IF(E15<=1,"","L") | B15: =IF(Config!A7<>"",Config!A7,"") -> Employé 4 | C15: =COUNTIF(F15:AJ15,$L$24) -> 0 | D15: =COUNTIF(F15:AJ15,$F$24) -> 0 | E15: =COUNTIF(F15:AJ15,$I$24) -> 0
A16: =IF(E16<=1,"","L") | B16: =IF(Config!A8<>"",Config!A8,"") -> Employé 5 | C16: =COUNTIF(F16:AJ16,$L$24) -> 0 | D16: =COUNTIF(F16:AJ16,$F$24) -> 0 | E16: =COUNTIF(F16:AJ16,$I$24) -> 0
A17: =IF(E17<=1,"","L") | B17: =IF(Config!A9<>"",Config!A9,"") -> Employé 6 | C17: =COUNTIF(F17:AJ17,$L$24) -> 0 | D17: =COUNTIF(F17:AJ17,$F$24) -> 0 | E17: =COUNTIF(F17:AJ17,$I$24) -> 0
A18: =IF(E18<=1,"","L") | B18: =IF(Config!A10<>"",Config!A10,"") -> Employé 7 | C18: =COUNTIF(F18:AJ18,$L$24) -> 0 | D18: =COUNTIF(F18:AJ18,$F$24) -> 0 | E18: =COUNTIF(F18:AJ18,$I$24) -> 0
A19: =IF(E19<=1,"","L") | B19: Employé 8 | C19: =COUNTIF(F19:AJ19,$L$24) -> 0 | D19: =COUNTIF(F19:AJ19,$F$24) -> 0 | E19: =COUNTIF(F19:AJ19,$I$24) -> 0
A20: =IF(E20<=1,"","L") | B20: Employé 9
A21: =IF(E21<=1,"","L") | B21: Employé 10
A22: =IF(E22<=1,"","L") | B22: Employé 11 | C22: =COUNTIF(F22:AJ22,$L$24) -> 0 | D22: =COUNTIF(F22:AJ22,$F$24) -> 0 | E22: =COUNTIF(F22:AJ22,$I$24) -> 0
D24: =IF(SUM(D12:D22)+SUM(E12:E22)>=20,"STOP","") | F24: C | G24: Congé | I24: R | J24: Récup | L24: M | M24: Maladie
F26: =IF(COUNTIF(F$12:F$22,$F$24)+COUNTIF(F$12:F$22,$I$24)+COUNTIF(F$12:F$22,$L$24)<=3,"","STOP") | G26: =IF(COUNTIF(G$12:G$22,$F$24)+COUNTIF(G$12:G$22,$I$24)<=3,"","STOP") | H26: =IF(COUNTIF(H$12:H$22,$F$24)+COUNTIF(H$12:H$22,$I$24)<=3,"","STOP") | I26: =IF(COUNTIF(I$12:I$22,$F$24)+COUNTIF(I$12:I$22,$I$24)<=3,"","STOP") | J26: =IF(COUNTIF(J$12:J$22,$F$24)+COUNTIF(J$12:J$22,$I$24)<=3,"","STOP") | K26: =IF(COUNTIF(K$12:K$22,$F$24)+COUNTIF(K$12:K$22,$I$24)<=3,"","STOP") | L26: =IF(COUNTIF(L$12:L$22,$F$24)+COUNTIF(L$12:L$22,$I$24)<=3,"","STOP") | M26: =IF(COUNTIF(M$12:M$22,$F$24)+COUNTIF(M$12:M$22,$I$24)<=3,"","STOP") | N26: =IF(COUNTIF(N$12:N$22,$F$24)+COUNTIF(N$12:N$22,$I$24)<=3,"","STOP") | ... AJ26: =IF(COUNTIF(AJ$12:AJ$22,$F$24)+COUNTIF(AJ$12:AJ$22,$I$24)<=3,"","STOP")
J27: =IF(COUNTIF($F$12:$L$22,$F$24)+COUNTIF($F$12:$L$22,$I$24)<=10,"","STOP") | Q27: =IF(COUNTIF($M$12:$S$22,$F$24)+COUNTIF($M$12:$S$22,$I$24)<=10,"","STOP") | X27: =IF(COUNTIF($T$12:$Z$22,$F$24)+COUNTIF($T$12:$Z$22,$I$24)<=10,"","STOP") | AE27: =IF(COUNTIF($AA$12:$AG$22,$F$24)+COUNTIF($AA$12:$AG$22,$I$24)<=10,"","STOP")

Sheet Août
A1: =Config!D13 -> 44774
A2: =Config!E13 -> 44804
F3: =A1 -> 44774 | G3: =F3+1 -> 44775 | H3: =G3+1 -> 44776 | I3: =H3+1 -> 44777 | J3: =I3+1 -> 44778 | K3: =J3+1 -> 44779 | L3: =K3+1 -> 44780 | M3: =L3+1 -> 44781 | N3: =M3+1 -> 44782 | ... AJ3: =AI3+1 -> 44804 | AK3: =IFERROR(IF(AJ3+1>$A$2,"",AJ3+1),"")
B5: =TEXT(A1,"Mmmm Aaaa") -> août 2022
F10: =DAY(F3) -> 1 | G10: =DAY(G3) -> 2 | H10: =DAY(H3) -> 3 | I10: =DAY(I3) -> 4 | J10: =DAY(J3) -> 5 | K10: =DAY(K3) -> 6 | L10: =DAY(L3) -> 7 | M10: =DAY(M3) -> 8 | ... AF10: =DAY(AF3) -> 27 | AG10: =IFERROR(DAY(AG3),"") -> 28 | AH10: =IFERROR(DAY(AH3),"") -> 29 | AI10: =IFERROR(DAY(AI3),"") -> 30 | AJ10: =IFERROR(DAY(AJ3),"") -> 31
B11: Employé | C11: Maladie | D11: Congé | E11: Récup | F11: =WEEKDAY(F3) -> 2 | G11: =WEEKDAY(G3) -> 3 | H11: =WEEKDAY(H3) -> 4 | I11: =WEEKDAY(I3) -> 5 | J11: =WEEKDAY(J3) -> 6 | K11: =WEEKDAY(K3) -> 7 | L11: =WEEKDAY(L3) -> 1 | M11: =WEEKDAY(M3) -> 2 | ... AF11: =WEEKDAY(AF3) -> 7 | AG11: =IFERROR(WEEKDAY(AG3),"") -> 1 | AH11: =IFERROR(WEEKDAY(AH3),"") -> 2 | AI11: =IFERROR(WEEKDAY(AI3),"") -> 3 | AJ11: =IFERROR(WEEKDAY(AJ3),"") -> 4
A12: =IF(E12<=1,"","L") | B12: =IF(Config!A4<>"",Config!A4,"") -> Employé 1 | C12: =COUNTIF(F12:AJ12,$L$24) -> 0 | D12: =COUNTIF(F12:AJ12,$F$24) -> 0 | E12: =COUNTIF(F12:AJ12,$I$24) -> 0
A13: =IF(E13<=1,"","L") | B13: =IF(Config!A5<>"",Config!A5,"") -> Employé 2 | C13: =COUNTIF(F13:AJ13,$L$24) -> 0 | D13: =COUNTIF(F13:AJ13,$F$24) -> 0 | E13: =COUNTIF(F13:AJ13,$I$24) -> 0
A14: =IF(E14<=1,"","L") | B14: =IF(Config!A6<>"",Config!A6,"") -> Employé 3 | C14: =COUNTIF(F14:AJ14,$L$24) -> 0 | D14: =COUNTIF(F14:AJ14,$F$24) -> 0 | E14: =COUNTIF(F14:AJ14,$I$24) -> 0
A15: =IF(E15<=1,"","L") | B15: =IF(Config!A7<>"",Config!A7,"") -> Employé 4 | C15: =COUNTIF(F15:AJ15,$L$24) -> 0 | D15: =COUNTIF(F15:AJ15,$F$24) -> 0 | E15: =COUNTIF(F15:AJ15,$I$24) -> 0
A16: =IF(E16<=1,"","L") | B16: =IF(Config!A8<>"",Config!A8,"") -> Employé 5 | C16: =COUNTIF(F16:AJ16,$L$24) -> 0 | D16: =COUNTIF(F16:AJ16,$F$24) -> 0 | E16: =COUNTIF(F16:AJ16,$I$24) -> 0
A17: =IF(E17<=1,"","L") | B17: =IF(Config!A9<>"",Config!A9,"") -> Employé 6 | C17: =COUNTIF(F17:AJ17,$L$24) -> 0 | D17: =COUNTIF(F17:AJ17,$F$24) -> 0 | E17: =COUNTIF(F17:AJ17,$I$24) -> 0
A18: =IF(E18<=1,"","L") | B18: =IF(Config!A10<>"",Config!A10,"") -> Employé 7 | C18: =COUNTIF(F18:AJ18,$L$24) -> 0 | D18: =COUNTIF(F18:AJ18,$F$24) -> 0 | E18: =COUNTIF(F18:AJ18,$I$24) -> 0
A19: =IF(E19<=1,"","L") | B19: Employé 8 | C19: =COUNTIF(F19:AJ19,$L$24) -> 0 | D19: =COUNTIF(F19:AJ19,$F$24) -> 0 | E19: =COUNTIF(F19:AJ19,$I$24) -> 0
A20: =IF(E20<=1,"","L") | B20: Employé 9 | C20: =COUNTIF(F20:AJ20,$L$24) -> 0 | D20: =COUNTIF(F20:AJ20,$F$24) -> 0 | E20: =COUNTIF(F20:AJ20,$I$24) -> 0
A21: =IF(E21<=1,"","L") | B21: Employé 10 | C21: =COUNTIF(F21:AJ21,$L$24) -> 0 | D21: =COUNTIF(F21:AJ21,$F$24) -> 0 | E21: =COUNTIF(F21:AJ21,$I$24) -> 0
A22: =IF(E22<=1,"","L") | B22: Employé 11 | C22: =COUNTIF(F22:AJ22,$L$24) -> 0 | D22: =COUNTIF(F22:AJ22,$F$24) -> 0 | E22: =COUNTIF(F22:AJ22,$I$24) -> 0
D24: =IF(SUM(D12:D22)+SUM(E12:E22)>=20,"STOP","") | F24: C | G24: Congé | I24: R | J24: Récup | L24: M | M24: Maladie
F26: =IF(COUNTIF(F$12:F$22,$F$24)+COUNTIF(F$12:F$22,$I$24)+COUNTIF(F$12:F$22,$L$24)<=3,"","STOP") | G26: =IF(COUNTIF(G$12:G$22,$F$24)+COUNTIF(G$12:G$22,$I$24)<=3,"","STOP") | H26: =IF(COUNTIF(H$12:H$22,$F$24)+COUNTIF(H$12:H$22,$I$24)<=3,"","STOP") | I26: =IF(COUNTIF(I$12:I$22,$F$24)+COUNTIF(I$12:I$22,$I$24)<=3,"","STOP") | J26: =IF(COUNTIF(J$12:J$22,$F$24)+COUNTIF(J$12:J$22,$I$24)<=3,"","STOP") | K26: =IF(COUNTIF(K$12:K$22,$F$24)+COUNTIF(K$12:K$22,$I$24)<=3,"","STOP") | L26: =IF(COUNTIF(L$12:L$22,$F$24)+COUNTIF(L$12:L$22,$I$24)<=3,"","STOP") | M26: =IF(COUNTIF(M$12:M$22,$F$24)+COUNTIF(M$12:M$22,$I$24)<=3,"","STOP") | N26: =IF(COUNTIF(N$12:N$22,$F$24)+COUNTIF(N$12:N$22,$I$24)<=3,"","STOP") | ... AJ26: =IF(COUNTIF(AJ$12:AJ$22,$F$24)+COUNTIF(AJ$12:AJ$22,$I$24)<=3,"","STOP")
J27: =IF(COUNTIF($F$12:$L$22,$F$24)+COUNTIF($F$12:$L$22,$I$24)<=10,"","STOP") | Q27: =IF(COUNTIF($M$12:$S$22,$F$24)+COUNTIF($M$12:$S$22,$I$24)<=10,"","STOP") | X27: =IF(COUNTIF($T$12:$Z$22,$F$24)+COUNTIF($T$12:$Z$22,$I$24)<=10,"","STOP") | AE27: =IF(COUNTIF($AA$12:$AG$22,$F$24)+COUNTIF($AA$12:$AG$22,$I$24)<=10,"","STOP")

Sheet Septembre
A1: =Config!D14 -> 44805
A2: =Config!E14 -> 44834
F3: =A1 -> 44805 | G3: =F3+1 -> 44806 | H3: =G3+1 -> 44807 | I3: =H3+1 -> 44808 | J3: =I3+1 -> 44809 | K3: =J3+1 -> 44810 | L3: =K3+1 -> 44811 | M3: =L3+1 -> 44812 | N3: =M3+1 -> 44813 | ... AF3: =AE3+1 -> 44831 | AG3: =IFERROR(IF(AF3+1>$A$2,"",AF3+1),"") -> 44832 | AH3: =IFERROR(IF(AG3+1>$A$2,"",AG3+1),"") -> 44833 | AI3: =IFERROR(IF(AH3+1>$A$2,"",AH3+1),"") -> 44834 | AJ3: =IFERROR(IF(AI3+1>$A$2,"",AI3+1),"") | AK3: =IFERROR(IF(AJ3+1>$A$2,"",AJ3+1),"")
B5: =TEXT(A1,"Mmmm Aaaa") -> septembre 2022
F10: =DAY(F3) -> 1 | G10: =DAY(G3) -> 2 | H10: =DAY(H3) -> 3 | I10: =DAY(I3) -> 4 | J10: =DAY(J3) -> 5 | K10: =DAY(K3) -> 6 | L10: =DAY(L3) -> 7 | M10: =DAY(M3) -> 8 | ... AF10: =DAY(AF3) -> 27 | AG10: =IFERROR(DAY(AG3),"") -> 28 | AH10: =IFERROR(DAY(AH3),"") -> 29 | AI10: =IFERROR(DAY(AI3),"") -> 30 | AJ10: =IFERROR(DAY(AJ3),"")
B11: Employé | C11: Maladie | D11: Congé | E11: Récup | F11: =WEEKDAY(F3) -> 5 | G11: =WEEKDAY(G3) -> 6 | H11: =WEEKDAY(H3) -> 7 | I11: =WEEKDAY(I3) -> 1 | J11: =WEEKDAY(J3) -> 2 | K11: =WEEKDAY(K3) -> 3 | L11: =WEEKDAY(L3) -> 4 | M11: =WEEKDAY(M3) -> 5 | ... AF11: =WEEKDAY(AF3) -> 3 | AG11: =IFERROR(WEEKDAY(AG3),"") -> 4 | AH11: =IFERROR(WEEKDAY(AH3),"") -> 5 | AI11: =IFERROR(WEEKDAY(AI3),"") -> 6 | AJ11: =IFERROR(WEEKDAY(AJ3),"")
A12: =IF(E12<=1,"","L") | B12: =IF(Config!A4<>"",Config!A4,"") -> Employé 1 | C12: =COUNTIF(F12:AI12,$L$24) -> 0 | D12: =COUNTIF(F12:AI12,$F$24) -> 0 | E12: =COUNTIF(F12:AI12,$I$24) -> 0
A13: =IF(E13<=1,"","L") | B13: =IF(Config!A5<>"",Config!A5,"") -> Employé 2 | C13: =COUNTIF(F13:AI13,$L$24) -> 0 | D13: =COUNTIF(F13:AI13,$F$24) -> 0 | E13: =COUNTIF(F13:AI13,$I$24) -> 0
A14: =IF(E14<=1,"","L") | B14: =IF(Config!A6<>"",Config!A6,"") -> Employé 3 | C14: =COUNTIF(F14:AI14,$L$24) -> 0 | D14: =COUNTIF(F14:AI14,$F$24) -> 0 | E14: =COUNTIF(F14:AI14,$I$24) -> 0
A15: =IF(E15<=1,"","L") | B15: =IF(Config!A7<>"",Config!A7,"") -> Employé 4 | C15: =COUNTIF(F15:AI15,$L$24) -> 0 | D15: =COUNTIF(F15:AI15,$F$24) -> 0 | E15: =COUNTIF(F15:AI15,$I$24) -> 0
A16: =IF(E16<=1,"","L") | B16: =IF(Config!A8<>"",Config!A8,"") -> Employé 5 | C16: =COUNTIF(F16:AI16,$L$24) -> 0 | D16: =COUNTIF(F16:AI16,$F$24) -> 0 | E16: =COUNTIF(F16:AI16,$I$24) -> 0
A17: =IF(E17<=1,"","L") | B17: =IF(Config!A9<>"",Config!A9,"") -> Employé 6 | C17: =COUNTIF(F17:AI17,$L$24) -> 0 | D17: =COUNTIF(F17:AI17,$F$24) -> 0 | E17: =COUNTIF(F17:AI17,$I$24) -> 0
A18: =IF(E18<=1,"","L") | B18: =IF(Config!A10<>"",Config!A10,"") -> Employé 7 | C18: =COUNTIF(F18:AI18,$L$24) -> 0 | D18: =COUNTIF(F18:AI18,$F$24) -> 0 | E18: =COUNTIF(F18:AI18,$I$24) -> 0
A19: =IF(E19<=1,"","L") | B19: Employé 8 | C19: =COUNTIF(F19:AI19,$L$24) -> 0 | D19: =COUNTIF(F19:AI19,$F$24) -> 0 | E19: =COUNTIF(F19:AI19,$I$24) -> 0
A20: =IF(E20<=1,"","L") | B20: Employé 9 | C20: =COUNTIF(F20:AI20,$L$24) -> 0 | D20: =COUNTIF(F20:AI20,$F$24) -> 0 | E20: =COUNTIF(F20:AI20,$I$24) -> 0
A21: =IF(E21<=1,"","L") | B21: Employé 10 | C21: =COUNTIF(F21:AI21,$L$24) -> 0 | D21: =COUNTIF(F21:AI21,$F$24) -> 0 | E21: =COUNTIF(F21:AI21,$I$24) -> 0
A22: =IF(E22<=1,"","L") | B22: Employé 11 | C22: =COUNTIF(F22:AI22,$L$24) -> 0 | D22: =COUNTIF(F22:AI22,$F$24) -> 0 | E22: =COUNTIF(F22:AI22,$I$24) -> 0
D24: =IF(SUM(D12:D22)+SUM(E12:E22)>=20,"STOP","") | F24: C | G24: Congé | I24: R | J24: Récup | L24: M | M24: Maladie
F26: =IF(COUNTIF(F$12:F$22,$F$24)+COUNTIF(F$12:F$22,$I$24)+COUNTIF(F$12:F$22,$L$24)<=3,"","STOP") | G26: =IF(COUNTIF(G$12:G$22,$F$24)+COUNTIF(G$12:G$22,$I$24)<=3,"","STOP") | H26: =IF(COUNTIF(H$12:H$22,$F$24)+COUNTIF(H$12:H$22,$I$24)<=3,"","STOP") | I26: =IF(COUNTIF(I$12:I$22,$F$24)+COUNTIF(I$12:I$22,$I$24)<=3,"","STOP") | J26: =IF(COUNTIF(J$12:J$22,$F$24)+COUNTIF(J$12:J$22,$I$24)<=3,"","STOP") | K26: =IF(COUNTIF(K$12:K$22,$F$24)+COUNTIF(K$12:K$22,$I$24)<=3,"","STOP") | L26: =IF(COUNTIF(L$12:L$22,$F$24)+COUNTIF(L$12:L$22,$I$24)<=3,"","STOP") | M26: =IF(COUNTIF(M$12:M$22,$F$24)+COUNTIF(M$12:M$22,$I$24)<=3,"","STOP") | N26: =IF(COUNTIF(N$12:N$22,$F$24)+COUNTIF(N$12:N$22,$I$24)<=3,"","STOP") | ... AJ26: =IF(COUNTIF(AJ$12:AJ$22,$F$24)+COUNTIF(AJ$12:AJ$22,$I$24)<=3,"","STOP")
J27: =IF(COUNTIF($F$12:$L$22,$F$24)+COUNTIF($F$12:$L$22,$I$24)<=10,"","STOP") | Q27: =IF(COUNTIF($M$12:$S$22,$F$24)+COUNTIF($M$12:$S$22,$I$24)<=10,"","STOP") | X27: =IF(COUNTIF($T$12:$Z$22,$F$24)+COUNTIF($T$12:$Z$22,$I$24)<=10,"","STOP") | AE27: =IF(COUNTIF($AA$12:$AG$22,$F$24)+COUNTIF($AA$12:$AG$22,$I$24)<=10,"","STOP")

Sheet Octobre
A1: =Config!D15 -> 44835
A2: =Config!E15 -> 44865
F3: =A1 -> 44835 | G3: =F3+1 -> 44836 | H3: =G3+1 -> 44837 | I3: =H3+1 -> 44838 | J3: =I3+1 -> 44839 | K3: =J3+1 -> 44840 | L3: =K3+1 -> 44841 | M3: =L3+1 -> 44842 | N3: =M3+1 -> 44843 | ... AJ3: =AI3+1 -> 44865 | AK3: =IFERROR(IF(AJ3+1>$A$2,"",AJ3+1),"")
B5: =TEXT(A1,"Mmmm Aaaa") -> octobre 2022
F10: =DAY(F3) -> 1 | G10: =DAY(G3) -> 2 | H10: =DAY(H3) -> 3 | I10: =DAY(I3) -> 4 | J10: =DAY(J3) -> 5 | K10: =DAY(K3) -> 6 | L10: =DAY(L3) -> 7 | M10: =DAY(M3) -> 8 | ... AF10: =DAY(AF3) -> 27 | AG10: =IFERROR(DAY(AG3),"") -> 28 | AH10: =IFERROR(DAY(AH3),"") -> 29 | AI10: =IFERROR(DAY(AI3),"") -> 30 | AJ10: =IFERROR(DAY(AJ3),"") -> 31
B11: Employé | C11: Maladie | D11: Congé | E11: Récup | F11: =WEEKDAY(F3) -> 7 | G11: =WEEKDAY(G3) -> 1 | H11: =WEEKDAY(H3) -> 2 | I11: =WEEKDAY(I3) -> 3 | J11: =WEEKDAY(J3) -> 4 | K11: =WEEKDAY(K3) -> 5 | L11: =WEEKDAY(L3) -> 6 | M11: =WEEKDAY(M3) -> 7 | ... AF11: =WEEKDAY(AF3) -> 5 | AG11: =IFERROR(WEEKDAY(AG3),"") -> 6 | AH11: =IFERROR(WEEKDAY(AH3),"") -> 7 | AI11: =IFERROR(WEEKDAY(AI3),"") -> 1 | AJ11: =IFERROR(WEEKDAY(AJ3),"") -> 2
A12: =IF(E12<=1,"","L") | B12: =IF(Config!A4<>"",Config!A4,"") -> Employé 1 | C12: =COUNTIF(F12:AJ12,$L$24) -> 0 | D12: =COUNTIF(F12:AJ12,$F$24) -> 0 | E12: =COUNTIF(F12:AJ12,$I$24) -> 0
A13: =IF(E13<=1,"","L") | B13: =IF(Config!A5<>"",Config!A5,"") -> Employé 2 | C13: =COUNTIF(F13:AJ13,$L$24) -> 0 | D13: =COUNTIF(F13:AJ13,$F$24) -> 0 | E13: =COUNTIF(F13:AJ13,$I$24) -> 0
A14: =IF(E14<=1,"","L") | B14: =IF(Config!A6<>"",Config!A6,"") -> Employé 3 | C14: =COUNTIF(F14:AJ14,$L$24) -> 0 | D14: =COUNTIF(F14:AJ14,$F$24) -> 0 | E14: =COUNTIF(F14:AJ14,$I$24) -> 0
A15: =IF(E15<=1,"","L") | B15: =IF(Config!A7<>"",Config!A7,"") -> Employé 4 | C15: =COUNTIF(F15:AJ15,$L$24) -> 0 | D15: =COUNTIF(F15:AJ15,$F$24) -> 0 | E15: =COUNTIF(F15:AJ15,$I$24) -> 0
A16: =IF(E16<=1,"","L") | B16: =IF(Config!A8<>"",Config!A8,"") -> Employé 5 | C16: =COUNTIF(F16:AJ16,$L$24) -> 0 | D16: =COUNTIF(F16:AJ16,$F$24) -> 0 | E16: =COUNTIF(F16:AJ16,$I$24) -> 0
A17: =IF(E17<=1,"","L") | B17: =IF(Config!A9<>"",Config!A9,"") -> Employé 6 | C17: =COUNTIF(F17:AJ17,$L$24) -> 0 | D17: =COUNTIF(F17:AJ17,$F$24) -> 0 | E17: =COUNTIF(F17:AJ17,$I$24) -> 0
A18: =IF(E18<=1,"","L") | B18: =IF(Config!A10<>"",Config!A10,"") -> Employé 7 | C18: =COUNTIF(F18:AJ18,$L$24) -> 0 | D18: =COUNTIF(F18:AJ18,$F$24) -> 0 | E18: =COUNTIF(F18:AJ18,$I$24) -> 0
A19: =IF(E19<=1,"","L") | B19: Employé 8 | C19: =COUNTIF(F19:AJ19,$L$24) -> 0 | D19: =COUNTIF(F19:AJ19,$F$24) -> 0 | E19: =COUNTIF(F19:AJ19,$I$24) -> 0
A20: =IF(E20<=1,"","L") | B20: Employé 9 | C20: =COUNTIF(F20:AJ20,$L$24) -> 0 | D20: =COUNTIF(F20:AJ20,$F$24) -> 0 | E20: =COUNTIF(F20:AJ20,$I$24) -> 0
A21: =IF(E21<=1,"","L") | B21: Employé 10 | C21: =COUNTIF(F21:AJ21,$L$24) -> 0 | D21: =COUNTIF(F21:AJ21,$F$24) -> 0 | E21: =COUNTIF(F21:AJ21,$I$24) -> 0
A22: =IF(E22<=1,"","L") | B22: Employé 11 | C22: =COUNTIF(F22:AJ22,$L$24) -> 0 | D22: =COUNTIF(F22:AJ22,$F$24) -> 0 | E22: =COUNTIF(F22:AJ22,$I$24) -> 0
D24: =IF(SUM(D12:D22)+SUM(E12:E22)>=20,"STOP","") | F24: C | G24: Congé | I24: R | J24: Récup | L24: M | M24: Maladie
F26: =IF(COUNTIF(F$12:F$22,$F$24)+COUNTIF(F$12:F$22,$I$24)+COUNTIF(F$12:F$22,$L$24)<=3,"","STOP") | G26: =IF(COUNTIF(G$12:G$22,$F$24)+COUNTIF(G$12:G$22,$I$24)<=3,"","STOP") | H26: =IF(COUNTIF(H$12:H$22,$F$24)+COUNTIF(H$12:H$22,$I$24)<=3,"","STOP") | I26: =IF(COUNTIF(I$12:I$22,$F$24)+COUNTIF(I$12:I$22,$I$24)<=3,"","STOP") | J26: =IF(COUNTIF(J$12:J$22,$F$24)+COUNTIF(J$12:J$22,$I$24)<=3,"","STOP") | K26: =IF(COUNTIF(K$12:K$22,$F$24)+COUNTIF(K$12:K$22,$I$24)<=3,"","STOP") | L26: =IF(COUNTIF(L$12:L$22,$F$24)+COUNTIF(L$12:L$22,$I$24)<=3,"","STOP") | M26: =IF(COUNTIF(M$12:M$22,$F$24)+COUNTIF(M$12:M$22,$I$24)<=3,"","STOP") | N26: =IF(COUNTIF(N$12:N$22,$F$24)+COUNTIF(N$12:N$22,$I$24)<=3,"","STOP") | ... AJ26: =IF(COUNTIF(AJ$12:AJ$22,$F$24)+COUNTIF(AJ$12:AJ$22,$I$24)<=3,"","STOP")
J27: =IF(COUNTIF($F$12:$L$22,$F$24)+COUNTIF($F$12:$L$22,$I$24)<=10,"","STOP") | Q27: =IF(COUNTIF($M$12:$S$22,$F$24)+COUNTIF($M$12:$S$22,$I$24)<=10,"","STOP") | X27: =IF(COUNTIF($T$12:$Z$22,$F$24)+COUNTIF($T$12:$Z$22,$I$24)<=10,"","STOP") | AE27: =IF(COUNTIF($AA$12:$AG$22,$F$24)+COUNTIF($AA$12:$AG$22,$I$24)<=10,"","STOP")

Sheet Novembre
A1: =Config!D16 -> 44866
A2: =Config!E16 -> 44895
F3: =A1 -> 44866 | G3: =F3+1 -> 44867 | H3: =G3+1 -> 44868 | I3: =H3+1 -> 44869 | J3: =I3+1 -> 44870 | K3: =J3+1 -> 44871 | L3: =K3+1 -> 44872 | M3: =L3+1 -> 44873 | N3: =M3+1 -> 44874 | ... AF3: =AE3+1 -> 44892 | AG3: =IFERROR(IF(AF3+1>$A$2,"",AF3+1),"") -> 44893 | AH3: =IFERROR(IF(AG3+1>$A$2,"",AG3+1),"") -> 44894 | AI3: =IFERROR(IF(AH3+1>$A$2,"",AH3+1),"") -> 44895 | AJ3: =IFERROR(IF(AI3+1>$A$2,"",AI3+1),"") | AK3: =IFERROR(IF(AJ3+1>$A$2,"",AJ3+1),"")
B5: =TEXT(A1,"Mmmm Aaaa") -> novembre 2022
F10: =DAY(F3) -> 1 | G10: =DAY(G3) -> 2 | H10: =DAY(H3) -> 3 | I10: =DAY(I3) -> 4 | J10: =DAY(J3) -> 5 | K10: =DAY(K3) -> 6 | L10: =DAY(L3) -> 7 | M10: =DAY(M3) -> 8 | ... AF10: =DAY(AF3) -> 27 | AG10: =IFERROR(DAY(AG3),"") -> 28 | AH10: =IFERROR(DAY(AH3),"") -> 29 | AI10: =IFERROR(DAY(AI3),"") -> 30 | AJ10: =IFERROR(DAY(AJ3),"")
B11: Employé | C11: Maladie | D11: Congé | E11: Récup | F11: =WEEKDAY(F3) -> 3 | G11: =WEEKDAY(G3) -> 4 | H11: =WEEKDAY(H3) -> 5 | I11: =WEEKDAY(I3) -> 6 | J11: =WEEKDAY(J3) -> 7 | K11: =WEEKDAY(K3) -> 1 | L11: =WEEKDAY(L3) -> 2 | M11: =WEEKDAY(M3) -> 3 | ... AF11: =WEEKDAY(AF3) -> 1 | AG11: =IFERROR(WEEKDAY(AG3),"") -> 2 | AH11: =IFERROR(WEEKDAY(AH3),"") -> 3 | AI11: =IFERROR(WEEKDAY(AI3),"") -> 4 | AJ11: =IFERROR(WEEKDAY(AJ3),"")
A12: =IF(E12<=1,"","L") | B12: =IF(Config!A4<>"",Config!A4,"") -> Employé 1 | C12: =COUNTIF(F12:AI12,$L$24) -> 0 | D12: =COUNTIF(F12:AI12,$F$24) -> 0 | E12: =COUNTIF(F12:AI12,$I$24) -> 0
A13: =IF(E13<=1,"","L") | B13: =IF(Config!A5<>"",Config!A5,"") -> Employé 2 | C13: =COUNTIF(F13:AI13,$L$24) -> 0 | D13: =COUNTIF(F13:AI13,$F$24) -> 0 | E13: =COUNTIF(F13:AI13,$I$24) -> 0
A14: =IF(E14<=1,"","L") | B14: =IF(Config!A6<>"",Config!A6,"") -> Employé 3 | C14: =COUNTIF(F14:AI14,$L$24) -> 0 | D14: =COUNTIF(F14:AI14,$F$24) -> 0 | E14: =COUNTIF(F14:AI14,$I$24) -> 0
A15: =IF(E15<=1,"","L") | B15: =IF(Config!A7<>"",Config!A7,"") -> Employé 4 | C15: =COUNTIF(F15:AI15,$L$24) -> 0 | D15: =COUNTIF(F15:AI15,$F$24) -> 0 | E15: =COUNTIF(F15:AI15,$I$24) -> 0
A16: =IF(E16<=1,"","L") | B16: =IF(Config!A8<>"",Config!A8,"") -> Employé 5 | C16: =COUNTIF(F16:AI16,$L$24) -> 0 | D16: =COUNTIF(F16:AI16,$F$24) -> 0 | E16: =COUNTIF(F16:AI16,$I$24) -> 0
A17: =IF(E17<=1,"","L") | B17: =IF(Config!A9<>"",Config!A9,"") -> Employé 6 | C17: =COUNTIF(F17:AI17,$L$24) -> 0 | D17: =COUNTIF(F17:AI17,$F$24) -> 0 | E17: =COUNTIF(F17:AI17,$I$24) -> 0
A18: =IF(E18<=1,"","L") | B18: =IF(Config!A10<>"",Config!A10,"") -> Employé 7 | C18: =COUNTIF(F18:AI18,$L$24) -> 0 | D18: =COUNTIF(F18:AI18,$F$24) -> 0 | E18: =COUNTIF(F18:AI18,$I$24) -> 0
A19: =IF(E19<=1,"","L") | B19: Employé 8 | C19: =COUNTIF(F19:AI19,$L$24) -> 0 | D19: =COUNTIF(F19:AI19,$F$24) -> 0 | E19: =COUNTIF(F19:AI19,$I$24) -> 0
A20: =IF(E20<=1,"","L") | B20: Employé 9 | C20: =COUNTIF(F20:AI20,$L$24) -> 0 | D20: =COUNTIF(F20:AI20,$F$24) -> 0 | E20: =COUNTIF(F20:AI20,$I$24) -> 0
A21: =IF(E21<=1,"","L") | B21: Employé 10 | C21: =COUNTIF(F21:AI21,$L$24) -> 0 | D21: =COUNTIF(F21:AI21,$F$24) -> 0 | E21: =COUNTIF(F21:AI21,$I$24) -> 0
A22: =IF(E22<=1,"","L") | B22: Employé 11 | C22: =COUNTIF(F22:AI22,$L$24) -> 0 | D22: =COUNTIF(F22:AI22,$F$24) -> 0 | E22: =COUNTIF(F22:AI22,$I$24) -> 0
D24: =IF(SUM(D12:D22)+SUM(E12:E22)>=20,"STOP","") | F24: C | G24: Congé | I24: R | J24: Récup | L24: M | M24: Maladie
F26: =IF(COUNTIF(F$12:F$22,$F$24)+COUNTIF(F$12:F$22,$I$24)+COUNTIF(F$12:F$22,$L$24)<=3,"","STOP") | G26: =IF(COUNTIF(G$12:G$22,$F$24)+COUNTIF(G$12:G$22,$I$24)<=3,"","STOP") | H26: =IF(COUNTIF(H$12:H$22,$F$24)+COUNTIF(H$12:H$22,$I$24)<=3,"","STOP") | I26: =IF(COUNTIF(I$12:I$22,$F$24)+COUNTIF(I$12:I$22,$I$24)<=3,"","STOP") | J26: =IF(COUNTIF(J$12:J$22,$F$24)+COUNTIF(J$12:J$22,$I$24)<=3,"","STOP") | K26: =IF(COUNTIF(K$12:K$22,$F$24)+COUNTIF(K$12:K$22,$I$24)<=3,"","STOP") | L26: =IF(COUNTIF(L$12:L$22,$F$24)+COUNTIF(L$12:L$22,$I$24)<=3,"","STOP") | M26: =IF(COUNTIF(M$12:M$22,$F$24)+COUNTIF(M$12:M$22,$I$24)<=3,"","STOP") | N26: =IF(COUNTIF(N$12:N$22,$F$24)+COUNTIF(N$12:N$22,$I$24)<=3,"","STOP") | ... AJ26: =IF(COUNTIF(AJ$12:AJ$22,$F$24)+COUNTIF(AJ$12:AJ$22,$I$24)<=3,"","STOP")
J27: =IF(COUNTIF($F$12:$L$22,$F$24)+COUNTIF($F$12:$L$22,$I$24)<=10,"","STOP") | Q27: =IF(COUNTIF($M$12:$S$22,$F$24)+COUNTIF($M$12:$S$22,$I$24)<=10,"","STOP") | X27: =IF(COUNTIF($T$12:$Z$22,$F$24)+COUNTIF($T$12:$Z$22,$I$24)<=10,"","STOP") | AE27: =IF(COUNTIF($AA$12:$AG$22,$F$24)+COUNTIF($AA$12:$AG$22,$I$24)<=10,"","STOP")

Sheet Décembre
A1: =Config!D17 -> 44896
A2: =Config!E17 -> 44926
F3: =A1 -> 44896 | G3: =F3+1 -> 44897 | H3: =G3+1 -> 44898 | I3: =H3+1 -> 44899 | J3: =I3+1 -> 44900 | K3: =J3+1 -> 44901 | L3: =K3+1 -> 44902 | M3: =L3+1 -> 44903 | N3: =M3+1 -> 44904 | ... AJ3: =AI3+1 -> 44926 | AK3: =IFERROR(IF(AJ3+1>$A$2,"",AJ3+1),"")
B5: =TEXT(A1,"Mmmm Aaaa") -> décembre 2022
F10: =DAY(F3) -> 1 | G10: =DAY(G3) -> 2 | H10: =DAY(H3) -> 3 | I10: =DAY(I3) -> 4 | J10: =DAY(J3) -> 5 | K10: =DAY(K3) -> 6 | L10: =DAY(L3) -> 7 | M10: =DAY(M3) -> 8 | ... AF10: =DAY(AF3) -> 27 | AG10: =IFERROR(DAY(AG3),"") -> 28 | AH10: =IFERROR(DAY(AH3),"") -> 29 | AI10: =IFERROR(DAY(AI3),"") -> 30 | AJ10: =IFERROR(DAY(AJ3),"") -> 31
B11: Employé | C11: Maladie | D11: Congé | E11: Récup | F11: =WEEKDAY(F3) -> 5 | G11: =WEEKDAY(G3) -> 6 | H11: =WEEKDAY(H3) -> 7 | I11: =WEEKDAY(I3) -> 1 | J11: =WEEKDAY(J3) -> 2 | K11: =WEEKDAY(K3) -> 3 | L11: =WEEKDAY(L3) -> 4 | M11: =WEEKDAY(M3) -> 5 | ... AF11: =WEEKDAY(AF3) -> 3 | AG11: =IFERROR(WEEKDAY(AG3),"") -> 4 | AH11: =IFERROR(WEEKDAY(AH3),"") -> 5 | AI11: =IFERROR(WEEKDAY(AI3),"") -> 6 | AJ11: =IFERROR(WEEKDAY(AJ3),"") -> 7
A12: =IF(E12<=1,"","L") | B12: =IF(Config!A4<>"",Config!A4,"") -> Employé 1 | C12: =COUNTIF(F12:AJ12,$L$24) -> 0 | D12: =COUNTIF(F12:AJ12,$F$24) -> 0 | E12: =COUNTIF(F12:AJ12,$I$24) -> 0
A13: =IF(E13<=1,"","L") | B13: =IF(Config!A5<>"",Config!A5,"") -> Employé 2 | C13: =COUNTIF(F13:AJ13,$L$24) -> 0 | D13: =COUNTIF(F13:AJ13,$F$24) -> 0 | E13: =COUNTIF(F13:AJ13,$I$24) -> 0
A14: =IF(E14<=1,"","L") | B14: =IF(Config!A6<>"",Config!A6,"") -> Employé 3 | C14: =COUNTIF(F14:AJ14,$L$24) -> 0 | D14: =COUNTIF(F14:AJ14,$F$24) -> 0 | E14: =COUNTIF(F14:AJ14,$I$24) -> 0
A15: =IF(E15<=1,"","L") | B15: =IF(Config!A7<>"",Config!A7,"") -> Employé 4 | C15: =COUNTIF(F15:AJ15,$L$24) -> 0 | D15: =COUNTIF(F15:AJ15,$F$24) -> 0 | E15: =COUNTIF(F15:AJ15,$I$24) -> 0
A16: =IF(E16<=1,"","L") | B16: =IF(Config!A8<>"",Config!A8,"") -> Employé 5 | C16: =COUNTIF(F16:AJ16,$L$24) -> 0 | D16: =COUNTIF(F16:AJ16,$F$24) -> 0 | E16: =COUNTIF(F16:AJ16,$I$24) -> 0
A17: =IF(E17<=1,"","L") | B17: =IF(Config!A9<>"",Config!A9,"") -> Employé 6 | C17: =COUNTIF(F17:AJ17,$L$24) -> 0 | D17: =COUNTIF(F17:AJ17,$F$24) -> 0 | E17: =COUNTIF(F17:AJ17,$I$24) -> 0
A18: =IF(E18<=1,"","L") | B18: =IF(Config!A10<>"",Config!A10,"") -> Employé 7 | C18: =COUNTIF(F18:AJ18,$L$24) -> 0 | D18: =COUNTIF(F18:AJ18,$F$24) -> 0 | E18: =COUNTIF(F18:AJ18,$I$24) -> 0
A19: =IF(E19<=1,"","L") | B19: Employé 8 | C19: =COUNTIF(F19:AJ19,$L$24) -> 0 | D19: =COUNTIF(F19:AJ19,$F$24) -> 0 | E19: =COUNTIF(F19:AJ19,$I$24) -> 0
A20: =IF(E20<=1,"","L") | B20: Employé 9 | C20: =COUNTIF(F20:AJ20,$L$24) -> 0 | D20: =COUNTIF(F20:AJ20,$F$24) -> 0 | E20: =COUNTIF(F20:AJ20,$I$24) -> 0
A21: =IF(E21<=1,"","L") | B21: Employé 10 | C21: =COUNTIF(F21:AJ21,$L$24) -> 0 | D21: =COUNTIF(F21:AJ21,$F$24) -> 0 | E21: =COUNTIF(F21:AJ21,$I$24) -> 0
A22: =IF(E22<=1,"","L") | B22: Employé 11 | C22: =COUNTIF(F22:AJ22,$L$24) -> 0 | D22: =COUNTIF(F22:AJ22,$F$24) -> 0 | E22: =COUNTIF(F22:AJ22,$I$24) -> 0
D24: =IF(SUM(D12:D22)+SUM(E12:E22)>=20,"STOP","") | F24: C | G24: Congé | I24: R | J24: Récup | L24: M | M24: Maladie
F26: =IF(COUNTIF(F$12:F$22,$F$24)+COUNTIF(F$12:F$22,$I$24)+COUNTIF(F$12:F$22,$L$24)<=3,"","STOP") | G26: =IF(COUNTIF(G$12:G$22,$F$24)+COUNTIF(G$12:G$22,$I$24)<=3,"","STOP") | H26: =IF(COUNTIF(H$12:H$22,$F$24)+COUNTIF(H$12:H$22,$I$24)<=3,"","STOP") | I26: =IF(COUNTIF(I$12:I$22,$F$24)+COUNTIF(I$12:I$22,$I$24)<=3,"","STOP") | J26: =IF(COUNTIF(J$12:J$22,$F$24)+COUNTIF(J$12:J$22,$I$24)<=3,"","STOP") | K26: =IF(COUNTIF(K$12:K$22,$F$24)+COUNTIF(K$12:K$22,$I$24)<=3,"","STOP") | L26: =IF(COUNTIF(L$12:L$22,$F$24)+COUNTIF(L$12:L$22,$I$24)<=3,"","STOP") | M26: =IF(COUNTIF(M$12:M$22,$F$24)+COUNTIF(M$12:M$22,$I$24)<=3,"","STOP") | N26: =IF(COUNTIF(N$12:N$22,$F$24)+COUNTIF(N$12:N$22,$I$24)<=3,"","STOP") | ... AJ26: =IF(COUNTIF(AJ$12:AJ$22,$F$24)+COUNTIF(AJ$12:AJ$22,$I$24)<=3,"","STOP")
J27: =IF(COUNTIF($F$12:$L$22,$F$24)+COUNTIF($F$12:$L$22,$I$24)<=10,"","STOP") | Q27: =IF(COUNTIF($M$12:$S$22,$F$24)+COUNTIF($M$12:$S$22,$I$24)<=10,"","STOP") | X27: =IF(COUNTIF($T$12:$Z$22,$F$24)+COUNTIF($T$12:$Z$22,$I$24)<=10,"","STOP") | AE27: =IF(COUNTIF($AA$12:$AG$22,$F$24)+COUNTIF($AA$12:$AG$22,$I$24)<=10,"","STOP")
