Workbook

Sheet complet
I1: LISTE DES AMORTISSEMENTS DE SIMULATION | O1: L.54162935 V.3.22 | R1: PAGE | T1: 1
A2: Période éditée de 01/01/2021 à 31/12/2021 | O2: DATE 09/12/2021
A3: Référence | B3: N° Compte | C3: Libellé | D3: Durée | E3: Type | F3: Base Immobilisation | G3: Date Amort. | H3: Cumul Antérieur Amts | J3: Diminution | K3: Montant Amort. | L3: Montant Amort. | M3: Montant Amort. | N3: Montant Amort. | P3: Montant Amort. | Q3: Cumul Amort. | S3: Résiduelle
K4: 31/12/2021
A5: 78901001 | B5: 280700000 | C5: Fonds de commerce | D5: 20,00 | E5: L | F5: 190561.27 | G5: =VLOOKUP(A5,'avec dates'!$B5:$C247,2,FALSE) -> 01/01/1989 | H5: 190561.27 | P5: 190561.27
A6: 150002001 | B6: 280500000 | C6: SERVEUR SAGE (baert) | D6: 33,33 | E6: L | F6: 533.57 | G6: =VLOOKUP(A6,'avec dates'!$B6:$C248,2,FALSE) -> 23/02/2000 | H6: 533.57 | P6: 533.57
A7: 150104001 | B7: 280500000 | C7: LOGICIEL TOSCANE (ba | D7: 33,33 | E7: L | F7: 1387.29 | G7: =VLOOKUP(A7,'avec dates'!$B7:$C249,2,FALSE) -> 18/04/2001 | H7: 1387.29 | P7: 1387.29
A8: 150104002 | B8: 280500000 | C8: MAJ OBI GESTION V4.10 | D8: 33,33 | E8: L | F8: 457.35 | G8: =VLOOKUP(A8,'avec dates'!$B8:$C250,2,FALSE) -> 18/04/2001 | H8: 457.35 | P8: 457.35
A9: 151011001 | B9: 280500000 | C9: PROJET JDE | D9: 20,00 | E9: L | F9: 238419.52 | G9: =VLOOKUP(A9,'avec dates'!$B9:$C251,2,FALSE) -> 11/11/2010 | H9: 238419.52 | P9: 238419.52
A10: 151011002 | B10: 280500000 | C10: PPROJET JDE | D10: 20,00 | E10: L | F10: 48882.83 | G10: =VLOOKUP(A10,'avec dates'!$B10:$C252,2,FALSE) -> 18/11/2010 | H10: 48882.83 | P10: 48882.83
A11: 151110001 | B11: 280500000 | C11: LOGICIEL PRINT MACHI | D11: 20,00 | E11: L | F11: 11290.25 | G11: =VLOOKUP(A11,'avec dates'!$B11:$C253,2,FALSE) -> 26/10/2011 | H11: 11290.25 | P11: 11290.25
A12: 151202001 | B12: 280500000 | C12: MS WIN SERVE 2008 (inf | D12: 33,33 | E12: L | F12: 520.49 | G12: =VLOOKUP(A12,'avec dates'!$B12:$C254,2,FALSE) -> 29/02/2012 | H12: 520.49 | P12: 520.49
A13: 151306001 | B13: 280500000 | C13: ESSENTIALS INSIGHT C | D13: 33,33 | E13: L | F13: 1676 | G13: =VLOOKUP(A13,'avec dates'!$B13:$C255,2,FALSE) -> 30/06/2013 | H13: 1676 | P13: 1676
A14: 151306001 | B14: 280500000 | C14: SOFTCHOICE LICENCES | D14: 33,33 | E14: L | F14: 4414 | G14: =VLOOKUP(A14,'avec dates'!$B14:$C256,2,FALSE) -> 30/06/2013 | H14: 4414 | P14: 4414
A15: 151504001 | B15: 280500000 | C15: GIS LOGICIELS | D15: 33,33 | E15: L | F15: 2187 | G15: =VLOOKUP(A15,'avec dates'!$B15:$C257,2,FALSE) -> 29/04/2015 | H15: 2187 | P15: 2187
A16: 159908001 | B16: 280500000 | C16: WINDOWS SERVER (coh | D16: 33,33 | E16: L | F16: 1365.18 | G16: =VLOOKUP(A16,'avec dates'!$B16:$C258,2,FALSE) -> 27/08/1999 | H16: 1365.18 | P16: 1365.18
... A19: 201104001 | B19: 281850000 | C19: DALLE TACTILE DE DEM | D19: 33,33 | E19: L | F19: 2870 | G19: =VLOOKUP(A19,'avec dates'!$B19:$C261,2,FALSE) -> 19/04/2011 | H19: 2870 | P19: 2870
A20: 201811001 | B20: 281850000 | C20: DOUBLE Q XS version | D20: 20,00 | E20: L | F20: 11636.11 | G20: =VLOOKUP(A20,'avec dates'!$B20:$C262,2,FALSE) -> 01/01/2019 | H20: 4654.44 | K20: 2327.22 | P20: 6981.66 | S20: 4654.45
A21: 201812001 | B21: 281850000 | C21: DOUBLE Q project manag | D21: 20,00 | E21: L | F21: 21082.96 | G21: =VLOOKUP(A21,'avec dates'!$B21:$C263,2,FALSE) -> 01/01/2019 | H21: 8433.18 | K21: 4216.59 | P21: 12649.77 | S21: 8433.19
A22: 201812002 | B22: 281850000 | C22: DOUBLE Q XS version | D22: 20,00 | E22: L | F22: 12043.1 | G22: =VLOOKUP(A22,'avec dates'!$B22:$C264,2,FALSE) -> 01/01/2019 | H22: 4817.24 | K22: 2408.62 | P22: 7225.86 | S22: 4817.24
A23: 201905001 | B23: 281850000 | C23: DOUBLE Q presentoir ma | D23: 20,00 | E23: L | F23: 55315.05 | G23: =VLOOKUP(A23,'avec dates'!$B23:$C265,2,FALSE) -> 15/05/2019 | H23: 18064.53 | K23: 11063.01 | P23: 29127.54 | S23: 26187.51
A24: 201909001 | B24: 281850000 | C24: DOUBLE Q presentoire m | D24: 20,00 | E24: L | F24: 8441.32 | G24: =VLOOKUP(A24,'avec dates'!$B24:$C266,2,FALSE) -> 17/09/2019 | H24: 2178.55 | K24: 1688.26 | P24: 3866.81 | S24: 4574.51
A25: 202003001 | B25: 281850000 | C25: DISPLAY SOLUTION F19 | D25: 33,33 | E25: L | F25: 16948.7 | G25: =VLOOKUP(A25,'avec dates'!$B25:$C267,2,FALSE) -> 10/03/2020 | H25: 4584.49 | K25: 5649.57 | P25: 10234.06 | S25: 6714.64
A26: 202005001 | B26: 281850000 | C26: ZIEGLER frais dedouane | D26: 33,33 | E26: L | F26: 1024 | G26: =VLOOKUP(A26,'avec dates'!$B26:$C268,2,FALSE) -> 27/05/2020 | H26: 204.24 | K26: 341.33 | P26: 545.57 | S26: 478.43
A27: 202006001 | B27: 281850000 | C27: DISPLAY SOLUTION F20 | D27: 33,33 | E27: L | F27: 32538.7 | G27: =VLOOKUP(A27,'avec dates'!$B27:$C269,2,FALSE) -> 18/05/2020 | H27: 6756.67 | K27: 10846.23 | P27: 17602.9 | S27: 14935.8
A28: 202102001 | B28: 281850000 | C28: DISPLAY 1000 | D28: 33,33 | E28: L | F28: 39693.48 | G28: =VLOOKUP(A28,'avec dates'!$B28:$C270,2,FALSE) -> 15/02/2021 | K28: 11599.92 | P28: 11599.92 | S28: 28093.56
A29: 202102002 | B29: 281850000 | C29: MODULE PRODUCT RIS | D29: 33,33 | E29: L | F29: 6538 | G29: =VLOOKUP(A29,'avec dates'!$B29:$C271,2,FALSE) -> 21/06/2021 | K29: 1158.33 | P29: 1158.33 | S29: 5379.67
A30: 202102003 | B30: 281850000 | C30: Refresh kit fnac fr Alrec | D30: 33,33 | E30: L | F30: 13747 | G30: =VLOOKUP(A30,'avec dates'!$B30:$C272,2,FALSE) -> 29/01/2021 | K30: 4230.81 | P30: 4230.81 | S30: 9516.19
A31: 202102004 | B31: 281850000 | C31: Installation kit fnac Alrec | D31: 33,33 | E31: L | F31: 4381 | G31: =VLOOKUP(A31,'avec dates'!$B31:$C273,2,FALSE) -> 30/06/2021 | K31: 740.17 | P31: 740.17 | S31: 3640.83
A32: 5012007003 | B32: 281810000 | C32: ARMOIRE ELECTRIQUE | D32: 12,50 | E32: L | F32: 17121 | G32: =VLOOKUP(A32,'avec dates'!$B32:$C274,2,FALSE) -> 23/07/2012 | H32: 17121 | P32: 17121
A33: 501207002 | B33: 281810000 | C33: PLATE DE FORME DE ST | D33: 12,50 | E33: L | F33: 32150 | G33: =VLOOKUP(A33,'avec dates'!$B33:$C275,2,FALSE) -> 18/07/2012 | H33: 32150 | P33: 32150
A34: 501207004 | B34: 281810000 | C34: CLIMATISATION BUREA | D34: 12,50 | E34: L | F34: 22000 | G34: =VLOOKUP(A34,'avec dates'!$B34:$C276,2,FALSE) -> 31/07/2012 | H34: 22000 | P34: 22000
A35: SOUS-TOTAL GENERAL | F35: 801196.43 | G35: =VLOOKUP(A35,'avec dates'!$B35:$C277,2,FALSE) -> #N/A | H35: 627500.35 | J35: 0 | K35: 56270.06 | L35: 0 | M35: 0 | N35: 0 | P35: =SUM(P5:R34) -> 683770.41 | S35: 117426.02
G36: =VLOOKUP(A36,'avec dates'!$B36:$C278,2,FALSE) -> #N/A
G37: =VLOOKUP(A37,'avec dates'!$B37:$C279,2,FALSE) -> #N/A
G38: =VLOOKUP(A38,'avec dates'!$B38:$C280,2,FALSE) -> #N/A
A39: Référence | B39: N° Compte | C39: Libellé | D39: Durée | E39: Type | F39: Base Immobilisation | G39: =VLOOKUP(A39,'avec dates'!$B39:$C281,2,FALSE) -> #N/A | H39: Cumul Antérieur | J39: Diminution | K39: Montant Amort. | L39: Montant Amort. | M39: Montant Amort. | N39: Montant Amort. | P39: Montant Amort. | Q39: Cumul Amort. | S39: Résiduelle
G40: =VLOOKUP(A40,'avec dates'!$B40:$C282,2,FALSE) -> #N/A | K40: 31/12/2021
A41: 501302001 | B41: 281810000 | C41: GOUBE TRAVAUX ELEC | D41: 12,50 | E41: L | F41: 5297.13 | G41: =VLOOKUP(A41,'avec dates'!$B41:$C283,2,FALSE) -> 14/02/2013 | H41: 5217.3 | J41: 79.83 | P41: 5297.13
A42: 501304001 | B42: 281810000 | C42: GOUBE TRAVAUX ELEC | D42: 12,50 | E42: L | F42: 3182.65 | G42: =VLOOKUP(A42,'avec dates'!$B42:$C284,2,FALSE) -> 08/04/2013 | H42: 3076.92 | J42: 105.73 | P42: 3182.65
A43: 501304002 | B43: 281810000 | C43: BUGS CABLAGE FIBRE | D43: 12,50 | E43: L | F43: 3293.35 | G43: =VLOOKUP(A43,'avec dates'!$B43:$C285,2,FALSE) -> 30/04/2013 | H43: 3159.14 | J43: 134.21 | P43: 3293.35
A44: 501305001 | B44: 281810000 | C44: TECHNISOLS FOURNITU | D44: 12,50 | E44: L | F44: 6371.88 | G44: =VLOOKUP(A44,'avec dates'!$B44:$C286,2,FALSE) -> 22/05/2013 | H44: 6064.23 | J44: 307.65 | P44: 6371.88
A45: 501305002 | B45: 281810000 | C45: COMTE ISOLATION CLOI | D45: 12,50 | E45: L | F45: 18248.96 | G45: =VLOOKUP(A45,'avec dates'!$B45:$C287,2,FALSE) -> 23/05/2013 | H45: 17361.51 | J45: 887.45 | P45: 18248.96
A46: 501305003 | B46: 281810000 | C46: HOYEZ POSE DE CLOIS | D46: 12,50 | E46: L | F46: 63978.69 | G46: =VLOOKUP(A46,'avec dates'!$B46:$C288,2,FALSE) -> 31/05/2013 | H46: 60692.14 | J46: 3286.55 | P46: 63978.69
A47: 501305004 | B47: 281810000 | C47: PIRES MACONNERIE | D47: 12,50 | E47: L | F47: 17690 | G47: =VLOOKUP(A47,'avec dates'!$B47:$C289,2,FALSE) -> 31/05/2013 | H47: 16781.27 | J47: 908.73 | P47: 17690
A48: 501305005 | B48: 281810000 | C48: DELCLOY AMENAGEME | D48: 12,50 | E48: L | F48: 4907.2 | G48: =VLOOKUP(A48,'avec dates'!$B48:$C290,2,FALSE) -> 31/05/2013 | H48: 4655.12 | J48: 252.08 | P48: 4907.2
A49: 501305006 | B49: 281810000 | C49: GOUBE ELECTRICITE | D49: 12,50 | E49: L | F49: 33204.61 | G49: =VLOOKUP(A49,'avec dates'!$B49:$C291,2,FALSE) -> 31/05/2013 | H49: 31498.92 | J49: 1705.69 | P49: 33204.61
A50: 501305007 | B50: 281810000 | C50: ICF SECURITE ALARME-I | D50: 12,50 | E50: L | F50: 24625 | G50: =VLOOKUP(A50,'avec dates'!$B50:$C292,2,FALSE) -> 31/05/2013 | H50: 23360.06 | J50: 1264.94 | P50: 24625
A51: 501306001 | B51: 281810000 | C51: SMS-MPI CAMERA | D51: 12,50 | E51: L | F51: 3127 | G51: =VLOOKUP(A51,'avec dates'!$B51:$C293,2,FALSE) -> 01/06/2013 | H51: 2964.17 | J51: 162.83 | P51: 3127
A52: 501306002 | B52: 281810000 | C52: TECHNISOLS FOURNITU | D52: 12,50 | E52: L | F52: 6398.49 | G52: =VLOOKUP(A52,'avec dates'!$B52:$C294,2,FALSE) -> 12/06/2013 | H52: 6043.5 | J52: 354.99 | P52: 6398.49
... A65: 501311002 | B65: 281810000 | C65: QUALIFERM RIDEAU FE | D65: 12,50 | E65: L | F65: 3750 | G65: =VLOOKUP(A65,'avec dates'!$B65:$C307,2,FALSE) -> 06/11/2013 | H65: 3353.17 | J65: 396.83 | P65: 3750
A66: 501402001 | B66: 281810000 | C66: COMTE ISOLATION SHO | D66: 12,50 | E66: L | F66: 17794.28 | G66: =VLOOKUP(A66,'avec dates'!$B66:$C308,2,FALSE) -> 28/02/2014 | H66: 15216.57 | J66: 2224.29 | P66: 17440.86 | S66: 353.42
A67: 501403001 | B67: 281810000 | C67: FERALCO RAYONNAGE | D67: 12,50 | E67: L | F67: 4600.63 | G67: =VLOOKUP(A67,'avec dates'!$B67:$C309,2,FALSE) -> 05/03/2014 | H67: 3926.3 | J67: 575.08 | P67: 4501.38 | S67: 99.25
A68: 501403002 | B68: 281810000 | C68: GOUBE SHOW ROOM + | D68: 12,50 | E68: L | F68: 11708.35 | G68: =VLOOKUP(A68,'avec dates'!$B68:$C310,2,FALSE) -> 11/03/2014 | H68: 9968.11 | J68: 1463.54 | P68: 11431.65 | S68: 276.7
A69: 501404001 | B69: 281810000 | C69: GOUBE ELECTRICITE S | D69: 12,50 | E69: L | F69: 10451.23 | G69: =VLOOKUP(A69,'avec dates'!$B69:$C311,2,FALSE) -> 08/04/2014 | H69: 8797.62 | J69: 1306.4 | P69: 10104.02 | S69: 347.21
A70: 501405001 | B70: 281810000 | C70: HACQUEL SANITAIRE R | D70: 12,50 | E70: L | F70: 15214.68 | G70: =VLOOKUP(A70,'avec dates'!$B70:$C312,2,FALSE) -> 02/05/2014 | H70: 12682.41 | J70: 1901.84 | P70: 14584.25 | S70: 630.43
A71: SOUS-TOTAL GENERAL | F71: 1330209.5 | G71: =VLOOKUP(A71,'avec dates'!$B71:$C313,2,FALSE) -> #N/A | H71: 1115377.3 | J71: 0 | K71: 95699.13 | L71: 0 | M71: 0 | N71: 0 | P71: 0 | Q71: 1211076.4 | S71: 119133.03
G72: =VLOOKUP(A72,'avec dates'!$B72:$C314,2,FALSE) -> #N/A
G73: =VLOOKUP(A73,'avec dates'!$B73:$C315,2,FALSE) -> #N/A
A74: Référence | B74: N° Compte | C74: Libellé | D74: Durée | E74: Type | F74: Base Immobilisation | G74: =VLOOKUP(A74,'avec dates'!$B74:$C316,2,FALSE) -> #N/A | H74: Cumul Antérieur | J74: Diminution | K74: Montant Amort. | L74: Montant Amort. | M74: Montant Amort. | N74: Montant Amort. | P74: Montant Amort. | Q74: Cumul Amort. | S74: Résiduelle
G75: =VLOOKUP(A75,'avec dates'!$B75:$C317,2,FALSE) -> #N/A | K75: 31/12/2021
A76: 501406001 | B76: 281810000 | C76: VIDELIO ECRAN MURAL | D76: 12,50 | E76: L | F76: 1031.15 | G76: =VLOOKUP(A76,'avec dates'!$B76:$C318,2,FALSE) -> 06/06/2014 | H76: 847.14 | J76: 128.89 | P76: 976.03 | S76: 55.12
A77: 501406002 | B77: 281810000 | C77: POLYFROID CLIMATISAT | D77: 12,50 | E77: L | F77: 5120 | G77: =VLOOKUP(A77,'avec dates'!$B77:$C319,2,FALSE) -> 30/06/2014 | H77: 4164.38 | J77: 640 | P77: 4804.38 | S77: 315.62
A78: 501410001 | B78: 281810000 | C78: PORTE RAPIDE STOCK | D78: 12,50 | E78: L | F78: 6733 | G78: =VLOOKUP(A78,'avec dates'!$B78:$C320,2,FALSE) -> 20/10/2014 | H78: 5218.11 | J78: 841.63 | P78: 6059.74 | S78: 673.26
A79: 501506001 | B79: 281810000 | C79: ETS GUEGAN PORTE D | D79: 12,50 | E79: L | F79: 2994 | G79: =VLOOKUP(A79,'avec dates'!$B79:$C321,2,FALSE) -> 18/06/2015 | H79: 2073.24 | J79: 374.25 | P79: 2447.49 | S79: 546.51
A80: 501511001 | B80: 281810000 | C80: GOUBE ALIMENTATION | D80: 12,50 | E80: L | F80: 3649.58 | G80: =VLOOKUP(A80,'avec dates'!$B80:$C322,2,FALSE) -> 10/11/2015 | H80: 2345.99 | J80: 456.2 | P80: 2802.19 | S80: 847.39
A81: 501606001 | B81: 281810000 | C81: GR VISION REMPLT DU | D81: 12,50 | E81: L | F81: 6480 | G81: =VLOOKUP(A81,'avec dates'!$B81:$C323,2,FALSE) -> 29/06/2016 | H81: 3651.64 | J81: 810 | P81: 4461.64 | S81: 2018.36
A82: 501607001 | B82: 281810000 | C82: POLYFROID COMPRESS | D82: 12,50 | E82: L | F82: 4909.1 | G82: =VLOOKUP(A82,'avec dates'!$B82:$C324,2,FALSE) -> 29/07/2016 | H82: 2716.11 | J82: 613.64 | P82: 3329.75 | S82: 1579.35
A83: 501610001 | B83: 281810000 | C83: POLYFROID COMPRESS | D83: 12,50 | E83: L | F83: 3455 | G83: =VLOOKUP(A83,'avec dates'!$B83:$C325,2,FALSE) -> 31/10/2016 | H83: 1800.68 | J83: 431.88 | P83: 2232.56 | S83: 1222.44
A84: 501903001 | B84: 281810000 | C84: POLYFROID CLIMATISAT | D84: 12,50 | E84: L | F84: 4983 | G84: =VLOOKUP(A84,'avec dates'!$B84:$C326,2,FALSE) -> 12/03/2019 | H84: 1126.3 | J84: 622.88 | P84: 1749.18 | S84: 3233.82
A85: 501903002 | B85: 281810000 | C85: KARDEX DEPLACEMENT | D85: 12,50 | E85: L | F85: 7850 | G85: =VLOOKUP(A85,'avec dates'!$B85:$C327,2,FALSE) -> 27/03/2019 | H85: 1733.99 | J85: 981.25 | P85: 2715.24 | S85: 5134.76
A86: 501903003 | B86: 281810000 | C86: ESPACE CLOISONS ALU | D86: 12,50 | E86: L | F86: 9925 | G86: =VLOOKUP(A86,'avec dates'!$B86:$C328,2,FALSE) -> 14/03/2019 | H86: 2236.53 | J86: 1240.63 | P86: 3477.16 | S86: 6447.84
A87: 501903004 | B87: 281810000 | C87: ENT GOUBE Travaux elec | D87: 12,50 | E87: L | F87: 4680 | G87: =VLOOKUP(A87,'avec dates'!$B87:$C329,2,FALSE) -> 29/03/2019 | H87: 1030.56 | J87: 585 | P87: 1615.56 | S87: 3064.44
... A105: 501912001 | B105: 281810000 | C105: DA SILVA SASU Remplac | D105: 12,50 | E105: L | F105: 1130 | G105: =VLOOKUP(A105,'avec dates'!$B105:$C347,2,FALSE) -> 09/12/2019 | H105: 150.15 | J105: 141.25 | P105: 291.4 | S105: 838.6
A106: SOUS-TOTAL GENERAL | F106: 1469403.6 | G106: =VLOOKUP(A106,'avec dates'!$B106:$C348,2,FALSE) -> #N/A | H106: 1159835.9 | J106: 0 | K106: 113098.43 | L106: 0 | M106: 0 | N106: 0 | P106: 0 | Q106: 1272934.3 | S106: 196469.27
G107: =VLOOKUP(A107,'avec dates'!$B107:$C349,2,FALSE) -> #N/A
G108: =VLOOKUP(A108,'avec dates'!$B108:$C350,2,FALSE) -> #N/A
A109: Référence | B109: N° Compte | C109: Libellé | D109: Durée | E109: Type | F109: Base Immobilisation | G109: =VLOOKUP(A109,'avec dates'!$B109:$C351,2,FALSE) -> #N/A | H109: Cumul Antérieur | J109: Diminution | K109: Montant Amort. | L109: Montant Amort. | M109: Montant Amort. | N109: Montant Amort. | P109: Montant Amort. | Q109: Cumul Amort. | S109: Résiduelle
G110: =VLOOKUP(A110,'avec dates'!$B110:$C352,2,FALSE) -> #N/A | K110: 31/12/2021
A111: 501912002 | B111: 281810000 | C111: ICF SECURITE CONTRO | D111: 12,50 | E111: L | F111: 2755 | G111: =VLOOKUP(A111,'avec dates'!$B111:$C353,2,FALSE) -> 01/01/2020 | H111: 344.38 | J111: -6410 | K111: 344.38 | P111: 688.76 | S111: 2066.24
A112: 502001001 | B112: 281810000 | C112: ICF SECURITE CENTRAL | D112: 12,50 | E112: L | F112: 2300 | G112: =VLOOKUP(A112,'avec dates'!$B112:$C354,2,FALSE) -> 09/01/2020 | H112: 281.22 | K112: 287.5 | P112: 568.72 | S112: 1731.28
A113: 600006002 | B113: 281540000 | C113: KARDEX (stock sav) | D113: 10,00 | E113: L | F113: 35825.52 | G113: =VLOOKUP(A113,'avec dates'!$B113:$C355,2,FALSE) -> #N/A | H113: 35825.52 | P113: 35825.52
A114: 600008001 | B114: 281540000 | C114: STATION SOUDAGE (sav | D114: 10,00 | E114: L | F114: 329.29 | G114: =VLOOKUP(A114,'avec dates'!$B114:$C356,2,FALSE) -> #N/A | H114: 329.29 | P114: 329.29
A115: 600009001 | B115: 281540000 | C115: MILLIVOLTMETRE RF DC | D115: 10,00 | E115: L | F115: 4036.1 | G115: =VLOOKUP(A115,'avec dates'!$B115:$C357,2,FALSE) -> #N/A | H115: 4036.1 | P115: 4036.1
A116: 600009002 | B116: 281540000 | C116: FREQUENCEMETRE FLP | D116: 10,00 | E116: L | F116: 2574.5 | G116: =VLOOKUP(A116,'avec dates'!$B116:$C358,2,FALSE) -> #N/A | H116: 2574.5 | P116: 2574.5
A117: 600011001 | B117: 281540000 | C117: BANC TEST DADIOCOM | D117: 10,00 | E117: L | F117: 10100 | G117: =VLOOKUP(A117,'avec dates'!$B117:$C359,2,FALSE) -> #N/A | H117: 10100 | P117: 10100
A118: 600101001 | B118: 281540000 | C118: AUTOLAVEUSE/BALAYE | D118: 10,00 | E118: L | F118: 7701.73 | G118: =VLOOKUP(A118,'avec dates'!$B118:$C360,2,FALSE) -> #N/A | H118: 7701.73 | P118: 7701.73
A119: 600504001 | B119: 281540000 | C119: ANALYSEUR DE SPECT | D119: 10,00 | E119: L | F119: 13958 | G119: =VLOOKUP(A119,'avec dates'!$B119:$C361,2,FALSE) -> #N/A | H119: 13958 | P119: 13958
A120: 600505001 | B120: 281540000 | C120: SONDE DE PUISSANCE ( | D120: 10,00 | E120: L | F120: 1195 | G120: =VLOOKUP(A120,'avec dates'!$B120:$C362,2,FALSE) -> #N/A | H120: 1195 | P120: 1195
A121: 600511001 | B121: 281540000 | C121: STATION AIR CHAUD (sa | D121: 10,00 | E121: L | F121: 995 | G121: =VLOOKUP(A121,'avec dates'!$B121:$C363,2,FALSE) -> #N/A | H121: 995 | P121: 995
A122: 600511002 | B122: 281540000 | C122: CENTRALE AIR COMPRI | D122: 10,00 | E122: L | F122: 6410 | G122: =VLOOKUP(A122,'avec dates'!$B122:$C364,2,FALSE) -> #N/A | H122: 6410
C123: Cession Diminution Base | F123: -6410 | G123: =VLOOKUP(A123,'avec dates'!$B123:$C365,2,FALSE) -> #N/A
C124: Diminut.périodes antér. | G124: =VLOOKUP(A124,'avec dates'!$B124:$C366,2,FALSE) -> #N/A
C125: Diminution période | G125: =VLOOKUP(A125,'avec dates'!$B125:$C367,2,FALSE) -> #N/A
A126: 600601001 | B126: 281540000 | C126: OSCILLOSCOPE HK507 | D126: 10,00 | E126: L | F126: 1628.9 | G126: =VLOOKUP(A126,'avec dates'!$B126:$C368,2,FALSE) -> #N/A | H126: 1628.9 | P126: 1628.9
A127: 600803001 | B127: 281540000 | C127: ANALYSEUR AUDIO UP 3 | D127: 10,00 | E127: L | F127: 5460 | G127: =VLOOKUP(A127,'avec dates'!$B127:$C369,2,FALSE) -> #N/A | H127: 5460 | P127: 5460
A128: 600809001 | B128: 281540000 | C128: PRESSE A BALLES MAXI | D128: 10,00 | E128: L | F128: 8000 | G128: =VLOOKUP(A128,'avec dates'!$B128:$C370,2,FALSE) -> #N/A | H128: 8000 | P128: 8000
A129: 600902001 | B129: 281540000 | C129: ETUVE 14L UNB1000 | D129: 10,00 | E129: L | F129: 734 | G129: =VLOOKUP(A129,'avec dates'!$B129:$C371,2,FALSE) -> #N/A | H129: 734 | P129: 734
A130: 601111001 | B130: 281540000 | C130: GENERATEURS HF (lapp | D130: 10,00 | E130: L | F130: 10000.02 | G130: =VLOOKUP(A130,'avec dates'!$B130:$C372,2,FALSE) -> #N/A | H130: 9101.37 | K130: 898.65 | P130: 10000.02
A131: 601112001 | B131: 281540000 | C131: ANALYSEUR DE SPECT | D131: 10,00 | E131: L | F131: 15471.36 | G131: =VLOOKUP(A131,'avec dates'!$B131:$C373,2,FALSE) -> #N/A | H131: 13979.36 | K131: 1492 | P131: 15471.36
...

Sheet avec dates
I1: LISTE DES COMPTES D'AMORTISSEMENTS | Q1: L.54162935 V.3.22 | U1: PAGE | W1: 1
A2: Période éditée de 01/01/2021 à 31/12/2021 | Q2: DATE 07/10/2021
A3: ilisations exclues : 0 - Sans Non Amort. - Sans Simul | R3: 10:29
B5: Référence | C5: Date Amort. | F5: mort. | G5: Diminutions | K5: Cumul Amort. | M5: Durée Amort. | P5: Taux | S5: Valeur amortissement de la période
B6: référence | G6: Sur Ventes | H6: Sur Sorties | J6: Antérieures | M6: Pér | N6: Tot | O6: Rest | S6: Linéaire | T6: Dégressif | V6: Exceptionnel
A7: 280500000 | B7: 150002001 | C7: 23/02/2000 | D7: SERVEUR SAG | E7: 533.57 | J7: 533.57 | M7: 36 | O7: 33,33
B8: 150104001 | C8: 18/04/2001 | D8: LOGICIEL TOS | E8: 1387.29 | J8: 1387.29 | M8: 36 | O8: 33,33
B9: 150104002 | C9: 18/04/2001 | D9: MAJ OBI GESTI | E9: 457.35 | J9: 457.35 | M9: 36 | O9: 33,33
B10: 151011001 | C10: 11/11/2010 | D10: PROJET JDE | E10: 238419.52 | J10: 238419.52 | M10: 60 | O10: 20,00
B11: 151011002 | C11: 18/11/2010 | D11: PPROJET JDE | E11: 48882.83 | J11: 48882.83 | M11: 60 | O11: 20,00
B12: 151110001 | C12: 26/10/2011 | D12: LOGICIEL PRIN | E12: 11290.25 | J12: 11290.25 | M12: 60 | O12: 20,00
B13: 151202001 | C13: 29/02/2012 | D13: MS WIN SERVE | E13: 520.49 | J13: 520.49 | M13: 36 | O13: 33,33
B14: 151306001 | C14: 30/06/2013 | D14: ESSENTIALS IN | E14: 1676 | J14: 1676 | M14: 36 | O14: 33,33
B15: 151405001 | C15: 26/05/2014 | D15: SOFTCHOICE L | E15: 4414 | J15: 4414 | M15: 36 | O15: 33,33
B16: 151504001 | C16: 29/04/2015 | D16: GIS LOGICIELS | E16: 2187 | J16: 2187 | M16: 36 | O16: 33,33
B17: 159908001 | C17: 27/08/1999 | D17: WINDOWS SE | E17: 1365.18 | J17: 1365.18 | M17: 36 | O17: 33,33
B18: 159910001 | C18: 01/10/1999 | D18: LICENCE TOSC | E18: 1219.59 | J18: 1219.59 | M18: 36 | O18: 33,33
A19: Total du Compte 28 | D19: 0500000 312 353,07 | F19: 0 | G19: 0 | H19: 0 | J19: 0 | K19: 312353.07 | P19: 0,00 | T19: 0,00 | V19: 0,00
A20: 280700000 | B20: 78901001 | C20: 01/01/1989 | D20: Fonds de comm | E20: 190561.27 | J20: 190561.27 | M20: 60 | O20: 20,00
A21: Total du Compte 28 | D21: 0700000 190 561,27 | F21: 0 | G21: 0 | H21: 0 | J21: 0 | K21: 190561.27 | P21: 0,00 | T21: 0,00 | V21: 0,00
A22: 281540000 | B22: 600006002 | C22: 23/06/2000 | D22: KARDEX (stock | E22: 35825.52 | H22: 6410 | K22: 35825.52 | M22: 120 | O22: 10,00
B23: 600008001 | C23: 02/08/2000 | D23: STATION SOU | E23: 329.29 | K23: 329.29 | M23: 120 | O23: 10,00
B24: 600009001 | C24: 21/09/2000 | D24: MILLIVOLTMET | E24: 4036.1 | K24: 4036.1 | M24: 120 | O24: 10,00
B25: 600009002 | C25: 13/09/2000 | D25: FREQUENCEM | E25: 2574.5 | K25: 2574.5 | M25: 120 | O25: 10,00
B26: 600011001 | C26: 30/11/2000 | D26: BANC TEST DA | E26: 10100 | K26: 10100 | M26: 120 | O26: 10,00
B27: 600101001 | C27: 10/01/2001 | D27: AUTOLAVEUSE | E27: 7701.73 | K27: 7701.73 | M27: 120 | O27: 10,00
B28: 600504001 | C28: 27/04/2005 | D28: ANALYSEUR D | E28: 13958 | K28: 13958 | M28: 120 | O28: 10,00
B29: 600505001 | C29: 19/05/2005 | D29: SONDE DE PUI | E29: 1195 | K29: 1195 | M29: 120 | O29: 10,00
B30: 600511001 | C30: 04/11/2005 | D30: STATION AIR C | E30: 995 | K30: 995 | M30: 120 | O30: 10,00
B31: 600511002 | C31: 21/11/2005 | D31: CENTRALE AIR | E31: 6410 | M31: 120 | O31: 10,00
B32: 600601001 | C32: 31/01/2006 | D32: OSCILLOSCOP | E32: 1628.9 | K32: 1628.9 | M32: 120 | O32: 10,00
B33: 600803001 | C33: 12/03/2008 | D33: ANALYSEUR A | E33: 5460 | K33: 5460 | M33: 120 | O33: 10,00
B34: 600809001 | C34: 25/09/2008 | D34: PRESSE A BAL | E34: 8000 | K34: 8000 | M34: 120 | O34: 10,00
A35: SOUS-TOTAL GENERAL | E35: 601 128,38 | F35: 0,00 | G35: 0,00 | H35: 0,00 | J35: 6 410,00 | K35: 594 718,38 | P35: 0,00 | T35: 0,00 | V35: 0,00
C38: Date Amort. | F38: mort. | G38: Diminutions | K38: Cumul Amort. | M38: Durée Amort. | P38: Taux | S38: Valeur amortissement de la période
G39: Sur Ventes | H39: Sur Sorties | J39: Antérieures | M39: Pér | N39: Tot | O39: Rest | S39: Linéaire | T39: Dégressif | V39: Exceptionnel
B40: 600902001 | C40: 19/02/2009 | D40: ETUVE 14L UN | E40: 734 | J40: 734 | N40: 120 | P40: 10,00
B41: 601111001 | C41: 25/11/2011 | D41: GENERATEUR | E41: 9101.37 | F41: 898.65 | J41: 10000.02 | M41: 11 | N41: 120 | P41: 10,00 | S41: 898.65
B42: 601112001 | C42: 19/12/2011 | D42: ANALYSEUR D | E42: 13979.36 | F42: 1492 | J42: 15471.36 | M42: 12 | N42: 120 | P42: 10,00 | S42: 1492
B43: 601212001 | C43: 14/12/2012 | D43: OUTILLAGES S | E43: 18410.89 | F43: 2287.3 | J43: 20698.19 | M43: 12 | N43: 120 | O43: 12 | P43: 10,00 | S43: 2287.3
B44: 601303001 | C44: 28/03/2013 | D44: KARDEX STOC | E44: 13510.03 | F44: 1740 | J44: 15250.03 | M44: 12 | N44: 120 | O44: 15 | P44: 10,00 | S44: 1740
B45: 601404001 | C45: 04/04/2014 | D45: METRO ASPIR | E45: 671.15 | F45: 99.5 | J45: 770.65 | M45: 12 | N45: 120 | O45: 28 | P45: 10,00 | S45: 99.5
B46: 601409001 | C46: 26/09/2014 | D46: ICMI MACHINE | E46: 36971.27 | F46: 5900.53 | J46: 42871.8 | M46: 12 | N46: 120 | O46: 33 | P46: 10,00 | S46: 5900.53
B47: 601411001 | C47: 17/11/2014 | D47: METTLER-TOL | E47: 1898.22 | F47: 310 | J47: 2208.22 | M47: 12 | N47: 120 | O47: 35 | P47: 10,00 | S47: 310
B48: 601506001 | C48: 28/06/2016 | D48: ROTOWASH A | E48: 2293.81 | F48: 508.5 | J48: 2802.31 | M48: 12 | N48: 120 | O48: 54 | P48: 10,00 | S48: 508.5
B49: 609402005 | C49: 28/02/1994 | D49: ANALYSEUR D | E49: 10176.43 | J49: 10176.43 | N49: 120 | P49: 10,00
B50: 609403002 | C50: 14/03/1994 | D50: SYNTHETISEU | E50: 11051.03 | J50: 11051.03 | N50: 120 | P50: 10,00
B51: 609501001 | C51: 27/01/1995 | D51: HM8011 MULTI | E51: 292.55 | J51: 292.55 | N51: 120 | P51: 10,00
B52: 609601002 | C52: 05/01/1996 | D52: BANC DE TEST | E52: 13555.77 | J52: 13555.77 | N52: 120 | P52: 10,00
B53: 609601003 | C53: 05/01/1996 | D53: VOLTMETRE H | E53: 3751.77 | J53: 3751.77 | N53: 120 | P53: 10,00
B54: 609609001 | C54: 19/09/1996 | D54: STOCKEUR RO | E54: 24086.94 | J54: 24086.94 | N54: 120 | P54: 10,00
B55: 609703001 | C55: 27/03/1997 | D55: BANDEROLEU | E55: 7154.02 | J55: 7154.02 | N55: 120 | P55: 10,00
B56: 609712001 | C56: 10/12/1997 | D56: BASCULE KBI A | E56: 3728.14 | J56: 3728.14 | N56: 120 | P56: 10,00
B57: 609801003 | C57: 05/01/1998 | D57: STOCKEUR RO | E57: 25230.31 | J57: 25230.31 | N57: 120 | P57: 10,00
B58: 609801005 | C58: 05/01/1998 | D58: OSCILLO/MULT | E58: 1355.52 | J58: 1355.52 | N58: 120 | P58: 10,00
B59: 609801006 | C59: 08/01/1998 | D59: BANC DE TEST | E59: 14391.19 | J59: 14391.19 | N59: 120 | P59: 10,00
B60: 609801007 | C60: 08/01/1998 | D60: DESSOUDEUR | E60: 1012.87 | J60: 1012.87 | N60: 120 | P60: 10,00
... B62: 609802002 | C62: 18/02/1998 | D62: FREQUENCEM | E62: 2580.35 | J62: 2580.35 | N62: 120 | P62: 10,00
A63: Total du Compte 28 | D63: 1540000 323 046,63 | F63: 13236.48 | G63: 0 | H63: 0 | J63: 6410 | K63: 329873.11 | P63: 13236.48 | T63: 0 | V63: 0
A64: 281810000 | B64: 5012007003 | C64: 23/07/2012 | D64: ARMOIRE ELEC | E64: 17121 | J64: 17121 | N64: 96 | O64: 12,50
B65: 501207002 | C65: 18/07/2012 | D65: PLATE DE FOR | E65: 32150 | J65: 32150 | N65: 96 | O65: 12,50
B66: 501207004 | C66: 31/07/2012 | D66: CLIMATISATIO | E66: 22000 | J66: 22000 | N66: 96 | O66: 12,50
B67: 501302001 | C67: 14/02/2013 | D67: GOUBE TRAVA | E67: 5217.3 | F67: 79.83 | J67: 5297.13 | M67: 2 | N67: 96 | O67: 12,50 | S67: 79.83
B68: 501304001 | C68: 08/04/2013 | D68: GOUBE TRAVA | E68: 3076.92 | F68: 105.73 | J68: 3182.65 | M68: 4 | N68: 96 | O68: 12,50 | S68: 105.73
A69: SOUS-TOTAL GENERAL | E69: 905526.19 | F69: 13422.04 | G69: 0 | H69: 0 | J69: 6410 | K69: 912538.23 | P69: 13422.04 | T69: 0 | V69: 0
C72: Date Amort. | F72: mort. | G72: Diminutions | K72: Cumul Amort. | M72: Durée Amort. | P72: Taux | S72: Valeur amortissement de la période
G73: Sur Ventes | H73: Sur Sorties | J73: Antérieures | M73: Pér | N73: Tot | O73: Rest | S73: Linéaire | T73: Dégressif | V73: Exceptionnel
B74: 501304002 | C74: 30/04/2013 | D74: BUGS CABLAG | E74: 3159.14 | F74: 134.21 | J74: 3293.35 | M74: 4 | N74: 96 | P74: 12,50 | S74: 134.21
B75: 501305001 | C75: 22/05/2013 | D75: TECHNISOLS F | E75: 6064.23 | F75: 307.65 | J75: 6371.88 | M75: 5 | N75: 96 | P75: 12,50 | S75: 307.65
B76: 501305002 | C76: 23/05/2013 | D76: COMTE ISOLAT | E76: 17361.51 | F76: 887.45 | J76: 18248.96 | M76: 5 | N76: 96 | P76: 12,50 | S76: 887.45
B77: 501305003 | C77: 31/05/2013 | D77: HOYEZ POSE | E77: 60692.14 | F77: 3286.55 | J77: 63978.69 | M77: 5 | N77: 96 | P77: 12,50 | S77: 3286.55
B78: 501305004 | C78: 31/05/2013 | D78: PIRES MACON | E78: 16781.27 | F78: 908.73 | J78: 17690 | M78: 5 | N78: 96 | P78: 12,50 | S78: 908.73
B79: 501305005 | C79: 31/05/2013 | D79: DELCLOY AME | E79: 4655.12 | F79: 252.08 | J79: 4907.2 | M79: 5 | N79: 96 | P79: 12,50 | S79: 252.08
B80: 501305006 | C80: 31/05/2013 | D80: GOUBE ELECT | E80: 31498.92 | F80: 1705.69 | J80: 33204.61 | M80: 5 | N80: 96 | P80: 12,50 | S80: 1705.69
B81: 501305007 | C81: 31/05/2013 | D81: ICF SECURITE | E81: 23360.06 | F81: 1264.94 | J81: 24625 | M81: 5 | N81: 96 | P81: 12,50 | S81: 1264.94
B82: 501306001 | C82: 01/06/2013 | D82: SMS-MPI CAME | E82: 2964.17 | F82: 162.83 | J82: 3127 | M82: 5 | N82: 96 | P82: 12,50 | S82: 162.83
B83: 501306002 | C83: 12/06/2013 | D83: TECHNISOLS F | E83: 6043.5 | F83: 354.99 | J83: 6398.49 | M83: 6 | N83: 96 | P83: 12,50 | S83: 354.99
B84: 501306003 | C84: 20/06/2013 | D84: GUEGAN AMEN | E84: 11924.37 | F84: 737.13 | J84: 12661.5 | M84: 6 | N84: 96 | P84: 12,50 | S84: 737.13
B85: 501306004 | C85: 30/06/2013 | D85: ARMOIRES AC | E85: 4566.04 | F85: 299.96 | J85: 4866 | M85: 6 | N85: 96 | P85: 12,50 | S85: 299.96
... B96: 501311002 | C96: 06/11/2013 | D96: QUALIFERM RI | E96: 3353.17 | F96: 396.83 | J96: 3750 | M96: 11 | N96: 96 | P96: 12,50 | S96: 396.83
B97: 501402001 | C97: 28/02/2014 | D97: COMTE ISOLAT | E97: 15216.57 | F97: 2224.29 | J97: 17440.86 | M97: 12 | N97: 96 | O97: 2 | P97: 12,50 | S97: 2224.29
B98: 501403001 | C98: 05/03/2014 | D98: FERALCO RAY | E98: 3926.3 | F98: 575.08 | J98: 4501.38 | M98: 12 | N98: 96 | O98: 3 | P98: 12,50 | S98: 575.08
B99: 501403002 | C99: 11/03/2014 | D99: GOUBE SHOW | E99: 9968.11 | F99: 1463.54 | J99: 11431.65 | M99: 12 | N99: 96 | O99: 3 | P99: 12,50 | S99: 1463.54
B100: 501404001 | C100: 08/04/2014 | D100: GOUBE ELECT | E100: 8797.62 | F100: 1306.4 | J100: 10104.02 | M100: 12 | N100: 96 | O100: 4 | P100: 12,50 | S100: 1306.4
B101: 501405001 | C101: 02/05/2014 | D101: HACQUEL SANI | E101: 12682.41 | F101: 1901.84 | J101: 14584.25 | M101: 12 | N101: 96 | O101: 5 | P101: 12,50 | S101: 1901.84
B102: 501406001 | C102: 06/06/2014 | D102: VIDELIO ECRA | E102: 847.14 | F102: 128.89 | J102: 976.03 | M102: 12 | N102: 96 | O102: 6 | P102: 12,50 | S102: 128.89
B103: 501406002 | C103: 30/06/2014 | D103: POLYFROID CL | E103: 4164.38 | F103: 640 | J103: 4804.38 | M103: 12 | N103: 96 | O103: 6 | P103: 12,50 | S103: 640
A104: SOUS-TOTAL GENERAL | E104: 1390120.4 | F104: 53434.44 | G104: 0 | H104: 0 | J104: 6410 | K104: 1437144.9 | P104: 53434.44 | T104: 0 | V104: 0
C107: Date Amort. | F107: mort. | G107: Diminutions | K107: Cumul Amort. | M107: Durée Amort. | P107: Taux | S107: Valeur amortissement de la période
G108: Sur Ventes | H108: Sur Sorties | J108: Antérieures | M108: Pér | N108: Tot | O108: Rest | S108: Linéaire | T108: Dégressif | V108: Exceptionnel
B109: 501410001 | C109: 20/10/2014 | D109: PORTE RAPIDE | E109: 5218.11 | F109: 841.63 | J109: 6059.74 | M109: 12 | N109: 96 | O109: 10 | P109: 12,50 | S109: 841.63
B110: 501506001 | C110: 18/06/2015 | D110: ETS GUEGAN | E110: 2073.24 | F110: 374.25 | J110: 2447.49 | M110: 12 | N110: 96 | O110: 18 | P110: 12,50 | S110: 374.25
B111: 501511001 | C111: 10/11/2015 | D111: GOUBE ALIME | E111: 2345.99 | F111: 456.2 | J111: 2802.19 | M111: 12 | N111: 96 | O111: 23 | P111: 12,50 | S111: 456.2
B112: 501606001 | C112: 29/06/2016 | D112: GR VISION RE | E112: 3651.64 | F112: 810 | J112: 4461.64 | M112: 12 | N112: 96 | O112: 30 | P112: 12,50 | S112: 810
B113: 501607001 | C113: 29/07/2016 | D113: POLYFROID C | E113: 2716.11 | F113: 613.64 | J113: 3329.75 | M113: 12 | N113: 96 | O113: 31 | P113: 12,50 | S113: 613.64
B114: 501610001 | C114: 31/10/2016 | D114: POLYFROID C | E114: 1800.68 | F114: 431.88 | J114: 2232.56 | M114: 12 | N114: 96 | O114: 34 | P114: 12,50 | S114: 431.88
B115: 501903001 | C115: 12/03/2019 | D115: POLYFROID CL | E115: 1126.3 | F115: 622.88 | J115: 1749.18 | M115: 12 | N115: 96 | O115: 63 | P115: 12,50 | S115: 622.88
B116: 501903002 | C116: 27/03/2019 | D116: KARDEX DEPL | E116: 1733.99 | F116: 981.25 | J116: 2715.24 | M116: 12 | N116: 96 | O116: 63 | P116: 12,50 | S116: 981.25
B117: 501903003 | C117: 14/03/2019 | D117: ESPACE CLOIS | E117: 2236.53 | F117: 1240.63 | J117: 3477.16 | M117: 12 | N117: 96 | O117: 63 | P117: 12,50 | S117: 1240.63
B118: 501903004 | C118: 29/03/2019 | D118: ENT GOUBE Tr | E118: 1030.56 | F118: 585 | J118: 1615.56 | M118: 12 | N118: 96 | O118: 63 | P118: 12,50 | S118: 585
...
