Workbook

Sheet complet
I1: LISTE DES AMORTISSEMENTS DE SIMULATION | O1: L.54162935 V.3.22 | R1: PAGE | T1: 1
A2: Période éditée de 01/01/2021 à 31/12/2021 | O2: DATE 09/12/2021
A3: Référence | B3: N° Compte | C3: Libellé | D3: Durée | E3: Type | F3: Base Immobilisation | G3: Date Amort. | H3: Cumul Antérieur Amts | J3: Diminution | K3: Montant Amort. | L3: Montant Amort. | M3: Montant Amort. | N3: Montant Amort. | P3: Montant Amort. | Q3: Cumul Amort. | S3: Résiduelle
K4: 31/12/2021
A5: 78901001 | B5: 280700000 | C5: Fonds de commerce | D5: 20,00 | E5: L | F5: 190561.27 | G5: =VLOOKUP(A5,'avec dates'!$B5:$C247,2,FALSE) -> 01/01/1989 | H5: 190561.27 | P5: 190561.27
A6: 150002001 | B6: 280500000 | C6: SERVEUR SAGE (baert) | D6: 33,33 | E6: L | F6: 533.57 | G6: =VLOOKUP(A6,'avec dates'!$B6:$C248,2,FALSE) -> 23/02/2000 | H6: 533.57 | P6: 533.57
A7: 150104001 | B7: 280500000 | C7: LOGICIEL TOSCANE (ba | D7: 33,33 | E7: L | F7: 1387.29 | G7: =VLOOKUP(A7,'avec dates'!$B7:$C249,2,FALSE) -> 18/04/2001 | H7: 1387.29 | P7: 1387.29
A8: 150104002 | B8: 280500000 | C8: MAJ OBI GESTION V4.10 | D8: 33,33 | E8: L | F8: 457.35 | G8: =VLOOKUP(A8,'avec dates'!$B8:$C250,2,FALSE) -> 18/04/2001 | H8: 457.35 | P8: 457.35
A9: 151011001 | B9: 280500000 | C9: PROJET JDE | D9: 20,00 | E9: L | F9: 238419.52 | G9: =VLOOKUP(A9,'avec dates'!$B9:$C251,2,FALSE) -> 11/11/2010 | H9: 238419.52 | P9: 238419.52
A10: 151011002 | B10: 280500000 | C10: PPROJET JDE | D10: 20,00 | E10: L | F10: 48882.83 | G10: =VLOOKUP(A10,'avec dates'!$B10:$C252,2,FALSE) -> 18/11/2010 | H10: 48882.83 | P10: 48882.83
A11: 151110001 | B11: 280500000 | C11: LOGICIEL PRINT MACHI | D11: 20,00 | E11: L | F11: 11290.25 | G11: =VLOOKUP(A11,'avec dates'!$B11:$C253,2,FALSE) -> 26/10/2011 | H11: 11290.25 | P11: 11290.25
A12: 151202001 | B12: 280500000 | C12: MS WIN SERVE 2008 (inf | D12: 33,33 | E12: L | F12: 520.49 | G12: =VLOOKUP(A12,'avec dates'!$B12:$C254,2,FALSE) -> 29/02/2012 | H12: 520.49 | P12: 520.49
A13: 151306001 | B13: 280500000 | C13: ESSENTIALS INSIGHT C | D13: 33,33 | E13: L | F13: 1676 | G13: =VLOOKUP(A13,'avec dates'!$B13:$C255,2,FALSE) -> 30/06/2013 | H13: 1676 | P13: 1676
A14: 151306001 | B14: 280500000 | C14: SOFTCHOICE LICENCES | D14: 33,33 | E14: L | F14: 4414 | G14: =VLOOKUP(A14,'avec dates'!$B14:$C256,2,FALSE) -> 30/06/2013 | H14: 4414 | P14: 4414
A15: 151504001 | B15: 280500000 | C15: GIS LOGICIELS | D15: 33,33 | E15: L | F15: 2187 | G15: =VLOOKUP(A15,'avec dates'!$B15:$C257,2,FALSE) -> 29/04/2015 | H15: 2187 | P15: 2187
A16: 159908001 | B16: 280500000 | C16: WINDOWS SERVER (coh | D16: 33,33 | E16: L | F16: 1365.18 | G16: =VLOOKUP(A16,'avec dates'!$B16:$C258,2,FALSE) -> 27/08/1999 | H16: 1365.18 | P16: 1365.18
... A19: 201104001 | B19: 281850000 | C19: DALLE TACTILE DE DEM | D19: 33,33 | E19: L | F19: 2870 | G19: =VLOOKUP(A19,'avec dates'!$B19:$C261,2,FALSE) -> 19/04/2011 | H19: 2870 | P19: 2870
A20: 201811001 | B20: 281850000 | C20: DOUBLE Q XS version | D20: 20,00 | E20: L | F20: 11636.11 | G20: =VLOOKUP(A20,'avec dates'!$B20:$C262,2,FALSE) -> 01/01/2019 | H20: 4654.44 | K20: 2327.22 | P20: 6981.66 | S20: 4654.45
A21: 201812001 | B21: 281850000 | C21: DOUBLE Q project manag | D21: 20,00 | E21: L | F21: 21082.96 | G21: =VLOOKUP(A21,'avec dates'!$B21:$C263,2,FALSE) -> 01/01/2019 | H21: 8433.18 | K21: 4216.59 | P21: 12649.77 | S21: 8433.19
A22: 201812002 | B22: 281850000 | C22: DOUBLE Q XS version | D22: 20,00 | E22: L | F22: 12043.1 | G22: =VLOOKUP(A22,'avec dates'!$B22:$C264,2,FALSE) -> 01/01/2019 | H22: 4817.24 | K22: 2408.62 | P22: 7225.86 | S22: 4817.24
A23: 201905001 | B23: 281850000 | C23: DOUBLE Q presentoir ma | D23: 20,00 | E23: L | F23: 55315.05 | G23: =VLOOKUP(A23,'avec dates'!$B23:$C265,2,FALSE) -> 15/05/2019 | H23: 18064.53 | K23: 11063.01 | P23: 29127.54 | S23: 26187.51
A24: 201909001 | B24: 281850000 | C24: DOUBLE Q presentoire m | D24: 20,00 | E24: L | F24: 8441.32 | G24: =VLOOKUP(A24,'avec dates'!$B24:$C266,2,FALSE) -> 17/09/2019 | H24: 2178.55 | K24: 1688.26 | P24: 3866.81 | S24: 4574.51
A25: 202003001 | B25: 281850000 | C25: DISPLAY SOLUTION F19 | D25: 33,33 | E25: L | F25: 16948.7 | G25: =VLOOKUP(A25,'avec dates'!$B25:$C267,2,FALSE) -> 10/03/2020 | H25: 4584.49 | K25: 5649.57 | P25: 10234.06 | S25: 6714.64
A26: 202005001 | B26: 281850000 | C26: ZIEGLER frais dedouane | D26: 33,33 | E26: L | F26: 1024 | G26: =VLOOKUP(A26,'avec dates'!$B26:$C268,2,FALSE) -> 27/05/2020 | H26: 204.24 | K26: 341.33 | P26: 545.57 | S26: 478.43
A27: 202006001 | B27: 281850000 | C27: DISPLAY SOLUTION F20 | D27: 33,33 | E27: L | F27: 32538.7 | G27: =VLOOKUP(A27,'avec dates'!$B27:$C269,2,FALSE) -> 18/05/2020 | H27: 6756.67 | K27: 10846.23 | P27: 17602.9 | S27: 14935.8
A28: 202102001 | B28: 281850000 | C28: DISPLAY 1000 | D28: 33,33 | E28: L | F28: 39693.48 | G28: =VLOOKUP(A28,'avec dates'!$B28:$C270,2,FALSE) -> 15/02/2021 | K28: 11599.92 | P28: 11599.92 | S28: 28093.56
A29: 202102002 | B29: 281850000 | C29: MODULE PRODUCT RIS | D29: 33,33 | E29: L | F29: 6538 | G29: =VLOOKUP(A29,'avec dates'!$B29:$C271,2,FALSE) -> 21/06/2021 | K29: 1158.33 | P29: 1158.33 | S29: 5379.67
A30: 202102003 | B30: 281850000 | C30: Refresh kit fnac fr Alrec | D30: 33,33 | E30: L | F30: 13747 | G30: =VLOOKUP(A30,'avec dates'!$B30:$C272,2,FALSE) -> 29/01/2021 | K30: 4230.81 | P30: 4230.81 | S30: 9516.19
A31: 202102004 | B31: 281850000 | C31: Installation kit fnac Alrec | D31: 33,33 | E31: L | F31: 4381 | G31: =VLOOKUP(A31,'avec dates'!$B31:$C273,2,FALSE) -> 30/06/2021 | K31: 740.17 | P31: 740.17 | S31: 3640.83
A32: 5012007003 | B32: 281810000 | C32: ARMOIRE ELECTRIQUE | D32: 12,50 | E32: L | F32: 17121 | G32: =VLOOKUP(A32,'avec dates'!$B32:$C274,2,FALSE) -> 23/07/2012 | H32: 17121 | P32: 17121
A33: 501207002 | B33: 281810000 | C33: PLATE DE FORME DE ST | D33: 12,50 | E33: L | F33: 32150 | G33: =VLOOKUP(A33,'avec dates'!$B33:$C275,2,FALSE) -> 18/07/2012 | H33: 32150 | P33: 32150
A34: 501207004 | B34: 281810000 | C34: CLIMATISATION BUREA | D34: 12,50 | E34: L | F34: 22000 | G34: =VLOOKUP(A34,'avec dates'!$B34:$C276,2,FALSE) -> 31/07/2012 | H34: 22000 | P34: 22000
A35: SOUS-TOTAL GENERAL | F35: 801196.43 | G35: =VLOOKUP(A35,'avec dates'!$B35:$C277,2,FALSE) -> #N/A | H35: 627500.35 | J35: 0 | K35: 56270.06 | L35: 0 | M35: 0 | N35: 0 | P35: =SUM(P5:R34) -> 683770.41 | S35: 117426.02
G36: =VLOOKUP(A36,'avec dates'!$B36:$C278,2,FALSE) -> #N/A
G37: =VLOOKUP(A37,'avec dates'!$B37:$C279,2,FALSE) -> #N/A
G38: =VLOOKUP(A38,'avec dates'!$B38:$C280,2,FALSE) -> #N/A
A39: Référence | B39: N° Compte | C39: Libellé | D39: Durée | E39: Type | F39: Base Immobilisation | G39: =VLOOKUP(A39,'avec dates'!$B39:$C281,2,FALSE) -> #N/A | H39: Cumul Antérieur | J39: Diminution | K39: Montant Amort. | L39: Montant Amort. | M39: Montant Amort. | N39: Montant Amort. | P39: Montant Amort. | Q39: Cumul Amort. | S39: Résiduelle
G40: =VLOOKUP(A40,'avec dates'!$B40:$C282,2,FALSE) -> #N/A | K40: 31/12/2021
A41: 501302001 | B41: 281810000 | C41: GOUBE TRAVAUX ELEC | D41: 12,50 | E41: L | F41: 5297.13 | G41: =VLOOKUP(A41,'avec dates'!$B41:$C283,2,FALSE) -> 14/02/2013 | H41: 5217.3 | J41: 79.83 | P41: 5297.13
A42: 501304001 | B42: 281810000 | C42: GOUBE TRAVAUX ELEC | D42: 12,50 | E42: L | F42: 3182.65 | G42: =VLOOKUP(A42,'avec dates'!$B42:$C284,2,FALSE) -> 08/04/2013 | H42: 3076.92 | J42: 105.73 | P42: 3182.65
...

Sheet avec dates
I1: LISTE DES COMPTES D'AMORTISSEMENTS | Q1: L.54162935 V.3.22 | U1: PAGE | W1: 1
A2: Période éditée de 01/01/2021 à 31/12/2021 | Q2: DATE 07/10/2021
A3: ilisations exclues : 0 - Sans Non Amort. - Sans Simul | R3: 10:29
B5: Référence | C5: Date Amort. | F5: mort. | G5: Diminutions | K5: Cumul Amort. | M5: Durée Amort. | P5: Taux | S5: Valeur amortissement de la période
B6: référence | G6: Sur Ventes | H6: Sur Sorties | J6: Antérieures | M6: Pér | N6: Tot | O6: Rest | S6: Linéaire | T6: Dégressif | V6: Exceptionnel
A7: 280500000 | B7: 150002001 | C7: 23/02/2000 | D7: SERVEUR SAG | E7: 533.57 | J7: 533.57 | M7: 36 | O7: 33,33
B8: 150104001 | C8: 18/04/2001 | D8: LOGICIEL TOS | E8: 1387.29 | J8: 1387.29 | M8: 36 | O8: 33,33
B9: 150104002 | C9: 18/04/2001 | D9: MAJ OBI GESTI | E9: 457.35 | J9: 457.35 | M9: 36 | O9: 33,33
B10: 151011001 | C10: 11/11/2010 | D10: PROJET JDE | E10: 238419.52 | J10: 238419.52 | M10: 60 | O10: 20,00
B11: 151011002 | C11: 18/11/2010 | D11: PPROJET JDE | E11: 48882.83 | J11: 48882.83 | M11: 60 | O11: 20,00
B12: 151110001 | C12: 26/10/2011 | D12: LOGICIEL PRIN | E12: 11290.25 | J12: 11290.25 | M12: 60 | O12: 20,00
B13: 151202001 | C13: 29/02/2012 | D13: MS WIN SERVE | E13: 520.49 | J13: 520.49 | M13: 36 | O13: 33,33
B14: 151306001 | C14: 30/06/2013 | D14: ESSENTIALS IN | E14: 1676 | J14: 1676 | M14: 36 | O14: 33,33
B15: 151405001 | C15: 26/05/2014 | D15: SOFTCHOICE L | E15: 4414 | J15: 4414 | M15: 36 | O15: 33,33
B16: 151504001 | C16: 29/04/2015 | D16: GIS LOGICIELS | E16: 2187 | J16: 2187 | M16: 36 | O16: 33,33
B17: 159908001 | C17: 27/08/1999 | D17: WINDOWS SE | E17: 1365.18 | J17: 1365.18 | M17: 36 | O17: 33,33
B18: 159910001 | C18: 01/10/1999 | D18: LICENCE TOSC | E18: 1219.59 | J18: 1219.59 | M18: 36 | O18: 33,33
A19: Total du Compte 28 | D19: 0500000 312 353,07 | F19: 0 | G19: 0 | H19: 0 | J19: 0 | K19: 312353.07 | P19: 0,00 | T19: 0,00 | V19: 0,00
A20: 280700000 | B20: 78901001 | C20: 01/01/1989 | D20: Fonds de comm | E20: 190561.27 | J20: 190561.27 | M20: 60 | O20: 20,00
A21: Total du Compte 28 | D21: 0700000 190 561,27 | F21: 0 | G21: 0 | H21: 0 | J21: 0 | K21: 190561.27 | P21: 0,00 | T21: 0,00 | V21: 0,00
A22: 281540000 | B22: 600006002 | C22: 23/06/2000 | D22: KARDEX (stock | E22: 35825.52 | H22: 6410 | K22: 35825.52 | M22: 120 | O22: 10,00
B23: 600008001 | C23: 02/08/2000 | D23: STATION SOU | E23: 329.29 | K23: 329.29 | M23: 120 | O23: 10,00
B24: 600009001 | C24: 21/09/2000 | D24: MILLIVOLTMET | E24: 4036.1 | K24: 4036.1 | M24: 120 | O24: 10,00
B25: 600009002 | C25: 13/09/2000 | D25: FREQUENCEM | E25: 2574.5 | K25: 2574.5 | M25: 120 | O25: 10,00
B26: 600011001 | C26: 30/11/2000 | D26: BANC TEST DA | E26: 10100 | K26: 10100 | M26: 120 | O26: 10,00
B27: 600101001 | C27: 10/01/2001 | D27: AUTOLAVEUSE | E27: 7701.73 | K27: 7701.73 | M27: 120 | O27: 10,00
B28: 600504001 | C28: 27/04/2005 | D28: ANALYSEUR D | E28: 13958 | K28: 13958 | M28: 120 | O28: 10,00
B29: 600505001 | C29: 19/05/2005 | D29: SONDE DE PUI | E29: 1195 | K29: 1195 | M29: 120 | O29: 10,00
B30: 600511001 | C30: 04/11/2005 | D30: STATION AIR C | E30: 995 | K30: 995 | M30: 120 | O30: 10,00
B31: 600511002 | C31: 21/11/2005 | D31: CENTRALE AIR | E31: 6410 | M31: 120 | O31: 10,00
B32: 600601001 | C32: 31/01/2006 | D32: OSCILLOSCOP | E32: 1628.9 | K32: 1628.9 | M32: 120 | O32: 10,00
B33: 600803001 | C33: 12/03/2008 | D33: ANALYSEUR A | E33: 5460 | K33: 5460 | M33: 120 | O33: 10,00
B34: 600809001 | C34: 25/09/2008 | D34: PRESSE A BAL | E34: 8000 | K34: 8000 | M34: 120 | O34: 10,00
A35: SOUS-TOTAL GENERAL | E35: 601 128,38 | F35: 0,00 | G35: 0,00 | H35: 0,00 | J35: 6 410,00 | K35: 594 718,38 | P35: 0,00 | T35: 0,00 | V35: 0,00
C38: Date Amort. | F38: mort. | G38: Diminutions | K38: Cumul Amort. | M38: Durée Amort. | P38: Taux | S38: Valeur amortissement de la période
G39: Sur Ventes | H39: Sur Sorties | J39: Antérieures | M39: Pér | N39: Tot | O39: Rest | S39: Linéaire | T39: Dégressif | V39: Exceptionnel
B40: 600902001 | C40: 19/02/2009 | D40: ETUVE 14L UN | E40: 734 | J40: 734 | N40: 120 | P40: 10,00
B41: 601111001 | C41: 25/11/2011 | D41: GENERATEUR | E41: 9101.37 | F41: 898.65 | J41: 10000.02 | M41: 11 | N41: 120 | P41: 10,00 | S41: 898.65
B42: 601112001 | C42: 19/12/2011 | D42: ANALYSEUR D | E42: 13979.36 | F42: 1492 | J42: 15471.36 | M42: 12 | N42: 120 | P42: 10,00 | S42: 1492
B43: 601212001 | C43: 14/12/2012 | D43: OUTILLAGES S | E43: 18410.89 | F43: 2287.3 | J43: 20698.19 | M43: 12 | N43: 120 | O43: 12 | P43: 10,00 | S43: 2287.3
...
