Workbook
Name ap_demain: Feuil1!$A$6
Name Ce_jour: Feuil1!$A$4
Name demain: Feuil1!$A$5

Sheet Feuil1
C1: Anniversaire imminent
A4: =TODAY() -> 44545 | C4: Aujourd'hui
A5: =Ce_jour+1 -> 44546 | J5: Je recherche la formule qui prendra l'information le prénom, le nom et e mail des contacts sur la feuille 2
A6: =Ce_jour+2 -> 44547 | J6: et l'affichera ici dans ce tableau en fonction de leurs anniversaires.
J8: Exemple : si nous sommes le 15/12/2021 et c'est l'anniversaire de Caroline, elle devra apparaitre automatiquement
J9: sous aujourd'hui. Et de me^me poir les anniversaires avenir.
C10: Demain
J11: Merci pour votre aide.
C16: Après-demain

Sheet Feuil2
A4: Prénom | B4: Nom | C4: Date de naissance | D4: Date d'anniversaire | E4: Anniversaire | F4: Mail
A5: Paul | B5: Pomme | C5: 18994 | D5: =DATE(YEAR(Ce_jour),MONTH(Feuil2!C5),DAY(Feuil2!C5)) -> 44197 | E5: =IF(Ce_jour=Feuil2!D5,"Joyeux anniversaire","") | F5: Paul_pomme@modèl.fr
A6: Capucine | B6: Orange | C6: 36876 | D6: =DATE(YEAR(Ce_jour),MONTH(Feuil2!C6),DAY(Feuil2!C6)) -> 44546 | E6: =IF(Ce_jour=Feuil2!D6,"Joyeux anniversaire","") | F6: c;orange@modèl.fr
A7: Mario | B7: Bleuet | C7: 35757 | D7: =DATE(YEAR(Ce_jour),MONTH(Feuil2!C7),DAY(Feuil2!C7)) -> 44523 | E7: =IF(Ce_jour=Feuil2!D7,"Joyeux anniversaire","") | F7: Mr_mario@modèl.fr
A8: Alexandre | B8: Carambole | D8: =DATE(YEAR(Ce_jour),MONTH(Feuil2!C8),DAY(Feuil2!C8)) -> 44196 | E8: =IF(Ce_jour=Feuil2!D8,"Joyeux anniversaire","") | F8: alexandracarambole@modèl.fr
A9: Joelle | B9: Hibiscus | C9: 38561 | D9: =DATE(YEAR(Ce_jour),MONTH(Feuil2!C9),DAY(Feuil2!C9)) -> 44405 | E9: =IF(Ce_jour=Feuil2!D9,"Joyeux anniversaire","") | F9: bijoe@modèl.fr
A10: Caroline | B10: Rose | C10: 27013 | D10: =DATE(YEAR(Ce_jour),MONTH(Feuil2!C10),DAY(Feuil2!C10)) -> 44545 | E10: =IF(Ce_jour=Feuil2!D10,"Joyeux anniversaire","") -> Joyeux anniversaire | F10: caroline@modèl.fr
A11: Angel | B11: Pensée | C11: 29206 | D11: =DATE(YEAR(Ce_jour),MONTH(Feuil2!C11),DAY(Feuil2!C11)) -> 44547 | E11: =IF(Ce_jour=Feuil2!D11,"Joyeux anniversaire","") | F11: desse_angel@modèl.fr
A12: François | B12: Acrobate | C12: 18612 | D12: =DATE(YEAR(Ce_jour),MONTH(Feuil2!C12),DAY(Feuil2!C12)) -> 44545 | E12: =IF(Ce_jour=Feuil2!D12,"Joyeux anniversaire","") -> Joyeux anniversaire | F12: acrobarte.F@modèl.fr
A13: Bénédicte | B13: Porte | C13: 30301 | D13: =DATE(YEAR(Ce_jour),MONTH(Feuil2!C13),DAY(Feuil2!C13)) -> 44546 | E13: =IF(Ce_jour=Feuil2!D13,"Joyeux anniversaire","") | F13: Bénédicte@modèl.fr
A16: Je ne comprend pas pourquoi le 31/12/2020 s'affiche alors que la cellule est vide
