Workbook
Name Actuel: '[1]Projet Personnel'!$H$11
Name Potentiel: '[1]Projet Personnel'!$C$11

Sheet 1
A1: AVOCAT | B1: Nom: | C1: A
B2: Prénom: | C2: B
A4: Thème 1 | B4: Les valeurs des associés
C5: Réponse
A6: Question 1 | B6: q1 | C6: oui
A7: Question 2 | B7: q2 | C7: oui
A8: Question 3 | B8: q3 | C8: non
A9: Question 4 | B9: q4 | C9: oui
A10: Question 5 | B10: q5 | C10: oui
A11: Question 6 | B11: q6 | C11: oui
A12: Question 7 | B12: q7 | C12: oui
A13: Question 8 | B13: q8 | C13: oui
A14: Question 9 | B14: q9 | C14: oui
A15: Question 10 | B15: q10 | C15: oui
A17: Thème 2 | B17: Les projets communs et visions stratégiques communes
C18: Réponse
A19: Question 11 | B19: q11 | C19: oui
A20: Question 12 | B20: q12 | C20: oui
A21: Question 13 | B21: q13 | C21: oui
A22: Question 14 | B22: q14 | C22: oui
A23: Question 15 | B23: q15 | C23: oui
A24: Question 16 | B24: q16 | C24: oui
A25: Question 17 | B25: q17 | C25: oui
A26: Question 18 | B26: q18 | C26: oui
A27: Question 19 | B27: q19 | C27: oui
A28: Question 20 | B28: q20 | C28: oui
A30: Thème 3 | B30: Partages des rôles et des responsabilités
C31: Réponse
A32: Question 21 | B32: q21 | C32: oui
A33: Question 22 | B33: q22 | C33: oui
A34: Question 23 | B34: q23 | C34: oui
A35: Question 24 | B35: q24 | C35: oui
A36: Question 25 | B36: q25 | C36: oui
A37: Question 26 | B37: q26 | C37: oui
A38: Question 27 | B38: q27 | C38: oui
A39: Question 28 | B39: q28 | C39: oui
A40: Question 29 | B40: q29 | C40: oui
A41: Question 30 | B41: q30 | C41: oui

Sheet 2
A1: AVOCAT | B1: Nom: | C1: t
B2: Prénom: | C2: t
A4: Thème 1 | B4: Les valeurs des associés
C5: Réponse
A6: Question 1 | B6: q1 | C6: oui
A7: Question 2 | B7: q2 | C7: oui
A8: Question 3 | B8: q3 | C8: non
A9: Question 4 | B9: q4 | C9: oui
A10: Question 5 | B10: q5 | C10: non
A11: Question 6 | B11: q6 | C11: oui
A12: Question 7 | B12: q7 | C12: oui
A13: Question 8 | B13: q8 | C13: oui
A14: Question 9 | B14: q9 | C14: oui
A15: Question 10 | B15: q10 | C15: oui
A17: Thème 2 | B17: Les projets communs et visions stratégiques communes
C18: Réponse
A19: Question 11 | B19: q11 | C19: oui
A20: Question 12 | B20: q12 | C20: oui
A21: Question 13 | B21: q13 | C21: oui
A22: Question 14 | B22: q14 | C22: oui
A23: Question 15 | B23: q15 | C23: oui
A24: Question 16 | B24: q16 | C24: oui
A25: Question 17 | B25: q17 | C25: oui
A26: Question 18 | B26: q18 | C26: oui
A27: Question 19 | B27: q19 | C27: oui
A28: Question 20 | B28: q20 | C28: oui
A30: Thème 3 | B30: Partages des rôles et des responsabilités
C31: Réponse
A32: Question 21 | B32: q21 | C32: oui
A33: Question 22 | B33: q22 | C33: oui
A34: Question 23 | B34: q23 | C34: oui
A35: Question 24 | B35: q24 | C35: oui
A36: Question 25 | B36: q25 | C36: oui
A37: Question 26 | B37: q26 | C37: oui
A38: Question 27 | B38: q27 | C38: oui
A39: Question 28 | B39: q28 | C39: oui
A40: Question 29 | B40: q29 | C40: oui
A41: Question 30 | B41: q30 | C41: oui

Sheet 3
A1: AVOCAT | B1: Nom: | C1: T
B2: Prénom: | C2: R
A4: Thème 1 | B4: Les valeurs des associés
C5: Réponse
A6: Question 1 | B6: q1 | C6: oui
A7: Question 2 | B7: q2 | C7: oui
A8: Question 3 | B8: q3 | C8: non
A9: Question 4 | B9: q4 | C9: oui
A10: Question 5 | B10: q5 | C10: oui
A11: Question 6 | B11: q6 | C11: oui
A12: Question 7 | B12: q7 | C12: oui
A13: Question 8 | B13: q8 | C13: oui
A14: Question 9 | B14: q9 | C14: oui
A15: Question 10 | B15: q10 | C15: oui
A17: Thème 2 | B17: Les projets communs et visions stratégiques communes
C18: Réponse
A19: Question 11 | B19: q11 | C19: oui
A20: Question 12 | B20: q12 | C20: oui
A21: Question 13 | B21: q13 | C21: oui
A22: Question 14 | B22: q14 | C22: oui
A23: Question 15 | B23: q15 | C23: oui
A24: Question 16 | B24: q16 | C24: oui
A25: Question 17 | B25: q17 | C25: oui
A26: Question 18 | B26: q18 | C26: oui
A27: Question 19 | B27: q19 | C27: oui
A28: Question 20 | B28: q20 | C28: oui
A30: Thème 3 | B30: Partages des rôles et des responsabilités
C31: Réponse
A32: Question 21 | B32: q21 | C32: oui
A33: Question 22 | B33: q22 | C33: oui
A34: Question 23 | B34: q23 | C34: oui
A35: Question 24 | B35: q24 | C35: oui
A36: Question 25 | B36: q25 | C36: oui
A37: Question 26 | B37: q26 | C37: oui
A38: Question 27 | B38: q27 | C38: oui
A39: Question 28 | B39: q28 | C39: oui
A40: Question 29 | B40: q29 | C40: oui
A41: Question 30 | B41: q30 | C41: oui

Sheet 4
A1: AVOCAT | B1: Nom: | C1: E
B2: Prénom: | C2: R
A4: Thème 1 | B4: Les valeurs des associés
C5: Réponse
A6: Question 1 | B6: q1 | C6: oui
A7: Question 2 | B7: q2 | C7: oui
A8: Question 3 | B8: q3 | C8: non
A9: Question 4 | B9: q4 | C9: oui
A10: Question 5 | B10: q5 | C10: oui
A11: Question 6 | B11: q6 | C11: non
A12: Question 7 | B12: q7 | C12: oui
A13: Question 8 | B13: q8 | C13: modéré
A14: Question 9 | B14: q9 | C14: oui
A15: Question 10 | B15: q10 | C15: oui
A17: Thème 2 | B17: Les projets communs et visions stratégiques communes
C18: Réponse
A19: Question 11 | B19: q11 | C19: oui
A20: Question 12 | B20: q12 | C20: oui
A21: Question 13 | B21: q13 | C21: oui
A22: Question 14 | B22: q14 | C22: oui
A23: Question 15 | B23: q15 | C23: modéré
A24: Question 16 | B24: q16 | C24: oui
A25: Question 17 | B25: q17 | C25: oui
A26: Question 18 | B26: q18 | C26: oui
A27: Question 19 | B27: q19 | C27: oui
A28: Question 20 | B28: q20 | C28: oui
A30: Thème 3 | B30: Partages des rôles et des responsabilités
C31: Réponse
A32: Question 21 | B32: q21 | C32: oui
A33: Question 22 | B33: q22 | C33: oui
A34: Question 23 | B34: q23 | C34: oui
A35: Question 24 | B35: q24 | C35: oui
A36: Question 25 | B36: q25 | C36: oui
A37: Question 26 | B37: q26 | C37: oui
A38: Question 27 | B38: q27 | C38: oui
A39: Question 28 | B39: q28 | C39: oui
A40: Question 29 | B40: q29 | C40: oui
A41: Question 30 | B41: q30 | C41: oui

Sheet 5
A1: AVOCAT | B1: Nom: | C1: E
B2: Prénom: | C2: R
A4: Thème 1 | B4: Les valeurs des associés
C5: Réponse
A6: Question 1 | B6: q1 | C6: oui
A7: Question 2 | B7: q2 | C7: oui
A8: Question 3 | B8: q3 | C8: non
A9: Question 4 | B9: q4 | C9: oui
A10: Question 5 | B10: q5 | C10: oui
A11: Question 6 | B11: q6 | C11: non
A12: Question 7 | B12: q7 | C12: oui
A13: Question 8 | B13: q8 | C13: modéré
A14: Question 9 | B14: q9 | C14: oui
A15: Question 10 | B15: q10 | C15: oui
A17: Thème 2 | B17: Les projets communs et visions stratégiques communes
C18: Réponse
A19: Question 11 | B19: q11 | C19: oui
A20: Question 12 | B20: q12 | C20: oui
A21: Question 13 | B21: q13 | C21: oui
A22: Question 14 | B22: q14 | C22: oui
A23: Question 15 | B23: q15 | C23: modéré
A24: Question 16 | B24: q16 | C24: oui
A25: Question 17 | B25: q17 | C25: oui
A26: Question 18 | B26: q18 | C26: oui
A27: Question 19 | B27: q19 | C27: oui
A28: Question 20 | B28: q20 | C28: oui
A30: Thème 3 | B30: Partages des rôles et des responsabilités
C31: Réponse
A32: Question 21 | B32: q21 | C32: oui
A33: Question 22 | B33: q22 | C33: oui
A34: Question 23 | B34: q23 | C34: oui
A35: Question 24 | B35: q24 | C35: oui
A36: Question 25 | B36: q25 | C36: oui
A37: Question 26 | B37: q26 | C37: oui
A38: Question 27 | B38: q27 | C38: oui
A39: Question 28 | B39: q28 | C39: oui
A40: Question 29 | B40: q29 | C40: oui
A41: Question 30 | B41: q30 | C41: oui

Sheet 6
A1: AVOCAT | B1: Nom: | C1: E
B2: Prénom: | C2: R
A4: Thème 1 | B4: Les valeurs des associés
C5: Réponse
A6: Question 1 | B6: q1 | C6: oui
A7: Question 2 | B7: q2 | C7: oui
A8: Question 3 | B8: q3 | C8: non
A9: Question 4 | B9: q4 | C9: oui
A10: Question 5 | B10: q5 | C10: oui
A11: Question 6 | B11: q6 | C11: non
A12: Question 7 | B12: q7 | C12: oui
A13: Question 8 | B13: q8 | C13: modéré
A14: Question 9 | B14: q9 | C14: oui
A15: Question 10 | B15: q10 | C15: oui
A17: Thème 2 | B17: Les projets communs et visions stratégiques communes
C18: Réponse
A19: Question 11 | B19: q11 | C19: oui
A20: Question 12 | B20: q12 | C20: oui
A21: Question 13 | B21: q13 | C21: oui
A22: Question 14 | B22: q14 | C22: oui
A23: Question 15 | B23: q15 | C23: modéré
A24: Question 16 | B24: q16 | C24: oui
A25: Question 17 | B25: q17 | C25: oui
A26: Question 18 | B26: q18 | C26: oui
A27: Question 19 | B27: q19 | C27: oui
A28: Question 20 | B28: q20 | C28: oui
A30: Thème 3 | B30: Partages des rôles et des responsabilités
C31: Réponse
A32: Question 21 | B32: q21 | C32: oui
A33: Question 22 | B33: q22 | C33: oui
A34: Question 23 | B34: q23 | C34: oui
A35: Question 24 | B35: q24 | C35: oui
A36: Question 25 | B36: q25 | C36: oui
A37: Question 26 | B37: q26 | C37: oui
A38: Question 27 | B38: q27 | C38: oui
A39: Question 28 | B39: q28 | C39: oui
A40: Question 29 | B40: q29 | C40: oui
A41: Question 30 | B41: q30 | C41: oui

Sheet 7
A1: AVOCAT | B1: Nom: | C1: E
B2: Prénom: | C2: R
A4: Thème 1 | B4: Les valeurs des associés
C5: Réponse
A6: Question 1 | B6: q1 | C6: modéré
A7: Question 2 | B7: q2 | C7: oui
A8: Question 3 | B8: q3 | C8: non
A9: Question 4 | B9: q4 | C9: oui
A10: Question 5 | B10: q5 | C10: oui
A11: Question 6 | B11: q6 | C11: non
A12: Question 7 | B12: q7 | C12: oui
A13: Question 8 | B13: q8 | C13: modéré
A14: Question 9 | B14: q9 | C14: oui
A15: Question 10 | B15: q10 | C15: oui
A17: Thème 2 | B17: Les projets communs et visions stratégiques communes
C18: Réponse
A19: Question 11 | B19: q11 | C19: oui
A20: Question 12 | B20: q12 | C20: oui
A21: Question 13 | B21: q13 | C21: oui
A22: Question 14 | B22: q14 | C22: oui
A23: Question 15 | B23: q15 | C23: modéré
A24: Question 16 | B24: q16 | C24: oui
A25: Question 17 | B25: q17 | C25: oui
A26: Question 18 | B26: q18 | C26: oui
A27: Question 19 | B27: q19 | C27: oui
A28: Question 20 | B28: q20 | C28: oui
A30: Thème 3 | B30: Partages des rôles et des responsabilités
C31: Réponse
A32: Question 21 | B32: q21 | C32: oui
A33: Question 22 | B33: q22 | C33: oui
A34: Question 23 | B34: q23 | C34: oui
A35: Question 24 | B35: q24 | C35: oui
A36: Question 25 | B36: q25 | C36: oui
A37: Question 26 | B37: q26 | C37: oui
A38: Question 27 | B38: q27 | C38: oui
A39: Question 28 | B39: q28 | C39: oui
A40: Question 29 | B40: q29 | C40: oui
A41: Question 30 | B41: q30 | C41: oui

Sheet 8
A1: AVOCAT | B1: Nom: | C1: E
B2: Prénom: | C2: R
A4: Thème 1 | B4: Les valeurs des associés
C5: Réponse
A6: Question 1 | B6: q1 | C6: oui
A7: Question 2 | B7: q2 | C7: oui
A8: Question 3 | B8: q3 | C8: non
A9: Question 4 | B9: q4 | C9: oui
A10: Question 5 | B10: q5 | C10: oui
A11: Question 6 | B11: q6 | C11: non
A12: Question 7 | B12: q7 | C12: oui
A13: Question 8 | B13: q8 | C13: modéré
A14: Question 9 | B14: q9 | C14: oui
A15: Question 10 | B15: q10 | C15: oui
A17: Thème 2 | B17: Les projets communs et visions stratégiques communes
C18: Réponse
A19: Question 11 | B19: q11 | C19: oui
A20: Question 12 | B20: q12 | C20: oui
A21: Question 13 | B21: q13 | C21: oui
A22: Question 14 | B22: q14 | C22: oui
A23: Question 15 | B23: q15 | C23: modéré
A24: Question 16 | B24: q16 | C24: oui
A25: Question 17 | B25: q17 | C25: oui
A26: Question 18 | B26: q18 | C26: oui
A27: Question 19 | B27: q19 | C27: oui
A28: Question 20 | B28: q20 | C28: oui
A30: Thème 3 | B30: Partages des rôles et des responsabilités
C31: Réponse
A32: Question 21 | B32: q21 | C32: oui
A33: Question 22 | B33: q22 | C33: oui
A34: Question 23 | B34: q23 | C34: oui
A35: Question 24 | B35: q24 | C35: oui
A36: Question 25 | B36: q25 | C36: oui
A37: Question 26 | B37: q26 | C37: oui
A38: Question 27 | B38: q27 | C38: oui
A39: Question 28 | B39: q28 | C39: oui
A40: Question 29 | B40: q29 | C40: oui
A41: Question 30 | B41: q30 | C41: oui

Sheet 9
A1: AVOCAT | B1: Nom: | C1: E
B2: Prénom: | C2: R
A4: Thème 1 | B4: Les valeurs des associés
C5: Réponse
A6: Question 1 | B6: q1 | C6: oui
A7: Question 2 | B7: q2 | C7: oui
A8: Question 3 | B8: q3 | C8: non
A9: Question 4 | B9: q4 | C9: oui
A10: Question 5 | B10: q5 | C10: oui
A11: Question 6 | B11: q6 | C11: non
A12: Question 7 | B12: q7 | C12: oui
A13: Question 8 | B13: q8 | C13: modéré
A14: Question 9 | B14: q9 | C14: oui
A15: Question 10 | B15: q10 | C15: oui
A17: Thème 2 | B17: Les projets communs et visions stratégiques communes
C18: Réponse
A19: Question 11 | B19: q11 | C19: oui
A20: Question 12 | B20: q12 | C20: oui
A21: Question 13 | B21: q13 | C21: oui
A22: Question 14 | B22: q14 | C22: oui
A23: Question 15 | B23: q15 | C23: modéré
A24: Question 16 | B24: q16 | C24: oui
A25: Question 17 | B25: q17 | C25: oui
A26: Question 18 | B26: q18 | C26: oui
A27: Question 19 | B27: q19 | C27: oui
A28: Question 20 | B28: q20 | C28: oui
A30: Thème 3 | B30: Partages des rôles et des responsabilités
C31: Réponse
A32: Question 21 | B32: q21 | C32: oui
A33: Question 22 | B33: q22 | C33: oui
A34: Question 23 | B34: q23 | C34: oui
A35: Question 24 | B35: q24 | C35: oui
A36: Question 25 | B36: q25 | C36: oui
A37: Question 26 | B37: q26 | C37: oui
A38: Question 27 | B38: q27 | C38: oui
A39: Question 28 | B39: q28 | C39: oui
A40: Question 29 | B40: q29 | C40: oui
A41: Question 30 | B41: q30 | C41: oui

Sheet 10
A1: AVOCAT | B1: Nom: | C1: E
B2: Prénom: | C2: R
A4: Thème 1 | B4: Les valeurs des associés
C5: Réponse
A6: Question 1 | B6: q1 | C6: oui
A7: Question 2 | B7: q2 | C7: oui
A8: Question 3 | B8: q3 | C8: non
A9: Question 4 | B9: q4 | C9: oui
A10: Question 5 | B10: q5 | C10: oui
A11: Question 6 | B11: q6 | C11: non
A12: Question 7 | B12: q7 | C12: oui
A13: Question 8 | B13: q8 | C13: modéré
A14: Question 9 | B14: q9 | C14: oui
A15: Question 10 | B15: q10 | C15: non
A17: Thème 2 | B17: Les projets communs et visions stratégiques communes
C18: Réponse
A19: Question 11 | B19: q11 | C19: oui
A20: Question 12 | B20: q12 | C20: oui
A21: Question 13 | B21: q13 | C21: oui
A22: Question 14 | B22: q14 | C22: oui
A23: Question 15 | B23: q15 | C23: modéré
A24: Question 16 | B24: q16 | C24: oui
A25: Question 17 | B25: q17 | C25: oui
A26: Question 18 | B26: q18 | C26: oui
A27: Question 19 | B27: q19 | C27: oui
A28: Question 20 | B28: q20 | C28: oui
A30: Thème 3 | B30: Partages des rôles et des responsabilités
C31: Réponse
A32: Question 21 | B32: q21 | C32: oui
A33: Question 22 | B33: q22 | C33: oui
A34: Question 23 | B34: q23 | C34: oui
A35: Question 24 | B35: q24 | C35: oui
A36: Question 25 | B36: q25 | C36: oui
A37: Question 26 | B37: q26 | C37: oui
A38: Question 27 | B38: q27 | C38: oui
A39: Question 28 | B39: q28 | C39: oui
A40: Question 29 | B40: q29 | C40: oui
A41: Question 30 | B41: q30 | C41: oui

Sheet Matrice
A1: N° | B1: Questions | C1: 1 | D1: 2 | E1: 3 | F1: 4 | G1: 5 | H1: 6 | I1: 7 | J1: 8 | K1: 9 | L1: 10 | M1: Moyenne | N1: Majorité | O1: Ecart type
A2: Question 1 | B2: =+VLOOKUP(A2,'1'!A6:B40,2,FALSE) -> q1 | C2: =IF('1'!C6=Matrice!$Q$4,Matrice!$R$4,IF('1'!C6=Matrice!$Q$2,Matrice!$R$2,0.5)) -> 1 | D2: =IF('2'!C6=Matrice!$Q$4,Matrice!$R$4,IF('2'!C6=Matrice!$Q$2,Matrice!$R$2,0.5)) -> 1 | E2: =IF('3'!C6=Matrice!$Q$4,Matrice!$R$4,IF('3'!C6=Matrice!$Q$2,Matrice!$R$2,0.5)) -> 1 | F2: =IF('4'!C6=Matrice!$Q$4,Matrice!$R$4,IF('4'!C6=Matrice!$Q$2,Matrice!$R$2,0.5)) -> 1 | G2: =IF('5'!C6=Matrice!$Q$4,Matrice!$R$4,IF('5'!C6=Matrice!$Q$2,Matrice!$R$2,0.5)) -> 1 | H2: =IF('6'!C6=Matrice!$Q$4,Matrice!$R$4,IF('6'!C6=Matrice!$Q$2,Matrice!$R$2,0.5)) -> 1 | I2: =IF('7'!C6=Matrice!$Q$4,Matrice!$R$4,IF('7'!C6=Matrice!$Q$2,Matrice!$R$2,0.5)) -> 0.5 | J2: =IF('8'!C6=Matrice!$Q$4,Matrice!$R$4,IF('8'!C6=Matrice!$Q$2,Matrice!$R$2,0.5)) -> 1 | K2: =IF('9'!C6=Matrice!$Q$4,Matrice!$R$4,IF('9'!C6=Matrice!$Q$2,Matrice!$R$2,0.5)) -> 1 | L2: =IF('10'!C6=Matrice!$Q$4,Matrice!$R$4,IF('10'!C6=Matrice!$Q$2,Matrice!$R$2,0.5)) -> 1 | M2: =+AVERAGE(C2:L2) -> 0.95 | N2: {=TRANSPOSE(_xlfn.MODE.SNGL(C2:L2))} -> 1 | O2: =+_xlfn.STDEV.S(C2:L2) -> 0.15811388 | Q2: oui | R2: 1
A3: Question 2 | B3: =+VLOOKUP(A3,'1'!A7:B41,2,FALSE) -> q2 | C3: =IF('1'!C7=Matrice!$Q$4,Matrice!$R$4,IF('1'!C7=Matrice!$Q$2,Matrice!$R$2,0.5)) -> 1 | D3: =IF('2'!C7=Matrice!$Q$4,Matrice!$R$4,IF('2'!C7=Matrice!$Q$2,Matrice!$R$2,0.5)) -> 1 | E3: =IF('3'!C7=Matrice!$Q$4,Matrice!$R$4,IF('3'!C7=Matrice!$Q$2,Matrice!$R$2,0.5)) -> 1 | F3: =IF('4'!C7=Matrice!$Q$4,Matrice!$R$4,IF('4'!C7=Matrice!$Q$2,Matrice!$R$2,0.5)) -> 1 | G3: =IF('5'!C7=Matrice!$Q$4,Matrice!$R$4,IF('5'!C7=Matrice!$Q$2,Matrice!$R$2,0.5)) -> 1 | H3: =IF('6'!C7=Matrice!$Q$4,Matrice!$R$4,IF('6'!C7=Matrice!$Q$2,Matrice!$R$2,0.5)) -> 1 | I3: =IF('7'!C7=Matrice!$Q$4,Matrice!$R$4,IF('7'!C7=Matrice!$Q$2,Matrice!$R$2,0.5)) -> 1 | J3: =IF('8'!C7=Matrice!$Q$4,Matrice!$R$4,IF('8'!C7=Matrice!$Q$2,Matrice!$R$2,0.5)) -> 1 | K3: =IF('9'!C7=Matrice!$Q$4,Matrice!$R$4,IF('9'!C7=Matrice!$Q$2,Matrice!$R$2,0.5)) -> 1 | L3: =IF('10'!C7=Matrice!$Q$4,Matrice!$R$4,IF('10'!C7=Matrice!$Q$2,Matrice!$R$2,0.5)) -> 1 | M3: =+AVERAGE(C3:L3) -> 1 | N3: {=TRANSPOSE(_xlfn.MODE.SNGL(C3:L3))} -> 1 | O3: =+_xlfn.STDEV.S(C3:L3) -> 0 | Q3: modéré | R3: 0.5
A4: Question 3 | B4: =+VLOOKUP(A4,'1'!A8:B42,2,FALSE) -> q3 | C4: =IF('1'!C8=Matrice!$Q$4,Matrice!$R$4,IF('1'!C8=Matrice!$Q$2,Matrice!$R$2,0.5)) -> 0 | D4: =IF('2'!C8=Matrice!$Q$4,Matrice!$R$4,IF('2'!C8=Matrice!$Q$2,Matrice!$R$2,0.5)) -> 0 | E4: =IF('3'!C8=Matrice!$Q$4,Matrice!$R$4,IF('3'!C8=Matrice!$Q$2,Matrice!$R$2,0.5)) -> 0 | F4: =IF('4'!C8=Matrice!$Q$4,Matrice!$R$4,IF('4'!C8=Matrice!$Q$2,Matrice!$R$2,0.5)) -> 0 | G4: =IF('5'!C8=Matrice!$Q$4,Matrice!$R$4,IF('5'!C8=Matrice!$Q$2,Matrice!$R$2,0.5)) -> 0 | H4: =IF('6'!C8=Matrice!$Q$4,Matrice!$R$4,IF('6'!C8=Matrice!$Q$2,Matrice!$R$2,0.5)) -> 0 | I4: =IF('7'!C8=Matrice!$Q$4,Matrice!$R$4,IF('7'!C8=Matrice!$Q$2,Matrice!$R$2,0.5)) -> 0 | J4: =IF('8'!C8=Matrice!$Q$4,Matrice!$R$4,IF('8'!C8=Matrice!$Q$2,Matrice!$R$2,0.5)) -> 0 | K4: =IF('9'!C8=Matrice!$Q$4,Matrice!$R$4,IF('9'!C8=Matrice!$Q$2,Matrice!$R$2,0.5)) -> 0 | L4: =IF('10'!C8=Matrice!$Q$4,Matrice!$R$4,IF('10'!C8=Matrice!$Q$2,Matrice!$R$2,0.5)) -> 0 | M4: =+AVERAGE(C4:L4) -> 0 | N4: {=TRANSPOSE(_xlfn.MODE.SNGL(C4:L4))} -> 0 | O4: =+_xlfn.STDEV.S(C4:L4) -> 0 | Q4: non | R4: 0
A5: Question 4 | B5: =+VLOOKUP(A5,'1'!A9:B43,2,FALSE) -> q4 | C5: =IF('1'!C9=Matrice!$Q$4,Matrice!$R$4,IF('1'!C9=Matrice!$Q$2,Matrice!$R$2,0.5)) -> 1 | D5: =IF('2'!C9=Matrice!$Q$4,Matrice!$R$4,IF('2'!C9=Matrice!$Q$2,Matrice!$R$2,0.5)) -> 1 | E5: =IF('3'!C9=Matrice!$Q$4,Matrice!$R$4,IF('3'!C9=Matrice!$Q$2,Matrice!$R$2,0.5)) -> 1 | F5: =IF('4'!C9=Matrice!$Q$4,Matrice!$R$4,IF('4'!C9=Matrice!$Q$2,Matrice!$R$2,0.5)) -> 1 | G5: =IF('5'!C9=Matrice!$Q$4,Matrice!$R$4,IF('5'!C9=Matrice!$Q$2,Matrice!$R$2,0.5)) -> 1 | H5: =IF('6'!C9=Matrice!$Q$4,Matrice!$R$4,IF('6'!C9=Matrice!$Q$2,Matrice!$R$2,0.5)) -> 1 | I5: =IF('7'!C9=Matrice!$Q$4,Matrice!$R$4,IF('7'!C9=Matrice!$Q$2,Matrice!$R$2,0.5)) -> 1 | J5: =IF('8'!C9=Matrice!$Q$4,Matrice!$R$4,IF('8'!C9=Matrice!$Q$2,Matrice!$R$2,0.5)) -> 1 | K5: =IF('9'!C9=Matrice!$Q$4,Matrice!$R$4,IF('9'!C9=Matrice!$Q$2,Matrice!$R$2,0.5)) -> 1 | L5: =IF('10'!C9=Matrice!$Q$4,Matrice!$R$4,IF('10'!C9=Matrice!$Q$2,Matrice!$R$2,0.5)) -> 1 | M5: =+AVERAGE(C5:L5) -> 1 | N5: {=TRANSPOSE(_xlfn.MODE.SNGL(C5:L5))} -> 1 | O5: =+_xlfn.STDEV.S(C5:L5) -> 0
A6: Question 5 | B6: =+VLOOKUP(A6,'1'!A10:B44,2,FALSE) -> q5 | C6: =IF('1'!C10=Matrice!$Q$4,Matrice!$R$4,IF('1'!C10=Matrice!$Q$2,Matrice!$R$2,0.5)) -> 1 | D6: =IF('2'!C10=Matrice!$Q$4,Matrice!$R$4,IF('2'!C10=Matrice!$Q$2,Matrice!$R$2,0.5)) -> 0 | E6: =IF('3'!C10=Matrice!$Q$4,Matrice!$R$4,IF('3'!C10=Matrice!$Q$2,Matrice!$R$2,0.5)) -> 1 | F6: =IF('4'!C10=Matrice!$Q$4,Matrice!$R$4,IF('4'!C10=Matrice!$Q$2,Matrice!$R$2,0.5)) -> 1 | G6: =IF('5'!C10=Matrice!$Q$4,Matrice!$R$4,IF('5'!C10=Matrice!$Q$2,Matrice!$R$2,0.5)) -> 1 | H6: =IF('6'!C10=Matrice!$Q$4,Matrice!$R$4,IF('6'!C10=Matrice!$Q$2,Matrice!$R$2,0.5)) -> 1 | I6: =IF('7'!C10=Matrice!$Q$4,Matrice!$R$4,IF('7'!C10=Matrice!$Q$2,Matrice!$R$2,0.5)) -> 1 | J6: =IF('8'!C10=Matrice!$Q$4,Matrice!$R$4,IF('8'!C10=Matrice!$Q$2,Matrice!$R$2,0.5)) -> 1 | K6: =IF('9'!C10=Matrice!$Q$4,Matrice!$R$4,IF('9'!C10=Matrice!$Q$2,Matrice!$R$2,0.5)) -> 1 | L6: =IF('10'!C10=Matrice!$Q$4,Matrice!$R$4,IF('10'!C10=Matrice!$Q$2,Matrice!$R$2,0.5)) -> 1 | M6: =+AVERAGE(C6:L6) -> 0.9 | N6: {=TRANSPOSE(_xlfn.MODE.SNGL(C6:L6))} -> 1 | O6: =+_xlfn.STDEV.S(C6:L6) -> 0.31622777
A7: Question 6 | B7: =+VLOOKUP(A7,'1'!A11:B45,2,FALSE) -> q6 | C7: =IF('1'!C11=Matrice!$Q$4,Matrice!$R$4,IF('1'!C11=Matrice!$Q$2,Matrice!$R$2,0.5)) -> 1 | D7: =IF('2'!C11=Matrice!$Q$4,Matrice!$R$4,IF('2'!C11=Matrice!$Q$2,Matrice!$R$2,0.5)) -> 1 | E7: =IF('3'!C11=Matrice!$Q$4,Matrice!$R$4,IF('3'!C11=Matrice!$Q$2,Matrice!$R$2,0.5)) -> 1 | F7: =IF('4'!C11=Matrice!$Q$4,Matrice!$R$4,IF('4'!C11=Matrice!$Q$2,Matrice!$R$2,0.5)) -> 0 | G7: =IF('5'!C11=Matrice!$Q$4,Matrice!$R$4,IF('5'!C11=Matrice!$Q$2,Matrice!$R$2,0.5)) -> 0 | H7: =IF('6'!C11=Matrice!$Q$4,Matrice!$R$4,IF('6'!C11=Matrice!$Q$2,Matrice!$R$2,0.5)) -> 0 | I7: =IF('7'!C11=Matrice!$Q$4,Matrice!$R$4,IF('7'!C11=Matrice!$Q$2,Matrice!$R$2,0.5)) -> 0 | J7: =IF('8'!C11=Matrice!$Q$4,Matrice!$R$4,IF('8'!C11=Matrice!$Q$2,Matrice!$R$2,0.5)) -> 0 | K7: =IF('9'!C11=Matrice!$Q$4,Matrice!$R$4,IF('9'!C11=Matrice!$Q$2,Matrice!$R$2,0.5)) -> 0 | L7: =IF('10'!C11=Matrice!$Q$4,Matrice!$R$4,IF('10'!C11=Matrice!$Q$2,Matrice!$R$2,0.5)) -> 0 | M7: =+AVERAGE(C7:L7) -> 0.3 | N7: {=TRANSPOSE(_xlfn.MODE.SNGL(C7:L7))} -> 0 | O7: =+_xlfn.STDEV.S(C7:L7) -> 0.48304589
A8: Question 7 | B8: =+VLOOKUP(A8,'1'!A12:B46,2,FALSE) -> q7 | C8: =IF('1'!C12=Matrice!$Q$4,Matrice!$R$4,IF('1'!C12=Matrice!$Q$2,Matrice!$R$2,0.5)) -> 1 | D8: =IF('2'!C12=Matrice!$Q$4,Matrice!$R$4,IF('2'!C12=Matrice!$Q$2,Matrice!$R$2,0.5)) -> 1 | E8: =IF('3'!C12=Matrice!$Q$4,Matrice!$R$4,IF('3'!C12=Matrice!$Q$2,Matrice!$R$2,0.5)) -> 1 | F8: =IF('4'!C12=Matrice!$Q$4,Matrice!$R$4,IF('4'!C12=Matrice!$Q$2,Matrice!$R$2,0.5)) -> 1 | G8: =IF('5'!C12=Matrice!$Q$4,Matrice!$R$4,IF('5'!C12=Matrice!$Q$2,Matrice!$R$2,0.5)) -> 1 | H8: =IF('6'!C12=Matrice!$Q$4,Matrice!$R$4,IF('6'!C12=Matrice!$Q$2,Matrice!$R$2,0.5)) -> 1 | I8: =IF('7'!C12=Matrice!$Q$4,Matrice!$R$4,IF('7'!C12=Matrice!$Q$2,Matrice!$R$2,0.5)) -> 1 | J8: =IF('8'!C12=Matrice!$Q$4,Matrice!$R$4,IF('8'!C12=Matrice!$Q$2,Matrice!$R$2,0.5)) -> 1 | K8: =IF('9'!C12=Matrice!$Q$4,Matrice!$R$4,IF('9'!C12=Matrice!$Q$2,Matrice!$R$2,0.5)) -> 1 | L8: =IF('10'!C12=Matrice!$Q$4,Matrice!$R$4,IF('10'!C12=Matrice!$Q$2,Matrice!$R$2,0.5)) -> 1 | M8: =+AVERAGE(C8:L8) -> 1 | N8: {=TRANSPOSE(_xlfn.MODE.SNGL(C8:L8))} -> 1 | O8: =+_xlfn.STDEV.S(C8:L8) -> 0
A9: Question 8 | B9: =+VLOOKUP(A9,'1'!A13:B47,2,FALSE) -> q8 | C9: =IF('1'!C13=Matrice!$Q$4,Matrice!$R$4,IF('1'!C13=Matrice!$Q$2,Matrice!$R$2,0.5)) -> 1 | D9: =IF('2'!C13=Matrice!$Q$4,Matrice!$R$4,IF('2'!C13=Matrice!$Q$2,Matrice!$R$2,0.5)) -> 1 | E9: =IF('3'!C13=Matrice!$Q$4,Matrice!$R$4,IF('3'!C13=Matrice!$Q$2,Matrice!$R$2,0.5)) -> 1 | F9: =IF('4'!C13=Matrice!$Q$4,Matrice!$R$4,IF('4'!C13=Matrice!$Q$2,Matrice!$R$2,0.5)) -> 0.5 | G9: =IF('5'!C13=Matrice!$Q$4,Matrice!$R$4,IF('5'!C13=Matrice!$Q$2,Matrice!$R$2,0.5)) -> 0.5 | H9: =IF('6'!C13=Matrice!$Q$4,Matrice!$R$4,IF('6'!C13=Matrice!$Q$2,Matrice!$R$2,0.5)) -> 0.5 | I9: =IF('7'!C13=Matrice!$Q$4,Matrice!$R$4,IF('7'!C13=Matrice!$Q$2,Matrice!$R$2,0.5)) -> 0.5 | J9: =IF('8'!C13=Matrice!$Q$4,Matrice!$R$4,IF('8'!C13=Matrice!$Q$2,Matrice!$R$2,0.5)) -> 0.5 | K9: =IF('9'!C13=Matrice!$Q$4,Matrice!$R$4,IF('9'!C13=Matrice!$Q$2,Matrice!$R$2,0.5)) -> 0.5 | L9: =IF('10'!C13=Matrice!$Q$4,Matrice!$R$4,IF('10'!C13=Matrice!$Q$2,Matrice!$R$2,0.5)) -> 0.5 | M9: =+AVERAGE(C9:L9) -> 0.65 | N9: {=TRANSPOSE(_xlfn.MODE.SNGL(C9:L9))} -> 0.5 | O9: =+_xlfn.STDEV.S(C9:L9) -> 0.24152295
A10: Question 9 | B10: =+VLOOKUP(A10,'1'!A14:B48,2,FALSE) -> q9 | C10: =IF('1'!C14=Matrice!$Q$4,Matrice!$R$4,IF('1'!C14=Matrice!$Q$2,Matrice!$R$2,0.5)) -> 1 | D10: =IF('2'!C14=Matrice!$Q$4,Matrice!$R$4,IF('2'!C14=Matrice!$Q$2,Matrice!$R$2,0.5)) -> 1 | E10: =IF('3'!C14=Matrice!$Q$4,Matrice!$R$4,IF('3'!C14=Matrice!$Q$2,Matrice!$R$2,0.5)) -> 1 | F10: =IF('4'!C14=Matrice!$Q$4,Matrice!$R$4,IF('4'!C14=Matrice!$Q$2,Matrice!$R$2,0.5)) -> 1 | G10: =IF('5'!C14=Matrice!$Q$4,Matrice!$R$4,IF('5'!C14=Matrice!$Q$2,Matrice!$R$2,0.5)) -> 1 | H10: =IF('6'!C14=Matrice!$Q$4,Matrice!$R$4,IF('6'!C14=Matrice!$Q$2,Matrice!$R$2,0.5)) -> 1 | I10: =IF('7'!C14=Matrice!$Q$4,Matrice!$R$4,IF('7'!C14=Matrice!$Q$2,Matrice!$R$2,0.5)) -> 1 | J10: =IF('8'!C14=Matrice!$Q$4,Matrice!$R$4,IF('8'!C14=Matrice!$Q$2,Matrice!$R$2,0.5)) -> 1 | K10: =IF('9'!C14=Matrice!$Q$4,Matrice!$R$4,IF('9'!C14=Matrice!$Q$2,Matrice!$R$2,0.5)) -> 1 | L10: =IF('10'!C14=Matrice!$Q$4,Matrice!$R$4,IF('10'!C14=Matrice!$Q$2,Matrice!$R$2,0.5)) -> 1 | M10: =+AVERAGE(C10:L10) -> 1 | N10: {=TRANSPOSE(_xlfn.MODE.SNGL(C10:L10))} -> 1 | O10: =+_xlfn.STDEV.S(C10:L10) -> 0
A11: Question 10 | B11: =+VLOOKUP(A11,'1'!A15:B49,2,FALSE) -> q10 | C11: =IF('1'!C15=Matrice!$Q$4,Matrice!$R$4,IF('1'!C15=Matrice!$Q$2,Matrice!$R$2,0.5)) -> 1 | D11: =IF('2'!C15=Matrice!$Q$4,Matrice!$R$4,IF('2'!C15=Matrice!$Q$2,Matrice!$R$2,0.5)) -> 1 | E11: =IF('3'!C15=Matrice!$Q$4,Matrice!$R$4,IF('3'!C15=Matrice!$Q$2,Matrice!$R$2,0.5)) -> 1 | F11: =IF('4'!C15=Matrice!$Q$4,Matrice!$R$4,IF('4'!C15=Matrice!$Q$2,Matrice!$R$2,0.5)) -> 1 | G11: =IF('5'!C15=Matrice!$Q$4,Matrice!$R$4,IF('5'!C15=Matrice!$Q$2,Matrice!$R$2,0.5)) -> 1 | H11: =IF('6'!C15=Matrice!$Q$4,Matrice!$R$4,IF('6'!C15=Matrice!$Q$2,Matrice!$R$2,0.5)) -> 1 | I11: =IF('7'!C15=Matrice!$Q$4,Matrice!$R$4,IF('7'!C15=Matrice!$Q$2,Matrice!$R$2,0.5)) -> 1 | J11: =IF('8'!C15=Matrice!$Q$4,Matrice!$R$4,IF('8'!C15=Matrice!$Q$2,Matrice!$R$2,0.5)) -> 1 | K11: =IF('9'!C15=Matrice!$Q$4,Matrice!$R$4,IF('9'!C15=Matrice!$Q$2,Matrice!$R$2,0.5)) -> 1 | L11: =IF('10'!C15=Matrice!$Q$4,Matrice!$R$4,IF('10'!C15=Matrice!$Q$2,Matrice!$R$2,0.5)) -> 0 | M11: =+AVERAGE(C11:L11) -> 0.9 | N11: {=TRANSPOSE(_xlfn.MODE.SNGL(C11:L11))} -> 1 | O11: =+_xlfn.STDEV.S(C11:L11) -> 0.31622777
A12: Question 11 | B12: =+VLOOKUP(A12,'1'!A16:B50,2,FALSE) -> q11 | C12: =IF('1'!C18=Matrice!$Q$4,Matrice!$R$4,IF('1'!C18=Matrice!$Q$2,Matrice!$R$2,0.5)) -> 0.5 | D12: =IF('2'!C18=Matrice!$Q$4,Matrice!$R$4,IF('2'!C18=Matrice!$Q$2,Matrice!$R$2,0.5)) -> 0.5 | E12: =IF('3'!C18=Matrice!$Q$4,Matrice!$R$4,IF('3'!C18=Matrice!$Q$2,Matrice!$R$2,0.5)) -> 0.5 | F12: =IF('4'!C18=Matrice!$Q$4,Matrice!$R$4,IF('4'!C18=Matrice!$Q$2,Matrice!$R$2,0.5)) -> 0.5 | G12: =IF('5'!C18=Matrice!$Q$4,Matrice!$R$4,IF('5'!C18=Matrice!$Q$2,Matrice!$R$2,0.5)) -> 0.5 | H12: =IF('6'!C18=Matrice!$Q$4,Matrice!$R$4,IF('6'!C18=Matrice!$Q$2,Matrice!$R$2,0.5)) -> 0.5 | I12: =IF('7'!C18=Matrice!$Q$4,Matrice!$R$4,IF('7'!C18=Matrice!$Q$2,Matrice!$R$2,0.5)) -> 0.5 | J12: =IF('8'!C18=Matrice!$Q$4,Matrice!$R$4,IF('8'!C18=Matrice!$Q$2,Matrice!$R$2,0.5)) -> 0.5 | K12: =IF('9'!C18=Matrice!$Q$4,Matrice!$R$4,IF('9'!C18=Matrice!$Q$2,Matrice!$R$2,0.5)) -> 0.5 | L12: =IF('10'!C18=Matrice!$Q$4,Matrice!$R$4,IF('10'!C18=Matrice!$Q$2,Matrice!$R$2,0.5)) -> 0.5 | M12: =+AVERAGE(C12:L12) -> 0.5 | N12: {=TRANSPOSE(_xlfn.MODE.SNGL(C12:L12))} -> 0.5 | O12: =+_xlfn.STDEV.S(C12:L12) -> 0
A13: Question 12 | B13: =+VLOOKUP(A13,'1'!A17:B51,2,FALSE) -> q12 | C13: =IF('1'!C19=Matrice!$Q$4,Matrice!$R$4,IF('1'!C19=Matrice!$Q$2,Matrice!$R$2,0.5)) -> 1 | D13: =IF('2'!C19=Matrice!$Q$4,Matrice!$R$4,IF('2'!C19=Matrice!$Q$2,Matrice!$R$2,0.5)) -> 1 | E13: =IF('3'!C19=Matrice!$Q$4,Matrice!$R$4,IF('3'!C19=Matrice!$Q$2,Matrice!$R$2,0.5)) -> 1 | F13: =IF('4'!C19=Matrice!$Q$4,Matrice!$R$4,IF('4'!C19=Matrice!$Q$2,Matrice!$R$2,0.5)) -> 1 | G13: =IF('5'!C19=Matrice!$Q$4,Matrice!$R$4,IF('5'!C19=Matrice!$Q$2,Matrice!$R$2,0.5)) -> 1 | H13: =IF('6'!C19=Matrice!$Q$4,Matrice!$R$4,IF('6'!C19=Matrice!$Q$2,Matrice!$R$2,0.5)) -> 1 | I13: =IF('7'!C19=Matrice!$Q$4,Matrice!$R$4,IF('7'!C19=Matrice!$Q$2,Matrice!$R$2,0.5)) -> 1 | J13: =IF('8'!C19=Matrice!$Q$4,Matrice!$R$4,IF('8'!C19=Matrice!$Q$2,Matrice!$R$2,0.5)) -> 1 | K13: =IF('9'!C19=Matrice!$Q$4,Matrice!$R$4,IF('9'!C19=Matrice!$Q$2,Matrice!$R$2,0.5)) -> 1 | L13: =IF('10'!C19=Matrice!$Q$4,Matrice!$R$4,IF('10'!C19=Matrice!$Q$2,Matrice!$R$2,0.5)) -> 1 | M13: =+AVERAGE(C13:L13) -> 1 | N13: {=TRANSPOSE(_xlfn.MODE.SNGL(C13:L13))} -> 1 | O13: =+_xlfn.STDEV.S(C13:L13) -> 0
A14: Question 13 | B14: =+VLOOKUP(A14,'1'!A18:B52,2,FALSE) -> q13 | C14: =IF('1'!C20=Matrice!$Q$4,Matrice!$R$4,IF('1'!C20=Matrice!$Q$2,Matrice!$R$2,0.5)) -> 1 | D14: =IF('2'!C20=Matrice!$Q$4,Matrice!$R$4,IF('2'!C20=Matrice!$Q$2,Matrice!$R$2,0.5)) -> 1 | E14: =IF('3'!C20=Matrice!$Q$4,Matrice!$R$4,IF('3'!C20=Matrice!$Q$2,Matrice!$R$2,0.5)) -> 1 | F14: =IF('4'!C20=Matrice!$Q$4,Matrice!$R$4,IF('4'!C20=Matrice!$Q$2,Matrice!$R$2,0.5)) -> 1 | G14: =IF('5'!C20=Matrice!$Q$4,Matrice!$R$4,IF('5'!C20=Matrice!$Q$2,Matrice!$R$2,0.5)) -> 1 | H14: =IF('6'!C20=Matrice!$Q$4,Matrice!$R$4,IF('6'!C20=Matrice!$Q$2,Matrice!$R$2,0.5)) -> 1 | I14: =IF('7'!C20=Matrice!$Q$4,Matrice!$R$4,IF('7'!C20=Matrice!$Q$2,Matrice!$R$2,0.5)) -> 1 | J14: =IF('8'!C20=Matrice!$Q$4,Matrice!$R$4,IF('8'!C20=Matrice!$Q$2,Matrice!$R$2,0.5)) -> 1 | K14: =IF('9'!C20=Matrice!$Q$4,Matrice!$R$4,IF('9'!C20=Matrice!$Q$2,Matrice!$R$2,0.5)) -> 1 | L14: =IF('10'!C20=Matrice!$Q$4,Matrice!$R$4,IF('10'!C20=Matrice!$Q$2,Matrice!$R$2,0.5)) -> 1 | M14: =+AVERAGE(C14:L14) -> 1 | N14: {=TRANSPOSE(_xlfn.MODE.SNGL(C14:L14))} -> 1 | O14: =+_xlfn.STDEV.S(C14:L14) -> 0
A15: Question 14 | B15: =+VLOOKUP(A15,'1'!A19:B53,2,FALSE) -> q14 | C15: =IF('1'!C21=Matrice!$Q$4,Matrice!$R$4,IF('1'!C21=Matrice!$Q$2,Matrice!$R$2,0.5)) -> 1 | D15: =IF('2'!C21=Matrice!$Q$4,Matrice!$R$4,IF('2'!C21=Matrice!$Q$2,Matrice!$R$2,0.5)) -> 1 | E15: =IF('3'!C21=Matrice!$Q$4,Matrice!$R$4,IF('3'!C21=Matrice!$Q$2,Matrice!$R$2,0.5)) -> 1 | F15: =IF('4'!C21=Matrice!$Q$4,Matrice!$R$4,IF('4'!C21=Matrice!$Q$2,Matrice!$R$2,0.5)) -> 1 | G15: =IF('5'!C21=Matrice!$Q$4,Matrice!$R$4,IF('5'!C21=Matrice!$Q$2,Matrice!$R$2,0.5)) -> 1 | H15: =IF('6'!C21=Matrice!$Q$4,Matrice!$R$4,IF('6'!C21=Matrice!$Q$2,Matrice!$R$2,0.5)) -> 1 | I15: =IF('7'!C21=Matrice!$Q$4,Matrice!$R$4,IF('7'!C21=Matrice!$Q$2,Matrice!$R$2,0.5)) -> 1 | J15: =IF('8'!C21=Matrice!$Q$4,Matrice!$R$4,IF('8'!C21=Matrice!$Q$2,Matrice!$R$2,0.5)) -> 1 | K15: =IF('9'!C21=Matrice!$Q$4,Matrice!$R$4,IF('9'!C21=Matrice!$Q$2,Matrice!$R$2,0.5)) -> 1 | L15: =IF('10'!C21=Matrice!$Q$4,Matrice!$R$4,IF('10'!C21=Matrice!$Q$2,Matrice!$R$2,0.5)) -> 1 | M15: =+AVERAGE(C15:L15) -> 1 | N15: {=TRANSPOSE(_xlfn.MODE.SNGL(C15:L15))} -> 1 | O15: =+_xlfn.STDEV.S(C15:L15) -> 0
A16: Question 15 | B16: =+VLOOKUP(A16,'1'!A20:B54,2,FALSE) -> q15 | C16: =IF('1'!C22=Matrice!$Q$4,Matrice!$R$4,IF('1'!C22=Matrice!$Q$2,Matrice!$R$2,0.5)) -> 1 | D16: =IF('2'!C22=Matrice!$Q$4,Matrice!$R$4,IF('2'!C22=Matrice!$Q$2,Matrice!$R$2,0.5)) -> 1 | E16: =IF('3'!C22=Matrice!$Q$4,Matrice!$R$4,IF('3'!C22=Matrice!$Q$2,Matrice!$R$2,0.5)) -> 1 | F16: =IF('4'!C22=Matrice!$Q$4,Matrice!$R$4,IF('4'!C22=Matrice!$Q$2,Matrice!$R$2,0.5)) -> 1 | G16: =IF('5'!C22=Matrice!$Q$4,Matrice!$R$4,IF('5'!C22=Matrice!$Q$2,Matrice!$R$2,0.5)) -> 1 | H16: =IF('6'!C22=Matrice!$Q$4,Matrice!$R$4,IF('6'!C22=Matrice!$Q$2,Matrice!$R$2,0.5)) -> 1 | I16: =IF('7'!C22=Matrice!$Q$4,Matrice!$R$4,IF('7'!C22=Matrice!$Q$2,Matrice!$R$2,0.5)) -> 1 | J16: =IF('8'!C22=Matrice!$Q$4,Matrice!$R$4,IF('8'!C22=Matrice!$Q$2,Matrice!$R$2,0.5)) -> 1 | K16: =IF('9'!C22=Matrice!$Q$4,Matrice!$R$4,IF('9'!C22=Matrice!$Q$2,Matrice!$R$2,0.5)) -> 1 | L16: =IF('10'!C22=Matrice!$Q$4,Matrice!$R$4,IF('10'!C22=Matrice!$Q$2,Matrice!$R$2,0.5)) -> 1 | M16: =+AVERAGE(C16:L16) -> 1 | N16: {=TRANSPOSE(_xlfn.MODE.SNGL(C16:L16))} -> 1 | O16: =+_xlfn.STDEV.S(C16:L16) -> 0
A17: Question 16 | B17: =+VLOOKUP(A17,'1'!A21:B55,2,FALSE) -> q16 | C17: =IF('1'!C23=Matrice!$Q$4,Matrice!$R$4,IF('1'!C23=Matrice!$Q$2,Matrice!$R$2,0.5)) -> 1 | D17: =IF('2'!C23=Matrice!$Q$4,Matrice!$R$4,IF('2'!C23=Matrice!$Q$2,Matrice!$R$2,0.5)) -> 1 | E17: =IF('3'!C23=Matrice!$Q$4,Matrice!$R$4,IF('3'!C23=Matrice!$Q$2,Matrice!$R$2,0.5)) -> 1 | F17: =IF('4'!C23=Matrice!$Q$4,Matrice!$R$4,IF('4'!C23=Matrice!$Q$2,Matrice!$R$2,0.5)) -> 0.5 | G17: =IF('5'!C23=Matrice!$Q$4,Matrice!$R$4,IF('5'!C23=Matrice!$Q$2,Matrice!$R$2,0.5)) -> 0.5 | H17: =IF('6'!C23=Matrice!$Q$4,Matrice!$R$4,IF('6'!C23=Matrice!$Q$2,Matrice!$R$2,0.5)) -> 0.5 | I17: =IF('7'!C23=Matrice!$Q$4,Matrice!$R$4,IF('7'!C23=Matrice!$Q$2,Matrice!$R$2,0.5)) -> 0.5 | J17: =IF('8'!C23=Matrice!$Q$4,Matrice!$R$4,IF('8'!C23=Matrice!$Q$2,Matrice!$R$2,0.5)) -> 0.5 | K17: =IF('9'!C23=Matrice!$Q$4,Matrice!$R$4,IF('9'!C23=Matrice!$Q$2,Matrice!$R$2,0.5)) -> 0.5 | L17: =IF('10'!C23=Matrice!$Q$4,Matrice!$R$4,IF('10'!C23=Matrice!$Q$2,Matrice!$R$2,0.5)) -> 0.5 | M17: =+AVERAGE(C17:L17) -> 0.65 | N17: {=TRANSPOSE(_xlfn.MODE.SNGL(C17:L17))} -> 0.5 | O17: =+_xlfn.STDEV.S(C17:L17) -> 0.24152295
A18: Question 17 | B18: =+VLOOKUP(A18,'1'!A22:B56,2,FALSE) -> q17 | C18: =IF('1'!C24=Matrice!$Q$4,Matrice!$R$4,IF('1'!C24=Matrice!$Q$2,Matrice!$R$2,0.5)) -> 1 | D18: =IF('2'!C24=Matrice!$Q$4,Matrice!$R$4,IF('2'!C24=Matrice!$Q$2,Matrice!$R$2,0.5)) -> 1 | E18: =IF('3'!C24=Matrice!$Q$4,Matrice!$R$4,IF('3'!C24=Matrice!$Q$2,Matrice!$R$2,0.5)) -> 1 | F18: =IF('4'!C24=Matrice!$Q$4,Matrice!$R$4,IF('4'!C24=Matrice!$Q$2,Matrice!$R$2,0.5)) -> 1 | G18: =IF('5'!C24=Matrice!$Q$4,Matrice!$R$4,IF('5'!C24=Matrice!$Q$2,Matrice!$R$2,0.5)) -> 1 | H18: =IF('6'!C24=Matrice!$Q$4,Matrice!$R$4,IF('6'!C24=Matrice!$Q$2,Matrice!$R$2,0.5)) -> 1 | I18: =IF('7'!C24=Matrice!$Q$4,Matrice!$R$4,IF('7'!C24=Matrice!$Q$2,Matrice!$R$2,0.5)) -> 1 | J18: =IF('8'!C24=Matrice!$Q$4,Matrice!$R$4,IF('8'!C24=Matrice!$Q$2,Matrice!$R$2,0.5)) -> 1 | K18: =IF('9'!C24=Matrice!$Q$4,Matrice!$R$4,IF('9'!C24=Matrice!$Q$2,Matrice!$R$2,0.5)) -> 1 | L18: =IF('10'!C24=Matrice!$Q$4,Matrice!$R$4,IF('10'!C24=Matrice!$Q$2,Matrice!$R$2,0.5)) -> 1 | M18: =+AVERAGE(C18:L18) -> 1 | N18: {=TRANSPOSE(_xlfn.MODE.SNGL(C18:L18))} -> 1 | O18: =+_xlfn.STDEV.S(C18:L18) -> 0
A19: Question 18 | B19: =+VLOOKUP(A19,'1'!A23:B57,2,FALSE) -> q18 | C19: =IF('1'!C25=Matrice!$Q$4,Matrice!$R$4,IF('1'!C25=Matrice!$Q$2,Matrice!$R$2,0.5)) -> 1 | D19: =IF('2'!C25=Matrice!$Q$4,Matrice!$R$4,IF('2'!C25=Matrice!$Q$2,Matrice!$R$2,0.5)) -> 1 | E19: =IF('3'!C25=Matrice!$Q$4,Matrice!$R$4,IF('3'!C25=Matrice!$Q$2,Matrice!$R$2,0.5)) -> 1 | F19: =IF('4'!C25=Matrice!$Q$4,Matrice!$R$4,IF('4'!C25=Matrice!$Q$2,Matrice!$R$2,0.5)) -> 1 | G19: =IF('5'!C25=Matrice!$Q$4,Matrice!$R$4,IF('5'!C25=Matrice!$Q$2,Matrice!$R$2,0.5)) -> 1 | H19: =IF('6'!C25=Matrice!$Q$4,Matrice!$R$4,IF('6'!C25=Matrice!$Q$2,Matrice!$R$2,0.5)) -> 1 | I19: =IF('7'!C25=Matrice!$Q$4,Matrice!$R$4,IF('7'!C25=Matrice!$Q$2,Matrice!$R$2,0.5)) -> 1 | J19: =IF('8'!C25=Matrice!$Q$4,Matrice!$R$4,IF('8'!C25=Matrice!$Q$2,Matrice!$R$2,0.5)) -> 1 | K19: =IF('9'!C25=Matrice!$Q$4,Matrice!$R$4,IF('9'!C25=Matrice!$Q$2,Matrice!$R$2,0.5)) -> 1 | L19: =IF('10'!C25=Matrice!$Q$4,Matrice!$R$4,IF('10'!C25=Matrice!$Q$2,Matrice!$R$2,0.5)) -> 1 | M19: =+AVERAGE(C19:L19) -> 1 | N19: {=TRANSPOSE(_xlfn.MODE.SNGL(C19:L19))} -> 1 | O19: =+_xlfn.STDEV.S(C19:L19) -> 0
A20: Question 19 | B20: =+VLOOKUP(A20,'1'!A24:B58,2,FALSE) -> q19 | C20: =IF('1'!C26=Matrice!$Q$4,Matrice!$R$4,IF('1'!C26=Matrice!$Q$2,Matrice!$R$2,0.5)) -> 1 | D20: =IF('2'!C26=Matrice!$Q$4,Matrice!$R$4,IF('2'!C26=Matrice!$Q$2,Matrice!$R$2,0.5)) -> 1 | E20: =IF('3'!C26=Matrice!$Q$4,Matrice!$R$4,IF('3'!C26=Matrice!$Q$2,Matrice!$R$2,0.5)) -> 1 | F20: =IF('4'!C26=Matrice!$Q$4,Matrice!$R$4,IF('4'!C26=Matrice!$Q$2,Matrice!$R$2,0.5)) -> 1 | G20: =IF('5'!C26=Matrice!$Q$4,Matrice!$R$4,IF('5'!C26=Matrice!$Q$2,Matrice!$R$2,0.5)) -> 1 | H20: =IF('6'!C26=Matrice!$Q$4,Matrice!$R$4,IF('6'!C26=Matrice!$Q$2,Matrice!$R$2,0.5)) -> 1 | I20: =IF('7'!C26=Matrice!$Q$4,Matrice!$R$4,IF('7'!C26=Matrice!$Q$2,Matrice!$R$2,0.5)) -> 1 | J20: =IF('8'!C26=Matrice!$Q$4,Matrice!$R$4,IF('8'!C26=Matrice!$Q$2,Matrice!$R$2,0.5)) -> 1 | K20: =IF('9'!C26=Matrice!$Q$4,Matrice!$R$4,IF('9'!C26=Matrice!$Q$2,Matrice!$R$2,0.5)) -> 1 | L20: =IF('10'!C26=Matrice!$Q$4,Matrice!$R$4,IF('10'!C26=Matrice!$Q$2,Matrice!$R$2,0.5)) -> 1 | M20: =+AVERAGE(C20:L20) -> 1 | N20: {=TRANSPOSE(_xlfn.MODE.SNGL(C20:L20))} -> 1 | O20: =+_xlfn.STDEV.S(C20:L20) -> 0
A21: Question 20 | B21: =+VLOOKUP(A21,'1'!A25:B59,2,FALSE) -> q20 | C21: =IF('1'!C27=Matrice!$Q$4,Matrice!$R$4,IF('1'!C27=Matrice!$Q$2,Matrice!$R$2,0.5)) -> 1 | D21: =IF('2'!C27=Matrice!$Q$4,Matrice!$R$4,IF('2'!C27=Matrice!$Q$2,Matrice!$R$2,0.5)) -> 1 | E21: =IF('3'!C27=Matrice!$Q$4,Matrice!$R$4,IF('3'!C27=Matrice!$Q$2,Matrice!$R$2,0.5)) -> 1 | F21: =IF('4'!C27=Matrice!$Q$4,Matrice!$R$4,IF('4'!C27=Matrice!$Q$2,Matrice!$R$2,0.5)) -> 1 | G21: =IF('5'!C27=Matrice!$Q$4,Matrice!$R$4,IF('5'!C27=Matrice!$Q$2,Matrice!$R$2,0.5)) -> 1 | H21: =IF('6'!C27=Matrice!$Q$4,Matrice!$R$4,IF('6'!C27=Matrice!$Q$2,Matrice!$R$2,0.5)) -> 1 | I21: =IF('7'!C27=Matrice!$Q$4,Matrice!$R$4,IF('7'!C27=Matrice!$Q$2,Matrice!$R$2,0.5)) -> 1 | J21: =IF('8'!C27=Matrice!$Q$4,Matrice!$R$4,IF('8'!C27=Matrice!$Q$2,Matrice!$R$2,0.5)) -> 1 | K21: =IF('9'!C27=Matrice!$Q$4,Matrice!$R$4,IF('9'!C27=Matrice!$Q$2,Matrice!$R$2,0.5)) -> 1 | L21: =IF('10'!C27=Matrice!$Q$4,Matrice!$R$4,IF('10'!C27=Matrice!$Q$2,Matrice!$R$2,0.5)) -> 1 | M21: =+AVERAGE(C21:L21) -> 1 | N21: {=TRANSPOSE(_xlfn.MODE.SNGL(C21:L21))} -> 1 | O21: =+_xlfn.STDEV.S(C21:L21) -> 0
A22: Question 21 | B22: =+VLOOKUP(A22,'1'!A26:B60,2,FALSE) -> q21 | C22: =IF('1'!C30=Matrice!$Q$4,Matrice!$R$4,IF('1'!C30=Matrice!$Q$2,Matrice!$R$2,0.5)) -> 0.5 | D22: =IF('2'!C30=Matrice!$Q$4,Matrice!$R$4,IF('2'!C30=Matrice!$Q$2,Matrice!$R$2,0.5)) -> 0.5 | E22: =IF('3'!C30=Matrice!$Q$4,Matrice!$R$4,IF('3'!C30=Matrice!$Q$2,Matrice!$R$2,0.5)) -> 0.5 | F22: =IF('4'!C30=Matrice!$Q$4,Matrice!$R$4,IF('4'!C30=Matrice!$Q$2,Matrice!$R$2,0.5)) -> 0.5 | G22: =IF('5'!C30=Matrice!$Q$4,Matrice!$R$4,IF('5'!C30=Matrice!$Q$2,Matrice!$R$2,0.5)) -> 0.5 | H22: =IF('6'!C30=Matrice!$Q$4,Matrice!$R$4,IF('6'!C30=Matrice!$Q$2,Matrice!$R$2,0.5)) -> 0.5 | I22: =IF('7'!C30=Matrice!$Q$4,Matrice!$R$4,IF('7'!C30=Matrice!$Q$2,Matrice!$R$2,0.5)) -> 0.5 | J22: =IF('8'!C30=Matrice!$Q$4,Matrice!$R$4,IF('8'!C30=Matrice!$Q$2,Matrice!$R$2,0.5)) -> 0.5 | K22: =IF('9'!C30=Matrice!$Q$4,Matrice!$R$4,IF('9'!C30=Matrice!$Q$2,Matrice!$R$2,0.5)) -> 0.5 | L22: =IF('10'!C30=Matrice!$Q$4,Matrice!$R$4,IF('10'!C30=Matrice!$Q$2,Matrice!$R$2,0.5)) -> 0.5 | M22: =+AVERAGE(C22:L22) -> 0.5 | N22: {=TRANSPOSE(_xlfn.MODE.SNGL(C22:L22))} -> 0.5 | O22: =+_xlfn.STDEV.S(C22:L22) -> 0
A23: Question 22 | B23: =+VLOOKUP(A23,'1'!A27:B61,2,FALSE) -> q22 | C23: =IF('1'!C31=Matrice!$Q$4,Matrice!$R$4,IF('1'!C31=Matrice!$Q$2,Matrice!$R$2,0.5)) -> 0.5 | D23: =IF('2'!C31=Matrice!$Q$4,Matrice!$R$4,IF('2'!C31=Matrice!$Q$2,Matrice!$R$2,0.5)) -> 0.5 | E23: =IF('3'!C31=Matrice!$Q$4,Matrice!$R$4,IF('3'!C31=Matrice!$Q$2,Matrice!$R$2,0.5)) -> 0.5 | F23: =IF('4'!C31=Matrice!$Q$4,Matrice!$R$4,IF('4'!C31=Matrice!$Q$2,Matrice!$R$2,0.5)) -> 0.5 | G23: =IF('5'!C31=Matrice!$Q$4,Matrice!$R$4,IF('5'!C31=Matrice!$Q$2,Matrice!$R$2,0.5)) -> 0.5 | H23: =IF('6'!C31=Matrice!$Q$4,Matrice!$R$4,IF('6'!C31=Matrice!$Q$2,Matrice!$R$2,0.5)) -> 0.5 | I23: =IF('7'!C31=Matrice!$Q$4,Matrice!$R$4,IF('7'!C31=Matrice!$Q$2,Matrice!$R$2,0.5)) -> 0.5 | J23: =IF('8'!C31=Matrice!$Q$4,Matrice!$R$4,IF('8'!C31=Matrice!$Q$2,Matrice!$R$2,0.5)) -> 0.5 | K23: =IF('9'!C31=Matrice!$Q$4,Matrice!$R$4,IF('9'!C31=Matrice!$Q$2,Matrice!$R$2,0.5)) -> 0.5 | L23: =IF('10'!C31=Matrice!$Q$4,Matrice!$R$4,IF('10'!C31=Matrice!$Q$2,Matrice!$R$2,0.5)) -> 0.5 | M23: =+AVERAGE(C23:L23) -> 0.5 | N23: {=TRANSPOSE(_xlfn.MODE.SNGL(C23:L23))} -> 0.5 | O23: =+_xlfn.STDEV.S(C23:L23) -> 0
A24: Question 23 | B24: =+VLOOKUP(A24,'1'!A28:B62,2,FALSE) -> q23 | C24: =IF('1'!C32=Matrice!$Q$4,Matrice!$R$4,IF('1'!C32=Matrice!$Q$2,Matrice!$R$2,0.5)) -> 1 | D24: =IF('2'!C32=Matrice!$Q$4,Matrice!$R$4,IF('2'!C32=Matrice!$Q$2,Matrice!$R$2,0.5)) -> 1 | E24: =IF('3'!C32=Matrice!$Q$4,Matrice!$R$4,IF('3'!C32=Matrice!$Q$2,Matrice!$R$2,0.5)) -> 1 | F24: =IF('4'!C32=Matrice!$Q$4,Matrice!$R$4,IF('4'!C32=Matrice!$Q$2,Matrice!$R$2,0.5)) -> 1 | G24: =IF('5'!C32=Matrice!$Q$4,Matrice!$R$4,IF('5'!C32=Matrice!$Q$2,Matrice!$R$2,0.5)) -> 1 | H24: =IF('6'!C32=Matrice!$Q$4,Matrice!$R$4,IF('6'!C32=Matrice!$Q$2,Matrice!$R$2,0.5)) -> 1 | I24: =IF('7'!C32=Matrice!$Q$4,Matrice!$R$4,IF('7'!C32=Matrice!$Q$2,Matrice!$R$2,0.5)) -> 1 | J24: =IF('8'!C32=Matrice!$Q$4,Matrice!$R$4,IF('8'!C32=Matrice!$Q$2,Matrice!$R$2,0.5)) -> 1 | K24: =IF('9'!C32=Matrice!$Q$4,Matrice!$R$4,IF('9'!C32=Matrice!$Q$2,Matrice!$R$2,0.5)) -> 1 | L24: =IF('10'!C32=Matrice!$Q$4,Matrice!$R$4,IF('10'!C32=Matrice!$Q$2,Matrice!$R$2,0.5)) -> 1 | M24: =+AVERAGE(C24:L24) -> 1 | N24: {=TRANSPOSE(_xlfn.MODE.SNGL(C24:L24))} -> 1 | O24: =+_xlfn.STDEV.S(C24:L24) -> 0
A25: Question 24 | B25: =+VLOOKUP(A25,'1'!A29:B63,2,FALSE) -> q24 | C25: =IF('1'!C33=Matrice!$Q$4,Matrice!$R$4,IF('1'!C33=Matrice!$Q$2,Matrice!$R$2,0.5)) -> 1 | D25: =IF('2'!C33=Matrice!$Q$4,Matrice!$R$4,IF('2'!C33=Matrice!$Q$2,Matrice!$R$2,0.5)) -> 1 | E25: =IF('3'!C33=Matrice!$Q$4,Matrice!$R$4,IF('3'!C33=Matrice!$Q$2,Matrice!$R$2,0.5)) -> 1 | F25: =IF('4'!C33=Matrice!$Q$4,Matrice!$R$4,IF('4'!C33=Matrice!$Q$2,Matrice!$R$2,0.5)) -> 1 | G25: =IF('5'!C33=Matrice!$Q$4,Matrice!$R$4,IF('5'!C33=Matrice!$Q$2,Matrice!$R$2,0.5)) -> 1 | H25: =IF('6'!C33=Matrice!$Q$4,Matrice!$R$4,IF('6'!C33=Matrice!$Q$2,Matrice!$R$2,0.5)) -> 1 | I25: =IF('7'!C33=Matrice!$Q$4,Matrice!$R$4,IF('7'!C33=Matrice!$Q$2,Matrice!$R$2,0.5)) -> 1 | J25: =IF('8'!C33=Matrice!$Q$4,Matrice!$R$4,IF('8'!C33=Matrice!$Q$2,Matrice!$R$2,0.5)) -> 1 | K25: =IF('9'!C33=Matrice!$Q$4,Matrice!$R$4,IF('9'!C33=Matrice!$Q$2,Matrice!$R$2,0.5)) -> 1 | L25: =IF('10'!C33=Matrice!$Q$4,Matrice!$R$4,IF('10'!C33=Matrice!$Q$2,Matrice!$R$2,0.5)) -> 1 | M25: =+AVERAGE(C25:L25) -> 1 | N25: {=TRANSPOSE(_xlfn.MODE.SNGL(C25:L25))} -> 1 | O25: =+_xlfn.STDEV.S(C25:L25) -> 0
A26: Question 25 | B26: =+VLOOKUP(A26,'1'!A30:B64,2,FALSE) -> q25 | C26: =IF('1'!C34=Matrice!$Q$4,Matrice!$R$4,IF('1'!C34=Matrice!$Q$2,Matrice!$R$2,0.5)) -> 1 | D26: =IF('2'!C34=Matrice!$Q$4,Matrice!$R$4,IF('2'!C34=Matrice!$Q$2,Matrice!$R$2,0.5)) -> 1 | E26: =IF('3'!C34=Matrice!$Q$4,Matrice!$R$4,IF('3'!C34=Matrice!$Q$2,Matrice!$R$2,0.5)) -> 1 | F26: =IF('4'!C34=Matrice!$Q$4,Matrice!$R$4,IF('4'!C34=Matrice!$Q$2,Matrice!$R$2,0.5)) -> 1 | G26: =IF('5'!C34=Matrice!$Q$4,Matrice!$R$4,IF('5'!C34=Matrice!$Q$2,Matrice!$R$2,0.5)) -> 1 | H26: =IF('6'!C34=Matrice!$Q$4,Matrice!$R$4,IF('6'!C34=Matrice!$Q$2,Matrice!$R$2,0.5)) -> 1 | I26: =IF('7'!C34=Matrice!$Q$4,Matrice!$R$4,IF('7'!C34=Matrice!$Q$2,Matrice!$R$2,0.5)) -> 1 | J26: =IF('8'!C34=Matrice!$Q$4,Matrice!$R$4,IF('8'!C34=Matrice!$Q$2,Matrice!$R$2,0.5)) -> 1 | K26: =IF('9'!C34=Matrice!$Q$4,Matrice!$R$4,IF('9'!C34=Matrice!$Q$2,Matrice!$R$2,0.5)) -> 1 | L26: =IF('10'!C34=Matrice!$Q$4,Matrice!$R$4,IF('10'!C34=Matrice!$Q$2,Matrice!$R$2,0.5)) -> 1 | M26: =+AVERAGE(C26:L26) -> 1 | N26: {=TRANSPOSE(_xlfn.MODE.SNGL(C26:L26))} -> 1 | O26: =+_xlfn.STDEV.S(C26:L26) -> 0
A27: Question 26 | B27: =+VLOOKUP(A27,'1'!A31:B65,2,FALSE) -> q26 | C27: =IF('1'!C35=Matrice!$Q$4,Matrice!$R$4,IF('1'!C35=Matrice!$Q$2,Matrice!$R$2,0.5)) -> 1 | D27: =IF('2'!C35=Matrice!$Q$4,Matrice!$R$4,IF('2'!C35=Matrice!$Q$2,Matrice!$R$2,0.5)) -> 1 | E27: =IF('3'!C35=Matrice!$Q$4,Matrice!$R$4,IF('3'!C35=Matrice!$Q$2,Matrice!$R$2,0.5)) -> 1 | F27: =IF('4'!C35=Matrice!$Q$4,Matrice!$R$4,IF('4'!C35=Matrice!$Q$2,Matrice!$R$2,0.5)) -> 1 | G27: =IF('5'!C35=Matrice!$Q$4,Matrice!$R$4,IF('5'!C35=Matrice!$Q$2,Matrice!$R$2,0.5)) -> 1 | H27: =IF('6'!C35=Matrice!$Q$4,Matrice!$R$4,IF('6'!C35=Matrice!$Q$2,Matrice!$R$2,0.5)) -> 1 | I27: =IF('7'!C35=Matrice!$Q$4,Matrice!$R$4,IF('7'!C35=Matrice!$Q$2,Matrice!$R$2,0.5)) -> 1 | J27: =IF('8'!C35=Matrice!$Q$4,Matrice!$R$4,IF('8'!C35=Matrice!$Q$2,Matrice!$R$2,0.5)) -> 1 | K27: =IF('9'!C35=Matrice!$Q$4,Matrice!$R$4,IF('9'!C35=Matrice!$Q$2,Matrice!$R$2,0.5)) -> 1 | L27: =IF('10'!C35=Matrice!$Q$4,Matrice!$R$4,IF('10'!C35=Matrice!$Q$2,Matrice!$R$2,0.5)) -> 1 | M27: =+AVERAGE(C27:L27) -> 1 | N27: {=TRANSPOSE(_xlfn.MODE.SNGL(C27:L27))} -> 1 | O27: =+_xlfn.STDEV.S(C27:L27) -> 0
A28: Question 27 | B28: =+VLOOKUP(A28,'1'!A32:B66,2,FALSE) -> q27 | C28: =IF('1'!C36=Matrice!$Q$4,Matrice!$R$4,IF('1'!C36=Matrice!$Q$2,Matrice!$R$2,0.5)) -> 1 | D28: =IF('2'!C36=Matrice!$Q$4,Matrice!$R$4,IF('2'!C36=Matrice!$Q$2,Matrice!$R$2,0.5)) -> 1 | E28: =IF('3'!C36=Matrice!$Q$4,Matrice!$R$4,IF('3'!C36=Matrice!$Q$2,Matrice!$R$2,0.5)) -> 1 | F28: =IF('4'!C36=Matrice!$Q$4,Matrice!$R$4,IF('4'!C36=Matrice!$Q$2,Matrice!$R$2,0.5)) -> 1 | G28: =IF('5'!C36=Matrice!$Q$4,Matrice!$R$4,IF('5'!C36=Matrice!$Q$2,Matrice!$R$2,0.5)) -> 1 | H28: =IF('6'!C36=Matrice!$Q$4,Matrice!$R$4,IF('6'!C36=Matrice!$Q$2,Matrice!$R$2,0.5)) -> 1 | I28: =IF('7'!C36=Matrice!$Q$4,Matrice!$R$4,IF('7'!C36=Matrice!$Q$2,Matrice!$R$2,0.5)) -> 1 | J28: =IF('8'!C36=Matrice!$Q$4,Matrice!$R$4,IF('8'!C36=Matrice!$Q$2,Matrice!$R$2,0.5)) -> 1 | K28: =IF('9'!C36=Matrice!$Q$4,Matrice!$R$4,IF('9'!C36=Matrice!$Q$2,Matrice!$R$2,0.5)) -> 1 | L28: =IF('10'!C36=Matrice!$Q$4,Matrice!$R$4,IF('10'!C36=Matrice!$Q$2,Matrice!$R$2,0.5)) -> 1 | M28: =+AVERAGE(C28:L28) -> 1 | N28: {=TRANSPOSE(_xlfn.MODE.SNGL(C28:L28))} -> 1 | O28: =+_xlfn.STDEV.S(C28:L28) -> 0
A29: Question 28 | B29: =+VLOOKUP(A29,'1'!A33:B67,2,FALSE) -> q28 | C29: =IF('1'!C37=Matrice!$Q$4,Matrice!$R$4,IF('1'!C37=Matrice!$Q$2,Matrice!$R$2,0.5)) -> 1 | D29: =IF('2'!C37=Matrice!$Q$4,Matrice!$R$4,IF('2'!C37=Matrice!$Q$2,Matrice!$R$2,0.5)) -> 1 | E29: =IF('3'!C37=Matrice!$Q$4,Matrice!$R$4,IF('3'!C37=Matrice!$Q$2,Matrice!$R$2,0.5)) -> 1 | F29: =IF('4'!C37=Matrice!$Q$4,Matrice!$R$4,IF('4'!C37=Matrice!$Q$2,Matrice!$R$2,0.5)) -> 1 | G29: =IF('5'!C37=Matrice!$Q$4,Matrice!$R$4,IF('5'!C37=Matrice!$Q$2,Matrice!$R$2,0.5)) -> 1 | H29: =IF('6'!C37=Matrice!$Q$4,Matrice!$R$4,IF('6'!C37=Matrice!$Q$2,Matrice!$R$2,0.5)) -> 1 | I29: =IF('7'!C37=Matrice!$Q$4,Matrice!$R$4,IF('7'!C37=Matrice!$Q$2,Matrice!$R$2,0.5)) -> 1 | J29: =IF('8'!C37=Matrice!$Q$4,Matrice!$R$4,IF('8'!C37=Matrice!$Q$2,Matrice!$R$2,0.5)) -> 1 | K29: =IF('9'!C37=Matrice!$Q$4,Matrice!$R$4,IF('9'!C37=Matrice!$Q$2,Matrice!$R$2,0.5)) -> 1 | L29: =IF('10'!C37=Matrice!$Q$4,Matrice!$R$4,IF('10'!C37=Matrice!$Q$2,Matrice!$R$2,0.5)) -> 1 | M29: =+AVERAGE(C29:L29) -> 1 | N29: {=TRANSPOSE(_xlfn.MODE.SNGL(C29:L29))} -> 1 | O29: =+_xlfn.STDEV.S(C29:L29) -> 0
A30: Question 29 | B30: =+VLOOKUP(A30,'1'!A34:B68,2,FALSE) -> q29 | C30: =IF('1'!C38=Matrice!$Q$4,Matrice!$R$4,IF('1'!C38=Matrice!$Q$2,Matrice!$R$2,0.5)) -> 1 | D30: =IF('2'!C38=Matrice!$Q$4,Matrice!$R$4,IF('2'!C38=Matrice!$Q$2,Matrice!$R$2,0.5)) -> 1 | E30: =IF('3'!C38=Matrice!$Q$4,Matrice!$R$4,IF('3'!C38=Matrice!$Q$2,Matrice!$R$2,0.5)) -> 1 | F30: =IF('4'!C38=Matrice!$Q$4,Matrice!$R$4,IF('4'!C38=Matrice!$Q$2,Matrice!$R$2,0.5)) -> 1 | G30: =IF('5'!C38=Matrice!$Q$4,Matrice!$R$4,IF('5'!C38=Matrice!$Q$2,Matrice!$R$2,0.5)) -> 1 | H30: =IF('6'!C38=Matrice!$Q$4,Matrice!$R$4,IF('6'!C38=Matrice!$Q$2,Matrice!$R$2,0.5)) -> 1 | I30: =IF('7'!C38=Matrice!$Q$4,Matrice!$R$4,IF('7'!C38=Matrice!$Q$2,Matrice!$R$2,0.5)) -> 1 | J30: =IF('8'!C38=Matrice!$Q$4,Matrice!$R$4,IF('8'!C38=Matrice!$Q$2,Matrice!$R$2,0.5)) -> 1 | K30: =IF('9'!C38=Matrice!$Q$4,Matrice!$R$4,IF('9'!C38=Matrice!$Q$2,Matrice!$R$2,0.5)) -> 1 | L30: =IF('10'!C38=Matrice!$Q$4,Matrice!$R$4,IF('10'!C38=Matrice!$Q$2,Matrice!$R$2,0.5)) -> 1 | M30: =+AVERAGE(C30:L30) -> 1 | N30: {=TRANSPOSE(_xlfn.MODE.SNGL(C30:L30))} -> 1 | O30: =+_xlfn.STDEV.S(C30:L30) -> 0
A31: Question 30 | B31: =+VLOOKUP(A31,'1'!A35:B69,2,FALSE) -> q30 | C31: =IF('1'!C39=Matrice!$Q$4,Matrice!$R$4,IF('1'!C39=Matrice!$Q$2,Matrice!$R$2,0.5)) -> 1 | D31: =IF('2'!C39=Matrice!$Q$4,Matrice!$R$4,IF('2'!C39=Matrice!$Q$2,Matrice!$R$2,0.5)) -> 1 | E31: =IF('3'!C39=Matrice!$Q$4,Matrice!$R$4,IF('3'!C39=Matrice!$Q$2,Matrice!$R$2,0.5)) -> 1 | F31: =IF('4'!C39=Matrice!$Q$4,Matrice!$R$4,IF('4'!C39=Matrice!$Q$2,Matrice!$R$2,0.5)) -> 1 | G31: =IF('5'!C39=Matrice!$Q$4,Matrice!$R$4,IF('5'!C39=Matrice!$Q$2,Matrice!$R$2,0.5)) -> 1 | H31: =IF('6'!C39=Matrice!$Q$4,Matrice!$R$4,IF('6'!C39=Matrice!$Q$2,Matrice!$R$2,0.5)) -> 1 | I31: =IF('7'!C39=Matrice!$Q$4,Matrice!$R$4,IF('7'!C39=Matrice!$Q$2,Matrice!$R$2,0.5)) -> 1 | J31: =IF('8'!C39=Matrice!$Q$4,Matrice!$R$4,IF('8'!C39=Matrice!$Q$2,Matrice!$R$2,0.5)) -> 1 | K31: =IF('9'!C39=Matrice!$Q$4,Matrice!$R$4,IF('9'!C39=Matrice!$Q$2,Matrice!$R$2,0.5)) -> 1 | L31: =IF('10'!C39=Matrice!$Q$4,Matrice!$R$4,IF('10'!C39=Matrice!$Q$2,Matrice!$R$2,0.5)) -> 1 | M31: =+AVERAGE(C31:L31) -> 1 | N31: {=TRANSPOSE(_xlfn.MODE.SNGL(C31:L31))} -> 1 | O31: =+_xlfn.STDEV.S(C31:L31) -> 0
A33: Moyenne | C33: =SUM(C12:C32)/3 -> 6.1666667 | D33: =SUM(D2:D32)/3 -> 8.8333333 | E33: =SUM(E2:E32)/3 -> 9.1666667 | F33: =SUM(F2:F32)/3 -> 8.5 | G33: =SUM(G2:G32)/3 -> 8.5 | H33: =SUM(H2:H32)/3 -> 8.5 | I33: =SUM(I2:I32)/3 -> 8.3333333 | J33: =SUM(J2:J32)/3 -> 8.5 | K33: =SUM(K2:K32)/3 -> 8.5 | ... M33: =SUM(M2:M32)/3 -> 8.6166667

Sheet Questions sensibles
A3: Étiquettes de lignes | B3: Somme de Ecart type
A4: q5 | B4: 0.31622777
A5: q6 | B5: 0.48304589
A6: q8 | B6: 0.24152295
A7: q10 | B7: 0.31622777
A8: q16 | B8: 0.24152295
A9: Total général | B9: 1.5985473
