Workbook
Name fériés: fériés!$B$2:$B$12

Sheet fériés
B2: 41640 | C2: mercredi | D2: Premier de l'An 2014
B3: 41750 | C3: lundi | D3: Lundi de Pâques 2014
B4: 41760 | C4: jeudi | D4: Fête du travail 2014
B5: 41767 | C5: jeudi | D5: Victoire 1945 2014
B6: 41423 | C6: jeudi | D6: Ascension 2014
B7: 41799 | C7: lundi | D7: Lundi de Pentecôte 2014
B8: 41834 | C8: lundi | D8: Fête Nationale 2014
B9: 41866 | C9: vendredi | D9: Assomption 2014
B10: 41944 | C10: samedi | D10: Toussaint 2014
B11: 41954 | C11: mardi | D11: Armistice de 1918 2014
B12: 41998 | C12: jeudi | D12: Noël 2014

Sheet BDD
A2: a | B2: HYPO
A3: b | B3: NORMAL
A4: c | B4: HYPO SANS FIBRES
A5: d | B5: NORMAL
A6: e | B6: HYPO
A7: f | B7: NORMAL
A8: g | B8: SANS FIBRES
A9: h | B9: HYPO
A10: i | B10: NORMAL
A11: j | B11: MIXÉ SANS FIBRES
A12: k | B12: MiXÉ
A13: l | B13: HYPO
... A32: ae | B32: NORMAL
A33: Stagiaire1
A34: Stagiaire2
A35: NOM Prénom | B35: NORMAL

Sheet 1
B2: 2014 | C2: Semaine | AT2: P | AU2: : Présent
C3: =MID(CELL("nomfichier",$AT$2),FIND("]",CELL("nomfichier",$AT$2))+1,50) -> 1 | AT3: A | AU3: : Annulé
C4: =C5 -> 41638 | F4: =F5 -> 41639 | I4: =I5 -> 41640 | L4: =L5 -> 41641 | O4: =O5 -> 41642 | R4: =R5 -> 41643 | U4: =U5 -> 41644 | AT4: K | AU4: : Pique-nique
A5: GROUPE | B5: NOM Prénom | C5: =7*C3+DATE(B2,1,3)-WEEKDAY(DATE(B2,1,3))-5 -> 41638 | F5: =C5+1 -> 41639 | I5: =F5+1 -> 41640 | L5: =I5+1 -> 41641 | O5: =L5+1 -> 41642 | R5: =O5+1 -> 41643 | U5: =R5+1 -> 41644 | AT5: Fériés et WE
A6: FDVA | B6: =BDD!A2 -> a | N6: P | O6: P | P6: P | Q6: P | R6: P | S6: P | T6: P | U6: P | V6: P | W6: P | Y6: =IF(C6="P",INDEX(BDD!$A$2:$B$34,MATCH('1'!$B6,BDD!$A$2:$A$34,0),2),"") | Z6: =IF(D6="P",INDEX(BDD!$A$2:$B$34,MATCH('1'!$B6,BDD!$A$2:$A$34,0),2),"") | AA6: =IF(E6="P",INDEX(BDD!$A$2:$B$34,MATCH('1'!$B6,BDD!$A$2:$A$34,0),2),"") | AB6: =IF(F6="P",INDEX(BDD!$A$2:$B$34,MATCH('1'!$B6,BDD!$A$2:$A$34,0),2),"") | AC6: =IF(G6="P",INDEX(BDD!$A$2:$B$34,MATCH('1'!$B6,BDD!$A$2:$A$34,0),2),"") | AD6: =IF(H6="P",INDEX(BDD!$A$2:$B$34,MATCH('1'!$B6,BDD!$A$2:$A$34,0),2),"") | AE6: =IF(I6="P",INDEX(BDD!$A$2:$B$34,MATCH('1'!$B6,BDD!$A$2:$A$34,0),2),"") | AF6: =IF(J6="P",INDEX(BDD!$A$2:$B$34,MATCH('1'!$B6,BDD!$A$2:$A$34,0),2),"") | ... AS6: =IF(W6="P",INDEX(BDD!$A$2:$B$34,MATCH('1'!$B6,BDD!$A$2:$A$34,0),2),"") -> HYPO | AT6: Absent
B7: =BDD!A3 -> b | N7: P | O7: P | P7: P | Q7: P | R7: P | S7: P | T7: P | U7: P | V7: P | W7: P | Y7: =IF(C7="P",INDEX(BDD!$A$2:$B$34,MATCH('1'!$B7,BDD!$A$2:$A$34,0),2),"") | Z7: =IF(D7="P",INDEX(BDD!$A$2:$B$34,MATCH('1'!$B7,BDD!$A$2:$A$34,0),2),"") | AA7: =IF(E7="P",INDEX(BDD!$A$2:$B$34,MATCH('1'!$B7,BDD!$A$2:$A$34,0),2),"") | AB7: =IF(F7="P",INDEX(BDD!$A$2:$B$34,MATCH('1'!$B7,BDD!$A$2:$A$34,0),2),"") | AC7: =IF(G7="P",INDEX(BDD!$A$2:$B$34,MATCH('1'!$B7,BDD!$A$2:$A$34,0),2),"") | AD7: =IF(H7="P",INDEX(BDD!$A$2:$B$34,MATCH('1'!$B7,BDD!$A$2:$A$34,0),2),"") | AE7: =IF(I7="P",INDEX(BDD!$A$2:$B$34,MATCH('1'!$B7,BDD!$A$2:$A$34,0),2),"") | AF7: =IF(J7="P",INDEX(BDD!$A$2:$B$34,MATCH('1'!$B7,BDD!$A$2:$A$34,0),2),"") | ... AS7: =IF(W7="P",INDEX(BDD!$A$2:$B$34,MATCH('1'!$B7,BDD!$A$2:$A$34,0),2),"") -> NORMAL
B8: =BDD!A4 -> c | N8: P | O8: P | P8: P | Q8: P | R8: P | S8: P | T8: P | U8: P | V8: P | W8: P | Y8: =IF(C8="P",INDEX(BDD!$A$2:$B$34,MATCH('1'!$B8,BDD!$A$2:$A$34,0),2),"") | Z8: =IF(D8="P",INDEX(BDD!$A$2:$B$34,MATCH('1'!$B8,BDD!$A$2:$A$34,0),2),"") | AA8: =IF(E8="P",INDEX(BDD!$A$2:$B$34,MATCH('1'!$B8,BDD!$A$2:$A$34,0),2),"") | AB8: =IF(F8="P",INDEX(BDD!$A$2:$B$34,MATCH('1'!$B8,BDD!$A$2:$A$34,0),2),"") | AC8: =IF(G8="P",INDEX(BDD!$A$2:$B$34,MATCH('1'!$B8,BDD!$A$2:$A$34,0),2),"") | AD8: =IF(H8="P",INDEX(BDD!$A$2:$B$34,MATCH('1'!$B8,BDD!$A$2:$A$34,0),2),"") | AE8: =IF(I8="P",INDEX(BDD!$A$2:$B$34,MATCH('1'!$B8,BDD!$A$2:$A$34,0),2),"") | AF8: =IF(J8="P",INDEX(BDD!$A$2:$B$34,MATCH('1'!$B8,BDD!$A$2:$A$34,0),2),"") | ... AS8: =IF(W8="P",INDEX(BDD!$A$2:$B$34,MATCH('1'!$B8,BDD!$A$2:$A$34,0),2),"") -> HYPO SANS FIBRES
B9: =BDD!A5 -> d | Y9: =IF(C9="P",INDEX(BDD!$A$2:$B$34,MATCH('1'!$B9,BDD!$A$2:$A$34,0),2),"") | Z9: =IF(D9="P",INDEX(BDD!$A$2:$B$34,MATCH('1'!$B9,BDD!$A$2:$A$34,0),2),"") | AA9: =IF(E9="P",INDEX(BDD!$A$2:$B$34,MATCH('1'!$B9,BDD!$A$2:$A$34,0),2),"") | AB9: =IF(F9="P",INDEX(BDD!$A$2:$B$34,MATCH('1'!$B9,BDD!$A$2:$A$34,0),2),"") | AC9: =IF(G9="P",INDEX(BDD!$A$2:$B$34,MATCH('1'!$B9,BDD!$A$2:$A$34,0),2),"") | AD9: =IF(H9="P",INDEX(BDD!$A$2:$B$34,MATCH('1'!$B9,BDD!$A$2:$A$34,0),2),"") | AE9: =IF(I9="P",INDEX(BDD!$A$2:$B$34,MATCH('1'!$B9,BDD!$A$2:$A$34,0),2),"") | AF9: =IF(J9="P",INDEX(BDD!$A$2:$B$34,MATCH('1'!$B9,BDD!$A$2:$A$34,0),2),"") | ... AS9: =IF(W9="P",INDEX(BDD!$A$2:$B$34,MATCH('1'!$B9,BDD!$A$2:$A$34,0),2),"")
B10: =BDD!A6 -> e | N10: P | O10: P | P10: P | Q10: P | R10: P | S10: P | T10: P | U10: P | V10: P | W10: P | Y10: =IF(C10="P",INDEX(BDD!$A$2:$B$34,MATCH('1'!$B10,BDD!$A$2:$A$34,0),2),"") | Z10: =IF(D10="P",INDEX(BDD!$A$2:$B$34,MATCH('1'!$B10,BDD!$A$2:$A$34,0),2),"") | AA10: =IF(E10="P",INDEX(BDD!$A$2:$B$34,MATCH('1'!$B10,BDD!$A$2:$A$34,0),2),"") | AB10: =IF(F10="P",INDEX(BDD!$A$2:$B$34,MATCH('1'!$B10,BDD!$A$2:$A$34,0),2),"") | AC10: =IF(G10="P",INDEX(BDD!$A$2:$B$34,MATCH('1'!$B10,BDD!$A$2:$A$34,0),2),"") | AD10: =IF(H10="P",INDEX(BDD!$A$2:$B$34,MATCH('1'!$B10,BDD!$A$2:$A$34,0),2),"") | AE10: =IF(I10="P",INDEX(BDD!$A$2:$B$34,MATCH('1'!$B10,BDD!$A$2:$A$34,0),2),"") | AF10: =IF(J10="P",INDEX(BDD!$A$2:$B$34,MATCH('1'!$B10,BDD!$A$2:$A$34,0),2),"") | ... AS10: =IF(W10="P",INDEX(BDD!$A$2:$B$34,MATCH('1'!$B10,BDD!$A$2:$A$34,0),2),"") -> HYPO
B11: =BDD!A7 -> f | Y11: =IF(C11="P",INDEX(BDD!$A$2:$B$34,MATCH('1'!$B11,BDD!$A$2:$A$34,0),2),"") | Z11: =IF(D11="P",INDEX(BDD!$A$2:$B$34,MATCH('1'!$B11,BDD!$A$2:$A$34,0),2),"") | AA11: =IF(E11="P",INDEX(BDD!$A$2:$B$34,MATCH('1'!$B11,BDD!$A$2:$A$34,0),2),"") | AB11: =IF(F11="P",INDEX(BDD!$A$2:$B$34,MATCH('1'!$B11,BDD!$A$2:$A$34,0),2),"") | AC11: =IF(G11="P",INDEX(BDD!$A$2:$B$34,MATCH('1'!$B11,BDD!$A$2:$A$34,0),2),"") | AD11: =IF(H11="P",INDEX(BDD!$A$2:$B$34,MATCH('1'!$B11,BDD!$A$2:$A$34,0),2),"") | AE11: =IF(I11="P",INDEX(BDD!$A$2:$B$34,MATCH('1'!$B11,BDD!$A$2:$A$34,0),2),"") | AF11: =IF(J11="P",INDEX(BDD!$A$2:$B$34,MATCH('1'!$B11,BDD!$A$2:$A$34,0),2),"") | ... AS11: =IF(W11="P",INDEX(BDD!$A$2:$B$34,MATCH('1'!$B11,BDD!$A$2:$A$34,0),2),"")
B12: =BDD!A8 -> g | Y12: =IF(C12="P",INDEX(BDD!$A$2:$B$34,MATCH('1'!$B12,BDD!$A$2:$A$34,0),2),"") | Z12: =IF(D12="P",INDEX(BDD!$A$2:$B$34,MATCH('1'!$B12,BDD!$A$2:$A$34,0),2),"") | AA12: =IF(E12="P",INDEX(BDD!$A$2:$B$34,MATCH('1'!$B12,BDD!$A$2:$A$34,0),2),"") | AB12: =IF(F12="P",INDEX(BDD!$A$2:$B$34,MATCH('1'!$B12,BDD!$A$2:$A$34,0),2),"") | AC12: =IF(G12="P",INDEX(BDD!$A$2:$B$34,MATCH('1'!$B12,BDD!$A$2:$A$34,0),2),"") | AD12: =IF(H12="P",INDEX(BDD!$A$2:$B$34,MATCH('1'!$B12,BDD!$A$2:$A$34,0),2),"") | AE12: =IF(I12="P",INDEX(BDD!$A$2:$B$34,MATCH('1'!$B12,BDD!$A$2:$A$34,0),2),"") | AF12: =IF(J12="P",INDEX(BDD!$A$2:$B$34,MATCH('1'!$B12,BDD!$A$2:$A$34,0),2),"") | ... AS12: =IF(W12="P",INDEX(BDD!$A$2:$B$34,MATCH('1'!$B12,BDD!$A$2:$A$34,0),2),"")
B13: =BDD!A9 -> h | N13: P | O13: P | P13: P | Q13: P | R13: P | W13: P | Y13: =IF(C13="P",INDEX(BDD!$A$2:$B$34,MATCH('1'!$B13,BDD!$A$2:$A$34,0),2),"") | Z13: =IF(D13="P",INDEX(BDD!$A$2:$B$34,MATCH('1'!$B13,BDD!$A$2:$A$34,0),2),"") | AA13: =IF(E13="P",INDEX(BDD!$A$2:$B$34,MATCH('1'!$B13,BDD!$A$2:$A$34,0),2),"") | AB13: =IF(F13="P",INDEX(BDD!$A$2:$B$34,MATCH('1'!$B13,BDD!$A$2:$A$34,0),2),"") | AC13: =IF(G13="P",INDEX(BDD!$A$2:$B$34,MATCH('1'!$B13,BDD!$A$2:$A$34,0),2),"") | AD13: =IF(H13="P",INDEX(BDD!$A$2:$B$34,MATCH('1'!$B13,BDD!$A$2:$A$34,0),2),"") | AE13: =IF(I13="P",INDEX(BDD!$A$2:$B$34,MATCH('1'!$B13,BDD!$A$2:$A$34,0),2),"") | AF13: =IF(J13="P",INDEX(BDD!$A$2:$B$34,MATCH('1'!$B13,BDD!$A$2:$A$34,0),2),"") | ... AS13: =IF(W13="P",INDEX(BDD!$A$2:$B$34,MATCH('1'!$B13,BDD!$A$2:$A$34,0),2),"") -> HYPO
B14: =BDD!A10 -> i | N14: P | O14: P | P14: P | Q14: P | R14: P | S14: P | T14: P | U14: P | V14: P | W14: P | Y14: =IF(C14="P",INDEX(BDD!$A$2:$B$34,MATCH('1'!$B14,BDD!$A$2:$A$34,0),2),"") | Z14: =IF(D14="P",INDEX(BDD!$A$2:$B$34,MATCH('1'!$B14,BDD!$A$2:$A$34,0),2),"") | AA14: =IF(E14="P",INDEX(BDD!$A$2:$B$34,MATCH('1'!$B14,BDD!$A$2:$A$34,0),2),"") | AB14: =IF(F14="P",INDEX(BDD!$A$2:$B$34,MATCH('1'!$B14,BDD!$A$2:$A$34,0),2),"") | AC14: =IF(G14="P",INDEX(BDD!$A$2:$B$34,MATCH('1'!$B14,BDD!$A$2:$A$34,0),2),"") | AD14: =IF(H14="P",INDEX(BDD!$A$2:$B$34,MATCH('1'!$B14,BDD!$A$2:$A$34,0),2),"") | AE14: =IF(I14="P",INDEX(BDD!$A$2:$B$34,MATCH('1'!$B14,BDD!$A$2:$A$34,0),2),"") | AF14: =IF(J14="P",INDEX(BDD!$A$2:$B$34,MATCH('1'!$B14,BDD!$A$2:$A$34,0),2),"") | ... AS14: =IF(W14="P",INDEX(BDD!$A$2:$B$34,MATCH('1'!$B14,BDD!$A$2:$A$34,0),2),"") -> NORMAL
B15: =BDD!A11 -> j | N15: P | O15: P | P15: P | Q15: P | R15: P | S15: P | T15: P | U15: P | V15: P | W15: P | Y15: =IF(C15="P",INDEX(BDD!$A$2:$B$34,MATCH('1'!$B15,BDD!$A$2:$A$34,0),2),"") | Z15: =IF(D15="P",INDEX(BDD!$A$2:$B$34,MATCH('1'!$B15,BDD!$A$2:$A$34,0),2),"") | AA15: =IF(E15="P",INDEX(BDD!$A$2:$B$34,MATCH('1'!$B15,BDD!$A$2:$A$34,0),2),"") | AB15: =IF(F15="P",INDEX(BDD!$A$2:$B$34,MATCH('1'!$B15,BDD!$A$2:$A$34,0),2),"") | AC15: =IF(G15="P",INDEX(BDD!$A$2:$B$34,MATCH('1'!$B15,BDD!$A$2:$A$34,0),2),"") | AD15: =IF(H15="P",INDEX(BDD!$A$2:$B$34,MATCH('1'!$B15,BDD!$A$2:$A$34,0),2),"") | AE15: =IF(I15="P",INDEX(BDD!$A$2:$B$34,MATCH('1'!$B15,BDD!$A$2:$A$34,0),2),"") | AF15: =IF(J15="P",INDEX(BDD!$A$2:$B$34,MATCH('1'!$B15,BDD!$A$2:$A$34,0),2),"") | ... AS15: =IF(W15="P",INDEX(BDD!$A$2:$B$34,MATCH('1'!$B15,BDD!$A$2:$A$34,0),2),"") -> MIXÉ SANS FIBRES
B16: =BDD!A22 -> u | S16: P | T16: P | U16: P | V16: P | W16: P | Y16: =IF(C16="P",INDEX(BDD!$A$2:$B$34,MATCH('1'!$B16,BDD!$A$2:$A$34,0),2),"") | Z16: =IF(D16="P",INDEX(BDD!$A$2:$B$34,MATCH('1'!$B16,BDD!$A$2:$A$34,0),2),"") | AA16: =IF(E16="P",INDEX(BDD!$A$2:$B$34,MATCH('1'!$B16,BDD!$A$2:$A$34,0),2),"") | AB16: =IF(F16="P",INDEX(BDD!$A$2:$B$34,MATCH('1'!$B16,BDD!$A$2:$A$34,0),2),"") | AC16: =IF(G16="P",INDEX(BDD!$A$2:$B$34,MATCH('1'!$B16,BDD!$A$2:$A$34,0),2),"") | AD16: =IF(H16="P",INDEX(BDD!$A$2:$B$34,MATCH('1'!$B16,BDD!$A$2:$A$34,0),2),"") | AE16: =IF(I16="P",INDEX(BDD!$A$2:$B$34,MATCH('1'!$B16,BDD!$A$2:$A$34,0),2),"") | AF16: =IF(J16="P",INDEX(BDD!$A$2:$B$34,MATCH('1'!$B16,BDD!$A$2:$A$34,0),2),"") | ... AS16: =IF(W16="P",INDEX(BDD!$A$2:$B$34,MATCH('1'!$B16,BDD!$A$2:$A$34,0),2),"") -> NORMAL
B17: =BDD!A23 -> v | Y17: =IF(C17="P",INDEX(BDD!$A$2:$B$34,MATCH('1'!$B17,BDD!$A$2:$A$34,0),2),"") | Z17: =IF(D17="P",INDEX(BDD!$A$2:$B$34,MATCH('1'!$B17,BDD!$A$2:$A$34,0),2),"") | AA17: =IF(E17="P",INDEX(BDD!$A$2:$B$34,MATCH('1'!$B17,BDD!$A$2:$A$34,0),2),"") | AB17: =IF(F17="P",INDEX(BDD!$A$2:$B$34,MATCH('1'!$B17,BDD!$A$2:$A$34,0),2),"") | AC17: =IF(G17="P",INDEX(BDD!$A$2:$B$34,MATCH('1'!$B17,BDD!$A$2:$A$34,0),2),"") | AD17: =IF(H17="P",INDEX(BDD!$A$2:$B$34,MATCH('1'!$B17,BDD!$A$2:$A$34,0),2),"") | AE17: =IF(I17="P",INDEX(BDD!$A$2:$B$34,MATCH('1'!$B17,BDD!$A$2:$A$34,0),2),"") | AF17: =IF(J17="P",INDEX(BDD!$A$2:$B$34,MATCH('1'!$B17,BDD!$A$2:$A$34,0),2),"") | ... AS17: =IF(W17="P",INDEX(BDD!$A$2:$B$34,MATCH('1'!$B17,BDD!$A$2:$A$34,0),2),"")
B18: =BDD!A24 -> w | P18: P | Y18: =IF(C18="P",INDEX(BDD!$A$2:$B$34,MATCH('1'!$B18,BDD!$A$2:$A$34,0),2),"") | Z18: =IF(D18="P",INDEX(BDD!$A$2:$B$34,MATCH('1'!$B18,BDD!$A$2:$A$34,0),2),"") | AA18: =IF(E18="P",INDEX(BDD!$A$2:$B$34,MATCH('1'!$B18,BDD!$A$2:$A$34,0),2),"") | AB18: =IF(F18="P",INDEX(BDD!$A$2:$B$34,MATCH('1'!$B18,BDD!$A$2:$A$34,0),2),"") | AC18: =IF(G18="P",INDEX(BDD!$A$2:$B$34,MATCH('1'!$B18,BDD!$A$2:$A$34,0),2),"") | AD18: =IF(H18="P",INDEX(BDD!$A$2:$B$34,MATCH('1'!$B18,BDD!$A$2:$A$34,0),2),"") | AE18: =IF(I18="P",INDEX(BDD!$A$2:$B$34,MATCH('1'!$B18,BDD!$A$2:$A$34,0),2),"") | AF18: =IF(J18="P",INDEX(BDD!$A$2:$B$34,MATCH('1'!$B18,BDD!$A$2:$A$34,0),2),"") | ... AS18: =IF(W18="P",INDEX(BDD!$A$2:$B$34,MATCH('1'!$B18,BDD!$A$2:$A$34,0),2),"")
B19: =BDD!A25 -> x | N19: P | Y19: =IF(C19="P",INDEX(BDD!$A$2:$B$34,MATCH('1'!$B19,BDD!$A$2:$A$34,0),2),"") | Z19: =IF(D19="P",INDEX(BDD!$A$2:$B$34,MATCH('1'!$B19,BDD!$A$2:$A$34,0),2),"") | AA19: =IF(E19="P",INDEX(BDD!$A$2:$B$34,MATCH('1'!$B19,BDD!$A$2:$A$34,0),2),"") | AB19: =IF(F19="P",INDEX(BDD!$A$2:$B$34,MATCH('1'!$B19,BDD!$A$2:$A$34,0),2),"") | AC19: =IF(G19="P",INDEX(BDD!$A$2:$B$34,MATCH('1'!$B19,BDD!$A$2:$A$34,0),2),"") | AD19: =IF(H19="P",INDEX(BDD!$A$2:$B$34,MATCH('1'!$B19,BDD!$A$2:$A$34,0),2),"") | AE19: =IF(I19="P",INDEX(BDD!$A$2:$B$34,MATCH('1'!$B19,BDD!$A$2:$A$34,0),2),"") | AF19: =IF(J19="P",INDEX(BDD!$A$2:$B$34,MATCH('1'!$B19,BDD!$A$2:$A$34,0),2),"") | ... AS19: =IF(W19="P",INDEX(BDD!$A$2:$B$34,MATCH('1'!$B19,BDD!$A$2:$A$34,0),2),"")
B20: =BDD!A26 -> y | Y20: =IF(C20="P",INDEX(BDD!$A$2:$B$34,MATCH('1'!$B20,BDD!$A$2:$A$34,0),2),"") | Z20: =IF(D20="P",INDEX(BDD!$A$2:$B$34,MATCH('1'!$B20,BDD!$A$2:$A$34,0),2),"") | AA20: =IF(E20="P",INDEX(BDD!$A$2:$B$34,MATCH('1'!$B20,BDD!$A$2:$A$34,0),2),"") | AB20: =IF(F20="P",INDEX(BDD!$A$2:$B$34,MATCH('1'!$B20,BDD!$A$2:$A$34,0),2),"") | AC20: =IF(G20="P",INDEX(BDD!$A$2:$B$34,MATCH('1'!$B20,BDD!$A$2:$A$34,0),2),"") | AD20: =IF(H20="P",INDEX(BDD!$A$2:$B$34,MATCH('1'!$B20,BDD!$A$2:$A$34,0),2),"") | AE20: =IF(I20="P",INDEX(BDD!$A$2:$B$34,MATCH('1'!$B20,BDD!$A$2:$A$34,0),2),"") | AF20: =IF(J20="P",INDEX(BDD!$A$2:$B$34,MATCH('1'!$B20,BDD!$A$2:$A$34,0),2),"") | ... AS20: =IF(W20="P",INDEX(BDD!$A$2:$B$34,MATCH('1'!$B20,BDD!$A$2:$A$34,0),2),"")
B21: =BDD!A33 -> Stagiaire1 | Y21: =IF(C21="P",INDEX(BDD!$A$2:$B$34,MATCH('1'!$B21,BDD!$A$2:$A$34,0),2),"") | Z21: =IF(D21="P",INDEX(BDD!$A$2:$B$34,MATCH('1'!$B21,BDD!$A$2:$A$34,0),2),"") | AA21: =IF(E21="P",INDEX(BDD!$A$2:$B$34,MATCH('1'!$B21,BDD!$A$2:$A$34,0),2),"") | AB21: =IF(F21="P",INDEX(BDD!$A$2:$B$34,MATCH('1'!$B21,BDD!$A$2:$A$34,0),2),"") | AC21: =IF(G21="P",INDEX(BDD!$A$2:$B$34,MATCH('1'!$B21,BDD!$A$2:$A$34,0),2),"") | AD21: =IF(H21="P",INDEX(BDD!$A$2:$B$34,MATCH('1'!$B21,BDD!$A$2:$A$34,0),2),"") | AE21: =IF(I21="P",INDEX(BDD!$A$2:$B$34,MATCH('1'!$B21,BDD!$A$2:$A$34,0),2),"") | AF21: =IF(J21="P",INDEX(BDD!$A$2:$B$34,MATCH('1'!$B21,BDD!$A$2:$A$34,0),2),"") | ... AS21: =IF(W21="P",INDEX(BDD!$A$2:$B$34,MATCH('1'!$B21,BDD!$A$2:$A$34,0),2),"")
C22: Semaine | Y22: =IF(C22="P",INDEX(BDD!$A$2:$B$34,MATCH('1'!$B22,BDD!$A$2:$A$34,0),2),"") | Z22: =IF(D22="P",INDEX(BDD!$A$2:$B$34,MATCH('1'!$B22,BDD!$A$2:$A$34,0),2),"") | AA22: =IF(E22="P",INDEX(BDD!$A$2:$B$34,MATCH('1'!$B22,BDD!$A$2:$A$34,0),2),"") | AB22: =IF(F22="P",INDEX(BDD!$A$2:$B$34,MATCH('1'!$B22,BDD!$A$2:$A$34,0),2),"") | AC22: =IF(G22="P",INDEX(BDD!$A$2:$B$34,MATCH('1'!$B22,BDD!$A$2:$A$34,0),2),"") | AD22: =IF(H22="P",INDEX(BDD!$A$2:$B$34,MATCH('1'!$B22,BDD!$A$2:$A$34,0),2),"") | AE22: =IF(I22="P",INDEX(BDD!$A$2:$B$34,MATCH('1'!$B22,BDD!$A$2:$A$34,0),2),"") | AF22: =IF(J22="P",INDEX(BDD!$A$2:$B$34,MATCH('1'!$B22,BDD!$A$2:$A$34,0),2),"") | ... AS22: =IF(W22="P",INDEX(BDD!$A$2:$B$34,MATCH('1'!$B22,BDD!$A$2:$A$34,0),2),"")
C23: =C3 -> 1 | Y23: =IF(C23="P",INDEX(BDD!$A$2:$B$34,MATCH('1'!$B23,BDD!$A$2:$A$34,0),2),"") | Z23: =IF(D23="P",INDEX(BDD!$A$2:$B$34,MATCH('1'!$B23,BDD!$A$2:$A$34,0),2),"") | AA23: =IF(E23="P",INDEX(BDD!$A$2:$B$34,MATCH('1'!$B23,BDD!$A$2:$A$34,0),2),"") | AB23: =IF(F23="P",INDEX(BDD!$A$2:$B$34,MATCH('1'!$B23,BDD!$A$2:$A$34,0),2),"") | AC23: =IF(G23="P",INDEX(BDD!$A$2:$B$34,MATCH('1'!$B23,BDD!$A$2:$A$34,0),2),"") | AD23: =IF(H23="P",INDEX(BDD!$A$2:$B$34,MATCH('1'!$B23,BDD!$A$2:$A$34,0),2),"") | AE23: =IF(I23="P",INDEX(BDD!$A$2:$B$34,MATCH('1'!$B23,BDD!$A$2:$A$34,0),2),"") | AF23: =IF(J23="P",INDEX(BDD!$A$2:$B$34,MATCH('1'!$B23,BDD!$A$2:$A$34,0),2),"") | ... AS23: =IF(W23="P",INDEX(BDD!$A$2:$B$34,MATCH('1'!$B23,BDD!$A$2:$A$34,0),2),"")
C24: =C25 -> 41638 | F24: =F25 -> 41639 | I24: =I25 -> 41640 | L24: =L25 -> 41641 | O24: =O25 -> 41642 | R24: =R25 -> 41643 | U24: =U25 -> 41644 | Y24: =IF(C24="P",INDEX(BDD!$A$2:$B$34,MATCH('1'!$B24,BDD!$A$2:$A$34,0),2),"") | Z24: =IF(D24="P",INDEX(BDD!$A$2:$B$34,MATCH('1'!$B24,BDD!$A$2:$A$34,0),2),"") | AA24: =IF(E24="P",INDEX(BDD!$A$2:$B$34,MATCH('1'!$B24,BDD!$A$2:$A$34,0),2),"") | AB24: =IF(F24="P",INDEX(BDD!$A$2:$B$34,MATCH('1'!$B24,BDD!$A$2:$A$34,0),2),"") | AC24: =IF(G24="P",INDEX(BDD!$A$2:$B$34,MATCH('1'!$B24,BDD!$A$2:$A$34,0),2),"") | AD24: =IF(H24="P",INDEX(BDD!$A$2:$B$34,MATCH('1'!$B24,BDD!$A$2:$A$34,0),2),"") | AE24: =IF(I24="P",INDEX(BDD!$A$2:$B$34,MATCH('1'!$B24,BDD!$A$2:$A$34,0),2),"") | AF24: =IF(J24="P",INDEX(BDD!$A$2:$B$34,MATCH('1'!$B24,BDD!$A$2:$A$34,0),2),"") | ... AS24: =IF(W24="P",INDEX(BDD!$A$2:$B$34,MATCH('1'!$B24,BDD!$A$2:$A$34,0),2),"")
A25: GROUPE | B25: NOM Prénom | C25: =7*C3+DATE(B2,1,3)-WEEKDAY(DATE(B2,1,3))-5 -> 41638 | F25: =C25+1 -> 41639 | I25: =F25+1 -> 41640 | L25: =I25+1 -> 41641 | O25: =L25+1 -> 41642 | R25: =O25+1 -> 41643 | U25: =R25+1 -> 41644 | Y25: =IF(C25="P",INDEX(BDD!$A$2:$B$34,MATCH('1'!$B25,BDD!$A$2:$A$34,0),2),"") | Z25: =IF(D25="P",INDEX(BDD!$A$2:$B$34,MATCH('1'!$B25,BDD!$A$2:$A$34,0),2),"") | AA25: =IF(E25="P",INDEX(BDD!$A$2:$B$34,MATCH('1'!$B25,BDD!$A$2:$A$34,0),2),"") | AB25: =IF(F25="P",INDEX(BDD!$A$2:$B$34,MATCH('1'!$B25,BDD!$A$2:$A$34,0),2),"") | AC25: =IF(G25="P",INDEX(BDD!$A$2:$B$34,MATCH('1'!$B25,BDD!$A$2:$A$34,0),2),"") | AD25: =IF(H25="P",INDEX(BDD!$A$2:$B$34,MATCH('1'!$B25,BDD!$A$2:$A$34,0),2),"") | AE25: =IF(I25="P",INDEX(BDD!$A$2:$B$34,MATCH('1'!$B25,BDD!$A$2:$A$34,0),2),"") | AF25: =IF(J25="P",INDEX(BDD!$A$2:$B$34,MATCH('1'!$B25,BDD!$A$2:$A$34,0),2),"") | ... AS25: =IF(W25="P",INDEX(BDD!$A$2:$B$34,MATCH('1'!$B25,BDD!$A$2:$A$34,0),2),"")
A26: FDVB | B26: =BDD!A12 -> k | N26: P | O26: P | P26: P | Q26: P | R26: P | S26: P | T26: P | U26: P | V26: P | W26: P | Y26: =IF(C26="P",INDEX(BDD!$A$2:$B$34,MATCH('1'!$B26,BDD!$A$2:$A$34,0),2),"") | Z26: =IF(D26="P",INDEX(BDD!$A$2:$B$34,MATCH('1'!$B26,BDD!$A$2:$A$34,0),2),"") | AA26: =IF(E26="P",INDEX(BDD!$A$2:$B$34,MATCH('1'!$B26,BDD!$A$2:$A$34,0),2),"") | AB26: =IF(F26="P",INDEX(BDD!$A$2:$B$34,MATCH('1'!$B26,BDD!$A$2:$A$34,0),2),"") | AC26: =IF(G26="P",INDEX(BDD!$A$2:$B$34,MATCH('1'!$B26,BDD!$A$2:$A$34,0),2),"") | AD26: =IF(H26="P",INDEX(BDD!$A$2:$B$34,MATCH('1'!$B26,BDD!$A$2:$A$34,0),2),"") | AE26: =IF(I26="P",INDEX(BDD!$A$2:$B$34,MATCH('1'!$B26,BDD!$A$2:$A$34,0),2),"") | AF26: =IF(J26="P",INDEX(BDD!$A$2:$B$34,MATCH('1'!$B26,BDD!$A$2:$A$34,0),2),"") | ... AS26: =IF(W26="P",INDEX(BDD!$A$2:$B$34,MATCH('1'!$B26,BDD!$A$2:$A$34,0),2),"") -> MiXÉ
B27: =BDD!A13 -> l | N27: P | O27: P | P27: P | Q27: P | R27: P | T27: P | U27: P | V27: P | W27: P | Y27: =IF(C27="P",INDEX(BDD!$A$2:$B$34,MATCH('1'!$B27,BDD!$A$2:$A$34,0),2),"") | Z27: =IF(D27="P",INDEX(BDD!$A$2:$B$34,MATCH('1'!$B27,BDD!$A$2:$A$34,0),2),"") | AA27: =IF(E27="P",INDEX(BDD!$A$2:$B$34,MATCH('1'!$B27,BDD!$A$2:$A$34,0),2),"") | AB27: =IF(F27="P",INDEX(BDD!$A$2:$B$34,MATCH('1'!$B27,BDD!$A$2:$A$34,0),2),"") | AC27: =IF(G27="P",INDEX(BDD!$A$2:$B$34,MATCH('1'!$B27,BDD!$A$2:$A$34,0),2),"") | AD27: =IF(H27="P",INDEX(BDD!$A$2:$B$34,MATCH('1'!$B27,BDD!$A$2:$A$34,0),2),"") | AE27: =IF(I27="P",INDEX(BDD!$A$2:$B$34,MATCH('1'!$B27,BDD!$A$2:$A$34,0),2),"") | AF27: =IF(J27="P",INDEX(BDD!$A$2:$B$34,MATCH('1'!$B27,BDD!$A$2:$A$34,0),2),"") | ... AS27: =IF(W27="P",INDEX(BDD!$A$2:$B$34,MATCH('1'!$B27,BDD!$A$2:$A$34,0),2),"") -> HYPO
B28: =BDD!A14 -> m | Y28: =IF(C28="P",INDEX(BDD!$A$2:$B$34,MATCH('1'!$B28,BDD!$A$2:$A$34,0),2),"") | Z28: =IF(D28="P",INDEX(BDD!$A$2:$B$34,MATCH('1'!$B28,BDD!$A$2:$A$34,0),2),"") | AA28: =IF(E28="P",INDEX(BDD!$A$2:$B$34,MATCH('1'!$B28,BDD!$A$2:$A$34,0),2),"") | AB28: =IF(F28="P",INDEX(BDD!$A$2:$B$34,MATCH('1'!$B28,BDD!$A$2:$A$34,0),2),"") | AC28: =IF(G28="P",INDEX(BDD!$A$2:$B$34,MATCH('1'!$B28,BDD!$A$2:$A$34,0),2),"") | AD28: =IF(H28="P",INDEX(BDD!$A$2:$B$34,MATCH('1'!$B28,BDD!$A$2:$A$34,0),2),"") | AE28: =IF(I28="P",INDEX(BDD!$A$2:$B$34,MATCH('1'!$B28,BDD!$A$2:$A$34,0),2),"") | AF28: =IF(J28="P",INDEX(BDD!$A$2:$B$34,MATCH('1'!$B28,BDD!$A$2:$A$34,0),2),"") | ... AS28: =IF(W28="P",INDEX(BDD!$A$2:$B$34,MATCH('1'!$B28,BDD!$A$2:$A$34,0),2),"")
B29: =BDD!A15 -> n | N29: P | O29: P | P29: P | Q29: P | R29: P | Y29: =IF(C29="P",INDEX(BDD!$A$2:$B$34,MATCH('1'!$B29,BDD!$A$2:$A$34,0),2),"") | Z29: =IF(D29="P",INDEX(BDD!$A$2:$B$34,MATCH('1'!$B29,BDD!$A$2:$A$34,0),2),"") | AA29: =IF(E29="P",INDEX(BDD!$A$2:$B$34,MATCH('1'!$B29,BDD!$A$2:$A$34,0),2),"") | AB29: =IF(F29="P",INDEX(BDD!$A$2:$B$34,MATCH('1'!$B29,BDD!$A$2:$A$34,0),2),"") | AC29: =IF(G29="P",INDEX(BDD!$A$2:$B$34,MATCH('1'!$B29,BDD!$A$2:$A$34,0),2),"") | AD29: =IF(H29="P",INDEX(BDD!$A$2:$B$34,MATCH('1'!$B29,BDD!$A$2:$A$34,0),2),"") | AE29: =IF(I29="P",INDEX(BDD!$A$2:$B$34,MATCH('1'!$B29,BDD!$A$2:$A$34,0),2),"") | AF29: =IF(J29="P",INDEX(BDD!$A$2:$B$34,MATCH('1'!$B29,BDD!$A$2:$A$34,0),2),"") | ... AS29: =IF(W29="P",INDEX(BDD!$A$2:$B$34,MATCH('1'!$B29,BDD!$A$2:$A$34,0),2),"")
B30: =BDD!A16 -> o | N30: P | O30: P | P30: P | Q30: P | R30: P | S30: P | T30: P | U30: P | V30: P | W30: P | Y30: =IF(C30="P",INDEX(BDD!$A$2:$B$34,MATCH('1'!$B30,BDD!$A$2:$A$34,0),2),"") | Z30: =IF(D30="P",INDEX(BDD!$A$2:$B$34,MATCH('1'!$B30,BDD!$A$2:$A$34,0),2),"") | AA30: =IF(E30="P",INDEX(BDD!$A$2:$B$34,MATCH('1'!$B30,BDD!$A$2:$A$34,0),2),"") | AB30: =IF(F30="P",INDEX(BDD!$A$2:$B$34,MATCH('1'!$B30,BDD!$A$2:$A$34,0),2),"") | AC30: =IF(G30="P",INDEX(BDD!$A$2:$B$34,MATCH('1'!$B30,BDD!$A$2:$A$34,0),2),"") | AD30: =IF(H30="P",INDEX(BDD!$A$2:$B$34,MATCH('1'!$B30,BDD!$A$2:$A$34,0),2),"") | AE30: =IF(I30="P",INDEX(BDD!$A$2:$B$34,MATCH('1'!$B30,BDD!$A$2:$A$34,0),2),"") | AF30: =IF(J30="P",INDEX(BDD!$A$2:$B$34,MATCH('1'!$B30,BDD!$A$2:$A$34,0),2),"") | ... AS30: =IF(W30="P",INDEX(BDD!$A$2:$B$34,MATCH('1'!$B30,BDD!$A$2:$A$34,0),2),"") -> NORMAL
B31: =BDD!A17 -> p | N31: P | O31: P | P31: P | Q31: P | R31: P | S31: P | T31: P | U31: P | V31: P | W31: P | Y31: =IF(C31="P",INDEX(BDD!$A$2:$B$34,MATCH('1'!$B31,BDD!$A$2:$A$34,0),2),"") | Z31: =IF(D31="P",INDEX(BDD!$A$2:$B$34,MATCH('1'!$B31,BDD!$A$2:$A$34,0),2),"") | AA31: =IF(E31="P",INDEX(BDD!$A$2:$B$34,MATCH('1'!$B31,BDD!$A$2:$A$34,0),2),"") | AB31: =IF(F31="P",INDEX(BDD!$A$2:$B$34,MATCH('1'!$B31,BDD!$A$2:$A$34,0),2),"") | AC31: =IF(G31="P",INDEX(BDD!$A$2:$B$34,MATCH('1'!$B31,BDD!$A$2:$A$34,0),2),"") | AD31: =IF(H31="P",INDEX(BDD!$A$2:$B$34,MATCH('1'!$B31,BDD!$A$2:$A$34,0),2),"") | AE31: =IF(I31="P",INDEX(BDD!$A$2:$B$34,MATCH('1'!$B31,BDD!$A$2:$A$34,0),2),"") | AF31: =IF(J31="P",INDEX(BDD!$A$2:$B$34,MATCH('1'!$B31,BDD!$A$2:$A$34,0),2),"") | ... AS31: =IF(W31="P",INDEX(BDD!$A$2:$B$34,MATCH('1'!$B31,BDD!$A$2:$A$34,0),2),"") -> MIXÉ
B32: =BDD!A18 -> q | N32: P | O32: P | P32: P | Q32: P | R32: P | S32: P | T32: P | U32: P | V32: P | W32: P | Y32: =IF(C32="P",INDEX(BDD!$A$2:$B$34,MATCH('1'!$B32,BDD!$A$2:$A$34,0),2),"") | Z32: =IF(D32="P",INDEX(BDD!$A$2:$B$34,MATCH('1'!$B32,BDD!$A$2:$A$34,0),2),"") | AA32: =IF(E32="P",INDEX(BDD!$A$2:$B$34,MATCH('1'!$B32,BDD!$A$2:$A$34,0),2),"") | AB32: =IF(F32="P",INDEX(BDD!$A$2:$B$34,MATCH('1'!$B32,BDD!$A$2:$A$34,0),2),"") | AC32: =IF(G32="P",INDEX(BDD!$A$2:$B$34,MATCH('1'!$B32,BDD!$A$2:$A$34,0),2),"") | AD32: =IF(H32="P",INDEX(BDD!$A$2:$B$34,MATCH('1'!$B32,BDD!$A$2:$A$34,0),2),"") | AE32: =IF(I32="P",INDEX(BDD!$A$2:$B$34,MATCH('1'!$B32,BDD!$A$2:$A$34,0),2),"") | AF32: =IF(J32="P",INDEX(BDD!$A$2:$B$34,MATCH('1'!$B32,BDD!$A$2:$A$34,0),2),"") | ... AS32: =IF(W32="P",INDEX(BDD!$A$2:$B$34,MATCH('1'!$B32,BDD!$A$2:$A$34,0),2),"") -> HYPO MIXÉ
B33: =BDD!A19 -> r | N33: P | O33: P | P33: P | Q33: P | R33: P | Y33: =IF(C33="P",INDEX(BDD!$A$2:$B$34,MATCH('1'!$B33,BDD!$A$2:$A$34,0),2),"") | Z33: =IF(D33="P",INDEX(BDD!$A$2:$B$34,MATCH('1'!$B33,BDD!$A$2:$A$34,0),2),"") | AA33: =IF(E33="P",INDEX(BDD!$A$2:$B$34,MATCH('1'!$B33,BDD!$A$2:$A$34,0),2),"") | AB33: =IF(F33="P",INDEX(BDD!$A$2:$B$34,MATCH('1'!$B33,BDD!$A$2:$A$34,0),2),"") | AC33: =IF(G33="P",INDEX(BDD!$A$2:$B$34,MATCH('1'!$B33,BDD!$A$2:$A$34,0),2),"") | AD33: =IF(H33="P",INDEX(BDD!$A$2:$B$34,MATCH('1'!$B33,BDD!$A$2:$A$34,0),2),"") | AE33: =IF(I33="P",INDEX(BDD!$A$2:$B$34,MATCH('1'!$B33,BDD!$A$2:$A$34,0),2),"") | AF33: =IF(J33="P",INDEX(BDD!$A$2:$B$34,MATCH('1'!$B33,BDD!$A$2:$A$34,0),2),"") | ... AS33: =IF(W33="P",INDEX(BDD!$A$2:$B$34,MATCH('1'!$B33,BDD!$A$2:$A$34,0),2),"")
B34: =BDD!A20 -> s | N34: P | O34: P | P34: P | Q34: P | R34: P | S34: P | T34: P | U34: P | V34: P | W34: P | Y34: =IF(C34="P",INDEX(BDD!$A$2:$B$34,MATCH('1'!$B34,BDD!$A$2:$A$34,0),2),"") | Z34: =IF(D34="P",INDEX(BDD!$A$2:$B$34,MATCH('1'!$B34,BDD!$A$2:$A$34,0),2),"") | AA34: =IF(E34="P",INDEX(BDD!$A$2:$B$34,MATCH('1'!$B34,BDD!$A$2:$A$34,0),2),"") | AB34: =IF(F34="P",INDEX(BDD!$A$2:$B$34,MATCH('1'!$B34,BDD!$A$2:$A$34,0),2),"") | AC34: =IF(G34="P",INDEX(BDD!$A$2:$B$34,MATCH('1'!$B34,BDD!$A$2:$A$34,0),2),"") | AD34: =IF(H34="P",INDEX(BDD!$A$2:$B$34,MATCH('1'!$B34,BDD!$A$2:$A$34,0),2),"") | AE34: =IF(I34="P",INDEX(BDD!$A$2:$B$34,MATCH('1'!$B34,BDD!$A$2:$A$34,0),2),"") | AF34: =IF(J34="P",INDEX(BDD!$A$2:$B$34,MATCH('1'!$B34,BDD!$A$2:$A$34,0),2),"") | ... AS34: =IF(W34="P",INDEX(BDD!$A$2:$B$34,MATCH('1'!$B34,BDD!$A$2:$A$34,0),2),"") -> SANS FIBRES
B35: =BDD!A21 -> t | N35: P | O35: P | P35: P | Q35: P | R35: P | S35: P | T35: P | U35: P | V35: P | W35: P | Y35: =IF(C35="P",INDEX(BDD!$A$2:$B$34,MATCH('1'!$B35,BDD!$A$2:$A$34,0),2),"") | Z35: =IF(D35="P",INDEX(BDD!$A$2:$B$34,MATCH('1'!$B35,BDD!$A$2:$A$34,0),2),"") | AA35: =IF(E35="P",INDEX(BDD!$A$2:$B$34,MATCH('1'!$B35,BDD!$A$2:$A$34,0),2),"") | AB35: =IF(F35="P",INDEX(BDD!$A$2:$B$34,MATCH('1'!$B35,BDD!$A$2:$A$34,0),2),"") | AC35: =IF(G35="P",INDEX(BDD!$A$2:$B$34,MATCH('1'!$B35,BDD!$A$2:$A$34,0),2),"") | AD35: =IF(H35="P",INDEX(BDD!$A$2:$B$34,MATCH('1'!$B35,BDD!$A$2:$A$34,0),2),"") | AE35: =IF(I35="P",INDEX(BDD!$A$2:$B$34,MATCH('1'!$B35,BDD!$A$2:$A$34,0),2),"") | AF35: =IF(J35="P",INDEX(BDD!$A$2:$B$34,MATCH('1'!$B35,BDD!$A$2:$A$34,0),2),"") | ... AS35: =IF(W35="P",INDEX(BDD!$A$2:$B$34,MATCH('1'!$B35,BDD!$A$2:$A$34,0),2),"") -> MIXÉ
B36: =BDD!A27 -> z | N36: P | Q36: P | Y36: =IF(C36="P",INDEX(BDD!$A$2:$B$34,MATCH('1'!$B36,BDD!$A$2:$A$34,0),2),"") | Z36: =IF(D36="P",INDEX(BDD!$A$2:$B$34,MATCH('1'!$B36,BDD!$A$2:$A$34,0),2),"") | AA36: =IF(E36="P",INDEX(BDD!$A$2:$B$34,MATCH('1'!$B36,BDD!$A$2:$A$34,0),2),"") | AB36: =IF(F36="P",INDEX(BDD!$A$2:$B$34,MATCH('1'!$B36,BDD!$A$2:$A$34,0),2),"") | AC36: =IF(G36="P",INDEX(BDD!$A$2:$B$34,MATCH('1'!$B36,BDD!$A$2:$A$34,0),2),"") | AD36: =IF(H36="P",INDEX(BDD!$A$2:$B$34,MATCH('1'!$B36,BDD!$A$2:$A$34,0),2),"") | AE36: =IF(I36="P",INDEX(BDD!$A$2:$B$34,MATCH('1'!$B36,BDD!$A$2:$A$34,0),2),"") | AF36: =IF(J36="P",INDEX(BDD!$A$2:$B$34,MATCH('1'!$B36,BDD!$A$2:$A$34,0),2),"") | ... AS36: =IF(W36="P",INDEX(BDD!$A$2:$B$34,MATCH('1'!$B36,BDD!$A$2:$A$34,0),2),"")
B37: =BDD!A28 -> aa | N37: P | P37: P | Y37: =IF(C37="P",INDEX(BDD!$A$2:$B$34,MATCH('1'!$B37,BDD!$A$2:$A$34,0),2),"") | Z37: =IF(D37="P",INDEX(BDD!$A$2:$B$34,MATCH('1'!$B37,BDD!$A$2:$A$34,0),2),"") | AA37: =IF(E37="P",INDEX(BDD!$A$2:$B$34,MATCH('1'!$B37,BDD!$A$2:$A$34,0),2),"") | AB37: =IF(F37="P",INDEX(BDD!$A$2:$B$34,MATCH('1'!$B37,BDD!$A$2:$A$34,0),2),"") | AC37: =IF(G37="P",INDEX(BDD!$A$2:$B$34,MATCH('1'!$B37,BDD!$A$2:$A$34,0),2),"") | AD37: =IF(H37="P",INDEX(BDD!$A$2:$B$34,MATCH('1'!$B37,BDD!$A$2:$A$34,0),2),"") | AE37: =IF(I37="P",INDEX(BDD!$A$2:$B$34,MATCH('1'!$B37,BDD!$A$2:$A$34,0),2),"") | AF37: =IF(J37="P",INDEX(BDD!$A$2:$B$34,MATCH('1'!$B37,BDD!$A$2:$A$34,0),2),"") | ... AS37: =IF(W37="P",INDEX(BDD!$A$2:$B$34,MATCH('1'!$B37,BDD!$A$2:$A$34,0),2),"")
B38: =BDD!A29 -> ab | S38: P | U38: P | V38: P | W38: P | Y38: =IF(C38="P",INDEX(BDD!$A$2:$B$34,MATCH('1'!$B38,BDD!$A$2:$A$34,0),2),"") | Z38: =IF(D38="P",INDEX(BDD!$A$2:$B$34,MATCH('1'!$B38,BDD!$A$2:$A$34,0),2),"") | AA38: =IF(E38="P",INDEX(BDD!$A$2:$B$34,MATCH('1'!$B38,BDD!$A$2:$A$34,0),2),"") | AB38: =IF(F38="P",INDEX(BDD!$A$2:$B$34,MATCH('1'!$B38,BDD!$A$2:$A$34,0),2),"") | AC38: =IF(G38="P",INDEX(BDD!$A$2:$B$34,MATCH('1'!$B38,BDD!$A$2:$A$34,0),2),"") | AD38: =IF(H38="P",INDEX(BDD!$A$2:$B$34,MATCH('1'!$B38,BDD!$A$2:$A$34,0),2),"") | AE38: =IF(I38="P",INDEX(BDD!$A$2:$B$34,MATCH('1'!$B38,BDD!$A$2:$A$34,0),2),"") | AF38: =IF(J38="P",INDEX(BDD!$A$2:$B$34,MATCH('1'!$B38,BDD!$A$2:$A$34,0),2),"") | ... AS38: =IF(W38="P",INDEX(BDD!$A$2:$B$34,MATCH('1'!$B38,BDD!$A$2:$A$34,0),2),"") -> NORMAL
B39: =BDD!A30 -> ac | P39: P | Y39: =IF(C39="P",INDEX(BDD!$A$2:$B$34,MATCH('1'!$B39,BDD!$A$2:$A$34,0),2),"") | Z39: =IF(D39="P",INDEX(BDD!$A$2:$B$34,MATCH('1'!$B39,BDD!$A$2:$A$34,0),2),"") | AA39: =IF(E39="P",INDEX(BDD!$A$2:$B$34,MATCH('1'!$B39,BDD!$A$2:$A$34,0),2),"") | AB39: =IF(F39="P",INDEX(BDD!$A$2:$B$34,MATCH('1'!$B39,BDD!$A$2:$A$34,0),2),"") | AC39: =IF(G39="P",INDEX(BDD!$A$2:$B$34,MATCH('1'!$B39,BDD!$A$2:$A$34,0),2),"") | AD39: =IF(H39="P",INDEX(BDD!$A$2:$B$34,MATCH('1'!$B39,BDD!$A$2:$A$34,0),2),"") | AE39: =IF(I39="P",INDEX(BDD!$A$2:$B$34,MATCH('1'!$B39,BDD!$A$2:$A$34,0),2),"") | AF39: =IF(J39="P",INDEX(BDD!$A$2:$B$34,MATCH('1'!$B39,BDD!$A$2:$A$34,0),2),"") | ... AS39: =IF(W39="P",INDEX(BDD!$A$2:$B$34,MATCH('1'!$B39,BDD!$A$2:$A$34,0),2),"")
B40: =BDD!A31 -> ad | S40: P | T40: P | U40: P | V40: P | W40: P | Y40: =IF(C40="P",INDEX(BDD!$A$2:$B$34,MATCH('1'!$B40,BDD!$A$2:$A$34,0),2),"") | Z40: =IF(D40="P",INDEX(BDD!$A$2:$B$34,MATCH('1'!$B40,BDD!$A$2:$A$34,0),2),"") | AA40: =IF(E40="P",INDEX(BDD!$A$2:$B$34,MATCH('1'!$B40,BDD!$A$2:$A$34,0),2),"") | AB40: =IF(F40="P",INDEX(BDD!$A$2:$B$34,MATCH('1'!$B40,BDD!$A$2:$A$34,0),2),"") | AC40: =IF(G40="P",INDEX(BDD!$A$2:$B$34,MATCH('1'!$B40,BDD!$A$2:$A$34,0),2),"") | AD40: =IF(H40="P",INDEX(BDD!$A$2:$B$34,MATCH('1'!$B40,BDD!$A$2:$A$34,0),2),"") | AE40: =IF(I40="P",INDEX(BDD!$A$2:$B$34,MATCH('1'!$B40,BDD!$A$2:$A$34,0),2),"") | AF40: =IF(J40="P",INDEX(BDD!$A$2:$B$34,MATCH('1'!$B40,BDD!$A$2:$A$34,0),2),"") | ... AS40: =IF(W40="P",INDEX(BDD!$A$2:$B$34,MATCH('1'!$B40,BDD!$A$2:$A$34,0),2),"") -> NORMAL
B41: =BDD!A32 -> ae | P41: P | Q41: P | Y41: =IF(C41="P",INDEX(BDD!$A$2:$B$34,MATCH('1'!$B41,BDD!$A$2:$A$34,0),2),"") | Z41: =IF(D41="P",INDEX(BDD!$A$2:$B$34,MATCH('1'!$B41,BDD!$A$2:$A$34,0),2),"") | AA41: =IF(E41="P",INDEX(BDD!$A$2:$B$34,MATCH('1'!$B41,BDD!$A$2:$A$34,0),2),"") | AB41: =IF(F41="P",INDEX(BDD!$A$2:$B$34,MATCH('1'!$B41,BDD!$A$2:$A$34,0),2),"") | AC41: =IF(G41="P",INDEX(BDD!$A$2:$B$34,MATCH('1'!$B41,BDD!$A$2:$A$34,0),2),"") | AD41: =IF(H41="P",INDEX(BDD!$A$2:$B$34,MATCH('1'!$B41,BDD!$A$2:$A$34,0),2),"") | AE41: =IF(I41="P",INDEX(BDD!$A$2:$B$34,MATCH('1'!$B41,BDD!$A$2:$A$34,0),2),"") | AF41: =IF(J41="P",INDEX(BDD!$A$2:$B$34,MATCH('1'!$B41,BDD!$A$2:$A$34,0),2),"") | ... AS41: =IF(W41="P",INDEX(BDD!$A$2:$B$34,MATCH('1'!$B41,BDD!$A$2:$A$34,0),2),"")
...

Sheet 2
B2: 2014 | C2: Semaine | AT2: P | AU2: : Présent
C3: =MID(CELL("nomfichier",$AT$2),FIND("]",CELL("nomfichier",$AT$2))+1,50) -> 2 | AT3: A | AU3: : Annulé
C4: =C5 -> 41645 | F4: =F5 -> 41646 | I4: =I5 -> 41647 | L4: =L5 -> 41648 | O4: =O5 -> 41649 | R4: =R5 -> 41650 | U4: =U5 -> 41651 | AT4: K | AU4: : Pique-nique
A5: GROUPE | B5: NOM Prénom | C5: =7*C3+DATE(B2,1,3)-WEEKDAY(DATE(B2,1,3))-5 -> 41645 | F5: =C5+1 -> 41646 | I5: =F5+1 -> 41647 | L5: =I5+1 -> 41648 | O5: =L5+1 -> 41649 | R5: =O5+1 -> 41650 | U5: =R5+1 -> 41651 | AT5: Fériés et WE
A6: FDVA | B6: =BDD!A2 -> a | C6: P | D6: P | E6: P | F6: P | G6: P | H6: P | I6: P | J6: P | K6: P | L6: P | N6: P | O6: P | P6: P | Q6: P | R6: P | S6: P | T6: P | U6: P | V6: P | W6: P | Y6: =IF(C6="P",INDEX(BDD!$A$2:$B$34,MATCH('2'!$B6,BDD!$A$2:$A$34,0),2),"") -> HYPO | Z6: =IF(D6="P",INDEX(BDD!$A$2:$B$34,MATCH('2'!$B6,BDD!$A$2:$A$34,0),2),"") -> HYPO | AA6: =IF(E6="P",INDEX(BDD!$A$2:$B$34,MATCH('2'!$B6,BDD!$A$2:$A$34,0),2),"") -> HYPO | AB6: =IF(F6="P",INDEX(BDD!$A$2:$B$34,MATCH('2'!$B6,BDD!$A$2:$A$34,0),2),"") -> HYPO | AC6: =IF(G6="P",INDEX(BDD!$A$2:$B$34,MATCH('2'!$B6,BDD!$A$2:$A$34,0),2),"") -> HYPO | AD6: =IF(H6="P",INDEX(BDD!$A$2:$B$34,MATCH('2'!$B6,BDD!$A$2:$A$34,0),2),"") -> HYPO | AE6: =IF(I6="P",INDEX(BDD!$A$2:$B$34,MATCH('2'!$B6,BDD!$A$2:$A$34,0),2),"") -> HYPO | AF6: =IF(J6="P",INDEX(BDD!$A$2:$B$34,MATCH('2'!$B6,BDD!$A$2:$A$34,0),2),"") -> HYPO | ... AS6: =IF(W6="P",INDEX(BDD!$A$2:$B$34,MATCH('2'!$B6,BDD!$A$2:$A$34,0),2),"") -> HYPO | AT6: Absent
B7: =BDD!A3 -> b | C7: P | D7: P | E7: P | F7: P | G7: P | H7: P | I7: P | J7: P | K7: P | L7: P | N7: P | O7: P | P7: P | Q7: P | R7: P | S7: P | T7: P | U7: P | V7: P | W7: P | Y7: =IF(C7="P",INDEX(BDD!$A$2:$B$34,MATCH('2'!$B7,BDD!$A$2:$A$34,0),2),"") -> NORMAL | Z7: =IF(D7="P",INDEX(BDD!$A$2:$B$34,MATCH('2'!$B7,BDD!$A$2:$A$34,0),2),"") -> NORMAL | AA7: =IF(E7="P",INDEX(BDD!$A$2:$B$34,MATCH('2'!$B7,BDD!$A$2:$A$34,0),2),"") -> NORMAL | AB7: =IF(F7="P",INDEX(BDD!$A$2:$B$34,MATCH('2'!$B7,BDD!$A$2:$A$34,0),2),"") -> NORMAL | AC7: =IF(G7="P",INDEX(BDD!$A$2:$B$34,MATCH('2'!$B7,BDD!$A$2:$A$34,0),2),"") -> NORMAL | AD7: =IF(H7="P",INDEX(BDD!$A$2:$B$34,MATCH('2'!$B7,BDD!$A$2:$A$34,0),2),"") -> NORMAL | AE7: =IF(I7="P",INDEX(BDD!$A$2:$B$34,MATCH('2'!$B7,BDD!$A$2:$A$34,0),2),"") -> NORMAL | AF7: =IF(J7="P",INDEX(BDD!$A$2:$B$34,MATCH('2'!$B7,BDD!$A$2:$A$34,0),2),"") -> NORMAL | ... AS7: =IF(W7="P",INDEX(BDD!$A$2:$B$34,MATCH('2'!$B7,BDD!$A$2:$A$34,0),2),"") -> NORMAL
B8: =BDD!A4 -> c | C8: P | D8: P | E8: P | F8: P | G8: P | H8: P | I8: P | J8: P | K8: P | L8: P | N8: P | O8: P | P8: P | Q8: P | R8: P | S8: P | T8: P | U8: P | V8: P | W8: P | Y8: =IF(C8="P",INDEX(BDD!$A$2:$B$34,MATCH('2'!$B8,BDD!$A$2:$A$34,0),2),"") -> HYPO SANS FIBRES | Z8: =IF(D8="P",INDEX(BDD!$A$2:$B$34,MATCH('2'!$B8,BDD!$A$2:$A$34,0),2),"") -> HYPO SANS FIBRES | AA8: =IF(E8="P",INDEX(BDD!$A$2:$B$34,MATCH('2'!$B8,BDD!$A$2:$A$34,0),2),"") -> HYPO SANS FIBRES | AB8: =IF(F8="P",INDEX(BDD!$A$2:$B$34,MATCH('2'!$B8,BDD!$A$2:$A$34,0),2),"") -> HYPO SANS FIBRES | AC8: =IF(G8="P",INDEX(BDD!$A$2:$B$34,MATCH('2'!$B8,BDD!$A$2:$A$34,0),2),"") -> HYPO SANS FIBRES | AD8: =IF(H8="P",INDEX(BDD!$A$2:$B$34,MATCH('2'!$B8,BDD!$A$2:$A$34,0),2),"") -> HYPO SANS FIBRES | AE8: =IF(I8="P",INDEX(BDD!$A$2:$B$34,MATCH('2'!$B8,BDD!$A$2:$A$34,0),2),"") -> HYPO SANS FIBRES | AF8: =IF(J8="P",INDEX(BDD!$A$2:$B$34,MATCH('2'!$B8,BDD!$A$2:$A$34,0),2),"") -> HYPO SANS FIBRES | ... AS8: =IF(W8="P",INDEX(BDD!$A$2:$B$34,MATCH('2'!$B8,BDD!$A$2:$A$34,0),2),"") -> HYPO SANS FIBRES
B9: =BDD!A5 -> d | Y9: =IF(C9="P",INDEX(BDD!$A$2:$B$34,MATCH('2'!$B9,BDD!$A$2:$A$34,0),2),"") | Z9: =IF(D9="P",INDEX(BDD!$A$2:$B$34,MATCH('2'!$B9,BDD!$A$2:$A$34,0),2),"") | AA9: =IF(E9="P",INDEX(BDD!$A$2:$B$34,MATCH('2'!$B9,BDD!$A$2:$A$34,0),2),"") | AB9: =IF(F9="P",INDEX(BDD!$A$2:$B$34,MATCH('2'!$B9,BDD!$A$2:$A$34,0),2),"") | AC9: =IF(G9="P",INDEX(BDD!$A$2:$B$34,MATCH('2'!$B9,BDD!$A$2:$A$34,0),2),"") | AD9: =IF(H9="P",INDEX(BDD!$A$2:$B$34,MATCH('2'!$B9,BDD!$A$2:$A$34,0),2),"") | AE9: =IF(I9="P",INDEX(BDD!$A$2:$B$34,MATCH('2'!$B9,BDD!$A$2:$A$34,0),2),"") | AF9: =IF(J9="P",INDEX(BDD!$A$2:$B$34,MATCH('2'!$B9,BDD!$A$2:$A$34,0),2),"") | ... AS9: =IF(W9="P",INDEX(BDD!$A$2:$B$34,MATCH('2'!$B9,BDD!$A$2:$A$34,0),2),"")
B10: =BDD!A6 -> e | C10: P | D10: P | E10: P | F10: P | G10: P | H10: P | I10: P | J10: P | K10: P | L10: P | N10: P | O10: P | P10: P | Q10: P | R10: P | S10: P | T10: P | U10: P | V10: P | W10: P | Y10: =IF(C10="P",INDEX(BDD!$A$2:$B$34,MATCH('2'!$B10,BDD!$A$2:$A$34,0),2),"") -> HYPO | Z10: =IF(D10="P",INDEX(BDD!$A$2:$B$34,MATCH('2'!$B10,BDD!$A$2:$A$34,0),2),"") -> HYPO | AA10: =IF(E10="P",INDEX(BDD!$A$2:$B$34,MATCH('2'!$B10,BDD!$A$2:$A$34,0),2),"") -> HYPO | AB10: =IF(F10="P",INDEX(BDD!$A$2:$B$34,MATCH('2'!$B10,BDD!$A$2:$A$34,0),2),"") -> HYPO | AC10: =IF(G10="P",INDEX(BDD!$A$2:$B$34,MATCH('2'!$B10,BDD!$A$2:$A$34,0),2),"") -> HYPO | AD10: =IF(H10="P",INDEX(BDD!$A$2:$B$34,MATCH('2'!$B10,BDD!$A$2:$A$34,0),2),"") -> HYPO | AE10: =IF(I10="P",INDEX(BDD!$A$2:$B$34,MATCH('2'!$B10,BDD!$A$2:$A$34,0),2),"") -> HYPO | AF10: =IF(J10="P",INDEX(BDD!$A$2:$B$34,MATCH('2'!$B10,BDD!$A$2:$A$34,0),2),"") -> HYPO | ... AS10: =IF(W10="P",INDEX(BDD!$A$2:$B$34,MATCH('2'!$B10,BDD!$A$2:$A$34,0),2),"") -> HYPO
B11: =BDD!A7 -> f | Y11: =IF(C11="P",INDEX(BDD!$A$2:$B$34,MATCH('2'!$B11,BDD!$A$2:$A$34,0),2),"") | Z11: =IF(D11="P",INDEX(BDD!$A$2:$B$34,MATCH('2'!$B11,BDD!$A$2:$A$34,0),2),"") | AA11: =IF(E11="P",INDEX(BDD!$A$2:$B$34,MATCH('2'!$B11,BDD!$A$2:$A$34,0),2),"") | AB11: =IF(F11="P",INDEX(BDD!$A$2:$B$34,MATCH('2'!$B11,BDD!$A$2:$A$34,0),2),"") | AC11: =IF(G11="P",INDEX(BDD!$A$2:$B$34,MATCH('2'!$B11,BDD!$A$2:$A$34,0),2),"") | AD11: =IF(H11="P",INDEX(BDD!$A$2:$B$34,MATCH('2'!$B11,BDD!$A$2:$A$34,0),2),"") | AE11: =IF(I11="P",INDEX(BDD!$A$2:$B$34,MATCH('2'!$B11,BDD!$A$2:$A$34,0),2),"") | AF11: =IF(J11="P",INDEX(BDD!$A$2:$B$34,MATCH('2'!$B11,BDD!$A$2:$A$34,0),2),"") | ... AS11: =IF(W11="P",INDEX(BDD!$A$2:$B$34,MATCH('2'!$B11,BDD!$A$2:$A$34,0),2),"")
B12: =BDD!A8 -> g | Y12: =IF(C12="P",INDEX(BDD!$A$2:$B$34,MATCH('2'!$B12,BDD!$A$2:$A$34,0),2),"") | Z12: =IF(D12="P",INDEX(BDD!$A$2:$B$34,MATCH('2'!$B12,BDD!$A$2:$A$34,0),2),"") | AA12: =IF(E12="P",INDEX(BDD!$A$2:$B$34,MATCH('2'!$B12,BDD!$A$2:$A$34,0),2),"") | AB12: =IF(F12="P",INDEX(BDD!$A$2:$B$34,MATCH('2'!$B12,BDD!$A$2:$A$34,0),2),"") | AC12: =IF(G12="P",INDEX(BDD!$A$2:$B$34,MATCH('2'!$B12,BDD!$A$2:$A$34,0),2),"") | AD12: =IF(H12="P",INDEX(BDD!$A$2:$B$34,MATCH('2'!$B12,BDD!$A$2:$A$34,0),2),"") | AE12: =IF(I12="P",INDEX(BDD!$A$2:$B$34,MATCH('2'!$B12,BDD!$A$2:$A$34,0),2),"") | AF12: =IF(J12="P",INDEX(BDD!$A$2:$B$34,MATCH('2'!$B12,BDD!$A$2:$A$34,0),2),"") | ... AS12: =IF(W12="P",INDEX(BDD!$A$2:$B$34,MATCH('2'!$B12,BDD!$A$2:$A$34,0),2),"")
B13: =BDD!A9 -> h | C13: P | D13: P | E13: P | F13: P | G13: P | L13: P | N13: P | O13: P | P13: P | Q13: P | R13: P | W13: P | Y13: =IF(C13="P",INDEX(BDD!$A$2:$B$34,MATCH('2'!$B13,BDD!$A$2:$A$34,0),2),"") -> HYPO | Z13: =IF(D13="P",INDEX(BDD!$A$2:$B$34,MATCH('2'!$B13,BDD!$A$2:$A$34,0),2),"") -> HYPO | AA13: =IF(E13="P",INDEX(BDD!$A$2:$B$34,MATCH('2'!$B13,BDD!$A$2:$A$34,0),2),"") -> HYPO | AB13: =IF(F13="P",INDEX(BDD!$A$2:$B$34,MATCH('2'!$B13,BDD!$A$2:$A$34,0),2),"") -> HYPO | AC13: =IF(G13="P",INDEX(BDD!$A$2:$B$34,MATCH('2'!$B13,BDD!$A$2:$A$34,0),2),"") -> HYPO | AD13: =IF(H13="P",INDEX(BDD!$A$2:$B$34,MATCH('2'!$B13,BDD!$A$2:$A$34,0),2),"") | AE13: =IF(I13="P",INDEX(BDD!$A$2:$B$34,MATCH('2'!$B13,BDD!$A$2:$A$34,0),2),"") | AF13: =IF(J13="P",INDEX(BDD!$A$2:$B$34,MATCH('2'!$B13,BDD!$A$2:$A$34,0),2),"") | ... AS13: =IF(W13="P",INDEX(BDD!$A$2:$B$34,MATCH('2'!$B13,BDD!$A$2:$A$34,0),2),"") -> HYPO
B14: =BDD!A10 -> i | C14: P | D14: P | E14: P | F14: P | G14: P | H14: P | I14: P | J14: P | K14: P | L14: P | N14: P | O14: P | P14: P | Q14: P | R14: P | S14: P | T14: P | U14: P | V14: P | W14: P | Y14: =IF(C14="P",INDEX(BDD!$A$2:$B$34,MATCH('2'!$B14,BDD!$A$2:$A$34,0),2),"") -> NORMAL | Z14: =IF(D14="P",INDEX(BDD!$A$2:$B$34,MATCH('2'!$B14,BDD!$A$2:$A$34,0),2),"") -> NORMAL | AA14: =IF(E14="P",INDEX(BDD!$A$2:$B$34,MATCH('2'!$B14,BDD!$A$2:$A$34,0),2),"") -> NORMAL | AB14: =IF(F14="P",INDEX(BDD!$A$2:$B$34,MATCH('2'!$B14,BDD!$A$2:$A$34,0),2),"") -> NORMAL | AC14: =IF(G14="P",INDEX(BDD!$A$2:$B$34,MATCH('2'!$B14,BDD!$A$2:$A$34,0),2),"") -> NORMAL | AD14: =IF(H14="P",INDEX(BDD!$A$2:$B$34,MATCH('2'!$B14,BDD!$A$2:$A$34,0),2),"") -> NORMAL | AE14: =IF(I14="P",INDEX(BDD!$A$2:$B$34,MATCH('2'!$B14,BDD!$A$2:$A$34,0),2),"") -> NORMAL | AF14: =IF(J14="P",INDEX(BDD!$A$2:$B$34,MATCH('2'!$B14,BDD!$A$2:$A$34,0),2),"") -> NORMAL | ... AS14: =IF(W14="P",INDEX(BDD!$A$2:$B$34,MATCH('2'!$B14,BDD!$A$2:$A$34,0),2),"") -> NORMAL
B15: =BDD!A11 -> j | C15: P | D15: P | E15: P | F15: P | G15: P | H15: P | I15: P | J15: P | K15: P | L15: P | N15: P | O15: P | P15: P | Q15: P | R15: P | S15: P | T15: P | U15: P | V15: P | W15: P | Y15: =IF(C15="P",INDEX(BDD!$A$2:$B$34,MATCH('2'!$B15,BDD!$A$2:$A$34,0),2),"") -> MIXÉ SANS FIBRES | Z15: =IF(D15="P",INDEX(BDD!$A$2:$B$34,MATCH('2'!$B15,BDD!$A$2:$A$34,0),2),"") -> MIXÉ SANS FIBRES | AA15: =IF(E15="P",INDEX(BDD!$A$2:$B$34,MATCH('2'!$B15,BDD!$A$2:$A$34,0),2),"") -> MIXÉ SANS FIBRES | AB15: =IF(F15="P",INDEX(BDD!$A$2:$B$34,MATCH('2'!$B15,BDD!$A$2:$A$34,0),2),"") -> MIXÉ SANS FIBRES | AC15: =IF(G15="P",INDEX(BDD!$A$2:$B$34,MATCH('2'!$B15,BDD!$A$2:$A$34,0),2),"") -> MIXÉ SANS FIBRES | AD15: =IF(H15="P",INDEX(BDD!$A$2:$B$34,MATCH('2'!$B15,BDD!$A$2:$A$34,0),2),"") -> MIXÉ SANS FIBRES | AE15: =IF(I15="P",INDEX(BDD!$A$2:$B$34,MATCH('2'!$B15,BDD!$A$2:$A$34,0),2),"") -> MIXÉ SANS FIBRES | AF15: =IF(J15="P",INDEX(BDD!$A$2:$B$34,MATCH('2'!$B15,BDD!$A$2:$A$34,0),2),"") -> MIXÉ SANS FIBRES | ... AS15: =IF(W15="P",INDEX(BDD!$A$2:$B$34,MATCH('2'!$B15,BDD!$A$2:$A$34,0),2),"") -> MIXÉ SANS FIBRES
B16: =BDD!A22 -> u | H16: P | I16: P | J16: P | K16: P | L16: P | S16: P | T16: P | U16: P | V16: P | W16: P | Y16: =IF(C16="P",INDEX(BDD!$A$2:$B$34,MATCH('2'!$B16,BDD!$A$2:$A$34,0),2),"") | Z16: =IF(D16="P",INDEX(BDD!$A$2:$B$34,MATCH('2'!$B16,BDD!$A$2:$A$34,0),2),"") | AA16: =IF(E16="P",INDEX(BDD!$A$2:$B$34,MATCH('2'!$B16,BDD!$A$2:$A$34,0),2),"") | AB16: =IF(F16="P",INDEX(BDD!$A$2:$B$34,MATCH('2'!$B16,BDD!$A$2:$A$34,0),2),"") | AC16: =IF(G16="P",INDEX(BDD!$A$2:$B$34,MATCH('2'!$B16,BDD!$A$2:$A$34,0),2),"") | AD16: =IF(H16="P",INDEX(BDD!$A$2:$B$34,MATCH('2'!$B16,BDD!$A$2:$A$34,0),2),"") -> NORMAL | AE16: =IF(I16="P",INDEX(BDD!$A$2:$B$34,MATCH('2'!$B16,BDD!$A$2:$A$34,0),2),"") -> NORMAL | AF16: =IF(J16="P",INDEX(BDD!$A$2:$B$34,MATCH('2'!$B16,BDD!$A$2:$A$34,0),2),"") -> NORMAL | ... AS16: =IF(W16="P",INDEX(BDD!$A$2:$B$34,MATCH('2'!$B16,BDD!$A$2:$A$34,0),2),"") -> NORMAL
B17: =BDD!A23 -> v | Y17: =IF(C17="P",INDEX(BDD!$A$2:$B$34,MATCH('2'!$B17,BDD!$A$2:$A$34,0),2),"") | Z17: =IF(D17="P",INDEX(BDD!$A$2:$B$34,MATCH('2'!$B17,BDD!$A$2:$A$34,0),2),"") | AA17: =IF(E17="P",INDEX(BDD!$A$2:$B$34,MATCH('2'!$B17,BDD!$A$2:$A$34,0),2),"") | AB17: =IF(F17="P",INDEX(BDD!$A$2:$B$34,MATCH('2'!$B17,BDD!$A$2:$A$34,0),2),"") | AC17: =IF(G17="P",INDEX(BDD!$A$2:$B$34,MATCH('2'!$B17,BDD!$A$2:$A$34,0),2),"") | AD17: =IF(H17="P",INDEX(BDD!$A$2:$B$34,MATCH('2'!$B17,BDD!$A$2:$A$34,0),2),"") | AE17: =IF(I17="P",INDEX(BDD!$A$2:$B$34,MATCH('2'!$B17,BDD!$A$2:$A$34,0),2),"") | AF17: =IF(J17="P",INDEX(BDD!$A$2:$B$34,MATCH('2'!$B17,BDD!$A$2:$A$34,0),2),"") | ... AS17: =IF(W17="P",INDEX(BDD!$A$2:$B$34,MATCH('2'!$B17,BDD!$A$2:$A$34,0),2),"")
B18: =BDD!A24 -> w | E18: P | P18: P | Y18: =IF(C18="P",INDEX(BDD!$A$2:$B$34,MATCH('2'!$B18,BDD!$A$2:$A$34,0),2),"") | Z18: =IF(D18="P",INDEX(BDD!$A$2:$B$34,MATCH('2'!$B18,BDD!$A$2:$A$34,0),2),"") | AA18: =IF(E18="P",INDEX(BDD!$A$2:$B$34,MATCH('2'!$B18,BDD!$A$2:$A$34,0),2),"") -> NORMAL | AB18: =IF(F18="P",INDEX(BDD!$A$2:$B$34,MATCH('2'!$B18,BDD!$A$2:$A$34,0),2),"") | AC18: =IF(G18="P",INDEX(BDD!$A$2:$B$34,MATCH('2'!$B18,BDD!$A$2:$A$34,0),2),"") | AD18: =IF(H18="P",INDEX(BDD!$A$2:$B$34,MATCH('2'!$B18,BDD!$A$2:$A$34,0),2),"") | AE18: =IF(I18="P",INDEX(BDD!$A$2:$B$34,MATCH('2'!$B18,BDD!$A$2:$A$34,0),2),"") | AF18: =IF(J18="P",INDEX(BDD!$A$2:$B$34,MATCH('2'!$B18,BDD!$A$2:$A$34,0),2),"") | ... AS18: =IF(W18="P",INDEX(BDD!$A$2:$B$34,MATCH('2'!$B18,BDD!$A$2:$A$34,0),2),"")
B19: =BDD!A25 -> x | C19: P | N19: P | Y19: =IF(C19="P",INDEX(BDD!$A$2:$B$34,MATCH('2'!$B19,BDD!$A$2:$A$34,0),2),"") -> NORMAL | Z19: =IF(D19="P",INDEX(BDD!$A$2:$B$34,MATCH('2'!$B19,BDD!$A$2:$A$34,0),2),"") | AA19: =IF(E19="P",INDEX(BDD!$A$2:$B$34,MATCH('2'!$B19,BDD!$A$2:$A$34,0),2),"") | AB19: =IF(F19="P",INDEX(BDD!$A$2:$B$34,MATCH('2'!$B19,BDD!$A$2:$A$34,0),2),"") | AC19: =IF(G19="P",INDEX(BDD!$A$2:$B$34,MATCH('2'!$B19,BDD!$A$2:$A$34,0),2),"") | AD19: =IF(H19="P",INDEX(BDD!$A$2:$B$34,MATCH('2'!$B19,BDD!$A$2:$A$34,0),2),"") | AE19: =IF(I19="P",INDEX(BDD!$A$2:$B$34,MATCH('2'!$B19,BDD!$A$2:$A$34,0),2),"") | AF19: =IF(J19="P",INDEX(BDD!$A$2:$B$34,MATCH('2'!$B19,BDD!$A$2:$A$34,0),2),"") | ... AS19: =IF(W19="P",INDEX(BDD!$A$2:$B$34,MATCH('2'!$B19,BDD!$A$2:$A$34,0),2),"")
B20: =BDD!A26 -> y | Y20: =IF(C20="P",INDEX(BDD!$A$2:$B$34,MATCH('2'!$B20,BDD!$A$2:$A$34,0),2),"") | Z20: =IF(D20="P",INDEX(BDD!$A$2:$B$34,MATCH('2'!$B20,BDD!$A$2:$A$34,0),2),"") | AA20: =IF(E20="P",INDEX(BDD!$A$2:$B$34,MATCH('2'!$B20,BDD!$A$2:$A$34,0),2),"") | AB20: =IF(F20="P",INDEX(BDD!$A$2:$B$34,MATCH('2'!$B20,BDD!$A$2:$A$34,0),2),"") | AC20: =IF(G20="P",INDEX(BDD!$A$2:$B$34,MATCH('2'!$B20,BDD!$A$2:$A$34,0),2),"") | AD20: =IF(H20="P",INDEX(BDD!$A$2:$B$34,MATCH('2'!$B20,BDD!$A$2:$A$34,0),2),"") | AE20: =IF(I20="P",INDEX(BDD!$A$2:$B$34,MATCH('2'!$B20,BDD!$A$2:$A$34,0),2),"") | AF20: =IF(J20="P",INDEX(BDD!$A$2:$B$34,MATCH('2'!$B20,BDD!$A$2:$A$34,0),2),"") | ... AS20: =IF(W20="P",INDEX(BDD!$A$2:$B$34,MATCH('2'!$B20,BDD!$A$2:$A$34,0),2),"")
B21: =BDD!A33 -> Stagiaire1 | Y21: =IF(C21="P",INDEX(BDD!$A$2:$B$34,MATCH('2'!$B21,BDD!$A$2:$A$34,0),2),"") | Z21: =IF(D21="P",INDEX(BDD!$A$2:$B$34,MATCH('2'!$B21,BDD!$A$2:$A$34,0),2),"") | AA21: =IF(E21="P",INDEX(BDD!$A$2:$B$34,MATCH('2'!$B21,BDD!$A$2:$A$34,0),2),"") | AB21: =IF(F21="P",INDEX(BDD!$A$2:$B$34,MATCH('2'!$B21,BDD!$A$2:$A$34,0),2),"") | AC21: =IF(G21="P",INDEX(BDD!$A$2:$B$34,MATCH('2'!$B21,BDD!$A$2:$A$34,0),2),"") | AD21: =IF(H21="P",INDEX(BDD!$A$2:$B$34,MATCH('2'!$B21,BDD!$A$2:$A$34,0),2),"") | AE21: =IF(I21="P",INDEX(BDD!$A$2:$B$34,MATCH('2'!$B21,BDD!$A$2:$A$34,0),2),"") | AF21: =IF(J21="P",INDEX(BDD!$A$2:$B$34,MATCH('2'!$B21,BDD!$A$2:$A$34,0),2),"") | ... AS21: =IF(W21="P",INDEX(BDD!$A$2:$B$34,MATCH('2'!$B21,BDD!$A$2:$A$34,0),2),"")
C22: Semaine | Y22: =IF(C22="P",INDEX(BDD!$A$2:$B$34,MATCH('2'!$B22,BDD!$A$2:$A$34,0),2),"") | Z22: =IF(D22="P",INDEX(BDD!$A$2:$B$34,MATCH('2'!$B22,BDD!$A$2:$A$34,0),2),"") | AA22: =IF(E22="P",INDEX(BDD!$A$2:$B$34,MATCH('2'!$B22,BDD!$A$2:$A$34,0),2),"") | AB22: =IF(F22="P",INDEX(BDD!$A$2:$B$34,MATCH('2'!$B22,BDD!$A$2:$A$34,0),2),"") | AC22: =IF(G22="P",INDEX(BDD!$A$2:$B$34,MATCH('2'!$B22,BDD!$A$2:$A$34,0),2),"") | AD22: =IF(H22="P",INDEX(BDD!$A$2:$B$34,MATCH('2'!$B22,BDD!$A$2:$A$34,0),2),"") | AE22: =IF(I22="P",INDEX(BDD!$A$2:$B$34,MATCH('2'!$B22,BDD!$A$2:$A$34,0),2),"") | AF22: =IF(J22="P",INDEX(BDD!$A$2:$B$34,MATCH('2'!$B22,BDD!$A$2:$A$34,0),2),"") | ... AS22: =IF(W22="P",INDEX(BDD!$A$2:$B$34,MATCH('2'!$B22,BDD!$A$2:$A$34,0),2),"")
C23: =C3 -> 2 | Y23: =IF(C23="P",INDEX(BDD!$A$2:$B$34,MATCH('2'!$B23,BDD!$A$2:$A$34,0),2),"") | Z23: =IF(D23="P",INDEX(BDD!$A$2:$B$34,MATCH('2'!$B23,BDD!$A$2:$A$34,0),2),"") | AA23: =IF(E23="P",INDEX(BDD!$A$2:$B$34,MATCH('2'!$B23,BDD!$A$2:$A$34,0),2),"") | AB23: =IF(F23="P",INDEX(BDD!$A$2:$B$34,MATCH('2'!$B23,BDD!$A$2:$A$34,0),2),"") | AC23: =IF(G23="P",INDEX(BDD!$A$2:$B$34,MATCH('2'!$B23,BDD!$A$2:$A$34,0),2),"") | AD23: =IF(H23="P",INDEX(BDD!$A$2:$B$34,MATCH('2'!$B23,BDD!$A$2:$A$34,0),2),"") | AE23: =IF(I23="P",INDEX(BDD!$A$2:$B$34,MATCH('2'!$B23,BDD!$A$2:$A$34,0),2),"") | AF23: =IF(J23="P",INDEX(BDD!$A$2:$B$34,MATCH('2'!$B23,BDD!$A$2:$A$34,0),2),"") | ... AS23: =IF(W23="P",INDEX(BDD!$A$2:$B$34,MATCH('2'!$B23,BDD!$A$2:$A$34,0),2),"")
C24: =C25 -> 41645 | F24: =F25 -> 41646 | I24: =I25 -> 41647 | L24: =L25 -> 41648 | O24: =O25 -> 41649 | R24: =R25 -> 41650 | U24: =U25 -> 41651 | Y24: =IF(C24="P",INDEX(BDD!$A$2:$B$34,MATCH('2'!$B24,BDD!$A$2:$A$34,0),2),"") | Z24: =IF(D24="P",INDEX(BDD!$A$2:$B$34,MATCH('2'!$B24,BDD!$A$2:$A$34,0),2),"") | AA24: =IF(E24="P",INDEX(BDD!$A$2:$B$34,MATCH('2'!$B24,BDD!$A$2:$A$34,0),2),"") | AB24: =IF(F24="P",INDEX(BDD!$A$2:$B$34,MATCH('2'!$B24,BDD!$A$2:$A$34,0),2),"") | AC24: =IF(G24="P",INDEX(BDD!$A$2:$B$34,MATCH('2'!$B24,BDD!$A$2:$A$34,0),2),"") | AD24: =IF(H24="P",INDEX(BDD!$A$2:$B$34,MATCH('2'!$B24,BDD!$A$2:$A$34,0),2),"") | AE24: =IF(I24="P",INDEX(BDD!$A$2:$B$34,MATCH('2'!$B24,BDD!$A$2:$A$34,0),2),"") | AF24: =IF(J24="P",INDEX(BDD!$A$2:$B$34,MATCH('2'!$B24,BDD!$A$2:$A$34,0),2),"") | ... AS24: =IF(W24="P",INDEX(BDD!$A$2:$B$34,MATCH('2'!$B24,BDD!$A$2:$A$34,0),2),"")
A25: GROUPE | B25: NOM Prénom | C25: =7*C3+DATE(B2,1,3)-WEEKDAY(DATE(B2,1,3))-5 -> 41645 | F25: =C25+1 -> 41646 | I25: =F25+1 -> 41647 | L25: =I25+1 -> 41648 | O25: =L25+1 -> 41649 | R25: =O25+1 -> 41650 | U25: =R25+1 -> 41651 | Y25: =IF(C25="P",INDEX(BDD!$A$2:$B$34,MATCH('2'!$B25,BDD!$A$2:$A$34,0),2),"") | Z25: =IF(D25="P",INDEX(BDD!$A$2:$B$34,MATCH('2'!$B25,BDD!$A$2:$A$34,0),2),"") | AA25: =IF(E25="P",INDEX(BDD!$A$2:$B$34,MATCH('2'!$B25,BDD!$A$2:$A$34,0),2),"") | AB25: =IF(F25="P",INDEX(BDD!$A$2:$B$34,MATCH('2'!$B25,BDD!$A$2:$A$34,0),2),"") | AC25: =IF(G25="P",INDEX(BDD!$A$2:$B$34,MATCH('2'!$B25,BDD!$A$2:$A$34,0),2),"") | AD25: =IF(H25="P",INDEX(BDD!$A$2:$B$34,MATCH('2'!$B25,BDD!$A$2:$A$34,0),2),"") | AE25: =IF(I25="P",INDEX(BDD!$A$2:$B$34,MATCH('2'!$B25,BDD!$A$2:$A$34,0),2),"") | AF25: =IF(J25="P",INDEX(BDD!$A$2:$B$34,MATCH('2'!$B25,BDD!$A$2:$A$34,0),2),"") | ... AS25: =IF(W25="P",INDEX(BDD!$A$2:$B$34,MATCH('2'!$B25,BDD!$A$2:$A$34,0),2),"")
A26: FDVB | B26: =BDD!A12 -> k | C26: P | D26: P | E26: P | F26: P | G26: P | H26: P | I26: P | J26: P | K26: P | L26: P | N26: P | O26: P | P26: P | Q26: P | R26: P | S26: P | T26: P | U26: P | V26: P | W26: P | Y26: =IF(C26="P",INDEX(BDD!$A$2:$B$34,MATCH('2'!$B26,BDD!$A$2:$A$34,0),2),"") -> MiXÉ | Z26: =IF(D26="P",INDEX(BDD!$A$2:$B$34,MATCH('2'!$B26,BDD!$A$2:$A$34,0),2),"") -> MiXÉ | AA26: =IF(E26="P",INDEX(BDD!$A$2:$B$34,MATCH('2'!$B26,BDD!$A$2:$A$34,0),2),"") -> MiXÉ | AB26: =IF(F26="P",INDEX(BDD!$A$2:$B$34,MATCH('2'!$B26,BDD!$A$2:$A$34,0),2),"") -> MiXÉ | AC26: =IF(G26="P",INDEX(BDD!$A$2:$B$34,MATCH('2'!$B26,BDD!$A$2:$A$34,0),2),"") -> MiXÉ | AD26: =IF(H26="P",INDEX(BDD!$A$2:$B$34,MATCH('2'!$B26,BDD!$A$2:$A$34,0),2),"") -> MiXÉ | AE26: =IF(I26="P",INDEX(BDD!$A$2:$B$34,MATCH('2'!$B26,BDD!$A$2:$A$34,0),2),"") -> MiXÉ | AF26: =IF(J26="P",INDEX(BDD!$A$2:$B$34,MATCH('2'!$B26,BDD!$A$2:$A$34,0),2),"") -> MiXÉ | ... AS26: =IF(W26="P",INDEX(BDD!$A$2:$B$34,MATCH('2'!$B26,BDD!$A$2:$A$34,0),2),"") -> MiXÉ
B27: =BDD!A13 -> l | C27: P | D27: P | E27: P | F27: P | G27: P | I27: P | J27: P | K27: P | L27: P | N27: P | O27: P | P27: P | Q27: P | R27: P | T27: P | U27: P | V27: P | W27: P | Y27: =IF(C27="P",INDEX(BDD!$A$2:$B$34,MATCH('2'!$B27,BDD!$A$2:$A$34,0),2),"") -> HYPO | Z27: =IF(D27="P",INDEX(BDD!$A$2:$B$34,MATCH('2'!$B27,BDD!$A$2:$A$34,0),2),"") -> HYPO | AA27: =IF(E27="P",INDEX(BDD!$A$2:$B$34,MATCH('2'!$B27,BDD!$A$2:$A$34,0),2),"") -> HYPO | AB27: =IF(F27="P",INDEX(BDD!$A$2:$B$34,MATCH('2'!$B27,BDD!$A$2:$A$34,0),2),"") -> HYPO | AC27: =IF(G27="P",INDEX(BDD!$A$2:$B$34,MATCH('2'!$B27,BDD!$A$2:$A$34,0),2),"") -> HYPO | AD27: =IF(H27="P",INDEX(BDD!$A$2:$B$34,MATCH('2'!$B27,BDD!$A$2:$A$34,0),2),"") | AE27: =IF(I27="P",INDEX(BDD!$A$2:$B$34,MATCH('2'!$B27,BDD!$A$2:$A$34,0),2),"") -> HYPO | AF27: =IF(J27="P",INDEX(BDD!$A$2:$B$34,MATCH('2'!$B27,BDD!$A$2:$A$34,0),2),"") -> HYPO | ... AS27: =IF(W27="P",INDEX(BDD!$A$2:$B$34,MATCH('2'!$B27,BDD!$A$2:$A$34,0),2),"") -> HYPO
B28: =BDD!A14 -> m | Y28: =IF(C28="P",INDEX(BDD!$A$2:$B$34,MATCH('2'!$B28,BDD!$A$2:$A$34,0),2),"") | Z28: =IF(D28="P",INDEX(BDD!$A$2:$B$34,MATCH('2'!$B28,BDD!$A$2:$A$34,0),2),"") | AA28: =IF(E28="P",INDEX(BDD!$A$2:$B$34,MATCH('2'!$B28,BDD!$A$2:$A$34,0),2),"") | AB28: =IF(F28="P",INDEX(BDD!$A$2:$B$34,MATCH('2'!$B28,BDD!$A$2:$A$34,0),2),"") | AC28: =IF(G28="P",INDEX(BDD!$A$2:$B$34,MATCH('2'!$B28,BDD!$A$2:$A$34,0),2),"") | AD28: =IF(H28="P",INDEX(BDD!$A$2:$B$34,MATCH('2'!$B28,BDD!$A$2:$A$34,0),2),"") | AE28: =IF(I28="P",INDEX(BDD!$A$2:$B$34,MATCH('2'!$B28,BDD!$A$2:$A$34,0),2),"") | AF28: =IF(J28="P",INDEX(BDD!$A$2:$B$34,MATCH('2'!$B28,BDD!$A$2:$A$34,0),2),"") | ... AS28: =IF(W28="P",INDEX(BDD!$A$2:$B$34,MATCH('2'!$B28,BDD!$A$2:$A$34,0),2),"")
B29: =BDD!A15 -> n | C29: P | D29: P | E29: P | F29: P | G29: P | N29: P | O29: P | P29: P | Q29: P | R29: P | Y29: =IF(C29="P",INDEX(BDD!$A$2:$B$34,MATCH('2'!$B29,BDD!$A$2:$A$34,0),2),"") -> MIXÉ | Z29: =IF(D29="P",INDEX(BDD!$A$2:$B$34,MATCH('2'!$B29,BDD!$A$2:$A$34,0),2),"") -> MIXÉ | AA29: =IF(E29="P",INDEX(BDD!$A$2:$B$34,MATCH('2'!$B29,BDD!$A$2:$A$34,0),2),"") -> MIXÉ | AB29: =IF(F29="P",INDEX(BDD!$A$2:$B$34,MATCH('2'!$B29,BDD!$A$2:$A$34,0),2),"") -> MIXÉ | AC29: =IF(G29="P",INDEX(BDD!$A$2:$B$34,MATCH('2'!$B29,BDD!$A$2:$A$34,0),2),"") -> MIXÉ | AD29: =IF(H29="P",INDEX(BDD!$A$2:$B$34,MATCH('2'!$B29,BDD!$A$2:$A$34,0),2),"") | AE29: =IF(I29="P",INDEX(BDD!$A$2:$B$34,MATCH('2'!$B29,BDD!$A$2:$A$34,0),2),"") | AF29: =IF(J29="P",INDEX(BDD!$A$2:$B$34,MATCH('2'!$B29,BDD!$A$2:$A$34,0),2),"") | ... AS29: =IF(W29="P",INDEX(BDD!$A$2:$B$34,MATCH('2'!$B29,BDD!$A$2:$A$34,0),2),"")
B30: =BDD!A16 -> o | C30: P | D30: P | E30: P | F30: P | G30: P | H30: P | I30: P | J30: P | K30: P | L30: P | N30: P | O30: P | P30: P | Q30: P | R30: P | S30: P | T30: P | U30: P | V30: P | W30: P | Y30: =IF(C30="P",INDEX(BDD!$A$2:$B$34,MATCH('2'!$B30,BDD!$A$2:$A$34,0),2),"") -> NORMAL | Z30: =IF(D30="P",INDEX(BDD!$A$2:$B$34,MATCH('2'!$B30,BDD!$A$2:$A$34,0),2),"") -> NORMAL | AA30: =IF(E30="P",INDEX(BDD!$A$2:$B$34,MATCH('2'!$B30,BDD!$A$2:$A$34,0),2),"") -> NORMAL | AB30: =IF(F30="P",INDEX(BDD!$A$2:$B$34,MATCH('2'!$B30,BDD!$A$2:$A$34,0),2),"") -> NORMAL | AC30: =IF(G30="P",INDEX(BDD!$A$2:$B$34,MATCH('2'!$B30,BDD!$A$2:$A$34,0),2),"") -> NORMAL | AD30: =IF(H30="P",INDEX(BDD!$A$2:$B$34,MATCH('2'!$B30,BDD!$A$2:$A$34,0),2),"") -> NORMAL | AE30: =IF(I30="P",INDEX(BDD!$A$2:$B$34,MATCH('2'!$B30,BDD!$A$2:$A$34,0),2),"") -> NORMAL | AF30: =IF(J30="P",INDEX(BDD!$A$2:$B$34,MATCH('2'!$B30,BDD!$A$2:$A$34,0),2),"") -> NORMAL | ... AS30: =IF(W30="P",INDEX(BDD!$A$2:$B$34,MATCH('2'!$B30,BDD!$A$2:$A$34,0),2),"") -> NORMAL
B31: =BDD!A17 -> p | C31: P | D31: P | E31: P | F31: P | G31: P | H31: P | I31: P | J31: P | K31: P | L31: P | N31: P | O31: P | P31: P | Q31: P | R31: P | S31: P | T31: P | U31: P | V31: P | W31: P | Y31: =IF(C31="P",INDEX(BDD!$A$2:$B$34,MATCH('2'!$B31,BDD!$A$2:$A$34,0),2),"") -> MIXÉ | Z31: =IF(D31="P",INDEX(BDD!$A$2:$B$34,MATCH('2'!$B31,BDD!$A$2:$A$34,0),2),"") -> MIXÉ | AA31: =IF(E31="P",INDEX(BDD!$A$2:$B$34,MATCH('2'!$B31,BDD!$A$2:$A$34,0),2),"") -> MIXÉ | AB31: =IF(F31="P",INDEX(BDD!$A$2:$B$34,MATCH('2'!$B31,BDD!$A$2:$A$34,0),2),"") -> MIXÉ | AC31: =IF(G31="P",INDEX(BDD!$A$2:$B$34,MATCH('2'!$B31,BDD!$A$2:$A$34,0),2),"") -> MIXÉ | AD31: =IF(H31="P",INDEX(BDD!$A$2:$B$34,MATCH('2'!$B31,BDD!$A$2:$A$34,0),2),"") -> MIXÉ | AE31: =IF(I31="P",INDEX(BDD!$A$2:$B$34,MATCH('2'!$B31,BDD!$A$2:$A$34,0),2),"") -> MIXÉ | AF31: =IF(J31="P",INDEX(BDD!$A$2:$B$34,MATCH('2'!$B31,BDD!$A$2:$A$34,0),2),"") -> MIXÉ | ... AS31: =IF(W31="P",INDEX(BDD!$A$2:$B$34,MATCH('2'!$B31,BDD!$A$2:$A$34,0),2),"") -> MIXÉ
B32: =BDD!A18 -> q | C32: P | D32: P | E32: P | F32: P | G32: P | H32: P | I32: P | J32: P | K32: P | L32: P | N32: P | O32: P | P32: P | Q32: P | R32: P | S32: P | T32: P | U32: P | V32: P | W32: P | Y32: =IF(C32="P",INDEX(BDD!$A$2:$B$34,MATCH('2'!$B32,BDD!$A$2:$A$34,0),2),"") -> HYPO MIXÉ | Z32: =IF(D32="P",INDEX(BDD!$A$2:$B$34,MATCH('2'!$B32,BDD!$A$2:$A$34,0),2),"") -> HYPO MIXÉ | AA32: =IF(E32="P",INDEX(BDD!$A$2:$B$34,MATCH('2'!$B32,BDD!$A$2:$A$34,0),2),"") -> HYPO MIXÉ | AB32: =IF(F32="P",INDEX(BDD!$A$2:$B$34,MATCH('2'!$B32,BDD!$A$2:$A$34,0),2),"") -> HYPO MIXÉ | AC32: =IF(G32="P",INDEX(BDD!$A$2:$B$34,MATCH('2'!$B32,BDD!$A$2:$A$34,0),2),"") -> HYPO MIXÉ | AD32: =IF(H32="P",INDEX(BDD!$A$2:$B$34,MATCH('2'!$B32,BDD!$A$2:$A$34,0),2),"") -> HYPO MIXÉ | AE32: =IF(I32="P",INDEX(BDD!$A$2:$B$34,MATCH('2'!$B32,BDD!$A$2:$A$34,0),2),"") -> HYPO MIXÉ | AF32: =IF(J32="P",INDEX(BDD!$A$2:$B$34,MATCH('2'!$B32,BDD!$A$2:$A$34,0),2),"") -> HYPO MIXÉ | ... AS32: =IF(W32="P",INDEX(BDD!$A$2:$B$34,MATCH('2'!$B32,BDD!$A$2:$A$34,0),2),"") -> HYPO MIXÉ
B33: =BDD!A19 -> r | C33: P | D33: P | E33: P | F33: P | G33: P | N33: P | O33: P | P33: P | Q33: P | R33: P | Y33: =IF(C33="P",INDEX(BDD!$A$2:$B$34,MATCH('2'!$B33,BDD!$A$2:$A$34,0),2),"") -> NORMAL | Z33: =IF(D33="P",INDEX(BDD!$A$2:$B$34,MATCH('2'!$B33,BDD!$A$2:$A$34,0),2),"") -> NORMAL | AA33: =IF(E33="P",INDEX(BDD!$A$2:$B$34,MATCH('2'!$B33,BDD!$A$2:$A$34,0),2),"") -> NORMAL | AB33: =IF(F33="P",INDEX(BDD!$A$2:$B$34,MATCH('2'!$B33,BDD!$A$2:$A$34,0),2),"") -> NORMAL | AC33: =IF(G33="P",INDEX(BDD!$A$2:$B$34,MATCH('2'!$B33,BDD!$A$2:$A$34,0),2),"") -> NORMAL | AD33: =IF(H33="P",INDEX(BDD!$A$2:$B$34,MATCH('2'!$B33,BDD!$A$2:$A$34,0),2),"") | AE33: =IF(I33="P",INDEX(BDD!$A$2:$B$34,MATCH('2'!$B33,BDD!$A$2:$A$34,0),2),"") | AF33: =IF(J33="P",INDEX(BDD!$A$2:$B$34,MATCH('2'!$B33,BDD!$A$2:$A$34,0),2),"") | ... AS33: =IF(W33="P",INDEX(BDD!$A$2:$B$34,MATCH('2'!$B33,BDD!$A$2:$A$34,0),2),"")
B34: =BDD!A20 -> s | C34: P | D34: P | E34: P | F34: P | G34: P | H34: P | I34: P | J34: P | K34: P | L34: P | N34: P | O34: P | P34: P | Q34: P | R34: P | S34: P | T34: P | U34: P | V34: P | W34: P | Y34: =IF(C34="P",INDEX(BDD!$A$2:$B$34,MATCH('2'!$B34,BDD!$A$2:$A$34,0),2),"") -> SANS FIBRES | Z34: =IF(D34="P",INDEX(BDD!$A$2:$B$34,MATCH('2'!$B34,BDD!$A$2:$A$34,0),2),"") -> SANS FIBRES | AA34: =IF(E34="P",INDEX(BDD!$A$2:$B$34,MATCH('2'!$B34,BDD!$A$2:$A$34,0),2),"") -> SANS FIBRES | AB34: =IF(F34="P",INDEX(BDD!$A$2:$B$34,MATCH('2'!$B34,BDD!$A$2:$A$34,0),2),"") -> SANS FIBRES | AC34: =IF(G34="P",INDEX(BDD!$A$2:$B$34,MATCH('2'!$B34,BDD!$A$2:$A$34,0),2),"") -> SANS FIBRES | AD34: =IF(H34="P",INDEX(BDD!$A$2:$B$34,MATCH('2'!$B34,BDD!$A$2:$A$34,0),2),"") -> SANS FIBRES | AE34: =IF(I34="P",INDEX(BDD!$A$2:$B$34,MATCH('2'!$B34,BDD!$A$2:$A$34,0),2),"") -> SANS FIBRES | AF34: =IF(J34="P",INDEX(BDD!$A$2:$B$34,MATCH('2'!$B34,BDD!$A$2:$A$34,0),2),"") -> SANS FIBRES | ... AS34: =IF(W34="P",INDEX(BDD!$A$2:$B$34,MATCH('2'!$B34,BDD!$A$2:$A$34,0),2),"") -> SANS FIBRES
B35: =BDD!A21 -> t | C35: P | D35: P | E35: P | F35: P | G35: P | H35: P | I35: P | J35: P | K35: P | L35: P | N35: P | O35: P | P35: P | Q35: P | R35: P | S35: P | T35: P | U35: P | V35: P | W35: P | Y35: =IF(C35="P",INDEX(BDD!$A$2:$B$34,MATCH('2'!$B35,BDD!$A$2:$A$34,0),2),"") -> MIXÉ | Z35: =IF(D35="P",INDEX(BDD!$A$2:$B$34,MATCH('2'!$B35,BDD!$A$2:$A$34,0),2),"") -> MIXÉ | AA35: =IF(E35="P",INDEX(BDD!$A$2:$B$34,MATCH('2'!$B35,BDD!$A$2:$A$34,0),2),"") -> MIXÉ | AB35: =IF(F35="P",INDEX(BDD!$A$2:$B$34,MATCH('2'!$B35,BDD!$A$2:$A$34,0),2),"") -> MIXÉ | AC35: =IF(G35="P",INDEX(BDD!$A$2:$B$34,MATCH('2'!$B35,BDD!$A$2:$A$34,0),2),"") -> MIXÉ | AD35: =IF(H35="P",INDEX(BDD!$A$2:$B$34,MATCH('2'!$B35,BDD!$A$2:$A$34,0),2),"") -> MIXÉ | AE35: =IF(I35="P",INDEX(BDD!$A$2:$B$34,MATCH('2'!$B35,BDD!$A$2:$A$34,0),2),"") -> MIXÉ | AF35: =IF(J35="P",INDEX(BDD!$A$2:$B$34,MATCH('2'!$B35,BDD!$A$2:$A$34,0),2),"") -> MIXÉ | ... AS35: =IF(W35="P",INDEX(BDD!$A$2:$B$34,MATCH('2'!$B35,BDD!$A$2:$A$34,0),2),"") -> MIXÉ
B36: =BDD!A27 -> z | C36: P | F36: P | N36: P | Q36: P | Y36: =IF(C36="P",INDEX(BDD!$A$2:$B$34,MATCH('2'!$B36,BDD!$A$2:$A$34,0),2),"") -> NORMAL | Z36: =IF(D36="P",INDEX(BDD!$A$2:$B$34,MATCH('2'!$B36,BDD!$A$2:$A$34,0),2),"") | AA36: =IF(E36="P",INDEX(BDD!$A$2:$B$34,MATCH('2'!$B36,BDD!$A$2:$A$34,0),2),"") | AB36: =IF(F36="P",INDEX(BDD!$A$2:$B$34,MATCH('2'!$B36,BDD!$A$2:$A$34,0),2),"") -> NORMAL | AC36: =IF(G36="P",INDEX(BDD!$A$2:$B$34,MATCH('2'!$B36,BDD!$A$2:$A$34,0),2),"") | AD36: =IF(H36="P",INDEX(BDD!$A$2:$B$34,MATCH('2'!$B36,BDD!$A$2:$A$34,0),2),"") | AE36: =IF(I36="P",INDEX(BDD!$A$2:$B$34,MATCH('2'!$B36,BDD!$A$2:$A$34,0),2),"") | AF36: =IF(J36="P",INDEX(BDD!$A$2:$B$34,MATCH('2'!$B36,BDD!$A$2:$A$34,0),2),"") | ... AS36: =IF(W36="P",INDEX(BDD!$A$2:$B$34,MATCH('2'!$B36,BDD!$A$2:$A$34,0),2),"")
B37: =BDD!A28 -> aa | C37: P | E37: P | N37: P | P37: P | Y37: =IF(C37="P",INDEX(BDD!$A$2:$B$34,MATCH('2'!$B37,BDD!$A$2:$A$34,0),2),"") -> NORMAL | Z37: =IF(D37="P",INDEX(BDD!$A$2:$B$34,MATCH('2'!$B37,BDD!$A$2:$A$34,0),2),"") | AA37: =IF(E37="P",INDEX(BDD!$A$2:$B$34,MATCH('2'!$B37,BDD!$A$2:$A$34,0),2),"") -> NORMAL | AB37: =IF(F37="P",INDEX(BDD!$A$2:$B$34,MATCH('2'!$B37,BDD!$A$2:$A$34,0),2),"") | AC37: =IF(G37="P",INDEX(BDD!$A$2:$B$34,MATCH('2'!$B37,BDD!$A$2:$A$34,0),2),"") | AD37: =IF(H37="P",INDEX(BDD!$A$2:$B$34,MATCH('2'!$B37,BDD!$A$2:$A$34,0),2),"") | AE37: =IF(I37="P",INDEX(BDD!$A$2:$B$34,MATCH('2'!$B37,BDD!$A$2:$A$34,0),2),"") | AF37: =IF(J37="P",INDEX(BDD!$A$2:$B$34,MATCH('2'!$B37,BDD!$A$2:$A$34,0),2),"") | ... AS37: =IF(W37="P",INDEX(BDD!$A$2:$B$34,MATCH('2'!$B37,BDD!$A$2:$A$34,0),2),"")
