Workbook
Name fériés: fériés!$B$2:$B$12

Sheet fériés
B2: 41640 | C2: mercredi | D2: Premier de l'An 2014
B3: 41750 | C3: lundi | D3: Lundi de Pâques 2014
B4: 41760 | C4: jeudi | D4: Fête du travail 2014
B5: 41767 | C5: jeudi | D5: Victoire 1945 2014
B6: 41423 | C6: jeudi | D6: Ascension 2014
B7: 41799 | C7: lundi | D7: Lundi de Pentecôte 2014
B8: 41834 | C8: lundi | D8: Fête Nationale 2014
B9: 41866 | C9: vendredi | D9: Assomption 2014
B10: 41944 | C10: samedi | D10: Toussaint 2014
B11: 41954 | C11: mardi | D11: Armistice de 1918 2014
B12: 41998 | C12: jeudi | D12: Noël 2014

Sheet BDD
A2: a | B2: HYPO
A3: b | B3: NORMAL
A4: c | B4: HYPO SANS FIBRES
A5: d | B5: NORMAL
A6: e | B6: HYPO
A7: f | B7: NORMAL
A8: g | B8: SANS FIBRES
A9: h | B9: HYPO
A10: i | B10: NORMAL
A11: j | B11: MIXÉ SANS FIBRES
A12: k | B12: MiXÉ
A13: l | B13: HYPO
... A32: ae | B32: NORMAL
A33: Stagiaire1
A34: Stagiaire2
A35: NOM Prénom | B35: NORMAL

Sheet 1
B2: 2014 | C2: Semaine | AT2: P | AU2: : Présent
C3: =MID(CELL("nomfichier",$AT$2),FIND("]",CELL("nomfichier",$AT$2))+1,50) -> 1 | AT3: A | AU3: : Annulé
C4: =C5 -> 41638 | F4: =F5 -> 41639 | I4: =I5 -> 41640 | L4: =L5 -> 41641 | O4: =O5 -> 41642 | R4: =R5 -> 41643 | U4: =U5 -> 41644 | AT4: K | AU4: : Pique-nique
A5: GROUPE | B5: NOM Prénom | C5: =7*C3+DATE(B2,1,3)-WEEKDAY(DATE(B2,1,3))-5 -> 41638 | F5: =C5+1 -> 41639 | I5: =F5+1 -> 41640 | L5: =I5+1 -> 41641 | O5: =L5+1 -> 41642 | R5: =O5+1 -> 41643 | U5: =R5+1 -> 41644 | AT5: Fériés et WE
A6: FDVA | B6: =BDD!A2 -> a | N6: P | O6: P | P6: P | Q6: P | R6: P | S6: P | T6: P | U6: P | V6: P | W6: P | Y6: =IF(C6="P",INDEX(BDD!$A$2:$B$34,MATCH('1'!$B6,BDD!$A$2:$A$34,0),2),"") | Z6: =IF(D6="P",INDEX(BDD!$A$2:$B$34,MATCH('1'!$B6,BDD!$A$2:$A$34,0),2),"") | AA6: =IF(E6="P",INDEX(BDD!$A$2:$B$34,MATCH('1'!$B6,BDD!$A$2:$A$34,0),2),"") | AB6: =IF(F6="P",INDEX(BDD!$A$2:$B$34,MATCH('1'!$B6,BDD!$A$2:$A$34,0),2),"") | AC6: =IF(G6="P",INDEX(BDD!$A$2:$B$34,MATCH('1'!$B6,BDD!$A$2:$A$34,0),2),"") | AD6: =IF(H6="P",INDEX(BDD!$A$2:$B$34,MATCH('1'!$B6,BDD!$A$2:$A$34,0),2),"") | AE6: =IF(I6="P",INDEX(BDD!$A$2:$B$34,MATCH('1'!$B6,BDD!$A$2:$A$34,0),2),"") | AF6: =IF(J6="P",INDEX(BDD!$A$2:$B$34,MATCH('1'!$B6,BDD!$A$2:$A$34,0),2),"") | ... AS6: =IF(W6="P",INDEX(BDD!$A$2:$B$34,MATCH('1'!$B6,BDD!$A$2:$A$34,0),2),"") -> HYPO | AT6: Absent
B7: =BDD!A3 -> b | N7: P | O7: P | P7: P | Q7: P | R7: P | S7: P | T7: P | U7: P | V7: P | W7: P | Y7: =IF(C7="P",INDEX(BDD!$A$2:$B$34,MATCH('1'!$B7,BDD!$A$2:$A$34,0),2),"") | Z7: =IF(D7="P",INDEX(BDD!$A$2:$B$34,MATCH('1'!$B7,BDD!$A$2:$A$34,0),2),"") | AA7: =IF(E7="P",INDEX(BDD!$A$2:$B$34,MATCH('1'!$B7,BDD!$A$2:$A$34,0),2),"") | AB7: =IF(F7="P",INDEX(BDD!$A$2:$B$34,MATCH('1'!$B7,BDD!$A$2:$A$34,0),2),"") | AC7: =IF(G7="P",INDEX(BDD!$A$2:$B$34,MATCH('1'!$B7,BDD!$A$2:$A$34,0),2),"") | AD7: =IF(H7="P",INDEX(BDD!$A$2:$B$34,MATCH('1'!$B7,BDD!$A$2:$A$34,0),2),"") | AE7: =IF(I7="P",INDEX(BDD!$A$2:$B$34,MATCH('1'!$B7,BDD!$A$2:$A$34,0),2),"") | AF7: =IF(J7="P",INDEX(BDD!$A$2:$B$34,MATCH('1'!$B7,BDD!$A$2:$A$34,0),2),"") | ... AS7: =IF(W7="P",INDEX(BDD!$A$2:$B$34,MATCH('1'!$B7,BDD!$A$2:$A$34,0),2),"") -> NORMAL
B8: =BDD!A4 -> c | N8: P | O8: P | P8: P | Q8: P | R8: P | S8: P | T8: P | U8: P | V8: P | W8: P | Y8: =IF(C8="P",INDEX(BDD!$A$2:$B$34,MATCH('1'!$B8,BDD!$A$2:$A$34,0),2),"") | Z8: =IF(D8="P",INDEX(BDD!$A$2:$B$34,MATCH('1'!$B8,BDD!$A$2:$A$34,0),2),"") | AA8: =IF(E8="P",INDEX(BDD!$A$2:$B$34,MATCH('1'!$B8,BDD!$A$2:$A$34,0),2),"") | AB8: =IF(F8="P",INDEX(BDD!$A$2:$B$34,MATCH('1'!$B8,BDD!$A$2:$A$34,0),2),"") | AC8: =IF(G8="P",INDEX(BDD!$A$2:$B$34,MATCH('1'!$B8,BDD!$A$2:$A$34,0),2),"") | AD8: =IF(H8="P",INDEX(BDD!$A$2:$B$34,MATCH('1'!$B8,BDD!$A$2:$A$34,0),2),"") | AE8: =IF(I8="P",INDEX(BDD!$A$2:$B$34,MATCH('1'!$B8,BDD!$A$2:$A$34,0),2),"") | AF8: =IF(J8="P",INDEX(BDD!$A$2:$B$34,MATCH('1'!$B8,BDD!$A$2:$A$34,0),2),"") | ... AS8: =IF(W8="P",INDEX(BDD!$A$2:$B$34,MATCH('1'!$B8,BDD!$A$2:$A$34,0),2),"") -> HYPO SANS FIBRES
B9: =BDD!A5 -> d | Y9: =IF(C9="P",INDEX(BDD!$A$2:$B$34,MATCH('1'!$B9,BDD!$A$2:$A$34,0),2),"") | Z9: =IF(D9="P",INDEX(BDD!$A$2:$B$34,MATCH('1'!$B9,BDD!$A$2:$A$34,0),2),"") | AA9: =IF(E9="P",INDEX(BDD!$A$2:$B$34,MATCH('1'!$B9,BDD!$A$2:$A$34,0),2),"") | AB9: =IF(F9="P",INDEX(BDD!$A$2:$B$34,MATCH('1'!$B9,BDD!$A$2:$A$34,0),2),"") | AC9: =IF(G9="P",INDEX(BDD!$A$2:$B$34,MATCH('1'!$B9,BDD!$A$2:$A$34,0),2),"") | AD9: =IF(H9="P",INDEX(BDD!$A$2:$B$34,MATCH('1'!$B9,BDD!$A$2:$A$34,0),2),"") | AE9: =IF(I9="P",INDEX(BDD!$A$2:$B$34,MATCH('1'!$B9,BDD!$A$2:$A$34,0),2),"") | AF9: =IF(J9="P",INDEX(BDD!$A$2:$B$34,MATCH('1'!$B9,BDD!$A$2:$A$34,0),2),"") | ... AS9: =IF(W9="P",INDEX(BDD!$A$2:$B$34,MATCH('1'!$B9,BDD!$A$2:$A$34,0),2),"")
B10: =BDD!A6 -> e | N10: P | O10: P | P10: P | Q10: P | R10: P | S10: P | T10: P | U10: P | V10: P | W10: P | Y10: =IF(C10="P",INDEX(BDD!$A$2:$B$34,MATCH('1'!$B10,BDD!$A$2:$A$34,0),2),"") | Z10: =IF(D10="P",INDEX(BDD!$A$2:$B$34,MATCH('1'!$B10,BDD!$A$2:$A$34,0),2),"") | AA10: =IF(E10="P",INDEX(BDD!$A$2:$B$34,MATCH('1'!$B10,BDD!$A$2:$A$34,0),2),"") | AB10: =IF(F10="P",INDEX(BDD!$A$2:$B$34,MATCH('1'!$B10,BDD!$A$2:$A$34,0),2),"") | AC10: =IF(G10="P",INDEX(BDD!$A$2:$B$34,MATCH('1'!$B10,BDD!$A$2:$A$34,0),2),"") | AD10: =IF(H10="P",INDEX(BDD!$A$2:$B$34,MATCH('1'!$B10,BDD!$A$2:$A$34,0),2),"") | AE10: =IF(I10="P",INDEX(BDD!$A$2:$B$34,MATCH('1'!$B10,BDD!$A$2:$A$34,0),2),"") | AF10: =IF(J10="P",INDEX(BDD!$A$2:$B$34,MATCH('1'!$B10,BDD!$A$2:$A$34,0),2),"") | ... AS10: =IF(W10="P",INDEX(BDD!$A$2:$B$34,MATCH('1'!$B10,BDD!$A$2:$A$34,0),2),"") -> HYPO
B11: =BDD!A7 -> f | Y11: =IF(C11="P",INDEX(BDD!$A$2:$B$34,MATCH('1'!$B11,BDD!$A$2:$A$34,0),2),"") | Z11: =IF(D11="P",INDEX(BDD!$A$2:$B$34,MATCH('1'!$B11,BDD!$A$2:$A$34,0),2),"") | AA11: =IF(E11="P",INDEX(BDD!$A$2:$B$34,MATCH('1'!$B11,BDD!$A$2:$A$34,0),2),"") | AB11: =IF(F11="P",INDEX(BDD!$A$2:$B$34,MATCH('1'!$B11,BDD!$A$2:$A$34,0),2),"") | AC11: =IF(G11="P",INDEX(BDD!$A$2:$B$34,MATCH('1'!$B11,BDD!$A$2:$A$34,0),2),"") | AD11: =IF(H11="P",INDEX(BDD!$A$2:$B$34,MATCH('1'!$B11,BDD!$A$2:$A$34,0),2),"") | AE11: =IF(I11="P",INDEX(BDD!$A$2:$B$34,MATCH('1'!$B11,BDD!$A$2:$A$34,0),2),"") | AF11: =IF(J11="P",INDEX(BDD!$A$2:$B$34,MATCH('1'!$B11,BDD!$A$2:$A$34,0),2),"") | ... AS11: =IF(W11="P",INDEX(BDD!$A$2:$B$34,MATCH('1'!$B11,BDD!$A$2:$A$34,0),2),"")
B12: =BDD!A8 -> g | Y12: =IF(C12="P",INDEX(BDD!$A$2:$B$34,MATCH('1'!$B12,BDD!$A$2:$A$34,0),2),"") | Z12: =IF(D12="P",INDEX(BDD!$A$2:$B$34,MATCH('1'!$B12,BDD!$A$2:$A$34,0),2),"") | AA12: =IF(E12="P",INDEX(BDD!$A$2:$B$34,MATCH('1'!$B12,BDD!$A$2:$A$34,0),2),"") | AB12: =IF(F12="P",INDEX(BDD!$A$2:$B$34,MATCH('1'!$B12,BDD!$A$2:$A$34,0),2),"") | AC12: =IF(G12="P",INDEX(BDD!$A$2:$B$34,MATCH('1'!$B12,BDD!$A$2:$A$34,0),2),"") | AD12: =IF(H12="P",INDEX(BDD!$A$2:$B$34,MATCH('1'!$B12,BDD!$A$2:$A$34,0),2),"") | AE12: =IF(I12="P",INDEX(BDD!$A$2:$B$34,MATCH('1'!$B12,BDD!$A$2:$A$34,0),2),"") | AF12: =IF(J12="P",INDEX(BDD!$A$2:$B$34,MATCH('1'!$B12,BDD!$A$2:$A$34,0),2),"") | ... AS12: =IF(W12="P",INDEX(BDD!$A$2:$B$34,MATCH('1'!$B12,BDD!$A$2:$A$34,0),2),"")
B13: =BDD!A9 -> h | N13: P | O13: P | P13: P | Q13: P | R13: P | W13: P | Y13: =IF(C13="P",INDEX(BDD!$A$2:$B$34,MATCH('1'!$B13,BDD!$A$2:$A$34,0),2),"") | Z13: =IF(D13="P",INDEX(BDD!$A$2:$B$34,MATCH('1'!$B13,BDD!$A$2:$A$34,0),2),"") | AA13: =IF(E13="P",INDEX(BDD!$A$2:$B$34,MATCH('1'!$B13,BDD!$A$2:$A$34,0),2),"") | AB13: =IF(F13="P",INDEX(BDD!$A$2:$B$34,MATCH('1'!$B13,BDD!$A$2:$A$34,0),2),"") | AC13: =IF(G13="P",INDEX(BDD!$A$2:$B$34,MATCH('1'!$B13,BDD!$A$2:$A$34,0),2),"") | AD13: =IF(H13="P",INDEX(BDD!$A$2:$B$34,MATCH('1'!$B13,BDD!$A$2:$A$34,0),2),"") | AE13: =IF(I13="P",INDEX(BDD!$A$2:$B$34,MATCH('1'!$B13,BDD!$A$2:$A$34,0),2),"") | AF13: =IF(J13="P",INDEX(BDD!$A$2:$B$34,MATCH('1'!$B13,BDD!$A$2:$A$34,0),2),"") | ... AS13: =IF(W13="P",INDEX(BDD!$A$2:$B$34,MATCH('1'!$B13,BDD!$A$2:$A$34,0),2),"") -> HYPO
B14: =BDD!A10 -> i | N14: P | O14: P | P14: P | Q14: P | R14: P | S14: P | T14: P | U14: P | V14: P | W14: P | Y14: =IF(C14="P",INDEX(BDD!$A$2:$B$34,MATCH('1'!$B14,BDD!$A$2:$A$34,0),2),"") | Z14: =IF(D14="P",INDEX(BDD!$A$2:$B$34,MATCH('1'!$B14,BDD!$A$2:$A$34,0),2),"") | AA14: =IF(E14="P",INDEX(BDD!$A$2:$B$34,MATCH('1'!$B14,BDD!$A$2:$A$34,0),2),"") | AB14: =IF(F14="P",INDEX(BDD!$A$2:$B$34,MATCH('1'!$B14,BDD!$A$2:$A$34,0),2),"") | AC14: =IF(G14="P",INDEX(BDD!$A$2:$B$34,MATCH('1'!$B14,BDD!$A$2:$A$34,0),2),"") | AD14: =IF(H14="P",INDEX(BDD!$A$2:$B$34,MATCH('1'!$B14,BDD!$A$2:$A$34,0),2),"") | AE14: =IF(I14="P",INDEX(BDD!$A$2:$B$34,MATCH('1'!$B14,BDD!$A$2:$A$34,0),2),"") | AF14: =IF(J14="P",INDEX(BDD!$A$2:$B$34,MATCH('1'!$B14,BDD!$A$2:$A$34,0),2),"") | ... AS14: =IF(W14="P",INDEX(BDD!$A$2:$B$34,MATCH('1'!$B14,BDD!$A$2:$A$34,0),2),"") -> NORMAL
B15: =BDD!A11 -> j | N15: P | O15: P | P15: P | Q15: P | R15: P | S15: P | T15: P | U15: P | V15: P | W15: P | Y15: =IF(C15="P",INDEX(BDD!$A$2:$B$34,MATCH('1'!$B15,BDD!$A$2:$A$34,0),2),"") | Z15: =IF(D15="P",INDEX(BDD!$A$2:$B$34,MATCH('1'!$B15,BDD!$A$2:$A$34,0),2),"") | AA15: =IF(E15="P",INDEX(BDD!$A$2:$B$34,MATCH('1'!$B15,BDD!$A$2:$A$34,0),2),"") | AB15: =IF(F15="P",INDEX(BDD!$A$2:$B$34,MATCH('1'!$B15,BDD!$A$2:$A$34,0),2),"") | AC15: =IF(G15="P",INDEX(BDD!$A$2:$B$34,MATCH('1'!$B15,BDD!$A$2:$A$34,0),2),"") | AD15: =IF(H15="P",INDEX(BDD!$A$2:$B$34,MATCH('1'!$B15,BDD!$A$2:$A$34,0),2),"") | AE15: =IF(I15="P",INDEX(BDD!$A$2:$B$34,MATCH('1'!$B15,BDD!$A$2:$A$34,0),2),"") | AF15: =IF(J15="P",INDEX(BDD!$A$2:$B$34,MATCH('1'!$B15,BDD!$A$2:$A$34,0),2),"") | ... AS15: =IF(W15="P",INDEX(BDD!$A$2:$B$34,MATCH('1'!$B15,BDD!$A$2:$A$34,0),2),"") -> MIXÉ SANS FIBRES
B16: =BDD!A22 -> u | S16: P | T16: P | U16: P | V16: P | W16: P | Y16: =IF(C16="P",INDEX(BDD!$A$2:$B$34,MATCH('1'!$B16,BDD!$A$2:$A$34,0),2),"") | Z16: =IF(D16="P",INDEX(BDD!$A$2:$B$34,MATCH('1'!$B16,BDD!$A$2:$A$34,0),2),"") | AA16: =IF(E16="P",INDEX(BDD!$A$2:$B$34,MATCH('1'!$B16,BDD!$A$2:$A$34,0),2),"") | AB16: =IF(F16="P",INDEX(BDD!$A$2:$B$34,MATCH('1'!$B16,BDD!$A$2:$A$34,0),2),"") | AC16: =IF(G16="P",INDEX(BDD!$A$2:$B$34,MATCH('1'!$B16,BDD!$A$2:$A$34,0),2),"") | AD16: =IF(H16="P",INDEX(BDD!$A$2:$B$34,MATCH('1'!$B16,BDD!$A$2:$A$34,0),2),"") | AE16: =IF(I16="P",INDEX(BDD!$A$2:$B$34,MATCH('1'!$B16,BDD!$A$2:$A$34,0),2),"") | AF16: =IF(J16="P",INDEX(BDD!$A$2:$B$34,MATCH('1'!$B16,BDD!$A$2:$A$34,0),2),"") | ... AS16: =IF(W16="P",INDEX(BDD!$A$2:$B$34,MATCH('1'!$B16,BDD!$A$2:$A$34,0),2),"") -> NORMAL
B17: =BDD!A23 -> v | Y17: =IF(C17="P",INDEX(BDD!$A$2:$B$34,MATCH('1'!$B17,BDD!$A$2:$A$34,0),2),"") | Z17: =IF(D17="P",INDEX(BDD!$A$2:$B$34,MATCH('1'!$B17,BDD!$A$2:$A$34,0),2),"") | AA17: =IF(E17="P",INDEX(BDD!$A$2:$B$34,MATCH('1'!$B17,BDD!$A$2:$A$34,0),2),"") | AB17: =IF(F17="P",INDEX(BDD!$A$2:$B$34,MATCH('1'!$B17,BDD!$A$2:$A$34,0),2),"") | AC17: =IF(G17="P",INDEX(BDD!$A$2:$B$34,MATCH('1'!$B17,BDD!$A$2:$A$34,0),2),"") | AD17: =IF(H17="P",INDEX(BDD!$A$2:$B$34,MATCH('1'!$B17,BDD!$A$2:$A$34,0),2),"") | AE17: =IF(I17="P",INDEX(BDD!$A$2:$B$34,MATCH('1'!$B17,BDD!$A$2:$A$34,0),2),"") | AF17: =IF(J17="P",INDEX(BDD!$A$2:$B$34,MATCH('1'!$B17,BDD!$A$2:$A$34,0),2),"") | ... AS17: =IF(W17="P",INDEX(BDD!$A$2:$B$34,MATCH('1'!$B17,BDD!$A$2:$A$34,0),2),"")
B18: =BDD!A24 -> w | P18: P | Y18: =IF(C18="P",INDEX(BDD!$A$2:$B$34,MATCH('1'!$B18,BDD!$A$2:$A$34,0),2),"") | Z18: =IF(D18="P",INDEX(BDD!$A$2:$B$34,MATCH('1'!$B18,BDD!$A$2:$A$34,0),2),"") | AA18: =IF(E18="P",INDEX(BDD!$A$2:$B$34,MATCH('1'!$B18,BDD!$A$2:$A$34,0),2),"") | AB18: =IF(F18="P",INDEX(BDD!$A$2:$B$34,MATCH('1'!$B18,BDD!$A$2:$A$34,0),2),"") | AC18: =IF(G18="P",INDEX(BDD!$A$2:$B$34,MATCH('1'!$B18,BDD!$A$2:$A$34,0),2),"") | AD18: =IF(H18="P",INDEX(BDD!$A$2:$B$34,MATCH('1'!$B18,BDD!$A$2:$A$34,0),2),"") | AE18: =IF(I18="P",INDEX(BDD!$A$2:$B$34,MATCH('1'!$B18,BDD!$A$2:$A$34,0),2),"") | AF18: =IF(J18="P",INDEX(BDD!$A$2:$B$34,MATCH('1'!$B18,BDD!$A$2:$A$34,0),2),"") | ... AS18: =IF(W18="P",INDEX(BDD!$A$2:$B$34,MATCH('1'!$B18,BDD!$A$2:$A$34,0),2),"")
B19: =BDD!A25 -> x | N19: P | Y19: =IF(C19="P",INDEX(BDD!$A$2:$B$34,MATCH('1'!$B19,BDD!$A$2:$A$34,0),2),"") | Z19: =IF(D19="P",INDEX(BDD!$A$2:$B$34,MATCH('1'!$B19,BDD!$A$2:$A$34,0),2),"") | AA19: =IF(E19="P",INDEX(BDD!$A$2:$B$34,MATCH('1'!$B19,BDD!$A$2:$A$34,0),2),"") | AB19: =IF(F19="P",INDEX(BDD!$A$2:$B$34,MATCH('1'!$B19,BDD!$A$2:$A$34,0),2),"") | AC19: =IF(G19="P",INDEX(BDD!$A$2:$B$34,MATCH('1'!$B19,BDD!$A$2:$A$34,0),2),"") | AD19: =IF(H19="P",INDEX(BDD!$A$2:$B$34,MATCH('1'!$B19,BDD!$A$2:$A$34,0),2),"") | AE19: =IF(I19="P",INDEX(BDD!$A$2:$B$34,MATCH('1'!$B19,BDD!$A$2:$A$34,0),2),"") | AF19: =IF(J19="P",INDEX(BDD!$A$2:$B$34,MATCH('1'!$B19,BDD!$A$2:$A$34,0),2),"") | ... AS19: =IF(W19="P",INDEX(BDD!$A$2:$B$34,MATCH('1'!$B19,BDD!$A$2:$A$34,0),2),"")
B20: =BDD!A26 -> y | Y20: =IF(C20="P",INDEX(BDD!$A$2:$B$34,MATCH('1'!$B20,BDD!$A$2:$A$34,0),2),"") | Z20: =IF(D20="P",INDEX(BDD!$A$2:$B$34,MATCH('1'!$B20,BDD!$A$2:$A$34,0),2),"") | AA20: =IF(E20="P",INDEX(BDD!$A$2:$B$34,MATCH('1'!$B20,BDD!$A$2:$A$34,0),2),"") | AB20: =IF(F20="P",INDEX(BDD!$A$2:$B$34,MATCH('1'!$B20,BDD!$A$2:$A$34,0),2),"") | AC20: =IF(G20="P",INDEX(BDD!$A$2:$B$34,MATCH('1'!$B20,BDD!$A$2:$A$34,0),2),"") | AD20: =IF(H20="P",INDEX(BDD!$A$2:$B$34,MATCH('1'!$B20,BDD!$A$2:$A$34,0),2),"") | AE20: =IF(I20="P",INDEX(BDD!$A$2:$B$34,MATCH('1'!$B20,BDD!$A$2:$A$34,0),2),"") | AF20: =IF(J20="P",INDEX(BDD!$A$2:$B$34,MATCH('1'!$B20,BDD!$A$2:$A$34,0),2),"") | ... AS20: =IF(W20="P",INDEX(BDD!$A$2:$B$34,MATCH('1'!$B20,BDD!$A$2:$A$34,0),2),"")
B21: =BDD!A33 -> Stagiaire1 | Y21: =IF(C21="P",INDEX(BDD!$A$2:$B$34,MATCH('1'!$B21,BDD!$A$2:$A$34,0),2),"") | Z21: =IF(D21="P",INDEX(BDD!$A$2:$B$34,MATCH('1'!$B21,BDD!$A$2:$A$34,0),2),"") | AA21: =IF(E21="P",INDEX(BDD!$A$2:$B$34,MATCH('1'!$B21,BDD!$A$2:$A$34,0),2),"") | AB21: =IF(F21="P",INDEX(BDD!$A$2:$B$34,MATCH('1'!$B21,BDD!$A$2:$A$34,0),2),"") | AC21: =IF(G21="P",INDEX(BDD!$A$2:$B$34,MATCH('1'!$B21,BDD!$A$2:$A$34,0),2),"") | AD21: =IF(H21="P",INDEX(BDD!$A$2:$B$34,MATCH('1'!$B21,BDD!$A$2:$A$34,0),2),"") | AE21: =IF(I21="P",INDEX(BDD!$A$2:$B$34,MATCH('1'!$B21,BDD!$A$2:$A$34,0),2),"") | AF21: =IF(J21="P",INDEX(BDD!$A$2:$B$34,MATCH('1'!$B21,BDD!$A$2:$A$34,0),2),"") | ... AS21: =IF(W21="P",INDEX(BDD!$A$2:$B$34,MATCH('1'!$B21,BDD!$A$2:$A$34,0),2),"")
C22: Semaine | Y22: =IF(C22="P",INDEX(BDD!$A$2:$B$34,MATCH('1'!$B22,BDD!$A$2:$A$34,0),2),"") | Z22: =IF(D22="P",INDEX(BDD!$A$2:$B$34,MATCH('1'!$B22,BDD!$A$2:$A$34,0),2),"") | AA22: =IF(E22="P",INDEX(BDD!$A$2:$B$34,MATCH('1'!$B22,BDD!$A$2:$A$34,0),2),"") | AB22: =IF(F22="P",INDEX(BDD!$A$2:$B$34,MATCH('1'!$B22,BDD!$A$2:$A$34,0),2),"") | AC22: =IF(G22="P",INDEX(BDD!$A$2:$B$34,MATCH('1'!$B22,BDD!$A$2:$A$34,0),2),"") | AD22: =IF(H22="P",INDEX(BDD!$A$2:$B$34,MATCH('1'!$B22,BDD!$A$2:$A$34,0),2),"") | AE22: =IF(I22="P",INDEX(BDD!$A$2:$B$34,MATCH('1'!$B22,BDD!$A$2:$A$34,0),2),"") | AF22: =IF(J22="P",INDEX(BDD!$A$2:$B$34,MATCH('1'!$B22,BDD!$A$2:$A$34,0),2),"") | ... AS22: =IF(W22="P",INDEX(BDD!$A$2:$B$34,MATCH('1'!$B22,BDD!$A$2:$A$34,0),2),"")
C23: =C3 -> 1 | Y23: =IF(C23="P",INDEX(BDD!$A$2:$B$34,MATCH('1'!$B23,BDD!$A$2:$A$34,0),2),"") | Z23: =IF(D23="P",INDEX(BDD!$A$2:$B$34,MATCH('1'!$B23,BDD!$A$2:$A$34,0),2),"") | AA23: =IF(E23="P",INDEX(BDD!$A$2:$B$34,MATCH('1'!$B23,BDD!$A$2:$A$34,0),2),"") | AB23: =IF(F23="P",INDEX(BDD!$A$2:$B$34,MATCH('1'!$B23,BDD!$A$2:$A$34,0),2),"") | AC23: =IF(G23="P",INDEX(BDD!$A$2:$B$34,MATCH('1'!$B23,BDD!$A$2:$A$34,0),2),"") | AD23: =IF(H23="P",INDEX(BDD!$A$2:$B$34,MATCH('1'!$B23,BDD!$A$2:$A$34,0),2),"") | AE23: =IF(I23="P",INDEX(BDD!$A$2:$B$34,MATCH('1'!$B23,BDD!$A$2:$A$34,0),2),"") | AF23: =IF(J23="P",INDEX(BDD!$A$2:$B$34,MATCH('1'!$B23,BDD!$A$2:$A$34,0),2),"") | ... AS23: =IF(W23="P",INDEX(BDD!$A$2:$B$34,MATCH('1'!$B23,BDD!$A$2:$A$34,0),2),"")
C24: =C25 -> 41638 | F24: =F25 -> 41639 | I24: =I25 -> 41640 | L24: =L25 -> 41641 | O24: =O25 -> 41642 | R24: =R25 -> 41643 | U24: =U25 -> 41644 | Y24: =IF(C24="P",INDEX(BDD!$A$2:$B$34,MATCH('1'!$B24,BDD!$A$2:$A$34,0),2),"") | Z24: =IF(D24="P",INDEX(BDD!$A$2:$B$34,MATCH('1'!$B24,BDD!$A$2:$A$34,0),2),"") | AA24: =IF(E24="P",INDEX(BDD!$A$2:$B$34,MATCH('1'!$B24,BDD!$A$2:$A$34,0),2),"") | AB24: =IF(F24="P",INDEX(BDD!$A$2:$B$34,MATCH('1'!$B24,BDD!$A$2:$A$34,0),2),"") | AC24: =IF(G24="P",INDEX(BDD!$A$2:$B$34,MATCH('1'!$B24,BDD!$A$2:$A$34,0),2),"") | AD24: =IF(H24="P",INDEX(BDD!$A$2:$B$34,MATCH('1'!$B24,BDD!$A$2:$A$34,0),2),"") | AE24: =IF(I24="P",INDEX(BDD!$A$2:$B$34,MATCH('1'!$B24,BDD!$A$2:$A$34,0),2),"") | AF24: =IF(J24="P",INDEX(BDD!$A$2:$B$34,MATCH('1'!$B24,BDD!$A$2:$A$34,0),2),"") | ... AS24: =IF(W24="P",INDEX(BDD!$A$2:$B$34,MATCH('1'!$B24,BDD!$A$2:$A$34,0),2),"")
A25: GROUPE | B25: NOM Prénom | C25: =7*C3+DATE(B2,1,3)-WEEKDAY(DATE(B2,1,3))-5 -> 41638 | F25: =C25+1 -> 41639 | I25: =F25+1 -> 41640 | L25: =I25+1 -> 41641 | O25: =L25+1 -> 41642 | R25: =O25+1 -> 41643 | U25: =R25+1 -> 41644 | Y25: =IF(C25="P",INDEX(BDD!$A$2:$B$34,MATCH('1'!$B25,BDD!$A$2:$A$34,0),2),"") | Z25: =IF(D25="P",INDEX(BDD!$A$2:$B$34,MATCH('1'!$B25,BDD!$A$2:$A$34,0),2),"") | AA25: =IF(E25="P",INDEX(BDD!$A$2:$B$34,MATCH('1'!$B25,BDD!$A$2:$A$34,0),2),"") | AB25: =IF(F25="P",INDEX(BDD!$A$2:$B$34,MATCH('1'!$B25,BDD!$A$2:$A$34,0),2),"") | AC25: =IF(G25="P",INDEX(BDD!$A$2:$B$34,MATCH('1'!$B25,BDD!$A$2:$A$34,0),2),"") | AD25: =IF(H25="P",INDEX(BDD!$A$2:$B$34,MATCH('1'!$B25,BDD!$A$2:$A$34,0),2),"") | AE25: =IF(I25="P",INDEX(BDD!$A$2:$B$34,MATCH('1'!$B25,BDD!$A$2:$A$34,0),2),"") | AF25: =IF(J25="P",INDEX(BDD!$A$2:$B$34,MATCH('1'!$B25,BDD!$A$2:$A$34,0),2),"") | ... AS25: =IF(W25="P",INDEX(BDD!$A$2:$B$34,MATCH('1'!$B25,BDD!$A$2:$A$34,0),2),"")
A26: FDVB | B26: =BDD!A12 -> k | N26: P | O26: P | P26: P | Q26: P | R26: P | S26: P | T26: P | U26: P | V26: P | W26: P | Y26: =IF(C26="P",INDEX(BDD!$A$2:$B$34,MATCH('1'!$B26,BDD!$A$2:$A$34,0),2),"") | Z26: =IF(D26="P",INDEX(BDD!$A$2:$B$34,MATCH('1'!$B26,BDD!$A$2:$A$34,0),2),"") | AA26: =IF(E26="P",INDEX(BDD!$A$2:$B$34,MATCH('1'!$B26,BDD!$A$2:$A$34,0),2),"") | AB26: =IF(F26="P",INDEX(BDD!$A$2:$B$34,MATCH('1'!$B26,BDD!$A$2:$A$34,0),2),"") | AC26: =IF(G26="P",INDEX(BDD!$A$2:$B$34,MATCH('1'!$B26,BDD!$A$2:$A$34,0),2),"") | AD26: =IF(H26="P",INDEX(BDD!$A$2:$B$34,MATCH('1'!$B26,BDD!$A$2:$A$34,0),2),"") | AE26: =IF(I26="P",INDEX(BDD!$A$2:$B$34,MATCH('1'!$B26,BDD!$A$2:$A$34,0),2),"") | AF26: =IF(J26="P",INDEX(BDD!$A$2:$B$34,MATCH('1'!$B26,BDD!$A$2:$A$34,0),2),"") | ... AS26: =IF(W26="P",INDEX(BDD!$A$2:$B$34,MATCH('1'!$B26,BDD!$A$2:$A$34,0),2),"") -> MiXÉ
B27: =BDD!A13 -> l | N27: P | O27: P | P27: P | Q27: P | R27: P | T27: P | U27: P | V27: P | W27: P | Y27: =IF(C27="P",INDEX(BDD!$A$2:$B$34,MATCH('1'!$B27,BDD!$A$2:$A$34,0),2),"") | Z27: =IF(D27="P",INDEX(BDD!$A$2:$B$34,MATCH('1'!$B27,BDD!$A$2:$A$34,0),2),"") | AA27: =IF(E27="P",INDEX(BDD!$A$2:$B$34,MATCH('1'!$B27,BDD!$A$2:$A$34,0),2),"") | AB27: =IF(F27="P",INDEX(BDD!$A$2:$B$34,MATCH('1'!$B27,BDD!$A$2:$A$34,0),2),"") | AC27: =IF(G27="P",INDEX(BDD!$A$2:$B$34,MATCH('1'!$B27,BDD!$A$2:$A$34,0),2),"") | AD27: =IF(H27="P",INDEX(BDD!$A$2:$B$34,MATCH('1'!$B27,BDD!$A$2:$A$34,0),2),"") | AE27: =IF(I27="P",INDEX(BDD!$A$2:$B$34,MATCH('1'!$B27,BDD!$A$2:$A$34,0),2),"") | AF27: =IF(J27="P",INDEX(BDD!$A$2:$B$34,MATCH('1'!$B27,BDD!$A$2:$A$34,0),2),"") | ... AS27: =IF(W27="P",INDEX(BDD!$A$2:$B$34,MATCH('1'!$B27,BDD!$A$2:$A$34,0),2),"") -> HYPO
B28: =BDD!A14 -> m | Y28: =IF(C28="P",INDEX(BDD!$A$2:$B$34,MATCH('1'!$B28,BDD!$A$2:$A$34,0),2),"") | Z28: =IF(D28="P",INDEX(BDD!$A$2:$B$34,MATCH('1'!$B28,BDD!$A$2:$A$34,0),2),"") | AA28: =IF(E28="P",INDEX(BDD!$A$2:$B$34,MATCH('1'!$B28,BDD!$A$2:$A$34,0),2),"") | AB28: =IF(F28="P",INDEX(BDD!$A$2:$B$34,MATCH('1'!$B28,BDD!$A$2:$A$34,0),2),"") | AC28: =IF(G28="P",INDEX(BDD!$A$2:$B$34,MATCH('1'!$B28,BDD!$A$2:$A$34,0),2),"") | AD28: =IF(H28="P",INDEX(BDD!$A$2:$B$34,MATCH('1'!$B28,BDD!$A$2:$A$34,0),2),"") | AE28: =IF(I28="P",INDEX(BDD!$A$2:$B$34,MATCH('1'!$B28,BDD!$A$2:$A$34,0),2),"") | AF28: =IF(J28="P",INDEX(BDD!$A$2:$B$34,MATCH('1'!$B28,BDD!$A$2:$A$34,0),2),"") | ... AS28: =IF(W28="P",INDEX(BDD!$A$2:$B$34,MATCH('1'!$B28,BDD!$A$2:$A$34,0),2),"")
B29: =BDD!A15 -> n | N29: P | O29: P | P29: P | Q29: P | R29: P | Y29: =IF(C29="P",INDEX(BDD!$A$2:$B$34,MATCH('1'!$B29,BDD!$A$2:$A$34,0),2),"") | Z29: =IF(D29="P",INDEX(BDD!$A$2:$B$34,MATCH('1'!$B29,BDD!$A$2:$A$34,0),2),"") | AA29: =IF(E29="P",INDEX(BDD!$A$2:$B$34,MATCH('1'!$B29,BDD!$A$2:$A$34,0),2),"") | AB29: =IF(F29="P",INDEX(BDD!$A$2:$B$34,MATCH('1'!$B29,BDD!$A$2:$A$34,0),2),"") | AC29: =IF(G29="P",INDEX(BDD!$A$2:$B$34,MATCH('1'!$B29,BDD!$A$2:$A$34,0),2),"") | AD29: =IF(H29="P",INDEX(BDD!$A$2:$B$34,MATCH('1'!$B29,BDD!$A$2:$A$34,0),2),"") | AE29: =IF(I29="P",INDEX(BDD!$A$2:$B$34,MATCH('1'!$B29,BDD!$A$2:$A$34,0),2),"") | AF29: =IF(J29="P",INDEX(BDD!$A$2:$B$34,MATCH('1'!$B29,BDD!$A$2:$A$34,0),2),"") | ... AS29: =IF(W29="P",INDEX(BDD!$A$2:$B$34,MATCH('1'!$B29,BDD!$A$2:$A$34,0),2),"")
B30: =BDD!A16 -> o | N30: P | O30: P | P30: P | Q30: P | R30: P | S30: P | T30: P | U30: P | V30: P | W30: P | Y30: =IF(C30="P",INDEX(BDD!$A$2:$B$34,MATCH('1'!$B30,BDD!$A$2:$A$34,0),2),"") | Z30: =IF(D30="P",INDEX(BDD!$A$2:$B$34,MATCH('1'!$B30,BDD!$A$2:$A$34,0),2),"") | AA30: =IF(E30="P",INDEX(BDD!$A$2:$B$34,MATCH('1'!$B30,BDD!$A$2:$A$34,0),2),"") | AB30: =IF(F30="P",INDEX(BDD!$A$2:$B$34,MATCH('1'!$B30,BDD!$A$2:$A$34,0),2),"") | AC30: =IF(G30="P",INDEX(BDD!$A$2:$B$34,MATCH('1'!$B30,BDD!$A$2:$A$34,0),2),"") | AD30: =IF(H30="P",INDEX(BDD!$A$2:$B$34,MATCH('1'!$B30,BDD!$A$2:$A$34,0),2),"") | AE30: =IF(I30="P",INDEX(BDD!$A$2:$B$34,MATCH('1'!$B30,BDD!$A$2:$A$34,0),2),"") | AF30: =IF(J30="P",INDEX(BDD!$A$2:$B$34,MATCH('1'!$B30,BDD!$A$2:$A$34,0),2),"") | ... AS30: =IF(W30="P",INDEX(BDD!$A$2:$B$34,MATCH('1'!$B30,BDD!$A$2:$A$34,0),2),"") -> NORMAL
B31: =BDD!A17 -> p | N31: P | O31: P | P31: P | Q31: P | R31: P | S31: P | T31: P | U31: P | V31: P | W31: P | Y31: =IF(C31="P",INDEX(BDD!$A$2:$B$34,MATCH('1'!$B31,BDD!$A$2:$A$34,0),2),"") | Z31: =IF(D31="P",INDEX(BDD!$A$2:$B$34,MATCH('1'!$B31,BDD!$A$2:$A$34,0),2),"") | AA31: =IF(E31="P",INDEX(BDD!$A$2:$B$34,MATCH('1'!$B31,BDD!$A$2:$A$34,0),2),"") | AB31: =IF(F31="P",INDEX(BDD!$A$2:$B$34,MATCH('1'!$B31,BDD!$A$2:$A$34,0),2),"") | AC31: =IF(G31="P",INDEX(BDD!$A$2:$B$34,MATCH('1'!$B31,BDD!$A$2:$A$34,0),2),"") | AD31: =IF(H31="P",INDEX(BDD!$A$2:$B$34,MATCH('1'!$B31,BDD!$A$2:$A$34,0),2),"") | AE31: =IF(I31="P",INDEX(BDD!$A$2:$B$34,MATCH('1'!$B31,BDD!$A$2:$A$34,0),2),"") | AF31: =IF(J31="P",INDEX(BDD!$A$2:$B$34,MATCH('1'!$B31,BDD!$A$2:$A$34,0),2),"") | ... AS31: =IF(W31="P",INDEX(BDD!$A$2:$B$34,MATCH('1'!$B31,BDD!$A$2:$A$34,0),2),"") -> MIXÉ
B32: =BDD!A18 -> q | N32: P | O32: P | P32: P | Q32: P | R32: P | S32: P | T32: P | U32: P | V32: P | W32: P | Y32: =IF(C32="P",INDEX(BDD!$A$2:$B$34,MATCH('1'!$B32,BDD!$A$2:$A$34,0),2),"") | Z32: =IF(D32="P",INDEX(BDD!$A$2:$B$34,MATCH('1'!$B32,BDD!$A$2:$A$34,0),2),"") | AA32: =IF(E32="P",INDEX(BDD!$A$2:$B$34,MATCH('1'!$B32,BDD!$A$2:$A$34,0),2),"") | AB32: =IF(F32="P",INDEX(BDD!$A$2:$B$34,MATCH('1'!$B32,BDD!$A$2:$A$34,0),2),"") | AC32: =IF(G32="P",INDEX(BDD!$A$2:$B$34,MATCH('1'!$B32,BDD!$A$2:$A$34,0),2),"") | AD32: =IF(H32="P",INDEX(BDD!$A$2:$B$34,MATCH('1'!$B32,BDD!$A$2:$A$34,0),2),"") | AE32: =IF(I32="P",INDEX(BDD!$A$2:$B$34,MATCH('1'!$B32,BDD!$A$2:$A$34,0),2),"") | AF32: =IF(J32="P",INDEX(BDD!$A$2:$B$34,MATCH('1'!$B32,BDD!$A$2:$A$34,0),2),"") | ... AS32: =IF(W32="P",INDEX(BDD!$A$2:$B$34,MATCH('1'!$B32,BDD!$A$2:$A$34,0),2),"") -> HYPO MIXÉ
B33: =BDD!A19 -> r | N33: P | O33: P | P33: P | Q33: P | R33: P | Y33: =IF(C33="P",INDEX(BDD!$A$2:$B$34,MATCH('1'!$B33,BDD!$A$2:$A$34,0),2),"") | Z33: =IF(D33="P",INDEX(BDD!$A$2:$B$34,MATCH('1'!$B33,BDD!$A$2:$A$34,0),2),"") | AA33: =IF(E33="P",INDEX(BDD!$A$2:$B$34,MATCH('1'!$B33,BDD!$A$2:$A$34,0),2),"") | AB33: =IF(F33="P",INDEX(BDD!$A$2:$B$34,MATCH('1'!$B33,BDD!$A$2:$A$34,0),2),"") | AC33: =IF(G33="P",INDEX(BDD!$A$2:$B$34,MATCH('1'!$B33,BDD!$A$2:$A$34,0),2),"") | AD33: =IF(H33="P",INDEX(BDD!$A$2:$B$34,MATCH('1'!$B33,BDD!$A$2:$A$34,0),2),"") | AE33: =IF(I33="P",INDEX(BDD!$A$2:$B$34,MATCH('1'!$B33,BDD!$A$2:$A$34,0),2),"") | AF33: =IF(J33="P",INDEX(BDD!$A$2:$B$34,MATCH('1'!$B33,BDD!$A$2:$A$34,0),2),"") | ... AS33: =IF(W33="P",INDEX(BDD!$A$2:$B$34,MATCH('1'!$B33,BDD!$A$2:$A$34,0),2),"")
B34: =BDD!A20 -> s | N34: P | O34: P | P34: P | Q34: P | R34: P | S34: P | T34: P | U34: P | V34: P | W34: P | Y34: =IF(C34="P",INDEX(BDD!$A$2:$B$34,MATCH('1'!$B34,BDD!$A$2:$A$34,0),2),"") | Z34: =IF(D34="P",INDEX(BDD!$A$2:$B$34,MATCH('1'!$B34,BDD!$A$2:$A$34,0),2),"") | AA34: =IF(E34="P",INDEX(BDD!$A$2:$B$34,MATCH('1'!$B34,BDD!$A$2:$A$34,0),2),"") | AB34: =IF(F34="P",INDEX(BDD!$A$2:$B$34,MATCH('1'!$B34,BDD!$A$2:$A$34,0),2),"") | AC34: =IF(G34="P",INDEX(BDD!$A$2:$B$34,MATCH('1'!$B34,BDD!$A$2:$A$34,0),2),"") | AD34: =IF(H34="P",INDEX(BDD!$A$2:$B$34,MATCH('1'!$B34,BDD!$A$2:$A$34,0),2),"") | AE34: =IF(I34="P",INDEX(BDD!$A$2:$B$34,MATCH('1'!$B34,BDD!$A$2:$A$34,0),2),"") | AF34: =IF(J34="P",INDEX(BDD!$A$2:$B$34,MATCH('1'!$B34,BDD!$A$2:$A$34,0),2),"") | ... AS34: =IF(W34="P",INDEX(BDD!$A$2:$B$34,MATCH('1'!$B34,BDD!$A$2:$A$34,0),2),"") -> SANS FIBRES
B35: =BDD!A21 -> t | N35: P | O35: P | P35: P | Q35: P | R35: P | S35: P | T35: P | U35: P | V35: P | W35: P | Y35: =IF(C35="P",INDEX(BDD!$A$2:$B$34,MATCH('1'!$B35,BDD!$A$2:$A$34,0),2),"") | Z35: =IF(D35="P",INDEX(BDD!$A$2:$B$34,MATCH('1'!$B35,BDD!$A$2:$A$34,0),2),"") | AA35: =IF(E35="P",INDEX(BDD!$A$2:$B$34,MATCH('1'!$B35,BDD!$A$2:$A$34,0),2),"") | AB35: =IF(F35="P",INDEX(BDD!$A$2:$B$34,MATCH('1'!$B35,BDD!$A$2:$A$34,0),2),"") | AC35: =IF(G35="P",INDEX(BDD!$A$2:$B$34,MATCH('1'!$B35,BDD!$A$2:$A$34,0),2),"") | AD35: =IF(H35="P",INDEX(BDD!$A$2:$B$34,MATCH('1'!$B35,BDD!$A$2:$A$34,0),2),"") | AE35: =IF(I35="P",INDEX(BDD!$A$2:$B$34,MATCH('1'!$B35,BDD!$A$2:$A$34,0),2),"") | AF35: =IF(J35="P",INDEX(BDD!$A$2:$B$34,MATCH('1'!$B35,BDD!$A$2:$A$34,0),2),"") | ... AS35: =IF(W35="P",INDEX(BDD!$A$2:$B$34,MATCH('1'!$B35,BDD!$A$2:$A$34,0),2),"") -> MIXÉ
B36: =BDD!A27 -> z | N36: P | Q36: P | Y36: =IF(C36="P",INDEX(BDD!$A$2:$B$34,MATCH('1'!$B36,BDD!$A$2:$A$34,0),2),"") | Z36: =IF(D36="P",INDEX(BDD!$A$2:$B$34,MATCH('1'!$B36,BDD!$A$2:$A$34,0),2),"") | AA36: =IF(E36="P",INDEX(BDD!$A$2:$B$34,MATCH('1'!$B36,BDD!$A$2:$A$34,0),2),"") | AB36: =IF(F36="P",INDEX(BDD!$A$2:$B$34,MATCH('1'!$B36,BDD!$A$2:$A$34,0),2),"") | AC36: =IF(G36="P",INDEX(BDD!$A$2:$B$34,MATCH('1'!$B36,BDD!$A$2:$A$34,0),2),"") | AD36: =IF(H36="P",INDEX(BDD!$A$2:$B$34,MATCH('1'!$B36,BDD!$A$2:$A$34,0),2),"") | AE36: =IF(I36="P",INDEX(BDD!$A$2:$B$34,MATCH('1'!$B36,BDD!$A$2:$A$34,0),2),"") | AF36: =IF(J36="P",INDEX(BDD!$A$2:$B$34,MATCH('1'!$B36,BDD!$A$2:$A$34,0),2),"") | ... AS36: =IF(W36="P",INDEX(BDD!$A$2:$B$34,MATCH('1'!$B36,BDD!$A$2:$A$34,0),2),"")
B37: =BDD!A28 -> aa | N37: P | P37: P | Y37: =IF(C37="P",INDEX(BDD!$A$2:$B$34,MATCH('1'!$B37,BDD!$A$2:$A$34,0),2),"") | Z37: =IF(D37="P",INDEX(BDD!$A$2:$B$34,MATCH('1'!$B37,BDD!$A$2:$A$34,0),2),"") | AA37: =IF(E37="P",INDEX(BDD!$A$2:$B$34,MATCH('1'!$B37,BDD!$A$2:$A$34,0),2),"") | AB37: =IF(F37="P",INDEX(BDD!$A$2:$B$34,MATCH('1'!$B37,BDD!$A$2:$A$34,0),2),"") | AC37: =IF(G37="P",INDEX(BDD!$A$2:$B$34,MATCH('1'!$B37,BDD!$A$2:$A$34,0),2),"") | AD37: =IF(H37="P",INDEX(BDD!$A$2:$B$34,MATCH('1'!$B37,BDD!$A$2:$A$34,0),2),"") | AE37: =IF(I37="P",INDEX(BDD!$A$2:$B$34,MATCH('1'!$B37,BDD!$A$2:$A$34,0),2),"") | AF37: =IF(J37="P",INDEX(BDD!$A$2:$B$34,MATCH('1'!$B37,BDD!$A$2:$A$34,0),2),"") | ... AS37: =IF(W37="P",INDEX(BDD!$A$2:$B$34,MATCH('1'!$B37,BDD!$A$2:$A$34,0),2),"")
B38: =BDD!A29 -> ab | S38: P | U38: P | V38: P | W38: P | Y38: =IF(C38="P",INDEX(BDD!$A$2:$B$34,MATCH('1'!$B38,BDD!$A$2:$A$34,0),2),"") | Z38: =IF(D38="P",INDEX(BDD!$A$2:$B$34,MATCH('1'!$B38,BDD!$A$2:$A$34,0),2),"") | AA38: =IF(E38="P",INDEX(BDD!$A$2:$B$34,MATCH('1'!$B38,BDD!$A$2:$A$34,0),2),"") | AB38: =IF(F38="P",INDEX(BDD!$A$2:$B$34,MATCH('1'!$B38,BDD!$A$2:$A$34,0),2),"") | AC38: =IF(G38="P",INDEX(BDD!$A$2:$B$34,MATCH('1'!$B38,BDD!$A$2:$A$34,0),2),"") | AD38: =IF(H38="P",INDEX(BDD!$A$2:$B$34,MATCH('1'!$B38,BDD!$A$2:$A$34,0),2),"") | AE38: =IF(I38="P",INDEX(BDD!$A$2:$B$34,MATCH('1'!$B38,BDD!$A$2:$A$34,0),2),"") | AF38: =IF(J38="P",INDEX(BDD!$A$2:$B$34,MATCH('1'!$B38,BDD!$A$2:$A$34,0),2),"") | ... AS38: =IF(W38="P",INDEX(BDD!$A$2:$B$34,MATCH('1'!$B38,BDD!$A$2:$A$34,0),2),"") -> NORMAL
B39: =BDD!A30 -> ac | P39: P | Y39: =IF(C39="P",INDEX(BDD!$A$2:$B$34,MATCH('1'!$B39,BDD!$A$2:$A$34,0),2),"") | Z39: =IF(D39="P",INDEX(BDD!$A$2:$B$34,MATCH('1'!$B39,BDD!$A$2:$A$34,0),2),"") | AA39: =IF(E39="P",INDEX(BDD!$A$2:$B$34,MATCH('1'!$B39,BDD!$A$2:$A$34,0),2),"") | AB39: =IF(F39="P",INDEX(BDD!$A$2:$B$34,MATCH('1'!$B39,BDD!$A$2:$A$34,0),2),"") | AC39: =IF(G39="P",INDEX(BDD!$A$2:$B$34,MATCH('1'!$B39,BDD!$A$2:$A$34,0),2),"") | AD39: =IF(H39="P",INDEX(BDD!$A$2:$B$34,MATCH('1'!$B39,BDD!$A$2:$A$34,0),2),"") | AE39: =IF(I39="P",INDEX(BDD!$A$2:$B$34,MATCH('1'!$B39,BDD!$A$2:$A$34,0),2),"") | AF39: =IF(J39="P",INDEX(BDD!$A$2:$B$34,MATCH('1'!$B39,BDD!$A$2:$A$34,0),2),"") | ... AS39: =IF(W39="P",INDEX(BDD!$A$2:$B$34,MATCH('1'!$B39,BDD!$A$2:$A$34,0),2),"")
B40: =BDD!A31 -> ad | S40: P | T40: P | U40: P | V40: P | W40: P | Y40: =IF(C40="P",INDEX(BDD!$A$2:$B$34,MATCH('1'!$B40,BDD!$A$2:$A$34,0),2),"") | Z40: =IF(D40="P",INDEX(BDD!$A$2:$B$34,MATCH('1'!$B40,BDD!$A$2:$A$34,0),2),"") | AA40: =IF(E40="P",INDEX(BDD!$A$2:$B$34,MATCH('1'!$B40,BDD!$A$2:$A$34,0),2),"") | AB40: =IF(F40="P",INDEX(BDD!$A$2:$B$34,MATCH('1'!$B40,BDD!$A$2:$A$34,0),2),"") | AC40: =IF(G40="P",INDEX(BDD!$A$2:$B$34,MATCH('1'!$B40,BDD!$A$2:$A$34,0),2),"") | AD40: =IF(H40="P",INDEX(BDD!$A$2:$B$34,MATCH('1'!$B40,BDD!$A$2:$A$34,0),2),"") | AE40: =IF(I40="P",INDEX(BDD!$A$2:$B$34,MATCH('1'!$B40,BDD!$A$2:$A$34,0),2),"") | AF40: =IF(J40="P",INDEX(BDD!$A$2:$B$34,MATCH('1'!$B40,BDD!$A$2:$A$34,0),2),"") | ... AS40: =IF(W40="P",INDEX(BDD!$A$2:$B$34,MATCH('1'!$B40,BDD!$A$2:$A$34,0),2),"") -> NORMAL
B41: =BDD!A32 -> ae | P41: P | Q41: P | Y41: =IF(C41="P",INDEX(BDD!$A$2:$B$34,MATCH('1'!$B41,BDD!$A$2:$A$34,0),2),"") | Z41: =IF(D41="P",INDEX(BDD!$A$2:$B$34,MATCH('1'!$B41,BDD!$A$2:$A$34,0),2),"") | AA41: =IF(E41="P",INDEX(BDD!$A$2:$B$34,MATCH('1'!$B41,BDD!$A$2:$A$34,0),2),"") | AB41: =IF(F41="P",INDEX(BDD!$A$2:$B$34,MATCH('1'!$B41,BDD!$A$2:$A$34,0),2),"") | AC41: =IF(G41="P",INDEX(BDD!$A$2:$B$34,MATCH('1'!$B41,BDD!$A$2:$A$34,0),2),"") | AD41: =IF(H41="P",INDEX(BDD!$A$2:$B$34,MATCH('1'!$B41,BDD!$A$2:$A$34,0),2),"") | AE41: =IF(I41="P",INDEX(BDD!$A$2:$B$34,MATCH('1'!$B41,BDD!$A$2:$A$34,0),2),"") | AF41: =IF(J41="P",INDEX(BDD!$A$2:$B$34,MATCH('1'!$B41,BDD!$A$2:$A$34,0),2),"") | ... AS41: =IF(W41="P",INDEX(BDD!$A$2:$B$34,MATCH('1'!$B41,BDD!$A$2:$A$34,0),2),"")
B42: =BDD!A34 -> Stagiaire2 | Y42: =IF(C42="P",INDEX(BDD!$A$2:$B$34,MATCH('1'!$B42,BDD!$A$2:$A$34,0),2),"") | Z42: =IF(D42="P",INDEX(BDD!$A$2:$B$34,MATCH('1'!$B42,BDD!$A$2:$A$34,0),2),"") | AA42: =IF(E42="P",INDEX(BDD!$A$2:$B$34,MATCH('1'!$B42,BDD!$A$2:$A$34,0),2),"") | AB42: =IF(F42="P",INDEX(BDD!$A$2:$B$34,MATCH('1'!$B42,BDD!$A$2:$A$34,0),2),"") | AC42: =IF(G42="P",INDEX(BDD!$A$2:$B$34,MATCH('1'!$B42,BDD!$A$2:$A$34,0),2),"") | AD42: =IF(H42="P",INDEX(BDD!$A$2:$B$34,MATCH('1'!$B42,BDD!$A$2:$A$34,0),2),"") | AE42: =IF(I42="P",INDEX(BDD!$A$2:$B$34,MATCH('1'!$B42,BDD!$A$2:$A$34,0),2),"") | AF42: =IF(J42="P",INDEX(BDD!$A$2:$B$34,MATCH('1'!$B42,BDD!$A$2:$A$34,0),2),"") | ... AS42: =IF(W42="P",INDEX(BDD!$A$2:$B$34,MATCH('1'!$B42,BDD!$A$2:$A$34,0),2),"")
C43: Semaine | Y43: =IF(C43="P",INDEX(BDD!$A$2:$B$34,MATCH('1'!$B43,BDD!$A$2:$A$34,0),2),"") | Z43: =IF(D43="P",INDEX(BDD!$A$2:$B$34,MATCH('1'!$B43,BDD!$A$2:$A$34,0),2),"") | AA43: =IF(E43="P",INDEX(BDD!$A$2:$B$34,MATCH('1'!$B43,BDD!$A$2:$A$34,0),2),"") | AB43: =IF(F43="P",INDEX(BDD!$A$2:$B$34,MATCH('1'!$B43,BDD!$A$2:$A$34,0),2),"") | AC43: =IF(G43="P",INDEX(BDD!$A$2:$B$34,MATCH('1'!$B43,BDD!$A$2:$A$34,0),2),"") | AD43: =IF(H43="P",INDEX(BDD!$A$2:$B$34,MATCH('1'!$B43,BDD!$A$2:$A$34,0),2),"") | AE43: =IF(I43="P",INDEX(BDD!$A$2:$B$34,MATCH('1'!$B43,BDD!$A$2:$A$34,0),2),"") | AF43: =IF(J43="P",INDEX(BDD!$A$2:$B$34,MATCH('1'!$B43,BDD!$A$2:$A$34,0),2),"") | ... AS43: =IF(W43="P",INDEX(BDD!$A$2:$B$34,MATCH('1'!$B43,BDD!$A$2:$A$34,0),2),"")
C44: =C3 -> 1 | Y44: =IF(C44="P",INDEX(BDD!$A$2:$B$34,MATCH('1'!$B44,BDD!$A$2:$A$34,0),2),"") | Z44: =IF(D44="P",INDEX(BDD!$A$2:$B$34,MATCH('1'!$B44,BDD!$A$2:$A$34,0),2),"") | AA44: =IF(E44="P",INDEX(BDD!$A$2:$B$34,MATCH('1'!$B44,BDD!$A$2:$A$34,0),2),"") | AB44: =IF(F44="P",INDEX(BDD!$A$2:$B$34,MATCH('1'!$B44,BDD!$A$2:$A$34,0),2),"") | AC44: =IF(G44="P",INDEX(BDD!$A$2:$B$34,MATCH('1'!$B44,BDD!$A$2:$A$34,0),2),"") | AD44: =IF(H44="P",INDEX(BDD!$A$2:$B$34,MATCH('1'!$B44,BDD!$A$2:$A$34,0),2),"") | AE44: =IF(I44="P",INDEX(BDD!$A$2:$B$34,MATCH('1'!$B44,BDD!$A$2:$A$34,0),2),"") | AF44: =IF(J44="P",INDEX(BDD!$A$2:$B$34,MATCH('1'!$B44,BDD!$A$2:$A$34,0),2),"") | ... AS44: =IF(W44="P",INDEX(BDD!$A$2:$B$34,MATCH('1'!$B44,BDD!$A$2:$A$34,0),2),"")
C45: =C46 -> 41638 | F45: =F46 -> 41639 | I45: =I46 -> 41640 | L45: =L46 -> 41641 | O45: =O46 -> 41642 | R45: =R46 -> 41643 | U45: =U46 -> 41644 | Y45: =IF(C45="P",INDEX(BDD!$A$2:$B$34,MATCH('1'!$B45,BDD!$A$2:$A$34,0),2),"") | Z45: =IF(D45="P",INDEX(BDD!$A$2:$B$34,MATCH('1'!$B45,BDD!$A$2:$A$34,0),2),"") | AA45: =IF(E45="P",INDEX(BDD!$A$2:$B$34,MATCH('1'!$B45,BDD!$A$2:$A$34,0),2),"") | AB45: =IF(F45="P",INDEX(BDD!$A$2:$B$34,MATCH('1'!$B45,BDD!$A$2:$A$34,0),2),"") | AC45: =IF(G45="P",INDEX(BDD!$A$2:$B$34,MATCH('1'!$B45,BDD!$A$2:$A$34,0),2),"") | AD45: =IF(H45="P",INDEX(BDD!$A$2:$B$34,MATCH('1'!$B45,BDD!$A$2:$A$34,0),2),"") | AE45: =IF(I45="P",INDEX(BDD!$A$2:$B$34,MATCH('1'!$B45,BDD!$A$2:$A$34,0),2),"") | AF45: =IF(J45="P",INDEX(BDD!$A$2:$B$34,MATCH('1'!$B45,BDD!$A$2:$A$34,0),2),"") | ... AS45: =IF(W45="P",INDEX(BDD!$A$2:$B$34,MATCH('1'!$B45,BDD!$A$2:$A$34,0),2),"")
A46: GROUPE | B46: NOMS | C46: =7*C3+DATE(B2,1,3)-WEEKDAY(DATE(B2,1,3))-5 -> 41638 | F46: =C46+1 -> 41639 | I46: =F46+1 -> 41640 | L46: =I46+1 -> 41641 | O46: =L46+1 -> 41642 | R46: =O46+1 -> 41643 | U46: =R46+1 -> 41644 | Y46: =IF(C46="P",INDEX(BDD!$A$2:$B$34,MATCH('1'!$B46,BDD!$A$2:$A$34,0),2),"") | Z46: =IF(D46="P",INDEX(BDD!$A$2:$B$34,MATCH('1'!$B46,BDD!$A$2:$A$34,0),2),"") | AA46: =IF(E46="P",INDEX(BDD!$A$2:$B$34,MATCH('1'!$B46,BDD!$A$2:$A$34,0),2),"") | AB46: =IF(F46="P",INDEX(BDD!$A$2:$B$34,MATCH('1'!$B46,BDD!$A$2:$A$34,0),2),"") | AC46: =IF(G46="P",INDEX(BDD!$A$2:$B$34,MATCH('1'!$B46,BDD!$A$2:$A$34,0),2),"") | AD46: =IF(H46="P",INDEX(BDD!$A$2:$B$34,MATCH('1'!$B46,BDD!$A$2:$A$34,0),2),"") | AE46: =IF(I46="P",INDEX(BDD!$A$2:$B$34,MATCH('1'!$B46,BDD!$A$2:$A$34,0),2),"") | AF46: =IF(J46="P",INDEX(BDD!$A$2:$B$34,MATCH('1'!$B46,BDD!$A$2:$A$34,0),2),"") | ... AS46: =IF(W46="P",INDEX(BDD!$A$2:$B$34,MATCH('1'!$B46,BDD!$A$2:$A$34,0),2),"")
A47: Ch. Accueil | B47: =BDD!A35 -> NOM Prénom | Y47: =IF(C47="P",INDEX(BDD!$A$2:$B$35,MATCH('1'!$B47,BDD!$A$2:$A$35,0),2),"") | Z47: =IF(D47="P",INDEX(BDD!$A$2:$B$34,MATCH('1'!$B47,BDD!$A$2:$A$34,0),2),"") | AA47: =IF(E47="P",INDEX(BDD!$A$2:$B$34,MATCH('1'!$B47,BDD!$A$2:$A$34,0),2),"") | AB47: =IF(F47="P",INDEX(BDD!$A$2:$B$34,MATCH('1'!$B47,BDD!$A$2:$A$34,0),2),"") | AC47: =IF(G47="P",INDEX(BDD!$A$2:$B$34,MATCH('1'!$B47,BDD!$A$2:$A$34,0),2),"") | AD47: =IF(H47="P",INDEX(BDD!$A$2:$B$34,MATCH('1'!$B47,BDD!$A$2:$A$34,0),2),"") | AE47: =IF(I47="P",INDEX(BDD!$A$2:$B$34,MATCH('1'!$B47,BDD!$A$2:$A$34,0),2),"") | AF47: =IF(J47="P",INDEX(BDD!$A$2:$B$34,MATCH('1'!$B47,BDD!$A$2:$A$34,0),2),"") | AG47: =IF(K47="P",INDEX(BDD!$A$2:$B$34,MATCH('1'!$B47,BDD!$A$2:$A$34,0),2),"") | ... AS47: =IF(W47="P",INDEX(BDD!$A$2:$B$34,MATCH('1'!$B47,BDD!$A$2:$A$34,0),2),"")
C49: Récapitulatif FDA
C50: =MID(CELL("nomfichier",$AT$2),FIND("]",CELL("nomfichier",$AT$2))+1,50) -> 1
C51: =C52 -> 41638 | F51: =F52 -> 41639 | I51: =I52 -> 41640 | L51: =L52 -> 41641 | O51: =O52 -> 41642 | R51: =R52 -> 41643 | U51: =U52 -> 41644
C52: =7*C50+DATE(B2,1,3)-WEEKDAY(DATE(B2,1,3))-5 -> 41638 | F52: =C52+1 -> 41639 | I52: =F52+1 -> 41640 | L52: =I52+1 -> 41641 | O52: =L52+1 -> 41642 | R52: =O52+1 -> 41643 | U52: =R52+1 -> 41644
B53: NORMAL | C53: =IF(COUNTIF(Y$6:Y$21,$B53)>0,COUNTIF(Y$6:Y$21,$B53),"") | D53: =IF(COUNTIF(Z$6:Z$21,$B53)>0,COUNTIF(Z$6:Z$21,$B53),"") | E53: =IF(COUNTIF(AA$6:AA$21,$B53)>0,COUNTIF(AA$6:AA$21,$B53),"") | F53: =IF(COUNTIF(AB$6:AB$21,$B53)>0,COUNTIF(AB$6:AB$21,$B53),"") | G53: =IF(COUNTIF(AC$6:AC$21,$B53)>0,COUNTIF(AC$6:AC$21,$B53),"") | H53: =IF(COUNTIF(AD$6:AD$21,$B53)>0,COUNTIF(AD$6:AD$21,$B53),"") | I53: =IF(COUNTIF(AE$6:AE$21,$B53)>0,COUNTIF(AE$6:AE$21,$B53),"") | J53: =IF(COUNTIF(AF$6:AF$21,$B53)>0,COUNTIF(AF$6:AF$21,$B53),"") | ... W53: =IF(COUNTIF(AS$6:AS$21,$B53)>0,COUNTIF(AS$6:AS$21,$B53),"") -> 3
B54: SANS VIANDE | C54: =IF(COUNTIF(Y$6:Y$21,$B54)>0,COUNTIF(Y$6:Y$21,$B54),"") | D54: =IF(COUNTIF(Z$6:Z$21,$B54)>0,COUNTIF(Z$6:Z$21,$B54),"") | E54: =IF(COUNTIF(AA$6:AA$21,$B54)>0,COUNTIF(AA$6:AA$21,$B54),"") | F54: =IF(COUNTIF(AB$6:AB$21,$B54)>0,COUNTIF(AB$6:AB$21,$B54),"") | G54: =IF(COUNTIF(AC$6:AC$21,$B54)>0,COUNTIF(AC$6:AC$21,$B54),"") | H54: =IF(COUNTIF(AD$6:AD$21,$B54)>0,COUNTIF(AD$6:AD$21,$B54),"") | I54: =IF(COUNTIF(AE$6:AE$21,$B54)>0,COUNTIF(AE$6:AE$21,$B54),"") | J54: =IF(COUNTIF(AF$6:AF$21,$B54)>0,COUNTIF(AF$6:AF$21,$B54),"") | ... W54: =IF(COUNTIF(AS$6:AS$21,$B54)>0,COUNTIF(AS$6:AS$21,$B54),"")
B55: SANS PORC | C55: =IF(COUNTIF(Y$6:Y$21,$B55)>0,COUNTIF(Y$6:Y$21,$B55),"") | D55: =IF(COUNTIF(Z$6:Z$21,$B55)>0,COUNTIF(Z$6:Z$21,$B55),"") | E55: =IF(COUNTIF(AA$6:AA$21,$B55)>0,COUNTIF(AA$6:AA$21,$B55),"") | F55: =IF(COUNTIF(AB$6:AB$21,$B55)>0,COUNTIF(AB$6:AB$21,$B55),"") | G55: =IF(COUNTIF(AC$6:AC$21,$B55)>0,COUNTIF(AC$6:AC$21,$B55),"") | H55: =IF(COUNTIF(AD$6:AD$21,$B55)>0,COUNTIF(AD$6:AD$21,$B55),"") | I55: =IF(COUNTIF(AE$6:AE$21,$B55)>0,COUNTIF(AE$6:AE$21,$B55),"") | J55: =IF(COUNTIF(AF$6:AF$21,$B55)>0,COUNTIF(AF$6:AF$21,$B55),"") | ... W55: =IF(COUNTIF(AS$6:AS$21,$B55)>0,COUNTIF(AS$6:AS$21,$B55),"")
B56: SANS POISSON | C56: =IF(COUNTIF(Y$6:Y$21,$B56)>0,COUNTIF(Y$6:Y$21,$B56),"") | D56: =IF(COUNTIF(Z$6:Z$21,$B56)>0,COUNTIF(Z$6:Z$21,$B56),"") | E56: =IF(COUNTIF(AA$6:AA$21,$B56)>0,COUNTIF(AA$6:AA$21,$B56),"") | F56: =IF(COUNTIF(AB$6:AB$21,$B56)>0,COUNTIF(AB$6:AB$21,$B56),"") | G56: =IF(COUNTIF(AC$6:AC$21,$B56)>0,COUNTIF(AC$6:AC$21,$B56),"") | H56: =IF(COUNTIF(AD$6:AD$21,$B56)>0,COUNTIF(AD$6:AD$21,$B56),"") | I56: =IF(COUNTIF(AE$6:AE$21,$B56)>0,COUNTIF(AE$6:AE$21,$B56),"") | J56: =IF(COUNTIF(AF$6:AF$21,$B56)>0,COUNTIF(AF$6:AF$21,$B56),"") | ... W56: =IF(COUNTIF(AS$6:AS$21,$B56)>0,COUNTIF(AS$6:AS$21,$B56),"")
B57: MIXÉ | C57: =IF(COUNTIF(Y$6:Y$21,$B57)>0,COUNTIF(Y$6:Y$21,$B57),"") | D57: =IF(COUNTIF(Z$6:Z$21,$B57)>0,COUNTIF(Z$6:Z$21,$B57),"") | E57: =IF(COUNTIF(AA$6:AA$21,$B57)>0,COUNTIF(AA$6:AA$21,$B57),"") | F57: =IF(COUNTIF(AB$6:AB$21,$B57)>0,COUNTIF(AB$6:AB$21,$B57),"") | G57: =IF(COUNTIF(AC$6:AC$21,$B57)>0,COUNTIF(AC$6:AC$21,$B57),"") | H57: =IF(COUNTIF(AD$6:AD$21,$B57)>0,COUNTIF(AD$6:AD$21,$B57),"") | I57: =IF(COUNTIF(AE$6:AE$21,$B57)>0,COUNTIF(AE$6:AE$21,$B57),"") | J57: =IF(COUNTIF(AF$6:AF$21,$B57)>0,COUNTIF(AF$6:AF$21,$B57),"") | ... W57: =IF(COUNTIF(AS$6:AS$21,$B57)>0,COUNTIF(AS$6:AS$21,$B57),"")
B58: MIXÉ SANS FIBRES | C58: =IF(COUNTIF(Y$6:Y$21,$B58)>0,COUNTIF(Y$6:Y$21,$B58),"") | D58: =IF(COUNTIF(Z$6:Z$21,$B58)>0,COUNTIF(Z$6:Z$21,$B58),"") | E58: =IF(COUNTIF(AA$6:AA$21,$B58)>0,COUNTIF(AA$6:AA$21,$B58),"") | F58: =IF(COUNTIF(AB$6:AB$21,$B58)>0,COUNTIF(AB$6:AB$21,$B58),"") | G58: =IF(COUNTIF(AC$6:AC$21,$B58)>0,COUNTIF(AC$6:AC$21,$B58),"") | H58: =IF(COUNTIF(AD$6:AD$21,$B58)>0,COUNTIF(AD$6:AD$21,$B58),"") | I58: =IF(COUNTIF(AE$6:AE$21,$B58)>0,COUNTIF(AE$6:AE$21,$B58),"") | J58: =IF(COUNTIF(AF$6:AF$21,$B58)>0,COUNTIF(AF$6:AF$21,$B58),"") | ... W58: =IF(COUNTIF(AS$6:AS$21,$B58)>0,COUNTIF(AS$6:AS$21,$B58),"") -> 1
B59: SANS FIBRES | C59: =IF(COUNTIF(Y$6:Y$21,$B59)>0,COUNTIF(Y$6:Y$21,$B59),"") | D59: =IF(COUNTIF(Z$6:Z$21,$B59)>0,COUNTIF(Z$6:Z$21,$B59),"") | E59: =IF(COUNTIF(AA$6:AA$21,$B59)>0,COUNTIF(AA$6:AA$21,$B59),"") | F59: =IF(COUNTIF(AB$6:AB$21,$B59)>0,COUNTIF(AB$6:AB$21,$B59),"") | G59: =IF(COUNTIF(AC$6:AC$21,$B59)>0,COUNTIF(AC$6:AC$21,$B59),"") | H59: =IF(COUNTIF(AD$6:AD$21,$B59)>0,COUNTIF(AD$6:AD$21,$B59),"") | I59: =IF(COUNTIF(AE$6:AE$21,$B59)>0,COUNTIF(AE$6:AE$21,$B59),"") | J59: =IF(COUNTIF(AF$6:AF$21,$B59)>0,COUNTIF(AF$6:AF$21,$B59),"") | ... W59: =IF(COUNTIF(AS$6:AS$21,$B59)>0,COUNTIF(AS$6:AS$21,$B59),"")
B60: HYPO | C60: =IF(COUNTIF(Y$6:Y$21,$B60)>0,COUNTIF(Y$6:Y$21,$B60),"") | D60: =IF(COUNTIF(Z$6:Z$21,$B60)>0,COUNTIF(Z$6:Z$21,$B60),"") | E60: =IF(COUNTIF(AA$6:AA$21,$B60)>0,COUNTIF(AA$6:AA$21,$B60),"") | F60: =IF(COUNTIF(AB$6:AB$21,$B60)>0,COUNTIF(AB$6:AB$21,$B60),"") | G60: =IF(COUNTIF(AC$6:AC$21,$B60)>0,COUNTIF(AC$6:AC$21,$B60),"") | H60: =IF(COUNTIF(AD$6:AD$21,$B60)>0,COUNTIF(AD$6:AD$21,$B60),"") | I60: =IF(COUNTIF(AE$6:AE$21,$B60)>0,COUNTIF(AE$6:AE$21,$B60),"") | J60: =IF(COUNTIF(AF$6:AF$21,$B60)>0,COUNTIF(AF$6:AF$21,$B60),"") | ... W60: =IF(COUNTIF(AS$6:AS$21,$B60)>0,COUNTIF(AS$6:AS$21,$B60),"") -> 3
B61: HYPO MIXÉ | C61: =IF(COUNTIF(Y$6:Y$21,$B61)>0,COUNTIF(Y$6:Y$21,$B61),"") | D61: =IF(COUNTIF(Z$6:Z$21,$B61)>0,COUNTIF(Z$6:Z$21,$B61),"") | E61: =IF(COUNTIF(AA$6:AA$21,$B61)>0,COUNTIF(AA$6:AA$21,$B61),"") | F61: =IF(COUNTIF(AB$6:AB$21,$B61)>0,COUNTIF(AB$6:AB$21,$B61),"") | G61: =IF(COUNTIF(AC$6:AC$21,$B61)>0,COUNTIF(AC$6:AC$21,$B61),"") | H61: =IF(COUNTIF(AD$6:AD$21,$B61)>0,COUNTIF(AD$6:AD$21,$B61),"") | I61: =IF(COUNTIF(AE$6:AE$21,$B61)>0,COUNTIF(AE$6:AE$21,$B61),"") | J61: =IF(COUNTIF(AF$6:AF$21,$B61)>0,COUNTIF(AF$6:AF$21,$B61),"") | ... W61: =IF(COUNTIF(AS$6:AS$21,$B61)>0,COUNTIF(AS$6:AS$21,$B61),"")
B62: HYPO SANS VIANDE | C62: =IF(COUNTIF(Y$6:Y$21,$B62)>0,COUNTIF(Y$6:Y$21,$B62),"") | D62: =IF(COUNTIF(Z$6:Z$21,$B62)>0,COUNTIF(Z$6:Z$21,$B62),"") | E62: =IF(COUNTIF(AA$6:AA$21,$B62)>0,COUNTIF(AA$6:AA$21,$B62),"") | F62: =IF(COUNTIF(AB$6:AB$21,$B62)>0,COUNTIF(AB$6:AB$21,$B62),"") | G62: =IF(COUNTIF(AC$6:AC$21,$B62)>0,COUNTIF(AC$6:AC$21,$B62),"") | H62: =IF(COUNTIF(AD$6:AD$21,$B62)>0,COUNTIF(AD$6:AD$21,$B62),"") | I62: =IF(COUNTIF(AE$6:AE$21,$B62)>0,COUNTIF(AE$6:AE$21,$B62),"") | J62: =IF(COUNTIF(AF$6:AF$21,$B62)>0,COUNTIF(AF$6:AF$21,$B62),"") | ... W62: =IF(COUNTIF(AS$6:AS$21,$B62)>0,COUNTIF(AS$6:AS$21,$B62),"")
B63: HYPO SANS FIBRES | C63: =IF(COUNTIF(Y$6:Y$21,$B63)>0,COUNTIF(Y$6:Y$21,$B63),"") | D63: =IF(COUNTIF(Z$6:Z$21,$B63)>0,COUNTIF(Z$6:Z$21,$B63),"") | E63: =IF(COUNTIF(AA$6:AA$21,$B63)>0,COUNTIF(AA$6:AA$21,$B63),"") | F63: =IF(COUNTIF(AB$6:AB$21,$B63)>0,COUNTIF(AB$6:AB$21,$B63),"") | G63: =IF(COUNTIF(AC$6:AC$21,$B63)>0,COUNTIF(AC$6:AC$21,$B63),"") | H63: =IF(COUNTIF(AD$6:AD$21,$B63)>0,COUNTIF(AD$6:AD$21,$B63),"") | I63: =IF(COUNTIF(AE$6:AE$21,$B63)>0,COUNTIF(AE$6:AE$21,$B63),"") | J63: =IF(COUNTIF(AF$6:AF$21,$B63)>0,COUNTIF(AF$6:AF$21,$B63),"") | ... W63: =IF(COUNTIF(AS$6:AS$21,$B63)>0,COUNTIF(AS$6:AS$21,$B63),"") -> 1
B64: SANS ŒUFS | C64: =IF(COUNTIF(Y$6:Y$21,$B64)>0,COUNTIF(Y$6:Y$21,$B64),"") | D64: =IF(COUNTIF(Z$6:Z$21,$B64)>0,COUNTIF(Z$6:Z$21,$B64),"") | E64: =IF(COUNTIF(AA$6:AA$21,$B64)>0,COUNTIF(AA$6:AA$21,$B64),"") | F64: =IF(COUNTIF(AB$6:AB$21,$B64)>0,COUNTIF(AB$6:AB$21,$B64),"") | G64: =IF(COUNTIF(AC$6:AC$21,$B64)>0,COUNTIF(AC$6:AC$21,$B64),"") | H64: =IF(COUNTIF(AD$6:AD$21,$B64)>0,COUNTIF(AD$6:AD$21,$B64),"") | I64: =IF(COUNTIF(AE$6:AE$21,$B64)>0,COUNTIF(AE$6:AE$21,$B64),"") | J64: =IF(COUNTIF(AF$6:AF$21,$B64)>0,COUNTIF(AF$6:AF$21,$B64),"") | ... W64: =IF(COUNTIF(AS$6:AS$21,$B64)>0,COUNTIF(AS$6:AS$21,$B64),"")
... B66: GOUTTE | C66: =IF(COUNTIF(Y$6:Y$21,$B66)>0,COUNTIF(Y$6:Y$21,$B66),"") | D66: =IF(COUNTIF(Z$6:Z$21,$B66)>0,COUNTIF(Z$6:Z$21,$B66),"") | E66: =IF(COUNTIF(AA$6:AA$21,$B66)>0,COUNTIF(AA$6:AA$21,$B66),"") | F66: =IF(COUNTIF(AB$6:AB$21,$B66)>0,COUNTIF(AB$6:AB$21,$B66),"") | G66: =IF(COUNTIF(AC$6:AC$21,$B66)>0,COUNTIF(AC$6:AC$21,$B66),"") | H66: =IF(COUNTIF(AD$6:AD$21,$B66)>0,COUNTIF(AD$6:AD$21,$B66),"") | I66: =IF(COUNTIF(AE$6:AE$21,$B66)>0,COUNTIF(AE$6:AE$21,$B66),"") | J66: =IF(COUNTIF(AF$6:AF$21,$B66)>0,COUNTIF(AF$6:AF$21,$B66),"") | ... W66: =IF(COUNTIF(AS$6:AS$21,$B66)>0,COUNTIF(AS$6:AS$21,$B66),"")
C67: =SUM(C53:C66) -> 0 | D67: =SUM(D53:D66) -> 0 | E67: =SUM(E53:E66) -> 0 | F67: =SUM(F53:F66) -> 0 | G67: =SUM(G53:G66) -> 0 | H67: =SUM(H53:H66) -> 0 | I67: =SUM(I53:I66) -> 0 | J67: =SUM(J53:J66) -> 0 | ... W67: =SUM(W53:W66) -> 8
B68: PIQUE-NIQUE | C68: =COUNTIF(C6:C21,"K") -> 0 | D68: =COUNTIF(D6:D21,"K") -> 0 | E68: =COUNTIF(E6:E21,"K") -> 0 | F68: =COUNTIF(F6:F21,"K") -> 0 | G68: =COUNTIF(G6:G21,"K") -> 0 | H68: =COUNTIF(H6:H21,"K") -> 0 | I68: =COUNTIF(I6:I21,"K") -> 0 | J68: =COUNTIF(J6:J21,"K") -> 0 | ... W68: =COUNTIF(W6:W21,"K") -> 0
C69: Récapitulatif FDVB
C70: =MID(CELL("nomfichier",$AT$2),FIND("]",CELL("nomfichier",$AT$2))+1,50) -> 1
C71: =C72 -> 41638 | F71: =F72 -> 41639 | I71: =I72 -> 41640 | L71: =L72 -> 41641 | O71: =O72 -> 41642 | R71: =R72 -> 41643 | U71: =U72 -> 41644
C72: =7*C70+DATE(B2,1,3)-WEEKDAY(DATE(B2,1,3))-5 -> 41638 | F72: =C72+1 -> 41639 | I72: =F72+1 -> 41640 | L72: =I72+1 -> 41641 | O72: =L72+1 -> 41642 | R72: =O72+1 -> 41643 | U72: =R72+1 -> 41644
B73: NORMAL | C73: =IF(COUNTIF(Y$26:Y$47,$B73)>0,COUNTIF(Y$26:Y$47,$B73),"") | D73: =IF(COUNTIF(Z$26:Z$47,$B73)>0,COUNTIF(Z$26:Z$47,$B73),"") | E73: =IF(COUNTIF(AA$26:AA$47,$B73)>0,COUNTIF(AA$26:AA$47,$B73),"") | F73: =IF(COUNTIF(AB$26:AB$47,$B73)>0,COUNTIF(AB$26:AB$47,$B73),"") | G73: =IF(COUNTIF(AC$26:AC$47,$B73)>0,COUNTIF(AC$26:AC$47,$B73),"") | H73: =IF(COUNTIF(AD$26:AD$47,$B73)>0,COUNTIF(AD$26:AD$47,$B73),"") | I73: =IF(COUNTIF(AE$26:AE$47,$B73)>0,COUNTIF(AE$26:AE$47,$B73),"") | J73: =IF(COUNTIF(AF$26:AF$47,$B73)>0,COUNTIF(AF$26:AF$47,$B73),"") | ... W73: =IF(COUNTIF(AS$26:AS$47,$B73)>0,COUNTIF(AS$26:AS$47,$B73),"") -> 3
B74: SANS VIANDE | C74: =IF(COUNTIF(Y$26:Y$47,$B74)>0,COUNTIF(Y$26:Y$47,$B74),"") | D74: =IF(COUNTIF(Z$26:Z$47,$B74)>0,COUNTIF(Z$26:Z$47,$B74),"") | E74: =IF(COUNTIF(AA$26:AA$47,$B74)>0,COUNTIF(AA$26:AA$47,$B74),"") | F74: =IF(COUNTIF(AB$26:AB$47,$B74)>0,COUNTIF(AB$26:AB$47,$B74),"") | G74: =IF(COUNTIF(AC$26:AC$47,$B74)>0,COUNTIF(AC$26:AC$47,$B74),"") | H74: =IF(COUNTIF(AD$26:AD$47,$B74)>0,COUNTIF(AD$26:AD$47,$B74),"") | I74: =IF(COUNTIF(AE$26:AE$47,$B74)>0,COUNTIF(AE$26:AE$47,$B74),"") | J74: =IF(COUNTIF(AF$26:AF$47,$B74)>0,COUNTIF(AF$26:AF$47,$B74),"") | ... W74: =IF(COUNTIF(AS$26:AS$47,$B74)>0,COUNTIF(AS$26:AS$47,$B74),"")
B75: SANS PORC | C75: =IF(COUNTIF(Y$26:Y$47,$B75)>0,COUNTIF(Y$26:Y$47,$B75),"") | D75: =IF(COUNTIF(Z$26:Z$47,$B75)>0,COUNTIF(Z$26:Z$47,$B75),"") | E75: =IF(COUNTIF(AA$26:AA$47,$B75)>0,COUNTIF(AA$26:AA$47,$B75),"") | F75: =IF(COUNTIF(AB$26:AB$47,$B75)>0,COUNTIF(AB$26:AB$47,$B75),"") | G75: =IF(COUNTIF(AC$26:AC$47,$B75)>0,COUNTIF(AC$26:AC$47,$B75),"") | H75: =IF(COUNTIF(AD$26:AD$47,$B75)>0,COUNTIF(AD$26:AD$47,$B75),"") | I75: =IF(COUNTIF(AE$26:AE$47,$B75)>0,COUNTIF(AE$26:AE$47,$B75),"") | J75: =IF(COUNTIF(AF$26:AF$47,$B75)>0,COUNTIF(AF$26:AF$47,$B75),"") | ... W75: =IF(COUNTIF(AS$26:AS$47,$B75)>0,COUNTIF(AS$26:AS$47,$B75),"")
B76: SANS POISSON | C76: =IF(COUNTIF(Y$26:Y$47,$B76)>0,COUNTIF(Y$26:Y$47,$B76),"") | D76: =IF(COUNTIF(Z$26:Z$47,$B76)>0,COUNTIF(Z$26:Z$47,$B76),"") | E76: =IF(COUNTIF(AA$26:AA$47,$B76)>0,COUNTIF(AA$26:AA$47,$B76),"") | F76: =IF(COUNTIF(AB$26:AB$47,$B76)>0,COUNTIF(AB$26:AB$47,$B76),"") | G76: =IF(COUNTIF(AC$26:AC$47,$B76)>0,COUNTIF(AC$26:AC$47,$B76),"") | H76: =IF(COUNTIF(AD$26:AD$47,$B76)>0,COUNTIF(AD$26:AD$47,$B76),"") | I76: =IF(COUNTIF(AE$26:AE$47,$B76)>0,COUNTIF(AE$26:AE$47,$B76),"") | J76: =IF(COUNTIF(AF$26:AF$47,$B76)>0,COUNTIF(AF$26:AF$47,$B76),"") | ... W76: =IF(COUNTIF(AS$26:AS$47,$B76)>0,COUNTIF(AS$26:AS$47,$B76),"")
B77: MIXÉ | C77: =IF(COUNTIF(Y$26:Y$47,$B77)>0,COUNTIF(Y$26:Y$47,$B77),"") | D77: =IF(COUNTIF(Z$26:Z$47,$B77)>0,COUNTIF(Z$26:Z$47,$B77),"") | E77: =IF(COUNTIF(AA$26:AA$47,$B77)>0,COUNTIF(AA$26:AA$47,$B77),"") | F77: =IF(COUNTIF(AB$26:AB$47,$B77)>0,COUNTIF(AB$26:AB$47,$B77),"") | G77: =IF(COUNTIF(AC$26:AC$47,$B77)>0,COUNTIF(AC$26:AC$47,$B77),"") | H77: =IF(COUNTIF(AD$26:AD$47,$B77)>0,COUNTIF(AD$26:AD$47,$B77),"") | I77: =IF(COUNTIF(AE$26:AE$47,$B77)>0,COUNTIF(AE$26:AE$47,$B77),"") | J77: =IF(COUNTIF(AF$26:AF$47,$B77)>0,COUNTIF(AF$26:AF$47,$B77),"") | ... W77: =IF(COUNTIF(AS$26:AS$47,$B77)>0,COUNTIF(AS$26:AS$47,$B77),"") -> 3
B78: MIXÉ SANS FIBRES | C78: =IF(COUNTIF(Y$26:Y$47,$B78)>0,COUNTIF(Y$26:Y$47,$B78),"") | D78: =IF(COUNTIF(Z$26:Z$47,$B78)>0,COUNTIF(Z$26:Z$47,$B78),"") | E78: =IF(COUNTIF(AA$26:AA$47,$B78)>0,COUNTIF(AA$26:AA$47,$B78),"") | F78: =IF(COUNTIF(AB$26:AB$47,$B78)>0,COUNTIF(AB$26:AB$47,$B78),"") | G78: =IF(COUNTIF(AC$26:AC$47,$B78)>0,COUNTIF(AC$26:AC$47,$B78),"") | H78: =IF(COUNTIF(AD$26:AD$47,$B78)>0,COUNTIF(AD$26:AD$47,$B78),"") | I78: =IF(COUNTIF(AE$26:AE$47,$B78)>0,COUNTIF(AE$26:AE$47,$B78),"") | J78: =IF(COUNTIF(AF$26:AF$47,$B78)>0,COUNTIF(AF$26:AF$47,$B78),"") | ... W78: =IF(COUNTIF(AS$26:AS$47,$B78)>0,COUNTIF(AS$26:AS$47,$B78),"")
B79: SANS FIBRES | C79: =IF(COUNTIF(Y$26:Y$47,$B79)>0,COUNTIF(Y$26:Y$47,$B79),"") | D79: =IF(COUNTIF(Z$26:Z$47,$B79)>0,COUNTIF(Z$26:Z$47,$B79),"") | E79: =IF(COUNTIF(AA$26:AA$47,$B79)>0,COUNTIF(AA$26:AA$47,$B79),"") | F79: =IF(COUNTIF(AB$26:AB$47,$B79)>0,COUNTIF(AB$26:AB$47,$B79),"") | G79: =IF(COUNTIF(AC$26:AC$47,$B79)>0,COUNTIF(AC$26:AC$47,$B79),"") | H79: =IF(COUNTIF(AD$26:AD$47,$B79)>0,COUNTIF(AD$26:AD$47,$B79),"") | I79: =IF(COUNTIF(AE$26:AE$47,$B79)>0,COUNTIF(AE$26:AE$47,$B79),"") | J79: =IF(COUNTIF(AF$26:AF$47,$B79)>0,COUNTIF(AF$26:AF$47,$B79),"") | ... W79: =IF(COUNTIF(AS$26:AS$47,$B79)>0,COUNTIF(AS$26:AS$47,$B79),"") -> 1
B80: HYPO | C80: =IF(COUNTIF(Y$26:Y$47,$B80)>0,COUNTIF(Y$26:Y$47,$B80),"") | D80: =IF(COUNTIF(Z$26:Z$47,$B80)>0,COUNTIF(Z$26:Z$47,$B80),"") | E80: =IF(COUNTIF(AA$26:AA$47,$B80)>0,COUNTIF(AA$26:AA$47,$B80),"") | F80: =IF(COUNTIF(AB$26:AB$47,$B80)>0,COUNTIF(AB$26:AB$47,$B80),"") | G80: =IF(COUNTIF(AC$26:AC$47,$B80)>0,COUNTIF(AC$26:AC$47,$B80),"") | H80: =IF(COUNTIF(AD$26:AD$47,$B80)>0,COUNTIF(AD$26:AD$47,$B80),"") | I80: =IF(COUNTIF(AE$26:AE$47,$B80)>0,COUNTIF(AE$26:AE$47,$B80),"") | J80: =IF(COUNTIF(AF$26:AF$47,$B80)>0,COUNTIF(AF$26:AF$47,$B80),"") | ... W80: =IF(COUNTIF(AS$26:AS$47,$B80)>0,COUNTIF(AS$26:AS$47,$B80),"") -> 1
B81: HYPO MIXÉ | C81: =IF(COUNTIF(Y$26:Y$47,$B81)>0,COUNTIF(Y$26:Y$47,$B81),"") | D81: =IF(COUNTIF(Z$26:Z$47,$B81)>0,COUNTIF(Z$26:Z$47,$B81),"") | E81: =IF(COUNTIF(AA$26:AA$47,$B81)>0,COUNTIF(AA$26:AA$47,$B81),"") | F81: =IF(COUNTIF(AB$26:AB$47,$B81)>0,COUNTIF(AB$26:AB$47,$B81),"") | G81: =IF(COUNTIF(AC$26:AC$47,$B81)>0,COUNTIF(AC$26:AC$47,$B81),"") | H81: =IF(COUNTIF(AD$26:AD$47,$B81)>0,COUNTIF(AD$26:AD$47,$B81),"") | I81: =IF(COUNTIF(AE$26:AE$47,$B81)>0,COUNTIF(AE$26:AE$47,$B81),"") | J81: =IF(COUNTIF(AF$26:AF$47,$B81)>0,COUNTIF(AF$26:AF$47,$B81),"") | ... W81: =IF(COUNTIF(AS$26:AS$47,$B81)>0,COUNTIF(AS$26:AS$47,$B81),"") -> 1
B82: HYPO SANS VIANDE | C82: =IF(COUNTIF(Y$26:Y$47,$B82)>0,COUNTIF(Y$26:Y$47,$B82),"") | D82: =IF(COUNTIF(Z$26:Z$47,$B82)>0,COUNTIF(Z$26:Z$47,$B82),"") | E82: =IF(COUNTIF(AA$26:AA$47,$B82)>0,COUNTIF(AA$26:AA$47,$B82),"") | F82: =IF(COUNTIF(AB$26:AB$47,$B82)>0,COUNTIF(AB$26:AB$47,$B82),"") | G82: =IF(COUNTIF(AC$26:AC$47,$B82)>0,COUNTIF(AC$26:AC$47,$B82),"") | H82: =IF(COUNTIF(AD$26:AD$47,$B82)>0,COUNTIF(AD$26:AD$47,$B82),"") | I82: =IF(COUNTIF(AE$26:AE$47,$B82)>0,COUNTIF(AE$26:AE$47,$B82),"") | J82: =IF(COUNTIF(AF$26:AF$47,$B82)>0,COUNTIF(AF$26:AF$47,$B82),"") | ... W82: =IF(COUNTIF(AS$26:AS$47,$B82)>0,COUNTIF(AS$26:AS$47,$B82),"")
B83: HYPO SANS FIBRES | C83: =IF(COUNTIF(Y$26:Y$47,$B83)>0,COUNTIF(Y$26:Y$47,$B83),"") | D83: =IF(COUNTIF(Z$26:Z$47,$B83)>0,COUNTIF(Z$26:Z$47,$B83),"") | E83: =IF(COUNTIF(AA$26:AA$47,$B83)>0,COUNTIF(AA$26:AA$47,$B83),"") | F83: =IF(COUNTIF(AB$26:AB$47,$B83)>0,COUNTIF(AB$26:AB$47,$B83),"") | G83: =IF(COUNTIF(AC$26:AC$47,$B83)>0,COUNTIF(AC$26:AC$47,$B83),"") | H83: =IF(COUNTIF(AD$26:AD$47,$B83)>0,COUNTIF(AD$26:AD$47,$B83),"") | I83: =IF(COUNTIF(AE$26:AE$47,$B83)>0,COUNTIF(AE$26:AE$47,$B83),"") | J83: =IF(COUNTIF(AF$26:AF$47,$B83)>0,COUNTIF(AF$26:AF$47,$B83),"") | ... W83: =IF(COUNTIF(AS$26:AS$47,$B83)>0,COUNTIF(AS$26:AS$47,$B83),"")
B84: SANS ŒUFS | C84: =IF(COUNTIF(Y$26:Y$47,$B84)>0,COUNTIF(Y$26:Y$47,$B84),"") | D84: =IF(COUNTIF(Z$26:Z$47,$B84)>0,COUNTIF(Z$26:Z$47,$B84),"") | E84: =IF(COUNTIF(AA$26:AA$47,$B84)>0,COUNTIF(AA$26:AA$47,$B84),"") | F84: =IF(COUNTIF(AB$26:AB$47,$B84)>0,COUNTIF(AB$26:AB$47,$B84),"") | G84: =IF(COUNTIF(AC$26:AC$47,$B84)>0,COUNTIF(AC$26:AC$47,$B84),"") | H84: =IF(COUNTIF(AD$26:AD$47,$B84)>0,COUNTIF(AD$26:AD$47,$B84),"") | I84: =IF(COUNTIF(AE$26:AE$47,$B84)>0,COUNTIF(AE$26:AE$47,$B84),"") | J84: =IF(COUNTIF(AF$26:AF$47,$B84)>0,COUNTIF(AF$26:AF$47,$B84),"") | ... W84: =IF(COUNTIF(AS$26:AS$47,$B84)>0,COUNTIF(AS$26:AS$47,$B84),"")
... B86: GOUTTE | C86: =IF(COUNTIF(Y$26:Y$47,$B86)>0,COUNTIF(Y$26:Y$47,$B86),"") | D86: =IF(COUNTIF(Z$26:Z$47,$B86)>0,COUNTIF(Z$26:Z$47,$B86),"") | E86: =IF(COUNTIF(AA$26:AA$47,$B86)>0,COUNTIF(AA$26:AA$47,$B86),"") | F86: =IF(COUNTIF(AB$26:AB$47,$B86)>0,COUNTIF(AB$26:AB$47,$B86),"") | G86: =IF(COUNTIF(AC$26:AC$47,$B86)>0,COUNTIF(AC$26:AC$47,$B86),"") | H86: =IF(COUNTIF(AD$26:AD$47,$B86)>0,COUNTIF(AD$26:AD$47,$B86),"") | I86: =IF(COUNTIF(AE$26:AE$47,$B86)>0,COUNTIF(AE$26:AE$47,$B86),"") | J86: =IF(COUNTIF(AF$26:AF$47,$B86)>0,COUNTIF(AF$26:AF$47,$B86),"") | ... W86: =IF(COUNTIF(AS$26:AS$47,$B86)>0,COUNTIF(AS$26:AS$47,$B86),"")
C87: =SUM(C73:C86) -> 0 | D87: =SUM(D73:D86) -> 0 | E87: =SUM(E73:E86) -> 0 | F87: =SUM(F73:F86) -> 0 | G87: =SUM(G73:G86) -> 0 | H87: =SUM(H73:H86) -> 0 | I87: =SUM(I73:I86) -> 0 | J87: =SUM(J73:J86) -> 0 | ... W87: =SUM(W73:W86) -> 9
B88: PIQUE-NIQUE | C88: =COUNTIF(C26:C47,"K") -> 0 | D88: =COUNTIF(D26:D47,"K") -> 0 | E88: =COUNTIF(E26:E47,"K") -> 0 | F88: =COUNTIF(F26:F47,"K") -> 0 | G88: =COUNTIF(G26:G47,"K") -> 0 | H88: =COUNTIF(H26:H47,"K") -> 0 | I88: =COUNTIF(I26:I47,"K") -> 0 | J88: =COUNTIF(J26:J47,"K") -> 0 | ... W88: =COUNTIF(W26:W47,"K") -> 0
V90: Nombre de viennoiseries : | W90: =COUNTA(U6:U21,U26:U42,U47) -> 16
C92: Semaine : | F92: =MID(CELL("nomfichier",$A$1),FIND("]",CELL("nomfichier",$A$1))+1,50) -> 1
C93: L | D93: M | E93: M | F93: J | G93: V | H93: S | I93: D
C94: =7*F92+DATE(B2,1,3)-WEEKDAY(DATE(B2,1,3))-5 -> 41638 | D94: =F52 -> 41639 | E94: =I5 -> 41640 | F94: =L5 -> 41641 | G94: =O5 -> 41642 | H94: =R5 -> 41643 | I94: =U5 -> 41644
B95: =B6 -> a | C95: =IF(AND(C6<>"",COUNTIF(fériés,$C$94)=1),1,IF(COUNTIF(fériés,$C$94)=0,IF(OR(C6<>"",E6<>""),1,""))) | D95: =IF(AND(F6<>"",COUNTIF(fériés,$D$94)=1),1,IF(COUNTIF(fériés,$D$94)=0,IF(OR(F6<>"",H6<>""),1,""))) | E95: =IF(AND(I6<>"",COUNTIF(fériés,$E$94)=1),1,IF(COUNTIF(fériés,$E$94)=0,IF(OR(I6<>"",K6<>""),1,""))) -> FALSE | F95: =IF(AND(L6<>"",COUNTIF(fériés,$F$94)=1),1,IF(COUNTIF(fériés,$F$94)=0,IF(OR(L6<>"",N6<>""),1,""))) -> 1 | G95: =IF(AND(O6<>"",COUNTIF(fériés,$G$94)=1),1,IF(COUNTIF(fériés,$G$94)=0,IF(OR(O6<>"",Q6<>""),1,""))) -> 1 | H95: =IF(R6<>"",1,"") -> 1 | I95: =IF(U6<>"",1,"") -> 1
B96: =B7 -> b | C96: =IF(AND(C7<>"",COUNTIF(fériés,$C$94)=1),1,IF(COUNTIF(fériés,$C$94)=0,IF(OR(C7<>"",E7<>""),1,""))) | D96: =IF(AND(F7<>"",COUNTIF(fériés,$D$94)=1),1,IF(COUNTIF(fériés,$D$94)=0,IF(OR(F7<>"",H7<>""),1,""))) | E96: =IF(AND(I7<>"",COUNTIF(fériés,$E$94)=1),1,IF(COUNTIF(fériés,$E$94)=0,IF(OR(I7<>"",K7<>""),1,""))) -> FALSE | F96: =IF(AND(L7<>"",COUNTIF(fériés,$F$94)=1),1,IF(COUNTIF(fériés,$F$94)=0,IF(OR(L7<>"",N7<>""),1,""))) -> 1 | G96: =IF(AND(O7<>"",COUNTIF(fériés,$G$94)=1),1,IF(COUNTIF(fériés,$G$94)=0,IF(OR(O7<>"",Q7<>""),1,""))) -> 1 | H96: =IF(R7<>"",1,"") -> 1 | I96: =IF(U7<>"",1,"") -> 1
B97: =B8 -> c | C97: =IF(AND(C8<>"",COUNTIF(fériés,$C$94)=1),1,IF(COUNTIF(fériés,$C$94)=0,IF(OR(C8<>"",E8<>""),1,""))) | D97: =IF(AND(F8<>"",COUNTIF(fériés,$D$94)=1),1,IF(COUNTIF(fériés,$D$94)=0,IF(OR(F8<>"",H8<>""),1,""))) | E97: =IF(AND(I8<>"",COUNTIF(fériés,$E$94)=1),1,IF(COUNTIF(fériés,$E$94)=0,IF(OR(I8<>"",K8<>""),1,""))) -> FALSE | F97: =IF(AND(L8<>"",COUNTIF(fériés,$F$94)=1),1,IF(COUNTIF(fériés,$F$94)=0,IF(OR(L8<>"",N8<>""),1,""))) -> 1 | G97: =IF(AND(O8<>"",COUNTIF(fériés,$G$94)=1),1,IF(COUNTIF(fériés,$G$94)=0,IF(OR(O8<>"",Q8<>""),1,""))) -> 1 | H97: =IF(R8<>"",1,"") -> 1 | I97: =IF(U8<>"",1,"") -> 1
B98: =B9 -> d | C98: =IF(AND(C9<>"",COUNTIF(fériés,$C$94)=1),1,IF(COUNTIF(fériés,$C$94)=0,IF(OR(C9<>"",E9<>""),1,""))) | D98: =IF(AND(F9<>"",COUNTIF(fériés,$D$94)=1),1,IF(COUNTIF(fériés,$D$94)=0,IF(OR(F9<>"",H9<>""),1,""))) | E98: =IF(AND(I9<>"",COUNTIF(fériés,$E$94)=1),1,IF(COUNTIF(fériés,$E$94)=0,IF(OR(I9<>"",K9<>""),1,""))) -> FALSE | F98: =IF(AND(L9<>"",COUNTIF(fériés,$F$94)=1),1,IF(COUNTIF(fériés,$F$94)=0,IF(OR(L9<>"",N9<>""),1,""))) | G98: =IF(AND(O9<>"",COUNTIF(fériés,$G$94)=1),1,IF(COUNTIF(fériés,$G$94)=0,IF(OR(O9<>"",Q9<>""),1,""))) | H98: =IF(R9<>"",1,"") | I98: =IF(U9<>"",1,"")
B99: =B10 -> e | C99: =IF(AND(C10<>"",COUNTIF(fériés,$C$94)=1),1,IF(COUNTIF(fériés,$C$94)=0,IF(OR(C10<>"",E10<>""),1,""))) | D99: =IF(AND(F10<>"",COUNTIF(fériés,$D$94)=1),1,IF(COUNTIF(fériés,$D$94)=0,IF(OR(F10<>"",H10<>""),1,""))) | E99: =IF(AND(I10<>"",COUNTIF(fériés,$E$94)=1),1,IF(COUNTIF(fériés,$E$94)=0,IF(OR(I10<>"",K10<>""),1,""))) -> FALSE | F99: =IF(AND(L10<>"",COUNTIF(fériés,$F$94)=1),1,IF(COUNTIF(fériés,$F$94)=0,IF(OR(L10<>"",N10<>""),1,""))) -> 1 | G99: =IF(AND(O10<>"",COUNTIF(fériés,$G$94)=1),1,IF(COUNTIF(fériés,$G$94)=0,IF(OR(O10<>"",Q10<>""),1,""))) -> 1 | H99: =IF(R10<>"",1,"") -> 1 | I99: =IF(U10<>"",1,"") -> 1
B100: =B11 -> f | C100: =IF(AND(C11<>"",COUNTIF(fériés,$C$94)=1),1,IF(COUNTIF(fériés,$C$94)=0,IF(OR(C11<>"",E11<>""),1,""))) | D100: =IF(AND(F11<>"",COUNTIF(fériés,$D$94)=1),1,IF(COUNTIF(fériés,$D$94)=0,IF(OR(F11<>"",H11<>""),1,""))) | E100: =IF(AND(I11<>"",COUNTIF(fériés,$E$94)=1),1,IF(COUNTIF(fériés,$E$94)=0,IF(OR(I11<>"",K11<>""),1,""))) -> FALSE | F100: =IF(AND(L11<>"",COUNTIF(fériés,$F$94)=1),1,IF(COUNTIF(fériés,$F$94)=0,IF(OR(L11<>"",N11<>""),1,""))) | G100: =IF(AND(O11<>"",COUNTIF(fériés,$G$94)=1),1,IF(COUNTIF(fériés,$G$94)=0,IF(OR(O11<>"",Q11<>""),1,""))) | H100: =IF(R11<>"",1,"") | I100: =IF(U11<>"",1,"")
B101: =B12 -> g | C101: =IF(AND(C12<>"",COUNTIF(fériés,$C$94)=1),1,IF(COUNTIF(fériés,$C$94)=0,IF(OR(C12<>"",E12<>""),1,""))) | D101: =IF(AND(F12<>"",COUNTIF(fériés,$D$94)=1),1,IF(COUNTIF(fériés,$D$94)=0,IF(OR(F12<>"",H12<>""),1,""))) | E101: =IF(AND(I12<>"",COUNTIF(fériés,$E$94)=1),1,IF(COUNTIF(fériés,$E$94)=0,IF(OR(I12<>"",K12<>""),1,""))) -> FALSE | F101: =IF(AND(L12<>"",COUNTIF(fériés,$F$94)=1),1,IF(COUNTIF(fériés,$F$94)=0,IF(OR(L12<>"",N12<>""),1,""))) | G101: =IF(AND(O12<>"",COUNTIF(fériés,$G$94)=1),1,IF(COUNTIF(fériés,$G$94)=0,IF(OR(O12<>"",Q12<>""),1,""))) | H101: =IF(R12<>"",1,"") | I101: =IF(U12<>"",1,"")
B102: =B13 -> h | C102: =IF(AND(C13<>"",COUNTIF(fériés,$C$94)=1),1,IF(COUNTIF(fériés,$C$94)=0,IF(OR(C13<>"",E13<>""),1,""))) | D102: =IF(AND(F13<>"",COUNTIF(fériés,$D$94)=1),1,IF(COUNTIF(fériés,$D$94)=0,IF(OR(F13<>"",H13<>""),1,""))) | E102: =IF(AND(I13<>"",COUNTIF(fériés,$E$94)=1),1,IF(COUNTIF(fériés,$E$94)=0,IF(OR(I13<>"",K13<>""),1,""))) -> FALSE | F102: =IF(AND(L13<>"",COUNTIF(fériés,$F$94)=1),1,IF(COUNTIF(fériés,$F$94)=0,IF(OR(L13<>"",N13<>""),1,""))) -> 1 | G102: =IF(AND(O13<>"",COUNTIF(fériés,$G$94)=1),1,IF(COUNTIF(fériés,$G$94)=0,IF(OR(O13<>"",Q13<>""),1,""))) -> 1 | H102: =IF(R13<>"",1,"") -> 1 | I102: =IF(U13<>"",1,"")
B103: =B14 -> i | C103: =IF(AND(C14<>"",COUNTIF(fériés,$C$94)=1),1,IF(COUNTIF(fériés,$C$94)=0,IF(OR(C14<>"",E14<>""),1,""))) | D103: =IF(AND(F14<>"",COUNTIF(fériés,$D$94)=1),1,IF(COUNTIF(fériés,$D$94)=0,IF(OR(F14<>"",H14<>""),1,""))) | E103: =IF(AND(I14<>"",COUNTIF(fériés,$E$94)=1),1,IF(COUNTIF(fériés,$E$94)=0,IF(OR(I14<>"",K14<>""),1,""))) -> FALSE | F103: =IF(AND(L14<>"",COUNTIF(fériés,$F$94)=1),1,IF(COUNTIF(fériés,$F$94)=0,IF(OR(L14<>"",N14<>""),1,""))) -> 1 | G103: =IF(AND(O14<>"",COUNTIF(fériés,$G$94)=1),1,IF(COUNTIF(fériés,$G$94)=0,IF(OR(O14<>"",Q14<>""),1,""))) -> 1 | H103: =IF(R14<>"",1,"") -> 1 | I103: =IF(U14<>"",1,"") -> 1
B104: =B15 -> j | C104: =IF(AND(C15<>"",COUNTIF(fériés,$C$94)=1),1,IF(COUNTIF(fériés,$C$94)=0,IF(OR(C15<>"",E15<>""),1,""))) | D104: =IF(AND(F15<>"",COUNTIF(fériés,$D$94)=1),1,IF(COUNTIF(fériés,$D$94)=0,IF(OR(F15<>"",H15<>""),1,""))) | E104: =IF(AND(I15<>"",COUNTIF(fériés,$E$94)=1),1,IF(COUNTIF(fériés,$E$94)=0,IF(OR(I15<>"",K15<>""),1,""))) -> FALSE | F104: =IF(AND(L15<>"",COUNTIF(fériés,$F$94)=1),1,IF(COUNTIF(fériés,$F$94)=0,IF(OR(L15<>"",N15<>""),1,""))) -> 1 | G104: =IF(AND(O15<>"",COUNTIF(fériés,$G$94)=1),1,IF(COUNTIF(fériés,$G$94)=0,IF(OR(O15<>"",Q15<>""),1,""))) -> 1 | H104: =IF(R15<>"",1,"") -> 1 | I104: =IF(U15<>"",1,"") -> 1
B105: =B26 -> k | C105: =IF(AND(C26<>"",COUNTIF(fériés,$C$94)=1),1,IF(COUNTIF(fériés,$C$94)=0,IF(OR(C26<>"",E26<>""),1,""))) | D105: =IF(AND(F26<>"",COUNTIF(fériés,$D$94)=1),1,IF(COUNTIF(fériés,$D$94)=0,IF(OR(F26<>"",H26<>""),1,""))) | E105: =IF(AND(I26<>"",COUNTIF(fériés,$E$94)=1),1,IF(COUNTIF(fériés,$E$94)=0,IF(OR(I26<>"",K26<>""),1,""))) -> FALSE | F105: =IF(AND(L26<>"",COUNTIF(fériés,$F$94)=1),1,IF(COUNTIF(fériés,$F$94)=0,IF(OR(L26<>"",N26<>""),1,""))) -> 1 | G105: =IF(AND(O26<>"",COUNTIF(fériés,$G$94)=1),1,IF(COUNTIF(fériés,$G$94)=0,IF(OR(O26<>"",Q26<>""),1,""))) -> 1 | H105: =IF(R26<>"",1,"") -> 1 | I105: =IF(U26<>"",1,"") -> 1
B106: =B27 -> l | C106: =IF(AND(C27<>"",COUNTIF(fériés,$C$94)=1),1,IF(COUNTIF(fériés,$C$94)=0,IF(OR(C27<>"",E27<>""),1,""))) | D106: =IF(AND(F27<>"",COUNTIF(fériés,$D$94)=1),1,IF(COUNTIF(fériés,$D$94)=0,IF(OR(F27<>"",H27<>""),1,""))) | E106: =IF(AND(I27<>"",COUNTIF(fériés,$E$94)=1),1,IF(COUNTIF(fériés,$E$94)=0,IF(OR(I27<>"",K27<>""),1,""))) -> FALSE | F106: =IF(AND(L27<>"",COUNTIF(fériés,$F$94)=1),1,IF(COUNTIF(fériés,$F$94)=0,IF(OR(L27<>"",N27<>""),1,""))) -> 1 | G106: =IF(AND(O27<>"",COUNTIF(fériés,$G$94)=1),1,IF(COUNTIF(fériés,$G$94)=0,IF(OR(O27<>"",Q27<>""),1,""))) -> 1 | H106: =IF(R27<>"",1,"") -> 1 | I106: =IF(U27<>"",1,"") -> 1
...

Sheet 2
B2: 2014 | C2: Semaine | AT2: P | AU2: : Présent
C3: =MID(CELL("nomfichier",$AT$2),FIND("]",CELL("nomfichier",$AT$2))+1,50) -> 2 | AT3: A | AU3: : Annulé
C4: =C5 -> 41645 | F4: =F5 -> 41646 | I4: =I5 -> 41647 | L4: =L5 -> 41648 | O4: =O5 -> 41649 | R4: =R5 -> 41650 | U4: =U5 -> 41651 | AT4: K | AU4: : Pique-nique
A5: GROUPE | B5: NOM Prénom | C5: =7*C3+DATE(B2,1,3)-WEEKDAY(DATE(B2,1,3))-5 -> 41645 | F5: =C5+1 -> 41646 | I5: =F5+1 -> 41647 | L5: =I5+1 -> 41648 | O5: =L5+1 -> 41649 | R5: =O5+1 -> 41650 | U5: =R5+1 -> 41651 | AT5: Fériés et WE
A6: FDVA | B6: =BDD!A2 -> a | C6: P | D6: P | E6: P | F6: P | G6: P | H6: P | I6: P | J6: P | K6: P | L6: P | N6: P | O6: P | P6: P | Q6: P | R6: P | S6: P | T6: P | U6: P | V6: P | W6: P | Y6: =IF(C6="P",INDEX(BDD!$A$2:$B$34,MATCH('2'!$B6,BDD!$A$2:$A$34,0),2),"") -> HYPO | Z6: =IF(D6="P",INDEX(BDD!$A$2:$B$34,MATCH('2'!$B6,BDD!$A$2:$A$34,0),2),"") -> HYPO | AA6: =IF(E6="P",INDEX(BDD!$A$2:$B$34,MATCH('2'!$B6,BDD!$A$2:$A$34,0),2),"") -> HYPO | AB6: =IF(F6="P",INDEX(BDD!$A$2:$B$34,MATCH('2'!$B6,BDD!$A$2:$A$34,0),2),"") -> HYPO | AC6: =IF(G6="P",INDEX(BDD!$A$2:$B$34,MATCH('2'!$B6,BDD!$A$2:$A$34,0),2),"") -> HYPO | AD6: =IF(H6="P",INDEX(BDD!$A$2:$B$34,MATCH('2'!$B6,BDD!$A$2:$A$34,0),2),"") -> HYPO | AE6: =IF(I6="P",INDEX(BDD!$A$2:$B$34,MATCH('2'!$B6,BDD!$A$2:$A$34,0),2),"") -> HYPO | AF6: =IF(J6="P",INDEX(BDD!$A$2:$B$34,MATCH('2'!$B6,BDD!$A$2:$A$34,0),2),"") -> HYPO | ... AS6: =IF(W6="P",INDEX(BDD!$A$2:$B$34,MATCH('2'!$B6,BDD!$A$2:$A$34,0),2),"") -> HYPO | AT6: Absent
B7: =BDD!A3 -> b | C7: P | D7: P | E7: P | F7: P | G7: P | H7: P | I7: P | J7: P | K7: P | L7: P | N7: P | O7: P | P7: P | Q7: P | R7: P | S7: P | T7: P | U7: P | V7: P | W7: P | Y7: =IF(C7="P",INDEX(BDD!$A$2:$B$34,MATCH('2'!$B7,BDD!$A$2:$A$34,0),2),"") -> NORMAL | Z7: =IF(D7="P",INDEX(BDD!$A$2:$B$34,MATCH('2'!$B7,BDD!$A$2:$A$34,0),2),"") -> NORMAL | AA7: =IF(E7="P",INDEX(BDD!$A$2:$B$34,MATCH('2'!$B7,BDD!$A$2:$A$34,0),2),"") -> NORMAL | AB7: =IF(F7="P",INDEX(BDD!$A$2:$B$34,MATCH('2'!$B7,BDD!$A$2:$A$34,0),2),"") -> NORMAL | AC7: =IF(G7="P",INDEX(BDD!$A$2:$B$34,MATCH('2'!$B7,BDD!$A$2:$A$34,0),2),"") -> NORMAL | AD7: =IF(H7="P",INDEX(BDD!$A$2:$B$34,MATCH('2'!$B7,BDD!$A$2:$A$34,0),2),"") -> NORMAL | AE7: =IF(I7="P",INDEX(BDD!$A$2:$B$34,MATCH('2'!$B7,BDD!$A$2:$A$34,0),2),"") -> NORMAL | AF7: =IF(J7="P",INDEX(BDD!$A$2:$B$34,MATCH('2'!$B7,BDD!$A$2:$A$34,0),2),"") -> NORMAL | ... AS7: =IF(W7="P",INDEX(BDD!$A$2:$B$34,MATCH('2'!$B7,BDD!$A$2:$A$34,0),2),"") -> NORMAL
B8: =BDD!A4 -> c | C8: P | D8: P | E8: P | F8: P | G8: P | H8: P | I8: P | J8: P | K8: P | L8: P | N8: P | O8: P | P8: P | Q8: P | R8: P | S8: P | T8: P | U8: P | V8: P | W8: P | Y8: =IF(C8="P",INDEX(BDD!$A$2:$B$34,MATCH('2'!$B8,BDD!$A$2:$A$34,0),2),"") -> HYPO SANS FIBRES | Z8: =IF(D8="P",INDEX(BDD!$A$2:$B$34,MATCH('2'!$B8,BDD!$A$2:$A$34,0),2),"") -> HYPO SANS FIBRES | AA8: =IF(E8="P",INDEX(BDD!$A$2:$B$34,MATCH('2'!$B8,BDD!$A$2:$A$34,0),2),"") -> HYPO SANS FIBRES | AB8: =IF(F8="P",INDEX(BDD!$A$2:$B$34,MATCH('2'!$B8,BDD!$A$2:$A$34,0),2),"") -> HYPO SANS FIBRES | AC8: =IF(G8="P",INDEX(BDD!$A$2:$B$34,MATCH('2'!$B8,BDD!$A$2:$A$34,0),2),"") -> HYPO SANS FIBRES | AD8: =IF(H8="P",INDEX(BDD!$A$2:$B$34,MATCH('2'!$B8,BDD!$A$2:$A$34,0),2),"") -> HYPO SANS FIBRES | AE8: =IF(I8="P",INDEX(BDD!$A$2:$B$34,MATCH('2'!$B8,BDD!$A$2:$A$34,0),2),"") -> HYPO SANS FIBRES | AF8: =IF(J8="P",INDEX(BDD!$A$2:$B$34,MATCH('2'!$B8,BDD!$A$2:$A$34,0),2),"") -> HYPO SANS FIBRES | ... AS8: =IF(W8="P",INDEX(BDD!$A$2:$B$34,MATCH('2'!$B8,BDD!$A$2:$A$34,0),2),"") -> HYPO SANS FIBRES
B9: =BDD!A5 -> d | Y9: =IF(C9="P",INDEX(BDD!$A$2:$B$34,MATCH('2'!$B9,BDD!$A$2:$A$34,0),2),"") | Z9: =IF(D9="P",INDEX(BDD!$A$2:$B$34,MATCH('2'!$B9,BDD!$A$2:$A$34,0),2),"") | AA9: =IF(E9="P",INDEX(BDD!$A$2:$B$34,MATCH('2'!$B9,BDD!$A$2:$A$34,0),2),"") | AB9: =IF(F9="P",INDEX(BDD!$A$2:$B$34,MATCH('2'!$B9,BDD!$A$2:$A$34,0),2),"") | AC9: =IF(G9="P",INDEX(BDD!$A$2:$B$34,MATCH('2'!$B9,BDD!$A$2:$A$34,0),2),"") | AD9: =IF(H9="P",INDEX(BDD!$A$2:$B$34,MATCH('2'!$B9,BDD!$A$2:$A$34,0),2),"") | AE9: =IF(I9="P",INDEX(BDD!$A$2:$B$34,MATCH('2'!$B9,BDD!$A$2:$A$34,0),2),"") | AF9: =IF(J9="P",INDEX(BDD!$A$2:$B$34,MATCH('2'!$B9,BDD!$A$2:$A$34,0),2),"") | ... AS9: =IF(W9="P",INDEX(BDD!$A$2:$B$34,MATCH('2'!$B9,BDD!$A$2:$A$34,0),2),"")
B10: =BDD!A6 -> e | C10: P | D10: P | E10: P | F10: P | G10: P | H10: P | I10: P | J10: P | K10: P | L10: P | N10: P | O10: P | P10: P | Q10: P | R10: P | S10: P | T10: P | U10: P | V10: P | W10: P | Y10: =IF(C10="P",INDEX(BDD!$A$2:$B$34,MATCH('2'!$B10,BDD!$A$2:$A$34,0),2),"") -> HYPO | Z10: =IF(D10="P",INDEX(BDD!$A$2:$B$34,MATCH('2'!$B10,BDD!$A$2:$A$34,0),2),"") -> HYPO | AA10: =IF(E10="P",INDEX(BDD!$A$2:$B$34,MATCH('2'!$B10,BDD!$A$2:$A$34,0),2),"") -> HYPO | AB10: =IF(F10="P",INDEX(BDD!$A$2:$B$34,MATCH('2'!$B10,BDD!$A$2:$A$34,0),2),"") -> HYPO | AC10: =IF(G10="P",INDEX(BDD!$A$2:$B$34,MATCH('2'!$B10,BDD!$A$2:$A$34,0),2),"") -> HYPO | AD10: =IF(H10="P",INDEX(BDD!$A$2:$B$34,MATCH('2'!$B10,BDD!$A$2:$A$34,0),2),"") -> HYPO | AE10: =IF(I10="P",INDEX(BDD!$A$2:$B$34,MATCH('2'!$B10,BDD!$A$2:$A$34,0),2),"") -> HYPO | AF10: =IF(J10="P",INDEX(BDD!$A$2:$B$34,MATCH('2'!$B10,BDD!$A$2:$A$34,0),2),"") -> HYPO | ... AS10: =IF(W10="P",INDEX(BDD!$A$2:$B$34,MATCH('2'!$B10,BDD!$A$2:$A$34,0),2),"") -> HYPO
B11: =BDD!A7 -> f | Y11: =IF(C11="P",INDEX(BDD!$A$2:$B$34,MATCH('2'!$B11,BDD!$A$2:$A$34,0),2),"") | Z11: =IF(D11="P",INDEX(BDD!$A$2:$B$34,MATCH('2'!$B11,BDD!$A$2:$A$34,0),2),"") | AA11: =IF(E11="P",INDEX(BDD!$A$2:$B$34,MATCH('2'!$B11,BDD!$A$2:$A$34,0),2),"") | AB11: =IF(F11="P",INDEX(BDD!$A$2:$B$34,MATCH('2'!$B11,BDD!$A$2:$A$34,0),2),"") | AC11: =IF(G11="P",INDEX(BDD!$A$2:$B$34,MATCH('2'!$B11,BDD!$A$2:$A$34,0),2),"") | AD11: =IF(H11="P",INDEX(BDD!$A$2:$B$34,MATCH('2'!$B11,BDD!$A$2:$A$34,0),2),"") | AE11: =IF(I11="P",INDEX(BDD!$A$2:$B$34,MATCH('2'!$B11,BDD!$A$2:$A$34,0),2),"") | AF11: =IF(J11="P",INDEX(BDD!$A$2:$B$34,MATCH('2'!$B11,BDD!$A$2:$A$34,0),2),"") | ... AS11: =IF(W11="P",INDEX(BDD!$A$2:$B$34,MATCH('2'!$B11,BDD!$A$2:$A$34,0),2),"")
B12: =BDD!A8 -> g | Y12: =IF(C12="P",INDEX(BDD!$A$2:$B$34,MATCH('2'!$B12,BDD!$A$2:$A$34,0),2),"") | Z12: =IF(D12="P",INDEX(BDD!$A$2:$B$34,MATCH('2'!$B12,BDD!$A$2:$A$34,0),2),"") | AA12: =IF(E12="P",INDEX(BDD!$A$2:$B$34,MATCH('2'!$B12,BDD!$A$2:$A$34,0),2),"") | AB12: =IF(F12="P",INDEX(BDD!$A$2:$B$34,MATCH('2'!$B12,BDD!$A$2:$A$34,0),2),"") | AC12: =IF(G12="P",INDEX(BDD!$A$2:$B$34,MATCH('2'!$B12,BDD!$A$2:$A$34,0),2),"") | AD12: =IF(H12="P",INDEX(BDD!$A$2:$B$34,MATCH('2'!$B12,BDD!$A$2:$A$34,0),2),"") | AE12: =IF(I12="P",INDEX(BDD!$A$2:$B$34,MATCH('2'!$B12,BDD!$A$2:$A$34,0),2),"") | AF12: =IF(J12="P",INDEX(BDD!$A$2:$B$34,MATCH('2'!$B12,BDD!$A$2:$A$34,0),2),"") | ... AS12: =IF(W12="P",INDEX(BDD!$A$2:$B$34,MATCH('2'!$B12,BDD!$A$2:$A$34,0),2),"")
B13: =BDD!A9 -> h | C13: P | D13: P | E13: P | F13: P | G13: P | L13: P | N13: P | O13: P | P13: P | Q13: P | R13: P | W13: P | Y13: =IF(C13="P",INDEX(BDD!$A$2:$B$34,MATCH('2'!$B13,BDD!$A$2:$A$34,0),2),"") -> HYPO | Z13: =IF(D13="P",INDEX(BDD!$A$2:$B$34,MATCH('2'!$B13,BDD!$A$2:$A$34,0),2),"") -> HYPO | AA13: =IF(E13="P",INDEX(BDD!$A$2:$B$34,MATCH('2'!$B13,BDD!$A$2:$A$34,0),2),"") -> HYPO | AB13: =IF(F13="P",INDEX(BDD!$A$2:$B$34,MATCH('2'!$B13,BDD!$A$2:$A$34,0),2),"") -> HYPO | AC13: =IF(G13="P",INDEX(BDD!$A$2:$B$34,MATCH('2'!$B13,BDD!$A$2:$A$34,0),2),"") -> HYPO | AD13: =IF(H13="P",INDEX(BDD!$A$2:$B$34,MATCH('2'!$B13,BDD!$A$2:$A$34,0),2),"") | AE13: =IF(I13="P",INDEX(BDD!$A$2:$B$34,MATCH('2'!$B13,BDD!$A$2:$A$34,0),2),"") | AF13: =IF(J13="P",INDEX(BDD!$A$2:$B$34,MATCH('2'!$B13,BDD!$A$2:$A$34,0),2),"") | ... AS13: =IF(W13="P",INDEX(BDD!$A$2:$B$34,MATCH('2'!$B13,BDD!$A$2:$A$34,0),2),"") -> HYPO
B14: =BDD!A10 -> i | C14: P | D14: P | E14: P | F14: P | G14: P | H14: P | I14: P | J14: P | K14: P | L14: P | N14: P | O14: P | P14: P | Q14: P | R14: P | S14: P | T14: P | U14: P | V14: P | W14: P | Y14: =IF(C14="P",INDEX(BDD!$A$2:$B$34,MATCH('2'!$B14,BDD!$A$2:$A$34,0),2),"") -> NORMAL | Z14: =IF(D14="P",INDEX(BDD!$A$2:$B$34,MATCH('2'!$B14,BDD!$A$2:$A$34,0),2),"") -> NORMAL | AA14: =IF(E14="P",INDEX(BDD!$A$2:$B$34,MATCH('2'!$B14,BDD!$A$2:$A$34,0),2),"") -> NORMAL | AB14: =IF(F14="P",INDEX(BDD!$A$2:$B$34,MATCH('2'!$B14,BDD!$A$2:$A$34,0),2),"") -> NORMAL | AC14: =IF(G14="P",INDEX(BDD!$A$2:$B$34,MATCH('2'!$B14,BDD!$A$2:$A$34,0),2),"") -> NORMAL | AD14: =IF(H14="P",INDEX(BDD!$A$2:$B$34,MATCH('2'!$B14,BDD!$A$2:$A$34,0),2),"") -> NORMAL | AE14: =IF(I14="P",INDEX(BDD!$A$2:$B$34,MATCH('2'!$B14,BDD!$A$2:$A$34,0),2),"") -> NORMAL | AF14: =IF(J14="P",INDEX(BDD!$A$2:$B$34,MATCH('2'!$B14,BDD!$A$2:$A$34,0),2),"") -> NORMAL | ... AS14: =IF(W14="P",INDEX(BDD!$A$2:$B$34,MATCH('2'!$B14,BDD!$A$2:$A$34,0),2),"") -> NORMAL
B15: =BDD!A11 -> j | C15: P | D15: P | E15: P | F15: P | G15: P | H15: P | I15: P | J15: P | K15: P | L15: P | N15: P | O15: P | P15: P | Q15: P | R15: P | S15: P | T15: P | U15: P | V15: P | W15: P | Y15: =IF(C15="P",INDEX(BDD!$A$2:$B$34,MATCH('2'!$B15,BDD!$A$2:$A$34,0),2),"") -> MIXÉ SANS FIBRES | Z15: =IF(D15="P",INDEX(BDD!$A$2:$B$34,MATCH('2'!$B15,BDD!$A$2:$A$34,0),2),"") -> MIXÉ SANS FIBRES | AA15: =IF(E15="P",INDEX(BDD!$A$2:$B$34,MATCH('2'!$B15,BDD!$A$2:$A$34,0),2),"") -> MIXÉ SANS FIBRES | AB15: =IF(F15="P",INDEX(BDD!$A$2:$B$34,MATCH('2'!$B15,BDD!$A$2:$A$34,0),2),"") -> MIXÉ SANS FIBRES | AC15: =IF(G15="P",INDEX(BDD!$A$2:$B$34,MATCH('2'!$B15,BDD!$A$2:$A$34,0),2),"") -> MIXÉ SANS FIBRES | AD15: =IF(H15="P",INDEX(BDD!$A$2:$B$34,MATCH('2'!$B15,BDD!$A$2:$A$34,0),2),"") -> MIXÉ SANS FIBRES | AE15: =IF(I15="P",INDEX(BDD!$A$2:$B$34,MATCH('2'!$B15,BDD!$A$2:$A$34,0),2),"") -> MIXÉ SANS FIBRES | AF15: =IF(J15="P",INDEX(BDD!$A$2:$B$34,MATCH('2'!$B15,BDD!$A$2:$A$34,0),2),"") -> MIXÉ SANS FIBRES | ... AS15: =IF(W15="P",INDEX(BDD!$A$2:$B$34,MATCH('2'!$B15,BDD!$A$2:$A$34,0),2),"") -> MIXÉ SANS FIBRES
B16: =BDD!A22 -> u | H16: P | I16: P | J16: P | K16: P | L16: P | S16: P | T16: P | U16: P | V16: P | W16: P | Y16: =IF(C16="P",INDEX(BDD!$A$2:$B$34,MATCH('2'!$B16,BDD!$A$2:$A$34,0),2),"") | Z16: =IF(D16="P",INDEX(BDD!$A$2:$B$34,MATCH('2'!$B16,BDD!$A$2:$A$34,0),2),"") | AA16: =IF(E16="P",INDEX(BDD!$A$2:$B$34,MATCH('2'!$B16,BDD!$A$2:$A$34,0),2),"") | AB16: =IF(F16="P",INDEX(BDD!$A$2:$B$34,MATCH('2'!$B16,BDD!$A$2:$A$34,0),2),"") | AC16: =IF(G16="P",INDEX(BDD!$A$2:$B$34,MATCH('2'!$B16,BDD!$A$2:$A$34,0),2),"") | AD16: =IF(H16="P",INDEX(BDD!$A$2:$B$34,MATCH('2'!$B16,BDD!$A$2:$A$34,0),2),"") -> NORMAL | AE16: =IF(I16="P",INDEX(BDD!$A$2:$B$34,MATCH('2'!$B16,BDD!$A$2:$A$34,0),2),"") -> NORMAL | AF16: =IF(J16="P",INDEX(BDD!$A$2:$B$34,MATCH('2'!$B16,BDD!$A$2:$A$34,0),2),"") -> NORMAL | ... AS16: =IF(W16="P",INDEX(BDD!$A$2:$B$34,MATCH('2'!$B16,BDD!$A$2:$A$34,0),2),"") -> NORMAL
B17: =BDD!A23 -> v | Y17: =IF(C17="P",INDEX(BDD!$A$2:$B$34,MATCH('2'!$B17,BDD!$A$2:$A$34,0),2),"") | Z17: =IF(D17="P",INDEX(BDD!$A$2:$B$34,MATCH('2'!$B17,BDD!$A$2:$A$34,0),2),"") | AA17: =IF(E17="P",INDEX(BDD!$A$2:$B$34,MATCH('2'!$B17,BDD!$A$2:$A$34,0),2),"") | AB17: =IF(F17="P",INDEX(BDD!$A$2:$B$34,MATCH('2'!$B17,BDD!$A$2:$A$34,0),2),"") | AC17: =IF(G17="P",INDEX(BDD!$A$2:$B$34,MATCH('2'!$B17,BDD!$A$2:$A$34,0),2),"") | AD17: =IF(H17="P",INDEX(BDD!$A$2:$B$34,MATCH('2'!$B17,BDD!$A$2:$A$34,0),2),"") | AE17: =IF(I17="P",INDEX(BDD!$A$2:$B$34,MATCH('2'!$B17,BDD!$A$2:$A$34,0),2),"") | AF17: =IF(J17="P",INDEX(BDD!$A$2:$B$34,MATCH('2'!$B17,BDD!$A$2:$A$34,0),2),"") | ... AS17: =IF(W17="P",INDEX(BDD!$A$2:$B$34,MATCH('2'!$B17,BDD!$A$2:$A$34,0),2),"")
B18: =BDD!A24 -> w | E18: P | P18: P | Y18: =IF(C18="P",INDEX(BDD!$A$2:$B$34,MATCH('2'!$B18,BDD!$A$2:$A$34,0),2),"") | Z18: =IF(D18="P",INDEX(BDD!$A$2:$B$34,MATCH('2'!$B18,BDD!$A$2:$A$34,0),2),"") | AA18: =IF(E18="P",INDEX(BDD!$A$2:$B$34,MATCH('2'!$B18,BDD!$A$2:$A$34,0),2),"") -> NORMAL | AB18: =IF(F18="P",INDEX(BDD!$A$2:$B$34,MATCH('2'!$B18,BDD!$A$2:$A$34,0),2),"") | AC18: =IF(G18="P",INDEX(BDD!$A$2:$B$34,MATCH('2'!$B18,BDD!$A$2:$A$34,0),2),"") | AD18: =IF(H18="P",INDEX(BDD!$A$2:$B$34,MATCH('2'!$B18,BDD!$A$2:$A$34,0),2),"") | AE18: =IF(I18="P",INDEX(BDD!$A$2:$B$34,MATCH('2'!$B18,BDD!$A$2:$A$34,0),2),"") | AF18: =IF(J18="P",INDEX(BDD!$A$2:$B$34,MATCH('2'!$B18,BDD!$A$2:$A$34,0),2),"") | ... AS18: =IF(W18="P",INDEX(BDD!$A$2:$B$34,MATCH('2'!$B18,BDD!$A$2:$A$34,0),2),"")
B19: =BDD!A25 -> x | C19: P | N19: P | Y19: =IF(C19="P",INDEX(BDD!$A$2:$B$34,MATCH('2'!$B19,BDD!$A$2:$A$34,0),2),"") -> NORMAL | Z19: =IF(D19="P",INDEX(BDD!$A$2:$B$34,MATCH('2'!$B19,BDD!$A$2:$A$34,0),2),"") | AA19: =IF(E19="P",INDEX(BDD!$A$2:$B$34,MATCH('2'!$B19,BDD!$A$2:$A$34,0),2),"") | AB19: =IF(F19="P",INDEX(BDD!$A$2:$B$34,MATCH('2'!$B19,BDD!$A$2:$A$34,0),2),"") | AC19: =IF(G19="P",INDEX(BDD!$A$2:$B$34,MATCH('2'!$B19,BDD!$A$2:$A$34,0),2),"") | AD19: =IF(H19="P",INDEX(BDD!$A$2:$B$34,MATCH('2'!$B19,BDD!$A$2:$A$34,0),2),"") | AE19: =IF(I19="P",INDEX(BDD!$A$2:$B$34,MATCH('2'!$B19,BDD!$A$2:$A$34,0),2),"") | AF19: =IF(J19="P",INDEX(BDD!$A$2:$B$34,MATCH('2'!$B19,BDD!$A$2:$A$34,0),2),"") | ... AS19: =IF(W19="P",INDEX(BDD!$A$2:$B$34,MATCH('2'!$B19,BDD!$A$2:$A$34,0),2),"")
B20: =BDD!A26 -> y | Y20: =IF(C20="P",INDEX(BDD!$A$2:$B$34,MATCH('2'!$B20,BDD!$A$2:$A$34,0),2),"") | Z20: =IF(D20="P",INDEX(BDD!$A$2:$B$34,MATCH('2'!$B20,BDD!$A$2:$A$34,0),2),"") | AA20: =IF(E20="P",INDEX(BDD!$A$2:$B$34,MATCH('2'!$B20,BDD!$A$2:$A$34,0),2),"") | AB20: =IF(F20="P",INDEX(BDD!$A$2:$B$34,MATCH('2'!$B20,BDD!$A$2:$A$34,0),2),"") | AC20: =IF(G20="P",INDEX(BDD!$A$2:$B$34,MATCH('2'!$B20,BDD!$A$2:$A$34,0),2),"") | AD20: =IF(H20="P",INDEX(BDD!$A$2:$B$34,MATCH('2'!$B20,BDD!$A$2:$A$34,0),2),"") | AE20: =IF(I20="P",INDEX(BDD!$A$2:$B$34,MATCH('2'!$B20,BDD!$A$2:$A$34,0),2),"") | AF20: =IF(J20="P",INDEX(BDD!$A$2:$B$34,MATCH('2'!$B20,BDD!$A$2:$A$34,0),2),"") | ... AS20: =IF(W20="P",INDEX(BDD!$A$2:$B$34,MATCH('2'!$B20,BDD!$A$2:$A$34,0),2),"")
B21: =BDD!A33 -> Stagiaire1 | Y21: =IF(C21="P",INDEX(BDD!$A$2:$B$34,MATCH('2'!$B21,BDD!$A$2:$A$34,0),2),"") | Z21: =IF(D21="P",INDEX(BDD!$A$2:$B$34,MATCH('2'!$B21,BDD!$A$2:$A$34,0),2),"") | AA21: =IF(E21="P",INDEX(BDD!$A$2:$B$34,MATCH('2'!$B21,BDD!$A$2:$A$34,0),2),"") | AB21: =IF(F21="P",INDEX(BDD!$A$2:$B$34,MATCH('2'!$B21,BDD!$A$2:$A$34,0),2),"") | AC21: =IF(G21="P",INDEX(BDD!$A$2:$B$34,MATCH('2'!$B21,BDD!$A$2:$A$34,0),2),"") | AD21: =IF(H21="P",INDEX(BDD!$A$2:$B$34,MATCH('2'!$B21,BDD!$A$2:$A$34,0),2),"") | AE21: =IF(I21="P",INDEX(BDD!$A$2:$B$34,MATCH('2'!$B21,BDD!$A$2:$A$34,0),2),"") | AF21: =IF(J21="P",INDEX(BDD!$A$2:$B$34,MATCH('2'!$B21,BDD!$A$2:$A$34,0),2),"") | ... AS21: =IF(W21="P",INDEX(BDD!$A$2:$B$34,MATCH('2'!$B21,BDD!$A$2:$A$34,0),2),"")
C22: Semaine | Y22: =IF(C22="P",INDEX(BDD!$A$2:$B$34,MATCH('2'!$B22,BDD!$A$2:$A$34,0),2),"") | Z22: =IF(D22="P",INDEX(BDD!$A$2:$B$34,MATCH('2'!$B22,BDD!$A$2:$A$34,0),2),"") | AA22: =IF(E22="P",INDEX(BDD!$A$2:$B$34,MATCH('2'!$B22,BDD!$A$2:$A$34,0),2),"") | AB22: =IF(F22="P",INDEX(BDD!$A$2:$B$34,MATCH('2'!$B22,BDD!$A$2:$A$34,0),2),"") | AC22: =IF(G22="P",INDEX(BDD!$A$2:$B$34,MATCH('2'!$B22,BDD!$A$2:$A$34,0),2),"") | AD22: =IF(H22="P",INDEX(BDD!$A$2:$B$34,MATCH('2'!$B22,BDD!$A$2:$A$34,0),2),"") | AE22: =IF(I22="P",INDEX(BDD!$A$2:$B$34,MATCH('2'!$B22,BDD!$A$2:$A$34,0),2),"") | AF22: =IF(J22="P",INDEX(BDD!$A$2:$B$34,MATCH('2'!$B22,BDD!$A$2:$A$34,0),2),"") | ... AS22: =IF(W22="P",INDEX(BDD!$A$2:$B$34,MATCH('2'!$B22,BDD!$A$2:$A$34,0),2),"")
C23: =C3 -> 2 | Y23: =IF(C23="P",INDEX(BDD!$A$2:$B$34,MATCH('2'!$B23,BDD!$A$2:$A$34,0),2),"") | Z23: =IF(D23="P",INDEX(BDD!$A$2:$B$34,MATCH('2'!$B23,BDD!$A$2:$A$34,0),2),"") | AA23: =IF(E23="P",INDEX(BDD!$A$2:$B$34,MATCH('2'!$B23,BDD!$A$2:$A$34,0),2),"") | AB23: =IF(F23="P",INDEX(BDD!$A$2:$B$34,MATCH('2'!$B23,BDD!$A$2:$A$34,0),2),"") | AC23: =IF(G23="P",INDEX(BDD!$A$2:$B$34,MATCH('2'!$B23,BDD!$A$2:$A$34,0),2),"") | AD23: =IF(H23="P",INDEX(BDD!$A$2:$B$34,MATCH('2'!$B23,BDD!$A$2:$A$34,0),2),"") | AE23: =IF(I23="P",INDEX(BDD!$A$2:$B$34,MATCH('2'!$B23,BDD!$A$2:$A$34,0),2),"") | AF23: =IF(J23="P",INDEX(BDD!$A$2:$B$34,MATCH('2'!$B23,BDD!$A$2:$A$34,0),2),"") | ... AS23: =IF(W23="P",INDEX(BDD!$A$2:$B$34,MATCH('2'!$B23,BDD!$A$2:$A$34,0),2),"")
C24: =C25 -> 41645 | F24: =F25 -> 41646 | I24: =I25 -> 41647 | L24: =L25 -> 41648 | O24: =O25 -> 41649 | R24: =R25 -> 41650 | U24: =U25 -> 41651 | Y24: =IF(C24="P",INDEX(BDD!$A$2:$B$34,MATCH('2'!$B24,BDD!$A$2:$A$34,0),2),"") | Z24: =IF(D24="P",INDEX(BDD!$A$2:$B$34,MATCH('2'!$B24,BDD!$A$2:$A$34,0),2),"") | AA24: =IF(E24="P",INDEX(BDD!$A$2:$B$34,MATCH('2'!$B24,BDD!$A$2:$A$34,0),2),"") | AB24: =IF(F24="P",INDEX(BDD!$A$2:$B$34,MATCH('2'!$B24,BDD!$A$2:$A$34,0),2),"") | AC24: =IF(G24="P",INDEX(BDD!$A$2:$B$34,MATCH('2'!$B24,BDD!$A$2:$A$34,0),2),"") | AD24: =IF(H24="P",INDEX(BDD!$A$2:$B$34,MATCH('2'!$B24,BDD!$A$2:$A$34,0),2),"") | AE24: =IF(I24="P",INDEX(BDD!$A$2:$B$34,MATCH('2'!$B24,BDD!$A$2:$A$34,0),2),"") | AF24: =IF(J24="P",INDEX(BDD!$A$2:$B$34,MATCH('2'!$B24,BDD!$A$2:$A$34,0),2),"") | ... AS24: =IF(W24="P",INDEX(BDD!$A$2:$B$34,MATCH('2'!$B24,BDD!$A$2:$A$34,0),2),"")
A25: GROUPE | B25: NOM Prénom | C25: =7*C3+DATE(B2,1,3)-WEEKDAY(DATE(B2,1,3))-5 -> 41645 | F25: =C25+1 -> 41646 | I25: =F25+1 -> 41647 | L25: =I25+1 -> 41648 | O25: =L25+1 -> 41649 | R25: =O25+1 -> 41650 | U25: =R25+1 -> 41651 | Y25: =IF(C25="P",INDEX(BDD!$A$2:$B$34,MATCH('2'!$B25,BDD!$A$2:$A$34,0),2),"") | Z25: =IF(D25="P",INDEX(BDD!$A$2:$B$34,MATCH('2'!$B25,BDD!$A$2:$A$34,0),2),"") | AA25: =IF(E25="P",INDEX(BDD!$A$2:$B$34,MATCH('2'!$B25,BDD!$A$2:$A$34,0),2),"") | AB25: =IF(F25="P",INDEX(BDD!$A$2:$B$34,MATCH('2'!$B25,BDD!$A$2:$A$34,0),2),"") | AC25: =IF(G25="P",INDEX(BDD!$A$2:$B$34,MATCH('2'!$B25,BDD!$A$2:$A$34,0),2),"") | AD25: =IF(H25="P",INDEX(BDD!$A$2:$B$34,MATCH('2'!$B25,BDD!$A$2:$A$34,0),2),"") | AE25: =IF(I25="P",INDEX(BDD!$A$2:$B$34,MATCH('2'!$B25,BDD!$A$2:$A$34,0),2),"") | AF25: =IF(J25="P",INDEX(BDD!$A$2:$B$34,MATCH('2'!$B25,BDD!$A$2:$A$34,0),2),"") | ... AS25: =IF(W25="P",INDEX(BDD!$A$2:$B$34,MATCH('2'!$B25,BDD!$A$2:$A$34,0),2),"")
A26: FDVB | B26: =BDD!A12 -> k | C26: P | D26: P | E26: P | F26: P | G26: P | H26: P | I26: P | J26: P | K26: P | L26: P | N26: P | O26: P | P26: P | Q26: P | R26: P | S26: P | T26: P | U26: P | V26: P | W26: P | Y26: =IF(C26="P",INDEX(BDD!$A$2:$B$34,MATCH('2'!$B26,BDD!$A$2:$A$34,0),2),"") -> MiXÉ | Z26: =IF(D26="P",INDEX(BDD!$A$2:$B$34,MATCH('2'!$B26,BDD!$A$2:$A$34,0),2),"") -> MiXÉ | AA26: =IF(E26="P",INDEX(BDD!$A$2:$B$34,MATCH('2'!$B26,BDD!$A$2:$A$34,0),2),"") -> MiXÉ | AB26: =IF(F26="P",INDEX(BDD!$A$2:$B$34,MATCH('2'!$B26,BDD!$A$2:$A$34,0),2),"") -> MiXÉ | AC26: =IF(G26="P",INDEX(BDD!$A$2:$B$34,MATCH('2'!$B26,BDD!$A$2:$A$34,0),2),"") -> MiXÉ | AD26: =IF(H26="P",INDEX(BDD!$A$2:$B$34,MATCH('2'!$B26,BDD!$A$2:$A$34,0),2),"") -> MiXÉ | AE26: =IF(I26="P",INDEX(BDD!$A$2:$B$34,MATCH('2'!$B26,BDD!$A$2:$A$34,0),2),"") -> MiXÉ | AF26: =IF(J26="P",INDEX(BDD!$A$2:$B$34,MATCH('2'!$B26,BDD!$A$2:$A$34,0),2),"") -> MiXÉ | ... AS26: =IF(W26="P",INDEX(BDD!$A$2:$B$34,MATCH('2'!$B26,BDD!$A$2:$A$34,0),2),"") -> MiXÉ
B27: =BDD!A13 -> l | C27: P | D27: P | E27: P | F27: P | G27: P | I27: P | J27: P | K27: P | L27: P | N27: P | O27: P | P27: P | Q27: P | R27: P | T27: P | U27: P | V27: P | W27: P | Y27: =IF(C27="P",INDEX(BDD!$A$2:$B$34,MATCH('2'!$B27,BDD!$A$2:$A$34,0),2),"") -> HYPO | Z27: =IF(D27="P",INDEX(BDD!$A$2:$B$34,MATCH('2'!$B27,BDD!$A$2:$A$34,0),2),"") -> HYPO | AA27: =IF(E27="P",INDEX(BDD!$A$2:$B$34,MATCH('2'!$B27,BDD!$A$2:$A$34,0),2),"") -> HYPO | AB27: =IF(F27="P",INDEX(BDD!$A$2:$B$34,MATCH('2'!$B27,BDD!$A$2:$A$34,0),2),"") -> HYPO | AC27: =IF(G27="P",INDEX(BDD!$A$2:$B$34,MATCH('2'!$B27,BDD!$A$2:$A$34,0),2),"") -> HYPO | AD27: =IF(H27="P",INDEX(BDD!$A$2:$B$34,MATCH('2'!$B27,BDD!$A$2:$A$34,0),2),"") | AE27: =IF(I27="P",INDEX(BDD!$A$2:$B$34,MATCH('2'!$B27,BDD!$A$2:$A$34,0),2),"") -> HYPO | AF27: =IF(J27="P",INDEX(BDD!$A$2:$B$34,MATCH('2'!$B27,BDD!$A$2:$A$34,0),2),"") -> HYPO | ... AS27: =IF(W27="P",INDEX(BDD!$A$2:$B$34,MATCH('2'!$B27,BDD!$A$2:$A$34,0),2),"") -> HYPO
B28: =BDD!A14 -> m | Y28: =IF(C28="P",INDEX(BDD!$A$2:$B$34,MATCH('2'!$B28,BDD!$A$2:$A$34,0),2),"") | Z28: =IF(D28="P",INDEX(BDD!$A$2:$B$34,MATCH('2'!$B28,BDD!$A$2:$A$34,0),2),"") | AA28: =IF(E28="P",INDEX(BDD!$A$2:$B$34,MATCH('2'!$B28,BDD!$A$2:$A$34,0),2),"") | AB28: =IF(F28="P",INDEX(BDD!$A$2:$B$34,MATCH('2'!$B28,BDD!$A$2:$A$34,0),2),"") | AC28: =IF(G28="P",INDEX(BDD!$A$2:$B$34,MATCH('2'!$B28,BDD!$A$2:$A$34,0),2),"") | AD28: =IF(H28="P",INDEX(BDD!$A$2:$B$34,MATCH('2'!$B28,BDD!$A$2:$A$34,0),2),"") | AE28: =IF(I28="P",INDEX(BDD!$A$2:$B$34,MATCH('2'!$B28,BDD!$A$2:$A$34,0),2),"") | AF28: =IF(J28="P",INDEX(BDD!$A$2:$B$34,MATCH('2'!$B28,BDD!$A$2:$A$34,0),2),"") | ... AS28: =IF(W28="P",INDEX(BDD!$A$2:$B$34,MATCH('2'!$B28,BDD!$A$2:$A$34,0),2),"")
B29: =BDD!A15 -> n | C29: P | D29: P | E29: P | F29: P | G29: P | N29: P | O29: P | P29: P | Q29: P | R29: P | Y29: =IF(C29="P",INDEX(BDD!$A$2:$B$34,MATCH('2'!$B29,BDD!$A$2:$A$34,0),2),"") -> MIXÉ | Z29: =IF(D29="P",INDEX(BDD!$A$2:$B$34,MATCH('2'!$B29,BDD!$A$2:$A$34,0),2),"") -> MIXÉ | AA29: =IF(E29="P",INDEX(BDD!$A$2:$B$34,MATCH('2'!$B29,BDD!$A$2:$A$34,0),2),"") -> MIXÉ | AB29: =IF(F29="P",INDEX(BDD!$A$2:$B$34,MATCH('2'!$B29,BDD!$A$2:$A$34,0),2),"") -> MIXÉ | AC29: =IF(G29="P",INDEX(BDD!$A$2:$B$34,MATCH('2'!$B29,BDD!$A$2:$A$34,0),2),"") -> MIXÉ | AD29: =IF(H29="P",INDEX(BDD!$A$2:$B$34,MATCH('2'!$B29,BDD!$A$2:$A$34,0),2),"") | AE29: =IF(I29="P",INDEX(BDD!$A$2:$B$34,MATCH('2'!$B29,BDD!$A$2:$A$34,0),2),"") | AF29: =IF(J29="P",INDEX(BDD!$A$2:$B$34,MATCH('2'!$B29,BDD!$A$2:$A$34,0),2),"") | ... AS29: =IF(W29="P",INDEX(BDD!$A$2:$B$34,MATCH('2'!$B29,BDD!$A$2:$A$34,0),2),"")
B30: =BDD!A16 -> o | C30: P | D30: P | E30: P | F30: P | G30: P | H30: P | I30: P | J30: P | K30: P | L30: P | N30: P | O30: P | P30: P | Q30: P | R30: P | S30: P | T30: P | U30: P | V30: P | W30: P | Y30: =IF(C30="P",INDEX(BDD!$A$2:$B$34,MATCH('2'!$B30,BDD!$A$2:$A$34,0),2),"") -> NORMAL | Z30: =IF(D30="P",INDEX(BDD!$A$2:$B$34,MATCH('2'!$B30,BDD!$A$2:$A$34,0),2),"") -> NORMAL | AA30: =IF(E30="P",INDEX(BDD!$A$2:$B$34,MATCH('2'!$B30,BDD!$A$2:$A$34,0),2),"") -> NORMAL | AB30: =IF(F30="P",INDEX(BDD!$A$2:$B$34,MATCH('2'!$B30,BDD!$A$2:$A$34,0),2),"") -> NORMAL | AC30: =IF(G30="P",INDEX(BDD!$A$2:$B$34,MATCH('2'!$B30,BDD!$A$2:$A$34,0),2),"") -> NORMAL | AD30: =IF(H30="P",INDEX(BDD!$A$2:$B$34,MATCH('2'!$B30,BDD!$A$2:$A$34,0),2),"") -> NORMAL | AE30: =IF(I30="P",INDEX(BDD!$A$2:$B$34,MATCH('2'!$B30,BDD!$A$2:$A$34,0),2),"") -> NORMAL | AF30: =IF(J30="P",INDEX(BDD!$A$2:$B$34,MATCH('2'!$B30,BDD!$A$2:$A$34,0),2),"") -> NORMAL | ... AS30: =IF(W30="P",INDEX(BDD!$A$2:$B$34,MATCH('2'!$B30,BDD!$A$2:$A$34,0),2),"") -> NORMAL
B31: =BDD!A17 -> p | C31: P | D31: P | E31: P | F31: P | G31: P | H31: P | I31: P | J31: P | K31: P | L31: P | N31: P | O31: P | P31: P | Q31: P | R31: P | S31: P | T31: P | U31: P | V31: P | W31: P | Y31: =IF(C31="P",INDEX(BDD!$A$2:$B$34,MATCH('2'!$B31,BDD!$A$2:$A$34,0),2),"") -> MIXÉ | Z31: =IF(D31="P",INDEX(BDD!$A$2:$B$34,MATCH('2'!$B31,BDD!$A$2:$A$34,0),2),"") -> MIXÉ | AA31: =IF(E31="P",INDEX(BDD!$A$2:$B$34,MATCH('2'!$B31,BDD!$A$2:$A$34,0),2),"") -> MIXÉ | AB31: =IF(F31="P",INDEX(BDD!$A$2:$B$34,MATCH('2'!$B31,BDD!$A$2:$A$34,0),2),"") -> MIXÉ | AC31: =IF(G31="P",INDEX(BDD!$A$2:$B$34,MATCH('2'!$B31,BDD!$A$2:$A$34,0),2),"") -> MIXÉ | AD31: =IF(H31="P",INDEX(BDD!$A$2:$B$34,MATCH('2'!$B31,BDD!$A$2:$A$34,0),2),"") -> MIXÉ | AE31: =IF(I31="P",INDEX(BDD!$A$2:$B$34,MATCH('2'!$B31,BDD!$A$2:$A$34,0),2),"") -> MIXÉ | AF31: =IF(J31="P",INDEX(BDD!$A$2:$B$34,MATCH('2'!$B31,BDD!$A$2:$A$34,0),2),"") -> MIXÉ | ... AS31: =IF(W31="P",INDEX(BDD!$A$2:$B$34,MATCH('2'!$B31,BDD!$A$2:$A$34,0),2),"") -> MIXÉ
B32: =BDD!A18 -> q | C32: P | D32: P | E32: P | F32: P | G32: P | H32: P | I32: P | J32: P | K32: P | L32: P | N32: P | O32: P | P32: P | Q32: P | R32: P | S32: P | T32: P | U32: P | V32: P | W32: P | Y32: =IF(C32="P",INDEX(BDD!$A$2:$B$34,MATCH('2'!$B32,BDD!$A$2:$A$34,0),2),"") -> HYPO MIXÉ | Z32: =IF(D32="P",INDEX(BDD!$A$2:$B$34,MATCH('2'!$B32,BDD!$A$2:$A$34,0),2),"") -> HYPO MIXÉ | AA32: =IF(E32="P",INDEX(BDD!$A$2:$B$34,MATCH('2'!$B32,BDD!$A$2:$A$34,0),2),"") -> HYPO MIXÉ | AB32: =IF(F32="P",INDEX(BDD!$A$2:$B$34,MATCH('2'!$B32,BDD!$A$2:$A$34,0),2),"") -> HYPO MIXÉ | AC32: =IF(G32="P",INDEX(BDD!$A$2:$B$34,MATCH('2'!$B32,BDD!$A$2:$A$34,0),2),"") -> HYPO MIXÉ | AD32: =IF(H32="P",INDEX(BDD!$A$2:$B$34,MATCH('2'!$B32,BDD!$A$2:$A$34,0),2),"") -> HYPO MIXÉ | AE32: =IF(I32="P",INDEX(BDD!$A$2:$B$34,MATCH('2'!$B32,BDD!$A$2:$A$34,0),2),"") -> HYPO MIXÉ | AF32: =IF(J32="P",INDEX(BDD!$A$2:$B$34,MATCH('2'!$B32,BDD!$A$2:$A$34,0),2),"") -> HYPO MIXÉ | ... AS32: =IF(W32="P",INDEX(BDD!$A$2:$B$34,MATCH('2'!$B32,BDD!$A$2:$A$34,0),2),"") -> HYPO MIXÉ
B33: =BDD!A19 -> r | C33: P | D33: P | E33: P | F33: P | G33: P | N33: P | O33: P | P33: P | Q33: P | R33: P | Y33: =IF(C33="P",INDEX(BDD!$A$2:$B$34,MATCH('2'!$B33,BDD!$A$2:$A$34,0),2),"") -> NORMAL | Z33: =IF(D33="P",INDEX(BDD!$A$2:$B$34,MATCH('2'!$B33,BDD!$A$2:$A$34,0),2),"") -> NORMAL | AA33: =IF(E33="P",INDEX(BDD!$A$2:$B$34,MATCH('2'!$B33,BDD!$A$2:$A$34,0),2),"") -> NORMAL | AB33: =IF(F33="P",INDEX(BDD!$A$2:$B$34,MATCH('2'!$B33,BDD!$A$2:$A$34,0),2),"") -> NORMAL | AC33: =IF(G33="P",INDEX(BDD!$A$2:$B$34,MATCH('2'!$B33,BDD!$A$2:$A$34,0),2),"") -> NORMAL | AD33: =IF(H33="P",INDEX(BDD!$A$2:$B$34,MATCH('2'!$B33,BDD!$A$2:$A$34,0),2),"") | AE33: =IF(I33="P",INDEX(BDD!$A$2:$B$34,MATCH('2'!$B33,BDD!$A$2:$A$34,0),2),"") | AF33: =IF(J33="P",INDEX(BDD!$A$2:$B$34,MATCH('2'!$B33,BDD!$A$2:$A$34,0),2),"") | ... AS33: =IF(W33="P",INDEX(BDD!$A$2:$B$34,MATCH('2'!$B33,BDD!$A$2:$A$34,0),2),"")
B34: =BDD!A20 -> s | C34: P | D34: P | E34: P | F34: P | G34: P | H34: P | I34: P | J34: P | K34: P | L34: P | N34: P | O34: P | P34: P | Q34: P | R34: P | S34: P | T34: P | U34: P | V34: P | W34: P | Y34: =IF(C34="P",INDEX(BDD!$A$2:$B$34,MATCH('2'!$B34,BDD!$A$2:$A$34,0),2),"") -> SANS FIBRES | Z34: =IF(D34="P",INDEX(BDD!$A$2:$B$34,MATCH('2'!$B34,BDD!$A$2:$A$34,0),2),"") -> SANS FIBRES | AA34: =IF(E34="P",INDEX(BDD!$A$2:$B$34,MATCH('2'!$B34,BDD!$A$2:$A$34,0),2),"") -> SANS FIBRES | AB34: =IF(F34="P",INDEX(BDD!$A$2:$B$34,MATCH('2'!$B34,BDD!$A$2:$A$34,0),2),"") -> SANS FIBRES | AC34: =IF(G34="P",INDEX(BDD!$A$2:$B$34,MATCH('2'!$B34,BDD!$A$2:$A$34,0),2),"") -> SANS FIBRES | AD34: =IF(H34="P",INDEX(BDD!$A$2:$B$34,MATCH('2'!$B34,BDD!$A$2:$A$34,0),2),"") -> SANS FIBRES | AE34: =IF(I34="P",INDEX(BDD!$A$2:$B$34,MATCH('2'!$B34,BDD!$A$2:$A$34,0),2),"") -> SANS FIBRES | AF34: =IF(J34="P",INDEX(BDD!$A$2:$B$34,MATCH('2'!$B34,BDD!$A$2:$A$34,0),2),"") -> SANS FIBRES | ... AS34: =IF(W34="P",INDEX(BDD!$A$2:$B$34,MATCH('2'!$B34,BDD!$A$2:$A$34,0),2),"") -> SANS FIBRES
B35: =BDD!A21 -> t | C35: P | D35: P | E35: P | F35: P | G35: P | H35: P | I35: P | J35: P | K35: P | L35: P | N35: P | O35: P | P35: P | Q35: P | R35: P | S35: P | T35: P | U35: P | V35: P | W35: P | Y35: =IF(C35="P",INDEX(BDD!$A$2:$B$34,MATCH('2'!$B35,BDD!$A$2:$A$34,0),2),"") -> MIXÉ | Z35: =IF(D35="P",INDEX(BDD!$A$2:$B$34,MATCH('2'!$B35,BDD!$A$2:$A$34,0),2),"") -> MIXÉ | AA35: =IF(E35="P",INDEX(BDD!$A$2:$B$34,MATCH('2'!$B35,BDD!$A$2:$A$34,0),2),"") -> MIXÉ | AB35: =IF(F35="P",INDEX(BDD!$A$2:$B$34,MATCH('2'!$B35,BDD!$A$2:$A$34,0),2),"") -> MIXÉ | AC35: =IF(G35="P",INDEX(BDD!$A$2:$B$34,MATCH('2'!$B35,BDD!$A$2:$A$34,0),2),"") -> MIXÉ | AD35: =IF(H35="P",INDEX(BDD!$A$2:$B$34,MATCH('2'!$B35,BDD!$A$2:$A$34,0),2),"") -> MIXÉ | AE35: =IF(I35="P",INDEX(BDD!$A$2:$B$34,MATCH('2'!$B35,BDD!$A$2:$A$34,0),2),"") -> MIXÉ | AF35: =IF(J35="P",INDEX(BDD!$A$2:$B$34,MATCH('2'!$B35,BDD!$A$2:$A$34,0),2),"") -> MIXÉ | ... AS35: =IF(W35="P",INDEX(BDD!$A$2:$B$34,MATCH('2'!$B35,BDD!$A$2:$A$34,0),2),"") -> MIXÉ
B36: =BDD!A27 -> z | C36: P | F36: P | N36: P | Q36: P | Y36: =IF(C36="P",INDEX(BDD!$A$2:$B$34,MATCH('2'!$B36,BDD!$A$2:$A$34,0),2),"") -> NORMAL | Z36: =IF(D36="P",INDEX(BDD!$A$2:$B$34,MATCH('2'!$B36,BDD!$A$2:$A$34,0),2),"") | AA36: =IF(E36="P",INDEX(BDD!$A$2:$B$34,MATCH('2'!$B36,BDD!$A$2:$A$34,0),2),"") | AB36: =IF(F36="P",INDEX(BDD!$A$2:$B$34,MATCH('2'!$B36,BDD!$A$2:$A$34,0),2),"") -> NORMAL | AC36: =IF(G36="P",INDEX(BDD!$A$2:$B$34,MATCH('2'!$B36,BDD!$A$2:$A$34,0),2),"") | AD36: =IF(H36="P",INDEX(BDD!$A$2:$B$34,MATCH('2'!$B36,BDD!$A$2:$A$34,0),2),"") | AE36: =IF(I36="P",INDEX(BDD!$A$2:$B$34,MATCH('2'!$B36,BDD!$A$2:$A$34,0),2),"") | AF36: =IF(J36="P",INDEX(BDD!$A$2:$B$34,MATCH('2'!$B36,BDD!$A$2:$A$34,0),2),"") | ... AS36: =IF(W36="P",INDEX(BDD!$A$2:$B$34,MATCH('2'!$B36,BDD!$A$2:$A$34,0),2),"")
B37: =BDD!A28 -> aa | C37: P | E37: P | N37: P | P37: P | Y37: =IF(C37="P",INDEX(BDD!$A$2:$B$34,MATCH('2'!$B37,BDD!$A$2:$A$34,0),2),"") -> NORMAL | Z37: =IF(D37="P",INDEX(BDD!$A$2:$B$34,MATCH('2'!$B37,BDD!$A$2:$A$34,0),2),"") | AA37: =IF(E37="P",INDEX(BDD!$A$2:$B$34,MATCH('2'!$B37,BDD!$A$2:$A$34,0),2),"") -> NORMAL | AB37: =IF(F37="P",INDEX(BDD!$A$2:$B$34,MATCH('2'!$B37,BDD!$A$2:$A$34,0),2),"") | AC37: =IF(G37="P",INDEX(BDD!$A$2:$B$34,MATCH('2'!$B37,BDD!$A$2:$A$34,0),2),"") | AD37: =IF(H37="P",INDEX(BDD!$A$2:$B$34,MATCH('2'!$B37,BDD!$A$2:$A$34,0),2),"") | AE37: =IF(I37="P",INDEX(BDD!$A$2:$B$34,MATCH('2'!$B37,BDD!$A$2:$A$34,0),2),"") | AF37: =IF(J37="P",INDEX(BDD!$A$2:$B$34,MATCH('2'!$B37,BDD!$A$2:$A$34,0),2),"") | ... AS37: =IF(W37="P",INDEX(BDD!$A$2:$B$34,MATCH('2'!$B37,BDD!$A$2:$A$34,0),2),"")
B38: =BDD!A29 -> ab | H38: P | J38: P | K38: P | L38: P | S38: P | U38: P | V38: P | W38: P | Y38: =IF(C38="P",INDEX(BDD!$A$2:$B$34,MATCH('2'!$B38,BDD!$A$2:$A$34,0),2),"") | Z38: =IF(D38="P",INDEX(BDD!$A$2:$B$34,MATCH('2'!$B38,BDD!$A$2:$A$34,0),2),"") | AA38: =IF(E38="P",INDEX(BDD!$A$2:$B$34,MATCH('2'!$B38,BDD!$A$2:$A$34,0),2),"") | AB38: =IF(F38="P",INDEX(BDD!$A$2:$B$34,MATCH('2'!$B38,BDD!$A$2:$A$34,0),2),"") | AC38: =IF(G38="P",INDEX(BDD!$A$2:$B$34,MATCH('2'!$B38,BDD!$A$2:$A$34,0),2),"") | AD38: =IF(H38="P",INDEX(BDD!$A$2:$B$34,MATCH('2'!$B38,BDD!$A$2:$A$34,0),2),"") -> NORMAL | AE38: =IF(I38="P",INDEX(BDD!$A$2:$B$34,MATCH('2'!$B38,BDD!$A$2:$A$34,0),2),"") | AF38: =IF(J38="P",INDEX(BDD!$A$2:$B$34,MATCH('2'!$B38,BDD!$A$2:$A$34,0),2),"") -> NORMAL | ... AS38: =IF(W38="P",INDEX(BDD!$A$2:$B$34,MATCH('2'!$B38,BDD!$A$2:$A$34,0),2),"") -> NORMAL
B39: =BDD!A30 -> ac | E39: P | P39: P | Y39: =IF(C39="P",INDEX(BDD!$A$2:$B$34,MATCH('2'!$B39,BDD!$A$2:$A$34,0),2),"") | Z39: =IF(D39="P",INDEX(BDD!$A$2:$B$34,MATCH('2'!$B39,BDD!$A$2:$A$34,0),2),"") | AA39: =IF(E39="P",INDEX(BDD!$A$2:$B$34,MATCH('2'!$B39,BDD!$A$2:$A$34,0),2),"") -> NORMAL | AB39: =IF(F39="P",INDEX(BDD!$A$2:$B$34,MATCH('2'!$B39,BDD!$A$2:$A$34,0),2),"") | AC39: =IF(G39="P",INDEX(BDD!$A$2:$B$34,MATCH('2'!$B39,BDD!$A$2:$A$34,0),2),"") | AD39: =IF(H39="P",INDEX(BDD!$A$2:$B$34,MATCH('2'!$B39,BDD!$A$2:$A$34,0),2),"") | AE39: =IF(I39="P",INDEX(BDD!$A$2:$B$34,MATCH('2'!$B39,BDD!$A$2:$A$34,0),2),"") | AF39: =IF(J39="P",INDEX(BDD!$A$2:$B$34,MATCH('2'!$B39,BDD!$A$2:$A$34,0),2),"") | ... AS39: =IF(W39="P",INDEX(BDD!$A$2:$B$34,MATCH('2'!$B39,BDD!$A$2:$A$34,0),2),"")
B40: =BDD!A31 -> ad | H40: P | I40: P | J40: P | K40: P | L40: P | S40: P | T40: P | U40: P | V40: P | W40: P | Y40: =IF(C40="P",INDEX(BDD!$A$2:$B$34,MATCH('2'!$B40,BDD!$A$2:$A$34,0),2),"") | Z40: =IF(D40="P",INDEX(BDD!$A$2:$B$34,MATCH('2'!$B40,BDD!$A$2:$A$34,0),2),"") | AA40: =IF(E40="P",INDEX(BDD!$A$2:$B$34,MATCH('2'!$B40,BDD!$A$2:$A$34,0),2),"") | AB40: =IF(F40="P",INDEX(BDD!$A$2:$B$34,MATCH('2'!$B40,BDD!$A$2:$A$34,0),2),"") | AC40: =IF(G40="P",INDEX(BDD!$A$2:$B$34,MATCH('2'!$B40,BDD!$A$2:$A$34,0),2),"") | AD40: =IF(H40="P",INDEX(BDD!$A$2:$B$34,MATCH('2'!$B40,BDD!$A$2:$A$34,0),2),"") -> NORMAL | AE40: =IF(I40="P",INDEX(BDD!$A$2:$B$34,MATCH('2'!$B40,BDD!$A$2:$A$34,0),2),"") -> NORMAL | AF40: =IF(J40="P",INDEX(BDD!$A$2:$B$34,MATCH('2'!$B40,BDD!$A$2:$A$34,0),2),"") -> NORMAL | ... AS40: =IF(W40="P",INDEX(BDD!$A$2:$B$34,MATCH('2'!$B40,BDD!$A$2:$A$34,0),2),"") -> NORMAL
B41: =BDD!A32 -> ae | E41: P | F41: P | P41: P | Q41: P | Y41: =IF(C41="P",INDEX(BDD!$A$2:$B$34,MATCH('2'!$B41,BDD!$A$2:$A$34,0),2),"") | Z41: =IF(D41="P",INDEX(BDD!$A$2:$B$34,MATCH('2'!$B41,BDD!$A$2:$A$34,0),2),"") | AA41: =IF(E41="P",INDEX(BDD!$A$2:$B$34,MATCH('2'!$B41,BDD!$A$2:$A$34,0),2),"") -> NORMAL | AB41: =IF(F41="P",INDEX(BDD!$A$2:$B$34,MATCH('2'!$B41,BDD!$A$2:$A$34,0),2),"") -> NORMAL | AC41: =IF(G41="P",INDEX(BDD!$A$2:$B$34,MATCH('2'!$B41,BDD!$A$2:$A$34,0),2),"") | AD41: =IF(H41="P",INDEX(BDD!$A$2:$B$34,MATCH('2'!$B41,BDD!$A$2:$A$34,0),2),"") | AE41: =IF(I41="P",INDEX(BDD!$A$2:$B$34,MATCH('2'!$B41,BDD!$A$2:$A$34,0),2),"") | AF41: =IF(J41="P",INDEX(BDD!$A$2:$B$34,MATCH('2'!$B41,BDD!$A$2:$A$34,0),2),"") | ... AS41: =IF(W41="P",INDEX(BDD!$A$2:$B$34,MATCH('2'!$B41,BDD!$A$2:$A$34,0),2),"")
B42: =BDD!A34 -> Stagiaire2 | Y42: =IF(C42="P",INDEX(BDD!$A$2:$B$34,MATCH('2'!$B42,BDD!$A$2:$A$34,0),2),"") | Z42: =IF(D42="P",INDEX(BDD!$A$2:$B$34,MATCH('2'!$B42,BDD!$A$2:$A$34,0),2),"") | AA42: =IF(E42="P",INDEX(BDD!$A$2:$B$34,MATCH('2'!$B42,BDD!$A$2:$A$34,0),2),"") | AB42: =IF(F42="P",INDEX(BDD!$A$2:$B$34,MATCH('2'!$B42,BDD!$A$2:$A$34,0),2),"") | AC42: =IF(G42="P",INDEX(BDD!$A$2:$B$34,MATCH('2'!$B42,BDD!$A$2:$A$34,0),2),"") | AD42: =IF(H42="P",INDEX(BDD!$A$2:$B$34,MATCH('2'!$B42,BDD!$A$2:$A$34,0),2),"") | AE42: =IF(I42="P",INDEX(BDD!$A$2:$B$34,MATCH('2'!$B42,BDD!$A$2:$A$34,0),2),"") | AF42: =IF(J42="P",INDEX(BDD!$A$2:$B$34,MATCH('2'!$B42,BDD!$A$2:$A$34,0),2),"") | ... AS42: =IF(W42="P",INDEX(BDD!$A$2:$B$34,MATCH('2'!$B42,BDD!$A$2:$A$34,0),2),"")
C43: Semaine | Y43: =IF(C43="P",INDEX(BDD!$A$2:$B$34,MATCH('2'!$B43,BDD!$A$2:$A$34,0),2),"") | Z43: =IF(D43="P",INDEX(BDD!$A$2:$B$34,MATCH('2'!$B43,BDD!$A$2:$A$34,0),2),"") | AA43: =IF(E43="P",INDEX(BDD!$A$2:$B$34,MATCH('2'!$B43,BDD!$A$2:$A$34,0),2),"") | AB43: =IF(F43="P",INDEX(BDD!$A$2:$B$34,MATCH('2'!$B43,BDD!$A$2:$A$34,0),2),"") | AC43: =IF(G43="P",INDEX(BDD!$A$2:$B$34,MATCH('2'!$B43,BDD!$A$2:$A$34,0),2),"") | AD43: =IF(H43="P",INDEX(BDD!$A$2:$B$34,MATCH('2'!$B43,BDD!$A$2:$A$34,0),2),"") | AE43: =IF(I43="P",INDEX(BDD!$A$2:$B$34,MATCH('2'!$B43,BDD!$A$2:$A$34,0),2),"") | AF43: =IF(J43="P",INDEX(BDD!$A$2:$B$34,MATCH('2'!$B43,BDD!$A$2:$A$34,0),2),"") | ... AS43: =IF(W43="P",INDEX(BDD!$A$2:$B$34,MATCH('2'!$B43,BDD!$A$2:$A$34,0),2),"")
C44: =C3 -> 2 | Y44: =IF(C44="P",INDEX(BDD!$A$2:$B$34,MATCH('2'!$B44,BDD!$A$2:$A$34,0),2),"") | Z44: =IF(D44="P",INDEX(BDD!$A$2:$B$34,MATCH('2'!$B44,BDD!$A$2:$A$34,0),2),"") | AA44: =IF(E44="P",INDEX(BDD!$A$2:$B$34,MATCH('2'!$B44,BDD!$A$2:$A$34,0),2),"") | AB44: =IF(F44="P",INDEX(BDD!$A$2:$B$34,MATCH('2'!$B44,BDD!$A$2:$A$34,0),2),"") | AC44: =IF(G44="P",INDEX(BDD!$A$2:$B$34,MATCH('2'!$B44,BDD!$A$2:$A$34,0),2),"") | AD44: =IF(H44="P",INDEX(BDD!$A$2:$B$34,MATCH('2'!$B44,BDD!$A$2:$A$34,0),2),"") | AE44: =IF(I44="P",INDEX(BDD!$A$2:$B$34,MATCH('2'!$B44,BDD!$A$2:$A$34,0),2),"") | AF44: =IF(J44="P",INDEX(BDD!$A$2:$B$34,MATCH('2'!$B44,BDD!$A$2:$A$34,0),2),"") | ... AS44: =IF(W44="P",INDEX(BDD!$A$2:$B$34,MATCH('2'!$B44,BDD!$A$2:$A$34,0),2),"")
C45: =C46 -> 41645 | F45: =F46 -> 41646 | I45: =I46 -> 41647 | L45: =L46 -> 41648 | O45: =O46 -> 41649 | R45: =R46 -> 41650 | U45: =U46 -> 41651 | Y45: =IF(C45="P",INDEX(BDD!$A$2:$B$34,MATCH('2'!$B45,BDD!$A$2:$A$34,0),2),"") | Z45: =IF(D45="P",INDEX(BDD!$A$2:$B$34,MATCH('2'!$B45,BDD!$A$2:$A$34,0),2),"") | AA45: =IF(E45="P",INDEX(BDD!$A$2:$B$34,MATCH('2'!$B45,BDD!$A$2:$A$34,0),2),"") | AB45: =IF(F45="P",INDEX(BDD!$A$2:$B$34,MATCH('2'!$B45,BDD!$A$2:$A$34,0),2),"") | AC45: =IF(G45="P",INDEX(BDD!$A$2:$B$34,MATCH('2'!$B45,BDD!$A$2:$A$34,0),2),"") | AD45: =IF(H45="P",INDEX(BDD!$A$2:$B$34,MATCH('2'!$B45,BDD!$A$2:$A$34,0),2),"") | AE45: =IF(I45="P",INDEX(BDD!$A$2:$B$34,MATCH('2'!$B45,BDD!$A$2:$A$34,0),2),"") | AF45: =IF(J45="P",INDEX(BDD!$A$2:$B$34,MATCH('2'!$B45,BDD!$A$2:$A$34,0),2),"") | ... AS45: =IF(W45="P",INDEX(BDD!$A$2:$B$34,MATCH('2'!$B45,BDD!$A$2:$A$34,0),2),"")
A46: GROUPE | B46: NOMS | C46: =7*C3+DATE(B2,1,3)-WEEKDAY(DATE(B2,1,3))-5 -> 41645 | F46: =C46+1 -> 41646 | I46: =F46+1 -> 41647 | L46: =I46+1 -> 41648 | O46: =L46+1 -> 41649 | R46: =O46+1 -> 41650 | U46: =R46+1 -> 41651 | Y46: =IF(C46="P",INDEX(BDD!$A$2:$B$34,MATCH('2'!$B46,BDD!$A$2:$A$34,0),2),"") | Z46: =IF(D46="P",INDEX(BDD!$A$2:$B$34,MATCH('2'!$B46,BDD!$A$2:$A$34,0),2),"") | AA46: =IF(E46="P",INDEX(BDD!$A$2:$B$34,MATCH('2'!$B46,BDD!$A$2:$A$34,0),2),"") | AB46: =IF(F46="P",INDEX(BDD!$A$2:$B$34,MATCH('2'!$B46,BDD!$A$2:$A$34,0),2),"") | AC46: =IF(G46="P",INDEX(BDD!$A$2:$B$34,MATCH('2'!$B46,BDD!$A$2:$A$34,0),2),"") | AD46: =IF(H46="P",INDEX(BDD!$A$2:$B$34,MATCH('2'!$B46,BDD!$A$2:$A$34,0),2),"") | AE46: =IF(I46="P",INDEX(BDD!$A$2:$B$34,MATCH('2'!$B46,BDD!$A$2:$A$34,0),2),"") | AF46: =IF(J46="P",INDEX(BDD!$A$2:$B$34,MATCH('2'!$B46,BDD!$A$2:$A$34,0),2),"") | ... AS46: =IF(W46="P",INDEX(BDD!$A$2:$B$34,MATCH('2'!$B46,BDD!$A$2:$A$34,0),2),"")
A47: Ch. Accueil | B47: =BDD!A35 -> NOM Prénom | Y47: =IF(C47="P",INDEX(BDD!$A$2:$B$35,MATCH('2'!$B47,BDD!$A$2:$A$35,0),2),"") | Z47: =IF(D47="P",INDEX(BDD!$A$2:$B$34,MATCH('2'!$B47,BDD!$A$2:$A$34,0),2),"") | AA47: =IF(E47="P",INDEX(BDD!$A$2:$B$34,MATCH('2'!$B47,BDD!$A$2:$A$34,0),2),"") | AB47: =IF(F47="P",INDEX(BDD!$A$2:$B$34,MATCH('2'!$B47,BDD!$A$2:$A$34,0),2),"") | AC47: =IF(G47="P",INDEX(BDD!$A$2:$B$34,MATCH('2'!$B47,BDD!$A$2:$A$34,0),2),"") | AD47: =IF(H47="P",INDEX(BDD!$A$2:$B$34,MATCH('2'!$B47,BDD!$A$2:$A$34,0),2),"") | AE47: =IF(I47="P",INDEX(BDD!$A$2:$B$34,MATCH('2'!$B47,BDD!$A$2:$A$34,0),2),"") | AF47: =IF(J47="P",INDEX(BDD!$A$2:$B$34,MATCH('2'!$B47,BDD!$A$2:$A$34,0),2),"") | AG47: =IF(K47="P",INDEX(BDD!$A$2:$B$34,MATCH('2'!$B47,BDD!$A$2:$A$34,0),2),"") | ... AS47: =IF(W47="P",INDEX(BDD!$A$2:$B$34,MATCH('2'!$B47,BDD!$A$2:$A$34,0),2),"")
C49: Récapitulatif FDA
C50: =MID(CELL("nomfichier",$AT$2),FIND("]",CELL("nomfichier",$AT$2))+1,50) -> 2
C51: =C52 -> 41645 | F51: =F52 -> 41646 | I51: =I52 -> 41647 | L51: =L52 -> 41648 | O51: =O52 -> 41649 | R51: =R52 -> 41650 | U51: =U52 -> 41651
C52: =7*C50+DATE(B2,1,3)-WEEKDAY(DATE(B2,1,3))-5 -> 41645 | F52: =C52+1 -> 41646 | I52: =F52+1 -> 41647 | L52: =I52+1 -> 41648 | O52: =L52+1 -> 41649 | R52: =O52+1 -> 41650 | U52: =R52+1 -> 41651
B53: NORMAL | C53: =IF(COUNTIF(Y$6:Y$21,$B53)>0,COUNTIF(Y$6:Y$21,$B53),"") -> 3 | D53: =IF(COUNTIF(Z$6:Z$21,$B53)>0,COUNTIF(Z$6:Z$21,$B53),"") -> 2 | E53: =IF(COUNTIF(AA$6:AA$21,$B53)>0,COUNTIF(AA$6:AA$21,$B53),"") -> 3 | F53: =IF(COUNTIF(AB$6:AB$21,$B53)>0,COUNTIF(AB$6:AB$21,$B53),"") -> 2 | G53: =IF(COUNTIF(AC$6:AC$21,$B53)>0,COUNTIF(AC$6:AC$21,$B53),"") -> 2 | H53: =IF(COUNTIF(AD$6:AD$21,$B53)>0,COUNTIF(AD$6:AD$21,$B53),"") -> 3 | I53: =IF(COUNTIF(AE$6:AE$21,$B53)>0,COUNTIF(AE$6:AE$21,$B53),"") -> 3 | J53: =IF(COUNTIF(AF$6:AF$21,$B53)>0,COUNTIF(AF$6:AF$21,$B53),"") -> 3 | ... W53: =IF(COUNTIF(AS$6:AS$21,$B53)>0,COUNTIF(AS$6:AS$21,$B53),"") -> 3
B54: SANS VIANDE | C54: =IF(COUNTIF(Y$6:Y$21,$B54)>0,COUNTIF(Y$6:Y$21,$B54),"") | D54: =IF(COUNTIF(Z$6:Z$21,$B54)>0,COUNTIF(Z$6:Z$21,$B54),"") | E54: =IF(COUNTIF(AA$6:AA$21,$B54)>0,COUNTIF(AA$6:AA$21,$B54),"") | F54: =IF(COUNTIF(AB$6:AB$21,$B54)>0,COUNTIF(AB$6:AB$21,$B54),"") | G54: =IF(COUNTIF(AC$6:AC$21,$B54)>0,COUNTIF(AC$6:AC$21,$B54),"") | H54: =IF(COUNTIF(AD$6:AD$21,$B54)>0,COUNTIF(AD$6:AD$21,$B54),"") | I54: =IF(COUNTIF(AE$6:AE$21,$B54)>0,COUNTIF(AE$6:AE$21,$B54),"") | J54: =IF(COUNTIF(AF$6:AF$21,$B54)>0,COUNTIF(AF$6:AF$21,$B54),"") | ... W54: =IF(COUNTIF(AS$6:AS$21,$B54)>0,COUNTIF(AS$6:AS$21,$B54),"")
B55: SANS PORC | C55: =IF(COUNTIF(Y$6:Y$21,$B55)>0,COUNTIF(Y$6:Y$21,$B55),"") | D55: =IF(COUNTIF(Z$6:Z$21,$B55)>0,COUNTIF(Z$6:Z$21,$B55),"") | E55: =IF(COUNTIF(AA$6:AA$21,$B55)>0,COUNTIF(AA$6:AA$21,$B55),"") | F55: =IF(COUNTIF(AB$6:AB$21,$B55)>0,COUNTIF(AB$6:AB$21,$B55),"") | G55: =IF(COUNTIF(AC$6:AC$21,$B55)>0,COUNTIF(AC$6:AC$21,$B55),"") | H55: =IF(COUNTIF(AD$6:AD$21,$B55)>0,COUNTIF(AD$6:AD$21,$B55),"") | I55: =IF(COUNTIF(AE$6:AE$21,$B55)>0,COUNTIF(AE$6:AE$21,$B55),"") | J55: =IF(COUNTIF(AF$6:AF$21,$B55)>0,COUNTIF(AF$6:AF$21,$B55),"") | ... W55: =IF(COUNTIF(AS$6:AS$21,$B55)>0,COUNTIF(AS$6:AS$21,$B55),"")
B56: SANS POISSON | C56: =IF(COUNTIF(Y$6:Y$21,$B56)>0,COUNTIF(Y$6:Y$21,$B56),"") | D56: =IF(COUNTIF(Z$6:Z$21,$B56)>0,COUNTIF(Z$6:Z$21,$B56),"") | E56: =IF(COUNTIF(AA$6:AA$21,$B56)>0,COUNTIF(AA$6:AA$21,$B56),"") | F56: =IF(COUNTIF(AB$6:AB$21,$B56)>0,COUNTIF(AB$6:AB$21,$B56),"") | G56: =IF(COUNTIF(AC$6:AC$21,$B56)>0,COUNTIF(AC$6:AC$21,$B56),"") | H56: =IF(COUNTIF(AD$6:AD$21,$B56)>0,COUNTIF(AD$6:AD$21,$B56),"") | I56: =IF(COUNTIF(AE$6:AE$21,$B56)>0,COUNTIF(AE$6:AE$21,$B56),"") | J56: =IF(COUNTIF(AF$6:AF$21,$B56)>0,COUNTIF(AF$6:AF$21,$B56),"") | ... W56: =IF(COUNTIF(AS$6:AS$21,$B56)>0,COUNTIF(AS$6:AS$21,$B56),"")
B57: MIXÉ | C57: =IF(COUNTIF(Y$6:Y$21,$B57)>0,COUNTIF(Y$6:Y$21,$B57),"") | D57: =IF(COUNTIF(Z$6:Z$21,$B57)>0,COUNTIF(Z$6:Z$21,$B57),"") | E57: =IF(COUNTIF(AA$6:AA$21,$B57)>0,COUNTIF(AA$6:AA$21,$B57),"") | F57: =IF(COUNTIF(AB$6:AB$21,$B57)>0,COUNTIF(AB$6:AB$21,$B57),"") | G57: =IF(COUNTIF(AC$6:AC$21,$B57)>0,COUNTIF(AC$6:AC$21,$B57),"") | H57: =IF(COUNTIF(AD$6:AD$21,$B57)>0,COUNTIF(AD$6:AD$21,$B57),"") | I57: =IF(COUNTIF(AE$6:AE$21,$B57)>0,COUNTIF(AE$6:AE$21,$B57),"") | J57: =IF(COUNTIF(AF$6:AF$21,$B57)>0,COUNTIF(AF$6:AF$21,$B57),"") | ... W57: =IF(COUNTIF(AS$6:AS$21,$B57)>0,COUNTIF(AS$6:AS$21,$B57),"")
B58: MIXÉ SANS FIBRES | C58: =IF(COUNTIF(Y$6:Y$21,$B58)>0,COUNTIF(Y$6:Y$21,$B58),"") -> 1 | D58: =IF(COUNTIF(Z$6:Z$21,$B58)>0,COUNTIF(Z$6:Z$21,$B58),"") -> 1 | E58: =IF(COUNTIF(AA$6:AA$21,$B58)>0,COUNTIF(AA$6:AA$21,$B58),"") -> 1 | F58: =IF(COUNTIF(AB$6:AB$21,$B58)>0,COUNTIF(AB$6:AB$21,$B58),"") -> 1 | G58: =IF(COUNTIF(AC$6:AC$21,$B58)>0,COUNTIF(AC$6:AC$21,$B58),"") -> 1 | H58: =IF(COUNTIF(AD$6:AD$21,$B58)>0,COUNTIF(AD$6:AD$21,$B58),"") -> 1 | I58: =IF(COUNTIF(AE$6:AE$21,$B58)>0,COUNTIF(AE$6:AE$21,$B58),"") -> 1 | J58: =IF(COUNTIF(AF$6:AF$21,$B58)>0,COUNTIF(AF$6:AF$21,$B58),"") -> 1 | ... W58: =IF(COUNTIF(AS$6:AS$21,$B58)>0,COUNTIF(AS$6:AS$21,$B58),"") -> 1
B59: SANS FIBRES | C59: =IF(COUNTIF(Y$6:Y$21,$B59)>0,COUNTIF(Y$6:Y$21,$B59),"") | D59: =IF(COUNTIF(Z$6:Z$21,$B59)>0,COUNTIF(Z$6:Z$21,$B59),"") | E59: =IF(COUNTIF(AA$6:AA$21,$B59)>0,COUNTIF(AA$6:AA$21,$B59),"") | F59: =IF(COUNTIF(AB$6:AB$21,$B59)>0,COUNTIF(AB$6:AB$21,$B59),"") | G59: =IF(COUNTIF(AC$6:AC$21,$B59)>0,COUNTIF(AC$6:AC$21,$B59),"") | H59: =IF(COUNTIF(AD$6:AD$21,$B59)>0,COUNTIF(AD$6:AD$21,$B59),"") | I59: =IF(COUNTIF(AE$6:AE$21,$B59)>0,COUNTIF(AE$6:AE$21,$B59),"") | J59: =IF(COUNTIF(AF$6:AF$21,$B59)>0,COUNTIF(AF$6:AF$21,$B59),"") | ... W59: =IF(COUNTIF(AS$6:AS$21,$B59)>0,COUNTIF(AS$6:AS$21,$B59),"")
B60: HYPO | C60: =IF(COUNTIF(Y$6:Y$21,$B60)>0,COUNTIF(Y$6:Y$21,$B60),"") -> 3 | D60: =IF(COUNTIF(Z$6:Z$21,$B60)>0,COUNTIF(Z$6:Z$21,$B60),"") -> 3 | E60: =IF(COUNTIF(AA$6:AA$21,$B60)>0,COUNTIF(AA$6:AA$21,$B60),"") -> 3 | F60: =IF(COUNTIF(AB$6:AB$21,$B60)>0,COUNTIF(AB$6:AB$21,$B60),"") -> 3 | G60: =IF(COUNTIF(AC$6:AC$21,$B60)>0,COUNTIF(AC$6:AC$21,$B60),"") -> 3 | H60: =IF(COUNTIF(AD$6:AD$21,$B60)>0,COUNTIF(AD$6:AD$21,$B60),"") -> 2 | I60: =IF(COUNTIF(AE$6:AE$21,$B60)>0,COUNTIF(AE$6:AE$21,$B60),"") -> 2 | J60: =IF(COUNTIF(AF$6:AF$21,$B60)>0,COUNTIF(AF$6:AF$21,$B60),"") -> 2 | ... W60: =IF(COUNTIF(AS$6:AS$21,$B60)>0,COUNTIF(AS$6:AS$21,$B60),"") -> 3
B61: HYPO MIXÉ | C61: =IF(COUNTIF(Y$6:Y$21,$B61)>0,COUNTIF(Y$6:Y$21,$B61),"") | D61: =IF(COUNTIF(Z$6:Z$21,$B61)>0,COUNTIF(Z$6:Z$21,$B61),"") | E61: =IF(COUNTIF(AA$6:AA$21,$B61)>0,COUNTIF(AA$6:AA$21,$B61),"") | F61: =IF(COUNTIF(AB$6:AB$21,$B61)>0,COUNTIF(AB$6:AB$21,$B61),"") | G61: =IF(COUNTIF(AC$6:AC$21,$B61)>0,COUNTIF(AC$6:AC$21,$B61),"") | H61: =IF(COUNTIF(AD$6:AD$21,$B61)>0,COUNTIF(AD$6:AD$21,$B61),"") | I61: =IF(COUNTIF(AE$6:AE$21,$B61)>0,COUNTIF(AE$6:AE$21,$B61),"") | J61: =IF(COUNTIF(AF$6:AF$21,$B61)>0,COUNTIF(AF$6:AF$21,$B61),"") | ... W61: =IF(COUNTIF(AS$6:AS$21,$B61)>0,COUNTIF(AS$6:AS$21,$B61),"")
B62: HYPO SANS VIANDE | C62: =IF(COUNTIF(Y$6:Y$21,$B62)>0,COUNTIF(Y$6:Y$21,$B62),"") | D62: =IF(COUNTIF(Z$6:Z$21,$B62)>0,COUNTIF(Z$6:Z$21,$B62),"") | E62: =IF(COUNTIF(AA$6:AA$21,$B62)>0,COUNTIF(AA$6:AA$21,$B62),"") | F62: =IF(COUNTIF(AB$6:AB$21,$B62)>0,COUNTIF(AB$6:AB$21,$B62),"") | G62: =IF(COUNTIF(AC$6:AC$21,$B62)>0,COUNTIF(AC$6:AC$21,$B62),"") | H62: =IF(COUNTIF(AD$6:AD$21,$B62)>0,COUNTIF(AD$6:AD$21,$B62),"") | I62: =IF(COUNTIF(AE$6:AE$21,$B62)>0,COUNTIF(AE$6:AE$21,$B62),"") | J62: =IF(COUNTIF(AF$6:AF$21,$B62)>0,COUNTIF(AF$6:AF$21,$B62),"") | ... W62: =IF(COUNTIF(AS$6:AS$21,$B62)>0,COUNTIF(AS$6:AS$21,$B62),"")
B63: HYPO SANS FIBRES | C63: =IF(COUNTIF(Y$6:Y$21,$B63)>0,COUNTIF(Y$6:Y$21,$B63),"") -> 1 | D63: =IF(COUNTIF(Z$6:Z$21,$B63)>0,COUNTIF(Z$6:Z$21,$B63),"") -> 1 | E63: =IF(COUNTIF(AA$6:AA$21,$B63)>0,COUNTIF(AA$6:AA$21,$B63),"") -> 1 | F63: =IF(COUNTIF(AB$6:AB$21,$B63)>0,COUNTIF(AB$6:AB$21,$B63),"") -> 1 | G63: =IF(COUNTIF(AC$6:AC$21,$B63)>0,COUNTIF(AC$6:AC$21,$B63),"") -> 1 | H63: =IF(COUNTIF(AD$6:AD$21,$B63)>0,COUNTIF(AD$6:AD$21,$B63),"") -> 1 | I63: =IF(COUNTIF(AE$6:AE$21,$B63)>0,COUNTIF(AE$6:AE$21,$B63),"") -> 1 | J63: =IF(COUNTIF(AF$6:AF$21,$B63)>0,COUNTIF(AF$6:AF$21,$B63),"") -> 1 | ... W63: =IF(COUNTIF(AS$6:AS$21,$B63)>0,COUNTIF(AS$6:AS$21,$B63),"") -> 1
B64: SANS ŒUFS | C64: =IF(COUNTIF(Y$6:Y$21,$B64)>0,COUNTIF(Y$6:Y$21,$B64),"") | D64: =IF(COUNTIF(Z$6:Z$21,$B64)>0,COUNTIF(Z$6:Z$21,$B64),"") | E64: =IF(COUNTIF(AA$6:AA$21,$B64)>0,COUNTIF(AA$6:AA$21,$B64),"") | F64: =IF(COUNTIF(AB$6:AB$21,$B64)>0,COUNTIF(AB$6:AB$21,$B64),"") | G64: =IF(COUNTIF(AC$6:AC$21,$B64)>0,COUNTIF(AC$6:AC$21,$B64),"") | H64: =IF(COUNTIF(AD$6:AD$21,$B64)>0,COUNTIF(AD$6:AD$21,$B64),"") | I64: =IF(COUNTIF(AE$6:AE$21,$B64)>0,COUNTIF(AE$6:AE$21,$B64),"") | J64: =IF(COUNTIF(AF$6:AF$21,$B64)>0,COUNTIF(AF$6:AF$21,$B64),"") | ... W64: =IF(COUNTIF(AS$6:AS$21,$B64)>0,COUNTIF(AS$6:AS$21,$B64),"")
... B66: GOUTTE | C66: =IF(COUNTIF(Y$6:Y$21,$B66)>0,COUNTIF(Y$6:Y$21,$B66),"") | D66: =IF(COUNTIF(Z$6:Z$21,$B66)>0,COUNTIF(Z$6:Z$21,$B66),"") | E66: =IF(COUNTIF(AA$6:AA$21,$B66)>0,COUNTIF(AA$6:AA$21,$B66),"") | F66: =IF(COUNTIF(AB$6:AB$21,$B66)>0,COUNTIF(AB$6:AB$21,$B66),"") | G66: =IF(COUNTIF(AC$6:AC$21,$B66)>0,COUNTIF(AC$6:AC$21,$B66),"") | H66: =IF(COUNTIF(AD$6:AD$21,$B66)>0,COUNTIF(AD$6:AD$21,$B66),"") | I66: =IF(COUNTIF(AE$6:AE$21,$B66)>0,COUNTIF(AE$6:AE$21,$B66),"") | J66: =IF(COUNTIF(AF$6:AF$21,$B66)>0,COUNTIF(AF$6:AF$21,$B66),"") | ... W66: =IF(COUNTIF(AS$6:AS$21,$B66)>0,COUNTIF(AS$6:AS$21,$B66),"")
C67: =SUM(C53:C66) -> 8 | D67: =SUM(D53:D66) -> 7 | E67: =SUM(E53:E66) -> 8 | F67: =SUM(F53:F66) -> 7 | G67: =SUM(G53:G66) -> 7 | H67: =SUM(H53:H66) -> 7 | I67: =SUM(I53:I66) -> 7 | J67: =SUM(J53:J66) -> 7 | ... W67: =SUM(W53:W66) -> 8
B68: PIQUE-NIQUE | C68: =COUNTIF(C6:C21,"K") -> 0 | D68: =COUNTIF(D6:D21,"K") -> 0 | E68: =COUNTIF(E6:E21,"K") -> 0 | F68: =COUNTIF(F6:F21,"K") -> 0 | G68: =COUNTIF(G6:G21,"K") -> 0 | H68: =COUNTIF(H6:H21,"K") -> 0 | I68: =COUNTIF(I6:I21,"K") -> 0 | J68: =COUNTIF(J6:J21,"K") -> 0 | ... W68: =COUNTIF(W6:W21,"K") -> 0
C69: Récapitulatif FDVB
C70: =MID(CELL("nomfichier",$AT$2),FIND("]",CELL("nomfichier",$AT$2))+1,50) -> 2
C71: =C72 -> 41645 | F71: =F72 -> 41646 | I71: =I72 -> 41647 | L71: =L72 -> 41648 | O71: =O72 -> 41649 | R71: =R72 -> 41650 | U71: =U72 -> 41651
C72: =7*C70+DATE(B2,1,3)-WEEKDAY(DATE(B2,1,3))-5 -> 41645 | F72: =C72+1 -> 41646 | I72: =F72+1 -> 41647 | L72: =I72+1 -> 41648 | O72: =L72+1 -> 41649 | R72: =O72+1 -> 41650 | U72: =R72+1 -> 41651
B73: NORMAL | C73: =IF(COUNTIF(Y$26:Y$47,$B73)>0,COUNTIF(Y$26:Y$47,$B73),"") -> 4 | D73: =IF(COUNTIF(Z$26:Z$47,$B73)>0,COUNTIF(Z$26:Z$47,$B73),"") -> 2 | E73: =IF(COUNTIF(AA$26:AA$47,$B73)>0,COUNTIF(AA$26:AA$47,$B73),"") -> 5 | F73: =IF(COUNTIF(AB$26:AB$47,$B73)>0,COUNTIF(AB$26:AB$47,$B73),"") -> 4 | G73: =IF(COUNTIF(AC$26:AC$47,$B73)>0,COUNTIF(AC$26:AC$47,$B73),"") -> 2 | H73: =IF(COUNTIF(AD$26:AD$47,$B73)>0,COUNTIF(AD$26:AD$47,$B73),"") -> 3 | I73: =IF(COUNTIF(AE$26:AE$47,$B73)>0,COUNTIF(AE$26:AE$47,$B73),"") -> 2 | J73: =IF(COUNTIF(AF$26:AF$47,$B73)>0,COUNTIF(AF$26:AF$47,$B73),"") -> 3 | ... W73: =IF(COUNTIF(AS$26:AS$47,$B73)>0,COUNTIF(AS$26:AS$47,$B73),"") -> 3
B74: SANS VIANDE | C74: =IF(COUNTIF(Y$26:Y$47,$B74)>0,COUNTIF(Y$26:Y$47,$B74),"") | D74: =IF(COUNTIF(Z$26:Z$47,$B74)>0,COUNTIF(Z$26:Z$47,$B74),"") | E74: =IF(COUNTIF(AA$26:AA$47,$B74)>0,COUNTIF(AA$26:AA$47,$B74),"") | F74: =IF(COUNTIF(AB$26:AB$47,$B74)>0,COUNTIF(AB$26:AB$47,$B74),"") | G74: =IF(COUNTIF(AC$26:AC$47,$B74)>0,COUNTIF(AC$26:AC$47,$B74),"") | H74: =IF(COUNTIF(AD$26:AD$47,$B74)>0,COUNTIF(AD$26:AD$47,$B74),"") | I74: =IF(COUNTIF(AE$26:AE$47,$B74)>0,COUNTIF(AE$26:AE$47,$B74),"") | J74: =IF(COUNTIF(AF$26:AF$47,$B74)>0,COUNTIF(AF$26:AF$47,$B74),"") | ... W74: =IF(COUNTIF(AS$26:AS$47,$B74)>0,COUNTIF(AS$26:AS$47,$B74),"")
B75: SANS PORC | C75: =IF(COUNTIF(Y$26:Y$47,$B75)>0,COUNTIF(Y$26:Y$47,$B75),"") | D75: =IF(COUNTIF(Z$26:Z$47,$B75)>0,COUNTIF(Z$26:Z$47,$B75),"") | E75: =IF(COUNTIF(AA$26:AA$47,$B75)>0,COUNTIF(AA$26:AA$47,$B75),"") | F75: =IF(COUNTIF(AB$26:AB$47,$B75)>0,COUNTIF(AB$26:AB$47,$B75),"") | G75: =IF(COUNTIF(AC$26:AC$47,$B75)>0,COUNTIF(AC$26:AC$47,$B75),"") | H75: =IF(COUNTIF(AD$26:AD$47,$B75)>0,COUNTIF(AD$26:AD$47,$B75),"") | I75: =IF(COUNTIF(AE$26:AE$47,$B75)>0,COUNTIF(AE$26:AE$47,$B75),"") | J75: =IF(COUNTIF(AF$26:AF$47,$B75)>0,COUNTIF(AF$26:AF$47,$B75),"") | ... W75: =IF(COUNTIF(AS$26:AS$47,$B75)>0,COUNTIF(AS$26:AS$47,$B75),"")
B76: SANS POISSON | C76: =IF(COUNTIF(Y$26:Y$47,$B76)>0,COUNTIF(Y$26:Y$47,$B76),"") | D76: =IF(COUNTIF(Z$26:Z$47,$B76)>0,COUNTIF(Z$26:Z$47,$B76),"") | E76: =IF(COUNTIF(AA$26:AA$47,$B76)>0,COUNTIF(AA$26:AA$47,$B76),"") | F76: =IF(COUNTIF(AB$26:AB$47,$B76)>0,COUNTIF(AB$26:AB$47,$B76),"") | G76: =IF(COUNTIF(AC$26:AC$47,$B76)>0,COUNTIF(AC$26:AC$47,$B76),"") | H76: =IF(COUNTIF(AD$26:AD$47,$B76)>0,COUNTIF(AD$26:AD$47,$B76),"") | I76: =IF(COUNTIF(AE$26:AE$47,$B76)>0,COUNTIF(AE$26:AE$47,$B76),"") | J76: =IF(COUNTIF(AF$26:AF$47,$B76)>0,COUNTIF(AF$26:AF$47,$B76),"") | ... W76: =IF(COUNTIF(AS$26:AS$47,$B76)>0,COUNTIF(AS$26:AS$47,$B76),"")
B77: MIXÉ | C77: =IF(COUNTIF(Y$26:Y$47,$B77)>0,COUNTIF(Y$26:Y$47,$B77),"") -> 4 | D77: =IF(COUNTIF(Z$26:Z$47,$B77)>0,COUNTIF(Z$26:Z$47,$B77),"") -> 4 | E77: =IF(COUNTIF(AA$26:AA$47,$B77)>0,COUNTIF(AA$26:AA$47,$B77),"") -> 4 | F77: =IF(COUNTIF(AB$26:AB$47,$B77)>0,COUNTIF(AB$26:AB$47,$B77),"") -> 4 | G77: =IF(COUNTIF(AC$26:AC$47,$B77)>0,COUNTIF(AC$26:AC$47,$B77),"") -> 4 | H77: =IF(COUNTIF(AD$26:AD$47,$B77)>0,COUNTIF(AD$26:AD$47,$B77),"") -> 3 | I77: =IF(COUNTIF(AE$26:AE$47,$B77)>0,COUNTIF(AE$26:AE$47,$B77),"") -> 3 | J77: =IF(COUNTIF(AF$26:AF$47,$B77)>0,COUNTIF(AF$26:AF$47,$B77),"") -> 3 | ... W77: =IF(COUNTIF(AS$26:AS$47,$B77)>0,COUNTIF(AS$26:AS$47,$B77),"") -> 3
B78: MIXÉ SANS FIBRES | C78: =IF(COUNTIF(Y$26:Y$47,$B78)>0,COUNTIF(Y$26:Y$47,$B78),"") | D78: =IF(COUNTIF(Z$26:Z$47,$B78)>0,COUNTIF(Z$26:Z$47,$B78),"") | E78: =IF(COUNTIF(AA$26:AA$47,$B78)>0,COUNTIF(AA$26:AA$47,$B78),"") | F78: =IF(COUNTIF(AB$26:AB$47,$B78)>0,COUNTIF(AB$26:AB$47,$B78),"") | G78: =IF(COUNTIF(AC$26:AC$47,$B78)>0,COUNTIF(AC$26:AC$47,$B78),"") | H78: =IF(COUNTIF(AD$26:AD$47,$B78)>0,COUNTIF(AD$26:AD$47,$B78),"") | I78: =IF(COUNTIF(AE$26:AE$47,$B78)>0,COUNTIF(AE$26:AE$47,$B78),"") | J78: =IF(COUNTIF(AF$26:AF$47,$B78)>0,COUNTIF(AF$26:AF$47,$B78),"") | ... W78: =IF(COUNTIF(AS$26:AS$47,$B78)>0,COUNTIF(AS$26:AS$47,$B78),"")
B79: SANS FIBRES | C79: =IF(COUNTIF(Y$26:Y$47,$B79)>0,COUNTIF(Y$26:Y$47,$B79),"") -> 1 | D79: =IF(COUNTIF(Z$26:Z$47,$B79)>0,COUNTIF(Z$26:Z$47,$B79),"") -> 1 | E79: =IF(COUNTIF(AA$26:AA$47,$B79)>0,COUNTIF(AA$26:AA$47,$B79),"") -> 1 | F79: =IF(COUNTIF(AB$26:AB$47,$B79)>0,COUNTIF(AB$26:AB$47,$B79),"") -> 1 | G79: =IF(COUNTIF(AC$26:AC$47,$B79)>0,COUNTIF(AC$26:AC$47,$B79),"") -> 1 | H79: =IF(COUNTIF(AD$26:AD$47,$B79)>0,COUNTIF(AD$26:AD$47,$B79),"") -> 1 | I79: =IF(COUNTIF(AE$26:AE$47,$B79)>0,COUNTIF(AE$26:AE$47,$B79),"") -> 1 | J79: =IF(COUNTIF(AF$26:AF$47,$B79)>0,COUNTIF(AF$26:AF$47,$B79),"") -> 1 | ... W79: =IF(COUNTIF(AS$26:AS$47,$B79)>0,COUNTIF(AS$26:AS$47,$B79),"") -> 1
B80: HYPO | C80: =IF(COUNTIF(Y$26:Y$47,$B80)>0,COUNTIF(Y$26:Y$47,$B80),"") -> 1 | D80: =IF(COUNTIF(Z$26:Z$47,$B80)>0,COUNTIF(Z$26:Z$47,$B80),"") -> 1 | E80: =IF(COUNTIF(AA$26:AA$47,$B80)>0,COUNTIF(AA$26:AA$47,$B80),"") -> 1 | F80: =IF(COUNTIF(AB$26:AB$47,$B80)>0,COUNTIF(AB$26:AB$47,$B80),"") -> 1 | G80: =IF(COUNTIF(AC$26:AC$47,$B80)>0,COUNTIF(AC$26:AC$47,$B80),"") -> 1 | H80: =IF(COUNTIF(AD$26:AD$47,$B80)>0,COUNTIF(AD$26:AD$47,$B80),"") | I80: =IF(COUNTIF(AE$26:AE$47,$B80)>0,COUNTIF(AE$26:AE$47,$B80),"") -> 1 | J80: =IF(COUNTIF(AF$26:AF$47,$B80)>0,COUNTIF(AF$26:AF$47,$B80),"") -> 1 | ... W80: =IF(COUNTIF(AS$26:AS$47,$B80)>0,COUNTIF(AS$26:AS$47,$B80),"") -> 1
B81: HYPO MIXÉ | C81: =IF(COUNTIF(Y$26:Y$47,$B81)>0,COUNTIF(Y$26:Y$47,$B81),"") -> 1 | D81: =IF(COUNTIF(Z$26:Z$47,$B81)>0,COUNTIF(Z$26:Z$47,$B81),"") -> 1 | E81: =IF(COUNTIF(AA$26:AA$47,$B81)>0,COUNTIF(AA$26:AA$47,$B81),"") -> 1 | F81: =IF(COUNTIF(AB$26:AB$47,$B81)>0,COUNTIF(AB$26:AB$47,$B81),"") -> 1 | G81: =IF(COUNTIF(AC$26:AC$47,$B81)>0,COUNTIF(AC$26:AC$47,$B81),"") -> 1 | H81: =IF(COUNTIF(AD$26:AD$47,$B81)>0,COUNTIF(AD$26:AD$47,$B81),"") -> 1 | I81: =IF(COUNTIF(AE$26:AE$47,$B81)>0,COUNTIF(AE$26:AE$47,$B81),"") -> 1 | J81: =IF(COUNTIF(AF$26:AF$47,$B81)>0,COUNTIF(AF$26:AF$47,$B81),"") -> 1 | ... W81: =IF(COUNTIF(AS$26:AS$47,$B81)>0,COUNTIF(AS$26:AS$47,$B81),"") -> 1
B82: HYPO SANS VIANDE | C82: =IF(COUNTIF(Y$26:Y$47,$B82)>0,COUNTIF(Y$26:Y$47,$B82),"") | D82: =IF(COUNTIF(Z$26:Z$47,$B82)>0,COUNTIF(Z$26:Z$47,$B82),"") | E82: =IF(COUNTIF(AA$26:AA$47,$B82)>0,COUNTIF(AA$26:AA$47,$B82),"") | F82: =IF(COUNTIF(AB$26:AB$47,$B82)>0,COUNTIF(AB$26:AB$47,$B82),"") | G82: =IF(COUNTIF(AC$26:AC$47,$B82)>0,COUNTIF(AC$26:AC$47,$B82),"") | H82: =IF(COUNTIF(AD$26:AD$47,$B82)>0,COUNTIF(AD$26:AD$47,$B82),"") | I82: =IF(COUNTIF(AE$26:AE$47,$B82)>0,COUNTIF(AE$26:AE$47,$B82),"") | J82: =IF(COUNTIF(AF$26:AF$47,$B82)>0,COUNTIF(AF$26:AF$47,$B82),"") | ... W82: =IF(COUNTIF(AS$26:AS$47,$B82)>0,COUNTIF(AS$26:AS$47,$B82),"")
B83: HYPO SANS FIBRES | C83: =IF(COUNTIF(Y$26:Y$47,$B83)>0,COUNTIF(Y$26:Y$47,$B83),"") | D83: =IF(COUNTIF(Z$26:Z$47,$B83)>0,COUNTIF(Z$26:Z$47,$B83),"") | E83: =IF(COUNTIF(AA$26:AA$47,$B83)>0,COUNTIF(AA$26:AA$47,$B83),"") | F83: =IF(COUNTIF(AB$26:AB$47,$B83)>0,COUNTIF(AB$26:AB$47,$B83),"") | G83: =IF(COUNTIF(AC$26:AC$47,$B83)>0,COUNTIF(AC$26:AC$47,$B83),"") | H83: =IF(COUNTIF(AD$26:AD$47,$B83)>0,COUNTIF(AD$26:AD$47,$B83),"") | I83: =IF(COUNTIF(AE$26:AE$47,$B83)>0,COUNTIF(AE$26:AE$47,$B83),"") | J83: =IF(COUNTIF(AF$26:AF$47,$B83)>0,COUNTIF(AF$26:AF$47,$B83),"") | ... W83: =IF(COUNTIF(AS$26:AS$47,$B83)>0,COUNTIF(AS$26:AS$47,$B83),"")
B84: SANS ŒUFS | C84: =IF(COUNTIF(Y$26:Y$47,$B84)>0,COUNTIF(Y$26:Y$47,$B84),"") | D84: =IF(COUNTIF(Z$26:Z$47,$B84)>0,COUNTIF(Z$26:Z$47,$B84),"") | E84: =IF(COUNTIF(AA$26:AA$47,$B84)>0,COUNTIF(AA$26:AA$47,$B84),"") | F84: =IF(COUNTIF(AB$26:AB$47,$B84)>0,COUNTIF(AB$26:AB$47,$B84),"") | G84: =IF(COUNTIF(AC$26:AC$47,$B84)>0,COUNTIF(AC$26:AC$47,$B84),"") | H84: =IF(COUNTIF(AD$26:AD$47,$B84)>0,COUNTIF(AD$26:AD$47,$B84),"") | I84: =IF(COUNTIF(AE$26:AE$47,$B84)>0,COUNTIF(AE$26:AE$47,$B84),"") | J84: =IF(COUNTIF(AF$26:AF$47,$B84)>0,COUNTIF(AF$26:AF$47,$B84),"") | ... W84: =IF(COUNTIF(AS$26:AS$47,$B84)>0,COUNTIF(AS$26:AS$47,$B84),"")
... B86: GOUTTE | C86: =IF(COUNTIF(Y$26:Y$47,$B86)>0,COUNTIF(Y$26:Y$47,$B86),"") | D86: =IF(COUNTIF(Z$26:Z$47,$B86)>0,COUNTIF(Z$26:Z$47,$B86),"") | E86: =IF(COUNTIF(AA$26:AA$47,$B86)>0,COUNTIF(AA$26:AA$47,$B86),"") | F86: =IF(COUNTIF(AB$26:AB$47,$B86)>0,COUNTIF(AB$26:AB$47,$B86),"") | G86: =IF(COUNTIF(AC$26:AC$47,$B86)>0,COUNTIF(AC$26:AC$47,$B86),"") | H86: =IF(COUNTIF(AD$26:AD$47,$B86)>0,COUNTIF(AD$26:AD$47,$B86),"") | I86: =IF(COUNTIF(AE$26:AE$47,$B86)>0,COUNTIF(AE$26:AE$47,$B86),"") | J86: =IF(COUNTIF(AF$26:AF$47,$B86)>0,COUNTIF(AF$26:AF$47,$B86),"") | ... W86: =IF(COUNTIF(AS$26:AS$47,$B86)>0,COUNTIF(AS$26:AS$47,$B86),"")
C87: =SUM(C73:C86) -> 11 | D87: =SUM(D73:D86) -> 9 | E87: =SUM(E73:E86) -> 12 | F87: =SUM(F73:F86) -> 11 | G87: =SUM(G73:G86) -> 9 | H87: =SUM(H73:H86) -> 8 | I87: =SUM(I73:I86) -> 8 | J87: =SUM(J73:J86) -> 9 | ... W87: =SUM(W73:W86) -> 9
B88: PIQUE-NIQUE | C88: =COUNTIF(C26:C47,"K") -> 0 | D88: =COUNTIF(D26:D47,"K") -> 0 | E88: =COUNTIF(E26:E47,"K") -> 0 | F88: =COUNTIF(F26:F47,"K") -> 0 | G88: =COUNTIF(G26:G47,"K") -> 0 | H88: =COUNTIF(H26:H47,"K") -> 0 | I88: =COUNTIF(I26:I47,"K") -> 0 | J88: =COUNTIF(J26:J47,"K") -> 0 | ... W88: =COUNTIF(W26:W47,"K") -> 0
V90: Nombre de viennoiseries : | W90: =COUNTA(U6:U21,U26:U42,U47) -> 16
C92: Semaine : | F92: =MID(CELL("nomfichier",$A$1),FIND("]",CELL("nomfichier",$A$1))+1,50) -> 2
C93: L | D93: M | E93: M | F93: J | G93: V | H93: S | I93: D
C94: =7*F92+DATE(B2,1,3)-WEEKDAY(DATE(B2,1,3))-5 -> 41645 | D94: =F52 -> 41646 | E94: =I5 -> 41647 | F94: =L5 -> 41648 | G94: =O5 -> 41649 | H94: =R5 -> 41650 | I94: =U5 -> 41651
B95: =B6 -> a | C95: =IF(AND(C6<>"",COUNTIF(fériés,$C$94)=1),1,IF(COUNTIF(fériés,$C$94)=0,IF(OR(C6<>"",E6<>""),1,""))) -> 1 | D95: =IF(AND(F6<>"",COUNTIF(fériés,$D$94)=1),1,IF(COUNTIF(fériés,$D$94)=0,IF(OR(F6<>"",H6<>""),1,""))) -> 1 | E95: =IF(AND(I6<>"",COUNTIF(fériés,$E$94)=1),1,IF(COUNTIF(fériés,$E$94)=0,IF(OR(I6<>"",K6<>""),1,""))) -> 1 | F95: =IF(AND(L6<>"",COUNTIF(fériés,$F$94)=1),1,IF(COUNTIF(fériés,$F$94)=0,IF(OR(L6<>"",N6<>""),1,""))) -> 1 | G95: =IF(AND(O6<>"",COUNTIF(fériés,$G$94)=1),1,IF(COUNTIF(fériés,$G$94)=0,IF(OR(O6<>"",Q6<>""),1,""))) -> 1 | H95: =IF(R6<>"",1,"") -> 1 | I95: =IF(U6<>"",1,"") -> 1
B96: =B7 -> b | C96: =IF(AND(C7<>"",COUNTIF(fériés,$C$94)=1),1,IF(COUNTIF(fériés,$C$94)=0,IF(OR(C7<>"",E7<>""),1,""))) -> 1 | D96: =IF(AND(F7<>"",COUNTIF(fériés,$D$94)=1),1,IF(COUNTIF(fériés,$D$94)=0,IF(OR(F7<>"",H7<>""),1,""))) -> 1 | E96: =IF(AND(I7<>"",COUNTIF(fériés,$E$94)=1),1,IF(COUNTIF(fériés,$E$94)=0,IF(OR(I7<>"",K7<>""),1,""))) -> 1 | F96: =IF(AND(L7<>"",COUNTIF(fériés,$F$94)=1),1,IF(COUNTIF(fériés,$F$94)=0,IF(OR(L7<>"",N7<>""),1,""))) -> 1 | G96: =IF(AND(O7<>"",COUNTIF(fériés,$G$94)=1),1,IF(COUNTIF(fériés,$G$94)=0,IF(OR(O7<>"",Q7<>""),1,""))) -> 1 | H96: =IF(R7<>"",1,"") -> 1 | I96: =IF(U7<>"",1,"") -> 1
B97: =B8 -> c | C97: =IF(AND(C8<>"",COUNTIF(fériés,$C$94)=1),1,IF(COUNTIF(fériés,$C$94)=0,IF(OR(C8<>"",E8<>""),1,""))) -> 1 | D97: =IF(AND(F8<>"",COUNTIF(fériés,$D$94)=1),1,IF(COUNTIF(fériés,$D$94)=0,IF(OR(F8<>"",H8<>""),1,""))) -> 1 | E97: =IF(AND(I8<>"",COUNTIF(fériés,$E$94)=1),1,IF(COUNTIF(fériés,$E$94)=0,IF(OR(I8<>"",K8<>""),1,""))) -> 1 | F97: =IF(AND(L8<>"",COUNTIF(fériés,$F$94)=1),1,IF(COUNTIF(fériés,$F$94)=0,IF(OR(L8<>"",N8<>""),1,""))) -> 1 | G97: =IF(AND(O8<>"",COUNTIF(fériés,$G$94)=1),1,IF(COUNTIF(fériés,$G$94)=0,IF(OR(O8<>"",Q8<>""),1,""))) -> 1 | H97: =IF(R8<>"",1,"") -> 1 | I97: =IF(U8<>"",1,"") -> 1
B98: =B9 -> d | C98: =IF(AND(C9<>"",COUNTIF(fériés,$C$94)=1),1,IF(COUNTIF(fériés,$C$94)=0,IF(OR(C9<>"",E9<>""),1,""))) | D98: =IF(AND(F9<>"",COUNTIF(fériés,$D$94)=1),1,IF(COUNTIF(fériés,$D$94)=0,IF(OR(F9<>"",H9<>""),1,""))) | E98: =IF(AND(I9<>"",COUNTIF(fériés,$E$94)=1),1,IF(COUNTIF(fériés,$E$94)=0,IF(OR(I9<>"",K9<>""),1,""))) | F98: =IF(AND(L9<>"",COUNTIF(fériés,$F$94)=1),1,IF(COUNTIF(fériés,$F$94)=0,IF(OR(L9<>"",N9<>""),1,""))) | G98: =IF(AND(O9<>"",COUNTIF(fériés,$G$94)=1),1,IF(COUNTIF(fériés,$G$94)=0,IF(OR(O9<>"",Q9<>""),1,""))) | H98: =IF(R9<>"",1,"") | I98: =IF(U9<>"",1,"")
B99: =B10 -> e | C99: =IF(AND(C10<>"",COUNTIF(fériés,$C$94)=1),1,IF(COUNTIF(fériés,$C$94)=0,IF(OR(C10<>"",E10<>""),1,""))) -> 1 | D99: =IF(AND(F10<>"",COUNTIF(fériés,$D$94)=1),1,IF(COUNTIF(fériés,$D$94)=0,IF(OR(F10<>"",H10<>""),1,""))) -> 1 | E99: =IF(AND(I10<>"",COUNTIF(fériés,$E$94)=1),1,IF(COUNTIF(fériés,$E$94)=0,IF(OR(I10<>"",K10<>""),1,""))) -> 1 | F99: =IF(AND(L10<>"",COUNTIF(fériés,$F$94)=1),1,IF(COUNTIF(fériés,$F$94)=0,IF(OR(L10<>"",N10<>""),1,""))) -> 1 | G99: =IF(AND(O10<>"",COUNTIF(fériés,$G$94)=1),1,IF(COUNTIF(fériés,$G$94)=0,IF(OR(O10<>"",Q10<>""),1,""))) -> 1 | H99: =IF(R10<>"",1,"") -> 1 | I99: =IF(U10<>"",1,"") -> 1
B100: =B11 -> f | C100: =IF(AND(C11<>"",COUNTIF(fériés,$C$94)=1),1,IF(COUNTIF(fériés,$C$94)=0,IF(OR(C11<>"",E11<>""),1,""))) | D100: =IF(AND(F11<>"",COUNTIF(fériés,$D$94)=1),1,IF(COUNTIF(fériés,$D$94)=0,IF(OR(F11<>"",H11<>""),1,""))) | E100: =IF(AND(I11<>"",COUNTIF(fériés,$E$94)=1),1,IF(COUNTIF(fériés,$E$94)=0,IF(OR(I11<>"",K11<>""),1,""))) | F100: =IF(AND(L11<>"",COUNTIF(fériés,$F$94)=1),1,IF(COUNTIF(fériés,$F$94)=0,IF(OR(L11<>"",N11<>""),1,""))) | G100: =IF(AND(O11<>"",COUNTIF(fériés,$G$94)=1),1,IF(COUNTIF(fériés,$G$94)=0,IF(OR(O11<>"",Q11<>""),1,""))) | H100: =IF(R11<>"",1,"") | I100: =IF(U11<>"",1,"")
B101: =B12 -> g | C101: =IF(AND(C12<>"",COUNTIF(fériés,$C$94)=1),1,IF(COUNTIF(fériés,$C$94)=0,IF(OR(C12<>"",E12<>""),1,""))) | D101: =IF(AND(F12<>"",COUNTIF(fériés,$D$94)=1),1,IF(COUNTIF(fériés,$D$94)=0,IF(OR(F12<>"",H12<>""),1,""))) | E101: =IF(AND(I12<>"",COUNTIF(fériés,$E$94)=1),1,IF(COUNTIF(fériés,$E$94)=0,IF(OR(I12<>"",K12<>""),1,""))) | F101: =IF(AND(L12<>"",COUNTIF(fériés,$F$94)=1),1,IF(COUNTIF(fériés,$F$94)=0,IF(OR(L12<>"",N12<>""),1,""))) | G101: =IF(AND(O12<>"",COUNTIF(fériés,$G$94)=1),1,IF(COUNTIF(fériés,$G$94)=0,IF(OR(O12<>"",Q12<>""),1,""))) | H101: =IF(R12<>"",1,"") | I101: =IF(U12<>"",1,"")
B102: =B13 -> h | C102: =IF(AND(C13<>"",COUNTIF(fériés,$C$94)=1),1,IF(COUNTIF(fériés,$C$94)=0,IF(OR(C13<>"",E13<>""),1,""))) -> 1 | D102: =IF(AND(F13<>"",COUNTIF(fériés,$D$94)=1),1,IF(COUNTIF(fériés,$D$94)=0,IF(OR(F13<>"",H13<>""),1,""))) -> 1 | E102: =IF(AND(I13<>"",COUNTIF(fériés,$E$94)=1),1,IF(COUNTIF(fériés,$E$94)=0,IF(OR(I13<>"",K13<>""),1,""))) | F102: =IF(AND(L13<>"",COUNTIF(fériés,$F$94)=1),1,IF(COUNTIF(fériés,$F$94)=0,IF(OR(L13<>"",N13<>""),1,""))) -> 1 | G102: =IF(AND(O13<>"",COUNTIF(fériés,$G$94)=1),1,IF(COUNTIF(fériés,$G$94)=0,IF(OR(O13<>"",Q13<>""),1,""))) -> 1 | H102: =IF(R13<>"",1,"") -> 1 | I102: =IF(U13<>"",1,"")
B103: =B14 -> i | C103: =IF(AND(C14<>"",COUNTIF(fériés,$C$94)=1),1,IF(COUNTIF(fériés,$C$94)=0,IF(OR(C14<>"",E14<>""),1,""))) -> 1 | D103: =IF(AND(F14<>"",COUNTIF(fériés,$D$94)=1),1,IF(COUNTIF(fériés,$D$94)=0,IF(OR(F14<>"",H14<>""),1,""))) -> 1 | E103: =IF(AND(I14<>"",COUNTIF(fériés,$E$94)=1),1,IF(COUNTIF(fériés,$E$94)=0,IF(OR(I14<>"",K14<>""),1,""))) -> 1 | F103: =IF(AND(L14<>"",COUNTIF(fériés,$F$94)=1),1,IF(COUNTIF(fériés,$F$94)=0,IF(OR(L14<>"",N14<>""),1,""))) -> 1 | G103: =IF(AND(O14<>"",COUNTIF(fériés,$G$94)=1),1,IF(COUNTIF(fériés,$G$94)=0,IF(OR(O14<>"",Q14<>""),1,""))) -> 1 | H103: =IF(R14<>"",1,"") -> 1 | I103: =IF(U14<>"",1,"") -> 1
B104: =B15 -> j | C104: =IF(AND(C15<>"",COUNTIF(fériés,$C$94)=1),1,IF(COUNTIF(fériés,$C$94)=0,IF(OR(C15<>"",E15<>""),1,""))) -> 1 | D104: =IF(AND(F15<>"",COUNTIF(fériés,$D$94)=1),1,IF(COUNTIF(fériés,$D$94)=0,IF(OR(F15<>"",H15<>""),1,""))) -> 1 | E104: =IF(AND(I15<>"",COUNTIF(fériés,$E$94)=1),1,IF(COUNTIF(fériés,$E$94)=0,IF(OR(I15<>"",K15<>""),1,""))) -> 1 | F104: =IF(AND(L15<>"",COUNTIF(fériés,$F$94)=1),1,IF(COUNTIF(fériés,$F$94)=0,IF(OR(L15<>"",N15<>""),1,""))) -> 1 | G104: =IF(AND(O15<>"",COUNTIF(fériés,$G$94)=1),1,IF(COUNTIF(fériés,$G$94)=0,IF(OR(O15<>"",Q15<>""),1,""))) -> 1 | H104: =IF(R15<>"",1,"") -> 1 | I104: =IF(U15<>"",1,"") -> 1
B105: =B26 -> k | C105: =IF(AND(C26<>"",COUNTIF(fériés,$C$94)=1),1,IF(COUNTIF(fériés,$C$94)=0,IF(OR(C26<>"",E26<>""),1,""))) -> 1 | D105: =IF(AND(F26<>"",COUNTIF(fériés,$D$94)=1),1,IF(COUNTIF(fériés,$D$94)=0,IF(OR(F26<>"",H26<>""),1,""))) -> 1 | E105: =IF(AND(I26<>"",COUNTIF(fériés,$E$94)=1),1,IF(COUNTIF(fériés,$E$94)=0,IF(OR(I26<>"",K26<>""),1,""))) -> 1 | F105: =IF(AND(L26<>"",COUNTIF(fériés,$F$94)=1),1,IF(COUNTIF(fériés,$F$94)=0,IF(OR(L26<>"",N26<>""),1,""))) -> 1 | G105: =IF(AND(O26<>"",COUNTIF(fériés,$G$94)=1),1,IF(COUNTIF(fériés,$G$94)=0,IF(OR(O26<>"",Q26<>""),1,""))) -> 1 | H105: =IF(R26<>"",1,"") -> 1 | I105: =IF(U26<>"",1,"") -> 1
B106: =B27 -> l | C106: =IF(AND(C27<>"",COUNTIF(fériés,$C$94)=1),1,IF(COUNTIF(fériés,$C$94)=0,IF(OR(C27<>"",E27<>""),1,""))) -> 1 | D106: =IF(AND(F27<>"",COUNTIF(fériés,$D$94)=1),1,IF(COUNTIF(fériés,$D$94)=0,IF(OR(F27<>"",H27<>""),1,""))) -> 1 | E106: =IF(AND(I27<>"",COUNTIF(fériés,$E$94)=1),1,IF(COUNTIF(fériés,$E$94)=0,IF(OR(I27<>"",K27<>""),1,""))) -> 1 | F106: =IF(AND(L27<>"",COUNTIF(fériés,$F$94)=1),1,IF(COUNTIF(fériés,$F$94)=0,IF(OR(L27<>"",N27<>""),1,""))) -> 1 | G106: =IF(AND(O27<>"",COUNTIF(fériés,$G$94)=1),1,IF(COUNTIF(fériés,$G$94)=0,IF(OR(O27<>"",Q27<>""),1,""))) -> 1 | H106: =IF(R27<>"",1,"") -> 1 | I106: =IF(U27<>"",1,"") -> 1
...
