Workbook
Name fériés: fériés!$B$2:$B$12

Sheet fériés
B2: 41640 | C2: mercredi | D2: Premier de l'An 2014
B3: 41750 | C3: lundi | D3: Lundi de Pâques 2014
B4: 41760 | C4: jeudi | D4: Fête du travail 2014
B5: 41767 | C5: jeudi | D5: Victoire 1945 2014
B6: 41423 | C6: jeudi | D6: Ascension 2014
B7: 41799 | C7: lundi | D7: Lundi de Pentecôte 2014
B8: 41834 | C8: lundi | D8: Fête Nationale 2014
B9: 41866 | C9: vendredi | D9: Assomption 2014
B10: 41944 | C10: samedi | D10: Toussaint 2014
B11: 41954 | C11: mardi | D11: Armistice de 1918 2014
B12: 41998 | C12: jeudi | D12: Noël 2014

Sheet 1
B2: 2014 | C2: Semaine | Z2: P : Présent
C3: =MID(CELL("nomfichier",$A$1),FIND("]",CELL("nomfichier",$A$1))+1,50) -> 1 | Z3: A : Annulé
C4: =C5 -> 41638 | F4: =F5 -> 41639 | I4: =I5 -> 41640 | L4: =L5 -> 41641 | O4: =O5 -> 41642 | R4: =R5 -> 41643 | U4: =U5 -> 41644 | Z4: K : Pique-nique
A5: GROUPE | B5: NOMS | C5: =7*C3+DATE(B2,1,3)-WEEKDAY(DATE(B2,1,3))-5 -> 41638 | F5: =C5+1 -> 41639 | I5: =F5+1 -> 41640 | L5: =I5+1 -> 41641 | O5: =L5+1 -> 41642 | R5: =O5+1 -> 41643 | U5: =R5+1 -> 41644
A6: FDVA | B6: =BDD!A2 -> a | C6: P
B7: =BDD!A3 -> b | C7: P
B8: =BDD!A4 -> c | C8: P
B9: =BDD!A5 -> d | C9: P
B10: =BDD!A6 -> e | C10: P
B11: =BDD!A7 -> f | C11: P
B12: =BDD!A8 -> g | C12: P
B13: =BDD!A9 -> h | C13: P
B14: =BDD!A10 -> i | C14: P
B15: =BDD!A11 -> j | C15: P
B16: =BDD!A22 -> u | C16: P
B17: =BDD!A23 -> v | C17: P
B18: =BDD!A24 -> w
B19: =BDD!A25 -> x
B20: =BDD!A26 -> y | C20: P
B21: =BDD!A33 -> Stagiaire1
C22: Semaine
C23: =C3 -> 1
C24: =C25 -> 41638 | F24: =F25 -> 41639 | I24: =I25 -> 41640 | L24: =L25 -> 41641 | O24: =O25 -> 41642 | R24: =R25 -> 41643 | U24: =U25 -> 41644
A25: GROUPE | B25: NOMS | C25: =7*C3+DATE(B2,1,3)-WEEKDAY(DATE(B2,1,3))-5 -> 41638 | F25: =C25+1 -> 41639 | I25: =F25+1 -> 41640 | L25: =I25+1 -> 41641 | O25: =L25+1 -> 41642 | R25: =O25+1 -> 41643 | U25: =R25+1 -> 41644
A26: FDVB | B26: =BDD!A12 -> k
B27: =BDD!A13 -> l
B28: =BDD!A14 -> m
B29: =BDD!A15 -> n
B30: =BDD!A16 -> o
B31: =BDD!A17 -> p
B32: =BDD!A18 -> q
B33: =BDD!A19 -> r
B34: =BDD!A20 -> s
B35: =BDD!A21 -> t
B36: =BDD!A27 -> z
B37: =BDD!A28 -> aa
B38: =BDD!A29 -> ab
B39: =BDD!A30 -> ac
B40: =BDD!A31 -> ad
B41: =BDD!A32 -> ae
B42: =BDD!A34 -> Stagiaire2
C43: Semaine
C44: =C3 -> 1
C45: =C46 -> 41638 | F45: =F46 -> 41639 | I45: =I46 -> 41640 | L45: =L46 -> 41641 | O45: =O46 -> 41642 | R45: =R46 -> 41643 | U45: =U46 -> 41644
A46: GROUPE | B46: NOMS | C46: =7*C3+DATE(B2,1,3)-WEEKDAY(DATE(B2,1,3))-5 -> 41638 | F46: =C46+1 -> 41639 | I46: =F46+1 -> 41640 | L46: =I46+1 -> 41641 | O46: =L46+1 -> 41642 | R46: =O46+1 -> 41643 | U46: =R46+1 -> 41644
A47: Ch. Accueil | B47: =BDD!A35 -> NOM Prénom
C50: Récapitulatif FDVA
C51: =MID(CELL("nomfichier",$A$1),FIND("]",CELL("nomfichier",$A$1))+1,50) -> 1
C52: =C53 -> 41638 | F52: =F53 -> 41639 | I52: =I53 -> 41640 | L52: =L53 -> 41641 | O52: =O53 -> 41642 | R52: =R53 -> 41643 | U52: =U53 -> 41644
C53: =7*C51+DATE(B2,1,3)-WEEKDAY(DATE(B2,1,3))-5 -> 41638 | F53: =C53+1 -> 41639 | I53: =F53+1 -> 41640 | L53: =I53+1 -> 41641 | O53: =L53+1 -> 41642 | R53: =O53+1 -> 41643 | U53: =R53+1 -> 41644
B54: NORMAL
B55: SANS VIANDE
B56: SANS PORC
B57: SANS POISSON
B58: MIXÉ
B59: MIXÉ SANS FIBRES
B60: SANS FIBRES
B61: HYPO
B62: HYPO MIXÉ
B63: HYPO SANS VIANDE
B64: HYPO SANS FIBRES
B65: SANS ŒUFS
... B67: GOUTTE
C68: =SUM(C56:C67) -> 0 | D68: =SUM(D56:D67) -> 0 | E68: =SUM(E56:E67) -> 0 | F68: =SUM(F56:F67) -> 0 | G68: =SUM(G56:G67) -> 0 | H68: =SUM(H56:H67) -> 0 | I68: =SUM(I56:I67) -> 0 | J68: =SUM(J56:J67) -> 0 | ... W68: =SUM(W56:W67) -> 0
B69: PIQUE-NIQUE | C69: =COUNTIF(C6:C21,"K") -> 0 | D69: =COUNTIF(D6:D21,"K") -> 0 | E69: =COUNTIF(E6:E21,"K") -> 0 | F69: =COUNTIF(F6:F21,"K") -> 0 | G69: =COUNTIF(G6:G21,"K") -> 0 | H69: =COUNTIF(H6:H21,"K") -> 0 | I69: =COUNTIF(I6:I21,"K") -> 0 | J69: =COUNTIF(J6:J21,"K") -> 0 | ... W69: =COUNTIF(W6:W21,"K") -> 0
C70: Récapitulatif FDVB
C71: =MID(CELL("nomfichier",$A$1),FIND("]",CELL("nomfichier",$A$1))+1,50) -> 1
C72: =C73 -> 41638 | F72: =F73 -> 41639 | I72: =I73 -> 41640 | L72: =L73 -> 41641 | O72: =O73 -> 41642 | R72: =R73 -> 41643 | U72: =U73 -> 41644
C73: =7*C71+DATE(B2,1,3)-WEEKDAY(DATE(B2,1,3))-5 -> 41638 | F73: =C73+1 -> 41639 | I73: =F73+1 -> 41640 | L73: =I73+1 -> 41641 | O73: =L73+1 -> 41642 | R73: =O73+1 -> 41643 | U73: =R73+1 -> 41644
B74: NORMAL
B75: SANS VIANDE
B76: SANS PORC
B77: SANS POISSON
B78: MIXÉ
B79: MIXÉ SANS FIBRES
B80: SANS FIBRES
B81: HYPO
B82: HYPO MIXÉ
B83: HYPO SANS VIANDE
B84: HYPO SANS FIBRES
B85: SANS ŒUFS
... B87: GOUTTE
C88: =SUM(C76:C87) -> 0 | D88: =SUM(D76:D87) -> 0 | E88: =SUM(E76:E87) -> 0 | F88: =SUM(F76:F87) -> 0 | G88: =SUM(G76:G87) -> 0 | H88: =SUM(H76:H87) -> 0 | I88: =SUM(I76:I87) -> 0 | J88: =SUM(J76:J87) -> 0 | ... W88: =SUM(W76:W87) -> 0
B89: PIQUE-NIQUE | C89: =COUNTIF(C26:C42,"K") -> 0 | D89: =COUNTIF(D26:D42,"K") -> 0 | E89: =COUNTIF(E26:E42,"K") -> 0 | F89: =COUNTIF(F26:F42,"K") -> 0 | G89: =COUNTIF(G26:G42,"K") -> 0 | H89: =COUNTIF(H26:H42,"K") -> 0 | I89: =COUNTIF(I26:I42,"K") -> 0 | J89: =COUNTIF(J26:J42,"K") -> 0 | ... W89: =COUNTIF(W26:W42,"K") -> 0
V91: Nombre de viennoiseries : | W91: =SUM(U6:U21,U26:U42,U47) -> 0

Sheet BDD
A2: a | B2: HYPO
A3: b | B3: NORMAL
A4: c | B4: HYPO SANS FIBRES
A5: d | B5: NORMAL
A6: e | B6: HYPO
A7: f | B7: NORMAL
A8: g | B8: SANS FIBRES
A9: h | B9: HYPO
A10: i | B10: NORMAL
A11: j | B11: MIXÉ SANS FIBRES
A12: k | B12: MiXÉ
A13: l | B13: HYPO
... A32: ae | B32: NORMAL
A33: Stagiaire1
A34: Stagiaire2
A35: NOM Prénom
