Workbook
Name fériés: fériés!$B$2:$B$12

Sheet fériés
B2: 41640 | C2: mercredi | D2: Premier de l'An 2014
B3: 41750 | C3: lundi | D3: Lundi de Pâques 2014
B4: 41760 | C4: jeudi | D4: Fête du travail 2014
B5: 41767 | C5: jeudi | D5: Victoire 1945 2014
B6: 41423 | C6: jeudi | D6: Ascension 2014
B7: 41799 | C7: lundi | D7: Lundi de Pentecôte 2014
B8: 41834 | C8: lundi | D8: Fête Nationale 2014
B9: 41866 | C9: vendredi | D9: Assomption 2014
B10: 41944 | C10: samedi | D10: Toussaint 2014
B11: 41954 | C11: mardi | D11: Armistice de 1918 2014
B12: 41998 | C12: jeudi | D12: Noël 2014

Sheet 1
B2: 2014 | C2: Semaine | Z2: P : Présent
C3: =MID(CELL("nomfichier",$A$1),FIND("]",CELL("nomfichier",$A$1))+1,50) -> 1 | Z3: A : Annulé
C4: =C5 -> 41638 | F4: =F5 -> 41639 | I4: =I5 -> 41640 | L4: =L5 -> 41641 | O4: =O5 -> 41642 | R4: =R5 -> 41643 | U4: =U5 -> 41644 | Z4: K : Pique-nique
A5: GROUPE | B5: NOMS | C5: =7*C3+DATE(B2,1,3)-WEEKDAY(DATE(B2,1,3))-5 -> 41638 | F5: =C5+1 -> 41639 | I5: =F5+1 -> 41640 | L5: =I5+1 -> 41641 | O5: =L5+1 -> 41642 | R5: =O5+1 -> 41643 | U5: =R5+1 -> 41644
A6: FDVA | B6: =BDD!A2 -> a | C6: P
B7: =BDD!A3 -> b | C7: P
B8: =BDD!A4 -> c | C8: P
B9: =BDD!A5 -> d | C9: P
B10: =BDD!A6 -> e | C10: P
B11: =BDD!A7 -> f | C11: P
B12: =BDD!A8 -> g | C12: P
B13: =BDD!A9 -> h | C13: P
B14: =BDD!A10 -> i | C14: P
B15: =BDD!A11 -> j | C15: P
B16: =BDD!A22 -> u | C16: P
B17: =BDD!A23 -> v | C17: P
B18: =BDD!A24 -> w
B19: =BDD!A25 -> x
B20: =BDD!A26 -> y | C20: P
B21: =BDD!A33 -> Stagiaire1
C22: Semaine
C23: =C3 -> 1
C24: =C25 -> 41638 | F24: =F25 -> 41639 | I24: =I25 -> 41640 | L24: =L25 -> 41641 | O24: =O25 -> 41642 | R24: =R25 -> 41643 | U24: =U25 -> 41644
A25: GROUPE | B25: NOMS | C25: =7*C3+DATE(B2,1,3)-WEEKDAY(DATE(B2,1,3))-5 -> 41638 | F25: =C25+1 -> 41639 | I25: =F25+1 -> 41640 | L25: =I25+1 -> 41641 | O25: =L25+1 -> 41642 | R25: =O25+1 -> 41643 | U25: =R25+1 -> 41644
A26: FDVB | B26: =BDD!A12 -> k
B27: =BDD!A13 -> l
B28: =BDD!A14 -> m
B29: =BDD!A15 -> n
B30: =BDD!A16 -> o
B31: =BDD!A17 -> p
B32: =BDD!A18 -> q
B33: =BDD!A19 -> r
B34: =BDD!A20 -> s
B35: =BDD!A21 -> t
B36: =BDD!A27 -> z
B37: =BDD!A28 -> aa
B38: =BDD!A29 -> ab
B39: =BDD!A30 -> ac
B40: =BDD!A31 -> ad
B41: =BDD!A32 -> ae
...

Sheet BDD
A2: a | B2: HYPO
A3: b | B3: NORMAL
A4: c | B4: HYPO SANS FIBRES
A5: d | B5: NORMAL
A6: e | B6: HYPO
A7: f | B7: NORMAL
A8: g | B8: SANS FIBRES
A9: h | B9: HYPO
A10: i | B10: NORMAL
A11: j | B11: MIXÉ SANS FIBRES
A12: k | B12: MiXÉ
A13: l | B13: HYPO
... A32: ae | B32: NORMAL
A33: Stagiaire1
A34: Stagiaire2
A35: NOM Prénom
